{"text_format":"3","workbook":"xlsx","n_sheets":10,"sheets":["Standard Labels","Horizontal Labels","Vertical Labels","Horizontal Switch Plates","Vertical Switch Plates","Custom","Horizontal Calculations","Multiplied Copy Sheet","Vertical Calculations","Background Information"],"not_rendered":{"images":3,"macros":1,"external_links":1,"defined_names":1},"read":"whole","date_system":"1900"}

{"sheet":"Standard Labels","index":0,"n_rows":500,"n_cols":29,"rows_kept":500,"merged":[[0,5,0,6],[0,7,0,8],[0,9,2,10],[0,11,0,12],[0,13,0,14],[0,15,0,16],[0,17,0,18],[1,5,1,6],[1,7,1,8],[1,11,1,12],[1,13,1,14],[1,15,1,16],[1,17,2,18],[2,5,2,6],[2,7,2,8],[2,13,2,14],[2,15,2,16],[3,5,3,6],[3,7,3,8],[3,9,3,10],[3,11,3,12],[3,13,3,14],[3,15,3,16],[3,17,3,18],[3,19,3,20],[3,21,3,22],[3,23,3,24],[3,25,3,26],[3,27,3,28]]}
[{"$nulls":5},"STANDARD LABEL COUNT:",null,{"$f":"SUM(E5:E500)","v":0},{"$nulls":3},"COMPANY NAME",null,"IMPORTANT INFORMATION",null,"EMAIL COMPLETED FORM TO"]
[{"$nulls":5},"STRIP LABEL COUNT:",null,{"$f":"'Background Information'!M4+'Background Information'!M6","v":0},{"$nulls":3},"COMPANY NAME",null,"USE CAPITAL LETTERS - UNLESS LOWER CASE IS SPECIFICALLY REQUIRED",null,"sales@baysideengraving.com.au"]
[{"$nulls":5},"SWITCH PLATE COUNT:",null,{"$f":"'Horizontal Switch Plates'!E2+'Vertical Switch Plates'!E2","v":0},{"$nulls":3},"P/O:","ENTER P/O HERE","STANDARD MATERIAL - ROWMARK (1.6mm THICK) 2 PLY PLASTIC (UV)",null,"PH: (07) 3890 0679"]
[{"$nulls":5},"CUSTOM COUNT:",null,{"$f":"Custom!C2","v":0},null,"LINE 1",null,"LINE 2",null,"LINE 3",null,"LINE 4",null,"LINE 5",null,"LINE 6",null,"LINE 7",null,"LINE 8",null,"LINE 9",null,"LINE 10"]
[null,"\nNo.",null,null,"LABEL\nQTY","COLOUR\nLABEL / TEXT","FIXING","MOUNTING\nHOLES\nREQUIRED","HOLE\nSIZE\n(mm)","TEXT\nHEIGHT\n(mm)","TEXT","TEXT\nHEIGHT\n(mm)","TEXT","TEXT\nHEIGHT\n(mm)","TEXT","TEXT\nHEIGHT\n(mm)","TEXT","TEXT\nHEIGHT\n(mm)","TEXT","TEXT\nHEIGHT\n(mm)","TEXT","TEXT\nHEIGHT\n(mm)","TEXT","TEXT\nHEIGHT\n(mm)","TEXT","TEXT\nHEIGHT\n(mm)","TEXT","TEXT\nHEIGHT\n(mm)","TEXT"]
[]
[1,1,"TO FIT","TO FIT",null,"-- SELECT --","-- SELECT --",null,null,"AUTO",null,"AUTO",null,"AUTO",null,"AUTO",null,"AUTO",null,"AUTO",null,"AUTO",null,"AUTO",null,"AUTO",null,"AUTO"]
[{"$f":"A7+E7","v":1},2]
[{"$f":"A8+E8","v":1},3]
[{"$f":"A9+E9","v":1},4]
[1,5]
[1,6]
[1,7]
[1,8]
[1,9]
[1,10]
[1,11]
[1,12]
[1,13]
[1,14]
[1,15]
[1,16]
[1,17]
[1,18]
[1,19]
[1,20]
[1,21]
[1,22]
[1,23]
[1,24]
[1,25]
[1,26]
[1,27]
[1,28]
[1,29]
[1,30]
[1,31]
[1,32]
[1,33]
[1,34]
[1,35]
[1,36]
[1,37]
[1,38]
[1,39]
[1,40]
[1,41]
[1,42]
[1,43]
[1,44]
[1,45]
[1,46]
[1,47]
[1,48]
[1,49]
[1,50]
[1,51]
[1,52]
[1,53]
[1,54]
[1,55]
[1,56]
[1,57]
[1,58]
[1,59]
[1,60]
[1,61]
[1,62]
[1,63]
[1,64]
[1,65]
[1,66]
[1,67]
[{"$f":"A73+E73","v":1},68]
[1,69]
[1,70]
[1,71]
[1,72]
[1,73]
[1,74]
[1,75]
[1,76]
[1,77]
[1,78]
[1,79]
[1,80]
[1,81]
[1,82]
[1,83]
[1,84]
[1,85]
[1,86]
[1,87]
[1,88]
[1,89]
[1,90]
[1,91]
[1,92]
[1,93]
[1,94]
[1,95]
[1,96]
[1,97]
[1,98]
[1,99]
[1,100]
[1,101]
[1,102]
[1,103]
[1,104]
[1,105]
[1,106]
[1,107]
[1,108]
[1,109]
[1,110]
[1,111]
[1,112]
[1,113]
[1,114]
[1,115]
[1,116]
[1,117]
[1,118]
[1,119]
[1,120]
[1,121]
[1,122]
[1,123]
[1,124]
[1,125]
[1,126]
[1,127]
[1,128]
[1,129]
[1,130]
[1,131]
[{"$f":"A137+E137","v":1},132]
[1,133]
[1,134]
[1,135]
[1,136]
[1,137]
[1,138]
[1,139]
[1,140]
[1,141]
[1,142]
[1,143]
[1,144]
[1,145]
[1,146]
[1,147]
[1,148]
[1,149]
[1,150]
[1,151]
[1,152]
[1,153]
[1,154]
[1,155]
[1,156]
[1,157]
[1,158]
[1,159]
[1,160]
[1,161]
[1,162]
[1,163]
[1,164]
[1,165]
[1,166]
[1,167]
[1,168]
[1,169]
[1,170]
[1,171]
[1,172]
[1,173]
[1,174]
[1,175]
[1,176]
[1,177]
[1,178]
[1,179]
[1,180]
[1,181]
[1,182]
[1,183]
[1,184]
[1,185]
[1,186]
[1,187]
[1,188]
[1,189]
[1,190]
[1,191]
[1,192]
[1,193]
[1,194]
[1,195]
[{"$f":"A201+E201","v":1},196]
[1,197]
[1,198]
[1,199]
[1,200]
[1,201]
[1,202]
[1,203]
[1,204]
[1,205]
[1,206]
[1,207]
[1,208]
[1,209]
[1,210]
[1,211]
[1,212]
[1,213]
[1,214]
[1,215]
[1,216]
[1,217]
[1,218]
[1,219]
[1,220]
[1,221]
[1,222]
[1,223]
[1,224]
[1,225]
[1,226]
[1,227]
[1,228]
[1,229]
[1,230]
[1,231]
[1,232]
[1,233]
[1,234]
[1,235]
[1,236]
[1,237]
[1,238]
[1,239]
[1,240]
[1,241]
[1,242]
[1,243]
[1,244]
[1,245]
[1,246]
[1,247]
[1,248]
[1,249]
[1,250]
[1,251]
[1,252]
[1,253]
[1,254]
[1,255]
[1,256]
[1,257]
[1,258]
[1,259]
[{"$f":"A265+E265","v":1},260]
[1,261]
[1,262]
[1,263]
[1,264]
[1,265]
[1,266]
[1,267]
[1,268]
[1,269]
[1,270]
[1,271]
[1,272]
[1,273]
[1,274]
[1,275]
[1,276]
[1,277]
[1,278]
[1,279]
[1,280]
[1,281]
[1,282]
[1,283]
[1,284]
[1,285]
[1,286]
[1,287]
[1,288]
[1,289]
[1,290]
[1,291]
[1,292]
[1,293]
[1,294]
[1,295]
[1,296]
[1,297]
[1,298]
[1,299]
[1,300]
[1,301]
[1,302]
[1,303]
[1,304]
[1,305]
[1,306]
[1,307]
[1,308]
[1,309]
[1,310]
[1,311]
[1,312]
[1,313]
[1,314]
[1,315]
[1,316]
[1,317]
[1,318]
[1,319]
[1,320]
[1,321]
[1,322]
[1,323]
[{"$f":"A329+E329","v":1},324]
[1,325]
[1,326]
[1,327]
[1,328]
[1,329]
[1,330]
[1,331]
[1,332]
[1,333]
[1,334]
[1,335]
[1,336]
[1,337]
[1,338]
[1,339]
[1,340]
[1,341]
[1,342]
[1,343]
[1,344]
[1,345]
[1,346]
[1,347]
[1,348]
[1,349]
[1,350]
[1,351]
[1,352]
[1,353]
[1,354]
[1,355]
[1,356]
[1,357]
[1,358]
[1,359]
[1,360]
[1,361]
[1,362]
[1,363]
[1,364]
[1,365]
[1,366]
[1,367]
[1,368]
[1,369]
[1,370]
[1,371]
[1,372]
[1,373]
[1,374]
[1,375]
[1,376]
[1,377]
[1,378]
[1,379]
[1,380]
[1,381]
[1,382]
[1,383]
[1,384]
[1,385]
[1,386]
[1,387]
[{"$f":"A393+E393","v":1},388]
[1,389]
[1,390]
[1,391]
[1,392]
[1,393]
[1,394]
[1,395]
[1,396]
[1,397]
[1,398]
[1,399]
[1,400]
[1,401]
[1,402]
[1,403]
[1,404]
[1,405]
[1,406]
[1,407]
[1,408]
[1,409]
[1,410]
[1,411]
[1,412]
[1,413]
[1,414]
[1,415]
[1,416]
[1,417]
[1,418]
[1,419]
[1,420]
[1,421]
[1,422]
[1,423]
[1,424]
[1,425]
[1,426]
[1,427]
[1,428]
[1,429]
[1,430]
[1,431]
[1,432]
[1,433]
[1,434]
[1,435]
[1,436]
[1,437]
[1,438]
[1,439]
[1,440]
[1,441]
[1,442]
[1,443]
[1,444]
[1,445]
[1,446]
[1,447]
[1,448]
[1,449]
[1,450]
[1,451]
[{"$f":"A457+E457","v":1},452]
[1,453]
[1,454]
[1,455]
[1,456]
[1,457]
[1,458]
[1,459]
[1,460]
[1,461]
[1,462]
[1,463]
[1,464]
[1,465]
[1,466]
[1,467]
[1,468]
[1,469]
[1,470]
[1,471]
[1,472]
[1,473]
[1,474]
[1,475]
[1,476]
[1,477]
[1,478]
[1,479]
[1,480]
[1,481]
[1,482]
[1,483]
[1,484]
[1,485]
[1,486]
[1,487]
[1,488]
[1,489]
[1,490]
[1,491]
[1,492]
[1,493]
[1,494]

{"sheet":"Horizontal Labels","index":1,"n_rows":222,"n_cols":54,"rows_kept":222,"merged":[[0,0,0,2],[0,4,2,53],[1,0,1,1],[3,0,3,2],[14,0,14,2],[25,0,25,2],[36,0,36,2],[47,0,47,2],[58,0,58,2],[69,0,69,2],[80,0,80,2],[91,0,91,2],[102,0,102,2],[113,0,113,2],[124,0,124,2],[135,0,135,2],[146,0,146,2],[157,0,157,2],[168,0,168,2],[179,0,179,2],[190,0,190,2],[201,0,201,2],[212,0,212,2]]}
["HORIZONTAL STRIP LABELS",{"$nulls":3},"DIMENSIONS OPTIONS (All measurements from the bottom left corner)\nFIXED: MEASUREMENT FROM THE LEFT EDGE OF THE LABEL TO THE CENTRE OF THE TEXT (ie. 9,27,45)\nRELATIVE: MEASUREMENT FROM THE PREVIOUS CENTRE (ie. 9,18,18)\nBLOCKS: MEASUREMENT OF COMPONENTS SIDE BY SIDE (ie. 18,18,18) [The program will work out the fixed centres for you]"]
["TOTAL HORIZONTAL LABELS",null,{"$f":"SUM(B5,B16,B27,B38,B49,B60,B71,B82,B93,B104,B115,B126,B137,B148,B159,B170,B181,B192,B203,B214)","v":0}]
[]
["LABEL 1"]
["QUANTITY"]
["WIDTH (mm)",{"$nulls":3},"","","","","","","","","","","","","","","","","","","","","","","","","","","","","","","","","","","","","","","","","","","","","","","","","",""]
["HEIGHT  (mm)",{"$nulls":3},"","","","","","","","","","","","","","","","","","","","","","","","","","","","","","","","","","","","","","","","","","","","","","","","","",""]
["COLOUR","-- SELECT --",{"$f":"B7","v":0},null,"","","","","","","","","","","","","","","","","","","","","","","","","","","","","","","","","","","","","","","","","","","","","","","","","",""]
["TEXT SIZE  (mm)","AUTO",null,null,"","","","","","","","","","","","","","","","","","","","","","","","","","","","","","","","","","","","","","","","","","","","","","","","","",""]
["FIXING","-- SELECT --",null,null,"","","","","","","","","","","","","","","","","","","","","","","","","","","","","","","","","","","","","","","","","","","","","","","","","",""]
[{"$nulls":4},"I","I","I","I","I","I","I","I","I","I","I","I","I","I","I","I","I","I","I","I","I","I","I","I","I","I","I","I","I","I","I","I","I","I","I","I","I","I","I","I","I","I","I","I","I","I","I","I","I","I"]
["HOLES REQUIRED",null,"-- SELECT --"]
["HOLE SIZE  (mm)",null,{"$f":"VLOOKUP(C12,'Background Information'!$O$1:$P$4,2,FALSE)","v":0},null,{"$f":"IF($C$12=\"FIXED\",'Horizontal Calculations'!D6,IF($C$12=\"RELATIVE\",'Horizontal Calculations'!D4,IF($C$12=\"BLOCKS\",'Horizontal Calculations'!D8,0)))","v":0},{"$f":"IF($C$12=\"FIXED\",'Horizontal Calculations'!E6,IF($C$12=\"RELATIVE\",'Horizontal Calculations'!E4,IF($C$12=\"BLOCKS\",'Horizontal Calculations'!E8,0)))","v":0},{"$f":"IF($C$12=\"FIXED\",'Horizontal Calculations'!F6,IF($C$12=\"RELATIVE\",'Horizontal Calculations'!F4,IF($C$12=\"BLOCKS\",'Horizontal Calculations'!F8,0)))","v":0},{"$f":"IF($C$12=\"FIXED\",'Horizontal Calculations'!G6,IF($C$12=\"RELATIVE\",'Horizontal Calculations'!G4,IF($C$12=\"BLOCKS\",'Horizontal Calculations'!G8,0)))","v":0},{"$f":"IF($C$12=\"FIXED\",'Horizontal Calculations'!H6,IF($C$12=\"RELATIVE\",'Horizontal Calculations'!H4,IF($C$12=\"BLOCKS\",'Horizontal Calculations'!H8,0)))","v":0},{"$f":"IF($C$12=\"FIXED\",'Horizontal Calculations'!I6,IF($C$12=\"RELATIVE\",'Horizontal Calculations'!I4,IF($C$12=\"BLOCKS\",'Horizontal Calculations'!I8,0)))","v":0},{"$f":"IF($C$12=\"FIXED\",'Horizontal Calculations'!J6,IF($C$12=\"RELATIVE\",'Horizontal Calculations'!J4,IF($C$12=\"BLOCKS\",'Horizontal Calculations'!J8,0)))","v":0},{"$f":"IF($C$12=\"FIXED\",'Horizontal Calculations'!K6,IF($C$12=\"RELATIVE\",'Horizontal Calculations'!K4,IF($C$12=\"BLOCKS\",'Horizontal Calculations'!K8,0)))","v":0},{"$f":"IF($C$12=\"FIXED\",'Horizontal Calculations'!L6,IF($C$12=\"RELATIVE\",'Horizontal Calculations'!L4,IF($C$12=\"BLOCKS\",'Horizontal Calculations'!L8,0)))","v":0},{"$f":"IF($C$12=\"FIXED\",'Horizontal Calculations'!M6,IF($C$12=\"RELATIVE\",'Horizontal Calculations'!M4,IF($C$12=\"BLOCKS\",'Horizontal Calculations'!M8,0)))","v":0},{"$f":"IF($C$12=\"FIXED\",'Horizontal Calculations'!N6,IF($C$12=\"RELATIVE\",'Horizontal Calculations'!N4,IF($C$12=\"BLOCKS\",'Horizontal Calculations'!N8,0)))","v":0},{"$f":"IF($C$12=\"FIXED\",'Horizontal Calculations'!O6,IF($C$12=\"RELATIVE\",'Horizontal Calculations'!O4,IF($C$12=\"BLOCKS\",'Horizontal Calculations'!O8,0)))","v":0},{"$f":"IF($C$12=\"FIXED\",'Horizontal Calculations'!P6,IF($C$12=\"RELATIVE\",'Horizontal Calculations'!P4,IF($C$12=\"BLOCKS\",'Horizontal Calculations'!P8,0)))","v":0},{"$f":"IF($C$12=\"FIXED\",'Horizontal Calculations'!Q6,IF($C$12=\"RELATIVE\",'Horizontal Calculations'!Q4,IF($C$12=\"BLOCKS\",'Horizontal Calculations'!Q8,0)))","v":0},{"$f":"IF($C$12=\"FIXED\",'Horizontal Calculations'!R6,IF($C$12=\"RELATIVE\",'Horizontal Calculations'!R4,IF($C$12=\"BLOCKS\",'Horizontal Calculations'!R8,0)))","v":0},{"$f":"IF($C$12=\"FIXED\",'Horizontal Calculations'!S6,IF($C$12=\"RELATIVE\",'Horizontal Calculations'!S4,IF($C$12=\"BLOCKS\",'Horizontal Calculations'!S8,0)))","v":0},{"$f":"IF($C$12=\"FIXED\",'Horizontal Calculations'!T6,IF($C$12=\"RELATIVE\",'Horizontal Calculations'!T4,IF($C$12=\"BLOCKS\",'Horizontal Calculations'!T8,0)))","v":0},{"$f":"IF($C$12=\"FIXED\",'Horizontal Calculations'!U6,IF($C$12=\"RELATIVE\",'Horizontal Calculations'!U4,IF($C$12=\"BLOCKS\",'Horizontal Calculations'!U8,0)))","v":0},{"$f":"IF($C$12=\"FIXED\",'Horizontal Calculations'!V6,IF($C$12=\"RELATIVE\",'Horizontal Calculations'!V4,IF($C$12=\"BLOCKS\",'Horizontal Calculations'!V8,0)))","v":0},{"$f":"IF($C$12=\"FIXED\",'Horizontal Calculations'!W6,IF($C$12=\"RELATIVE\",'Horizontal Calculations'!W4,IF($C$12=\"BLOCKS\",'Horizontal Calculations'!W8,0)))","v":0},{"$f":"IF($C$12=\"FIXED\",'Horizontal Calculations'!X6,IF($C$12=\"RELATIVE\",'Horizontal Calculations'!X4,IF($C$12=\"BLOCKS\",'Horizontal Calculations'!X8,0)))","v":0},{"$f":"IF($C$12=\"FIXED\",'Horizontal Calculations'!Y6,IF($C$12=\"RELATIVE\",'Horizontal Calculations'!Y4,IF($C$12=\"BLOCKS\",'Horizontal Calculations'!Y8,0)))","v":0},{"$f":"IF($C$12=\"FIXED\",'Horizontal Calculations'!Z6,IF($C$12=\"RELATIVE\",'Horizontal Calculations'!Z4,IF($C$12=\"BLOCKS\",'Horizontal Calculations'!Z8,0)))","v":0},{"$f":"IF($C$12=\"FIXED\",'Horizontal Calculations'!AA6,IF($C$12=\"RELATIVE\",'Horizontal Calculations'!AA4,IF($C$12=\"BLOCKS\",'Horizontal Calculations'!AA8,0)))","v":0},{"$f":"IF($C$12=\"FIXED\",'Horizontal Calculations'!AB6,IF($C$12=\"RELATIVE\",'Horizontal Calculations'!AB4,IF($C$12=\"BLOCKS\",'Horizontal Calculations'!AB8,0)))","v":0},{"$f":"IF($C$12=\"FIXED\",'Horizontal Calculations'!AC6,IF($C$12=\"RELATIVE\",'Horizontal Calculations'!AC4,IF($C$12=\"BLOCKS\",'Horizontal Calculations'!AC8,0)))","v":0},{"$f":"IF($C$12=\"FIXED\",'Horizontal Calculations'!AD6,IF($C$12=\"RELATIVE\",'Horizontal Calculations'!AD4,IF($C$12=\"BLOCKS\",'Horizontal Calculations'!AD8,0)))","v":0},{"$f":"IF($C$12=\"FIXED\",'Horizontal Calculations'!AE6,IF($C$12=\"RELATIVE\",'Horizontal Calculations'!AE4,IF($C$12=\"BLOCKS\",'Horizontal Calculations'!AE8,0)))","v":0},{"$f":"IF($C$12=\"FIXED\",'Horizontal Calculations'!AF6,IF($C$12=\"RELATIVE\",'Horizontal Calculations'!AF4,IF($C$12=\"BLOCKS\",'Horizontal Calculations'!AF8,0)))","v":0},{"$f":"IF($C$12=\"FIXED\",'Horizontal Calculations'!AG6,IF($C$12=\"RELATIVE\",'Horizontal Calculations'!AG4,IF($C$12=\"BLOCKS\",'Horizontal Calculations'!AG8,0)))","v":0},{"$f":"IF($C$12=\"FIXED\",'Horizontal Calculations'!AH6,IF($C$12=\"RELATIVE\",'Horizontal Calculations'!AH4,IF($C$12=\"BLOCKS\",'Horizontal Calculations'!AH8,0)))","v":0},{"$f":"IF($C$12=\"FIXED\",'Horizontal Calculations'!AI6,IF($C$12=\"RELATIVE\",'Horizontal Calculations'!AI4,IF($C$12=\"BLOCKS\",'Horizontal Calculations'!AI8,0)))","v":0},{"$f":"IF($C$12=\"FIXED\",'Horizontal Calculations'!AJ6,IF($C$12=\"RELATIVE\",'Horizontal Calculations'!AJ4,IF($C$12=\"BLOCKS\",'Horizontal Calculations'!AJ8,0)))","v":0},{"$f":"IF($C$12=\"FIXED\",'Horizontal Calculations'!AK6,IF($C$12=\"RELATIVE\",'Horizontal Calculations'!AK4,IF($C$12=\"BLOCKS\",'Horizontal Calculations'!AK8,0)))","v":0},{"$f":"IF($C$12=\"FIXED\",'Horizontal Calculations'!AL6,IF($C$12=\"RELATIVE\",'Horizontal Calculations'!AL4,IF($C$12=\"BLOCKS\",'Horizontal Calculations'!AL8,0)))","v":0},{"$f":"IF($C$12=\"FIXED\",'Horizontal Calculations'!AM6,IF($C$12=\"RELATIVE\",'Horizontal Calculations'!AM4,IF($C$12=\"BLOCKS\",'Horizontal Calculations'!AM8,0)))","v":0},{"$f":"IF($C$12=\"FIXED\",'Horizontal Calculations'!AN6,IF($C$12=\"RELATIVE\",'Horizontal Calculations'!AN4,IF($C$12=\"BLOCKS\",'Horizontal Calculations'!AN8,0)))","v":0},{"$f":"IF($C$12=\"FIXED\",'Horizontal Calculations'!AO6,IF($C$12=\"RELATIVE\",'Horizontal Calculations'!AO4,IF($C$12=\"BLOCKS\",'Horizontal Calculations'!AO8,0)))","v":0},{"$f":"IF($C$12=\"FIXED\",'Horizontal Calculations'!AP6,IF($C$12=\"RELATIVE\",'Horizontal Calculations'!AP4,IF($C$12=\"BLOCKS\",'Horizontal Calculations'!AP8,0)))","v":0},{"$f":"IF($C$12=\"FIXED\",'Horizontal Calculations'!AQ6,IF($C$12=\"RELATIVE\",'Horizontal Calculations'!AQ4,IF($C$12=\"BLOCKS\",'Horizontal Calculations'!AQ8,0)))","v":0},{"$f":"IF($C$12=\"FIXED\",'Horizontal Calculations'!AR6,IF($C$12=\"RELATIVE\",'Horizontal Calculations'!AR4,IF($C$12=\"BLOCKS\",'Horizontal Calculations'!AR8,0)))","v":0},{"$f":"IF($C$12=\"FIXED\",'Horizontal Calculations'!AS6,IF($C$12=\"RELATIVE\",'Horizontal Calculations'!AS4,IF($C$12=\"BLOCKS\",'Horizontal Calculations'!AS8,0)))","v":0},{"$f":"IF($C$12=\"FIXED\",'Horizontal Calculations'!AT6,IF($C$12=\"RELATIVE\",'Horizontal Calculations'!AT4,IF($C$12=\"BLOCKS\",'Horizontal Calculations'!AT8,0)))","v":0},{"$f":"IF($C$12=\"FIXED\",'Horizontal Calculations'!AU6,IF($C$12=\"RELATIVE\",'Horizontal Calculations'!AU4,IF($C$12=\"BLOCKS\",'Horizontal Calculations'!AU8,0)))","v":0},{"$f":"IF($C$12=\"FIXED\",'Horizontal Calculations'!AV6,IF($C$12=\"RELATIVE\",'Horizontal Calculations'!AV4,IF($C$12=\"BLOCKS\",'Horizontal Calculations'!AV8,0)))","v":0},{"$f":"IF($C$12=\"FIXED\",'Horizontal Calculations'!AW6,IF($C$12=\"RELATIVE\",'Horizontal Calculations'!AW4,IF($C$12=\"BLOCKS\",'Horizontal Calculations'!AW8,0)))","v":0},{"$f":"IF($C$12=\"FIXED\",'Horizontal Calculations'!AX6,IF($C$12=\"RELATIVE\",'Horizontal Calculations'!AX4,IF($C$12=\"BLOCKS\",'Horizontal Calculations'!AX8,0)))","v":0},{"$f":"IF($C$12=\"FIXED\",'Horizontal Calculations'!AY6,IF($C$12=\"RELATIVE\",'Horizontal Calculations'!AY4,IF($C$12=\"BLOCKS\",'Horizontal Calculations'!AY8,0)))","v":0},{"$f":"IF($C$12=\"FIXED\",'Horizontal Calculations'!AZ6,IF($C$12=\"RELATIVE\",'Horizontal Calculations'!AZ4,IF($C$12=\"BLOCKS\",'Horizontal Calculations'!AZ8,0)))","v":0},{"$f":"IF($C$12=\"FIXED\",'Horizontal Calculations'!BA6,IF($C$12=\"RELATIVE\",'Horizontal Calculations'!BA4,IF($C$12=\"BLOCKS\",'Horizontal Calculations'!BA8,0)))","v":0}]
[]
["LABEL 2"]
["QUANTITY"]
["WIDTH (mm)",{"$nulls":3},"","","","","","","","","","","","","","","","","","","","","","","","","","","","","","","","","","","","","","","","","","","","","","","","","",""]
["HEIGHT  (mm)",{"$nulls":3},"","","","","","","","","","","","","","","","","","","","","","","","","","","","","","","","","","","","","","","","","","","","","","","","","",""]
["COLOUR","-- SELECT --",{"$f":"B18","v":0},null,"","","","","","","","","","","","","","","","","","","","","","","","","","","","","","","","","","","","","","","","","","","","","","","","","",""]
["TEXT SIZE  (mm)","AUTO",null,null,"","","","","","","","","","","","","","","","","","","","","","","","","","","","","","","","","","","","","","","","","","","","","","","","","",""]
["FIXING","-- SELECT --",null,null,"","","","","","","","","","","","","","","","","","","","","","","","","","","","","","","","","","","","","","","","","","","","","","","","","",""]
[{"$nulls":4},"I","I","I","I","I","I","I","I","I","I","I","I","I","I","I","I","I","I","I","I","I","I","I","I","I","I","I","I","I","I","I","I","I","I","I","I","I","I","I","I","I","I","I","I","I","I","I","I","I","I"]
["HOLES REQUIRED",null,"-- SELECT --"]
["HOLE SIZE  (mm)",null,{"$f":"VLOOKUP(C23,'Background Information'!$O$1:$P$4,2,FALSE)","v":0},null,{"$f":"IF($C$23=\"FIXED\",'Horizontal Calculations'!D15,IF($C$23=\"RELATIVE\",'Horizontal Calculations'!D13,IF($C$23=\"BLOCKS\",'Horizontal Calculations'!D17,0)))","v":0},{"$f":"IF($C$23=\"FIXED\",'Horizontal Calculations'!E15,IF($C$23=\"RELATIVE\",'Horizontal Calculations'!E13,IF($C$23=\"BLOCKS\",'Horizontal Calculations'!E17,0)))","v":0},{"$f":"IF($C$23=\"FIXED\",'Horizontal Calculations'!F15,IF($C$23=\"RELATIVE\",'Horizontal Calculations'!F13,IF($C$23=\"BLOCKS\",'Horizontal Calculations'!F17,0)))","v":0},{"$f":"IF($C$23=\"FIXED\",'Horizontal Calculations'!G15,IF($C$23=\"RELATIVE\",'Horizontal Calculations'!G13,IF($C$23=\"BLOCKS\",'Horizontal Calculations'!G17,0)))","v":0},{"$f":"IF($C$23=\"FIXED\",'Horizontal Calculations'!H15,IF($C$23=\"RELATIVE\",'Horizontal Calculations'!H13,IF($C$23=\"BLOCKS\",'Horizontal Calculations'!H17,0)))","v":0},{"$f":"IF($C$23=\"FIXED\",'Horizontal Calculations'!I15,IF($C$23=\"RELATIVE\",'Horizontal Calculations'!I13,IF($C$23=\"BLOCKS\",'Horizontal Calculations'!I17,0)))","v":0},{"$f":"IF($C$23=\"FIXED\",'Horizontal Calculations'!J15,IF($C$23=\"RELATIVE\",'Horizontal Calculations'!J13,IF($C$23=\"BLOCKS\",'Horizontal Calculations'!J17,0)))","v":0},{"$f":"IF($C$23=\"FIXED\",'Horizontal Calculations'!K15,IF($C$23=\"RELATIVE\",'Horizontal Calculations'!K13,IF($C$23=\"BLOCKS\",'Horizontal Calculations'!K17,0)))","v":0},{"$f":"IF($C$23=\"FIXED\",'Horizontal Calculations'!L15,IF($C$23=\"RELATIVE\",'Horizontal Calculations'!L13,IF($C$23=\"BLOCKS\",'Horizontal Calculations'!L17,0)))","v":0},{"$f":"IF($C$23=\"FIXED\",'Horizontal Calculations'!M15,IF($C$23=\"RELATIVE\",'Horizontal Calculations'!M13,IF($C$23=\"BLOCKS\",'Horizontal Calculations'!M17,0)))","v":0},{"$f":"IF($C$23=\"FIXED\",'Horizontal Calculations'!N15,IF($C$23=\"RELATIVE\",'Horizontal Calculations'!N13,IF($C$23=\"BLOCKS\",'Horizontal Calculations'!N17,0)))","v":0},{"$f":"IF($C$23=\"FIXED\",'Horizontal Calculations'!O15,IF($C$23=\"RELATIVE\",'Horizontal Calculations'!O13,IF($C$23=\"BLOCKS\",'Horizontal Calculations'!O17,0)))","v":0},{"$f":"IF($C$23=\"FIXED\",'Horizontal Calculations'!P15,IF($C$23=\"RELATIVE\",'Horizontal Calculations'!P13,IF($C$23=\"BLOCKS\",'Horizontal Calculations'!P17,0)))","v":0},{"$f":"IF($C$23=\"FIXED\",'Horizontal Calculations'!Q15,IF($C$23=\"RELATIVE\",'Horizontal Calculations'!Q13,IF($C$23=\"BLOCKS\",'Horizontal Calculations'!Q17,0)))","v":0},{"$f":"IF($C$23=\"FIXED\",'Horizontal Calculations'!R15,IF($C$23=\"RELATIVE\",'Horizontal Calculations'!R13,IF($C$23=\"BLOCKS\",'Horizontal Calculations'!R17,0)))","v":0},{"$f":"IF($C$23=\"FIXED\",'Horizontal Calculations'!S15,IF($C$23=\"RELATIVE\",'Horizontal Calculations'!S13,IF($C$23=\"BLOCKS\",'Horizontal Calculations'!S17,0)))","v":0},{"$f":"IF($C$23=\"FIXED\",'Horizontal Calculations'!T15,IF($C$23=\"RELATIVE\",'Horizontal Calculations'!T13,IF($C$23=\"BLOCKS\",'Horizontal Calculations'!T17,0)))","v":0},{"$f":"IF($C$23=\"FIXED\",'Horizontal Calculations'!U15,IF($C$23=\"RELATIVE\",'Horizontal Calculations'!U13,IF($C$23=\"BLOCKS\",'Horizontal Calculations'!U17,0)))","v":0},{"$f":"IF($C$23=\"FIXED\",'Horizontal Calculations'!V15,IF($C$23=\"RELATIVE\",'Horizontal Calculations'!V13,IF($C$23=\"BLOCKS\",'Horizontal Calculations'!V17,0)))","v":0},{"$f":"IF($C$23=\"FIXED\",'Horizontal Calculations'!W15,IF($C$23=\"RELATIVE\",'Horizontal Calculations'!W13,IF($C$23=\"BLOCKS\",'Horizontal Calculations'!W17,0)))","v":0},{"$f":"IF($C$23=\"FIXED\",'Horizontal Calculations'!X15,IF($C$23=\"RELATIVE\",'Horizontal Calculations'!X13,IF($C$23=\"BLOCKS\",'Horizontal Calculations'!X17,0)))","v":0},{"$f":"IF($C$23=\"FIXED\",'Horizontal Calculations'!Y15,IF($C$23=\"RELATIVE\",'Horizontal Calculations'!Y13,IF($C$23=\"BLOCKS\",'Horizontal Calculations'!Y17,0)))","v":0},{"$f":"IF($C$23=\"FIXED\",'Horizontal Calculations'!Z15,IF($C$23=\"RELATIVE\",'Horizontal Calculations'!Z13,IF($C$23=\"BLOCKS\",'Horizontal Calculations'!Z17,0)))","v":0},{"$f":"IF($C$23=\"FIXED\",'Horizontal Calculations'!AA15,IF($C$23=\"RELATIVE\",'Horizontal Calculations'!AA13,IF($C$23=\"BLOCKS\",'Horizontal Calculations'!AA17,0)))","v":0},{"$f":"IF($C$23=\"FIXED\",'Horizontal Calculations'!AB15,IF($C$23=\"RELATIVE\",'Horizontal Calculations'!AB13,IF($C$23=\"BLOCKS\",'Horizontal Calculations'!AB17,0)))","v":0},{"$f":"IF($C$23=\"FIXED\",'Horizontal Calculations'!AC15,IF($C$23=\"RELATIVE\",'Horizontal Calculations'!AC13,IF($C$23=\"BLOCKS\",'Horizontal Calculations'!AC17,0)))","v":0},{"$f":"IF($C$23=\"FIXED\",'Horizontal Calculations'!AD15,IF($C$23=\"RELATIVE\",'Horizontal Calculations'!AD13,IF($C$23=\"BLOCKS\",'Horizontal Calculations'!AD17,0)))","v":0},{"$f":"IF($C$23=\"FIXED\",'Horizontal Calculations'!AE15,IF($C$23=\"RELATIVE\",'Horizontal Calculations'!AE13,IF($C$23=\"BLOCKS\",'Horizontal Calculations'!AE17,0)))","v":0},{"$f":"IF($C$23=\"FIXED\",'Horizontal Calculations'!AF15,IF($C$23=\"RELATIVE\",'Horizontal Calculations'!AF13,IF($C$23=\"BLOCKS\",'Horizontal Calculations'!AF17,0)))","v":0},{"$f":"IF($C$23=\"FIXED\",'Horizontal Calculations'!AG15,IF($C$23=\"RELATIVE\",'Horizontal Calculations'!AG13,IF($C$23=\"BLOCKS\",'Horizontal Calculations'!AG17,0)))","v":0},{"$f":"IF($C$23=\"FIXED\",'Horizontal Calculations'!AH15,IF($C$23=\"RELATIVE\",'Horizontal Calculations'!AH13,IF($C$23=\"BLOCKS\",'Horizontal Calculations'!AH17,0)))","v":0},{"$f":"IF($C$23=\"FIXED\",'Horizontal Calculations'!AI15,IF($C$23=\"RELATIVE\",'Horizontal Calculations'!AI13,IF($C$23=\"BLOCKS\",'Horizontal Calculations'!AI17,0)))","v":0},{"$f":"IF($C$23=\"FIXED\",'Horizontal Calculations'!AJ15,IF($C$23=\"RELATIVE\",'Horizontal Calculations'!AJ13,IF($C$23=\"BLOCKS\",'Horizontal Calculations'!AJ17,0)))","v":0},{"$f":"IF($C$23=\"FIXED\",'Horizontal Calculations'!AK15,IF($C$23=\"RELATIVE\",'Horizontal Calculations'!AK13,IF($C$23=\"BLOCKS\",'Horizontal Calculations'!AK17,0)))","v":0},{"$f":"IF($C$23=\"FIXED\",'Horizontal Calculations'!AL15,IF($C$23=\"RELATIVE\",'Horizontal Calculations'!AL13,IF($C$23=\"BLOCKS\",'Horizontal Calculations'!AL17,0)))","v":0},{"$f":"IF($C$23=\"FIXED\",'Horizontal Calculations'!AM15,IF($C$23=\"RELATIVE\",'Horizontal Calculations'!AM13,IF($C$23=\"BLOCKS\",'Horizontal Calculations'!AM17,0)))","v":0},{"$f":"IF($C$23=\"FIXED\",'Horizontal Calculations'!AN15,IF($C$23=\"RELATIVE\",'Horizontal Calculations'!AN13,IF($C$23=\"BLOCKS\",'Horizontal Calculations'!AN17,0)))","v":0},{"$f":"IF($C$23=\"FIXED\",'Horizontal Calculations'!AO15,IF($C$23=\"RELATIVE\",'Horizontal Calculations'!AO13,IF($C$23=\"BLOCKS\",'Horizontal Calculations'!AO17,0)))","v":0},{"$f":"IF($C$23=\"FIXED\",'Horizontal Calculations'!AP15,IF($C$23=\"RELATIVE\",'Horizontal Calculations'!AP13,IF($C$23=\"BLOCKS\",'Horizontal Calculations'!AP17,0)))","v":0},{"$f":"IF($C$23=\"FIXED\",'Horizontal Calculations'!AQ15,IF($C$23=\"RELATIVE\",'Horizontal Calculations'!AQ13,IF($C$23=\"BLOCKS\",'Horizontal Calculations'!AQ17,0)))","v":0},{"$f":"IF($C$23=\"FIXED\",'Horizontal Calculations'!AR15,IF($C$23=\"RELATIVE\",'Horizontal Calculations'!AR13,IF($C$23=\"BLOCKS\",'Horizontal Calculations'!AR17,0)))","v":0},{"$f":"IF($C$23=\"FIXED\",'Horizontal Calculations'!AS15,IF($C$23=\"RELATIVE\",'Horizontal Calculations'!AS13,IF($C$23=\"BLOCKS\",'Horizontal Calculations'!AS17,0)))","v":0},{"$f":"IF($C$23=\"FIXED\",'Horizontal Calculations'!AT15,IF($C$23=\"RELATIVE\",'Horizontal Calculations'!AT13,IF($C$23=\"BLOCKS\",'Horizontal Calculations'!AT17,0)))","v":0},{"$f":"IF($C$23=\"FIXED\",'Horizontal Calculations'!AU15,IF($C$23=\"RELATIVE\",'Horizontal Calculations'!AU13,IF($C$23=\"BLOCKS\",'Horizontal Calculations'!AU17,0)))","v":0},{"$f":"IF($C$23=\"FIXED\",'Horizontal Calculations'!AV15,IF($C$23=\"RELATIVE\",'Horizontal Calculations'!AV13,IF($C$23=\"BLOCKS\",'Horizontal Calculations'!AV17,0)))","v":0},{"$f":"IF($C$23=\"FIXED\",'Horizontal Calculations'!AW15,IF($C$23=\"RELATIVE\",'Horizontal Calculations'!AW13,IF($C$23=\"BLOCKS\",'Horizontal Calculations'!AW17,0)))","v":0},{"$f":"IF($C$23=\"FIXED\",'Horizontal Calculations'!AX15,IF($C$23=\"RELATIVE\",'Horizontal Calculations'!AX13,IF($C$23=\"BLOCKS\",'Horizontal Calculations'!AX17,0)))","v":0},{"$f":"IF($C$23=\"FIXED\",'Horizontal Calculations'!AY15,IF($C$23=\"RELATIVE\",'Horizontal Calculations'!AY13,IF($C$23=\"BLOCKS\",'Horizontal Calculations'!AY17,0)))","v":0},{"$f":"IF($C$23=\"FIXED\",'Horizontal Calculations'!AZ15,IF($C$23=\"RELATIVE\",'Horizontal Calculations'!AZ13,IF($C$23=\"BLOCKS\",'Horizontal Calculations'!AZ17,0)))","v":0},{"$f":"IF($C$23=\"FIXED\",'Horizontal Calculations'!BA15,IF($C$23=\"RELATIVE\",'Horizontal Calculations'!BA13,IF($C$23=\"BLOCKS\",'Horizontal Calculations'!BA17,0)))","v":0}]
[]
["LABEL 3"]
["QUANTITY"]
["WIDTH (mm)",{"$nulls":3},"","","","","","","","","","","","","","","","","","","","","","","","","","","","","","","","","","","","","","","","","","","","","","","","","",""]
["HEIGHT  (mm)",{"$nulls":3},"","","","","","","","","","","","","","","","","","","","","","","","","","","","","","","","","","","","","","","","","","","","","","","","","",""]
["COLOUR","-- SELECT --",{"$f":"B29","v":0},null,"","","","","","","","","","","","","","","","","","","","","","","","","","","","","","","","","","","","","","","","","","","","","","","","","",""]
["TEXT SIZE  (mm)","AUTO",null,null,"","","","","","","","","","","","","","","","","","","","","","","","","","","","","","","","","","","","","","","","","","","","","","","","","",""]
["FIXING","-- SELECT --",null,null,"","","","","","","","","","","","","","","","","","","","","","","","","","","","","","","","","","","","","","","","","","","","","","","","","",""]
[{"$nulls":4},"I","I","I","I","I","I","I","I","I","I","I","I","I","I","I","I","I","I","I","I","I","I","I","I","I","I","I","I","I","I","I","I","I","I","I","I","I","I","I","I","I","I","I","I","I","I","I","I","I","I"]
["HOLES REQUIRED",null,"-- SELECT --"]
["HOLE SIZE  (mm)",null,{"$f":"VLOOKUP(C34,'Background Information'!$O$1:$P$4,2,FALSE)","v":0},null,{"$f":"IF($C$34=\"FIXED\",'Horizontal Calculations'!D24,IF($C$34=\"RELATIVE\",'Horizontal Calculations'!D22,IF($C$34=\"BLOCKS\",'Horizontal Calculations'!D26,0)))","v":0},{"$f":"IF($C$34=\"FIXED\",'Horizontal Calculations'!E24,IF($C$34=\"RELATIVE\",'Horizontal Calculations'!E22,IF($C$34=\"BLOCKS\",'Horizontal Calculations'!E26,0)))","v":0},{"$f":"IF($C$34=\"FIXED\",'Horizontal Calculations'!F24,IF($C$34=\"RELATIVE\",'Horizontal Calculations'!F22,IF($C$34=\"BLOCKS\",'Horizontal Calculations'!F26,0)))","v":0},{"$f":"IF($C$34=\"FIXED\",'Horizontal Calculations'!G24,IF($C$34=\"RELATIVE\",'Horizontal Calculations'!G22,IF($C$34=\"BLOCKS\",'Horizontal Calculations'!G26,0)))","v":0},{"$f":"IF($C$34=\"FIXED\",'Horizontal Calculations'!H24,IF($C$34=\"RELATIVE\",'Horizontal Calculations'!H22,IF($C$34=\"BLOCKS\",'Horizontal Calculations'!H26,0)))","v":0},{"$f":"IF($C$34=\"FIXED\",'Horizontal Calculations'!I24,IF($C$34=\"RELATIVE\",'Horizontal Calculations'!I22,IF($C$34=\"BLOCKS\",'Horizontal Calculations'!I26,0)))","v":0},{"$f":"IF($C$34=\"FIXED\",'Horizontal Calculations'!J24,IF($C$34=\"RELATIVE\",'Horizontal Calculations'!J22,IF($C$34=\"BLOCKS\",'Horizontal Calculations'!J26,0)))","v":0},{"$f":"IF($C$34=\"FIXED\",'Horizontal Calculations'!K24,IF($C$34=\"RELATIVE\",'Horizontal Calculations'!K22,IF($C$34=\"BLOCKS\",'Horizontal Calculations'!K26,0)))","v":0},{"$f":"IF($C$34=\"FIXED\",'Horizontal Calculations'!L24,IF($C$34=\"RELATIVE\",'Horizontal Calculations'!L22,IF($C$34=\"BLOCKS\",'Horizontal Calculations'!L26,0)))","v":0},{"$f":"IF($C$34=\"FIXED\",'Horizontal Calculations'!M24,IF($C$34=\"RELATIVE\",'Horizontal Calculations'!M22,IF($C$34=\"BLOCKS\",'Horizontal Calculations'!M26,0)))","v":0},{"$f":"IF($C$34=\"FIXED\",'Horizontal Calculations'!N24,IF($C$34=\"RELATIVE\",'Horizontal Calculations'!N22,IF($C$34=\"BLOCKS\",'Horizontal Calculations'!N26,0)))","v":0},{"$f":"IF($C$34=\"FIXED\",'Horizontal Calculations'!O24,IF($C$34=\"RELATIVE\",'Horizontal Calculations'!O22,IF($C$34=\"BLOCKS\",'Horizontal Calculations'!O26,0)))","v":0},{"$f":"IF($C$34=\"FIXED\",'Horizontal Calculations'!P24,IF($C$34=\"RELATIVE\",'Horizontal Calculations'!P22,IF($C$34=\"BLOCKS\",'Horizontal Calculations'!P26,0)))","v":0},{"$f":"IF($C$34=\"FIXED\",'Horizontal Calculations'!Q24,IF($C$34=\"RELATIVE\",'Horizontal Calculations'!Q22,IF($C$34=\"BLOCKS\",'Horizontal Calculations'!Q26,0)))","v":0},{"$f":"IF($C$34=\"FIXED\",'Horizontal Calculations'!R24,IF($C$34=\"RELATIVE\",'Horizontal Calculations'!R22,IF($C$34=\"BLOCKS\",'Horizontal Calculations'!R26,0)))","v":0},{"$f":"IF($C$34=\"FIXED\",'Horizontal Calculations'!S24,IF($C$34=\"RELATIVE\",'Horizontal Calculations'!S22,IF($C$34=\"BLOCKS\",'Horizontal Calculations'!S26,0)))","v":0},{"$f":"IF($C$34=\"FIXED\",'Horizontal Calculations'!T24,IF($C$34=\"RELATIVE\",'Horizontal Calculations'!T22,IF($C$34=\"BLOCKS\",'Horizontal Calculations'!T26,0)))","v":0},{"$f":"IF($C$34=\"FIXED\",'Horizontal Calculations'!U24,IF($C$34=\"RELATIVE\",'Horizontal Calculations'!U22,IF($C$34=\"BLOCKS\",'Horizontal Calculations'!U26,0)))","v":0},{"$f":"IF($C$34=\"FIXED\",'Horizontal Calculations'!V24,IF($C$34=\"RELATIVE\",'Horizontal Calculations'!V22,IF($C$34=\"BLOCKS\",'Horizontal Calculations'!V26,0)))","v":0},{"$f":"IF($C$34=\"FIXED\",'Horizontal Calculations'!W24,IF($C$34=\"RELATIVE\",'Horizontal Calculations'!W22,IF($C$34=\"BLOCKS\",'Horizontal Calculations'!W26,0)))","v":0},{"$f":"IF($C$34=\"FIXED\",'Horizontal Calculations'!X24,IF($C$34=\"RELATIVE\",'Horizontal Calculations'!X22,IF($C$34=\"BLOCKS\",'Horizontal Calculations'!X26,0)))","v":0},{"$f":"IF($C$34=\"FIXED\",'Horizontal Calculations'!Y24,IF($C$34=\"RELATIVE\",'Horizontal Calculations'!Y22,IF($C$34=\"BLOCKS\",'Horizontal Calculations'!Y26,0)))","v":0},{"$f":"IF($C$34=\"FIXED\",'Horizontal Calculations'!Z24,IF($C$34=\"RELATIVE\",'Horizontal Calculations'!Z22,IF($C$34=\"BLOCKS\",'Horizontal Calculations'!Z26,0)))","v":0},{"$f":"IF($C$34=\"FIXED\",'Horizontal Calculations'!AA24,IF($C$34=\"RELATIVE\",'Horizontal Calculations'!AA22,IF($C$34=\"BLOCKS\",'Horizontal Calculations'!AA26,0)))","v":0},{"$f":"IF($C$34=\"FIXED\",'Horizontal Calculations'!AB24,IF($C$34=\"RELATIVE\",'Horizontal Calculations'!AB22,IF($C$34=\"BLOCKS\",'Horizontal Calculations'!AB26,0)))","v":0},{"$f":"IF($C$34=\"FIXED\",'Horizontal Calculations'!AC24,IF($C$34=\"RELATIVE\",'Horizontal Calculations'!AC22,IF($C$34=\"BLOCKS\",'Horizontal Calculations'!AC26,0)))","v":0},{"$f":"IF($C$34=\"FIXED\",'Horizontal Calculations'!AD24,IF($C$34=\"RELATIVE\",'Horizontal Calculations'!AD22,IF($C$34=\"BLOCKS\",'Horizontal Calculations'!AD26,0)))","v":0},{"$f":"IF($C$34=\"FIXED\",'Horizontal Calculations'!AE24,IF($C$34=\"RELATIVE\",'Horizontal Calculations'!AE22,IF($C$34=\"BLOCKS\",'Horizontal Calculations'!AE26,0)))","v":0},{"$f":"IF($C$34=\"FIXED\",'Horizontal Calculations'!AF24,IF($C$34=\"RELATIVE\",'Horizontal Calculations'!AF22,IF($C$34=\"BLOCKS\",'Horizontal Calculations'!AF26,0)))","v":0},{"$f":"IF($C$34=\"FIXED\",'Horizontal Calculations'!AG24,IF($C$34=\"RELATIVE\",'Horizontal Calculations'!AG22,IF($C$34=\"BLOCKS\",'Horizontal Calculations'!AG26,0)))","v":0},{"$f":"IF($C$34=\"FIXED\",'Horizontal Calculations'!AH24,IF($C$34=\"RELATIVE\",'Horizontal Calculations'!AH22,IF($C$34=\"BLOCKS\",'Horizontal Calculations'!AH26,0)))","v":0},{"$f":"IF($C$34=\"FIXED\",'Horizontal Calculations'!AI24,IF($C$34=\"RELATIVE\",'Horizontal Calculations'!AI22,IF($C$34=\"BLOCKS\",'Horizontal Calculations'!AI26,0)))","v":0},{"$f":"IF($C$34=\"FIXED\",'Horizontal Calculations'!AJ24,IF($C$34=\"RELATIVE\",'Horizontal Calculations'!AJ22,IF($C$34=\"BLOCKS\",'Horizontal Calculations'!AJ26,0)))","v":0},{"$f":"IF($C$34=\"FIXED\",'Horizontal Calculations'!AK24,IF($C$34=\"RELATIVE\",'Horizontal Calculations'!AK22,IF($C$34=\"BLOCKS\",'Horizontal Calculations'!AK26,0)))","v":0},{"$f":"IF($C$34=\"FIXED\",'Horizontal Calculations'!AL24,IF($C$34=\"RELATIVE\",'Horizontal Calculations'!AL22,IF($C$34=\"BLOCKS\",'Horizontal Calculations'!AL26,0)))","v":0},{"$f":"IF($C$34=\"FIXED\",'Horizontal Calculations'!AM24,IF($C$34=\"RELATIVE\",'Horizontal Calculations'!AM22,IF($C$34=\"BLOCKS\",'Horizontal Calculations'!AM26,0)))","v":0},{"$f":"IF($C$34=\"FIXED\",'Horizontal Calculations'!AN24,IF($C$34=\"RELATIVE\",'Horizontal Calculations'!AN22,IF($C$34=\"BLOCKS\",'Horizontal Calculations'!AN26,0)))","v":0},{"$f":"IF($C$34=\"FIXED\",'Horizontal Calculations'!AO24,IF($C$34=\"RELATIVE\",'Horizontal Calculations'!AO22,IF($C$34=\"BLOCKS\",'Horizontal Calculations'!AO26,0)))","v":0},{"$f":"IF($C$34=\"FIXED\",'Horizontal Calculations'!AP24,IF($C$34=\"RELATIVE\",'Horizontal Calculations'!AP22,IF($C$34=\"BLOCKS\",'Horizontal Calculations'!AP26,0)))","v":0},{"$f":"IF($C$34=\"FIXED\",'Horizontal Calculations'!AQ24,IF($C$34=\"RELATIVE\",'Horizontal Calculations'!AQ22,IF($C$34=\"BLOCKS\",'Horizontal Calculations'!AQ26,0)))","v":0},{"$f":"IF($C$34=\"FIXED\",'Horizontal Calculations'!AR24,IF($C$34=\"RELATIVE\",'Horizontal Calculations'!AR22,IF($C$34=\"BLOCKS\",'Horizontal Calculations'!AR26,0)))","v":0},{"$f":"IF($C$34=\"FIXED\",'Horizontal Calculations'!AS24,IF($C$34=\"RELATIVE\",'Horizontal Calculations'!AS22,IF($C$34=\"BLOCKS\",'Horizontal Calculations'!AS26,0)))","v":0},{"$f":"IF($C$34=\"FIXED\",'Horizontal Calculations'!AT24,IF($C$34=\"RELATIVE\",'Horizontal Calculations'!AT22,IF($C$34=\"BLOCKS\",'Horizontal Calculations'!AT26,0)))","v":0},{"$f":"IF($C$34=\"FIXED\",'Horizontal Calculations'!AU24,IF($C$34=\"RELATIVE\",'Horizontal Calculations'!AU22,IF($C$34=\"BLOCKS\",'Horizontal Calculations'!AU26,0)))","v":0},{"$f":"IF($C$34=\"FIXED\",'Horizontal Calculations'!AV24,IF($C$34=\"RELATIVE\",'Horizontal Calculations'!AV22,IF($C$34=\"BLOCKS\",'Horizontal Calculations'!AV26,0)))","v":0},{"$f":"IF($C$34=\"FIXED\",'Horizontal Calculations'!AW24,IF($C$34=\"RELATIVE\",'Horizontal Calculations'!AW22,IF($C$34=\"BLOCKS\",'Horizontal Calculations'!AW26,0)))","v":0},{"$f":"IF($C$34=\"FIXED\",'Horizontal Calculations'!AX24,IF($C$34=\"RELATIVE\",'Horizontal Calculations'!AX22,IF($C$34=\"BLOCKS\",'Horizontal Calculations'!AX26,0)))","v":0},{"$f":"IF($C$34=\"FIXED\",'Horizontal Calculations'!AY24,IF($C$34=\"RELATIVE\",'Horizontal Calculations'!AY22,IF($C$34=\"BLOCKS\",'Horizontal Calculations'!AY26,0)))","v":0},{"$f":"IF($C$34=\"FIXED\",'Horizontal Calculations'!AZ24,IF($C$34=\"RELATIVE\",'Horizontal Calculations'!AZ22,IF($C$34=\"BLOCKS\",'Horizontal Calculations'!AZ26,0)))","v":0},{"$f":"IF($C$34=\"FIXED\",'Horizontal Calculations'!BA24,IF($C$34=\"RELATIVE\",'Horizontal Calculations'!BA22,IF($C$34=\"BLOCKS\",'Horizontal Calculations'!BA26,0)))","v":0}]
[]
["LABEL 4"]
["QUANTITY"]
["WIDTH (mm)",{"$nulls":3},"","","","","","","","","","","","","","","","","","","","","","","","","","","","","","","","","","","","","","","","","","","","","","","","","",""]
["HEIGHT  (mm)",{"$nulls":3},"","","","","","","","","","","","","","","","","","","","","","","","","","","","","","","","","","","","","","","","","","","","","","","","","",""]
["COLOUR","-- SELECT --",{"$f":"B40","v":0},null,"","","","","","","","","","","","","","","","","","","","","","","","","","","","","","","","","","","","","","","","","","","","","","","","","",""]
["TEXT SIZE  (mm)","AUTO",null,null,"","","","","","","","","","","","","","","","","","","","","","","","","","","","","","","","","","","","","","","","","","","","","","","","","",""]
["FIXING","-- SELECT --",null,null,"","","","","","","","","","","","","","","","","","","","","","","","","","","","","","","","","","","","","","","","","","","","","","","","","",""]
[{"$nulls":4},"I","I","I","I","I","I","I","I","I","I","I","I","I","I","I","I","I","I","I","I","I","I","I","I","I","I","I","I","I","I","I","I","I","I","I","I","I","I","I","I","I","I","I","I","I","I","I","I","I","I"]
["HOLES REQUIRED",null,"-- SELECT --"]
["HOLE SIZE  (mm)",null,{"$f":"VLOOKUP(C45,'Background Information'!$O$1:$P$4,2,FALSE)","v":0},null,{"$f":"IF($C$45=\"FIXED\",'Horizontal Calculations'!D33,IF($C$45=\"RELATIVE\",'Horizontal Calculations'!D31,IF($C$45=\"BLOCKS\",'Horizontal Calculations'!D35,0)))","v":0},{"$f":"IF($C$45=\"FIXED\",'Horizontal Calculations'!E33,IF($C$45=\"RELATIVE\",'Horizontal Calculations'!E31,IF($C$45=\"BLOCKS\",'Horizontal Calculations'!E35,0)))","v":0},{"$f":"IF($C$45=\"FIXED\",'Horizontal Calculations'!F33,IF($C$45=\"RELATIVE\",'Horizontal Calculations'!F31,IF($C$45=\"BLOCKS\",'Horizontal Calculations'!F35,0)))","v":0},{"$f":"IF($C$45=\"FIXED\",'Horizontal Calculations'!G33,IF($C$45=\"RELATIVE\",'Horizontal Calculations'!G31,IF($C$45=\"BLOCKS\",'Horizontal Calculations'!G35,0)))","v":0},{"$f":"IF($C$45=\"FIXED\",'Horizontal Calculations'!H33,IF($C$45=\"RELATIVE\",'Horizontal Calculations'!H31,IF($C$45=\"BLOCKS\",'Horizontal Calculations'!H35,0)))","v":0},{"$f":"IF($C$45=\"FIXED\",'Horizontal Calculations'!I33,IF($C$45=\"RELATIVE\",'Horizontal Calculations'!I31,IF($C$45=\"BLOCKS\",'Horizontal Calculations'!I35,0)))","v":0},{"$f":"IF($C$45=\"FIXED\",'Horizontal Calculations'!J33,IF($C$45=\"RELATIVE\",'Horizontal Calculations'!J31,IF($C$45=\"BLOCKS\",'Horizontal Calculations'!J35,0)))","v":0},{"$f":"IF($C$45=\"FIXED\",'Horizontal Calculations'!K33,IF($C$45=\"RELATIVE\",'Horizontal Calculations'!K31,IF($C$45=\"BLOCKS\",'Horizontal Calculations'!K35,0)))","v":0},{"$f":"IF($C$45=\"FIXED\",'Horizontal Calculations'!L33,IF($C$45=\"RELATIVE\",'Horizontal Calculations'!L31,IF($C$45=\"BLOCKS\",'Horizontal Calculations'!L35,0)))","v":0},{"$f":"IF($C$45=\"FIXED\",'Horizontal Calculations'!M33,IF($C$45=\"RELATIVE\",'Horizontal Calculations'!M31,IF($C$45=\"BLOCKS\",'Horizontal Calculations'!M35,0)))","v":0},{"$f":"IF($C$45=\"FIXED\",'Horizontal Calculations'!N33,IF($C$45=\"RELATIVE\",'Horizontal Calculations'!N31,IF($C$45=\"BLOCKS\",'Horizontal Calculations'!N35,0)))","v":0},{"$f":"IF($C$45=\"FIXED\",'Horizontal Calculations'!O33,IF($C$45=\"RELATIVE\",'Horizontal Calculations'!O31,IF($C$45=\"BLOCKS\",'Horizontal Calculations'!O35,0)))","v":0},{"$f":"IF($C$45=\"FIXED\",'Horizontal Calculations'!P33,IF($C$45=\"RELATIVE\",'Horizontal Calculations'!P31,IF($C$45=\"BLOCKS\",'Horizontal Calculations'!P35,0)))","v":0},{"$f":"IF($C$45=\"FIXED\",'Horizontal Calculations'!Q33,IF($C$45=\"RELATIVE\",'Horizontal Calculations'!Q31,IF($C$45=\"BLOCKS\",'Horizontal Calculations'!Q35,0)))","v":0},{"$f":"IF($C$45=\"FIXED\",'Horizontal Calculations'!R33,IF($C$45=\"RELATIVE\",'Horizontal Calculations'!R31,IF($C$45=\"BLOCKS\",'Horizontal Calculations'!R35,0)))","v":0},{"$f":"IF($C$45=\"FIXED\",'Horizontal Calculations'!S33,IF($C$45=\"RELATIVE\",'Horizontal Calculations'!S31,IF($C$45=\"BLOCKS\",'Horizontal Calculations'!S35,0)))","v":0},{"$f":"IF($C$45=\"FIXED\",'Horizontal Calculations'!T33,IF($C$45=\"RELATIVE\",'Horizontal Calculations'!T31,IF($C$45=\"BLOCKS\",'Horizontal Calculations'!T35,0)))","v":0},{"$f":"IF($C$45=\"FIXED\",'Horizontal Calculations'!U33,IF($C$45=\"RELATIVE\",'Horizontal Calculations'!U31,IF($C$45=\"BLOCKS\",'Horizontal Calculations'!U35,0)))","v":0},{"$f":"IF($C$45=\"FIXED\",'Horizontal Calculations'!V33,IF($C$45=\"RELATIVE\",'Horizontal Calculations'!V31,IF($C$45=\"BLOCKS\",'Horizontal Calculations'!V35,0)))","v":0},{"$f":"IF($C$45=\"FIXED\",'Horizontal Calculations'!W33,IF($C$45=\"RELATIVE\",'Horizontal Calculations'!W31,IF($C$45=\"BLOCKS\",'Horizontal Calculations'!W35,0)))","v":0},{"$f":"IF($C$45=\"FIXED\",'Horizontal Calculations'!X33,IF($C$45=\"RELATIVE\",'Horizontal Calculations'!X31,IF($C$45=\"BLOCKS\",'Horizontal Calculations'!X35,0)))","v":0},{"$f":"IF($C$45=\"FIXED\",'Horizontal Calculations'!Y33,IF($C$45=\"RELATIVE\",'Horizontal Calculations'!Y31,IF($C$45=\"BLOCKS\",'Horizontal Calculations'!Y35,0)))","v":0},{"$f":"IF($C$45=\"FIXED\",'Horizontal Calculations'!Z33,IF($C$45=\"RELATIVE\",'Horizontal Calculations'!Z31,IF($C$45=\"BLOCKS\",'Horizontal Calculations'!Z35,0)))","v":0},{"$f":"IF($C$45=\"FIXED\",'Horizontal Calculations'!AA33,IF($C$45=\"RELATIVE\",'Horizontal Calculations'!AA31,IF($C$45=\"BLOCKS\",'Horizontal Calculations'!AA35,0)))","v":0},{"$f":"IF($C$45=\"FIXED\",'Horizontal Calculations'!AB33,IF($C$45=\"RELATIVE\",'Horizontal Calculations'!AB31,IF($C$45=\"BLOCKS\",'Horizontal Calculations'!AB35,0)))","v":0},{"$f":"IF($C$45=\"FIXED\",'Horizontal Calculations'!AC33,IF($C$45=\"RELATIVE\",'Horizontal Calculations'!AC31,IF($C$45=\"BLOCKS\",'Horizontal Calculations'!AC35,0)))","v":0},{"$f":"IF($C$45=\"FIXED\",'Horizontal Calculations'!AD33,IF($C$45=\"RELATIVE\",'Horizontal Calculations'!AD31,IF($C$45=\"BLOCKS\",'Horizontal Calculations'!AD35,0)))","v":0},{"$f":"IF($C$45=\"FIXED\",'Horizontal Calculations'!AE33,IF($C$45=\"RELATIVE\",'Horizontal Calculations'!AE31,IF($C$45=\"BLOCKS\",'Horizontal Calculations'!AE35,0)))","v":0},{"$f":"IF($C$45=\"FIXED\",'Horizontal Calculations'!AF33,IF($C$45=\"RELATIVE\",'Horizontal Calculations'!AF31,IF($C$45=\"BLOCKS\",'Horizontal Calculations'!AF35,0)))","v":0},{"$f":"IF($C$45=\"FIXED\",'Horizontal Calculations'!AG33,IF($C$45=\"RELATIVE\",'Horizontal Calculations'!AG31,IF($C$45=\"BLOCKS\",'Horizontal Calculations'!AG35,0)))","v":0},{"$f":"IF($C$45=\"FIXED\",'Horizontal Calculations'!AH33,IF($C$45=\"RELATIVE\",'Horizontal Calculations'!AH31,IF($C$45=\"BLOCKS\",'Horizontal Calculations'!AH35,0)))","v":0},{"$f":"IF($C$45=\"FIXED\",'Horizontal Calculations'!AI33,IF($C$45=\"RELATIVE\",'Horizontal Calculations'!AI31,IF($C$45=\"BLOCKS\",'Horizontal Calculations'!AI35,0)))","v":0},{"$f":"IF($C$45=\"FIXED\",'Horizontal Calculations'!AJ33,IF($C$45=\"RELATIVE\",'Horizontal Calculations'!AJ31,IF($C$45=\"BLOCKS\",'Horizontal Calculations'!AJ35,0)))","v":0},{"$f":"IF($C$45=\"FIXED\",'Horizontal Calculations'!AK33,IF($C$45=\"RELATIVE\",'Horizontal Calculations'!AK31,IF($C$45=\"BLOCKS\",'Horizontal Calculations'!AK35,0)))","v":0},{"$f":"IF($C$45=\"FIXED\",'Horizontal Calculations'!AL33,IF($C$45=\"RELATIVE\",'Horizontal Calculations'!AL31,IF($C$45=\"BLOCKS\",'Horizontal Calculations'!AL35,0)))","v":0},{"$f":"IF($C$45=\"FIXED\",'Horizontal Calculations'!AM33,IF($C$45=\"RELATIVE\",'Horizontal Calculations'!AM31,IF($C$45=\"BLOCKS\",'Horizontal Calculations'!AM35,0)))","v":0},{"$f":"IF($C$45=\"FIXED\",'Horizontal Calculations'!AN33,IF($C$45=\"RELATIVE\",'Horizontal Calculations'!AN31,IF($C$45=\"BLOCKS\",'Horizontal Calculations'!AN35,0)))","v":0},{"$f":"IF($C$45=\"FIXED\",'Horizontal Calculations'!AO33,IF($C$45=\"RELATIVE\",'Horizontal Calculations'!AO31,IF($C$45=\"BLOCKS\",'Horizontal Calculations'!AO35,0)))","v":0},{"$f":"IF($C$45=\"FIXED\",'Horizontal Calculations'!AP33,IF($C$45=\"RELATIVE\",'Horizontal Calculations'!AP31,IF($C$45=\"BLOCKS\",'Horizontal Calculations'!AP35,0)))","v":0},{"$f":"IF($C$45=\"FIXED\",'Horizontal Calculations'!AQ33,IF($C$45=\"RELATIVE\",'Horizontal Calculations'!AQ31,IF($C$45=\"BLOCKS\",'Horizontal Calculations'!AQ35,0)))","v":0},{"$f":"IF($C$45=\"FIXED\",'Horizontal Calculations'!AR33,IF($C$45=\"RELATIVE\",'Horizontal Calculations'!AR31,IF($C$45=\"BLOCKS\",'Horizontal Calculations'!AR35,0)))","v":0},{"$f":"IF($C$45=\"FIXED\",'Horizontal Calculations'!AS33,IF($C$45=\"RELATIVE\",'Horizontal Calculations'!AS31,IF($C$45=\"BLOCKS\",'Horizontal Calculations'!AS35,0)))","v":0},{"$f":"IF($C$45=\"FIXED\",'Horizontal Calculations'!AT33,IF($C$45=\"RELATIVE\",'Horizontal Calculations'!AT31,IF($C$45=\"BLOCKS\",'Horizontal Calculations'!AT35,0)))","v":0},{"$f":"IF($C$45=\"FIXED\",'Horizontal Calculations'!AU33,IF($C$45=\"RELATIVE\",'Horizontal Calculations'!AU31,IF($C$45=\"BLOCKS\",'Horizontal Calculations'!AU35,0)))","v":0},{"$f":"IF($C$45=\"FIXED\",'Horizontal Calculations'!AV33,IF($C$45=\"RELATIVE\",'Horizontal Calculations'!AV31,IF($C$45=\"BLOCKS\",'Horizontal Calculations'!AV35,0)))","v":0},{"$f":"IF($C$45=\"FIXED\",'Horizontal Calculations'!AW33,IF($C$45=\"RELATIVE\",'Horizontal Calculations'!AW31,IF($C$45=\"BLOCKS\",'Horizontal Calculations'!AW35,0)))","v":0},{"$f":"IF($C$45=\"FIXED\",'Horizontal Calculations'!AX33,IF($C$45=\"RELATIVE\",'Horizontal Calculations'!AX31,IF($C$45=\"BLOCKS\",'Horizontal Calculations'!AX35,0)))","v":0},{"$f":"IF($C$45=\"FIXED\",'Horizontal Calculations'!AY33,IF($C$45=\"RELATIVE\",'Horizontal Calculations'!AY31,IF($C$45=\"BLOCKS\",'Horizontal Calculations'!AY35,0)))","v":0},{"$f":"IF($C$45=\"FIXED\",'Horizontal Calculations'!AZ33,IF($C$45=\"RELATIVE\",'Horizontal Calculations'!AZ31,IF($C$45=\"BLOCKS\",'Horizontal Calculations'!AZ35,0)))","v":0},{"$f":"IF($C$45=\"FIXED\",'Horizontal Calculations'!BA33,IF($C$45=\"RELATIVE\",'Horizontal Calculations'!BA31,IF($C$45=\"BLOCKS\",'Horizontal Calculations'!BA35,0)))","v":0}]
[]
["LABEL 5"]
["QUANTITY"]
["WIDTH (mm)",{"$nulls":3},"","","","","","","","","","","","","","","","","","","","","","","","","","","","","","","","","","","","","","","","","","","","","","","","","",""]
["HEIGHT  (mm)",{"$nulls":3},"","","","","","","","","","","","","","","","","","","","","","","","","","","","","","","","","","","","","","","","","","","","","","","","","",""]
["COLOUR","-- SELECT --",{"$f":"B51","v":0},null,"","","","","","","","","","","","","","","","","","","","","","","","","","","","","","","","","","","","","","","","","","","","","","","","","",""]
["TEXT SIZE  (mm)","AUTO",null,null,"","","","","","","","","","","","","","","","","","","","","","","","","","","","","","","","","","","","","","","","","","","","","","","","","",""]
["FIXING","-- SELECT --",null,null,"","","","","","","","","","","","","","","","","","","","","","","","","","","","","","","","","","","","","","","","","","","","","","","","","",""]
[{"$nulls":4},"I","I","I","I","I","I","I","I","I","I","I","I","I","I","I","I","I","I","I","I","I","I","I","I","I","I","I","I","I","I","I","I","I","I","I","I","I","I","I","I","I","I","I","I","I","I","I","I","I","I"]
["HOLES REQUIRED",null,"-- SELECT --"]
["HOLE SIZE  (mm)",null,{"$f":"VLOOKUP(C56,'Background Information'!$O$1:$P$4,2,FALSE)","v":0},null,{"$f":"IF($C$56=\"FIXED\",'Horizontal Calculations'!D42,IF($C$56=\"RELATIVE\",'Horizontal Calculations'!D40,IF($C$56=\"BLOCKS\",'Horizontal Calculations'!D44,0)))","v":0},{"$f":"IF($C$56=\"FIXED\",'Horizontal Calculations'!E42,IF($C$56=\"RELATIVE\",'Horizontal Calculations'!E40,IF($C$56=\"BLOCKS\",'Horizontal Calculations'!E44,0)))","v":0},{"$f":"IF($C$56=\"FIXED\",'Horizontal Calculations'!F42,IF($C$56=\"RELATIVE\",'Horizontal Calculations'!F40,IF($C$56=\"BLOCKS\",'Horizontal Calculations'!F44,0)))","v":0},{"$f":"IF($C$56=\"FIXED\",'Horizontal Calculations'!G42,IF($C$56=\"RELATIVE\",'Horizontal Calculations'!G40,IF($C$56=\"BLOCKS\",'Horizontal Calculations'!G44,0)))","v":0},{"$f":"IF($C$56=\"FIXED\",'Horizontal Calculations'!H42,IF($C$56=\"RELATIVE\",'Horizontal Calculations'!H40,IF($C$56=\"BLOCKS\",'Horizontal Calculations'!H44,0)))","v":0},{"$f":"IF($C$56=\"FIXED\",'Horizontal Calculations'!I42,IF($C$56=\"RELATIVE\",'Horizontal Calculations'!I40,IF($C$56=\"BLOCKS\",'Horizontal Calculations'!I44,0)))","v":0},{"$f":"IF($C$56=\"FIXED\",'Horizontal Calculations'!J42,IF($C$56=\"RELATIVE\",'Horizontal Calculations'!J40,IF($C$56=\"BLOCKS\",'Horizontal Calculations'!J44,0)))","v":0},{"$f":"IF($C$56=\"FIXED\",'Horizontal Calculations'!K42,IF($C$56=\"RELATIVE\",'Horizontal Calculations'!K40,IF($C$56=\"BLOCKS\",'Horizontal Calculations'!K44,0)))","v":0},{"$f":"IF($C$56=\"FIXED\",'Horizontal Calculations'!L42,IF($C$56=\"RELATIVE\",'Horizontal Calculations'!L40,IF($C$56=\"BLOCKS\",'Horizontal Calculations'!L44,0)))","v":0},{"$f":"IF($C$56=\"FIXED\",'Horizontal Calculations'!M42,IF($C$56=\"RELATIVE\",'Horizontal Calculations'!M40,IF($C$56=\"BLOCKS\",'Horizontal Calculations'!M44,0)))","v":0},{"$f":"IF($C$56=\"FIXED\",'Horizontal Calculations'!N42,IF($C$56=\"RELATIVE\",'Horizontal Calculations'!N40,IF($C$56=\"BLOCKS\",'Horizontal Calculations'!N44,0)))","v":0},{"$f":"IF($C$56=\"FIXED\",'Horizontal Calculations'!O42,IF($C$56=\"RELATIVE\",'Horizontal Calculations'!O40,IF($C$56=\"BLOCKS\",'Horizontal Calculations'!O44,0)))","v":0},{"$f":"IF($C$56=\"FIXED\",'Horizontal Calculations'!P42,IF($C$56=\"RELATIVE\",'Horizontal Calculations'!P40,IF($C$56=\"BLOCKS\",'Horizontal Calculations'!P44,0)))","v":0},{"$f":"IF($C$56=\"FIXED\",'Horizontal Calculations'!Q42,IF($C$56=\"RELATIVE\",'Horizontal Calculations'!Q40,IF($C$56=\"BLOCKS\",'Horizontal Calculations'!Q44,0)))","v":0},{"$f":"IF($C$56=\"FIXED\",'Horizontal Calculations'!R42,IF($C$56=\"RELATIVE\",'Horizontal Calculations'!R40,IF($C$56=\"BLOCKS\",'Horizontal Calculations'!R44,0)))","v":0},{"$f":"IF($C$56=\"FIXED\",'Horizontal Calculations'!S42,IF($C$56=\"RELATIVE\",'Horizontal Calculations'!S40,IF($C$56=\"BLOCKS\",'Horizontal Calculations'!S44,0)))","v":0},{"$f":"IF($C$56=\"FIXED\",'Horizontal Calculations'!T42,IF($C$56=\"RELATIVE\",'Horizontal Calculations'!T40,IF($C$56=\"BLOCKS\",'Horizontal Calculations'!T44,0)))","v":0},{"$f":"IF($C$56=\"FIXED\",'Horizontal Calculations'!U42,IF($C$56=\"RELATIVE\",'Horizontal Calculations'!U40,IF($C$56=\"BLOCKS\",'Horizontal Calculations'!U44,0)))","v":0},{"$f":"IF($C$56=\"FIXED\",'Horizontal Calculations'!V42,IF($C$56=\"RELATIVE\",'Horizontal Calculations'!V40,IF($C$56=\"BLOCKS\",'Horizontal Calculations'!V44,0)))","v":0},{"$f":"IF($C$56=\"FIXED\",'Horizontal Calculations'!W42,IF($C$56=\"RELATIVE\",'Horizontal Calculations'!W40,IF($C$56=\"BLOCKS\",'Horizontal Calculations'!W44,0)))","v":0},{"$f":"IF($C$56=\"FIXED\",'Horizontal Calculations'!X42,IF($C$56=\"RELATIVE\",'Horizontal Calculations'!X40,IF($C$56=\"BLOCKS\",'Horizontal Calculations'!X44,0)))","v":0},{"$f":"IF($C$56=\"FIXED\",'Horizontal Calculations'!Y42,IF($C$56=\"RELATIVE\",'Horizontal Calculations'!Y40,IF($C$56=\"BLOCKS\",'Horizontal Calculations'!Y44,0)))","v":0},{"$f":"IF($C$56=\"FIXED\",'Horizontal Calculations'!Z42,IF($C$56=\"RELATIVE\",'Horizontal Calculations'!Z40,IF($C$56=\"BLOCKS\",'Horizontal Calculations'!Z44,0)))","v":0},{"$f":"IF($C$56=\"FIXED\",'Horizontal Calculations'!AA42,IF($C$56=\"RELATIVE\",'Horizontal Calculations'!AA40,IF($C$56=\"BLOCKS\",'Horizontal Calculations'!AA44,0)))","v":0},{"$f":"IF($C$56=\"FIXED\",'Horizontal Calculations'!AB42,IF($C$56=\"RELATIVE\",'Horizontal Calculations'!AB40,IF($C$56=\"BLOCKS\",'Horizontal Calculations'!AB44,0)))","v":0},{"$f":"IF($C$56=\"FIXED\",'Horizontal Calculations'!AC42,IF($C$56=\"RELATIVE\",'Horizontal Calculations'!AC40,IF($C$56=\"BLOCKS\",'Horizontal Calculations'!AC44,0)))","v":0},{"$f":"IF($C$56=\"FIXED\",'Horizontal Calculations'!AD42,IF($C$56=\"RELATIVE\",'Horizontal Calculations'!AD40,IF($C$56=\"BLOCKS\",'Horizontal Calculations'!AD44,0)))","v":0},{"$f":"IF($C$56=\"FIXED\",'Horizontal Calculations'!AE42,IF($C$56=\"RELATIVE\",'Horizontal Calculations'!AE40,IF($C$56=\"BLOCKS\",'Horizontal Calculations'!AE44,0)))","v":0},{"$f":"IF($C$56=\"FIXED\",'Horizontal Calculations'!AF42,IF($C$56=\"RELATIVE\",'Horizontal Calculations'!AF40,IF($C$56=\"BLOCKS\",'Horizontal Calculations'!AF44,0)))","v":0},{"$f":"IF($C$56=\"FIXED\",'Horizontal Calculations'!AG42,IF($C$56=\"RELATIVE\",'Horizontal Calculations'!AG40,IF($C$56=\"BLOCKS\",'Horizontal Calculations'!AG44,0)))","v":0},{"$f":"IF($C$56=\"FIXED\",'Horizontal Calculations'!AH42,IF($C$56=\"RELATIVE\",'Horizontal Calculations'!AH40,IF($C$56=\"BLOCKS\",'Horizontal Calculations'!AH44,0)))","v":0},{"$f":"IF($C$56=\"FIXED\",'Horizontal Calculations'!AI42,IF($C$56=\"RELATIVE\",'Horizontal Calculations'!AI40,IF($C$56=\"BLOCKS\",'Horizontal Calculations'!AI44,0)))","v":0},{"$f":"IF($C$56=\"FIXED\",'Horizontal Calculations'!AJ42,IF($C$56=\"RELATIVE\",'Horizontal Calculations'!AJ40,IF($C$56=\"BLOCKS\",'Horizontal Calculations'!AJ44,0)))","v":0},{"$f":"IF($C$56=\"FIXED\",'Horizontal Calculations'!AK42,IF($C$56=\"RELATIVE\",'Horizontal Calculations'!AK40,IF($C$56=\"BLOCKS\",'Horizontal Calculations'!AK44,0)))","v":0},{"$f":"IF($C$56=\"FIXED\",'Horizontal Calculations'!AL42,IF($C$56=\"RELATIVE\",'Horizontal Calculations'!AL40,IF($C$56=\"BLOCKS\",'Horizontal Calculations'!AL44,0)))","v":0},{"$f":"IF($C$56=\"FIXED\",'Horizontal Calculations'!AM42,IF($C$56=\"RELATIVE\",'Horizontal Calculations'!AM40,IF($C$56=\"BLOCKS\",'Horizontal Calculations'!AM44,0)))","v":0},{"$f":"IF($C$56=\"FIXED\",'Horizontal Calculations'!AN42,IF($C$56=\"RELATIVE\",'Horizontal Calculations'!AN40,IF($C$56=\"BLOCKS\",'Horizontal Calculations'!AN44,0)))","v":0},{"$f":"IF($C$56=\"FIXED\",'Horizontal Calculations'!AO42,IF($C$56=\"RELATIVE\",'Horizontal Calculations'!AO40,IF($C$56=\"BLOCKS\",'Horizontal Calculations'!AO44,0)))","v":0},{"$f":"IF($C$56=\"FIXED\",'Horizontal Calculations'!AP42,IF($C$56=\"RELATIVE\",'Horizontal Calculations'!AP40,IF($C$56=\"BLOCKS\",'Horizontal Calculations'!AP44,0)))","v":0},{"$f":"IF($C$56=\"FIXED\",'Horizontal Calculations'!AQ42,IF($C$56=\"RELATIVE\",'Horizontal Calculations'!AQ40,IF($C$56=\"BLOCKS\",'Horizontal Calculations'!AQ44,0)))","v":0},{"$f":"IF($C$56=\"FIXED\",'Horizontal Calculations'!AR42,IF($C$56=\"RELATIVE\",'Horizontal Calculations'!AR40,IF($C$56=\"BLOCKS\",'Horizontal Calculations'!AR44,0)))","v":0},{"$f":"IF($C$56=\"FIXED\",'Horizontal Calculations'!AS42,IF($C$56=\"RELATIVE\",'Horizontal Calculations'!AS40,IF($C$56=\"BLOCKS\",'Horizontal Calculations'!AS44,0)))","v":0},{"$f":"IF($C$56=\"FIXED\",'Horizontal Calculations'!AT42,IF($C$56=\"RELATIVE\",'Horizontal Calculations'!AT40,IF($C$56=\"BLOCKS\",'Horizontal Calculations'!AT44,0)))","v":0},{"$f":"IF($C$56=\"FIXED\",'Horizontal Calculations'!AU42,IF($C$56=\"RELATIVE\",'Horizontal Calculations'!AU40,IF($C$56=\"BLOCKS\",'Horizontal Calculations'!AU44,0)))","v":0},{"$f":"IF($C$56=\"FIXED\",'Horizontal Calculations'!AV42,IF($C$56=\"RELATIVE\",'Horizontal Calculations'!AV40,IF($C$56=\"BLOCKS\",'Horizontal Calculations'!AV44,0)))","v":0},{"$f":"IF($C$56=\"FIXED\",'Horizontal Calculations'!AW42,IF($C$56=\"RELATIVE\",'Horizontal Calculations'!AW40,IF($C$56=\"BLOCKS\",'Horizontal Calculations'!AW44,0)))","v":0},{"$f":"IF($C$56=\"FIXED\",'Horizontal Calculations'!AX42,IF($C$56=\"RELATIVE\",'Horizontal Calculations'!AX40,IF($C$56=\"BLOCKS\",'Horizontal Calculations'!AX44,0)))","v":0},{"$f":"IF($C$56=\"FIXED\",'Horizontal Calculations'!AY42,IF($C$56=\"RELATIVE\",'Horizontal Calculations'!AY40,IF($C$56=\"BLOCKS\",'Horizontal Calculations'!AY44,0)))","v":0},{"$f":"IF($C$56=\"FIXED\",'Horizontal Calculations'!AZ42,IF($C$56=\"RELATIVE\",'Horizontal Calculations'!AZ40,IF($C$56=\"BLOCKS\",'Horizontal Calculations'!AZ44,0)))","v":0},{"$f":"IF($C$56=\"FIXED\",'Horizontal Calculations'!BA42,IF($C$56=\"RELATIVE\",'Horizontal Calculations'!BA40,IF($C$56=\"BLOCKS\",'Horizontal Calculations'!BA44,0)))","v":0}]
[]
["LABEL 6"]
["QUANTITY"]
["WIDTH (mm)",{"$nulls":3},"","","","","","","","","","","","","","","","","","","","","","","","","","","","","","","","","","","","","","","","","","","","","","","","","",""]
["HEIGHT  (mm)",{"$nulls":3},"","","","","","","","","","","","","","","","","","","","","","","","","","","","","","","","","","","","","","","","","","","","","","","","","",""]
["COLOUR","-- SELECT --",{"$f":"B62","v":0},null,"","","","","","","","","","","","","","","","","","","","","","","","","","","","","","","","","","","","","","","","","","","","","","","","","",""]
["TEXT SIZE  (mm)","AUTO",null,null,"","","","","","","","","","","","","","","","","","","","","","","","","","","","","","","","","","","","","","","","","","","","","","","","","",""]
["FIXING","-- SELECT --",null,null,"","","","","","","","","","","","","","","","","","","","","","","","","","","","","","","","","","","","","","","","","","","","","","","","","",""]
[{"$nulls":4},"I","I","I","I","I","I","I","I","I","I","I","I","I","I","I","I","I","I","I","I","I","I","I","I","I","I","I","I","I","I","I","I","I","I","I","I","I","I","I","I","I","I","I","I","I","I","I","I","I","I"]
["HOLES REQUIRED",null,"-- SELECT --"]
["HOLE SIZE  (mm)",null,{"$f":"VLOOKUP(C67,'Background Information'!$O$1:$P$4,2,FALSE)","v":0},null,{"$f":"IF($C$67=\"FIXED\",'Horizontal Calculations'!D51,IF($C$67=\"RELATIVE\",'Horizontal Calculations'!D49,IF($C$67=\"BLOCKS\",'Horizontal Calculations'!D53,0)))","v":0},{"$f":"IF($C$67=\"FIXED\",'Horizontal Calculations'!E51,IF($C$67=\"RELATIVE\",'Horizontal Calculations'!E49,IF($C$67=\"BLOCKS\",'Horizontal Calculations'!E53,0)))","v":0},{"$f":"IF($C$67=\"FIXED\",'Horizontal Calculations'!F51,IF($C$67=\"RELATIVE\",'Horizontal Calculations'!F49,IF($C$67=\"BLOCKS\",'Horizontal Calculations'!F53,0)))","v":0},{"$f":"IF($C$67=\"FIXED\",'Horizontal Calculations'!G51,IF($C$67=\"RELATIVE\",'Horizontal Calculations'!G49,IF($C$67=\"BLOCKS\",'Horizontal Calculations'!G53,0)))","v":0},{"$f":"IF($C$67=\"FIXED\",'Horizontal Calculations'!H51,IF($C$67=\"RELATIVE\",'Horizontal Calculations'!H49,IF($C$67=\"BLOCKS\",'Horizontal Calculations'!H53,0)))","v":0},{"$f":"IF($C$67=\"FIXED\",'Horizontal Calculations'!I51,IF($C$67=\"RELATIVE\",'Horizontal Calculations'!I49,IF($C$67=\"BLOCKS\",'Horizontal Calculations'!I53,0)))","v":0},{"$f":"IF($C$67=\"FIXED\",'Horizontal Calculations'!J51,IF($C$67=\"RELATIVE\",'Horizontal Calculations'!J49,IF($C$67=\"BLOCKS\",'Horizontal Calculations'!J53,0)))","v":0},{"$f":"IF($C$67=\"FIXED\",'Horizontal Calculations'!K51,IF($C$67=\"RELATIVE\",'Horizontal Calculations'!K49,IF($C$67=\"BLOCKS\",'Horizontal Calculations'!K53,0)))","v":0},{"$f":"IF($C$67=\"FIXED\",'Horizontal Calculations'!L51,IF($C$67=\"RELATIVE\",'Horizontal Calculations'!L49,IF($C$67=\"BLOCKS\",'Horizontal Calculations'!L53,0)))","v":0},{"$f":"IF($C$67=\"FIXED\",'Horizontal Calculations'!M51,IF($C$67=\"RELATIVE\",'Horizontal Calculations'!M49,IF($C$67=\"BLOCKS\",'Horizontal Calculations'!M53,0)))","v":0},{"$f":"IF($C$67=\"FIXED\",'Horizontal Calculations'!N51,IF($C$67=\"RELATIVE\",'Horizontal Calculations'!N49,IF($C$67=\"BLOCKS\",'Horizontal Calculations'!N53,0)))","v":0},{"$f":"IF($C$67=\"FIXED\",'Horizontal Calculations'!O51,IF($C$67=\"RELATIVE\",'Horizontal Calculations'!O49,IF($C$67=\"BLOCKS\",'Horizontal Calculations'!O53,0)))","v":0},{"$f":"IF($C$67=\"FIXED\",'Horizontal Calculations'!P51,IF($C$67=\"RELATIVE\",'Horizontal Calculations'!P49,IF($C$67=\"BLOCKS\",'Horizontal Calculations'!P53,0)))","v":0},{"$f":"IF($C$67=\"FIXED\",'Horizontal Calculations'!Q51,IF($C$67=\"RELATIVE\",'Horizontal Calculations'!Q49,IF($C$67=\"BLOCKS\",'Horizontal Calculations'!Q53,0)))","v":0},{"$f":"IF($C$67=\"FIXED\",'Horizontal Calculations'!R51,IF($C$67=\"RELATIVE\",'Horizontal Calculations'!R49,IF($C$67=\"BLOCKS\",'Horizontal Calculations'!R53,0)))","v":0},{"$f":"IF($C$67=\"FIXED\",'Horizontal Calculations'!S51,IF($C$67=\"RELATIVE\",'Horizontal Calculations'!S49,IF($C$67=\"BLOCKS\",'Horizontal Calculations'!S53,0)))","v":0},{"$f":"IF($C$67=\"FIXED\",'Horizontal Calculations'!T51,IF($C$67=\"RELATIVE\",'Horizontal Calculations'!T49,IF($C$67=\"BLOCKS\",'Horizontal Calculations'!T53,0)))","v":0},{"$f":"IF($C$67=\"FIXED\",'Horizontal Calculations'!U51,IF($C$67=\"RELATIVE\",'Horizontal Calculations'!U49,IF($C$67=\"BLOCKS\",'Horizontal Calculations'!U53,0)))","v":0},{"$f":"IF($C$67=\"FIXED\",'Horizontal Calculations'!V51,IF($C$67=\"RELATIVE\",'Horizontal Calculations'!V49,IF($C$67=\"BLOCKS\",'Horizontal Calculations'!V53,0)))","v":0},{"$f":"IF($C$67=\"FIXED\",'Horizontal Calculations'!W51,IF($C$67=\"RELATIVE\",'Horizontal Calculations'!W49,IF($C$67=\"BLOCKS\",'Horizontal Calculations'!W53,0)))","v":0},{"$f":"IF($C$67=\"FIXED\",'Horizontal Calculations'!X51,IF($C$67=\"RELATIVE\",'Horizontal Calculations'!X49,IF($C$67=\"BLOCKS\",'Horizontal Calculations'!X53,0)))","v":0},{"$f":"IF($C$67=\"FIXED\",'Horizontal Calculations'!Y51,IF($C$67=\"RELATIVE\",'Horizontal Calculations'!Y49,IF($C$67=\"BLOCKS\",'Horizontal Calculations'!Y53,0)))","v":0},{"$f":"IF($C$67=\"FIXED\",'Horizontal Calculations'!Z51,IF($C$67=\"RELATIVE\",'Horizontal Calculations'!Z49,IF($C$67=\"BLOCKS\",'Horizontal Calculations'!Z53,0)))","v":0},{"$f":"IF($C$67=\"FIXED\",'Horizontal Calculations'!AA51,IF($C$67=\"RELATIVE\",'Horizontal Calculations'!AA49,IF($C$67=\"BLOCKS\",'Horizontal Calculations'!AA53,0)))","v":0},{"$f":"IF($C$67=\"FIXED\",'Horizontal Calculations'!AB51,IF($C$67=\"RELATIVE\",'Horizontal Calculations'!AB49,IF($C$67=\"BLOCKS\",'Horizontal Calculations'!AB53,0)))","v":0},{"$f":"IF($C$67=\"FIXED\",'Horizontal Calculations'!AC51,IF($C$67=\"RELATIVE\",'Horizontal Calculations'!AC49,IF($C$67=\"BLOCKS\",'Horizontal Calculations'!AC53,0)))","v":0},{"$f":"IF($C$67=\"FIXED\",'Horizontal Calculations'!AD51,IF($C$67=\"RELATIVE\",'Horizontal Calculations'!AD49,IF($C$67=\"BLOCKS\",'Horizontal Calculations'!AD53,0)))","v":0},{"$f":"IF($C$67=\"FIXED\",'Horizontal Calculations'!AE51,IF($C$67=\"RELATIVE\",'Horizontal Calculations'!AE49,IF($C$67=\"BLOCKS\",'Horizontal Calculations'!AE53,0)))","v":0},{"$f":"IF($C$67=\"FIXED\",'Horizontal Calculations'!AF51,IF($C$67=\"RELATIVE\",'Horizontal Calculations'!AF49,IF($C$67=\"BLOCKS\",'Horizontal Calculations'!AF53,0)))","v":0},{"$f":"IF($C$67=\"FIXED\",'Horizontal Calculations'!AG51,IF($C$67=\"RELATIVE\",'Horizontal Calculations'!AG49,IF($C$67=\"BLOCKS\",'Horizontal Calculations'!AG53,0)))","v":0},{"$f":"IF($C$67=\"FIXED\",'Horizontal Calculations'!AH51,IF($C$67=\"RELATIVE\",'Horizontal Calculations'!AH49,IF($C$67=\"BLOCKS\",'Horizontal Calculations'!AH53,0)))","v":0},{"$f":"IF($C$67=\"FIXED\",'Horizontal Calculations'!AI51,IF($C$67=\"RELATIVE\",'Horizontal Calculations'!AI49,IF($C$67=\"BLOCKS\",'Horizontal Calculations'!AI53,0)))","v":0},{"$f":"IF($C$67=\"FIXED\",'Horizontal Calculations'!AJ51,IF($C$67=\"RELATIVE\",'Horizontal Calculations'!AJ49,IF($C$67=\"BLOCKS\",'Horizontal Calculations'!AJ53,0)))","v":0},{"$f":"IF($C$67=\"FIXED\",'Horizontal Calculations'!AK51,IF($C$67=\"RELATIVE\",'Horizontal Calculations'!AK49,IF($C$67=\"BLOCKS\",'Horizontal Calculations'!AK53,0)))","v":0},{"$f":"IF($C$67=\"FIXED\",'Horizontal Calculations'!AL51,IF($C$67=\"RELATIVE\",'Horizontal Calculations'!AL49,IF($C$67=\"BLOCKS\",'Horizontal Calculations'!AL53,0)))","v":0},{"$f":"IF($C$67=\"FIXED\",'Horizontal Calculations'!AM51,IF($C$67=\"RELATIVE\",'Horizontal Calculations'!AM49,IF($C$67=\"BLOCKS\",'Horizontal Calculations'!AM53,0)))","v":0},{"$f":"IF($C$67=\"FIXED\",'Horizontal Calculations'!AN51,IF($C$67=\"RELATIVE\",'Horizontal Calculations'!AN49,IF($C$67=\"BLOCKS\",'Horizontal Calculations'!AN53,0)))","v":0},{"$f":"IF($C$67=\"FIXED\",'Horizontal Calculations'!AO51,IF($C$67=\"RELATIVE\",'Horizontal Calculations'!AO49,IF($C$67=\"BLOCKS\",'Horizontal Calculations'!AO53,0)))","v":0},{"$f":"IF($C$67=\"FIXED\",'Horizontal Calculations'!AP51,IF($C$67=\"RELATIVE\",'Horizontal Calculations'!AP49,IF($C$67=\"BLOCKS\",'Horizontal Calculations'!AP53,0)))","v":0},{"$f":"IF($C$67=\"FIXED\",'Horizontal Calculations'!AQ51,IF($C$67=\"RELATIVE\",'Horizontal Calculations'!AQ49,IF($C$67=\"BLOCKS\",'Horizontal Calculations'!AQ53,0)))","v":0},{"$f":"IF($C$67=\"FIXED\",'Horizontal Calculations'!AR51,IF($C$67=\"RELATIVE\",'Horizontal Calculations'!AR49,IF($C$67=\"BLOCKS\",'Horizontal Calculations'!AR53,0)))","v":0},{"$f":"IF($C$67=\"FIXED\",'Horizontal Calculations'!AS51,IF($C$67=\"RELATIVE\",'Horizontal Calculations'!AS49,IF($C$67=\"BLOCKS\",'Horizontal Calculations'!AS53,0)))","v":0},{"$f":"IF($C$67=\"FIXED\",'Horizontal Calculations'!AT51,IF($C$67=\"RELATIVE\",'Horizontal Calculations'!AT49,IF($C$67=\"BLOCKS\",'Horizontal Calculations'!AT53,0)))","v":0},{"$f":"IF($C$67=\"FIXED\",'Horizontal Calculations'!AU51,IF($C$67=\"RELATIVE\",'Horizontal Calculations'!AU49,IF($C$67=\"BLOCKS\",'Horizontal Calculations'!AU53,0)))","v":0},{"$f":"IF($C$67=\"FIXED\",'Horizontal Calculations'!AV51,IF($C$67=\"RELATIVE\",'Horizontal Calculations'!AV49,IF($C$67=\"BLOCKS\",'Horizontal Calculations'!AV53,0)))","v":0},{"$f":"IF($C$67=\"FIXED\",'Horizontal Calculations'!AW51,IF($C$67=\"RELATIVE\",'Horizontal Calculations'!AW49,IF($C$67=\"BLOCKS\",'Horizontal Calculations'!AW53,0)))","v":0},{"$f":"IF($C$67=\"FIXED\",'Horizontal Calculations'!AX51,IF($C$67=\"RELATIVE\",'Horizontal Calculations'!AX49,IF($C$67=\"BLOCKS\",'Horizontal Calculations'!AX53,0)))","v":0},{"$f":"IF($C$67=\"FIXED\",'Horizontal Calculations'!AY51,IF($C$67=\"RELATIVE\",'Horizontal Calculations'!AY49,IF($C$67=\"BLOCKS\",'Horizontal Calculations'!AY53,0)))","v":0},{"$f":"IF($C$67=\"FIXED\",'Horizontal Calculations'!AZ51,IF($C$67=\"RELATIVE\",'Horizontal Calculations'!AZ49,IF($C$67=\"BLOCKS\",'Horizontal Calculations'!AZ53,0)))","v":0},{"$f":"IF($C$67=\"FIXED\",'Horizontal Calculations'!BA51,IF($C$67=\"RELATIVE\",'Horizontal Calculations'!BA49,IF($C$67=\"BLOCKS\",'Horizontal Calculations'!BA53,0)))","v":0}]
[]
["LABEL 7"]
["QUANTITY"]
["WIDTH (mm)",{"$nulls":3},"","","","","","","","","","","","","","","","","","","","","","","","","","","","","","","","","","","","","","","","","","","","","","","","","",""]
["HEIGHT  (mm)",{"$nulls":3},"","","","","","","","","","","","","","","","","","","","","","","","","","","","","","","","","","","","","","","","","","","","","","","","","",""]
["COLOUR","-- SELECT --",{"$f":"B73","v":0},null,"","","","","","","","","","","","","","","","","","","","","","","","","","","","","","","","","","","","","","","","","","","","","","","","","",""]
["TEXT SIZE  (mm)","AUTO",null,null,"","","","","","","","","","","","","","","","","","","","","","","","","","","","","","","","","","","","","","","","","","","","","","","","","",""]
["FIXING","-- SELECT --",null,null,"","","","","","","","","","","","","","","","","","","","","","","","","","","","","","","","","","","","","","","","","","","","","","","","","",""]
[{"$nulls":4},"I","I","I","I","I","I","I","I","I","I","I","I","I","I","I","I","I","I","I","I","I","I","I","I","I","I","I","I","I","I","I","I","I","I","I","I","I","I","I","I","I","I","I","I","I","I","I","I","I","I"]
["HOLES REQUIRED",null,"-- SELECT --"]
["HOLE SIZE  (mm)",null,{"$f":"VLOOKUP(C78,'Background Information'!$O$1:$P$4,2,FALSE)","v":0},null,{"$f":"IF($C$78=\"FIXED\",'Horizontal Calculations'!D60,IF($C$78=\"RELATIVE\",'Horizontal Calculations'!D58,IF($C$78=\"BLOCKS\",'Horizontal Calculations'!D62,0)))","v":0},{"$f":"IF($C$78=\"FIXED\",'Horizontal Calculations'!E60,IF($C$78=\"RELATIVE\",'Horizontal Calculations'!E58,IF($C$78=\"BLOCKS\",'Horizontal Calculations'!E62,0)))","v":0},{"$f":"IF($C$78=\"FIXED\",'Horizontal Calculations'!F60,IF($C$78=\"RELATIVE\",'Horizontal Calculations'!F58,IF($C$78=\"BLOCKS\",'Horizontal Calculations'!F62,0)))","v":0},{"$f":"IF($C$78=\"FIXED\",'Horizontal Calculations'!G60,IF($C$78=\"RELATIVE\",'Horizontal Calculations'!G58,IF($C$78=\"BLOCKS\",'Horizontal Calculations'!G62,0)))","v":0},{"$f":"IF($C$78=\"FIXED\",'Horizontal Calculations'!H60,IF($C$78=\"RELATIVE\",'Horizontal Calculations'!H58,IF($C$78=\"BLOCKS\",'Horizontal Calculations'!H62,0)))","v":0},{"$f":"IF($C$78=\"FIXED\",'Horizontal Calculations'!I60,IF($C$78=\"RELATIVE\",'Horizontal Calculations'!I58,IF($C$78=\"BLOCKS\",'Horizontal Calculations'!I62,0)))","v":0},{"$f":"IF($C$78=\"FIXED\",'Horizontal Calculations'!J60,IF($C$78=\"RELATIVE\",'Horizontal Calculations'!J58,IF($C$78=\"BLOCKS\",'Horizontal Calculations'!J62,0)))","v":0},{"$f":"IF($C$78=\"FIXED\",'Horizontal Calculations'!K60,IF($C$78=\"RELATIVE\",'Horizontal Calculations'!K58,IF($C$78=\"BLOCKS\",'Horizontal Calculations'!K62,0)))","v":0},{"$f":"IF($C$78=\"FIXED\",'Horizontal Calculations'!L60,IF($C$78=\"RELATIVE\",'Horizontal Calculations'!L58,IF($C$78=\"BLOCKS\",'Horizontal Calculations'!L62,0)))","v":0},{"$f":"IF($C$78=\"FIXED\",'Horizontal Calculations'!M60,IF($C$78=\"RELATIVE\",'Horizontal Calculations'!M58,IF($C$78=\"BLOCKS\",'Horizontal Calculations'!M62,0)))","v":0},{"$f":"IF($C$78=\"FIXED\",'Horizontal Calculations'!N60,IF($C$78=\"RELATIVE\",'Horizontal Calculations'!N58,IF($C$78=\"BLOCKS\",'Horizontal Calculations'!N62,0)))","v":0},{"$f":"IF($C$78=\"FIXED\",'Horizontal Calculations'!O60,IF($C$78=\"RELATIVE\",'Horizontal Calculations'!O58,IF($C$78=\"BLOCKS\",'Horizontal Calculations'!O62,0)))","v":0},{"$f":"IF($C$78=\"FIXED\",'Horizontal Calculations'!P60,IF($C$78=\"RELATIVE\",'Horizontal Calculations'!P58,IF($C$78=\"BLOCKS\",'Horizontal Calculations'!P62,0)))","v":0},{"$f":"IF($C$78=\"FIXED\",'Horizontal Calculations'!Q60,IF($C$78=\"RELATIVE\",'Horizontal Calculations'!Q58,IF($C$78=\"BLOCKS\",'Horizontal Calculations'!Q62,0)))","v":0},{"$f":"IF($C$78=\"FIXED\",'Horizontal Calculations'!R60,IF($C$78=\"RELATIVE\",'Horizontal Calculations'!R58,IF($C$78=\"BLOCKS\",'Horizontal Calculations'!R62,0)))","v":0},{"$f":"IF($C$78=\"FIXED\",'Horizontal Calculations'!S60,IF($C$78=\"RELATIVE\",'Horizontal Calculations'!S58,IF($C$78=\"BLOCKS\",'Horizontal Calculations'!S62,0)))","v":0},{"$f":"IF($C$78=\"FIXED\",'Horizontal Calculations'!T60,IF($C$78=\"RELATIVE\",'Horizontal Calculations'!T58,IF($C$78=\"BLOCKS\",'Horizontal Calculations'!T62,0)))","v":0},{"$f":"IF($C$78=\"FIXED\",'Horizontal Calculations'!U60,IF($C$78=\"RELATIVE\",'Horizontal Calculations'!U58,IF($C$78=\"BLOCKS\",'Horizontal Calculations'!U62,0)))","v":0},{"$f":"IF($C$78=\"FIXED\",'Horizontal Calculations'!V60,IF($C$78=\"RELATIVE\",'Horizontal Calculations'!V58,IF($C$78=\"BLOCKS\",'Horizontal Calculations'!V62,0)))","v":0},{"$f":"IF($C$78=\"FIXED\",'Horizontal Calculations'!W60,IF($C$78=\"RELATIVE\",'Horizontal Calculations'!W58,IF($C$78=\"BLOCKS\",'Horizontal Calculations'!W62,0)))","v":0},{"$f":"IF($C$78=\"FIXED\",'Horizontal Calculations'!X60,IF($C$78=\"RELATIVE\",'Horizontal Calculations'!X58,IF($C$78=\"BLOCKS\",'Horizontal Calculations'!X62,0)))","v":0},{"$f":"IF($C$78=\"FIXED\",'Horizontal Calculations'!Y60,IF($C$78=\"RELATIVE\",'Horizontal Calculations'!Y58,IF($C$78=\"BLOCKS\",'Horizontal Calculations'!Y62,0)))","v":0},{"$f":"IF($C$78=\"FIXED\",'Horizontal Calculations'!Z60,IF($C$78=\"RELATIVE\",'Horizontal Calculations'!Z58,IF($C$78=\"BLOCKS\",'Horizontal Calculations'!Z62,0)))","v":0},{"$f":"IF($C$78=\"FIXED\",'Horizontal Calculations'!AA60,IF($C$78=\"RELATIVE\",'Horizontal Calculations'!AA58,IF($C$78=\"BLOCKS\",'Horizontal Calculations'!AA62,0)))","v":0},{"$f":"IF($C$78=\"FIXED\",'Horizontal Calculations'!AB60,IF($C$78=\"RELATIVE\",'Horizontal Calculations'!AB58,IF($C$78=\"BLOCKS\",'Horizontal Calculations'!AB62,0)))","v":0},{"$f":"IF($C$78=\"FIXED\",'Horizontal Calculations'!AC60,IF($C$78=\"RELATIVE\",'Horizontal Calculations'!AC58,IF($C$78=\"BLOCKS\",'Horizontal Calculations'!AC62,0)))","v":0},{"$f":"IF($C$78=\"FIXED\",'Horizontal Calculations'!AD60,IF($C$78=\"RELATIVE\",'Horizontal Calculations'!AD58,IF($C$78=\"BLOCKS\",'Horizontal Calculations'!AD62,0)))","v":0},{"$f":"IF($C$78=\"FIXED\",'Horizontal Calculations'!AE60,IF($C$78=\"RELATIVE\",'Horizontal Calculations'!AE58,IF($C$78=\"BLOCKS\",'Horizontal Calculations'!AE62,0)))","v":0},{"$f":"IF($C$78=\"FIXED\",'Horizontal Calculations'!AF60,IF($C$78=\"RELATIVE\",'Horizontal Calculations'!AF58,IF($C$78=\"BLOCKS\",'Horizontal Calculations'!AF62,0)))","v":0},{"$f":"IF($C$78=\"FIXED\",'Horizontal Calculations'!AG60,IF($C$78=\"RELATIVE\",'Horizontal Calculations'!AG58,IF($C$78=\"BLOCKS\",'Horizontal Calculations'!AG62,0)))","v":0},{"$f":"IF($C$78=\"FIXED\",'Horizontal Calculations'!AH60,IF($C$78=\"RELATIVE\",'Horizontal Calculations'!AH58,IF($C$78=\"BLOCKS\",'Horizontal Calculations'!AH62,0)))","v":0},{"$f":"IF($C$78=\"FIXED\",'Horizontal Calculations'!AI60,IF($C$78=\"RELATIVE\",'Horizontal Calculations'!AI58,IF($C$78=\"BLOCKS\",'Horizontal Calculations'!AI62,0)))","v":0},{"$f":"IF($C$78=\"FIXED\",'Horizontal Calculations'!AJ60,IF($C$78=\"RELATIVE\",'Horizontal Calculations'!AJ58,IF($C$78=\"BLOCKS\",'Horizontal Calculations'!AJ62,0)))","v":0},{"$f":"IF($C$78=\"FIXED\",'Horizontal Calculations'!AK60,IF($C$78=\"RELATIVE\",'Horizontal Calculations'!AK58,IF($C$78=\"BLOCKS\",'Horizontal Calculations'!AK62,0)))","v":0},{"$f":"IF($C$78=\"FIXED\",'Horizontal Calculations'!AL60,IF($C$78=\"RELATIVE\",'Horizontal Calculations'!AL58,IF($C$78=\"BLOCKS\",'Horizontal Calculations'!AL62,0)))","v":0},{"$f":"IF($C$78=\"FIXED\",'Horizontal Calculations'!AM60,IF($C$78=\"RELATIVE\",'Horizontal Calculations'!AM58,IF($C$78=\"BLOCKS\",'Horizontal Calculations'!AM62,0)))","v":0},{"$f":"IF($C$78=\"FIXED\",'Horizontal Calculations'!AN60,IF($C$78=\"RELATIVE\",'Horizontal Calculations'!AN58,IF($C$78=\"BLOCKS\",'Horizontal Calculations'!AN62,0)))","v":0},{"$f":"IF($C$78=\"FIXED\",'Horizontal Calculations'!AO60,IF($C$78=\"RELATIVE\",'Horizontal Calculations'!AO58,IF($C$78=\"BLOCKS\",'Horizontal Calculations'!AO62,0)))","v":0},{"$f":"IF($C$78=\"FIXED\",'Horizontal Calculations'!AP60,IF($C$78=\"RELATIVE\",'Horizontal Calculations'!AP58,IF($C$78=\"BLOCKS\",'Horizontal Calculations'!AP62,0)))","v":0},{"$f":"IF($C$78=\"FIXED\",'Horizontal Calculations'!AQ60,IF($C$78=\"RELATIVE\",'Horizontal Calculations'!AQ58,IF($C$78=\"BLOCKS\",'Horizontal Calculations'!AQ62,0)))","v":0},{"$f":"IF($C$78=\"FIXED\",'Horizontal Calculations'!AR60,IF($C$78=\"RELATIVE\",'Horizontal Calculations'!AR58,IF($C$78=\"BLOCKS\",'Horizontal Calculations'!AR62,0)))","v":0},{"$f":"IF($C$78=\"FIXED\",'Horizontal Calculations'!AS60,IF($C$78=\"RELATIVE\",'Horizontal Calculations'!AS58,IF($C$78=\"BLOCKS\",'Horizontal Calculations'!AS62,0)))","v":0},{"$f":"IF($C$78=\"FIXED\",'Horizontal Calculations'!AT60,IF($C$78=\"RELATIVE\",'Horizontal Calculations'!AT58,IF($C$78=\"BLOCKS\",'Horizontal Calculations'!AT62,0)))","v":0},{"$f":"IF($C$78=\"FIXED\",'Horizontal Calculations'!AU60,IF($C$78=\"RELATIVE\",'Horizontal Calculations'!AU58,IF($C$78=\"BLOCKS\",'Horizontal Calculations'!AU62,0)))","v":0},{"$f":"IF($C$78=\"FIXED\",'Horizontal Calculations'!AV60,IF($C$78=\"RELATIVE\",'Horizontal Calculations'!AV58,IF($C$78=\"BLOCKS\",'Horizontal Calculations'!AV62,0)))","v":0},{"$f":"IF($C$78=\"FIXED\",'Horizontal Calculations'!AW60,IF($C$78=\"RELATIVE\",'Horizontal Calculations'!AW58,IF($C$78=\"BLOCKS\",'Horizontal Calculations'!AW62,0)))","v":0},{"$f":"IF($C$78=\"FIXED\",'Horizontal Calculations'!AX60,IF($C$78=\"RELATIVE\",'Horizontal Calculations'!AX58,IF($C$78=\"BLOCKS\",'Horizontal Calculations'!AX62,0)))","v":0},{"$f":"IF($C$78=\"FIXED\",'Horizontal Calculations'!AY60,IF($C$78=\"RELATIVE\",'Horizontal Calculations'!AY58,IF($C$78=\"BLOCKS\",'Horizontal Calculations'!AY62,0)))","v":0},{"$f":"IF($C$78=\"FIXED\",'Horizontal Calculations'!AZ60,IF($C$78=\"RELATIVE\",'Horizontal Calculations'!AZ58,IF($C$78=\"BLOCKS\",'Horizontal Calculations'!AZ62,0)))","v":0},{"$f":"IF($C$78=\"FIXED\",'Horizontal Calculations'!BA60,IF($C$78=\"RELATIVE\",'Horizontal Calculations'!BA58,IF($C$78=\"BLOCKS\",'Horizontal Calculations'!BA62,0)))","v":0}]
[]
["LABEL 8"]
["QUANTITY"]
["WIDTH (mm)",{"$nulls":3},"","","","","","","","","","","","","","","","","","","","","","","","","","","","","","","","","","","","","","","","","","","","","","","","","",""]
["HEIGHT  (mm)",{"$nulls":3},"","","","","","","","","","","","","","","","","","","","","","","","","","","","","","","","","","","","","","","","","","","","","","","","","",""]
["COLOUR","-- SELECT --",{"$f":"B84","v":0},null,"","","","","","","","","","","","","","","","","","","","","","","","","","","","","","","","","","","","","","","","","","","","","","","","","",""]
["TEXT SIZE  (mm)","AUTO",null,null,"","","","","","","","","","","","","","","","","","","","","","","","","","","","","","","","","","","","","","","","","","","","","","","","","",""]
["FIXING","-- SELECT --",null,null,"","","","","","","","","","","","","","","","","","","","","","","","","","","","","","","","","","","","","","","","","","","","","","","","","",""]
[{"$nulls":4},"I","I","I","I","I","I","I","I","I","I","I","I","I","I","I","I","I","I","I","I","I","I","I","I","I","I","I","I","I","I","I","I","I","I","I","I","I","I","I","I","I","I","I","I","I","I","I","I","I","I"]
["HOLES REQUIRED",null,"-- SELECT --"]
["HOLE SIZE  (mm)",null,{"$f":"VLOOKUP(C89,'Background Information'!$O$1:$P$4,2,FALSE)","v":0},null,{"$f":"IF($C$89=\"FIXED\",'Horizontal Calculations'!D69,IF($C$89=\"RELATIVE\",'Horizontal Calculations'!D67,IF($C$89=\"BLOCKS\",'Horizontal Calculations'!D71,0)))","v":0},{"$f":"IF($C$89=\"FIXED\",'Horizontal Calculations'!E69,IF($C$89=\"RELATIVE\",'Horizontal Calculations'!E67,IF($C$89=\"BLOCKS\",'Horizontal Calculations'!E71,0)))","v":0},{"$f":"IF($C$89=\"FIXED\",'Horizontal Calculations'!F69,IF($C$89=\"RELATIVE\",'Horizontal Calculations'!F67,IF($C$89=\"BLOCKS\",'Horizontal Calculations'!F71,0)))","v":0},{"$f":"IF($C$89=\"FIXED\",'Horizontal Calculations'!G69,IF($C$89=\"RELATIVE\",'Horizontal Calculations'!G67,IF($C$89=\"BLOCKS\",'Horizontal Calculations'!G71,0)))","v":0},{"$f":"IF($C$89=\"FIXED\",'Horizontal Calculations'!H69,IF($C$89=\"RELATIVE\",'Horizontal Calculations'!H67,IF($C$89=\"BLOCKS\",'Horizontal Calculations'!H71,0)))","v":0},{"$f":"IF($C$89=\"FIXED\",'Horizontal Calculations'!I69,IF($C$89=\"RELATIVE\",'Horizontal Calculations'!I67,IF($C$89=\"BLOCKS\",'Horizontal Calculations'!I71,0)))","v":0},{"$f":"IF($C$89=\"FIXED\",'Horizontal Calculations'!J69,IF($C$89=\"RELATIVE\",'Horizontal Calculations'!J67,IF($C$89=\"BLOCKS\",'Horizontal Calculations'!J71,0)))","v":0},{"$f":"IF($C$89=\"FIXED\",'Horizontal Calculations'!K69,IF($C$89=\"RELATIVE\",'Horizontal Calculations'!K67,IF($C$89=\"BLOCKS\",'Horizontal Calculations'!K71,0)))","v":0},{"$f":"IF($C$89=\"FIXED\",'Horizontal Calculations'!L69,IF($C$89=\"RELATIVE\",'Horizontal Calculations'!L67,IF($C$89=\"BLOCKS\",'Horizontal Calculations'!L71,0)))","v":0},{"$f":"IF($C$89=\"FIXED\",'Horizontal Calculations'!M69,IF($C$89=\"RELATIVE\",'Horizontal Calculations'!M67,IF($C$89=\"BLOCKS\",'Horizontal Calculations'!M71,0)))","v":0},{"$f":"IF($C$89=\"FIXED\",'Horizontal Calculations'!N69,IF($C$89=\"RELATIVE\",'Horizontal Calculations'!N67,IF($C$89=\"BLOCKS\",'Horizontal Calculations'!N71,0)))","v":0},{"$f":"IF($C$89=\"FIXED\",'Horizontal Calculations'!O69,IF($C$89=\"RELATIVE\",'Horizontal Calculations'!O67,IF($C$89=\"BLOCKS\",'Horizontal Calculations'!O71,0)))","v":0},{"$f":"IF($C$89=\"FIXED\",'Horizontal Calculations'!P69,IF($C$89=\"RELATIVE\",'Horizontal Calculations'!P67,IF($C$89=\"BLOCKS\",'Horizontal Calculations'!P71,0)))","v":0},{"$f":"IF($C$89=\"FIXED\",'Horizontal Calculations'!Q69,IF($C$89=\"RELATIVE\",'Horizontal Calculations'!Q67,IF($C$89=\"BLOCKS\",'Horizontal Calculations'!Q71,0)))","v":0},{"$f":"IF($C$89=\"FIXED\",'Horizontal Calculations'!R69,IF($C$89=\"RELATIVE\",'Horizontal Calculations'!R67,IF($C$89=\"BLOCKS\",'Horizontal Calculations'!R71,0)))","v":0},{"$f":"IF($C$89=\"FIXED\",'Horizontal Calculations'!S69,IF($C$89=\"RELATIVE\",'Horizontal Calculations'!S67,IF($C$89=\"BLOCKS\",'Horizontal Calculations'!S71,0)))","v":0},{"$f":"IF($C$89=\"FIXED\",'Horizontal Calculations'!T69,IF($C$89=\"RELATIVE\",'Horizontal Calculations'!T67,IF($C$89=\"BLOCKS\",'Horizontal Calculations'!T71,0)))","v":0},{"$f":"IF($C$89=\"FIXED\",'Horizontal Calculations'!U69,IF($C$89=\"RELATIVE\",'Horizontal Calculations'!U67,IF($C$89=\"BLOCKS\",'Horizontal Calculations'!U71,0)))","v":0},{"$f":"IF($C$89=\"FIXED\",'Horizontal Calculations'!V69,IF($C$89=\"RELATIVE\",'Horizontal Calculations'!V67,IF($C$89=\"BLOCKS\",'Horizontal Calculations'!V71,0)))","v":0},{"$f":"IF($C$89=\"FIXED\",'Horizontal Calculations'!W69,IF($C$89=\"RELATIVE\",'Horizontal Calculations'!W67,IF($C$89=\"BLOCKS\",'Horizontal Calculations'!W71,0)))","v":0},{"$f":"IF($C$89=\"FIXED\",'Horizontal Calculations'!X69,IF($C$89=\"RELATIVE\",'Horizontal Calculations'!X67,IF($C$89=\"BLOCKS\",'Horizontal Calculations'!X71,0)))","v":0},{"$f":"IF($C$89=\"FIXED\",'Horizontal Calculations'!Y69,IF($C$89=\"RELATIVE\",'Horizontal Calculations'!Y67,IF($C$89=\"BLOCKS\",'Horizontal Calculations'!Y71,0)))","v":0},{"$f":"IF($C$89=\"FIXED\",'Horizontal Calculations'!Z69,IF($C$89=\"RELATIVE\",'Horizontal Calculations'!Z67,IF($C$89=\"BLOCKS\",'Horizontal Calculations'!Z71,0)))","v":0},{"$f":"IF($C$89=\"FIXED\",'Horizontal Calculations'!AA69,IF($C$89=\"RELATIVE\",'Horizontal Calculations'!AA67,IF($C$89=\"BLOCKS\",'Horizontal Calculations'!AA71,0)))","v":0},{"$f":"IF($C$89=\"FIXED\",'Horizontal Calculations'!AB69,IF($C$89=\"RELATIVE\",'Horizontal Calculations'!AB67,IF($C$89=\"BLOCKS\",'Horizontal Calculations'!AB71,0)))","v":0},{"$f":"IF($C$89=\"FIXED\",'Horizontal Calculations'!AC69,IF($C$89=\"RELATIVE\",'Horizontal Calculations'!AC67,IF($C$89=\"BLOCKS\",'Horizontal Calculations'!AC71,0)))","v":0},{"$f":"IF($C$89=\"FIXED\",'Horizontal Calculations'!AD69,IF($C$89=\"RELATIVE\",'Horizontal Calculations'!AD67,IF($C$89=\"BLOCKS\",'Horizontal Calculations'!AD71,0)))","v":0},{"$f":"IF($C$89=\"FIXED\",'Horizontal Calculations'!AE69,IF($C$89=\"RELATIVE\",'Horizontal Calculations'!AE67,IF($C$89=\"BLOCKS\",'Horizontal Calculations'!AE71,0)))","v":0},{"$f":"IF($C$89=\"FIXED\",'Horizontal Calculations'!AF69,IF($C$89=\"RELATIVE\",'Horizontal Calculations'!AF67,IF($C$89=\"BLOCKS\",'Horizontal Calculations'!AF71,0)))","v":0},{"$f":"IF($C$89=\"FIXED\",'Horizontal Calculations'!AG69,IF($C$89=\"RELATIVE\",'Horizontal Calculations'!AG67,IF($C$89=\"BLOCKS\",'Horizontal Calculations'!AG71,0)))","v":0},{"$f":"IF($C$89=\"FIXED\",'Horizontal Calculations'!AH69,IF($C$89=\"RELATIVE\",'Horizontal Calculations'!AH67,IF($C$89=\"BLOCKS\",'Horizontal Calculations'!AH71,0)))","v":0},{"$f":"IF($C$89=\"FIXED\",'Horizontal Calculations'!AI69,IF($C$89=\"RELATIVE\",'Horizontal Calculations'!AI67,IF($C$89=\"BLOCKS\",'Horizontal Calculations'!AI71,0)))","v":0},{"$f":"IF($C$89=\"FIXED\",'Horizontal Calculations'!AJ69,IF($C$89=\"RELATIVE\",'Horizontal Calculations'!AJ67,IF($C$89=\"BLOCKS\",'Horizontal Calculations'!AJ71,0)))","v":0},{"$f":"IF($C$89=\"FIXED\",'Horizontal Calculations'!AK69,IF($C$89=\"RELATIVE\",'Horizontal Calculations'!AK67,IF($C$89=\"BLOCKS\",'Horizontal Calculations'!AK71,0)))","v":0},{"$f":"IF($C$89=\"FIXED\",'Horizontal Calculations'!AL69,IF($C$89=\"RELATIVE\",'Horizontal Calculations'!AL67,IF($C$89=\"BLOCKS\",'Horizontal Calculations'!AL71,0)))","v":0},{"$f":"IF($C$89=\"FIXED\",'Horizontal Calculations'!AM69,IF($C$89=\"RELATIVE\",'Horizontal Calculations'!AM67,IF($C$89=\"BLOCKS\",'Horizontal Calculations'!AM71,0)))","v":0},{"$f":"IF($C$89=\"FIXED\",'Horizontal Calculations'!AN69,IF($C$89=\"RELATIVE\",'Horizontal Calculations'!AN67,IF($C$89=\"BLOCKS\",'Horizontal Calculations'!AN71,0)))","v":0},{"$f":"IF($C$89=\"FIXED\",'Horizontal Calculations'!AO69,IF($C$89=\"RELATIVE\",'Horizontal Calculations'!AO67,IF($C$89=\"BLOCKS\",'Horizontal Calculations'!AO71,0)))","v":0},{"$f":"IF($C$89=\"FIXED\",'Horizontal Calculations'!AP69,IF($C$89=\"RELATIVE\",'Horizontal Calculations'!AP67,IF($C$89=\"BLOCKS\",'Horizontal Calculations'!AP71,0)))","v":0},{"$f":"IF($C$89=\"FIXED\",'Horizontal Calculations'!AQ69,IF($C$89=\"RELATIVE\",'Horizontal Calculations'!AQ67,IF($C$89=\"BLOCKS\",'Horizontal Calculations'!AQ71,0)))","v":0},{"$f":"IF($C$89=\"FIXED\",'Horizontal Calculations'!AR69,IF($C$89=\"RELATIVE\",'Horizontal Calculations'!AR67,IF($C$89=\"BLOCKS\",'Horizontal Calculations'!AR71,0)))","v":0},{"$f":"IF($C$89=\"FIXED\",'Horizontal Calculations'!AS69,IF($C$89=\"RELATIVE\",'Horizontal Calculations'!AS67,IF($C$89=\"BLOCKS\",'Horizontal Calculations'!AS71,0)))","v":0},{"$f":"IF($C$89=\"FIXED\",'Horizontal Calculations'!AT69,IF($C$89=\"RELATIVE\",'Horizontal Calculations'!AT67,IF($C$89=\"BLOCKS\",'Horizontal Calculations'!AT71,0)))","v":0},{"$f":"IF($C$89=\"FIXED\",'Horizontal Calculations'!AU69,IF($C$89=\"RELATIVE\",'Horizontal Calculations'!AU67,IF($C$89=\"BLOCKS\",'Horizontal Calculations'!AU71,0)))","v":0},{"$f":"IF($C$89=\"FIXED\",'Horizontal Calculations'!AV69,IF($C$89=\"RELATIVE\",'Horizontal Calculations'!AV67,IF($C$89=\"BLOCKS\",'Horizontal Calculations'!AV71,0)))","v":0},{"$f":"IF($C$89=\"FIXED\",'Horizontal Calculations'!AW69,IF($C$89=\"RELATIVE\",'Horizontal Calculations'!AW67,IF($C$89=\"BLOCKS\",'Horizontal Calculations'!AW71,0)))","v":0},{"$f":"IF($C$89=\"FIXED\",'Horizontal Calculations'!AX69,IF($C$89=\"RELATIVE\",'Horizontal Calculations'!AX67,IF($C$89=\"BLOCKS\",'Horizontal Calculations'!AX71,0)))","v":0},{"$f":"IF($C$89=\"FIXED\",'Horizontal Calculations'!AY69,IF($C$89=\"RELATIVE\",'Horizontal Calculations'!AY67,IF($C$89=\"BLOCKS\",'Horizontal Calculations'!AY71,0)))","v":0},{"$f":"IF($C$89=\"FIXED\",'Horizontal Calculations'!AZ69,IF($C$89=\"RELATIVE\",'Horizontal Calculations'!AZ67,IF($C$89=\"BLOCKS\",'Horizontal Calculations'!AZ71,0)))","v":0},{"$f":"IF($C$89=\"FIXED\",'Horizontal Calculations'!BA69,IF($C$89=\"RELATIVE\",'Horizontal Calculations'!BA67,IF($C$89=\"BLOCKS\",'Horizontal Calculations'!BA71,0)))","v":0}]
[]
["LABEL 9"]
["QUANTITY"]
["WIDTH (mm)",{"$nulls":3},"","","","","","","","","","","","","","","","","","","","","","","","","","","","","","","","","","","","","","","","","","","","","","","","","",""]
["HEIGHT  (mm)",{"$nulls":3},"","","","","","","","","","","","","","","","","","","","","","","","","","","","","","","","","","","","","","","","","","","","","","","","","",""]
["COLOUR","-- SELECT --",{"$f":"B95","v":0},null,"","","","","","","","","","","","","","","","","","","","","","","","","","","","","","","","","","","","","","","","","","","","","","","","","",""]
["TEXT SIZE  (mm)","AUTO",null,null,"","","","","","","","","","","","","","","","","","","","","","","","","","","","","","","","","","","","","","","","","","","","","","","","","",""]
["FIXING","-- SELECT --",null,null,"","","","","","","","","","","","","","","","","","","","","","","","","","","","","","","","","","","","","","","","","","","","","","","","","",""]
[{"$nulls":4},"I","I","I","I","I","I","I","I","I","I","I","I","I","I","I","I","I","I","I","I","I","I","I","I","I","I","I","I","I","I","I","I","I","I","I","I","I","I","I","I","I","I","I","I","I","I","I","I","I","I"]
["HOLES REQUIRED",null,"-- SELECT --"]
["HOLE SIZE  (mm)",null,{"$f":"VLOOKUP(C100,'Background Information'!$O$1:$P$4,2,FALSE)","v":0},null,{"$f":"IF($C$100=\"FIXED\",'Horizontal Calculations'!D78,IF($C$100=\"RELATIVE\",'Horizontal Calculations'!D76,IF($C$100=\"BLOCKS\",'Horizontal Calculations'!D80,0)))","v":0},{"$f":"IF($C$100=\"FIXED\",'Horizontal Calculations'!E78,IF($C$100=\"RELATIVE\",'Horizontal Calculations'!E76,IF($C$100=\"BLOCKS\",'Horizontal Calculations'!E80,0)))","v":0},{"$f":"IF($C$100=\"FIXED\",'Horizontal Calculations'!F78,IF($C$100=\"RELATIVE\",'Horizontal Calculations'!F76,IF($C$100=\"BLOCKS\",'Horizontal Calculations'!F80,0)))","v":0},{"$f":"IF($C$100=\"FIXED\",'Horizontal Calculations'!G78,IF($C$100=\"RELATIVE\",'Horizontal Calculations'!G76,IF($C$100=\"BLOCKS\",'Horizontal Calculations'!G80,0)))","v":0},{"$f":"IF($C$100=\"FIXED\",'Horizontal Calculations'!H78,IF($C$100=\"RELATIVE\",'Horizontal Calculations'!H76,IF($C$100=\"BLOCKS\",'Horizontal Calculations'!H80,0)))","v":0},{"$f":"IF($C$100=\"FIXED\",'Horizontal Calculations'!I78,IF($C$100=\"RELATIVE\",'Horizontal Calculations'!I76,IF($C$100=\"BLOCKS\",'Horizontal Calculations'!I80,0)))","v":0},{"$f":"IF($C$100=\"FIXED\",'Horizontal Calculations'!J78,IF($C$100=\"RELATIVE\",'Horizontal Calculations'!J76,IF($C$100=\"BLOCKS\",'Horizontal Calculations'!J80,0)))","v":0},{"$f":"IF($C$100=\"FIXED\",'Horizontal Calculations'!K78,IF($C$100=\"RELATIVE\",'Horizontal Calculations'!K76,IF($C$100=\"BLOCKS\",'Horizontal Calculations'!K80,0)))","v":0},{"$f":"IF($C$100=\"FIXED\",'Horizontal Calculations'!L78,IF($C$100=\"RELATIVE\",'Horizontal Calculations'!L76,IF($C$100=\"BLOCKS\",'Horizontal Calculations'!L80,0)))","v":0},{"$f":"IF($C$100=\"FIXED\",'Horizontal Calculations'!M78,IF($C$100=\"RELATIVE\",'Horizontal Calculations'!M76,IF($C$100=\"BLOCKS\",'Horizontal Calculations'!M80,0)))","v":0},{"$f":"IF($C$100=\"FIXED\",'Horizontal Calculations'!N78,IF($C$100=\"RELATIVE\",'Horizontal Calculations'!N76,IF($C$100=\"BLOCKS\",'Horizontal Calculations'!N80,0)))","v":0},{"$f":"IF($C$100=\"FIXED\",'Horizontal Calculations'!O78,IF($C$100=\"RELATIVE\",'Horizontal Calculations'!O76,IF($C$100=\"BLOCKS\",'Horizontal Calculations'!O80,0)))","v":0},{"$f":"IF($C$100=\"FIXED\",'Horizontal Calculations'!P78,IF($C$100=\"RELATIVE\",'Horizontal Calculations'!P76,IF($C$100=\"BLOCKS\",'Horizontal Calculations'!P80,0)))","v":0},{"$f":"IF($C$100=\"FIXED\",'Horizontal Calculations'!Q78,IF($C$100=\"RELATIVE\",'Horizontal Calculations'!Q76,IF($C$100=\"BLOCKS\",'Horizontal Calculations'!Q80,0)))","v":0},{"$f":"IF($C$100=\"FIXED\",'Horizontal Calculations'!R78,IF($C$100=\"RELATIVE\",'Horizontal Calculations'!R76,IF($C$100=\"BLOCKS\",'Horizontal Calculations'!R80,0)))","v":0},{"$f":"IF($C$100=\"FIXED\",'Horizontal Calculations'!S78,IF($C$100=\"RELATIVE\",'Horizontal Calculations'!S76,IF($C$100=\"BLOCKS\",'Horizontal Calculations'!S80,0)))","v":0},{"$f":"IF($C$100=\"FIXED\",'Horizontal Calculations'!T78,IF($C$100=\"RELATIVE\",'Horizontal Calculations'!T76,IF($C$100=\"BLOCKS\",'Horizontal Calculations'!T80,0)))","v":0},{"$f":"IF($C$100=\"FIXED\",'Horizontal Calculations'!U78,IF($C$100=\"RELATIVE\",'Horizontal Calculations'!U76,IF($C$100=\"BLOCKS\",'Horizontal Calculations'!U80,0)))","v":0},{"$f":"IF($C$100=\"FIXED\",'Horizontal Calculations'!V78,IF($C$100=\"RELATIVE\",'Horizontal Calculations'!V76,IF($C$100=\"BLOCKS\",'Horizontal Calculations'!V80,0)))","v":0},{"$f":"IF($C$100=\"FIXED\",'Horizontal Calculations'!W78,IF($C$100=\"RELATIVE\",'Horizontal Calculations'!W76,IF($C$100=\"BLOCKS\",'Horizontal Calculations'!W80,0)))","v":0},{"$f":"IF($C$100=\"FIXED\",'Horizontal Calculations'!X78,IF($C$100=\"RELATIVE\",'Horizontal Calculations'!X76,IF($C$100=\"BLOCKS\",'Horizontal Calculations'!X80,0)))","v":0},{"$f":"IF($C$100=\"FIXED\",'Horizontal Calculations'!Y78,IF($C$100=\"RELATIVE\",'Horizontal Calculations'!Y76,IF($C$100=\"BLOCKS\",'Horizontal Calculations'!Y80,0)))","v":0},{"$f":"IF($C$100=\"FIXED\",'Horizontal Calculations'!Z78,IF($C$100=\"RELATIVE\",'Horizontal Calculations'!Z76,IF($C$100=\"BLOCKS\",'Horizontal Calculations'!Z80,0)))","v":0},{"$f":"IF($C$100=\"FIXED\",'Horizontal Calculations'!AA78,IF($C$100=\"RELATIVE\",'Horizontal Calculations'!AA76,IF($C$100=\"BLOCKS\",'Horizontal Calculations'!AA80,0)))","v":0},{"$f":"IF($C$100=\"FIXED\",'Horizontal Calculations'!AB78,IF($C$100=\"RELATIVE\",'Horizontal Calculations'!AB76,IF($C$100=\"BLOCKS\",'Horizontal Calculations'!AB80,0)))","v":0},{"$f":"IF($C$100=\"FIXED\",'Horizontal Calculations'!AC78,IF($C$100=\"RELATIVE\",'Horizontal Calculations'!AC76,IF($C$100=\"BLOCKS\",'Horizontal Calculations'!AC80,0)))","v":0},{"$f":"IF($C$100=\"FIXED\",'Horizontal Calculations'!AD78,IF($C$100=\"RELATIVE\",'Horizontal Calculations'!AD76,IF($C$100=\"BLOCKS\",'Horizontal Calculations'!AD80,0)))","v":0},{"$f":"IF($C$100=\"FIXED\",'Horizontal Calculations'!AE78,IF($C$100=\"RELATIVE\",'Horizontal Calculations'!AE76,IF($C$100=\"BLOCKS\",'Horizontal Calculations'!AE80,0)))","v":0},{"$f":"IF($C$100=\"FIXED\",'Horizontal Calculations'!AF78,IF($C$100=\"RELATIVE\",'Horizontal Calculations'!AF76,IF($C$100=\"BLOCKS\",'Horizontal Calculations'!AF80,0)))","v":0},{"$f":"IF($C$100=\"FIXED\",'Horizontal Calculations'!AG78,IF($C$100=\"RELATIVE\",'Horizontal Calculations'!AG76,IF($C$100=\"BLOCKS\",'Horizontal Calculations'!AG80,0)))","v":0},{"$f":"IF($C$100=\"FIXED\",'Horizontal Calculations'!AH78,IF($C$100=\"RELATIVE\",'Horizontal Calculations'!AH76,IF($C$100=\"BLOCKS\",'Horizontal Calculations'!AH80,0)))","v":0},{"$f":"IF($C$100=\"FIXED\",'Horizontal Calculations'!AI78,IF($C$100=\"RELATIVE\",'Horizontal Calculations'!AI76,IF($C$100=\"BLOCKS\",'Horizontal Calculations'!AI80,0)))","v":0},{"$f":"IF($C$100=\"FIXED\",'Horizontal Calculations'!AJ78,IF($C$100=\"RELATIVE\",'Horizontal Calculations'!AJ76,IF($C$100=\"BLOCKS\",'Horizontal Calculations'!AJ80,0)))","v":0},{"$f":"IF($C$100=\"FIXED\",'Horizontal Calculations'!AK78,IF($C$100=\"RELATIVE\",'Horizontal Calculations'!AK76,IF($C$100=\"BLOCKS\",'Horizontal Calculations'!AK80,0)))","v":0},{"$f":"IF($C$100=\"FIXED\",'Horizontal Calculations'!AL78,IF($C$100=\"RELATIVE\",'Horizontal Calculations'!AL76,IF($C$100=\"BLOCKS\",'Horizontal Calculations'!AL80,0)))","v":0},{"$f":"IF($C$100=\"FIXED\",'Horizontal Calculations'!AM78,IF($C$100=\"RELATIVE\",'Horizontal Calculations'!AM76,IF($C$100=\"BLOCKS\",'Horizontal Calculations'!AM80,0)))","v":0},{"$f":"IF($C$100=\"FIXED\",'Horizontal Calculations'!AN78,IF($C$100=\"RELATIVE\",'Horizontal Calculations'!AN76,IF($C$100=\"BLOCKS\",'Horizontal Calculations'!AN80,0)))","v":0},{"$f":"IF($C$100=\"FIXED\",'Horizontal Calculations'!AO78,IF($C$100=\"RELATIVE\",'Horizontal Calculations'!AO76,IF($C$100=\"BLOCKS\",'Horizontal Calculations'!AO80,0)))","v":0},{"$f":"IF($C$100=\"FIXED\",'Horizontal Calculations'!AP78,IF($C$100=\"RELATIVE\",'Horizontal Calculations'!AP76,IF($C$100=\"BLOCKS\",'Horizontal Calculations'!AP80,0)))","v":0},{"$f":"IF($C$100=\"FIXED\",'Horizontal Calculations'!AQ78,IF($C$100=\"RELATIVE\",'Horizontal Calculations'!AQ76,IF($C$100=\"BLOCKS\",'Horizontal Calculations'!AQ80,0)))","v":0},{"$f":"IF($C$100=\"FIXED\",'Horizontal Calculations'!AR78,IF($C$100=\"RELATIVE\",'Horizontal Calculations'!AR76,IF($C$100=\"BLOCKS\",'Horizontal Calculations'!AR80,0)))","v":0},{"$f":"IF($C$100=\"FIXED\",'Horizontal Calculations'!AS78,IF($C$100=\"RELATIVE\",'Horizontal Calculations'!AS76,IF($C$100=\"BLOCKS\",'Horizontal Calculations'!AS80,0)))","v":0},{"$f":"IF($C$100=\"FIXED\",'Horizontal Calculations'!AT78,IF($C$100=\"RELATIVE\",'Horizontal Calculations'!AT76,IF($C$100=\"BLOCKS\",'Horizontal Calculations'!AT80,0)))","v":0},{"$f":"IF($C$100=\"FIXED\",'Horizontal Calculations'!AU78,IF($C$100=\"RELATIVE\",'Horizontal Calculations'!AU76,IF($C$100=\"BLOCKS\",'Horizontal Calculations'!AU80,0)))","v":0},{"$f":"IF($C$100=\"FIXED\",'Horizontal Calculations'!AV78,IF($C$100=\"RELATIVE\",'Horizontal Calculations'!AV76,IF($C$100=\"BLOCKS\",'Horizontal Calculations'!AV80,0)))","v":0},{"$f":"IF($C$100=\"FIXED\",'Horizontal Calculations'!AW78,IF($C$100=\"RELATIVE\",'Horizontal Calculations'!AW76,IF($C$100=\"BLOCKS\",'Horizontal Calculations'!AW80,0)))","v":0},{"$f":"IF($C$100=\"FIXED\",'Horizontal Calculations'!AX78,IF($C$100=\"RELATIVE\",'Horizontal Calculations'!AX76,IF($C$100=\"BLOCKS\",'Horizontal Calculations'!AX80,0)))","v":0},{"$f":"IF($C$100=\"FIXED\",'Horizontal Calculations'!AY78,IF($C$100=\"RELATIVE\",'Horizontal Calculations'!AY76,IF($C$100=\"BLOCKS\",'Horizontal Calculations'!AY80,0)))","v":0},{"$f":"IF($C$100=\"FIXED\",'Horizontal Calculations'!AZ78,IF($C$100=\"RELATIVE\",'Horizontal Calculations'!AZ76,IF($C$100=\"BLOCKS\",'Horizontal Calculations'!AZ80,0)))","v":0},{"$f":"IF($C$100=\"FIXED\",'Horizontal Calculations'!BA78,IF($C$100=\"RELATIVE\",'Horizontal Calculations'!BA76,IF($C$100=\"BLOCKS\",'Horizontal Calculations'!BA80,0)))","v":0}]
[]
["LABEL 10"]
["QUANTITY"]
["WIDTH (mm)",{"$nulls":3},"","","","","","","","","","","","","","","","","","","","","","","","","","","","","","","","","","","","","","","","","","","","","","","","","",""]
["HEIGHT  (mm)",{"$nulls":3},"","","","","","","","","","","","","","","","","","","","","","","","","","","","","","","","","","","","","","","","","","","","","","","","","",""]
["COLOUR","-- SELECT --",{"$f":"B106","v":0},null,"","","","","","","","","","","","","","","","","","","","","","","","","","","","","","","","","","","","","","","","","","","","","","","","","",""]
["TEXT SIZE  (mm)","AUTO",null,null,"","","","","","","","","","","","","","","","","","","","","","","","","","","","","","","","","","","","","","","","","","","","","","","","","",""]
["FIXING","-- SELECT --",null,null,"","","","","","","","","","","","","","","","","","","","","","","","","","","","","","","","","","","","","","","","","","","","","","","","","",""]
[{"$nulls":4},"I","I","I","I","I","I","I","I","I","I","I","I","I","I","I","I","I","I","I","I","I","I","I","I","I","I","I","I","I","I","I","I","I","I","I","I","I","I","I","I","I","I","I","I","I","I","I","I","I","I"]
["HOLES REQUIRED",null,"-- SELECT --"]
["HOLE SIZE  (mm)",null,{"$f":"VLOOKUP(C111,'Background Information'!$O$1:$P$4,2,FALSE)","v":0},null,{"$f":"IF($C$111=\"FIXED\",'Horizontal Calculations'!D87,IF($C$111=\"RELATIVE\",'Horizontal Calculations'!D85,IF($C$111=\"BLOCKS\",'Horizontal Calculations'!D89,0)))","v":0},{"$f":"IF($C$111=\"FIXED\",'Horizontal Calculations'!E87,IF($C$111=\"RELATIVE\",'Horizontal Calculations'!E85,IF($C$111=\"BLOCKS\",'Horizontal Calculations'!E89,0)))","v":0},{"$f":"IF($C$111=\"FIXED\",'Horizontal Calculations'!F87,IF($C$111=\"RELATIVE\",'Horizontal Calculations'!F85,IF($C$111=\"BLOCKS\",'Horizontal Calculations'!F89,0)))","v":0},{"$f":"IF($C$111=\"FIXED\",'Horizontal Calculations'!G87,IF($C$111=\"RELATIVE\",'Horizontal Calculations'!G85,IF($C$111=\"BLOCKS\",'Horizontal Calculations'!G89,0)))","v":0},{"$f":"IF($C$111=\"FIXED\",'Horizontal Calculations'!H87,IF($C$111=\"RELATIVE\",'Horizontal Calculations'!H85,IF($C$111=\"BLOCKS\",'Horizontal Calculations'!H89,0)))","v":0},{"$f":"IF($C$111=\"FIXED\",'Horizontal Calculations'!I87,IF($C$111=\"RELATIVE\",'Horizontal Calculations'!I85,IF($C$111=\"BLOCKS\",'Horizontal Calculations'!I89,0)))","v":0},{"$f":"IF($C$111=\"FIXED\",'Horizontal Calculations'!J87,IF($C$111=\"RELATIVE\",'Horizontal Calculations'!J85,IF($C$111=\"BLOCKS\",'Horizontal Calculations'!J89,0)))","v":0},{"$f":"IF($C$111=\"FIXED\",'Horizontal Calculations'!K87,IF($C$111=\"RELATIVE\",'Horizontal Calculations'!K85,IF($C$111=\"BLOCKS\",'Horizontal Calculations'!K89,0)))","v":0},{"$f":"IF($C$111=\"FIXED\",'Horizontal Calculations'!L87,IF($C$111=\"RELATIVE\",'Horizontal Calculations'!L85,IF($C$111=\"BLOCKS\",'Horizontal Calculations'!L89,0)))","v":0},{"$f":"IF($C$111=\"FIXED\",'Horizontal Calculations'!M87,IF($C$111=\"RELATIVE\",'Horizontal Calculations'!M85,IF($C$111=\"BLOCKS\",'Horizontal Calculations'!M89,0)))","v":0},{"$f":"IF($C$111=\"FIXED\",'Horizontal Calculations'!N87,IF($C$111=\"RELATIVE\",'Horizontal Calculations'!N85,IF($C$111=\"BLOCKS\",'Horizontal Calculations'!N89,0)))","v":0},{"$f":"IF($C$111=\"FIXED\",'Horizontal Calculations'!O87,IF($C$111=\"RELATIVE\",'Horizontal Calculations'!O85,IF($C$111=\"BLOCKS\",'Horizontal Calculations'!O89,0)))","v":0},{"$f":"IF($C$111=\"FIXED\",'Horizontal Calculations'!P87,IF($C$111=\"RELATIVE\",'Horizontal Calculations'!P85,IF($C$111=\"BLOCKS\",'Horizontal Calculations'!P89,0)))","v":0},{"$f":"IF($C$111=\"FIXED\",'Horizontal Calculations'!Q87,IF($C$111=\"RELATIVE\",'Horizontal Calculations'!Q85,IF($C$111=\"BLOCKS\",'Horizontal Calculations'!Q89,0)))","v":0},{"$f":"IF($C$111=\"FIXED\",'Horizontal Calculations'!R87,IF($C$111=\"RELATIVE\",'Horizontal Calculations'!R85,IF($C$111=\"BLOCKS\",'Horizontal Calculations'!R89,0)))","v":0},{"$f":"IF($C$111=\"FIXED\",'Horizontal Calculations'!S87,IF($C$111=\"RELATIVE\",'Horizontal Calculations'!S85,IF($C$111=\"BLOCKS\",'Horizontal Calculations'!S89,0)))","v":0},{"$f":"IF($C$111=\"FIXED\",'Horizontal Calculations'!T87,IF($C$111=\"RELATIVE\",'Horizontal Calculations'!T85,IF($C$111=\"BLOCKS\",'Horizontal Calculations'!T89,0)))","v":0},{"$f":"IF($C$111=\"FIXED\",'Horizontal Calculations'!U87,IF($C$111=\"RELATIVE\",'Horizontal Calculations'!U85,IF($C$111=\"BLOCKS\",'Horizontal Calculations'!U89,0)))","v":0},{"$f":"IF($C$111=\"FIXED\",'Horizontal Calculations'!V87,IF($C$111=\"RELATIVE\",'Horizontal Calculations'!V85,IF($C$111=\"BLOCKS\",'Horizontal Calculations'!V89,0)))","v":0},{"$f":"IF($C$111=\"FIXED\",'Horizontal Calculations'!W87,IF($C$111=\"RELATIVE\",'Horizontal Calculations'!W85,IF($C$111=\"BLOCKS\",'Horizontal Calculations'!W89,0)))","v":0},{"$f":"IF($C$111=\"FIXED\",'Horizontal Calculations'!X87,IF($C$111=\"RELATIVE\",'Horizontal Calculations'!X85,IF($C$111=\"BLOCKS\",'Horizontal Calculations'!X89,0)))","v":0},{"$f":"IF($C$111=\"FIXED\",'Horizontal Calculations'!Y87,IF($C$111=\"RELATIVE\",'Horizontal Calculations'!Y85,IF($C$111=\"BLOCKS\",'Horizontal Calculations'!Y89,0)))","v":0},{"$f":"IF($C$111=\"FIXED\",'Horizontal Calculations'!Z87,IF($C$111=\"RELATIVE\",'Horizontal Calculations'!Z85,IF($C$111=\"BLOCKS\",'Horizontal Calculations'!Z89,0)))","v":0},{"$f":"IF($C$111=\"FIXED\",'Horizontal Calculations'!AA87,IF($C$111=\"RELATIVE\",'Horizontal Calculations'!AA85,IF($C$111=\"BLOCKS\",'Horizontal Calculations'!AA89,0)))","v":0},{"$f":"IF($C$111=\"FIXED\",'Horizontal Calculations'!AB87,IF($C$111=\"RELATIVE\",'Horizontal Calculations'!AB85,IF($C$111=\"BLOCKS\",'Horizontal Calculations'!AB89,0)))","v":0},{"$f":"IF($C$111=\"FIXED\",'Horizontal Calculations'!AC87,IF($C$111=\"RELATIVE\",'Horizontal Calculations'!AC85,IF($C$111=\"BLOCKS\",'Horizontal Calculations'!AC89,0)))","v":0},{"$f":"IF($C$111=\"FIXED\",'Horizontal Calculations'!AD87,IF($C$111=\"RELATIVE\",'Horizontal Calculations'!AD85,IF($C$111=\"BLOCKS\",'Horizontal Calculations'!AD89,0)))","v":0},{"$f":"IF($C$111=\"FIXED\",'Horizontal Calculations'!AE87,IF($C$111=\"RELATIVE\",'Horizontal Calculations'!AE85,IF($C$111=\"BLOCKS\",'Horizontal Calculations'!AE89,0)))","v":0},{"$f":"IF($C$111=\"FIXED\",'Horizontal Calculations'!AF87,IF($C$111=\"RELATIVE\",'Horizontal Calculations'!AF85,IF($C$111=\"BLOCKS\",'Horizontal Calculations'!AF89,0)))","v":0},{"$f":"IF($C$111=\"FIXED\",'Horizontal Calculations'!AG87,IF($C$111=\"RELATIVE\",'Horizontal Calculations'!AG85,IF($C$111=\"BLOCKS\",'Horizontal Calculations'!AG89,0)))","v":0},{"$f":"IF($C$111=\"FIXED\",'Horizontal Calculations'!AH87,IF($C$111=\"RELATIVE\",'Horizontal Calculations'!AH85,IF($C$111=\"BLOCKS\",'Horizontal Calculations'!AH89,0)))","v":0},{"$f":"IF($C$111=\"FIXED\",'Horizontal Calculations'!AI87,IF($C$111=\"RELATIVE\",'Horizontal Calculations'!AI85,IF($C$111=\"BLOCKS\",'Horizontal Calculations'!AI89,0)))","v":0},{"$f":"IF($C$111=\"FIXED\",'Horizontal Calculations'!AJ87,IF($C$111=\"RELATIVE\",'Horizontal Calculations'!AJ85,IF($C$111=\"BLOCKS\",'Horizontal Calculations'!AJ89,0)))","v":0},{"$f":"IF($C$111=\"FIXED\",'Horizontal Calculations'!AK87,IF($C$111=\"RELATIVE\",'Horizontal Calculations'!AK85,IF($C$111=\"BLOCKS\",'Horizontal Calculations'!AK89,0)))","v":0},{"$f":"IF($C$111=\"FIXED\",'Horizontal Calculations'!AL87,IF($C$111=\"RELATIVE\",'Horizontal Calculations'!AL85,IF($C$111=\"BLOCKS\",'Horizontal Calculations'!AL89,0)))","v":0},{"$f":"IF($C$111=\"FIXED\",'Horizontal Calculations'!AM87,IF($C$111=\"RELATIVE\",'Horizontal Calculations'!AM85,IF($C$111=\"BLOCKS\",'Horizontal Calculations'!AM89,0)))","v":0},{"$f":"IF($C$111=\"FIXED\",'Horizontal Calculations'!AN87,IF($C$111=\"RELATIVE\",'Horizontal Calculations'!AN85,IF($C$111=\"BLOCKS\",'Horizontal Calculations'!AN89,0)))","v":0},{"$f":"IF($C$111=\"FIXED\",'Horizontal Calculations'!AO87,IF($C$111=\"RELATIVE\",'Horizontal Calculations'!AO85,IF($C$111=\"BLOCKS\",'Horizontal Calculations'!AO89,0)))","v":0},{"$f":"IF($C$111=\"FIXED\",'Horizontal Calculations'!AP87,IF($C$111=\"RELATIVE\",'Horizontal Calculations'!AP85,IF($C$111=\"BLOCKS\",'Horizontal Calculations'!AP89,0)))","v":0},{"$f":"IF($C$111=\"FIXED\",'Horizontal Calculations'!AQ87,IF($C$111=\"RELATIVE\",'Horizontal Calculations'!AQ85,IF($C$111=\"BLOCKS\",'Horizontal Calculations'!AQ89,0)))","v":0},{"$f":"IF($C$111=\"FIXED\",'Horizontal Calculations'!AR87,IF($C$111=\"RELATIVE\",'Horizontal Calculations'!AR85,IF($C$111=\"BLOCKS\",'Horizontal Calculations'!AR89,0)))","v":0},{"$f":"IF($C$111=\"FIXED\",'Horizontal Calculations'!AS87,IF($C$111=\"RELATIVE\",'Horizontal Calculations'!AS85,IF($C$111=\"BLOCKS\",'Horizontal Calculations'!AS89,0)))","v":0},{"$f":"IF($C$111=\"FIXED\",'Horizontal Calculations'!AT87,IF($C$111=\"RELATIVE\",'Horizontal Calculations'!AT85,IF($C$111=\"BLOCKS\",'Horizontal Calculations'!AT89,0)))","v":0},{"$f":"IF($C$111=\"FIXED\",'Horizontal Calculations'!AU87,IF($C$111=\"RELATIVE\",'Horizontal Calculations'!AU85,IF($C$111=\"BLOCKS\",'Horizontal Calculations'!AU89,0)))","v":0},{"$f":"IF($C$111=\"FIXED\",'Horizontal Calculations'!AV87,IF($C$111=\"RELATIVE\",'Horizontal Calculations'!AV85,IF($C$111=\"BLOCKS\",'Horizontal Calculations'!AV89,0)))","v":0},{"$f":"IF($C$111=\"FIXED\",'Horizontal Calculations'!AW87,IF($C$111=\"RELATIVE\",'Horizontal Calculations'!AW85,IF($C$111=\"BLOCKS\",'Horizontal Calculations'!AW89,0)))","v":0},{"$f":"IF($C$111=\"FIXED\",'Horizontal Calculations'!AX87,IF($C$111=\"RELATIVE\",'Horizontal Calculations'!AX85,IF($C$111=\"BLOCKS\",'Horizontal Calculations'!AX89,0)))","v":0},{"$f":"IF($C$111=\"FIXED\",'Horizontal Calculations'!AY87,IF($C$111=\"RELATIVE\",'Horizontal Calculations'!AY85,IF($C$111=\"BLOCKS\",'Horizontal Calculations'!AY89,0)))","v":0},{"$f":"IF($C$111=\"FIXED\",'Horizontal Calculations'!AZ87,IF($C$111=\"RELATIVE\",'Horizontal Calculations'!AZ85,IF($C$111=\"BLOCKS\",'Horizontal Calculations'!AZ89,0)))","v":0},{"$f":"IF($C$111=\"FIXED\",'Horizontal Calculations'!BA87,IF($C$111=\"RELATIVE\",'Horizontal Calculations'!BA85,IF($C$111=\"BLOCKS\",'Horizontal Calculations'!BA89,0)))","v":0}]
[]
["LABEL 11"]
["QUANTITY"]
["WIDTH (mm)",{"$nulls":3},"","","","","","","","","","","","","","","","","","","","","","","","","","","","","","","","","","","","","","","","","","","","","","","","","",""]
["HEIGHT  (mm)",{"$nulls":3},"","","","","","","","","","","","","","","","","","","","","","","","","","","","","","","","","","","","","","","","","","","","","","","","","",""]
["COLOUR","-- SELECT --",{"$f":"B117","v":0},null,"","","","","","","","","","","","","","","","","","","","","","","","","","","","","","","","","","","","","","","","","","","","","","","","","",""]
["TEXT SIZE  (mm)","AUTO",null,null,"","","","","","","","","","","","","","","","","","","","","","","","","","","","","","","","","","","","","","","","","","","","","","","","","",""]
["FIXING","-- SELECT --",null,null,"","","","","","","","","","","","","","","","","","","","","","","","","","","","","","","","","","","","","","","","","","","","","","","","","",""]
[{"$nulls":4},"I","I","I","I","I","I","I","I","I","I","I","I","I","I","I","I","I","I","I","I","I","I","I","I","I","I","I","I","I","I","I","I","I","I","I","I","I","I","I","I","I","I","I","I","I","I","I","I","I","I"]
["HOLES REQUIRED",null,"-- SELECT --"]
["HOLE SIZE  (mm)",null,{"$f":"VLOOKUP(C122,'Background Information'!$O$1:$P$4,2,FALSE)","v":0},null,{"$f":"IF($C$122=\"FIXED\",'Horizontal Calculations'!D96,IF($C$122=\"RELATIVE\",'Horizontal Calculations'!D94,IF($C$122=\"BLOCKS\",'Horizontal Calculations'!D98,0)))","v":0},{"$f":"IF($C$122=\"FIXED\",'Horizontal Calculations'!E96,IF($C$122=\"RELATIVE\",'Horizontal Calculations'!E94,IF($C$122=\"BLOCKS\",'Horizontal Calculations'!E98,0)))","v":0},{"$f":"IF($C$122=\"FIXED\",'Horizontal Calculations'!F96,IF($C$122=\"RELATIVE\",'Horizontal Calculations'!F94,IF($C$122=\"BLOCKS\",'Horizontal Calculations'!F98,0)))","v":0},{"$f":"IF($C$122=\"FIXED\",'Horizontal Calculations'!G96,IF($C$122=\"RELATIVE\",'Horizontal Calculations'!G94,IF($C$122=\"BLOCKS\",'Horizontal Calculations'!G98,0)))","v":0},{"$f":"IF($C$122=\"FIXED\",'Horizontal Calculations'!H96,IF($C$122=\"RELATIVE\",'Horizontal Calculations'!H94,IF($C$122=\"BLOCKS\",'Horizontal Calculations'!H98,0)))","v":0},{"$f":"IF($C$122=\"FIXED\",'Horizontal Calculations'!I96,IF($C$122=\"RELATIVE\",'Horizontal Calculations'!I94,IF($C$122=\"BLOCKS\",'Horizontal Calculations'!I98,0)))","v":0},{"$f":"IF($C$122=\"FIXED\",'Horizontal Calculations'!J96,IF($C$122=\"RELATIVE\",'Horizontal Calculations'!J94,IF($C$122=\"BLOCKS\",'Horizontal Calculations'!J98,0)))","v":0},{"$f":"IF($C$122=\"FIXED\",'Horizontal Calculations'!K96,IF($C$122=\"RELATIVE\",'Horizontal Calculations'!K94,IF($C$122=\"BLOCKS\",'Horizontal Calculations'!K98,0)))","v":0},{"$f":"IF($C$122=\"FIXED\",'Horizontal Calculations'!L96,IF($C$122=\"RELATIVE\",'Horizontal Calculations'!L94,IF($C$122=\"BLOCKS\",'Horizontal Calculations'!L98,0)))","v":0},{"$f":"IF($C$122=\"FIXED\",'Horizontal Calculations'!M96,IF($C$122=\"RELATIVE\",'Horizontal Calculations'!M94,IF($C$122=\"BLOCKS\",'Horizontal Calculations'!M98,0)))","v":0},{"$f":"IF($C$122=\"FIXED\",'Horizontal Calculations'!N96,IF($C$122=\"RELATIVE\",'Horizontal Calculations'!N94,IF($C$122=\"BLOCKS\",'Horizontal Calculations'!N98,0)))","v":0},{"$f":"IF($C$122=\"FIXED\",'Horizontal Calculations'!O96,IF($C$122=\"RELATIVE\",'Horizontal Calculations'!O94,IF($C$122=\"BLOCKS\",'Horizontal Calculations'!O98,0)))","v":0},{"$f":"IF($C$122=\"FIXED\",'Horizontal Calculations'!P96,IF($C$122=\"RELATIVE\",'Horizontal Calculations'!P94,IF($C$122=\"BLOCKS\",'Horizontal Calculations'!P98,0)))","v":0},{"$f":"IF($C$122=\"FIXED\",'Horizontal Calculations'!Q96,IF($C$122=\"RELATIVE\",'Horizontal Calculations'!Q94,IF($C$122=\"BLOCKS\",'Horizontal Calculations'!Q98,0)))","v":0},{"$f":"IF($C$122=\"FIXED\",'Horizontal Calculations'!R96,IF($C$122=\"RELATIVE\",'Horizontal Calculations'!R94,IF($C$122=\"BLOCKS\",'Horizontal Calculations'!R98,0)))","v":0},{"$f":"IF($C$122=\"FIXED\",'Horizontal Calculations'!S96,IF($C$122=\"RELATIVE\",'Horizontal Calculations'!S94,IF($C$122=\"BLOCKS\",'Horizontal Calculations'!S98,0)))","v":0},{"$f":"IF($C$122=\"FIXED\",'Horizontal Calculations'!T96,IF($C$122=\"RELATIVE\",'Horizontal Calculations'!T94,IF($C$122=\"BLOCKS\",'Horizontal Calculations'!T98,0)))","v":0},{"$f":"IF($C$122=\"FIXED\",'Horizontal Calculations'!U96,IF($C$122=\"RELATIVE\",'Horizontal Calculations'!U94,IF($C$122=\"BLOCKS\",'Horizontal Calculations'!U98,0)))","v":0},{"$f":"IF($C$122=\"FIXED\",'Horizontal Calculations'!V96,IF($C$122=\"RELATIVE\",'Horizontal Calculations'!V94,IF($C$122=\"BLOCKS\",'Horizontal Calculations'!V98,0)))","v":0},{"$f":"IF($C$122=\"FIXED\",'Horizontal Calculations'!W96,IF($C$122=\"RELATIVE\",'Horizontal Calculations'!W94,IF($C$122=\"BLOCKS\",'Horizontal Calculations'!W98,0)))","v":0},{"$f":"IF($C$122=\"FIXED\",'Horizontal Calculations'!X96,IF($C$122=\"RELATIVE\",'Horizontal Calculations'!X94,IF($C$122=\"BLOCKS\",'Horizontal Calculations'!X98,0)))","v":0},{"$f":"IF($C$122=\"FIXED\",'Horizontal Calculations'!Y96,IF($C$122=\"RELATIVE\",'Horizontal Calculations'!Y94,IF($C$122=\"BLOCKS\",'Horizontal Calculations'!Y98,0)))","v":0},{"$f":"IF($C$122=\"FIXED\",'Horizontal Calculations'!Z96,IF($C$122=\"RELATIVE\",'Horizontal Calculations'!Z94,IF($C$122=\"BLOCKS\",'Horizontal Calculations'!Z98,0)))","v":0},{"$f":"IF($C$122=\"FIXED\",'Horizontal Calculations'!AA96,IF($C$122=\"RELATIVE\",'Horizontal Calculations'!AA94,IF($C$122=\"BLOCKS\",'Horizontal Calculations'!AA98,0)))","v":0},{"$f":"IF($C$122=\"FIXED\",'Horizontal Calculations'!AB96,IF($C$122=\"RELATIVE\",'Horizontal Calculations'!AB94,IF($C$122=\"BLOCKS\",'Horizontal Calculations'!AB98,0)))","v":0},{"$f":"IF($C$122=\"FIXED\",'Horizontal Calculations'!AC96,IF($C$122=\"RELATIVE\",'Horizontal Calculations'!AC94,IF($C$122=\"BLOCKS\",'Horizontal Calculations'!AC98,0)))","v":0},{"$f":"IF($C$122=\"FIXED\",'Horizontal Calculations'!AD96,IF($C$122=\"RELATIVE\",'Horizontal Calculations'!AD94,IF($C$122=\"BLOCKS\",'Horizontal Calculations'!AD98,0)))","v":0},{"$f":"IF($C$122=\"FIXED\",'Horizontal Calculations'!AE96,IF($C$122=\"RELATIVE\",'Horizontal Calculations'!AE94,IF($C$122=\"BLOCKS\",'Horizontal Calculations'!AE98,0)))","v":0},{"$f":"IF($C$122=\"FIXED\",'Horizontal Calculations'!AF96,IF($C$122=\"RELATIVE\",'Horizontal Calculations'!AF94,IF($C$122=\"BLOCKS\",'Horizontal Calculations'!AF98,0)))","v":0},{"$f":"IF($C$122=\"FIXED\",'Horizontal Calculations'!AG96,IF($C$122=\"RELATIVE\",'Horizontal Calculations'!AG94,IF($C$122=\"BLOCKS\",'Horizontal Calculations'!AG98,0)))","v":0},{"$f":"IF($C$122=\"FIXED\",'Horizontal Calculations'!AH96,IF($C$122=\"RELATIVE\",'Horizontal Calculations'!AH94,IF($C$122=\"BLOCKS\",'Horizontal Calculations'!AH98,0)))","v":0},{"$f":"IF($C$122=\"FIXED\",'Horizontal Calculations'!AI96,IF($C$122=\"RELATIVE\",'Horizontal Calculations'!AI94,IF($C$122=\"BLOCKS\",'Horizontal Calculations'!AI98,0)))","v":0},{"$f":"IF($C$122=\"FIXED\",'Horizontal Calculations'!AJ96,IF($C$122=\"RELATIVE\",'Horizontal Calculations'!AJ94,IF($C$122=\"BLOCKS\",'Horizontal Calculations'!AJ98,0)))","v":0},{"$f":"IF($C$122=\"FIXED\",'Horizontal Calculations'!AK96,IF($C$122=\"RELATIVE\",'Horizontal Calculations'!AK94,IF($C$122=\"BLOCKS\",'Horizontal Calculations'!AK98,0)))","v":0},{"$f":"IF($C$122=\"FIXED\",'Horizontal Calculations'!AL96,IF($C$122=\"RELATIVE\",'Horizontal Calculations'!AL94,IF($C$122=\"BLOCKS\",'Horizontal Calculations'!AL98,0)))","v":0},{"$f":"IF($C$122=\"FIXED\",'Horizontal Calculations'!AM96,IF($C$122=\"RELATIVE\",'Horizontal Calculations'!AM94,IF($C$122=\"BLOCKS\",'Horizontal Calculations'!AM98,0)))","v":0},{"$f":"IF($C$122=\"FIXED\",'Horizontal Calculations'!AN96,IF($C$122=\"RELATIVE\",'Horizontal Calculations'!AN94,IF($C$122=\"BLOCKS\",'Horizontal Calculations'!AN98,0)))","v":0},{"$f":"IF($C$122=\"FIXED\",'Horizontal Calculations'!AO96,IF($C$122=\"RELATIVE\",'Horizontal Calculations'!AO94,IF($C$122=\"BLOCKS\",'Horizontal Calculations'!AO98,0)))","v":0},{"$f":"IF($C$122=\"FIXED\",'Horizontal Calculations'!AP96,IF($C$122=\"RELATIVE\",'Horizontal Calculations'!AP94,IF($C$122=\"BLOCKS\",'Horizontal Calculations'!AP98,0)))","v":0},{"$f":"IF($C$122=\"FIXED\",'Horizontal Calculations'!AQ96,IF($C$122=\"RELATIVE\",'Horizontal Calculations'!AQ94,IF($C$122=\"BLOCKS\",'Horizontal Calculations'!AQ98,0)))","v":0},{"$f":"IF($C$122=\"FIXED\",'Horizontal Calculations'!AR96,IF($C$122=\"RELATIVE\",'Horizontal Calculations'!AR94,IF($C$122=\"BLOCKS\",'Horizontal Calculations'!AR98,0)))","v":0},{"$f":"IF($C$122=\"FIXED\",'Horizontal Calculations'!AS96,IF($C$122=\"RELATIVE\",'Horizontal Calculations'!AS94,IF($C$122=\"BLOCKS\",'Horizontal Calculations'!AS98,0)))","v":0},{"$f":"IF($C$122=\"FIXED\",'Horizontal Calculations'!AT96,IF($C$122=\"RELATIVE\",'Horizontal Calculations'!AT94,IF($C$122=\"BLOCKS\",'Horizontal Calculations'!AT98,0)))","v":0},{"$f":"IF($C$122=\"FIXED\",'Horizontal Calculations'!AU96,IF($C$122=\"RELATIVE\",'Horizontal Calculations'!AU94,IF($C$122=\"BLOCKS\",'Horizontal Calculations'!AU98,0)))","v":0},{"$f":"IF($C$122=\"FIXED\",'Horizontal Calculations'!AV96,IF($C$122=\"RELATIVE\",'Horizontal Calculations'!AV94,IF($C$122=\"BLOCKS\",'Horizontal Calculations'!AV98,0)))","v":0},{"$f":"IF($C$122=\"FIXED\",'Horizontal Calculations'!AW96,IF($C$122=\"RELATIVE\",'Horizontal Calculations'!AW94,IF($C$122=\"BLOCKS\",'Horizontal Calculations'!AW98,0)))","v":0},{"$f":"IF($C$122=\"FIXED\",'Horizontal Calculations'!AX96,IF($C$122=\"RELATIVE\",'Horizontal Calculations'!AX94,IF($C$122=\"BLOCKS\",'Horizontal Calculations'!AX98,0)))","v":0},{"$f":"IF($C$122=\"FIXED\",'Horizontal Calculations'!AY96,IF($C$122=\"RELATIVE\",'Horizontal Calculations'!AY94,IF($C$122=\"BLOCKS\",'Horizontal Calculations'!AY98,0)))","v":0},{"$f":"IF($C$122=\"FIXED\",'Horizontal Calculations'!AZ96,IF($C$122=\"RELATIVE\",'Horizontal Calculations'!AZ94,IF($C$122=\"BLOCKS\",'Horizontal Calculations'!AZ98,0)))","v":0},{"$f":"IF($C$122=\"FIXED\",'Horizontal Calculations'!BA96,IF($C$122=\"RELATIVE\",'Horizontal Calculations'!BA94,IF($C$122=\"BLOCKS\",'Horizontal Calculations'!BA98,0)))","v":0}]
[]
["LABEL 12"]
["QUANTITY"]
["WIDTH (mm)",{"$nulls":3},"","","","","","","","","","","","","","","","","","","","","","","","","","","","","","","","","","","","","","","","","","","","","","","","","",""]
["HEIGHT  (mm)",{"$nulls":3},"","","","","","","","","","","","","","","","","","","","","","","","","","","","","","","","","","","","","","","","","","","","","","","","","",""]
["COLOUR","-- SELECT --",{"$f":"B128","v":0},null,"","","","","","","","","","","","","","","","","","","","","","","","","","","","","","","","","","","","","","","","","","","","","","","","","",""]
["TEXT SIZE  (mm)","AUTO",null,null,"","","","","","","","","","","","","","","","","","","","","","","","","","","","","","","","","","","","","","","","","","","","","","","","","",""]
["FIXING","-- SELECT --",null,null,"","","","","","","","","","","","","","","","","","","","","","","","","","","","","","","","","","","","","","","","","","","","","","","","","",""]
[{"$nulls":4},"I","I","I","I","I","I","I","I","I","I","I","I","I","I","I","I","I","I","I","I","I","I","I","I","I","I","I","I","I","I","I","I","I","I","I","I","I","I","I","I","I","I","I","I","I","I","I","I","I","I"]
["HOLES REQUIRED",null,"-- SELECT --"]
["HOLE SIZE  (mm)",null,{"$f":"VLOOKUP(C133,'Background Information'!$O$1:$P$4,2,FALSE)","v":0},null,{"$f":"IF($C$133=\"FIXED\",'Horizontal Calculations'!D105,IF($C$133=\"RELATIVE\",'Horizontal Calculations'!D103,IF($C$133=\"BLOCKS\",'Horizontal Calculations'!D107,0)))","v":0},{"$f":"IF($C$133=\"FIXED\",'Horizontal Calculations'!E105,IF($C$133=\"RELATIVE\",'Horizontal Calculations'!E103,IF($C$133=\"BLOCKS\",'Horizontal Calculations'!E107,0)))","v":0},{"$f":"IF($C$133=\"FIXED\",'Horizontal Calculations'!F105,IF($C$133=\"RELATIVE\",'Horizontal Calculations'!F103,IF($C$133=\"BLOCKS\",'Horizontal Calculations'!F107,0)))","v":0},{"$f":"IF($C$133=\"FIXED\",'Horizontal Calculations'!G105,IF($C$133=\"RELATIVE\",'Horizontal Calculations'!G103,IF($C$133=\"BLOCKS\",'Horizontal Calculations'!G107,0)))","v":0},{"$f":"IF($C$133=\"FIXED\",'Horizontal Calculations'!H105,IF($C$133=\"RELATIVE\",'Horizontal Calculations'!H103,IF($C$133=\"BLOCKS\",'Horizontal Calculations'!H107,0)))","v":0},{"$f":"IF($C$133=\"FIXED\",'Horizontal Calculations'!I105,IF($C$133=\"RELATIVE\",'Horizontal Calculations'!I103,IF($C$133=\"BLOCKS\",'Horizontal Calculations'!I107,0)))","v":0},{"$f":"IF($C$133=\"FIXED\",'Horizontal Calculations'!J105,IF($C$133=\"RELATIVE\",'Horizontal Calculations'!J103,IF($C$133=\"BLOCKS\",'Horizontal Calculations'!J107,0)))","v":0},{"$f":"IF($C$133=\"FIXED\",'Horizontal Calculations'!K105,IF($C$133=\"RELATIVE\",'Horizontal Calculations'!K103,IF($C$133=\"BLOCKS\",'Horizontal Calculations'!K107,0)))","v":0},{"$f":"IF($C$133=\"FIXED\",'Horizontal Calculations'!L105,IF($C$133=\"RELATIVE\",'Horizontal Calculations'!L103,IF($C$133=\"BLOCKS\",'Horizontal Calculations'!L107,0)))","v":0},{"$f":"IF($C$133=\"FIXED\",'Horizontal Calculations'!M105,IF($C$133=\"RELATIVE\",'Horizontal Calculations'!M103,IF($C$133=\"BLOCKS\",'Horizontal Calculations'!M107,0)))","v":0},{"$f":"IF($C$133=\"FIXED\",'Horizontal Calculations'!N105,IF($C$133=\"RELATIVE\",'Horizontal Calculations'!N103,IF($C$133=\"BLOCKS\",'Horizontal Calculations'!N107,0)))","v":0},{"$f":"IF($C$133=\"FIXED\",'Horizontal Calculations'!O105,IF($C$133=\"RELATIVE\",'Horizontal Calculations'!O103,IF($C$133=\"BLOCKS\",'Horizontal Calculations'!O107,0)))","v":0},{"$f":"IF($C$133=\"FIXED\",'Horizontal Calculations'!P105,IF($C$133=\"RELATIVE\",'Horizontal Calculations'!P103,IF($C$133=\"BLOCKS\",'Horizontal Calculations'!P107,0)))","v":0},{"$f":"IF($C$133=\"FIXED\",'Horizontal Calculations'!Q105,IF($C$133=\"RELATIVE\",'Horizontal Calculations'!Q103,IF($C$133=\"BLOCKS\",'Horizontal Calculations'!Q107,0)))","v":0},{"$f":"IF($C$133=\"FIXED\",'Horizontal Calculations'!R105,IF($C$133=\"RELATIVE\",'Horizontal Calculations'!R103,IF($C$133=\"BLOCKS\",'Horizontal Calculations'!R107,0)))","v":0},{"$f":"IF($C$133=\"FIXED\",'Horizontal Calculations'!S105,IF($C$133=\"RELATIVE\",'Horizontal Calculations'!S103,IF($C$133=\"BLOCKS\",'Horizontal Calculations'!S107,0)))","v":0},{"$f":"IF($C$133=\"FIXED\",'Horizontal Calculations'!T105,IF($C$133=\"RELATIVE\",'Horizontal Calculations'!T103,IF($C$133=\"BLOCKS\",'Horizontal Calculations'!T107,0)))","v":0},{"$f":"IF($C$133=\"FIXED\",'Horizontal Calculations'!U105,IF($C$133=\"RELATIVE\",'Horizontal Calculations'!U103,IF($C$133=\"BLOCKS\",'Horizontal Calculations'!U107,0)))","v":0},{"$f":"IF($C$133=\"FIXED\",'Horizontal Calculations'!V105,IF($C$133=\"RELATIVE\",'Horizontal Calculations'!V103,IF($C$133=\"BLOCKS\",'Horizontal Calculations'!V107,0)))","v":0},{"$f":"IF($C$133=\"FIXED\",'Horizontal Calculations'!W105,IF($C$133=\"RELATIVE\",'Horizontal Calculations'!W103,IF($C$133=\"BLOCKS\",'Horizontal Calculations'!W107,0)))","v":0},{"$f":"IF($C$133=\"FIXED\",'Horizontal Calculations'!X105,IF($C$133=\"RELATIVE\",'Horizontal Calculations'!X103,IF($C$133=\"BLOCKS\",'Horizontal Calculations'!X107,0)))","v":0},{"$f":"IF($C$133=\"FIXED\",'Horizontal Calculations'!Y105,IF($C$133=\"RELATIVE\",'Horizontal Calculations'!Y103,IF($C$133=\"BLOCKS\",'Horizontal Calculations'!Y107,0)))","v":0},{"$f":"IF($C$133=\"FIXED\",'Horizontal Calculations'!Z105,IF($C$133=\"RELATIVE\",'Horizontal Calculations'!Z103,IF($C$133=\"BLOCKS\",'Horizontal Calculations'!Z107,0)))","v":0},{"$f":"IF($C$133=\"FIXED\",'Horizontal Calculations'!AA105,IF($C$133=\"RELATIVE\",'Horizontal Calculations'!AA103,IF($C$133=\"BLOCKS\",'Horizontal Calculations'!AA107,0)))","v":0},{"$f":"IF($C$133=\"FIXED\",'Horizontal Calculations'!AB105,IF($C$133=\"RELATIVE\",'Horizontal Calculations'!AB103,IF($C$133=\"BLOCKS\",'Horizontal Calculations'!AB107,0)))","v":0},{"$f":"IF($C$133=\"FIXED\",'Horizontal Calculations'!AC105,IF($C$133=\"RELATIVE\",'Horizontal Calculations'!AC103,IF($C$133=\"BLOCKS\",'Horizontal Calculations'!AC107,0)))","v":0},{"$f":"IF($C$133=\"FIXED\",'Horizontal Calculations'!AD105,IF($C$133=\"RELATIVE\",'Horizontal Calculations'!AD103,IF($C$133=\"BLOCKS\",'Horizontal Calculations'!AD107,0)))","v":0},{"$f":"IF($C$133=\"FIXED\",'Horizontal Calculations'!AE105,IF($C$133=\"RELATIVE\",'Horizontal Calculations'!AE103,IF($C$133=\"BLOCKS\",'Horizontal Calculations'!AE107,0)))","v":0},{"$f":"IF($C$133=\"FIXED\",'Horizontal Calculations'!AF105,IF($C$133=\"RELATIVE\",'Horizontal Calculations'!AF103,IF($C$133=\"BLOCKS\",'Horizontal Calculations'!AF107,0)))","v":0},{"$f":"IF($C$133=\"FIXED\",'Horizontal Calculations'!AG105,IF($C$133=\"RELATIVE\",'Horizontal Calculations'!AG103,IF($C$133=\"BLOCKS\",'Horizontal Calculations'!AG107,0)))","v":0},{"$f":"IF($C$133=\"FIXED\",'Horizontal Calculations'!AH105,IF($C$133=\"RELATIVE\",'Horizontal Calculations'!AH103,IF($C$133=\"BLOCKS\",'Horizontal Calculations'!AH107,0)))","v":0},{"$f":"IF($C$133=\"FIXED\",'Horizontal Calculations'!AI105,IF($C$133=\"RELATIVE\",'Horizontal Calculations'!AI103,IF($C$133=\"BLOCKS\",'Horizontal Calculations'!AI107,0)))","v":0},{"$f":"IF($C$133=\"FIXED\",'Horizontal Calculations'!AJ105,IF($C$133=\"RELATIVE\",'Horizontal Calculations'!AJ103,IF($C$133=\"BLOCKS\",'Horizontal Calculations'!AJ107,0)))","v":0},{"$f":"IF($C$133=\"FIXED\",'Horizontal Calculations'!AK105,IF($C$133=\"RELATIVE\",'Horizontal Calculations'!AK103,IF($C$133=\"BLOCKS\",'Horizontal Calculations'!AK107,0)))","v":0},{"$f":"IF($C$133=\"FIXED\",'Horizontal Calculations'!AL105,IF($C$133=\"RELATIVE\",'Horizontal Calculations'!AL103,IF($C$133=\"BLOCKS\",'Horizontal Calculations'!AL107,0)))","v":0},{"$f":"IF($C$133=\"FIXED\",'Horizontal Calculations'!AM105,IF($C$133=\"RELATIVE\",'Horizontal Calculations'!AM103,IF($C$133=\"BLOCKS\",'Horizontal Calculations'!AM107,0)))","v":0},{"$f":"IF($C$133=\"FIXED\",'Horizontal Calculations'!AN105,IF($C$133=\"RELATIVE\",'Horizontal Calculations'!AN103,IF($C$133=\"BLOCKS\",'Horizontal Calculations'!AN107,0)))","v":0},{"$f":"IF($C$133=\"FIXED\",'Horizontal Calculations'!AO105,IF($C$133=\"RELATIVE\",'Horizontal Calculations'!AO103,IF($C$133=\"BLOCKS\",'Horizontal Calculations'!AO107,0)))","v":0},{"$f":"IF($C$133=\"FIXED\",'Horizontal Calculations'!AP105,IF($C$133=\"RELATIVE\",'Horizontal Calculations'!AP103,IF($C$133=\"BLOCKS\",'Horizontal Calculations'!AP107,0)))","v":0},{"$f":"IF($C$133=\"FIXED\",'Horizontal Calculations'!AQ105,IF($C$133=\"RELATIVE\",'Horizontal Calculations'!AQ103,IF($C$133=\"BLOCKS\",'Horizontal Calculations'!AQ107,0)))","v":0},{"$f":"IF($C$133=\"FIXED\",'Horizontal Calculations'!AR105,IF($C$133=\"RELATIVE\",'Horizontal Calculations'!AR103,IF($C$133=\"BLOCKS\",'Horizontal Calculations'!AR107,0)))","v":0},{"$f":"IF($C$133=\"FIXED\",'Horizontal Calculations'!AS105,IF($C$133=\"RELATIVE\",'Horizontal Calculations'!AS103,IF($C$133=\"BLOCKS\",'Horizontal Calculations'!AS107,0)))","v":0},{"$f":"IF($C$133=\"FIXED\",'Horizontal Calculations'!AT105,IF($C$133=\"RELATIVE\",'Horizontal Calculations'!AT103,IF($C$133=\"BLOCKS\",'Horizontal Calculations'!AT107,0)))","v":0},{"$f":"IF($C$133=\"FIXED\",'Horizontal Calculations'!AU105,IF($C$133=\"RELATIVE\",'Horizontal Calculations'!AU103,IF($C$133=\"BLOCKS\",'Horizontal Calculations'!AU107,0)))","v":0},{"$f":"IF($C$133=\"FIXED\",'Horizontal Calculations'!AV105,IF($C$133=\"RELATIVE\",'Horizontal Calculations'!AV103,IF($C$133=\"BLOCKS\",'Horizontal Calculations'!AV107,0)))","v":0},{"$f":"IF($C$133=\"FIXED\",'Horizontal Calculations'!AW105,IF($C$133=\"RELATIVE\",'Horizontal Calculations'!AW103,IF($C$133=\"BLOCKS\",'Horizontal Calculations'!AW107,0)))","v":0},{"$f":"IF($C$133=\"FIXED\",'Horizontal Calculations'!AX105,IF($C$133=\"RELATIVE\",'Horizontal Calculations'!AX103,IF($C$133=\"BLOCKS\",'Horizontal Calculations'!AX107,0)))","v":0},{"$f":"IF($C$133=\"FIXED\",'Horizontal Calculations'!AY105,IF($C$133=\"RELATIVE\",'Horizontal Calculations'!AY103,IF($C$133=\"BLOCKS\",'Horizontal Calculations'!AY107,0)))","v":0},{"$f":"IF($C$133=\"FIXED\",'Horizontal Calculations'!AZ105,IF($C$133=\"RELATIVE\",'Horizontal Calculations'!AZ103,IF($C$133=\"BLOCKS\",'Horizontal Calculations'!AZ107,0)))","v":0},{"$f":"IF($C$133=\"FIXED\",'Horizontal Calculations'!BA105,IF($C$133=\"RELATIVE\",'Horizontal Calculations'!BA103,IF($C$133=\"BLOCKS\",'Horizontal Calculations'!BA107,0)))","v":0}]
[]
["LABEL 13"]
["QUANTITY"]
["WIDTH (mm)",{"$nulls":3},"","","","","","","","","","","","","","","","","","","","","","","","","","","","","","","","","","","","","","","","","","","","","","","","","",""]
["HEIGHT  (mm)",{"$nulls":3},"","","","","","","","","","","","","","","","","","","","","","","","","","","","","","","","","","","","","","","","","","","","","","","","","",""]
["COLOUR","-- SELECT --",{"$f":"B139","v":0},null,"","","","","","","","","","","","","","","","","","","","","","","","","","","","","","","","","","","","","","","","","","","","","","","","","",""]
["TEXT SIZE  (mm)","AUTO",null,null,"","","","","","","","","","","","","","","","","","","","","","","","","","","","","","","","","","","","","","","","","","","","","","","","","",""]
["FIXING","-- SELECT --",null,null,"","","","","","","","","","","","","","","","","","","","","","","","","","","","","","","","","","","","","","","","","","","","","","","","","",""]
[{"$nulls":4},"I","I","I","I","I","I","I","I","I","I","I","I","I","I","I","I","I","I","I","I","I","I","I","I","I","I","I","I","I","I","I","I","I","I","I","I","I","I","I","I","I","I","I","I","I","I","I","I","I","I"]
["HOLES REQUIRED",null,"-- SELECT --"]
["HOLE SIZE  (mm)",null,{"$f":"VLOOKUP(C144,'Background Information'!$O$1:$P$4,2,FALSE)","v":0},null,{"$f":"IF($C$144=\"FIXED\",'Horizontal Calculations'!D114,IF($C$144=\"RELATIVE\",'Horizontal Calculations'!D112,IF($C$144=\"BLOCKS\",'Horizontal Calculations'!D116,0)))","v":0},{"$f":"IF($C$144=\"FIXED\",'Horizontal Calculations'!E114,IF($C$144=\"RELATIVE\",'Horizontal Calculations'!E112,IF($C$144=\"BLOCKS\",'Horizontal Calculations'!E116,0)))","v":0},{"$f":"IF($C$144=\"FIXED\",'Horizontal Calculations'!F114,IF($C$144=\"RELATIVE\",'Horizontal Calculations'!F112,IF($C$144=\"BLOCKS\",'Horizontal Calculations'!F116,0)))","v":0},{"$f":"IF($C$144=\"FIXED\",'Horizontal Calculations'!G114,IF($C$144=\"RELATIVE\",'Horizontal Calculations'!G112,IF($C$144=\"BLOCKS\",'Horizontal Calculations'!G116,0)))","v":0},{"$f":"IF($C$144=\"FIXED\",'Horizontal Calculations'!H114,IF($C$144=\"RELATIVE\",'Horizontal Calculations'!H112,IF($C$144=\"BLOCKS\",'Horizontal Calculations'!H116,0)))","v":0},{"$f":"IF($C$144=\"FIXED\",'Horizontal Calculations'!I114,IF($C$144=\"RELATIVE\",'Horizontal Calculations'!I112,IF($C$144=\"BLOCKS\",'Horizontal Calculations'!I116,0)))","v":0},{"$f":"IF($C$144=\"FIXED\",'Horizontal Calculations'!J114,IF($C$144=\"RELATIVE\",'Horizontal Calculations'!J112,IF($C$144=\"BLOCKS\",'Horizontal Calculations'!J116,0)))","v":0},{"$f":"IF($C$144=\"FIXED\",'Horizontal Calculations'!K114,IF($C$144=\"RELATIVE\",'Horizontal Calculations'!K112,IF($C$144=\"BLOCKS\",'Horizontal Calculations'!K116,0)))","v":0},{"$f":"IF($C$144=\"FIXED\",'Horizontal Calculations'!L114,IF($C$144=\"RELATIVE\",'Horizontal Calculations'!L112,IF($C$144=\"BLOCKS\",'Horizontal Calculations'!L116,0)))","v":0},{"$f":"IF($C$144=\"FIXED\",'Horizontal Calculations'!M114,IF($C$144=\"RELATIVE\",'Horizontal Calculations'!M112,IF($C$144=\"BLOCKS\",'Horizontal Calculations'!M116,0)))","v":0},{"$f":"IF($C$144=\"FIXED\",'Horizontal Calculations'!N114,IF($C$144=\"RELATIVE\",'Horizontal Calculations'!N112,IF($C$144=\"BLOCKS\",'Horizontal Calculations'!N116,0)))","v":0},{"$f":"IF($C$144=\"FIXED\",'Horizontal Calculations'!O114,IF($C$144=\"RELATIVE\",'Horizontal Calculations'!O112,IF($C$144=\"BLOCKS\",'Horizontal Calculations'!O116,0)))","v":0},{"$f":"IF($C$144=\"FIXED\",'Horizontal Calculations'!P114,IF($C$144=\"RELATIVE\",'Horizontal Calculations'!P112,IF($C$144=\"BLOCKS\",'Horizontal Calculations'!P116,0)))","v":0},{"$f":"IF($C$144=\"FIXED\",'Horizontal Calculations'!Q114,IF($C$144=\"RELATIVE\",'Horizontal Calculations'!Q112,IF($C$144=\"BLOCKS\",'Horizontal Calculations'!Q116,0)))","v":0},{"$f":"IF($C$144=\"FIXED\",'Horizontal Calculations'!R114,IF($C$144=\"RELATIVE\",'Horizontal Calculations'!R112,IF($C$144=\"BLOCKS\",'Horizontal Calculations'!R116,0)))","v":0},{"$f":"IF($C$144=\"FIXED\",'Horizontal Calculations'!S114,IF($C$144=\"RELATIVE\",'Horizontal Calculations'!S112,IF($C$144=\"BLOCKS\",'Horizontal Calculations'!S116,0)))","v":0},{"$f":"IF($C$144=\"FIXED\",'Horizontal Calculations'!T114,IF($C$144=\"RELATIVE\",'Horizontal Calculations'!T112,IF($C$144=\"BLOCKS\",'Horizontal Calculations'!T116,0)))","v":0},{"$f":"IF($C$144=\"FIXED\",'Horizontal Calculations'!U114,IF($C$144=\"RELATIVE\",'Horizontal Calculations'!U112,IF($C$144=\"BLOCKS\",'Horizontal Calculations'!U116,0)))","v":0},{"$f":"IF($C$144=\"FIXED\",'Horizontal Calculations'!V114,IF($C$144=\"RELATIVE\",'Horizontal Calculations'!V112,IF($C$144=\"BLOCKS\",'Horizontal Calculations'!V116,0)))","v":0},{"$f":"IF($C$144=\"FIXED\",'Horizontal Calculations'!W114,IF($C$144=\"RELATIVE\",'Horizontal Calculations'!W112,IF($C$144=\"BLOCKS\",'Horizontal Calculations'!W116,0)))","v":0},{"$f":"IF($C$144=\"FIXED\",'Horizontal Calculations'!X114,IF($C$144=\"RELATIVE\",'Horizontal Calculations'!X112,IF($C$144=\"BLOCKS\",'Horizontal Calculations'!X116,0)))","v":0},{"$f":"IF($C$144=\"FIXED\",'Horizontal Calculations'!Y114,IF($C$144=\"RELATIVE\",'Horizontal Calculations'!Y112,IF($C$144=\"BLOCKS\",'Horizontal Calculations'!Y116,0)))","v":0},{"$f":"IF($C$144=\"FIXED\",'Horizontal Calculations'!Z114,IF($C$144=\"RELATIVE\",'Horizontal Calculations'!Z112,IF($C$144=\"BLOCKS\",'Horizontal Calculations'!Z116,0)))","v":0},{"$f":"IF($C$144=\"FIXED\",'Horizontal Calculations'!AA114,IF($C$144=\"RELATIVE\",'Horizontal Calculations'!AA112,IF($C$144=\"BLOCKS\",'Horizontal Calculations'!AA116,0)))","v":0},{"$f":"IF($C$144=\"FIXED\",'Horizontal Calculations'!AB114,IF($C$144=\"RELATIVE\",'Horizontal Calculations'!AB112,IF($C$144=\"BLOCKS\",'Horizontal Calculations'!AB116,0)))","v":0},{"$f":"IF($C$144=\"FIXED\",'Horizontal Calculations'!AC114,IF($C$144=\"RELATIVE\",'Horizontal Calculations'!AC112,IF($C$144=\"BLOCKS\",'Horizontal Calculations'!AC116,0)))","v":0},{"$f":"IF($C$144=\"FIXED\",'Horizontal Calculations'!AD114,IF($C$144=\"RELATIVE\",'Horizontal Calculations'!AD112,IF($C$144=\"BLOCKS\",'Horizontal Calculations'!AD116,0)))","v":0},{"$f":"IF($C$144=\"FIXED\",'Horizontal Calculations'!AE114,IF($C$144=\"RELATIVE\",'Horizontal Calculations'!AE112,IF($C$144=\"BLOCKS\",'Horizontal Calculations'!AE116,0)))","v":0},{"$f":"IF($C$144=\"FIXED\",'Horizontal Calculations'!AF114,IF($C$144=\"RELATIVE\",'Horizontal Calculations'!AF112,IF($C$144=\"BLOCKS\",'Horizontal Calculations'!AF116,0)))","v":0},{"$f":"IF($C$144=\"FIXED\",'Horizontal Calculations'!AG114,IF($C$144=\"RELATIVE\",'Horizontal Calculations'!AG112,IF($C$144=\"BLOCKS\",'Horizontal Calculations'!AG116,0)))","v":0},{"$f":"IF($C$144=\"FIXED\",'Horizontal Calculations'!AH114,IF($C$144=\"RELATIVE\",'Horizontal Calculations'!AH112,IF($C$144=\"BLOCKS\",'Horizontal Calculations'!AH116,0)))","v":0},{"$f":"IF($C$144=\"FIXED\",'Horizontal Calculations'!AI114,IF($C$144=\"RELATIVE\",'Horizontal Calculations'!AI112,IF($C$144=\"BLOCKS\",'Horizontal Calculations'!AI116,0)))","v":0},{"$f":"IF($C$144=\"FIXED\",'Horizontal Calculations'!AJ114,IF($C$144=\"RELATIVE\",'Horizontal Calculations'!AJ112,IF($C$144=\"BLOCKS\",'Horizontal Calculations'!AJ116,0)))","v":0},{"$f":"IF($C$144=\"FIXED\",'Horizontal Calculations'!AK114,IF($C$144=\"RELATIVE\",'Horizontal Calculations'!AK112,IF($C$144=\"BLOCKS\",'Horizontal Calculations'!AK116,0)))","v":0},{"$f":"IF($C$144=\"FIXED\",'Horizontal Calculations'!AL114,IF($C$144=\"RELATIVE\",'Horizontal Calculations'!AL112,IF($C$144=\"BLOCKS\",'Horizontal Calculations'!AL116,0)))","v":0},{"$f":"IF($C$144=\"FIXED\",'Horizontal Calculations'!AM114,IF($C$144=\"RELATIVE\",'Horizontal Calculations'!AM112,IF($C$144=\"BLOCKS\",'Horizontal Calculations'!AM116,0)))","v":0},{"$f":"IF($C$144=\"FIXED\",'Horizontal Calculations'!AN114,IF($C$144=\"RELATIVE\",'Horizontal Calculations'!AN112,IF($C$144=\"BLOCKS\",'Horizontal Calculations'!AN116,0)))","v":0},{"$f":"IF($C$144=\"FIXED\",'Horizontal Calculations'!AO114,IF($C$144=\"RELATIVE\",'Horizontal Calculations'!AO112,IF($C$144=\"BLOCKS\",'Horizontal Calculations'!AO116,0)))","v":0},{"$f":"IF($C$144=\"FIXED\",'Horizontal Calculations'!AP114,IF($C$144=\"RELATIVE\",'Horizontal Calculations'!AP112,IF($C$144=\"BLOCKS\",'Horizontal Calculations'!AP116,0)))","v":0},{"$f":"IF($C$144=\"FIXED\",'Horizontal Calculations'!AQ114,IF($C$144=\"RELATIVE\",'Horizontal Calculations'!AQ112,IF($C$144=\"BLOCKS\",'Horizontal Calculations'!AQ116,0)))","v":0},{"$f":"IF($C$144=\"FIXED\",'Horizontal Calculations'!AR114,IF($C$144=\"RELATIVE\",'Horizontal Calculations'!AR112,IF($C$144=\"BLOCKS\",'Horizontal Calculations'!AR116,0)))","v":0},{"$f":"IF($C$144=\"FIXED\",'Horizontal Calculations'!AS114,IF($C$144=\"RELATIVE\",'Horizontal Calculations'!AS112,IF($C$144=\"BLOCKS\",'Horizontal Calculations'!AS116,0)))","v":0},{"$f":"IF($C$144=\"FIXED\",'Horizontal Calculations'!AT114,IF($C$144=\"RELATIVE\",'Horizontal Calculations'!AT112,IF($C$144=\"BLOCKS\",'Horizontal Calculations'!AT116,0)))","v":0},{"$f":"IF($C$144=\"FIXED\",'Horizontal Calculations'!AU114,IF($C$144=\"RELATIVE\",'Horizontal Calculations'!AU112,IF($C$144=\"BLOCKS\",'Horizontal Calculations'!AU116,0)))","v":0},{"$f":"IF($C$144=\"FIXED\",'Horizontal Calculations'!AV114,IF($C$144=\"RELATIVE\",'Horizontal Calculations'!AV112,IF($C$144=\"BLOCKS\",'Horizontal Calculations'!AV116,0)))","v":0},{"$f":"IF($C$144=\"FIXED\",'Horizontal Calculations'!AW114,IF($C$144=\"RELATIVE\",'Horizontal Calculations'!AW112,IF($C$144=\"BLOCKS\",'Horizontal Calculations'!AW116,0)))","v":0},{"$f":"IF($C$144=\"FIXED\",'Horizontal Calculations'!AX114,IF($C$144=\"RELATIVE\",'Horizontal Calculations'!AX112,IF($C$144=\"BLOCKS\",'Horizontal Calculations'!AX116,0)))","v":0},{"$f":"IF($C$144=\"FIXED\",'Horizontal Calculations'!AY114,IF($C$144=\"RELATIVE\",'Horizontal Calculations'!AY112,IF($C$144=\"BLOCKS\",'Horizontal Calculations'!AY116,0)))","v":0},{"$f":"IF($C$144=\"FIXED\",'Horizontal Calculations'!AZ114,IF($C$144=\"RELATIVE\",'Horizontal Calculations'!AZ112,IF($C$144=\"BLOCKS\",'Horizontal Calculations'!AZ116,0)))","v":0},{"$f":"IF($C$144=\"FIXED\",'Horizontal Calculations'!BA114,IF($C$144=\"RELATIVE\",'Horizontal Calculations'!BA112,IF($C$144=\"BLOCKS\",'Horizontal Calculations'!BA116,0)))","v":0}]
[]
["LABEL 14"]
["QUANTITY"]
["WIDTH (mm)",{"$nulls":3},"","","","","","","","","","","","","","","","","","","","","","","","","","","","","","","","","","","","","","","","","","","","","","","","","",""]
["HEIGHT  (mm)",{"$nulls":3},"","","","","","","","","","","","","","","","","","","","","","","","","","","","","","","","","","","","","","","","","","","","","","","","","",""]
["COLOUR","-- SELECT --",{"$f":"B150","v":0},null,"","","","","","","","","","","","","","","","","","","","","","","","","","","","","","","","","","","","","","","","","","","","","","","","","",""]
["TEXT SIZE  (mm)","AUTO",null,null,"","","","","","","","","","","","","","","","","","","","","","","","","","","","","","","","","","","","","","","","","","","","","","","","","",""]
["FIXING","-- SELECT --",null,null,"","","","","","","","","","","","","","","","","","","","","","","","","","","","","","","","","","","","","","","","","","","","","","","","","",""]
[{"$nulls":4},"I","I","I","I","I","I","I","I","I","I","I","I","I","I","I","I","I","I","I","I","I","I","I","I","I","I","I","I","I","I","I","I","I","I","I","I","I","I","I","I","I","I","I","I","I","I","I","I","I","I"]
["HOLES REQUIRED",null,"-- SELECT --"]
["HOLE SIZE  (mm)",null,{"$f":"VLOOKUP(C155,'Background Information'!$O$1:$P$4,2,FALSE)","v":0},null,{"$f":"IF($C$155=\"FIXED\",'Horizontal Calculations'!D123,IF($C$155=\"RELATIVE\",'Horizontal Calculations'!D121,IF($C$155=\"BLOCKS\",'Horizontal Calculations'!D125,0)))","v":0},{"$f":"IF($C$155=\"FIXED\",'Horizontal Calculations'!E123,IF($C$155=\"RELATIVE\",'Horizontal Calculations'!E121,IF($C$155=\"BLOCKS\",'Horizontal Calculations'!E125,0)))","v":0},{"$f":"IF($C$155=\"FIXED\",'Horizontal Calculations'!F123,IF($C$155=\"RELATIVE\",'Horizontal Calculations'!F121,IF($C$155=\"BLOCKS\",'Horizontal Calculations'!F125,0)))","v":0},{"$f":"IF($C$155=\"FIXED\",'Horizontal Calculations'!G123,IF($C$155=\"RELATIVE\",'Horizontal Calculations'!G121,IF($C$155=\"BLOCKS\",'Horizontal Calculations'!G125,0)))","v":0},{"$f":"IF($C$155=\"FIXED\",'Horizontal Calculations'!H123,IF($C$155=\"RELATIVE\",'Horizontal Calculations'!H121,IF($C$155=\"BLOCKS\",'Horizontal Calculations'!H125,0)))","v":0},{"$f":"IF($C$155=\"FIXED\",'Horizontal Calculations'!I123,IF($C$155=\"RELATIVE\",'Horizontal Calculations'!I121,IF($C$155=\"BLOCKS\",'Horizontal Calculations'!I125,0)))","v":0},{"$f":"IF($C$155=\"FIXED\",'Horizontal Calculations'!J123,IF($C$155=\"RELATIVE\",'Horizontal Calculations'!J121,IF($C$155=\"BLOCKS\",'Horizontal Calculations'!J125,0)))","v":0},{"$f":"IF($C$155=\"FIXED\",'Horizontal Calculations'!K123,IF($C$155=\"RELATIVE\",'Horizontal Calculations'!K121,IF($C$155=\"BLOCKS\",'Horizontal Calculations'!K125,0)))","v":0},{"$f":"IF($C$155=\"FIXED\",'Horizontal Calculations'!L123,IF($C$155=\"RELATIVE\",'Horizontal Calculations'!L121,IF($C$155=\"BLOCKS\",'Horizontal Calculations'!L125,0)))","v":0},{"$f":"IF($C$155=\"FIXED\",'Horizontal Calculations'!M123,IF($C$155=\"RELATIVE\",'Horizontal Calculations'!M121,IF($C$155=\"BLOCKS\",'Horizontal Calculations'!M125,0)))","v":0},{"$f":"IF($C$155=\"FIXED\",'Horizontal Calculations'!N123,IF($C$155=\"RELATIVE\",'Horizontal Calculations'!N121,IF($C$155=\"BLOCKS\",'Horizontal Calculations'!N125,0)))","v":0},{"$f":"IF($C$155=\"FIXED\",'Horizontal Calculations'!O123,IF($C$155=\"RELATIVE\",'Horizontal Calculations'!O121,IF($C$155=\"BLOCKS\",'Horizontal Calculations'!O125,0)))","v":0},{"$f":"IF($C$155=\"FIXED\",'Horizontal Calculations'!P123,IF($C$155=\"RELATIVE\",'Horizontal Calculations'!P121,IF($C$155=\"BLOCKS\",'Horizontal Calculations'!P125,0)))","v":0},{"$f":"IF($C$155=\"FIXED\",'Horizontal Calculations'!Q123,IF($C$155=\"RELATIVE\",'Horizontal Calculations'!Q121,IF($C$155=\"BLOCKS\",'Horizontal Calculations'!Q125,0)))","v":0},{"$f":"IF($C$155=\"FIXED\",'Horizontal Calculations'!R123,IF($C$155=\"RELATIVE\",'Horizontal Calculations'!R121,IF($C$155=\"BLOCKS\",'Horizontal Calculations'!R125,0)))","v":0},{"$f":"IF($C$155=\"FIXED\",'Horizontal Calculations'!S123,IF($C$155=\"RELATIVE\",'Horizontal Calculations'!S121,IF($C$155=\"BLOCKS\",'Horizontal Calculations'!S125,0)))","v":0},{"$f":"IF($C$155=\"FIXED\",'Horizontal Calculations'!T123,IF($C$155=\"RELATIVE\",'Horizontal Calculations'!T121,IF($C$155=\"BLOCKS\",'Horizontal Calculations'!T125,0)))","v":0},{"$f":"IF($C$155=\"FIXED\",'Horizontal Calculations'!U123,IF($C$155=\"RELATIVE\",'Horizontal Calculations'!U121,IF($C$155=\"BLOCKS\",'Horizontal Calculations'!U125,0)))","v":0},{"$f":"IF($C$155=\"FIXED\",'Horizontal Calculations'!V123,IF($C$155=\"RELATIVE\",'Horizontal Calculations'!V121,IF($C$155=\"BLOCKS\",'Horizontal Calculations'!V125,0)))","v":0},{"$f":"IF($C$155=\"FIXED\",'Horizontal Calculations'!W123,IF($C$155=\"RELATIVE\",'Horizontal Calculations'!W121,IF($C$155=\"BLOCKS\",'Horizontal Calculations'!W125,0)))","v":0},{"$f":"IF($C$155=\"FIXED\",'Horizontal Calculations'!X123,IF($C$155=\"RELATIVE\",'Horizontal Calculations'!X121,IF($C$155=\"BLOCKS\",'Horizontal Calculations'!X125,0)))","v":0},{"$f":"IF($C$155=\"FIXED\",'Horizontal Calculations'!Y123,IF($C$155=\"RELATIVE\",'Horizontal Calculations'!Y121,IF($C$155=\"BLOCKS\",'Horizontal Calculations'!Y125,0)))","v":0},{"$f":"IF($C$155=\"FIXED\",'Horizontal Calculations'!Z123,IF($C$155=\"RELATIVE\",'Horizontal Calculations'!Z121,IF($C$155=\"BLOCKS\",'Horizontal Calculations'!Z125,0)))","v":0},{"$f":"IF($C$155=\"FIXED\",'Horizontal Calculations'!AA123,IF($C$155=\"RELATIVE\",'Horizontal Calculations'!AA121,IF($C$155=\"BLOCKS\",'Horizontal Calculations'!AA125,0)))","v":0},{"$f":"IF($C$155=\"FIXED\",'Horizontal Calculations'!AB123,IF($C$155=\"RELATIVE\",'Horizontal Calculations'!AB121,IF($C$155=\"BLOCKS\",'Horizontal Calculations'!AB125,0)))","v":0},{"$f":"IF($C$155=\"FIXED\",'Horizontal Calculations'!AC123,IF($C$155=\"RELATIVE\",'Horizontal Calculations'!AC121,IF($C$155=\"BLOCKS\",'Horizontal Calculations'!AC125,0)))","v":0},{"$f":"IF($C$155=\"FIXED\",'Horizontal Calculations'!AD123,IF($C$155=\"RELATIVE\",'Horizontal Calculations'!AD121,IF($C$155=\"BLOCKS\",'Horizontal Calculations'!AD125,0)))","v":0},{"$f":"IF($C$155=\"FIXED\",'Horizontal Calculations'!AE123,IF($C$155=\"RELATIVE\",'Horizontal Calculations'!AE121,IF($C$155=\"BLOCKS\",'Horizontal Calculations'!AE125,0)))","v":0},{"$f":"IF($C$155=\"FIXED\",'Horizontal Calculations'!AF123,IF($C$155=\"RELATIVE\",'Horizontal Calculations'!AF121,IF($C$155=\"BLOCKS\",'Horizontal Calculations'!AF125,0)))","v":0},{"$f":"IF($C$155=\"FIXED\",'Horizontal Calculations'!AG123,IF($C$155=\"RELATIVE\",'Horizontal Calculations'!AG121,IF($C$155=\"BLOCKS\",'Horizontal Calculations'!AG125,0)))","v":0},{"$f":"IF($C$155=\"FIXED\",'Horizontal Calculations'!AH123,IF($C$155=\"RELATIVE\",'Horizontal Calculations'!AH121,IF($C$155=\"BLOCKS\",'Horizontal Calculations'!AH125,0)))","v":0},{"$f":"IF($C$155=\"FIXED\",'Horizontal Calculations'!AI123,IF($C$155=\"RELATIVE\",'Horizontal Calculations'!AI121,IF($C$155=\"BLOCKS\",'Horizontal Calculations'!AI125,0)))","v":0},{"$f":"IF($C$155=\"FIXED\",'Horizontal Calculations'!AJ123,IF($C$155=\"RELATIVE\",'Horizontal Calculations'!AJ121,IF($C$155=\"BLOCKS\",'Horizontal Calculations'!AJ125,0)))","v":0},{"$f":"IF($C$155=\"FIXED\",'Horizontal Calculations'!AK123,IF($C$155=\"RELATIVE\",'Horizontal Calculations'!AK121,IF($C$155=\"BLOCKS\",'Horizontal Calculations'!AK125,0)))","v":0},{"$f":"IF($C$155=\"FIXED\",'Horizontal Calculations'!AL123,IF($C$155=\"RELATIVE\",'Horizontal Calculations'!AL121,IF($C$155=\"BLOCKS\",'Horizontal Calculations'!AL125,0)))","v":0},{"$f":"IF($C$155=\"FIXED\",'Horizontal Calculations'!AM123,IF($C$155=\"RELATIVE\",'Horizontal Calculations'!AM121,IF($C$155=\"BLOCKS\",'Horizontal Calculations'!AM125,0)))","v":0},{"$f":"IF($C$155=\"FIXED\",'Horizontal Calculations'!AN123,IF($C$155=\"RELATIVE\",'Horizontal Calculations'!AN121,IF($C$155=\"BLOCKS\",'Horizontal Calculations'!AN125,0)))","v":0},{"$f":"IF($C$155=\"FIXED\",'Horizontal Calculations'!AO123,IF($C$155=\"RELATIVE\",'Horizontal Calculations'!AO121,IF($C$155=\"BLOCKS\",'Horizontal Calculations'!AO125,0)))","v":0},{"$f":"IF($C$155=\"FIXED\",'Horizontal Calculations'!AP123,IF($C$155=\"RELATIVE\",'Horizontal Calculations'!AP121,IF($C$155=\"BLOCKS\",'Horizontal Calculations'!AP125,0)))","v":0},{"$f":"IF($C$155=\"FIXED\",'Horizontal Calculations'!AQ123,IF($C$155=\"RELATIVE\",'Horizontal Calculations'!AQ121,IF($C$155=\"BLOCKS\",'Horizontal Calculations'!AQ125,0)))","v":0},{"$f":"IF($C$155=\"FIXED\",'Horizontal Calculations'!AR123,IF($C$155=\"RELATIVE\",'Horizontal Calculations'!AR121,IF($C$155=\"BLOCKS\",'Horizontal Calculations'!AR125,0)))","v":0},{"$f":"IF($C$155=\"FIXED\",'Horizontal Calculations'!AS123,IF($C$155=\"RELATIVE\",'Horizontal Calculations'!AS121,IF($C$155=\"BLOCKS\",'Horizontal Calculations'!AS125,0)))","v":0},{"$f":"IF($C$155=\"FIXED\",'Horizontal Calculations'!AT123,IF($C$155=\"RELATIVE\",'Horizontal Calculations'!AT121,IF($C$155=\"BLOCKS\",'Horizontal Calculations'!AT125,0)))","v":0},{"$f":"IF($C$155=\"FIXED\",'Horizontal Calculations'!AU123,IF($C$155=\"RELATIVE\",'Horizontal Calculations'!AU121,IF($C$155=\"BLOCKS\",'Horizontal Calculations'!AU125,0)))","v":0},{"$f":"IF($C$155=\"FIXED\",'Horizontal Calculations'!AV123,IF($C$155=\"RELATIVE\",'Horizontal Calculations'!AV121,IF($C$155=\"BLOCKS\",'Horizontal Calculations'!AV125,0)))","v":0},{"$f":"IF($C$155=\"FIXED\",'Horizontal Calculations'!AW123,IF($C$155=\"RELATIVE\",'Horizontal Calculations'!AW121,IF($C$155=\"BLOCKS\",'Horizontal Calculations'!AW125,0)))","v":0},{"$f":"IF($C$155=\"FIXED\",'Horizontal Calculations'!AX123,IF($C$155=\"RELATIVE\",'Horizontal Calculations'!AX121,IF($C$155=\"BLOCKS\",'Horizontal Calculations'!AX125,0)))","v":0},{"$f":"IF($C$155=\"FIXED\",'Horizontal Calculations'!AY123,IF($C$155=\"RELATIVE\",'Horizontal Calculations'!AY121,IF($C$155=\"BLOCKS\",'Horizontal Calculations'!AY125,0)))","v":0},{"$f":"IF($C$155=\"FIXED\",'Horizontal Calculations'!AZ123,IF($C$155=\"RELATIVE\",'Horizontal Calculations'!AZ121,IF($C$155=\"BLOCKS\",'Horizontal Calculations'!AZ125,0)))","v":0},{"$f":"IF($C$155=\"FIXED\",'Horizontal Calculations'!BA123,IF($C$155=\"RELATIVE\",'Horizontal Calculations'!BA121,IF($C$155=\"BLOCKS\",'Horizontal Calculations'!BA125,0)))","v":0}]
[]
["LABEL 15"]
["QUANTITY"]
["WIDTH (mm)",{"$nulls":3},"","","","","","","","","","","","","","","","","","","","","","","","","","","","","","","","","","","","","","","","","","","","","","","","","",""]
["HEIGHT  (mm)",{"$nulls":3},"","","","","","","","","","","","","","","","","","","","","","","","","","","","","","","","","","","","","","","","","","","","","","","","","",""]
["COLOUR","-- SELECT --",{"$f":"B161","v":0},null,"","","","","","","","","","","","","","","","","","","","","","","","","","","","","","","","","","","","","","","","","","","","","","","","","",""]
["TEXT SIZE  (mm)","AUTO",null,null,"","","","","","","","","","","","","","","","","","","","","","","","","","","","","","","","","","","","","","","","","","","","","","","","","",""]
["FIXING","-- SELECT --",null,null,"","","","","","","","","","","","","","","","","","","","","","","","","","","","","","","","","","","","","","","","","","","","","","","","","",""]
[{"$nulls":4},"I","I","I","I","I","I","I","I","I","I","I","I","I","I","I","I","I","I","I","I","I","I","I","I","I","I","I","I","I","I","I","I","I","I","I","I","I","I","I","I","I","I","I","I","I","I","I","I","I","I"]
["HOLES REQUIRED",null,"-- SELECT --"]
["HOLE SIZE  (mm)",null,{"$f":"VLOOKUP(C166,'Background Information'!$O$1:$P$4,2,FALSE)","v":0},null,{"$f":"IF($C$166=\"FIXED\",'Horizontal Calculations'!D132,IF($C$166=\"RELATIVE\",'Horizontal Calculations'!D130,IF($C$166=\"BLOCKS\",'Horizontal Calculations'!D134,0)))","v":0},{"$f":"IF($C$166=\"FIXED\",'Horizontal Calculations'!E132,IF($C$166=\"RELATIVE\",'Horizontal Calculations'!E130,IF($C$166=\"BLOCKS\",'Horizontal Calculations'!E134,0)))","v":0},{"$f":"IF($C$166=\"FIXED\",'Horizontal Calculations'!F132,IF($C$166=\"RELATIVE\",'Horizontal Calculations'!F130,IF($C$166=\"BLOCKS\",'Horizontal Calculations'!F134,0)))","v":0},{"$f":"IF($C$166=\"FIXED\",'Horizontal Calculations'!G132,IF($C$166=\"RELATIVE\",'Horizontal Calculations'!G130,IF($C$166=\"BLOCKS\",'Horizontal Calculations'!G134,0)))","v":0},{"$f":"IF($C$166=\"FIXED\",'Horizontal Calculations'!H132,IF($C$166=\"RELATIVE\",'Horizontal Calculations'!H130,IF($C$166=\"BLOCKS\",'Horizontal Calculations'!H134,0)))","v":0},{"$f":"IF($C$166=\"FIXED\",'Horizontal Calculations'!I132,IF($C$166=\"RELATIVE\",'Horizontal Calculations'!I130,IF($C$166=\"BLOCKS\",'Horizontal Calculations'!I134,0)))","v":0},{"$f":"IF($C$166=\"FIXED\",'Horizontal Calculations'!J132,IF($C$166=\"RELATIVE\",'Horizontal Calculations'!J130,IF($C$166=\"BLOCKS\",'Horizontal Calculations'!J134,0)))","v":0},{"$f":"IF($C$166=\"FIXED\",'Horizontal Calculations'!K132,IF($C$166=\"RELATIVE\",'Horizontal Calculations'!K130,IF($C$166=\"BLOCKS\",'Horizontal Calculations'!K134,0)))","v":0},{"$f":"IF($C$166=\"FIXED\",'Horizontal Calculations'!L132,IF($C$166=\"RELATIVE\",'Horizontal Calculations'!L130,IF($C$166=\"BLOCKS\",'Horizontal Calculations'!L134,0)))","v":0},{"$f":"IF($C$166=\"FIXED\",'Horizontal Calculations'!M132,IF($C$166=\"RELATIVE\",'Horizontal Calculations'!M130,IF($C$166=\"BLOCKS\",'Horizontal Calculations'!M134,0)))","v":0},{"$f":"IF($C$166=\"FIXED\",'Horizontal Calculations'!N132,IF($C$166=\"RELATIVE\",'Horizontal Calculations'!N130,IF($C$166=\"BLOCKS\",'Horizontal Calculations'!N134,0)))","v":0},{"$f":"IF($C$166=\"FIXED\",'Horizontal Calculations'!O132,IF($C$166=\"RELATIVE\",'Horizontal Calculations'!O130,IF($C$166=\"BLOCKS\",'Horizontal Calculations'!O134,0)))","v":0},{"$f":"IF($C$166=\"FIXED\",'Horizontal Calculations'!P132,IF($C$166=\"RELATIVE\",'Horizontal Calculations'!P130,IF($C$166=\"BLOCKS\",'Horizontal Calculations'!P134,0)))","v":0},{"$f":"IF($C$166=\"FIXED\",'Horizontal Calculations'!Q132,IF($C$166=\"RELATIVE\",'Horizontal Calculations'!Q130,IF($C$166=\"BLOCKS\",'Horizontal Calculations'!Q134,0)))","v":0},{"$f":"IF($C$166=\"FIXED\",'Horizontal Calculations'!R132,IF($C$166=\"RELATIVE\",'Horizontal Calculations'!R130,IF($C$166=\"BLOCKS\",'Horizontal Calculations'!R134,0)))","v":0},{"$f":"IF($C$166=\"FIXED\",'Horizontal Calculations'!S132,IF($C$166=\"RELATIVE\",'Horizontal Calculations'!S130,IF($C$166=\"BLOCKS\",'Horizontal Calculations'!S134,0)))","v":0},{"$f":"IF($C$166=\"FIXED\",'Horizontal Calculations'!T132,IF($C$166=\"RELATIVE\",'Horizontal Calculations'!T130,IF($C$166=\"BLOCKS\",'Horizontal Calculations'!T134,0)))","v":0},{"$f":"IF($C$166=\"FIXED\",'Horizontal Calculations'!U132,IF($C$166=\"RELATIVE\",'Horizontal Calculations'!U130,IF($C$166=\"BLOCKS\",'Horizontal Calculations'!U134,0)))","v":0},{"$f":"IF($C$166=\"FIXED\",'Horizontal Calculations'!V132,IF($C$166=\"RELATIVE\",'Horizontal Calculations'!V130,IF($C$166=\"BLOCKS\",'Horizontal Calculations'!V134,0)))","v":0},{"$f":"IF($C$166=\"FIXED\",'Horizontal Calculations'!W132,IF($C$166=\"RELATIVE\",'Horizontal Calculations'!W130,IF($C$166=\"BLOCKS\",'Horizontal Calculations'!W134,0)))","v":0},{"$f":"IF($C$166=\"FIXED\",'Horizontal Calculations'!X132,IF($C$166=\"RELATIVE\",'Horizontal Calculations'!X130,IF($C$166=\"BLOCKS\",'Horizontal Calculations'!X134,0)))","v":0},{"$f":"IF($C$166=\"FIXED\",'Horizontal Calculations'!Y132,IF($C$166=\"RELATIVE\",'Horizontal Calculations'!Y130,IF($C$166=\"BLOCKS\",'Horizontal Calculations'!Y134,0)))","v":0},{"$f":"IF($C$166=\"FIXED\",'Horizontal Calculations'!Z132,IF($C$166=\"RELATIVE\",'Horizontal Calculations'!Z130,IF($C$166=\"BLOCKS\",'Horizontal Calculations'!Z134,0)))","v":0},{"$f":"IF($C$166=\"FIXED\",'Horizontal Calculations'!AA132,IF($C$166=\"RELATIVE\",'Horizontal Calculations'!AA130,IF($C$166=\"BLOCKS\",'Horizontal Calculations'!AA134,0)))","v":0},{"$f":"IF($C$166=\"FIXED\",'Horizontal Calculations'!AB132,IF($C$166=\"RELATIVE\",'Horizontal Calculations'!AB130,IF($C$166=\"BLOCKS\",'Horizontal Calculations'!AB134,0)))","v":0},{"$f":"IF($C$166=\"FIXED\",'Horizontal Calculations'!AC132,IF($C$166=\"RELATIVE\",'Horizontal Calculations'!AC130,IF($C$166=\"BLOCKS\",'Horizontal Calculations'!AC134,0)))","v":0},{"$f":"IF($C$166=\"FIXED\",'Horizontal Calculations'!AD132,IF($C$166=\"RELATIVE\",'Horizontal Calculations'!AD130,IF($C$166=\"BLOCKS\",'Horizontal Calculations'!AD134,0)))","v":0},{"$f":"IF($C$166=\"FIXED\",'Horizontal Calculations'!AE132,IF($C$166=\"RELATIVE\",'Horizontal Calculations'!AE130,IF($C$166=\"BLOCKS\",'Horizontal Calculations'!AE134,0)))","v":0},{"$f":"IF($C$166=\"FIXED\",'Horizontal Calculations'!AF132,IF($C$166=\"RELATIVE\",'Horizontal Calculations'!AF130,IF($C$166=\"BLOCKS\",'Horizontal Calculations'!AF134,0)))","v":0},{"$f":"IF($C$166=\"FIXED\",'Horizontal Calculations'!AG132,IF($C$166=\"RELATIVE\",'Horizontal Calculations'!AG130,IF($C$166=\"BLOCKS\",'Horizontal Calculations'!AG134,0)))","v":0},{"$f":"IF($C$166=\"FIXED\",'Horizontal Calculations'!AH132,IF($C$166=\"RELATIVE\",'Horizontal Calculations'!AH130,IF($C$166=\"BLOCKS\",'Horizontal Calculations'!AH134,0)))","v":0},{"$f":"IF($C$166=\"FIXED\",'Horizontal Calculations'!AI132,IF($C$166=\"RELATIVE\",'Horizontal Calculations'!AI130,IF($C$166=\"BLOCKS\",'Horizontal Calculations'!AI134,0)))","v":0},{"$f":"IF($C$166=\"FIXED\",'Horizontal Calculations'!AJ132,IF($C$166=\"RELATIVE\",'Horizontal Calculations'!AJ130,IF($C$166=\"BLOCKS\",'Horizontal Calculations'!AJ134,0)))","v":0},{"$f":"IF($C$166=\"FIXED\",'Horizontal Calculations'!AK132,IF($C$166=\"RELATIVE\",'Horizontal Calculations'!AK130,IF($C$166=\"BLOCKS\",'Horizontal Calculations'!AK134,0)))","v":0},{"$f":"IF($C$166=\"FIXED\",'Horizontal Calculations'!AL132,IF($C$166=\"RELATIVE\",'Horizontal Calculations'!AL130,IF($C$166=\"BLOCKS\",'Horizontal Calculations'!AL134,0)))","v":0},{"$f":"IF($C$166=\"FIXED\",'Horizontal Calculations'!AM132,IF($C$166=\"RELATIVE\",'Horizontal Calculations'!AM130,IF($C$166=\"BLOCKS\",'Horizontal Calculations'!AM134,0)))","v":0},{"$f":"IF($C$166=\"FIXED\",'Horizontal Calculations'!AN132,IF($C$166=\"RELATIVE\",'Horizontal Calculations'!AN130,IF($C$166=\"BLOCKS\",'Horizontal Calculations'!AN134,0)))","v":0},{"$f":"IF($C$166=\"FIXED\",'Horizontal Calculations'!AO132,IF($C$166=\"RELATIVE\",'Horizontal Calculations'!AO130,IF($C$166=\"BLOCKS\",'Horizontal Calculations'!AO134,0)))","v":0},{"$f":"IF($C$166=\"FIXED\",'Horizontal Calculations'!AP132,IF($C$166=\"RELATIVE\",'Horizontal Calculations'!AP130,IF($C$166=\"BLOCKS\",'Horizontal Calculations'!AP134,0)))","v":0},{"$f":"IF($C$166=\"FIXED\",'Horizontal Calculations'!AQ132,IF($C$166=\"RELATIVE\",'Horizontal Calculations'!AQ130,IF($C$166=\"BLOCKS\",'Horizontal Calculations'!AQ134,0)))","v":0},{"$f":"IF($C$166=\"FIXED\",'Horizontal Calculations'!AR132,IF($C$166=\"RELATIVE\",'Horizontal Calculations'!AR130,IF($C$166=\"BLOCKS\",'Horizontal Calculations'!AR134,0)))","v":0},{"$f":"IF($C$166=\"FIXED\",'Horizontal Calculations'!AS132,IF($C$166=\"RELATIVE\",'Horizontal Calculations'!AS130,IF($C$166=\"BLOCKS\",'Horizontal Calculations'!AS134,0)))","v":0},{"$f":"IF($C$166=\"FIXED\",'Horizontal Calculations'!AT132,IF($C$166=\"RELATIVE\",'Horizontal Calculations'!AT130,IF($C$166=\"BLOCKS\",'Horizontal Calculations'!AT134,0)))","v":0},{"$f":"IF($C$166=\"FIXED\",'Horizontal Calculations'!AU132,IF($C$166=\"RELATIVE\",'Horizontal Calculations'!AU130,IF($C$166=\"BLOCKS\",'Horizontal Calculations'!AU134,0)))","v":0},{"$f":"IF($C$166=\"FIXED\",'Horizontal Calculations'!AV132,IF($C$166=\"RELATIVE\",'Horizontal Calculations'!AV130,IF($C$166=\"BLOCKS\",'Horizontal Calculations'!AV134,0)))","v":0},{"$f":"IF($C$166=\"FIXED\",'Horizontal Calculations'!AW132,IF($C$166=\"RELATIVE\",'Horizontal Calculations'!AW130,IF($C$166=\"BLOCKS\",'Horizontal Calculations'!AW134,0)))","v":0},{"$f":"IF($C$166=\"FIXED\",'Horizontal Calculations'!AX132,IF($C$166=\"RELATIVE\",'Horizontal Calculations'!AX130,IF($C$166=\"BLOCKS\",'Horizontal Calculations'!AX134,0)))","v":0},{"$f":"IF($C$166=\"FIXED\",'Horizontal Calculations'!AY132,IF($C$166=\"RELATIVE\",'Horizontal Calculations'!AY130,IF($C$166=\"BLOCKS\",'Horizontal Calculations'!AY134,0)))","v":0},{"$f":"IF($C$166=\"FIXED\",'Horizontal Calculations'!AZ132,IF($C$166=\"RELATIVE\",'Horizontal Calculations'!AZ130,IF($C$166=\"BLOCKS\",'Horizontal Calculations'!AZ134,0)))","v":0},{"$f":"IF($C$166=\"FIXED\",'Horizontal Calculations'!BA132,IF($C$166=\"RELATIVE\",'Horizontal Calculations'!BA130,IF($C$166=\"BLOCKS\",'Horizontal Calculations'!BA134,0)))","v":0}]
[]
["LABEL 16"]
["QUANTITY"]
["WIDTH (mm)",{"$nulls":3},"","","","","","","","","","","","","","","","","","","","","","","","","","","","","","","","","","","","","","","","","","","","","","","","","",""]
["HEIGHT  (mm)",{"$nulls":3},"","","","","","","","","","","","","","","","","","","","","","","","","","","","","","","","","","","","","","","","","","","","","","","","","",""]
["COLOUR","-- SELECT --",{"$f":"B172","v":0},null,"","","","","","","","","","","","","","","","","","","","","","","","","","","","","","","","","","","","","","","","","","","","","","","","","",""]
["TEXT SIZE  (mm)","AUTO",null,null,"","","","","","","","","","","","","","","","","","","","","","","","","","","","","","","","","","","","","","","","","","","","","","","","","",""]
["FIXING","-- SELECT --",null,null,"","","","","","","","","","","","","","","","","","","","","","","","","","","","","","","","","","","","","","","","","","","","","","","","","",""]
[{"$nulls":4},"I","I","I","I","I","I","I","I","I","I","I","I","I","I","I","I","I","I","I","I","I","I","I","I","I","I","I","I","I","I","I","I","I","I","I","I","I","I","I","I","I","I","I","I","I","I","I","I","I","I"]
["HOLES REQUIRED",null,"-- SELECT --"]
["HOLE SIZE  (mm)",null,{"$f":"VLOOKUP(C177,'Background Information'!$O$1:$P$4,2,FALSE)","v":0},null,{"$f":"IF($C$177=\"FIXED\",'Horizontal Calculations'!D141,IF($C$177=\"RELATIVE\",'Horizontal Calculations'!D139,IF($C$177=\"BLOCKS\",'Horizontal Calculations'!D143,0)))","v":0},{"$f":"IF($C$177=\"FIXED\",'Horizontal Calculations'!E141,IF($C$177=\"RELATIVE\",'Horizontal Calculations'!E139,IF($C$177=\"BLOCKS\",'Horizontal Calculations'!E143,0)))","v":0},{"$f":"IF($C$177=\"FIXED\",'Horizontal Calculations'!F141,IF($C$177=\"RELATIVE\",'Horizontal Calculations'!F139,IF($C$177=\"BLOCKS\",'Horizontal Calculations'!F143,0)))","v":0},{"$f":"IF($C$177=\"FIXED\",'Horizontal Calculations'!G141,IF($C$177=\"RELATIVE\",'Horizontal Calculations'!G139,IF($C$177=\"BLOCKS\",'Horizontal Calculations'!G143,0)))","v":0},{"$f":"IF($C$177=\"FIXED\",'Horizontal Calculations'!H141,IF($C$177=\"RELATIVE\",'Horizontal Calculations'!H139,IF($C$177=\"BLOCKS\",'Horizontal Calculations'!H143,0)))","v":0},{"$f":"IF($C$177=\"FIXED\",'Horizontal Calculations'!I141,IF($C$177=\"RELATIVE\",'Horizontal Calculations'!I139,IF($C$177=\"BLOCKS\",'Horizontal Calculations'!I143,0)))","v":0},{"$f":"IF($C$177=\"FIXED\",'Horizontal Calculations'!J141,IF($C$177=\"RELATIVE\",'Horizontal Calculations'!J139,IF($C$177=\"BLOCKS\",'Horizontal Calculations'!J143,0)))","v":0},{"$f":"IF($C$177=\"FIXED\",'Horizontal Calculations'!K141,IF($C$177=\"RELATIVE\",'Horizontal Calculations'!K139,IF($C$177=\"BLOCKS\",'Horizontal Calculations'!K143,0)))","v":0},{"$f":"IF($C$177=\"FIXED\",'Horizontal Calculations'!L141,IF($C$177=\"RELATIVE\",'Horizontal Calculations'!L139,IF($C$177=\"BLOCKS\",'Horizontal Calculations'!L143,0)))","v":0},{"$f":"IF($C$177=\"FIXED\",'Horizontal Calculations'!M141,IF($C$177=\"RELATIVE\",'Horizontal Calculations'!M139,IF($C$177=\"BLOCKS\",'Horizontal Calculations'!M143,0)))","v":0},{"$f":"IF($C$177=\"FIXED\",'Horizontal Calculations'!N141,IF($C$177=\"RELATIVE\",'Horizontal Calculations'!N139,IF($C$177=\"BLOCKS\",'Horizontal Calculations'!N143,0)))","v":0},{"$f":"IF($C$177=\"FIXED\",'Horizontal Calculations'!O141,IF($C$177=\"RELATIVE\",'Horizontal Calculations'!O139,IF($C$177=\"BLOCKS\",'Horizontal Calculations'!O143,0)))","v":0},{"$f":"IF($C$177=\"FIXED\",'Horizontal Calculations'!P141,IF($C$177=\"RELATIVE\",'Horizontal Calculations'!P139,IF($C$177=\"BLOCKS\",'Horizontal Calculations'!P143,0)))","v":0},{"$f":"IF($C$177=\"FIXED\",'Horizontal Calculations'!Q141,IF($C$177=\"RELATIVE\",'Horizontal Calculations'!Q139,IF($C$177=\"BLOCKS\",'Horizontal Calculations'!Q143,0)))","v":0},{"$f":"IF($C$177=\"FIXED\",'Horizontal Calculations'!R141,IF($C$177=\"RELATIVE\",'Horizontal Calculations'!R139,IF($C$177=\"BLOCKS\",'Horizontal Calculations'!R143,0)))","v":0},{"$f":"IF($C$177=\"FIXED\",'Horizontal Calculations'!S141,IF($C$177=\"RELATIVE\",'Horizontal Calculations'!S139,IF($C$177=\"BLOCKS\",'Horizontal Calculations'!S143,0)))","v":0},{"$f":"IF($C$177=\"FIXED\",'Horizontal Calculations'!T141,IF($C$177=\"RELATIVE\",'Horizontal Calculations'!T139,IF($C$177=\"BLOCKS\",'Horizontal Calculations'!T143,0)))","v":0},{"$f":"IF($C$177=\"FIXED\",'Horizontal Calculations'!U141,IF($C$177=\"RELATIVE\",'Horizontal Calculations'!U139,IF($C$177=\"BLOCKS\",'Horizontal Calculations'!U143,0)))","v":0},{"$f":"IF($C$177=\"FIXED\",'Horizontal Calculations'!V141,IF($C$177=\"RELATIVE\",'Horizontal Calculations'!V139,IF($C$177=\"BLOCKS\",'Horizontal Calculations'!V143,0)))","v":0},{"$f":"IF($C$177=\"FIXED\",'Horizontal Calculations'!W141,IF($C$177=\"RELATIVE\",'Horizontal Calculations'!W139,IF($C$177=\"BLOCKS\",'Horizontal Calculations'!W143,0)))","v":0},{"$f":"IF($C$177=\"FIXED\",'Horizontal Calculations'!X141,IF($C$177=\"RELATIVE\",'Horizontal Calculations'!X139,IF($C$177=\"BLOCKS\",'Horizontal Calculations'!X143,0)))","v":0},{"$f":"IF($C$177=\"FIXED\",'Horizontal Calculations'!Y141,IF($C$177=\"RELATIVE\",'Horizontal Calculations'!Y139,IF($C$177=\"BLOCKS\",'Horizontal Calculations'!Y143,0)))","v":0},{"$f":"IF($C$177=\"FIXED\",'Horizontal Calculations'!Z141,IF($C$177=\"RELATIVE\",'Horizontal Calculations'!Z139,IF($C$177=\"BLOCKS\",'Horizontal Calculations'!Z143,0)))","v":0},{"$f":"IF($C$177=\"FIXED\",'Horizontal Calculations'!AA141,IF($C$177=\"RELATIVE\",'Horizontal Calculations'!AA139,IF($C$177=\"BLOCKS\",'Horizontal Calculations'!AA143,0)))","v":0},{"$f":"IF($C$177=\"FIXED\",'Horizontal Calculations'!AB141,IF($C$177=\"RELATIVE\",'Horizontal Calculations'!AB139,IF($C$177=\"BLOCKS\",'Horizontal Calculations'!AB143,0)))","v":0},{"$f":"IF($C$177=\"FIXED\",'Horizontal Calculations'!AC141,IF($C$177=\"RELATIVE\",'Horizontal Calculations'!AC139,IF($C$177=\"BLOCKS\",'Horizontal Calculations'!AC143,0)))","v":0},{"$f":"IF($C$177=\"FIXED\",'Horizontal Calculations'!AD141,IF($C$177=\"RELATIVE\",'Horizontal Calculations'!AD139,IF($C$177=\"BLOCKS\",'Horizontal Calculations'!AD143,0)))","v":0},{"$f":"IF($C$177=\"FIXED\",'Horizontal Calculations'!AE141,IF($C$177=\"RELATIVE\",'Horizontal Calculations'!AE139,IF($C$177=\"BLOCKS\",'Horizontal Calculations'!AE143,0)))","v":0},{"$f":"IF($C$177=\"FIXED\",'Horizontal Calculations'!AF141,IF($C$177=\"RELATIVE\",'Horizontal Calculations'!AF139,IF($C$177=\"BLOCKS\",'Horizontal Calculations'!AF143,0)))","v":0},{"$f":"IF($C$177=\"FIXED\",'Horizontal Calculations'!AG141,IF($C$177=\"RELATIVE\",'Horizontal Calculations'!AG139,IF($C$177=\"BLOCKS\",'Horizontal Calculations'!AG143,0)))","v":0},{"$f":"IF($C$177=\"FIXED\",'Horizontal Calculations'!AH141,IF($C$177=\"RELATIVE\",'Horizontal Calculations'!AH139,IF($C$177=\"BLOCKS\",'Horizontal Calculations'!AH143,0)))","v":0},{"$f":"IF($C$177=\"FIXED\",'Horizontal Calculations'!AI141,IF($C$177=\"RELATIVE\",'Horizontal Calculations'!AI139,IF($C$177=\"BLOCKS\",'Horizontal Calculations'!AI143,0)))","v":0},{"$f":"IF($C$177=\"FIXED\",'Horizontal Calculations'!AJ141,IF($C$177=\"RELATIVE\",'Horizontal Calculations'!AJ139,IF($C$177=\"BLOCKS\",'Horizontal Calculations'!AJ143,0)))","v":0},{"$f":"IF($C$177=\"FIXED\",'Horizontal Calculations'!AK141,IF($C$177=\"RELATIVE\",'Horizontal Calculations'!AK139,IF($C$177=\"BLOCKS\",'Horizontal Calculations'!AK143,0)))","v":0},{"$f":"IF($C$177=\"FIXED\",'Horizontal Calculations'!AL141,IF($C$177=\"RELATIVE\",'Horizontal Calculations'!AL139,IF($C$177=\"BLOCKS\",'Horizontal Calculations'!AL143,0)))","v":0},{"$f":"IF($C$177=\"FIXED\",'Horizontal Calculations'!AM141,IF($C$177=\"RELATIVE\",'Horizontal Calculations'!AM139,IF($C$177=\"BLOCKS\",'Horizontal Calculations'!AM143,0)))","v":0},{"$f":"IF($C$177=\"FIXED\",'Horizontal Calculations'!AN141,IF($C$177=\"RELATIVE\",'Horizontal Calculations'!AN139,IF($C$177=\"BLOCKS\",'Horizontal Calculations'!AN143,0)))","v":0},{"$f":"IF($C$177=\"FIXED\",'Horizontal Calculations'!AO141,IF($C$177=\"RELATIVE\",'Horizontal Calculations'!AO139,IF($C$177=\"BLOCKS\",'Horizontal Calculations'!AO143,0)))","v":0},{"$f":"IF($C$177=\"FIXED\",'Horizontal Calculations'!AP141,IF($C$177=\"RELATIVE\",'Horizontal Calculations'!AP139,IF($C$177=\"BLOCKS\",'Horizontal Calculations'!AP143,0)))","v":0},{"$f":"IF($C$177=\"FIXED\",'Horizontal Calculations'!AQ141,IF($C$177=\"RELATIVE\",'Horizontal Calculations'!AQ139,IF($C$177=\"BLOCKS\",'Horizontal Calculations'!AQ143,0)))","v":0},{"$f":"IF($C$177=\"FIXED\",'Horizontal Calculations'!AR141,IF($C$177=\"RELATIVE\",'Horizontal Calculations'!AR139,IF($C$177=\"BLOCKS\",'Horizontal Calculations'!AR143,0)))","v":0},{"$f":"IF($C$177=\"FIXED\",'Horizontal Calculations'!AS141,IF($C$177=\"RELATIVE\",'Horizontal Calculations'!AS139,IF($C$177=\"BLOCKS\",'Horizontal Calculations'!AS143,0)))","v":0},{"$f":"IF($C$177=\"FIXED\",'Horizontal Calculations'!AT141,IF($C$177=\"RELATIVE\",'Horizontal Calculations'!AT139,IF($C$177=\"BLOCKS\",'Horizontal Calculations'!AT143,0)))","v":0},{"$f":"IF($C$177=\"FIXED\",'Horizontal Calculations'!AU141,IF($C$177=\"RELATIVE\",'Horizontal Calculations'!AU139,IF($C$177=\"BLOCKS\",'Horizontal Calculations'!AU143,0)))","v":0},{"$f":"IF($C$177=\"FIXED\",'Horizontal Calculations'!AV141,IF($C$177=\"RELATIVE\",'Horizontal Calculations'!AV139,IF($C$177=\"BLOCKS\",'Horizontal Calculations'!AV143,0)))","v":0},{"$f":"IF($C$177=\"FIXED\",'Horizontal Calculations'!AW141,IF($C$177=\"RELATIVE\",'Horizontal Calculations'!AW139,IF($C$177=\"BLOCKS\",'Horizontal Calculations'!AW143,0)))","v":0},{"$f":"IF($C$177=\"FIXED\",'Horizontal Calculations'!AX141,IF($C$177=\"RELATIVE\",'Horizontal Calculations'!AX139,IF($C$177=\"BLOCKS\",'Horizontal Calculations'!AX143,0)))","v":0},{"$f":"IF($C$177=\"FIXED\",'Horizontal Calculations'!AY141,IF($C$177=\"RELATIVE\",'Horizontal Calculations'!AY139,IF($C$177=\"BLOCKS\",'Horizontal Calculations'!AY143,0)))","v":0},{"$f":"IF($C$177=\"FIXED\",'Horizontal Calculations'!AZ141,IF($C$177=\"RELATIVE\",'Horizontal Calculations'!AZ139,IF($C$177=\"BLOCKS\",'Horizontal Calculations'!AZ143,0)))","v":0},{"$f":"IF($C$177=\"FIXED\",'Horizontal Calculations'!BA141,IF($C$177=\"RELATIVE\",'Horizontal Calculations'!BA139,IF($C$177=\"BLOCKS\",'Horizontal Calculations'!BA143,0)))","v":0}]
[]
["LABEL 17"]
["QUANTITY"]
["WIDTH (mm)",{"$nulls":3},"","","","","","","","","","","","","","","","","","","","","","","","","","","","","","","","","","","","","","","","","","","","","","","","","",""]
["HEIGHT  (mm)",{"$nulls":3},"","","","","","","","","","","","","","","","","","","","","","","","","","","","","","","","","","","","","","","","","","","","","","","","","",""]
["COLOUR","-- SELECT --",{"$f":"B183","v":0},null,"","","","","","","","","","","","","","","","","","","","","","","","","","","","","","","","","","","","","","","","","","","","","","","","","",""]
["TEXT SIZE  (mm)","AUTO",null,null,"","","","","","","","","","","","","","","","","","","","","","","","","","","","","","","","","","","","","","","","","","","","","","","","","",""]
["FIXING","-- SELECT --",null,null,"","","","","","","","","","","","","","","","","","","","","","","","","","","","","","","","","","","","","","","","","","","","","","","","","",""]
[{"$nulls":4},"I","I","I","I","I","I","I","I","I","I","I","I","I","I","I","I","I","I","I","I","I","I","I","I","I","I","I","I","I","I","I","I","I","I","I","I","I","I","I","I","I","I","I","I","I","I","I","I","I","I"]
["HOLES REQUIRED",null,"-- SELECT --"]
["HOLE SIZE  (mm)",null,{"$f":"VLOOKUP(C188,'Background Information'!$O$1:$P$4,2,FALSE)","v":0},null,{"$f":"IF($C$188=\"FIXED\",'Horizontal Calculations'!D150,IF($C$188=\"RELATIVE\",'Horizontal Calculations'!D148,IF($C$188=\"BLOCKS\",'Horizontal Calculations'!D152,0)))","v":0},{"$f":"IF($C$188=\"FIXED\",'Horizontal Calculations'!E150,IF($C$188=\"RELATIVE\",'Horizontal Calculations'!E148,IF($C$188=\"BLOCKS\",'Horizontal Calculations'!E152,0)))","v":0},{"$f":"IF($C$188=\"FIXED\",'Horizontal Calculations'!F150,IF($C$188=\"RELATIVE\",'Horizontal Calculations'!F148,IF($C$188=\"BLOCKS\",'Horizontal Calculations'!F152,0)))","v":0},{"$f":"IF($C$188=\"FIXED\",'Horizontal Calculations'!G150,IF($C$188=\"RELATIVE\",'Horizontal Calculations'!G148,IF($C$188=\"BLOCKS\",'Horizontal Calculations'!G152,0)))","v":0},{"$f":"IF($C$188=\"FIXED\",'Horizontal Calculations'!H150,IF($C$188=\"RELATIVE\",'Horizontal Calculations'!H148,IF($C$188=\"BLOCKS\",'Horizontal Calculations'!H152,0)))","v":0},{"$f":"IF($C$188=\"FIXED\",'Horizontal Calculations'!I150,IF($C$188=\"RELATIVE\",'Horizontal Calculations'!I148,IF($C$188=\"BLOCKS\",'Horizontal Calculations'!I152,0)))","v":0},{"$f":"IF($C$188=\"FIXED\",'Horizontal Calculations'!J150,IF($C$188=\"RELATIVE\",'Horizontal Calculations'!J148,IF($C$188=\"BLOCKS\",'Horizontal Calculations'!J152,0)))","v":0},{"$f":"IF($C$188=\"FIXED\",'Horizontal Calculations'!K150,IF($C$188=\"RELATIVE\",'Horizontal Calculations'!K148,IF($C$188=\"BLOCKS\",'Horizontal Calculations'!K152,0)))","v":0},{"$f":"IF($C$188=\"FIXED\",'Horizontal Calculations'!L150,IF($C$188=\"RELATIVE\",'Horizontal Calculations'!L148,IF($C$188=\"BLOCKS\",'Horizontal Calculations'!L152,0)))","v":0},{"$f":"IF($C$188=\"FIXED\",'Horizontal Calculations'!M150,IF($C$188=\"RELATIVE\",'Horizontal Calculations'!M148,IF($C$188=\"BLOCKS\",'Horizontal Calculations'!M152,0)))","v":0},{"$f":"IF($C$188=\"FIXED\",'Horizontal Calculations'!N150,IF($C$188=\"RELATIVE\",'Horizontal Calculations'!N148,IF($C$188=\"BLOCKS\",'Horizontal Calculations'!N152,0)))","v":0},{"$f":"IF($C$188=\"FIXED\",'Horizontal Calculations'!O150,IF($C$188=\"RELATIVE\",'Horizontal Calculations'!O148,IF($C$188=\"BLOCKS\",'Horizontal Calculations'!O152,0)))","v":0},{"$f":"IF($C$188=\"FIXED\",'Horizontal Calculations'!P150,IF($C$188=\"RELATIVE\",'Horizontal Calculations'!P148,IF($C$188=\"BLOCKS\",'Horizontal Calculations'!P152,0)))","v":0},{"$f":"IF($C$188=\"FIXED\",'Horizontal Calculations'!Q150,IF($C$188=\"RELATIVE\",'Horizontal Calculations'!Q148,IF($C$188=\"BLOCKS\",'Horizontal Calculations'!Q152,0)))","v":0},{"$f":"IF($C$188=\"FIXED\",'Horizontal Calculations'!R150,IF($C$188=\"RELATIVE\",'Horizontal Calculations'!R148,IF($C$188=\"BLOCKS\",'Horizontal Calculations'!R152,0)))","v":0},{"$f":"IF($C$188=\"FIXED\",'Horizontal Calculations'!S150,IF($C$188=\"RELATIVE\",'Horizontal Calculations'!S148,IF($C$188=\"BLOCKS\",'Horizontal Calculations'!S152,0)))","v":0},{"$f":"IF($C$188=\"FIXED\",'Horizontal Calculations'!T150,IF($C$188=\"RELATIVE\",'Horizontal Calculations'!T148,IF($C$188=\"BLOCKS\",'Horizontal Calculations'!T152,0)))","v":0},{"$f":"IF($C$188=\"FIXED\",'Horizontal Calculations'!U150,IF($C$188=\"RELATIVE\",'Horizontal Calculations'!U148,IF($C$188=\"BLOCKS\",'Horizontal Calculations'!U152,0)))","v":0},{"$f":"IF($C$188=\"FIXED\",'Horizontal Calculations'!V150,IF($C$188=\"RELATIVE\",'Horizontal Calculations'!V148,IF($C$188=\"BLOCKS\",'Horizontal Calculations'!V152,0)))","v":0},{"$f":"IF($C$188=\"FIXED\",'Horizontal Calculations'!W150,IF($C$188=\"RELATIVE\",'Horizontal Calculations'!W148,IF($C$188=\"BLOCKS\",'Horizontal Calculations'!W152,0)))","v":0},{"$f":"IF($C$188=\"FIXED\",'Horizontal Calculations'!X150,IF($C$188=\"RELATIVE\",'Horizontal Calculations'!X148,IF($C$188=\"BLOCKS\",'Horizontal Calculations'!X152,0)))","v":0},{"$f":"IF($C$188=\"FIXED\",'Horizontal Calculations'!Y150,IF($C$188=\"RELATIVE\",'Horizontal Calculations'!Y148,IF($C$188=\"BLOCKS\",'Horizontal Calculations'!Y152,0)))","v":0},{"$f":"IF($C$188=\"FIXED\",'Horizontal Calculations'!Z150,IF($C$188=\"RELATIVE\",'Horizontal Calculations'!Z148,IF($C$188=\"BLOCKS\",'Horizontal Calculations'!Z152,0)))","v":0},{"$f":"IF($C$188=\"FIXED\",'Horizontal Calculations'!AA150,IF($C$188=\"RELATIVE\",'Horizontal Calculations'!AA148,IF($C$188=\"BLOCKS\",'Horizontal Calculations'!AA152,0)))","v":0},{"$f":"IF($C$188=\"FIXED\",'Horizontal Calculations'!AB150,IF($C$188=\"RELATIVE\",'Horizontal Calculations'!AB148,IF($C$188=\"BLOCKS\",'Horizontal Calculations'!AB152,0)))","v":0},{"$f":"IF($C$188=\"FIXED\",'Horizontal Calculations'!AC150,IF($C$188=\"RELATIVE\",'Horizontal Calculations'!AC148,IF($C$188=\"BLOCKS\",'Horizontal Calculations'!AC152,0)))","v":0},{"$f":"IF($C$188=\"FIXED\",'Horizontal Calculations'!AD150,IF($C$188=\"RELATIVE\",'Horizontal Calculations'!AD148,IF($C$188=\"BLOCKS\",'Horizontal Calculations'!AD152,0)))","v":0},{"$f":"IF($C$188=\"FIXED\",'Horizontal Calculations'!AE150,IF($C$188=\"RELATIVE\",'Horizontal Calculations'!AE148,IF($C$188=\"BLOCKS\",'Horizontal Calculations'!AE152,0)))","v":0},{"$f":"IF($C$188=\"FIXED\",'Horizontal Calculations'!AF150,IF($C$188=\"RELATIVE\",'Horizontal Calculations'!AF148,IF($C$188=\"BLOCKS\",'Horizontal Calculations'!AF152,0)))","v":0},{"$f":"IF($C$188=\"FIXED\",'Horizontal Calculations'!AG150,IF($C$188=\"RELATIVE\",'Horizontal Calculations'!AG148,IF($C$188=\"BLOCKS\",'Horizontal Calculations'!AG152,0)))","v":0},{"$f":"IF($C$188=\"FIXED\",'Horizontal Calculations'!AH150,IF($C$188=\"RELATIVE\",'Horizontal Calculations'!AH148,IF($C$188=\"BLOCKS\",'Horizontal Calculations'!AH152,0)))","v":0},{"$f":"IF($C$188=\"FIXED\",'Horizontal Calculations'!AI150,IF($C$188=\"RELATIVE\",'Horizontal Calculations'!AI148,IF($C$188=\"BLOCKS\",'Horizontal Calculations'!AI152,0)))","v":0},{"$f":"IF($C$188=\"FIXED\",'Horizontal Calculations'!AJ150,IF($C$188=\"RELATIVE\",'Horizontal Calculations'!AJ148,IF($C$188=\"BLOCKS\",'Horizontal Calculations'!AJ152,0)))","v":0},{"$f":"IF($C$188=\"FIXED\",'Horizontal Calculations'!AK150,IF($C$188=\"RELATIVE\",'Horizontal Calculations'!AK148,IF($C$188=\"BLOCKS\",'Horizontal Calculations'!AK152,0)))","v":0},{"$f":"IF($C$188=\"FIXED\",'Horizontal Calculations'!AL150,IF($C$188=\"RELATIVE\",'Horizontal Calculations'!AL148,IF($C$188=\"BLOCKS\",'Horizontal Calculations'!AL152,0)))","v":0},{"$f":"IF($C$188=\"FIXED\",'Horizontal Calculations'!AM150,IF($C$188=\"RELATIVE\",'Horizontal Calculations'!AM148,IF($C$188=\"BLOCKS\",'Horizontal Calculations'!AM152,0)))","v":0},{"$f":"IF($C$188=\"FIXED\",'Horizontal Calculations'!AN150,IF($C$188=\"RELATIVE\",'Horizontal Calculations'!AN148,IF($C$188=\"BLOCKS\",'Horizontal Calculations'!AN152,0)))","v":0},{"$f":"IF($C$188=\"FIXED\",'Horizontal Calculations'!AO150,IF($C$188=\"RELATIVE\",'Horizontal Calculations'!AO148,IF($C$188=\"BLOCKS\",'Horizontal Calculations'!AO152,0)))","v":0},{"$f":"IF($C$188=\"FIXED\",'Horizontal Calculations'!AP150,IF($C$188=\"RELATIVE\",'Horizontal Calculations'!AP148,IF($C$188=\"BLOCKS\",'Horizontal Calculations'!AP152,0)))","v":0},{"$f":"IF($C$188=\"FIXED\",'Horizontal Calculations'!AQ150,IF($C$188=\"RELATIVE\",'Horizontal Calculations'!AQ148,IF($C$188=\"BLOCKS\",'Horizontal Calculations'!AQ152,0)))","v":0},{"$f":"IF($C$188=\"FIXED\",'Horizontal Calculations'!AR150,IF($C$188=\"RELATIVE\",'Horizontal Calculations'!AR148,IF($C$188=\"BLOCKS\",'Horizontal Calculations'!AR152,0)))","v":0},{"$f":"IF($C$188=\"FIXED\",'Horizontal Calculations'!AS150,IF($C$188=\"RELATIVE\",'Horizontal Calculations'!AS148,IF($C$188=\"BLOCKS\",'Horizontal Calculations'!AS152,0)))","v":0},{"$f":"IF($C$188=\"FIXED\",'Horizontal Calculations'!AT150,IF($C$188=\"RELATIVE\",'Horizontal Calculations'!AT148,IF($C$188=\"BLOCKS\",'Horizontal Calculations'!AT152,0)))","v":0},{"$f":"IF($C$188=\"FIXED\",'Horizontal Calculations'!AU150,IF($C$188=\"RELATIVE\",'Horizontal Calculations'!AU148,IF($C$188=\"BLOCKS\",'Horizontal Calculations'!AU152,0)))","v":0},{"$f":"IF($C$188=\"FIXED\",'Horizontal Calculations'!AV150,IF($C$188=\"RELATIVE\",'Horizontal Calculations'!AV148,IF($C$188=\"BLOCKS\",'Horizontal Calculations'!AV152,0)))","v":0},{"$f":"IF($C$188=\"FIXED\",'Horizontal Calculations'!AW150,IF($C$188=\"RELATIVE\",'Horizontal Calculations'!AW148,IF($C$188=\"BLOCKS\",'Horizontal Calculations'!AW152,0)))","v":0},{"$f":"IF($C$188=\"FIXED\",'Horizontal Calculations'!AX150,IF($C$188=\"RELATIVE\",'Horizontal Calculations'!AX148,IF($C$188=\"BLOCKS\",'Horizontal Calculations'!AX152,0)))","v":0},{"$f":"IF($C$188=\"FIXED\",'Horizontal Calculations'!AY150,IF($C$188=\"RELATIVE\",'Horizontal Calculations'!AY148,IF($C$188=\"BLOCKS\",'Horizontal Calculations'!AY152,0)))","v":0},{"$f":"IF($C$188=\"FIXED\",'Horizontal Calculations'!AZ150,IF($C$188=\"RELATIVE\",'Horizontal Calculations'!AZ148,IF($C$188=\"BLOCKS\",'Horizontal Calculations'!AZ152,0)))","v":0},{"$f":"IF($C$188=\"FIXED\",'Horizontal Calculations'!BA150,IF($C$188=\"RELATIVE\",'Horizontal Calculations'!BA148,IF($C$188=\"BLOCKS\",'Horizontal Calculations'!BA152,0)))","v":0}]
[]
["LABEL 18"]
["QUANTITY"]
["WIDTH (mm)",{"$nulls":3},"","","","","","","","","","","","","","","","","","","","","","","","","","","","","","","","","","","","","","","","","","","","","","","","","",""]
["HEIGHT  (mm)",{"$nulls":3},"","","","","","","","","","","","","","","","","","","","","","","","","","","","","","","","","","","","","","","","","","","","","","","","","",""]
["COLOUR","-- SELECT --",{"$f":"B194","v":0},null,"","","","","","","","","","","","","","","","","","","","","","","","","","","","","","","","","","","","","","","","","","","","","","","","","",""]
["TEXT SIZE  (mm)","AUTO",null,null,"","","","","","","","","","","","","","","","","","","","","","","","","","","","","","","","","","","","","","","","","","","","","","","","","",""]
["FIXING","-- SELECT --",null,null,"","","","","","","","","","","","","","","","","","","","","","","","","","","","","","","","","","","","","","","","","","","","","","","","","",""]
[{"$nulls":4},"I","I","I","I","I","I","I","I","I","I","I","I","I","I","I","I","I","I","I","I","I","I","I","I","I","I","I","I","I","I","I","I","I","I","I","I","I","I","I","I","I","I","I","I","I","I","I","I","I","I"]
["HOLES REQUIRED",null,"-- SELECT --"]
["HOLE SIZE  (mm)",null,{"$f":"VLOOKUP(C199,'Background Information'!$O$1:$P$4,2,FALSE)","v":0},null,{"$f":"IF($C$199=\"FIXED\",'Horizontal Calculations'!D159,IF($C$199=\"RELATIVE\",'Horizontal Calculations'!D157,IF($C$199=\"BLOCKS\",'Horizontal Calculations'!D161,0)))","v":0},{"$f":"IF($C$199=\"FIXED\",'Horizontal Calculations'!E159,IF($C$199=\"RELATIVE\",'Horizontal Calculations'!E157,IF($C$199=\"BLOCKS\",'Horizontal Calculations'!E161,0)))","v":0},{"$f":"IF($C$199=\"FIXED\",'Horizontal Calculations'!F159,IF($C$199=\"RELATIVE\",'Horizontal Calculations'!F157,IF($C$199=\"BLOCKS\",'Horizontal Calculations'!F161,0)))","v":0},{"$f":"IF($C$199=\"FIXED\",'Horizontal Calculations'!G159,IF($C$199=\"RELATIVE\",'Horizontal Calculations'!G157,IF($C$199=\"BLOCKS\",'Horizontal Calculations'!G161,0)))","v":0},{"$f":"IF($C$199=\"FIXED\",'Horizontal Calculations'!H159,IF($C$199=\"RELATIVE\",'Horizontal Calculations'!H157,IF($C$199=\"BLOCKS\",'Horizontal Calculations'!H161,0)))","v":0},{"$f":"IF($C$199=\"FIXED\",'Horizontal Calculations'!I159,IF($C$199=\"RELATIVE\",'Horizontal Calculations'!I157,IF($C$199=\"BLOCKS\",'Horizontal Calculations'!I161,0)))","v":0},{"$f":"IF($C$199=\"FIXED\",'Horizontal Calculations'!J159,IF($C$199=\"RELATIVE\",'Horizontal Calculations'!J157,IF($C$199=\"BLOCKS\",'Horizontal Calculations'!J161,0)))","v":0},{"$f":"IF($C$199=\"FIXED\",'Horizontal Calculations'!K159,IF($C$199=\"RELATIVE\",'Horizontal Calculations'!K157,IF($C$199=\"BLOCKS\",'Horizontal Calculations'!K161,0)))","v":0},{"$f":"IF($C$199=\"FIXED\",'Horizontal Calculations'!L159,IF($C$199=\"RELATIVE\",'Horizontal Calculations'!L157,IF($C$199=\"BLOCKS\",'Horizontal Calculations'!L161,0)))","v":0},{"$f":"IF($C$199=\"FIXED\",'Horizontal Calculations'!M159,IF($C$199=\"RELATIVE\",'Horizontal Calculations'!M157,IF($C$199=\"BLOCKS\",'Horizontal Calculations'!M161,0)))","v":0},{"$f":"IF($C$199=\"FIXED\",'Horizontal Calculations'!N159,IF($C$199=\"RELATIVE\",'Horizontal Calculations'!N157,IF($C$199=\"BLOCKS\",'Horizontal Calculations'!N161,0)))","v":0},{"$f":"IF($C$199=\"FIXED\",'Horizontal Calculations'!O159,IF($C$199=\"RELATIVE\",'Horizontal Calculations'!O157,IF($C$199=\"BLOCKS\",'Horizontal Calculations'!O161,0)))","v":0},{"$f":"IF($C$199=\"FIXED\",'Horizontal Calculations'!P159,IF($C$199=\"RELATIVE\",'Horizontal Calculations'!P157,IF($C$199=\"BLOCKS\",'Horizontal Calculations'!P161,0)))","v":0},{"$f":"IF($C$199=\"FIXED\",'Horizontal Calculations'!Q159,IF($C$199=\"RELATIVE\",'Horizontal Calculations'!Q157,IF($C$199=\"BLOCKS\",'Horizontal Calculations'!Q161,0)))","v":0},{"$f":"IF($C$199=\"FIXED\",'Horizontal Calculations'!R159,IF($C$199=\"RELATIVE\",'Horizontal Calculations'!R157,IF($C$199=\"BLOCKS\",'Horizontal Calculations'!R161,0)))","v":0},{"$f":"IF($C$199=\"FIXED\",'Horizontal Calculations'!S159,IF($C$199=\"RELATIVE\",'Horizontal Calculations'!S157,IF($C$199=\"BLOCKS\",'Horizontal Calculations'!S161,0)))","v":0},{"$f":"IF($C$199=\"FIXED\",'Horizontal Calculations'!T159,IF($C$199=\"RELATIVE\",'Horizontal Calculations'!T157,IF($C$199=\"BLOCKS\",'Horizontal Calculations'!T161,0)))","v":0},{"$f":"IF($C$199=\"FIXED\",'Horizontal Calculations'!U159,IF($C$199=\"RELATIVE\",'Horizontal Calculations'!U157,IF($C$199=\"BLOCKS\",'Horizontal Calculations'!U161,0)))","v":0},{"$f":"IF($C$199=\"FIXED\",'Horizontal Calculations'!V159,IF($C$199=\"RELATIVE\",'Horizontal Calculations'!V157,IF($C$199=\"BLOCKS\",'Horizontal Calculations'!V161,0)))","v":0},{"$f":"IF($C$199=\"FIXED\",'Horizontal Calculations'!W159,IF($C$199=\"RELATIVE\",'Horizontal Calculations'!W157,IF($C$199=\"BLOCKS\",'Horizontal Calculations'!W161,0)))","v":0},{"$f":"IF($C$199=\"FIXED\",'Horizontal Calculations'!X159,IF($C$199=\"RELATIVE\",'Horizontal Calculations'!X157,IF($C$199=\"BLOCKS\",'Horizontal Calculations'!X161,0)))","v":0},{"$f":"IF($C$199=\"FIXED\",'Horizontal Calculations'!Y159,IF($C$199=\"RELATIVE\",'Horizontal Calculations'!Y157,IF($C$199=\"BLOCKS\",'Horizontal Calculations'!Y161,0)))","v":0},{"$f":"IF($C$199=\"FIXED\",'Horizontal Calculations'!Z159,IF($C$199=\"RELATIVE\",'Horizontal Calculations'!Z157,IF($C$199=\"BLOCKS\",'Horizontal Calculations'!Z161,0)))","v":0},{"$f":"IF($C$199=\"FIXED\",'Horizontal Calculations'!AA159,IF($C$199=\"RELATIVE\",'Horizontal Calculations'!AA157,IF($C$199=\"BLOCKS\",'Horizontal Calculations'!AA161,0)))","v":0},{"$f":"IF($C$199=\"FIXED\",'Horizontal Calculations'!AB159,IF($C$199=\"RELATIVE\",'Horizontal Calculations'!AB157,IF($C$199=\"BLOCKS\",'Horizontal Calculations'!AB161,0)))","v":0},{"$f":"IF($C$199=\"FIXED\",'Horizontal Calculations'!AC159,IF($C$199=\"RELATIVE\",'Horizontal Calculations'!AC157,IF($C$199=\"BLOCKS\",'Horizontal Calculations'!AC161,0)))","v":0},{"$f":"IF($C$199=\"FIXED\",'Horizontal Calculations'!AD159,IF($C$199=\"RELATIVE\",'Horizontal Calculations'!AD157,IF($C$199=\"BLOCKS\",'Horizontal Calculations'!AD161,0)))","v":0},{"$f":"IF($C$199=\"FIXED\",'Horizontal Calculations'!AE159,IF($C$199=\"RELATIVE\",'Horizontal Calculations'!AE157,IF($C$199=\"BLOCKS\",'Horizontal Calculations'!AE161,0)))","v":0},{"$f":"IF($C$199=\"FIXED\",'Horizontal Calculations'!AF159,IF($C$199=\"RELATIVE\",'Horizontal Calculations'!AF157,IF($C$199=\"BLOCKS\",'Horizontal Calculations'!AF161,0)))","v":0},{"$f":"IF($C$199=\"FIXED\",'Horizontal Calculations'!AG159,IF($C$199=\"RELATIVE\",'Horizontal Calculations'!AG157,IF($C$199=\"BLOCKS\",'Horizontal Calculations'!AG161,0)))","v":0},{"$f":"IF($C$199=\"FIXED\",'Horizontal Calculations'!AH159,IF($C$199=\"RELATIVE\",'Horizontal Calculations'!AH157,IF($C$199=\"BLOCKS\",'Horizontal Calculations'!AH161,0)))","v":0},{"$f":"IF($C$199=\"FIXED\",'Horizontal Calculations'!AI159,IF($C$199=\"RELATIVE\",'Horizontal Calculations'!AI157,IF($C$199=\"BLOCKS\",'Horizontal Calculations'!AI161,0)))","v":0},{"$f":"IF($C$199=\"FIXED\",'Horizontal Calculations'!AJ159,IF($C$199=\"RELATIVE\",'Horizontal Calculations'!AJ157,IF($C$199=\"BLOCKS\",'Horizontal Calculations'!AJ161,0)))","v":0},{"$f":"IF($C$199=\"FIXED\",'Horizontal Calculations'!AK159,IF($C$199=\"RELATIVE\",'Horizontal Calculations'!AK157,IF($C$199=\"BLOCKS\",'Horizontal Calculations'!AK161,0)))","v":0},{"$f":"IF($C$199=\"FIXED\",'Horizontal Calculations'!AL159,IF($C$199=\"RELATIVE\",'Horizontal Calculations'!AL157,IF($C$199=\"BLOCKS\",'Horizontal Calculations'!AL161,0)))","v":0},{"$f":"IF($C$199=\"FIXED\",'Horizontal Calculations'!AM159,IF($C$199=\"RELATIVE\",'Horizontal Calculations'!AM157,IF($C$199=\"BLOCKS\",'Horizontal Calculations'!AM161,0)))","v":0},{"$f":"IF($C$199=\"FIXED\",'Horizontal Calculations'!AN159,IF($C$199=\"RELATIVE\",'Horizontal Calculations'!AN157,IF($C$199=\"BLOCKS\",'Horizontal Calculations'!AN161,0)))","v":0},{"$f":"IF($C$199=\"FIXED\",'Horizontal Calculations'!AO159,IF($C$199=\"RELATIVE\",'Horizontal Calculations'!AO157,IF($C$199=\"BLOCKS\",'Horizontal Calculations'!AO161,0)))","v":0},{"$f":"IF($C$199=\"FIXED\",'Horizontal Calculations'!AP159,IF($C$199=\"RELATIVE\",'Horizontal Calculations'!AP157,IF($C$199=\"BLOCKS\",'Horizontal Calculations'!AP161,0)))","v":0},{"$f":"IF($C$199=\"FIXED\",'Horizontal Calculations'!AQ159,IF($C$199=\"RELATIVE\",'Horizontal Calculations'!AQ157,IF($C$199=\"BLOCKS\",'Horizontal Calculations'!AQ161,0)))","v":0},{"$f":"IF($C$199=\"FIXED\",'Horizontal Calculations'!AR159,IF($C$199=\"RELATIVE\",'Horizontal Calculations'!AR157,IF($C$199=\"BLOCKS\",'Horizontal Calculations'!AR161,0)))","v":0},{"$f":"IF($C$199=\"FIXED\",'Horizontal Calculations'!AS159,IF($C$199=\"RELATIVE\",'Horizontal Calculations'!AS157,IF($C$199=\"BLOCKS\",'Horizontal Calculations'!AS161,0)))","v":0},{"$f":"IF($C$199=\"FIXED\",'Horizontal Calculations'!AT159,IF($C$199=\"RELATIVE\",'Horizontal Calculations'!AT157,IF($C$199=\"BLOCKS\",'Horizontal Calculations'!AT161,0)))","v":0},{"$f":"IF($C$199=\"FIXED\",'Horizontal Calculations'!AU159,IF($C$199=\"RELATIVE\",'Horizontal Calculations'!AU157,IF($C$199=\"BLOCKS\",'Horizontal Calculations'!AU161,0)))","v":0},{"$f":"IF($C$199=\"FIXED\",'Horizontal Calculations'!AV159,IF($C$199=\"RELATIVE\",'Horizontal Calculations'!AV157,IF($C$199=\"BLOCKS\",'Horizontal Calculations'!AV161,0)))","v":0},{"$f":"IF($C$199=\"FIXED\",'Horizontal Calculations'!AW159,IF($C$199=\"RELATIVE\",'Horizontal Calculations'!AW157,IF($C$199=\"BLOCKS\",'Horizontal Calculations'!AW161,0)))","v":0},{"$f":"IF($C$199=\"FIXED\",'Horizontal Calculations'!AX159,IF($C$199=\"RELATIVE\",'Horizontal Calculations'!AX157,IF($C$199=\"BLOCKS\",'Horizontal Calculations'!AX161,0)))","v":0},{"$f":"IF($C$199=\"FIXED\",'Horizontal Calculations'!AY159,IF($C$199=\"RELATIVE\",'Horizontal Calculations'!AY157,IF($C$199=\"BLOCKS\",'Horizontal Calculations'!AY161,0)))","v":0},{"$f":"IF($C$199=\"FIXED\",'Horizontal Calculations'!AZ159,IF($C$199=\"RELATIVE\",'Horizontal Calculations'!AZ157,IF($C$199=\"BLOCKS\",'Horizontal Calculations'!AZ161,0)))","v":0},{"$f":"IF($C$199=\"FIXED\",'Horizontal Calculations'!BA159,IF($C$199=\"RELATIVE\",'Horizontal Calculations'!BA157,IF($C$199=\"BLOCKS\",'Horizontal Calculations'!BA161,0)))","v":0}]
[]
["LABEL 19"]
["QUANTITY"]
["WIDTH (mm)",{"$nulls":3},"","","","","","","","","","","","","","","","","","","","","","","","","","","","","","","","","","","","","","","","","","","","","","","","","",""]
["HEIGHT  (mm)",{"$nulls":3},"","","","","","","","","","","","","","","","","","","","","","","","","","","","","","","","","","","","","","","","","","","","","","","","","",""]
["COLOUR","-- SELECT --",{"$f":"B205","v":0},null,"","","","","","","","","","","","","","","","","","","","","","","","","","","","","","","","","","","","","","","","","","","","","","","","","",""]
["TEXT SIZE  (mm)","AUTO",null,null,"","","","","","","","","","","","","","","","","","","","","","","","","","","","","","","","","","","","","","","","","","","","","","","","","",""]
["FIXING","-- SELECT --",null,null,"","","","","","","","","","","","","","","","","","","","","","","","","","","","","","","","","","","","","","","","","","","","","","","","","",""]
[{"$nulls":4},"I","I","I","I","I","I","I","I","I","I","I","I","I","I","I","I","I","I","I","I","I","I","I","I","I","I","I","I","I","I","I","I","I","I","I","I","I","I","I","I","I","I","I","I","I","I","I","I","I","I"]
["HOLES REQUIRED",null,"-- SELECT --"]
["HOLE SIZE  (mm)",null,{"$f":"VLOOKUP(C210,'Background Information'!$O$1:$P$4,2,FALSE)","v":0},null,{"$f":"IF($C$210=\"FIXED\",'Horizontal Calculations'!D168,IF($C$210=\"RELATIVE\",'Horizontal Calculations'!D166,IF($C$210=\"BLOCKS\",'Horizontal Calculations'!D170,0)))","v":0},{"$f":"IF($C$210=\"FIXED\",'Horizontal Calculations'!E168,IF($C$210=\"RELATIVE\",'Horizontal Calculations'!E166,IF($C$210=\"BLOCKS\",'Horizontal Calculations'!E170,0)))","v":0},{"$f":"IF($C$210=\"FIXED\",'Horizontal Calculations'!F168,IF($C$210=\"RELATIVE\",'Horizontal Calculations'!F166,IF($C$210=\"BLOCKS\",'Horizontal Calculations'!F170,0)))","v":0},{"$f":"IF($C$210=\"FIXED\",'Horizontal Calculations'!G168,IF($C$210=\"RELATIVE\",'Horizontal Calculations'!G166,IF($C$210=\"BLOCKS\",'Horizontal Calculations'!G170,0)))","v":0},{"$f":"IF($C$210=\"FIXED\",'Horizontal Calculations'!H168,IF($C$210=\"RELATIVE\",'Horizontal Calculations'!H166,IF($C$210=\"BLOCKS\",'Horizontal Calculations'!H170,0)))","v":0},{"$f":"IF($C$210=\"FIXED\",'Horizontal Calculations'!I168,IF($C$210=\"RELATIVE\",'Horizontal Calculations'!I166,IF($C$210=\"BLOCKS\",'Horizontal Calculations'!I170,0)))","v":0},{"$f":"IF($C$210=\"FIXED\",'Horizontal Calculations'!J168,IF($C$210=\"RELATIVE\",'Horizontal Calculations'!J166,IF($C$210=\"BLOCKS\",'Horizontal Calculations'!J170,0)))","v":0},{"$f":"IF($C$210=\"FIXED\",'Horizontal Calculations'!K168,IF($C$210=\"RELATIVE\",'Horizontal Calculations'!K166,IF($C$210=\"BLOCKS\",'Horizontal Calculations'!K170,0)))","v":0},{"$f":"IF($C$210=\"FIXED\",'Horizontal Calculations'!L168,IF($C$210=\"RELATIVE\",'Horizontal Calculations'!L166,IF($C$210=\"BLOCKS\",'Horizontal Calculations'!L170,0)))","v":0},{"$f":"IF($C$210=\"FIXED\",'Horizontal Calculations'!M168,IF($C$210=\"RELATIVE\",'Horizontal Calculations'!M166,IF($C$210=\"BLOCKS\",'Horizontal Calculations'!M170,0)))","v":0},{"$f":"IF($C$210=\"FIXED\",'Horizontal Calculations'!N168,IF($C$210=\"RELATIVE\",'Horizontal Calculations'!N166,IF($C$210=\"BLOCKS\",'Horizontal Calculations'!N170,0)))","v":0},{"$f":"IF($C$210=\"FIXED\",'Horizontal Calculations'!O168,IF($C$210=\"RELATIVE\",'Horizontal Calculations'!O166,IF($C$210=\"BLOCKS\",'Horizontal Calculations'!O170,0)))","v":0},{"$f":"IF($C$210=\"FIXED\",'Horizontal Calculations'!P168,IF($C$210=\"RELATIVE\",'Horizontal Calculations'!P166,IF($C$210=\"BLOCKS\",'Horizontal Calculations'!P170,0)))","v":0},{"$f":"IF($C$210=\"FIXED\",'Horizontal Calculations'!Q168,IF($C$210=\"RELATIVE\",'Horizontal Calculations'!Q166,IF($C$210=\"BLOCKS\",'Horizontal Calculations'!Q170,0)))","v":0},{"$f":"IF($C$210=\"FIXED\",'Horizontal Calculations'!R168,IF($C$210=\"RELATIVE\",'Horizontal Calculations'!R166,IF($C$210=\"BLOCKS\",'Horizontal Calculations'!R170,0)))","v":0},{"$f":"IF($C$210=\"FIXED\",'Horizontal Calculations'!S168,IF($C$210=\"RELATIVE\",'Horizontal Calculations'!S166,IF($C$210=\"BLOCKS\",'Horizontal Calculations'!S170,0)))","v":0},{"$f":"IF($C$210=\"FIXED\",'Horizontal Calculations'!T168,IF($C$210=\"RELATIVE\",'Horizontal Calculations'!T166,IF($C$210=\"BLOCKS\",'Horizontal Calculations'!T170,0)))","v":0},{"$f":"IF($C$210=\"FIXED\",'Horizontal Calculations'!U168,IF($C$210=\"RELATIVE\",'Horizontal Calculations'!U166,IF($C$210=\"BLOCKS\",'Horizontal Calculations'!U170,0)))","v":0},{"$f":"IF($C$210=\"FIXED\",'Horizontal Calculations'!V168,IF($C$210=\"RELATIVE\",'Horizontal Calculations'!V166,IF($C$210=\"BLOCKS\",'Horizontal Calculations'!V170,0)))","v":0},{"$f":"IF($C$210=\"FIXED\",'Horizontal Calculations'!W168,IF($C$210=\"RELATIVE\",'Horizontal Calculations'!W166,IF($C$210=\"BLOCKS\",'Horizontal Calculations'!W170,0)))","v":0},{"$f":"IF($C$210=\"FIXED\",'Horizontal Calculations'!X168,IF($C$210=\"RELATIVE\",'Horizontal Calculations'!X166,IF($C$210=\"BLOCKS\",'Horizontal Calculations'!X170,0)))","v":0},{"$f":"IF($C$210=\"FIXED\",'Horizontal Calculations'!Y168,IF($C$210=\"RELATIVE\",'Horizontal Calculations'!Y166,IF($C$210=\"BLOCKS\",'Horizontal Calculations'!Y170,0)))","v":0},{"$f":"IF($C$210=\"FIXED\",'Horizontal Calculations'!Z168,IF($C$210=\"RELATIVE\",'Horizontal Calculations'!Z166,IF($C$210=\"BLOCKS\",'Horizontal Calculations'!Z170,0)))","v":0},{"$f":"IF($C$210=\"FIXED\",'Horizontal Calculations'!AA168,IF($C$210=\"RELATIVE\",'Horizontal Calculations'!AA166,IF($C$210=\"BLOCKS\",'Horizontal Calculations'!AA170,0)))","v":0},{"$f":"IF($C$210=\"FIXED\",'Horizontal Calculations'!AB168,IF($C$210=\"RELATIVE\",'Horizontal Calculations'!AB166,IF($C$210=\"BLOCKS\",'Horizontal Calculations'!AB170,0)))","v":0},{"$f":"IF($C$210=\"FIXED\",'Horizontal Calculations'!AC168,IF($C$210=\"RELATIVE\",'Horizontal Calculations'!AC166,IF($C$210=\"BLOCKS\",'Horizontal Calculations'!AC170,0)))","v":0},{"$f":"IF($C$210=\"FIXED\",'Horizontal Calculations'!AD168,IF($C$210=\"RELATIVE\",'Horizontal Calculations'!AD166,IF($C$210=\"BLOCKS\",'Horizontal Calculations'!AD170,0)))","v":0},{"$f":"IF($C$210=\"FIXED\",'Horizontal Calculations'!AE168,IF($C$210=\"RELATIVE\",'Horizontal Calculations'!AE166,IF($C$210=\"BLOCKS\",'Horizontal Calculations'!AE170,0)))","v":0},{"$f":"IF($C$210=\"FIXED\",'Horizontal Calculations'!AF168,IF($C$210=\"RELATIVE\",'Horizontal Calculations'!AF166,IF($C$210=\"BLOCKS\",'Horizontal Calculations'!AF170,0)))","v":0},{"$f":"IF($C$210=\"FIXED\",'Horizontal Calculations'!AG168,IF($C$210=\"RELATIVE\",'Horizontal Calculations'!AG166,IF($C$210=\"BLOCKS\",'Horizontal Calculations'!AG170,0)))","v":0},{"$f":"IF($C$210=\"FIXED\",'Horizontal Calculations'!AH168,IF($C$210=\"RELATIVE\",'Horizontal Calculations'!AH166,IF($C$210=\"BLOCKS\",'Horizontal Calculations'!AH170,0)))","v":0},{"$f":"IF($C$210=\"FIXED\",'Horizontal Calculations'!AI168,IF($C$210=\"RELATIVE\",'Horizontal Calculations'!AI166,IF($C$210=\"BLOCKS\",'Horizontal Calculations'!AI170,0)))","v":0},{"$f":"IF($C$210=\"FIXED\",'Horizontal Calculations'!AJ168,IF($C$210=\"RELATIVE\",'Horizontal Calculations'!AJ166,IF($C$210=\"BLOCKS\",'Horizontal Calculations'!AJ170,0)))","v":0},{"$f":"IF($C$210=\"FIXED\",'Horizontal Calculations'!AK168,IF($C$210=\"RELATIVE\",'Horizontal Calculations'!AK166,IF($C$210=\"BLOCKS\",'Horizontal Calculations'!AK170,0)))","v":0},{"$f":"IF($C$210=\"FIXED\",'Horizontal Calculations'!AL168,IF($C$210=\"RELATIVE\",'Horizontal Calculations'!AL166,IF($C$210=\"BLOCKS\",'Horizontal Calculations'!AL170,0)))","v":0},{"$f":"IF($C$210=\"FIXED\",'Horizontal Calculations'!AM168,IF($C$210=\"RELATIVE\",'Horizontal Calculations'!AM166,IF($C$210=\"BLOCKS\",'Horizontal Calculations'!AM170,0)))","v":0},{"$f":"IF($C$210=\"FIXED\",'Horizontal Calculations'!AN168,IF($C$210=\"RELATIVE\",'Horizontal Calculations'!AN166,IF($C$210=\"BLOCKS\",'Horizontal Calculations'!AN170,0)))","v":0},{"$f":"IF($C$210=\"FIXED\",'Horizontal Calculations'!AO168,IF($C$210=\"RELATIVE\",'Horizontal Calculations'!AO166,IF($C$210=\"BLOCKS\",'Horizontal Calculations'!AO170,0)))","v":0},{"$f":"IF($C$210=\"FIXED\",'Horizontal Calculations'!AP168,IF($C$210=\"RELATIVE\",'Horizontal Calculations'!AP166,IF($C$210=\"BLOCKS\",'Horizontal Calculations'!AP170,0)))","v":0},{"$f":"IF($C$210=\"FIXED\",'Horizontal Calculations'!AQ168,IF($C$210=\"RELATIVE\",'Horizontal Calculations'!AQ166,IF($C$210=\"BLOCKS\",'Horizontal Calculations'!AQ170,0)))","v":0},{"$f":"IF($C$210=\"FIXED\",'Horizontal Calculations'!AR168,IF($C$210=\"RELATIVE\",'Horizontal Calculations'!AR166,IF($C$210=\"BLOCKS\",'Horizontal Calculations'!AR170,0)))","v":0},{"$f":"IF($C$210=\"FIXED\",'Horizontal Calculations'!AS168,IF($C$210=\"RELATIVE\",'Horizontal Calculations'!AS166,IF($C$210=\"BLOCKS\",'Horizontal Calculations'!AS170,0)))","v":0},{"$f":"IF($C$210=\"FIXED\",'Horizontal Calculations'!AT168,IF($C$210=\"RELATIVE\",'Horizontal Calculations'!AT166,IF($C$210=\"BLOCKS\",'Horizontal Calculations'!AT170,0)))","v":0},{"$f":"IF($C$210=\"FIXED\",'Horizontal Calculations'!AU168,IF($C$210=\"RELATIVE\",'Horizontal Calculations'!AU166,IF($C$210=\"BLOCKS\",'Horizontal Calculations'!AU170,0)))","v":0},{"$f":"IF($C$210=\"FIXED\",'Horizontal Calculations'!AV168,IF($C$210=\"RELATIVE\",'Horizontal Calculations'!AV166,IF($C$210=\"BLOCKS\",'Horizontal Calculations'!AV170,0)))","v":0},{"$f":"IF($C$210=\"FIXED\",'Horizontal Calculations'!AW168,IF($C$210=\"RELATIVE\",'Horizontal Calculations'!AW166,IF($C$210=\"BLOCKS\",'Horizontal Calculations'!AW170,0)))","v":0},{"$f":"IF($C$210=\"FIXED\",'Horizontal Calculations'!AX168,IF($C$210=\"RELATIVE\",'Horizontal Calculations'!AX166,IF($C$210=\"BLOCKS\",'Horizontal Calculations'!AX170,0)))","v":0},{"$f":"IF($C$210=\"FIXED\",'Horizontal Calculations'!AY168,IF($C$210=\"RELATIVE\",'Horizontal Calculations'!AY166,IF($C$210=\"BLOCKS\",'Horizontal Calculations'!AY170,0)))","v":0},{"$f":"IF($C$210=\"FIXED\",'Horizontal Calculations'!AZ168,IF($C$210=\"RELATIVE\",'Horizontal Calculations'!AZ166,IF($C$210=\"BLOCKS\",'Horizontal Calculations'!AZ170,0)))","v":0},{"$f":"IF($C$210=\"FIXED\",'Horizontal Calculations'!BA168,IF($C$210=\"RELATIVE\",'Horizontal Calculations'!BA166,IF($C$210=\"BLOCKS\",'Horizontal Calculations'!BA170,0)))","v":0}]
[]
["LABEL 20"]
["QUANTITY"]
["WIDTH (mm)",{"$nulls":3},"","","","","","","","","","","","","","","","","","","","","","","","","","","","","","","","","","","","","","","","","","","","","","","","","",""]
["HEIGHT  (mm)",{"$nulls":3},"","","","","","","","","","","","","","","","","","","","","","","","","","","","","","","","","","","","","","","","","","","","","","","","","",""]
["COLOUR","-- SELECT --",{"$f":"B216","v":0},null,"","","","","","","","","","","","","","","","","","","","","","","","","","","","","","","","","","","","","","","","","","","","","","","","","",""]
["TEXT SIZE  (mm)","AUTO",null,null,"","","","","","","","","","","","","","","","","","","","","","","","","","","","","","","","","","","","","","","","","","","","","","","","","",""]
["FIXING","-- SELECT --",null,null,"","","","","","","","","","","","","","","","","","","","","","","","","","","","","","","","","","","","","","","","","","","","","","","","","",""]
[{"$nulls":4},"I","I","I","I","I","I","I","I","I","I","I","I","I","I","I","I","I","I","I","I","I","I","I","I","I","I","I","I","I","I","I","I","I","I","I","I","I","I","I","I","I","I","I","I","I","I","I","I","I","I"]
["HOLES REQUIRED",null,"-- SELECT --"]
["HOLE SIZE  (mm)",null,{"$f":"VLOOKUP(C221,'Background Information'!$O$1:$P$4,2,FALSE)","v":0},null,{"$f":"IF($C$221=\"FIXED\",'Horizontal Calculations'!D177,IF($C$221=\"RELATIVE\",'Horizontal Calculations'!D175,IF($C$221=\"BLOCKS\",'Horizontal Calculations'!D179,0)))","v":0},{"$f":"IF($C$221=\"FIXED\",'Horizontal Calculations'!E177,IF($C$221=\"RELATIVE\",'Horizontal Calculations'!E175,IF($C$221=\"BLOCKS\",'Horizontal Calculations'!E179,0)))","v":0},{"$f":"IF($C$221=\"FIXED\",'Horizontal Calculations'!F177,IF($C$221=\"RELATIVE\",'Horizontal Calculations'!F175,IF($C$221=\"BLOCKS\",'Horizontal Calculations'!F179,0)))","v":0},{"$f":"IF($C$221=\"FIXED\",'Horizontal Calculations'!G177,IF($C$221=\"RELATIVE\",'Horizontal Calculations'!G175,IF($C$221=\"BLOCKS\",'Horizontal Calculations'!G179,0)))","v":0},{"$f":"IF($C$221=\"FIXED\",'Horizontal Calculations'!H177,IF($C$221=\"RELATIVE\",'Horizontal Calculations'!H175,IF($C$221=\"BLOCKS\",'Horizontal Calculations'!H179,0)))","v":0},{"$f":"IF($C$221=\"FIXED\",'Horizontal Calculations'!I177,IF($C$221=\"RELATIVE\",'Horizontal Calculations'!I175,IF($C$221=\"BLOCKS\",'Horizontal Calculations'!I179,0)))","v":0},{"$f":"IF($C$221=\"FIXED\",'Horizontal Calculations'!J177,IF($C$221=\"RELATIVE\",'Horizontal Calculations'!J175,IF($C$221=\"BLOCKS\",'Horizontal Calculations'!J179,0)))","v":0},{"$f":"IF($C$221=\"FIXED\",'Horizontal Calculations'!K177,IF($C$221=\"RELATIVE\",'Horizontal Calculations'!K175,IF($C$221=\"BLOCKS\",'Horizontal Calculations'!K179,0)))","v":0},{"$f":"IF($C$221=\"FIXED\",'Horizontal Calculations'!L177,IF($C$221=\"RELATIVE\",'Horizontal Calculations'!L175,IF($C$221=\"BLOCKS\",'Horizontal Calculations'!L179,0)))","v":0},{"$f":"IF($C$221=\"FIXED\",'Horizontal Calculations'!M177,IF($C$221=\"RELATIVE\",'Horizontal Calculations'!M175,IF($C$221=\"BLOCKS\",'Horizontal Calculations'!M179,0)))","v":0},{"$f":"IF($C$221=\"FIXED\",'Horizontal Calculations'!N177,IF($C$221=\"RELATIVE\",'Horizontal Calculations'!N175,IF($C$221=\"BLOCKS\",'Horizontal Calculations'!N179,0)))","v":0},{"$f":"IF($C$221=\"FIXED\",'Horizontal Calculations'!O177,IF($C$221=\"RELATIVE\",'Horizontal Calculations'!O175,IF($C$221=\"BLOCKS\",'Horizontal Calculations'!O179,0)))","v":0},{"$f":"IF($C$221=\"FIXED\",'Horizontal Calculations'!P177,IF($C$221=\"RELATIVE\",'Horizontal Calculations'!P175,IF($C$221=\"BLOCKS\",'Horizontal Calculations'!P179,0)))","v":0},{"$f":"IF($C$221=\"FIXED\",'Horizontal Calculations'!Q177,IF($C$221=\"RELATIVE\",'Horizontal Calculations'!Q175,IF($C$221=\"BLOCKS\",'Horizontal Calculations'!Q179,0)))","v":0},{"$f":"IF($C$221=\"FIXED\",'Horizontal Calculations'!R177,IF($C$221=\"RELATIVE\",'Horizontal Calculations'!R175,IF($C$221=\"BLOCKS\",'Horizontal Calculations'!R179,0)))","v":0},{"$f":"IF($C$221=\"FIXED\",'Horizontal Calculations'!S177,IF($C$221=\"RELATIVE\",'Horizontal Calculations'!S175,IF($C$221=\"BLOCKS\",'Horizontal Calculations'!S179,0)))","v":0},{"$f":"IF($C$221=\"FIXED\",'Horizontal Calculations'!T177,IF($C$221=\"RELATIVE\",'Horizontal Calculations'!T175,IF($C$221=\"BLOCKS\",'Horizontal Calculations'!T179,0)))","v":0},{"$f":"IF($C$221=\"FIXED\",'Horizontal Calculations'!U177,IF($C$221=\"RELATIVE\",'Horizontal Calculations'!U175,IF($C$221=\"BLOCKS\",'Horizontal Calculations'!U179,0)))","v":0},{"$f":"IF($C$221=\"FIXED\",'Horizontal Calculations'!V177,IF($C$221=\"RELATIVE\",'Horizontal Calculations'!V175,IF($C$221=\"BLOCKS\",'Horizontal Calculations'!V179,0)))","v":0},{"$f":"IF($C$221=\"FIXED\",'Horizontal Calculations'!W177,IF($C$221=\"RELATIVE\",'Horizontal Calculations'!W175,IF($C$221=\"BLOCKS\",'Horizontal Calculations'!W179,0)))","v":0},{"$f":"IF($C$221=\"FIXED\",'Horizontal Calculations'!X177,IF($C$221=\"RELATIVE\",'Horizontal Calculations'!X175,IF($C$221=\"BLOCKS\",'Horizontal Calculations'!X179,0)))","v":0},{"$f":"IF($C$221=\"FIXED\",'Horizontal Calculations'!Y177,IF($C$221=\"RELATIVE\",'Horizontal Calculations'!Y175,IF($C$221=\"BLOCKS\",'Horizontal Calculations'!Y179,0)))","v":0},{"$f":"IF($C$221=\"FIXED\",'Horizontal Calculations'!Z177,IF($C$221=\"RELATIVE\",'Horizontal Calculations'!Z175,IF($C$221=\"BLOCKS\",'Horizontal Calculations'!Z179,0)))","v":0},{"$f":"IF($C$221=\"FIXED\",'Horizontal Calculations'!AA177,IF($C$221=\"RELATIVE\",'Horizontal Calculations'!AA175,IF($C$221=\"BLOCKS\",'Horizontal Calculations'!AA179,0)))","v":0},{"$f":"IF($C$221=\"FIXED\",'Horizontal Calculations'!AB177,IF($C$221=\"RELATIVE\",'Horizontal Calculations'!AB175,IF($C$221=\"BLOCKS\",'Horizontal Calculations'!AB179,0)))","v":0},{"$f":"IF($C$221=\"FIXED\",'Horizontal Calculations'!AC177,IF($C$221=\"RELATIVE\",'Horizontal Calculations'!AC175,IF($C$221=\"BLOCKS\",'Horizontal Calculations'!AC179,0)))","v":0},{"$f":"IF($C$221=\"FIXED\",'Horizontal Calculations'!AD177,IF($C$221=\"RELATIVE\",'Horizontal Calculations'!AD175,IF($C$221=\"BLOCKS\",'Horizontal Calculations'!AD179,0)))","v":0},{"$f":"IF($C$221=\"FIXED\",'Horizontal Calculations'!AE177,IF($C$221=\"RELATIVE\",'Horizontal Calculations'!AE175,IF($C$221=\"BLOCKS\",'Horizontal Calculations'!AE179,0)))","v":0},{"$f":"IF($C$221=\"FIXED\",'Horizontal Calculations'!AF177,IF($C$221=\"RELATIVE\",'Horizontal Calculations'!AF175,IF($C$221=\"BLOCKS\",'Horizontal Calculations'!AF179,0)))","v":0},{"$f":"IF($C$221=\"FIXED\",'Horizontal Calculations'!AG177,IF($C$221=\"RELATIVE\",'Horizontal Calculations'!AG175,IF($C$221=\"BLOCKS\",'Horizontal Calculations'!AG179,0)))","v":0},{"$f":"IF($C$221=\"FIXED\",'Horizontal Calculations'!AH177,IF($C$221=\"RELATIVE\",'Horizontal Calculations'!AH175,IF($C$221=\"BLOCKS\",'Horizontal Calculations'!AH179,0)))","v":0},{"$f":"IF($C$221=\"FIXED\",'Horizontal Calculations'!AI177,IF($C$221=\"RELATIVE\",'Horizontal Calculations'!AI175,IF($C$221=\"BLOCKS\",'Horizontal Calculations'!AI179,0)))","v":0},{"$f":"IF($C$221=\"FIXED\",'Horizontal Calculations'!AJ177,IF($C$221=\"RELATIVE\",'Horizontal Calculations'!AJ175,IF($C$221=\"BLOCKS\",'Horizontal Calculations'!AJ179,0)))","v":0},{"$f":"IF($C$221=\"FIXED\",'Horizontal Calculations'!AK177,IF($C$221=\"RELATIVE\",'Horizontal Calculations'!AK175,IF($C$221=\"BLOCKS\",'Horizontal Calculations'!AK179,0)))","v":0},{"$f":"IF($C$221=\"FIXED\",'Horizontal Calculations'!AL177,IF($C$221=\"RELATIVE\",'Horizontal Calculations'!AL175,IF($C$221=\"BLOCKS\",'Horizontal Calculations'!AL179,0)))","v":0},{"$f":"IF($C$221=\"FIXED\",'Horizontal Calculations'!AM177,IF($C$221=\"RELATIVE\",'Horizontal Calculations'!AM175,IF($C$221=\"BLOCKS\",'Horizontal Calculations'!AM179,0)))","v":0},{"$f":"IF($C$221=\"FIXED\",'Horizontal Calculations'!AN177,IF($C$221=\"RELATIVE\",'Horizontal Calculations'!AN175,IF($C$221=\"BLOCKS\",'Horizontal Calculations'!AN179,0)))","v":0},{"$f":"IF($C$221=\"FIXED\",'Horizontal Calculations'!AO177,IF($C$221=\"RELATIVE\",'Horizontal Calculations'!AO175,IF($C$221=\"BLOCKS\",'Horizontal Calculations'!AO179,0)))","v":0},{"$f":"IF($C$221=\"FIXED\",'Horizontal Calculations'!AP177,IF($C$221=\"RELATIVE\",'Horizontal Calculations'!AP175,IF($C$221=\"BLOCKS\",'Horizontal Calculations'!AP179,0)))","v":0},{"$f":"IF($C$221=\"FIXED\",'Horizontal Calculations'!AQ177,IF($C$221=\"RELATIVE\",'Horizontal Calculations'!AQ175,IF($C$221=\"BLOCKS\",'Horizontal Calculations'!AQ179,0)))","v":0},{"$f":"IF($C$221=\"FIXED\",'Horizontal Calculations'!AR177,IF($C$221=\"RELATIVE\",'Horizontal Calculations'!AR175,IF($C$221=\"BLOCKS\",'Horizontal Calculations'!AR179,0)))","v":0},{"$f":"IF($C$221=\"FIXED\",'Horizontal Calculations'!AS177,IF($C$221=\"RELATIVE\",'Horizontal Calculations'!AS175,IF($C$221=\"BLOCKS\",'Horizontal Calculations'!AS179,0)))","v":0},{"$f":"IF($C$221=\"FIXED\",'Horizontal Calculations'!AT177,IF($C$221=\"RELATIVE\",'Horizontal Calculations'!AT175,IF($C$221=\"BLOCKS\",'Horizontal Calculations'!AT179,0)))","v":0},{"$f":"IF($C$221=\"FIXED\",'Horizontal Calculations'!AU177,IF($C$221=\"RELATIVE\",'Horizontal Calculations'!AU175,IF($C$221=\"BLOCKS\",'Horizontal Calculations'!AU179,0)))","v":0},{"$f":"IF($C$221=\"FIXED\",'Horizontal Calculations'!AV177,IF($C$221=\"RELATIVE\",'Horizontal Calculations'!AV175,IF($C$221=\"BLOCKS\",'Horizontal Calculations'!AV179,0)))","v":0},{"$f":"IF($C$221=\"FIXED\",'Horizontal Calculations'!AW177,IF($C$221=\"RELATIVE\",'Horizontal Calculations'!AW175,IF($C$221=\"BLOCKS\",'Horizontal Calculations'!AW179,0)))","v":0},{"$f":"IF($C$221=\"FIXED\",'Horizontal Calculations'!AX177,IF($C$221=\"RELATIVE\",'Horizontal Calculations'!AX175,IF($C$221=\"BLOCKS\",'Horizontal Calculations'!AX179,0)))","v":0},{"$f":"IF($C$221=\"FIXED\",'Horizontal Calculations'!AY177,IF($C$221=\"RELATIVE\",'Horizontal Calculations'!AY175,IF($C$221=\"BLOCKS\",'Horizontal Calculations'!AY179,0)))","v":0},{"$f":"IF($C$221=\"FIXED\",'Horizontal Calculations'!AZ177,IF($C$221=\"RELATIVE\",'Horizontal Calculations'!AZ175,IF($C$221=\"BLOCKS\",'Horizontal Calculations'!AZ179,0)))","v":0},{"$f":"IF($C$221=\"FIXED\",'Horizontal Calculations'!BA177,IF($C$221=\"RELATIVE\",'Horizontal Calculations'!BA175,IF($C$221=\"BLOCKS\",'Horizontal Calculations'!BA179,0)))","v":0}]

{"sheet":"Vertical Labels","index":2,"n_rows":222,"n_cols":54,"rows_kept":222,"merged":[[0,0,0,2],[0,4,2,53],[1,0,1,1],[3,0,3,2],[5,4,9,4],[5,5,9,5],[5,6,9,6],[5,7,9,7],[5,8,9,8],[5,9,9,9],[5,10,9,10],[5,11,9,11],[5,12,9,12],[5,13,9,13],[5,14,9,14],[5,15,9,15],[5,16,9,16],[5,17,9,17],[5,18,9,18],[5,19,9,19],[5,20,9,20],[5,21,9,21],[5,22,9,22],[5,23,9,23],[5,24,9,24],[5,25,9,25],[5,26,9,26],[5,27,9,27],[5,28,9,28],[5,29,9,29],[5,30,9,30],[5,31,9,31],[5,32,9,32],[5,33,9,33],[5,34,9,34],[5,35,9,35],[5,36,9,36],[5,37,9,37],[5,38,9,38],[5,39,9,39],[5,40,9,40],[5,41,9,41],[5,42,9,42],[5,43,9,43],[5,44,9,44],[5,45,9,45],[5,46,9,46],[5,47,9,47],[5,48,9,48],[5,49,9,49],[5,50,9,50],[5,51,9,51],[5,52,9,52],[5,53,9,53],[14,0,14,2],[16,4,20,4],[16,5,20,5],[16,6,20,6],[16,7,20,7],[16,8,20,8],[16,9,20,9],[16,10,20,10],[16,11,20,11],[16,12,20,12],[16,13,20,13],[16,14,20,14],[16,15,20,15],[16,16,20,16],[16,17,20,17],[16,18,20,18],[16,19,20,19],[16,20,20,20],[16,21,20,21],[16,22,20,22],[16,23,20,23],[16,24,20,24],[16,25,20,25],[16,26,20,26],[16,27,20,27],[16,28,20,28],[16,29,20,29],[16,30,20,30],[16,31,20,31],[16,32,20,32],[16,33,20,33],[16,34,20,34],[16,35,20,35],[16,36,20,36],[16,37,20,37],[16,38,20,38],[16,39,20,39],[16,40,20,40],[16,41,20,41],[16,42,20,42],[16,43,20,43],[16,44,20,44],[16,45,20,45],[16,46,20,46],[16,47,20,47],[16,48,20,48],[16,49,20,49],[16,50,20,50],[16,51,20,51],[16,52,20,52],[16,53,20,53],[25,0,25,2],[27,4,31,4],[27,5,31,5],[27,6,31,6],[27,7,31,7],[27,8,31,8],[27,9,31,9],[27,10,31,10],[27,11,31,11],[27,12,31,12],[27,13,31,13],[27,14,31,14],[27,15,31,15],[27,16,31,16],[27,17,31,17],[27,18,31,18],[27,19,31,19],[27,20,31,20],[27,21,31,21],[27,22,31,22],[27,23,31,23],[27,24,31,24],[27,25,31,25],[27,26,31,26],[27,27,31,27],[27,28,31,28],[27,29,31,29],[27,30,31,30],[27,31,31,31],[27,32,31,32],[27,33,31,33],[27,34,31,34],[27,35,31,35],[27,36,31,36],[27,37,31,37],[27,38,31,38],[27,39,31,39],[27,40,31,40],[27,41,31,41],[27,42,31,42],[27,43,31,43],[27,44,31,44],[27,45,31,45],[27,46,31,46],[27,47,31,47],[27,48,31,48],[27,49,31,49],[27,50,31,50],[27,51,31,51],[27,52,31,52],[27,53,31,53],[36,0,36,2],[38,4,42,4],[38,5,42,5],[38,6,42,6],[38,7,42,7],[38,8,42,8],[38,9,42,9],[38,10,42,10],[38,11,42,11],[38,12,42,12],[38,13,42,13],[38,14,42,14],[38,15,42,15],[38,16,42,16],[38,17,42,17],[38,18,42,18],[38,19,42,19],[38,20,42,20],[38,21,42,21],[38,22,42,22],[38,23,42,23],[38,24,42,24],[38,25,42,25],[38,26,42,26],[38,27,42,27],[38,28,42,28],[38,29,42,29],[38,30,42,30],[38,31,42,31],[38,32,42,32],[38,33,42,33],[38,34,42,34],[38,35,42,35],[38,36,42,36],[38,37,42,37],[38,38,42,38],[38,39,42,39],[38,40,42,40],[38,41,42,41],[38,42,42,42],[38,43,42,43],[38,44,42,44],[38,45,42,45],[38,46,42,46],[38,47,42,47],[38,48,42,48],[38,49,42,49],[38,50,42,50],[38,51,42,51],[38,52,42,52],[38,53,42,53],[47,0,47,2],[49,4,53,4],[49,5,53,5],[49,6,53,6],[49,7,53,7],[49,8,53,8],[49,9,53,9],[49,10,53,10],[49,11,53,11],[49,12,53,12],[49,13,53,13],[49,14,53,14],[49,15,53,15],[49,16,53,16],[49,17,53,17],[49,18,53,18],[49,19,53,19],[49,20,53,20],[49,21,53,21],[49,22,53,22],[49,23,53,23],[49,24,53,24],[49,25,53,25],[49,26,53,26],[49,27,53,27],[49,28,53,28],[49,29,53,29],[49,30,53,30],[49,31,53,31],[49,32,53,32],[49,33,53,33],[49,34,53,34],[49,35,53,35],[49,36,53,36],[49,37,53,37],[49,38,53,38],[49,39,53,39],[49,40,53,40],[49,41,53,41],[49,42,53,42],[49,43,53,43],[49,44,53,44],[49,45,53,45],[49,46,53,46],[49,47,53,47],[49,48,53,48],[49,49,53,49],[49,50,53,50],[49,51,53,51],[49,52,53,52],[49,53,53,53],[58,0,58,2],[60,4,64,4],[60,5,64,5],[60,6,64,6],[60,7,64,7],[60,8,64,8],[60,9,64,9],[60,10,64,10],[60,11,64,11],[60,12,64,12],[60,13,64,13],[60,14,64,14],[60,15,64,15],[60,16,64,16],[60,17,64,17],[60,18,64,18],[60,19,64,19],[60,20,64,20],[60,21,64,21],[60,22,64,22],[60,23,64,23],[60,24,64,24],[60,25,64,25],[60,26,64,26],[60,27,64,27],[60,28,64,28],[60,29,64,29],[60,30,64,30],[60,31,64,31],[60,32,64,32],[60,33,64,33],[60,34,64,34],[60,35,64,35],[60,36,64,36],[60,37,64,37],[60,38,64,38],[60,39,64,39],[60,40,64,40],[60,41,64,41],[60,42,64,42],[60,43,64,43],[60,44,64,44],[60,45,64,45],[60,46,64,46],[60,47,64,47],[60,48,64,48],[60,49,64,49],[60,50,64,50],[60,51,64,51],[60,52,64,52],[60,53,64,53],[69,0,69,2],[71,4,75,4],[71,5,75,5],[71,6,75,6],[71,7,75,7],[71,8,75,8],[71,9,75,9],[71,10,75,10],[71,11,75,11],[71,12,75,12],[71,13,75,13],[71,14,75,14],[71,15,75,15],[71,16,75,16],[71,17,75,17],[71,18,75,18],[71,19,75,19],[71,20,75,20],[71,21,75,21],[71,22,75,22],[71,23,75,23],[71,24,75,24],[71,25,75,25],[71,26,75,26],[71,27,75,27],[71,28,75,28],[71,29,75,29],[71,30,75,30],[71,31,75,31],[71,32,75,32],[71,33,75,33],[71,34,75,34],[71,35,75,35],[71,36,75,36],[71,37,75,37],[71,38,75,38],[71,39,75,39],[71,40,75,40],[71,41,75,41],[71,42,75,42],[71,43,75,43],[71,44,75,44],[71,45,75,45],[71,46,75,46],[71,47,75,47],[71,48,75,48],[71,49,75,49],[71,50,75,50],[71,51,75,51],[71,52,75,52],[71,53,75,53],[80,0,80,2],[82,4,86,4],[82,5,86,5],[82,6,86,6],[82,7,86,7],[82,8,86,8],[82,9,86,9],[82,10,86,10],[82,11,86,11],[82,12,86,12],[82,13,86,13],[82,14,86,14],[82,15,86,15],[82,16,86,16],[82,17,86,17],[82,18,86,18],[82,19,86,19],[82,20,86,20],[82,21,86,21],[82,22,86,22],[82,23,86,23],[82,24,86,24],[82,25,86,25],[82,26,86,26],[82,27,86,27],[82,28,86,28],[82,29,86,29],[82,30,86,30],[82,31,86,31],[82,32,86,32],[82,33,86,33],[82,34,86,34],[82,35,86,35],[82,36,86,36],[82,37,86,37],[82,38,86,38],[82,39,86,39],[82,40,86,40],[82,41,86,41],[82,42,86,42],[82,43,86,43],[82,44,86,44],[82,45,86,45],[82,46,86,46],[82,47,86,47],[82,48,86,48],[82,49,86,49],[82,50,86,50],[82,51,86,51],[82,52,86,52],[82,53,86,53],[91,0,91,2],[93,4,97,4],[93,5,97,5],[93,6,97,6],[93,7,97,7],[93,8,97,8],[93,9,97,9],[93,10,97,10],[93,11,97,11],[93,12,97,12],[93,13,97,13],[93,14,97,14],[93,15,97,15],[93,16,97,16],[93,17,97,17],[93,18,97,18],[93,19,97,19],[93,20,97,20],[93,21,97,21],[93,22,97,22],[93,23,97,23],[93,24,97,24],[93,25,97,25],[93,26,97,26],[93,27,97,27],[93,28,97,28],[93,29,97,29],[93,30,97,30],[93,31,97,31],[93,32,97,32],[93,33,97,33],[93,34,97,34],[93,35,97,35],[93,36,97,36],[93,37,97,37],[93,38,97,38],[93,39,97,39],[93,40,97,40],[93,41,97,41],[93,42,97,42],[93,43,97,43],[93,44,97,44],[93,45,97,45],[93,46,97,46],[93,47,97,47],[93,48,97,48],[93,49,97,49],[93,50,97,50],[93,51,97,51],[93,52,97,52],[93,53,97,53],[102,0,102,2],[104,4,108,4],[104,5,108,5],[104,6,108,6],[104,7,108,7],[104,8,108,8],[104,9,108,9],[104,10,108,10],[104,11,108,11],[104,12,108,12],[104,13,108,13],[104,14,108,14],[104,15,108,15],[104,16,108,16],[104,17,108,17],[104,18,108,18],[104,19,108,19],[104,20,108,20],[104,21,108,21],[104,22,108,22],[104,23,108,23],[104,24,108,24],[104,25,108,25],[104,26,108,26],[104,27,108,27],[104,28,108,28],[104,29,108,29],[104,30,108,30],[104,31,108,31],[104,32,108,32],[104,33,108,33],[104,34,108,34],[104,35,108,35],[104,36,108,36],[104,37,108,37],[104,38,108,38],[104,39,108,39],[104,40,108,40],[104,41,108,41],[104,42,108,42],[104,43,108,43],[104,44,108,44],[104,45,108,45],[104,46,108,46],[104,47,108,47],[104,48,108,48],[104,49,108,49],[104,50,108,50],[104,51,108,51],[104,52,108,52],[104,53,108,53],[113,0,113,2],[115,4,119,4],[115,5,119,5],[115,6,119,6],[115,7,119,7],[115,8,119,8],[115,9,119,9],[115,10,119,10],[115,11,119,11],[115,12,119,12],[115,13,119,13],[115,14,119,14],[115,15,119,15],[115,16,119,16],[115,17,119,17],[115,18,119,18],[115,19,119,19],[115,20,119,20],[115,21,119,21],[115,22,119,22],[115,23,119,23],[115,24,119,24],[115,25,119,25],[115,26,119,26],[115,27,119,27],[115,28,119,28],[115,29,119,29],[115,30,119,30],[115,31,119,31],[115,32,119,32],[115,33,119,33],[115,34,119,34],[115,35,119,35],[115,36,119,36],[115,37,119,37],[115,38,119,38],[115,39,119,39],[115,40,119,40],[115,41,119,41],[115,42,119,42],[115,43,119,43],[115,44,119,44],[115,45,119,45],[115,46,119,46],[115,47,119,47],[115,48,119,48],[115,49,119,49],[115,50,119,50],[115,51,119,51],[115,52,119,52],[115,53,119,53],[124,0,124,2],[126,4,130,4],[126,5,130,5],[126,6,130,6],[126,7,130,7],[126,8,130,8],[126,9,130,9],[126,10,130,10],[126,11,130,11],[126,12,130,12],[126,13,130,13],[126,14,130,14],[126,15,130,15],[126,16,130,16],[126,17,130,17],[126,18,130,18],[126,19,130,19],[126,20,130,20],[126,21,130,21],[126,22,130,22],[126,23,130,23],[126,24,130,24],[126,25,130,25],[126,26,130,26],[126,27,130,27],[126,28,130,28],[126,29,130,29],[126,30,130,30],[126,31,130,31],[126,32,130,32],[126,33,130,33],[126,34,130,34],[126,35,130,35],[126,36,130,36],[126,37,130,37],[126,38,130,38],[126,39,130,39],[126,40,130,40],[126,41,130,41],[126,42,130,42],[126,43,130,43],[126,44,130,44],[126,45,130,45],[126,46,130,46],[126,47,130,47],[126,48,130,48],[126,49,130,49],[126,50,130,50],[126,51,130,51],[126,52,130,52],[126,53,130,53],[135,0,135,2],[137,4,141,4],[137,5,141,5],[137,6,141,6],[137,7,141,7],[137,8,141,8],[137,9,141,9],[137,10,141,10],[137,11,141,11],[137,12,141,12],[137,13,141,13],[137,14,141,14],[137,15,141,15],[137,16,141,16],[137,17,141,17],[137,18,141,18],[137,19,141,19],[137,20,141,20],[137,21,141,21],[137,22,141,22],[137,23,141,23],[137,24,141,24],[137,25,141,25],[137,26,141,26],[137,27,141,27],[137,28,141,28],[137,29,141,29],[137,30,141,30],[137,31,141,31],[137,32,141,32],[137,33,141,33],[137,34,141,34],[137,35,141,35],[137,36,141,36],[137,37,141,37],[137,38,141,38],[137,39,141,39],[137,40,141,40],[137,41,141,41],[137,42,141,42],[137,43,141,43],[137,44,141,44],[137,45,141,45],[137,46,141,46],[137,47,141,47],[137,48,141,48],[137,49,141,49],[137,50,141,50],[137,51,141,51],[137,52,141,52],[137,53,141,53],[146,0,146,2],[148,4,152,4],[148,5,152,5],[148,6,152,6],[148,7,152,7],[148,8,152,8],[148,9,152,9],[148,10,152,10],[148,11,152,11],[148,12,152,12],[148,13,152,13],[148,14,152,14],[148,15,152,15],[148,16,152,16],[148,17,152,17],[148,18,152,18],[148,19,152,19],[148,20,152,20],[148,21,152,21],[148,22,152,22],[148,23,152,23],[148,24,152,24],[148,25,152,25],[148,26,152,26],[148,27,152,27],[148,28,152,28],[148,29,152,29],[148,30,152,30],[148,31,152,31],[148,32,152,32],[148,33,152,33],[148,34,152,34],[148,35,152,35],[148,36,152,36],[148,37,152,37],[148,38,152,38],[148,39,152,39],[148,40,152,40],[148,41,152,41],[148,42,152,42],[148,43,152,43],[148,44,152,44],[148,45,152,45],[148,46,152,46],[148,47,152,47],[148,48,152,48],[148,49,152,49],[148,50,152,50],[148,51,152,51],[148,52,152,52],[148,53,152,53],[157,0,157,2],[159,4,163,4],[159,5,163,5],[159,6,163,6],[159,7,163,7],[159,8,163,8],[159,9,163,9],[159,10,163,10],[159,11,163,11],[159,12,163,12],[159,13,163,13],[159,14,163,14],[159,15,163,15],[159,16,163,16],[159,17,163,17],[159,18,163,18],[159,19,163,19],[159,20,163,20],[159,21,163,21],[159,22,163,22],[159,23,163,23],[159,24,163,24],[159,25,163,25],[159,26,163,26],[159,27,163,27],[159,28,163,28],[159,29,163,29],[159,30,163,30],[159,31,163,31],[159,32,163,32],[159,33,163,33],[159,34,163,34],[159,35,163,35],[159,36,163,36],[159,37,163,37],[159,38,163,38],[159,39,163,39],[159,40,163,40],[159,41,163,41],[159,42,163,42],[159,43,163,43],[159,44,163,44],[159,45,163,45],[159,46,163,46],[159,47,163,47],[159,48,163,48],[159,49,163,49],[159,50,163,50],[159,51,163,51],[159,52,163,52],[159,53,163,53],[168,0,168,2],[170,4,174,4],[170,5,174,5],[170,6,174,6],[170,7,174,7],[170,8,174,8],[170,9,174,9],[170,10,174,10],[170,11,174,11],[170,12,174,12],[170,13,174,13],[170,14,174,14],[170,15,174,15],[170,16,174,16],[170,17,174,17],[170,18,174,18],[170,19,174,19],[170,20,174,20],[170,21,174,21],[170,22,174,22],[170,23,174,23],[170,24,174,24],[170,25,174,25],[170,26,174,26],[170,27,174,27],[170,28,174,28],[170,29,174,29],[170,30,174,30],[170,31,174,31],[170,32,174,32],[170,33,174,33],[170,34,174,34],[170,35,174,35],[170,36,174,36],[170,37,174,37],[170,38,174,38],[170,39,174,39],[170,40,174,40],[170,41,174,41],[170,42,174,42],[170,43,174,43],[170,44,174,44],[170,45,174,45],[170,46,174,46],[170,47,174,47],[170,48,174,48],[170,49,174,49],[170,50,174,50],[170,51,174,51],[170,52,174,52],[170,53,174,53],[179,0,179,2],[181,4,185,4],[181,5,185,5],[181,6,185,6],[181,7,185,7],[181,8,185,8],[181,9,185,9],[181,10,185,10],[181,11,185,11],[181,12,185,12],[181,13,185,13],[181,14,185,14],[181,15,185,15],[181,16,185,16],[181,17,185,17],[181,18,185,18],[181,19,185,19],[181,20,185,20],[181,21,185,21],[181,22,185,22],[181,23,185,23],[181,24,185,24],[181,25,185,25],[181,26,185,26],[181,27,185,27],[181,28,185,28],[181,29,185,29],[181,30,185,30],[181,31,185,31],[181,32,185,32],[181,33,185,33],[181,34,185,34],[181,35,185,35],[181,36,185,36],[181,37,185,37],[181,38,185,38],[181,39,185,39],[181,40,185,40],[181,41,185,41],[181,42,185,42],[181,43,185,43],[181,44,185,44],[181,45,185,45],[181,46,185,46],[181,47,185,47],[181,48,185,48],[181,49,185,49],[181,50,185,50],[181,51,185,51],[181,52,185,52],[181,53,185,53],[190,0,190,2],[192,4,196,4],[192,5,196,5],[192,6,196,6],[192,7,196,7],[192,8,196,8],[192,9,196,9],[192,10,196,10],[192,11,196,11],[192,12,196,12],[192,13,196,13],[192,14,196,14],[192,15,196,15],[192,16,196,16],[192,17,196,17],[192,18,196,18],[192,19,196,19],[192,20,196,20],[192,21,196,21],[192,22,196,22],[192,23,196,23],[192,24,196,24],[192,25,196,25],[192,26,196,26],[192,27,196,27],[192,28,196,28],[192,29,196,29],[192,30,196,30],[192,31,196,31],[192,32,196,32],[192,33,196,33],[192,34,196,34],[192,35,196,35],[192,36,196,36],[192,37,196,37],[192,38,196,38],[192,39,196,39],[192,40,196,40],[192,41,196,41],[192,42,196,42],[192,43,196,43],[192,44,196,44],[192,45,196,45],[192,46,196,46],[192,47,196,47],[192,48,196,48],[192,49,196,49],[192,50,196,50],[192,51,196,51],[192,52,196,52],[192,53,196,53],[201,0,201,2],[203,4,207,4],[203,5,207,5],[203,6,207,6],[203,7,207,7],[203,8,207,8],[203,9,207,9],[203,10,207,10],[203,11,207,11],[203,12,207,12],[203,13,207,13],[203,14,207,14],[203,15,207,15],[203,16,207,16],[203,17,207,17],[203,18,207,18],[203,19,207,19],[203,20,207,20],[203,21,207,21],[203,22,207,22],[203,23,207,23],[203,24,207,24],[203,25,207,25],[203,26,207,26],[203,27,207,27],[203,28,207,28],[203,29,207,29],[203,30,207,30],[203,31,207,31],[203,32,207,32],[203,33,207,33],[203,34,207,34],[203,35,207,35],[203,36,207,36],[203,37,207,37],[203,38,207,38],[203,39,207,39],[203,40,207,40],[203,41,207,41],[203,42,207,42],[203,43,207,43],[203,44,207,44],[203,45,207,45],[203,46,207,46],[203,47,207,47],[203,48,207,48],[203,49,207,49],[203,50,207,50],[203,51,207,51],[203,52,207,52],[203,53,207,53],[212,0,212,2],[214,9,218,9],[214,10,218,10],[214,11,218,11],[214,12,218,12],[214,13,218,13],[214,14,218,14],[214,15,218,15],[214,16,218,16],[214,17,218,17],[214,18,218,18],[214,19,218,19],[214,20,218,20],[214,26,218,26],[214,27,218,27],[214,28,218,28],[214,29,218,29],[214,30,218,30],[214,31,218,31],[214,32,218,32],[214,45,218,45],[214,46,218,46],[214,47,218,47],[214,48,218,48],[214,49,218,49],[214,51,218,51],[214,52,218,52],[214,53,218,53]],"merged_total":1023,"flags":["merged_cut"]}
["VERTICAL STRIP LABELS",{"$nulls":3},"DIMENSIONS OPTIONS (All measurements from the bottom left corner)\nFIXED: MEASUREMENT FROM THE LEFT EDGE OF THE LABEL TO THE CENTRE OF THE TEXT (ie. 9,27,45)\nRELATIVE: MEASUREMENT FROM THE PREVIOUS CENTRE (ie. 9,18,18)\nBLOCKS: MEASUREMENT OF COMPONENTS SIDE BY SIDE (ie. 18,18,18) [The program will work out the fixed centres for you]"]
["TOTAL VERTICAL LABELS",null,{"$f":"SUM(B5,B16,B27,B38,B49,B60,B71,B82,B93,B104,B115,B126,B137,B148,B159,B170,B181,B192,B203,B214)","v":0}]
[]
["LABEL 1"]
["QUANTITY"]
["WIDTH (mm)",{"$nulls":3},"","","","","","","","","","","","","","","","","","","","","","","","","","","","","","","","","","","","","","","","","","","","","","","","","",""]
["HEIGHT (mm)"]
["COLOUR","-- SELECT --",{"$f":"B7","v":0}]
["TEXT SIZE  (mm)","AUTO"]
["FIXING","-- SELECT --"]
[{"$nulls":4},"I","I","I","I","I","I","I","I","I","I","I","I","I","I","I","I","I","I","I","I","I","I","I","I","I","I","I","I","I","I","I","I","I","I","I","I","I","I","I","I","I","I","I","I","I","I","I","I","I","I"]
["HOLES REQUIRED",null,"-- SELECT --"]
["HOLE SIZE  (mm)",null,{"$f":"VLOOKUP(C12,'Background Information'!$O$1:$P$4,2,FALSE)","v":0},null,{"$f":"IF($C$12=\"FIXED\",'Vertical Calculations'!D6,IF($C$12=\"RELATIVE\",'Vertical Calculations'!D4,IF($C$12=\"BLOCKS\",'Vertical Calculations'!D8,0)))","v":0},{"$f":"IF($C$12=\"FIXED\",'Vertical Calculations'!E6,IF($C$12=\"RELATIVE\",'Vertical Calculations'!E4,IF($C$12=\"BLOCKS\",'Vertical Calculations'!E8,0)))","v":0},{"$f":"IF($C$12=\"FIXED\",'Vertical Calculations'!F6,IF($C$12=\"RELATIVE\",'Vertical Calculations'!F4,IF($C$12=\"BLOCKS\",'Vertical Calculations'!F8,0)))","v":0},{"$f":"IF($C$12=\"FIXED\",'Vertical Calculations'!G6,IF($C$12=\"RELATIVE\",'Vertical Calculations'!G4,IF($C$12=\"BLOCKS\",'Vertical Calculations'!G8,0)))","v":0},{"$f":"IF($C$12=\"FIXED\",'Vertical Calculations'!H6,IF($C$12=\"RELATIVE\",'Vertical Calculations'!H4,IF($C$12=\"BLOCKS\",'Vertical Calculations'!H8,0)))","v":0},{"$f":"IF($C$12=\"FIXED\",'Vertical Calculations'!I6,IF($C$12=\"RELATIVE\",'Vertical Calculations'!I4,IF($C$12=\"BLOCKS\",'Vertical Calculations'!I8,0)))","v":0},{"$f":"IF($C$12=\"FIXED\",'Vertical Calculations'!J6,IF($C$12=\"RELATIVE\",'Vertical Calculations'!J4,IF($C$12=\"BLOCKS\",'Vertical Calculations'!J8,0)))","v":0},{"$f":"IF($C$12=\"FIXED\",'Vertical Calculations'!K6,IF($C$12=\"RELATIVE\",'Vertical Calculations'!K4,IF($C$12=\"BLOCKS\",'Vertical Calculations'!K8,0)))","v":0},{"$f":"IF($C$12=\"FIXED\",'Vertical Calculations'!L6,IF($C$12=\"RELATIVE\",'Vertical Calculations'!L4,IF($C$12=\"BLOCKS\",'Vertical Calculations'!L8,0)))","v":0},{"$f":"IF($C$12=\"FIXED\",'Vertical Calculations'!M6,IF($C$12=\"RELATIVE\",'Vertical Calculations'!M4,IF($C$12=\"BLOCKS\",'Vertical Calculations'!M8,0)))","v":0},{"$f":"IF($C$12=\"FIXED\",'Vertical Calculations'!N6,IF($C$12=\"RELATIVE\",'Vertical Calculations'!N4,IF($C$12=\"BLOCKS\",'Vertical Calculations'!N8,0)))","v":0},{"$f":"IF($C$12=\"FIXED\",'Vertical Calculations'!O6,IF($C$12=\"RELATIVE\",'Vertical Calculations'!O4,IF($C$12=\"BLOCKS\",'Vertical Calculations'!O8,0)))","v":0},{"$f":"IF($C$12=\"FIXED\",'Vertical Calculations'!P6,IF($C$12=\"RELATIVE\",'Vertical Calculations'!P4,IF($C$12=\"BLOCKS\",'Vertical Calculations'!P8,0)))","v":0},{"$f":"IF($C$12=\"FIXED\",'Vertical Calculations'!Q6,IF($C$12=\"RELATIVE\",'Vertical Calculations'!Q4,IF($C$12=\"BLOCKS\",'Vertical Calculations'!Q8,0)))","v":0},{"$f":"IF($C$12=\"FIXED\",'Vertical Calculations'!R6,IF($C$12=\"RELATIVE\",'Vertical Calculations'!R4,IF($C$12=\"BLOCKS\",'Vertical Calculations'!R8,0)))","v":0},{"$f":"IF($C$12=\"FIXED\",'Vertical Calculations'!S6,IF($C$12=\"RELATIVE\",'Vertical Calculations'!S4,IF($C$12=\"BLOCKS\",'Vertical Calculations'!S8,0)))","v":0},{"$f":"IF($C$12=\"FIXED\",'Vertical Calculations'!T6,IF($C$12=\"RELATIVE\",'Vertical Calculations'!T4,IF($C$12=\"BLOCKS\",'Vertical Calculations'!T8,0)))","v":0},{"$f":"IF($C$12=\"FIXED\",'Vertical Calculations'!U6,IF($C$12=\"RELATIVE\",'Vertical Calculations'!U4,IF($C$12=\"BLOCKS\",'Vertical Calculations'!U8,0)))","v":0},{"$f":"IF($C$12=\"FIXED\",'Vertical Calculations'!V6,IF($C$12=\"RELATIVE\",'Vertical Calculations'!V4,IF($C$12=\"BLOCKS\",'Vertical Calculations'!V8,0)))","v":0},{"$f":"IF($C$12=\"FIXED\",'Vertical Calculations'!W6,IF($C$12=\"RELATIVE\",'Vertical Calculations'!W4,IF($C$12=\"BLOCKS\",'Vertical Calculations'!W8,0)))","v":0},{"$f":"IF($C$12=\"FIXED\",'Vertical Calculations'!X6,IF($C$12=\"RELATIVE\",'Vertical Calculations'!X4,IF($C$12=\"BLOCKS\",'Vertical Calculations'!X8,0)))","v":0},{"$f":"IF($C$12=\"FIXED\",'Vertical Calculations'!Y6,IF($C$12=\"RELATIVE\",'Vertical Calculations'!Y4,IF($C$12=\"BLOCKS\",'Vertical Calculations'!Y8,0)))","v":0},{"$f":"IF($C$12=\"FIXED\",'Vertical Calculations'!Z6,IF($C$12=\"RELATIVE\",'Vertical Calculations'!Z4,IF($C$12=\"BLOCKS\",'Vertical Calculations'!Z8,0)))","v":0},{"$f":"IF($C$12=\"FIXED\",'Vertical Calculations'!AA6,IF($C$12=\"RELATIVE\",'Vertical Calculations'!AA4,IF($C$12=\"BLOCKS\",'Vertical Calculations'!AA8,0)))","v":0},{"$f":"IF($C$12=\"FIXED\",'Vertical Calculations'!AB6,IF($C$12=\"RELATIVE\",'Vertical Calculations'!AB4,IF($C$12=\"BLOCKS\",'Vertical Calculations'!AB8,0)))","v":0},{"$f":"IF($C$12=\"FIXED\",'Vertical Calculations'!AC6,IF($C$12=\"RELATIVE\",'Vertical Calculations'!AC4,IF($C$12=\"BLOCKS\",'Vertical Calculations'!AC8,0)))","v":0},{"$f":"IF($C$12=\"FIXED\",'Vertical Calculations'!AD6,IF($C$12=\"RELATIVE\",'Vertical Calculations'!AD4,IF($C$12=\"BLOCKS\",'Vertical Calculations'!AD8,0)))","v":0},{"$f":"IF($C$12=\"FIXED\",'Vertical Calculations'!AE6,IF($C$12=\"RELATIVE\",'Vertical Calculations'!AE4,IF($C$12=\"BLOCKS\",'Vertical Calculations'!AE8,0)))","v":0},{"$f":"IF($C$12=\"FIXED\",'Vertical Calculations'!AF6,IF($C$12=\"RELATIVE\",'Vertical Calculations'!AF4,IF($C$12=\"BLOCKS\",'Vertical Calculations'!AF8,0)))","v":0},{"$f":"IF($C$12=\"FIXED\",'Vertical Calculations'!AG6,IF($C$12=\"RELATIVE\",'Vertical Calculations'!AG4,IF($C$12=\"BLOCKS\",'Vertical Calculations'!AG8,0)))","v":0},{"$f":"IF($C$12=\"FIXED\",'Vertical Calculations'!AH6,IF($C$12=\"RELATIVE\",'Vertical Calculations'!AH4,IF($C$12=\"BLOCKS\",'Vertical Calculations'!AH8,0)))","v":0},{"$f":"IF($C$12=\"FIXED\",'Vertical Calculations'!AI6,IF($C$12=\"RELATIVE\",'Vertical Calculations'!AI4,IF($C$12=\"BLOCKS\",'Vertical Calculations'!AI8,0)))","v":0},{"$f":"IF($C$12=\"FIXED\",'Vertical Calculations'!AJ6,IF($C$12=\"RELATIVE\",'Vertical Calculations'!AJ4,IF($C$12=\"BLOCKS\",'Vertical Calculations'!AJ8,0)))","v":0},{"$f":"IF($C$12=\"FIXED\",'Vertical Calculations'!AK6,IF($C$12=\"RELATIVE\",'Vertical Calculations'!AK4,IF($C$12=\"BLOCKS\",'Vertical Calculations'!AK8,0)))","v":0},{"$f":"IF($C$12=\"FIXED\",'Vertical Calculations'!AL6,IF($C$12=\"RELATIVE\",'Vertical Calculations'!AL4,IF($C$12=\"BLOCKS\",'Vertical Calculations'!AL8,0)))","v":0},{"$f":"IF($C$12=\"FIXED\",'Vertical Calculations'!AM6,IF($C$12=\"RELATIVE\",'Vertical Calculations'!AM4,IF($C$12=\"BLOCKS\",'Vertical Calculations'!AM8,0)))","v":0},{"$f":"IF($C$12=\"FIXED\",'Vertical Calculations'!AN6,IF($C$12=\"RELATIVE\",'Vertical Calculations'!AN4,IF($C$12=\"BLOCKS\",'Vertical Calculations'!AN8,0)))","v":0},{"$f":"IF($C$12=\"FIXED\",'Vertical Calculations'!AO6,IF($C$12=\"RELATIVE\",'Vertical Calculations'!AO4,IF($C$12=\"BLOCKS\",'Vertical Calculations'!AO8,0)))","v":0},{"$f":"IF($C$12=\"FIXED\",'Vertical Calculations'!AP6,IF($C$12=\"RELATIVE\",'Vertical Calculations'!AP4,IF($C$12=\"BLOCKS\",'Vertical Calculations'!AP8,0)))","v":0},{"$f":"IF($C$12=\"FIXED\",'Vertical Calculations'!AQ6,IF($C$12=\"RELATIVE\",'Vertical Calculations'!AQ4,IF($C$12=\"BLOCKS\",'Vertical Calculations'!AQ8,0)))","v":0},{"$f":"IF($C$12=\"FIXED\",'Vertical Calculations'!AR6,IF($C$12=\"RELATIVE\",'Vertical Calculations'!AR4,IF($C$12=\"BLOCKS\",'Vertical Calculations'!AR8,0)))","v":0},{"$f":"IF($C$12=\"FIXED\",'Vertical Calculations'!AS6,IF($C$12=\"RELATIVE\",'Vertical Calculations'!AS4,IF($C$12=\"BLOCKS\",'Vertical Calculations'!AS8,0)))","v":0},{"$f":"IF($C$12=\"FIXED\",'Vertical Calculations'!AT6,IF($C$12=\"RELATIVE\",'Vertical Calculations'!AT4,IF($C$12=\"BLOCKS\",'Vertical Calculations'!AT8,0)))","v":0},{"$f":"IF($C$12=\"FIXED\",'Vertical Calculations'!AU6,IF($C$12=\"RELATIVE\",'Vertical Calculations'!AU4,IF($C$12=\"BLOCKS\",'Vertical Calculations'!AU8,0)))","v":0},{"$f":"IF($C$12=\"FIXED\",'Vertical Calculations'!AV6,IF($C$12=\"RELATIVE\",'Vertical Calculations'!AV4,IF($C$12=\"BLOCKS\",'Vertical Calculations'!AV8,0)))","v":0},{"$f":"IF($C$12=\"FIXED\",'Vertical Calculations'!AW6,IF($C$12=\"RELATIVE\",'Vertical Calculations'!AW4,IF($C$12=\"BLOCKS\",'Vertical Calculations'!AW8,0)))","v":0},{"$f":"IF($C$12=\"FIXED\",'Vertical Calculations'!AX6,IF($C$12=\"RELATIVE\",'Vertical Calculations'!AX4,IF($C$12=\"BLOCKS\",'Vertical Calculations'!AX8,0)))","v":0},{"$f":"IF($C$12=\"FIXED\",'Vertical Calculations'!AY6,IF($C$12=\"RELATIVE\",'Vertical Calculations'!AY4,IF($C$12=\"BLOCKS\",'Vertical Calculations'!AY8,0)))","v":0},{"$f":"IF($C$12=\"FIXED\",'Vertical Calculations'!AZ6,IF($C$12=\"RELATIVE\",'Vertical Calculations'!AZ4,IF($C$12=\"BLOCKS\",'Vertical Calculations'!AZ8,0)))","v":0},{"$f":"IF($C$12=\"FIXED\",'Vertical Calculations'!BA6,IF($C$12=\"RELATIVE\",'Vertical Calculations'!BA4,IF($C$12=\"BLOCKS\",'Vertical Calculations'!BA8,0)))","v":0}]
[]
["LABEL 2"]
["QUANTITY"]
["WIDTH (mm)",{"$nulls":3},"","","","","","","","","","","","","","","","","","","","","","","","","","","","","","","","","","","","","","","","","","","","","","","","","",""]
["HEIGHT (mm)"]
["COLOUR","-- SELECT --",{"$f":"B18","v":0}]
["TEXT SIZE  (mm)","AUTO"]
["FIXING","-- SELECT --"]
[{"$nulls":4},"I","I","I","I","I","I","I","I","I","I","I","I","I","I","I","I","I","I","I","I","I","I","I","I","I","I","I","I","I","I","I","I","I","I","I","I","I","I","I","I","I","I","I","I","I","I","I","I","I","I"]
["HOLES REQUIRED",null,"-- SELECT --"]
["HOLE SIZE  (mm)",null,{"$f":"VLOOKUP(C23,'Background Information'!$O$1:$P$4,2,FALSE)","v":0},null,{"$f":"IF($C$23=\"FIXED\",'Vertical Calculations'!D15,IF($C$23=\"RELATIVE\",'Vertical Calculations'!D13,IF($C$23=\"BLOCKS\",'Vertical Calculations'!D17,0)))","v":0},{"$f":"IF($C$23=\"FIXED\",'Vertical Calculations'!E15,IF($C$23=\"RELATIVE\",'Vertical Calculations'!E13,IF($C$23=\"BLOCKS\",'Vertical Calculations'!E17,0)))","v":0},{"$f":"IF($C$23=\"FIXED\",'Vertical Calculations'!F15,IF($C$23=\"RELATIVE\",'Vertical Calculations'!F13,IF($C$23=\"BLOCKS\",'Vertical Calculations'!F17,0)))","v":0},{"$f":"IF($C$23=\"FIXED\",'Vertical Calculations'!G15,IF($C$23=\"RELATIVE\",'Vertical Calculations'!G13,IF($C$23=\"BLOCKS\",'Vertical Calculations'!G17,0)))","v":0},{"$f":"IF($C$23=\"FIXED\",'Vertical Calculations'!H15,IF($C$23=\"RELATIVE\",'Vertical Calculations'!H13,IF($C$23=\"BLOCKS\",'Vertical Calculations'!H17,0)))","v":0},{"$f":"IF($C$23=\"FIXED\",'Vertical Calculations'!I15,IF($C$23=\"RELATIVE\",'Vertical Calculations'!I13,IF($C$23=\"BLOCKS\",'Vertical Calculations'!I17,0)))","v":0},{"$f":"IF($C$23=\"FIXED\",'Vertical Calculations'!J15,IF($C$23=\"RELATIVE\",'Vertical Calculations'!J13,IF($C$23=\"BLOCKS\",'Vertical Calculations'!J17,0)))","v":0},{"$f":"IF($C$23=\"FIXED\",'Vertical Calculations'!K15,IF($C$23=\"RELATIVE\",'Vertical Calculations'!K13,IF($C$23=\"BLOCKS\",'Vertical Calculations'!K17,0)))","v":0},{"$f":"IF($C$23=\"FIXED\",'Vertical Calculations'!L15,IF($C$23=\"RELATIVE\",'Vertical Calculations'!L13,IF($C$23=\"BLOCKS\",'Vertical Calculations'!L17,0)))","v":0},{"$f":"IF($C$23=\"FIXED\",'Vertical Calculations'!M15,IF($C$23=\"RELATIVE\",'Vertical Calculations'!M13,IF($C$23=\"BLOCKS\",'Vertical Calculations'!M17,0)))","v":0},{"$f":"IF($C$23=\"FIXED\",'Vertical Calculations'!N15,IF($C$23=\"RELATIVE\",'Vertical Calculations'!N13,IF($C$23=\"BLOCKS\",'Vertical Calculations'!N17,0)))","v":0},{"$f":"IF($C$23=\"FIXED\",'Vertical Calculations'!O15,IF($C$23=\"RELATIVE\",'Vertical Calculations'!O13,IF($C$23=\"BLOCKS\",'Vertical Calculations'!O17,0)))","v":0},{"$f":"IF($C$23=\"FIXED\",'Vertical Calculations'!P15,IF($C$23=\"RELATIVE\",'Vertical Calculations'!P13,IF($C$23=\"BLOCKS\",'Vertical Calculations'!P17,0)))","v":0},{"$f":"IF($C$23=\"FIXED\",'Vertical Calculations'!Q15,IF($C$23=\"RELATIVE\",'Vertical Calculations'!Q13,IF($C$23=\"BLOCKS\",'Vertical Calculations'!Q17,0)))","v":0},{"$f":"IF($C$23=\"FIXED\",'Vertical Calculations'!R15,IF($C$23=\"RELATIVE\",'Vertical Calculations'!R13,IF($C$23=\"BLOCKS\",'Vertical Calculations'!R17,0)))","v":0},{"$f":"IF($C$23=\"FIXED\",'Vertical Calculations'!S15,IF($C$23=\"RELATIVE\",'Vertical Calculations'!S13,IF($C$23=\"BLOCKS\",'Vertical Calculations'!S17,0)))","v":0},{"$f":"IF($C$23=\"FIXED\",'Vertical Calculations'!T15,IF($C$23=\"RELATIVE\",'Vertical Calculations'!T13,IF($C$23=\"BLOCKS\",'Vertical Calculations'!T17,0)))","v":0},{"$f":"IF($C$23=\"FIXED\",'Vertical Calculations'!U15,IF($C$23=\"RELATIVE\",'Vertical Calculations'!U13,IF($C$23=\"BLOCKS\",'Vertical Calculations'!U17,0)))","v":0},{"$f":"IF($C$23=\"FIXED\",'Vertical Calculations'!V15,IF($C$23=\"RELATIVE\",'Vertical Calculations'!V13,IF($C$23=\"BLOCKS\",'Vertical Calculations'!V17,0)))","v":0},{"$f":"IF($C$23=\"FIXED\",'Vertical Calculations'!W15,IF($C$23=\"RELATIVE\",'Vertical Calculations'!W13,IF($C$23=\"BLOCKS\",'Vertical Calculations'!W17,0)))","v":0},{"$f":"IF($C$23=\"FIXED\",'Vertical Calculations'!X15,IF($C$23=\"RELATIVE\",'Vertical Calculations'!X13,IF($C$23=\"BLOCKS\",'Vertical Calculations'!X17,0)))","v":0},{"$f":"IF($C$23=\"FIXED\",'Vertical Calculations'!Y15,IF($C$23=\"RELATIVE\",'Vertical Calculations'!Y13,IF($C$23=\"BLOCKS\",'Vertical Calculations'!Y17,0)))","v":0},{"$f":"IF($C$23=\"FIXED\",'Vertical Calculations'!Z15,IF($C$23=\"RELATIVE\",'Vertical Calculations'!Z13,IF($C$23=\"BLOCKS\",'Vertical Calculations'!Z17,0)))","v":0},{"$f":"IF($C$23=\"FIXED\",'Vertical Calculations'!AA15,IF($C$23=\"RELATIVE\",'Vertical Calculations'!AA13,IF($C$23=\"BLOCKS\",'Vertical Calculations'!AA17,0)))","v":0},{"$f":"IF($C$23=\"FIXED\",'Vertical Calculations'!AB15,IF($C$23=\"RELATIVE\",'Vertical Calculations'!AB13,IF($C$23=\"BLOCKS\",'Vertical Calculations'!AB17,0)))","v":0},{"$f":"IF($C$23=\"FIXED\",'Vertical Calculations'!AC15,IF($C$23=\"RELATIVE\",'Vertical Calculations'!AC13,IF($C$23=\"BLOCKS\",'Vertical Calculations'!AC17,0)))","v":0},{"$f":"IF($C$23=\"FIXED\",'Vertical Calculations'!AD15,IF($C$23=\"RELATIVE\",'Vertical Calculations'!AD13,IF($C$23=\"BLOCKS\",'Vertical Calculations'!AD17,0)))","v":0},{"$f":"IF($C$23=\"FIXED\",'Vertical Calculations'!AE15,IF($C$23=\"RELATIVE\",'Vertical Calculations'!AE13,IF($C$23=\"BLOCKS\",'Vertical Calculations'!AE17,0)))","v":0},{"$f":"IF($C$23=\"FIXED\",'Vertical Calculations'!AF15,IF($C$23=\"RELATIVE\",'Vertical Calculations'!AF13,IF($C$23=\"BLOCKS\",'Vertical Calculations'!AF17,0)))","v":0},{"$f":"IF($C$23=\"FIXED\",'Vertical Calculations'!AG15,IF($C$23=\"RELATIVE\",'Vertical Calculations'!AG13,IF($C$23=\"BLOCKS\",'Vertical Calculations'!AG17,0)))","v":0},{"$f":"IF($C$23=\"FIXED\",'Vertical Calculations'!AH15,IF($C$23=\"RELATIVE\",'Vertical Calculations'!AH13,IF($C$23=\"BLOCKS\",'Vertical Calculations'!AH17,0)))","v":0},{"$f":"IF($C$23=\"FIXED\",'Vertical Calculations'!AI15,IF($C$23=\"RELATIVE\",'Vertical Calculations'!AI13,IF($C$23=\"BLOCKS\",'Vertical Calculations'!AI17,0)))","v":0},{"$f":"IF($C$23=\"FIXED\",'Vertical Calculations'!AJ15,IF($C$23=\"RELATIVE\",'Vertical Calculations'!AJ13,IF($C$23=\"BLOCKS\",'Vertical Calculations'!AJ17,0)))","v":0},{"$f":"IF($C$23=\"FIXED\",'Vertical Calculations'!AK15,IF($C$23=\"RELATIVE\",'Vertical Calculations'!AK13,IF($C$23=\"BLOCKS\",'Vertical Calculations'!AK17,0)))","v":0},{"$f":"IF($C$23=\"FIXED\",'Vertical Calculations'!AL15,IF($C$23=\"RELATIVE\",'Vertical Calculations'!AL13,IF($C$23=\"BLOCKS\",'Vertical Calculations'!AL17,0)))","v":0},{"$f":"IF($C$23=\"FIXED\",'Vertical Calculations'!AM15,IF($C$23=\"RELATIVE\",'Vertical Calculations'!AM13,IF($C$23=\"BLOCKS\",'Vertical Calculations'!AM17,0)))","v":0},{"$f":"IF($C$23=\"FIXED\",'Vertical Calculations'!AN15,IF($C$23=\"RELATIVE\",'Vertical Calculations'!AN13,IF($C$23=\"BLOCKS\",'Vertical Calculations'!AN17,0)))","v":0},{"$f":"IF($C$23=\"FIXED\",'Vertical Calculations'!AO15,IF($C$23=\"RELATIVE\",'Vertical Calculations'!AO13,IF($C$23=\"BLOCKS\",'Vertical Calculations'!AO17,0)))","v":0},{"$f":"IF($C$23=\"FIXED\",'Vertical Calculations'!AP15,IF($C$23=\"RELATIVE\",'Vertical Calculations'!AP13,IF($C$23=\"BLOCKS\",'Vertical Calculations'!AP17,0)))","v":0},{"$f":"IF($C$23=\"FIXED\",'Vertical Calculations'!AQ15,IF($C$23=\"RELATIVE\",'Vertical Calculations'!AQ13,IF($C$23=\"BLOCKS\",'Vertical Calculations'!AQ17,0)))","v":0},{"$f":"IF($C$23=\"FIXED\",'Vertical Calculations'!AR15,IF($C$23=\"RELATIVE\",'Vertical Calculations'!AR13,IF($C$23=\"BLOCKS\",'Vertical Calculations'!AR17,0)))","v":0},{"$f":"IF($C$23=\"FIXED\",'Vertical Calculations'!AS15,IF($C$23=\"RELATIVE\",'Vertical Calculations'!AS13,IF($C$23=\"BLOCKS\",'Vertical Calculations'!AS17,0)))","v":0},{"$f":"IF($C$23=\"FIXED\",'Vertical Calculations'!AT15,IF($C$23=\"RELATIVE\",'Vertical Calculations'!AT13,IF($C$23=\"BLOCKS\",'Vertical Calculations'!AT17,0)))","v":0},{"$f":"IF($C$23=\"FIXED\",'Vertical Calculations'!AU15,IF($C$23=\"RELATIVE\",'Vertical Calculations'!AU13,IF($C$23=\"BLOCKS\",'Vertical Calculations'!AU17,0)))","v":0},{"$f":"IF($C$23=\"FIXED\",'Vertical Calculations'!AV15,IF($C$23=\"RELATIVE\",'Vertical Calculations'!AV13,IF($C$23=\"BLOCKS\",'Vertical Calculations'!AV17,0)))","v":0},{"$f":"IF($C$23=\"FIXED\",'Vertical Calculations'!AW15,IF($C$23=\"RELATIVE\",'Vertical Calculations'!AW13,IF($C$23=\"BLOCKS\",'Vertical Calculations'!AW17,0)))","v":0},{"$f":"IF($C$23=\"FIXED\",'Vertical Calculations'!AX15,IF($C$23=\"RELATIVE\",'Vertical Calculations'!AX13,IF($C$23=\"BLOCKS\",'Vertical Calculations'!AX17,0)))","v":0},{"$f":"IF($C$23=\"FIXED\",'Vertical Calculations'!AY15,IF($C$23=\"RELATIVE\",'Vertical Calculations'!AY13,IF($C$23=\"BLOCKS\",'Vertical Calculations'!AY17,0)))","v":0},{"$f":"IF($C$23=\"FIXED\",'Vertical Calculations'!AZ15,IF($C$23=\"RELATIVE\",'Vertical Calculations'!AZ13,IF($C$23=\"BLOCKS\",'Vertical Calculations'!AZ17,0)))","v":0},{"$f":"IF($C$23=\"FIXED\",'Vertical Calculations'!BA15,IF($C$23=\"RELATIVE\",'Vertical Calculations'!BA13,IF($C$23=\"BLOCKS\",'Vertical Calculations'!BA17,0)))","v":0}]
[]
["LABEL 3"]
["QUANTITY"]
["WIDTH (mm)",{"$nulls":3},"","","","","","","","","","","","","","","","","","","","","","","","","","","","","","","","","","","","","","","","","","","","","","","","","",""]
["HEIGHT (mm)"]
["COLOUR","-- SELECT --",{"$f":"B29","v":0}]
["TEXT SIZE  (mm)","AUTO"]
["FIXING","-- SELECT --"]
[{"$nulls":4},"I","I","I","I","I","I","I","I","I","I","I","I","I","I","I","I","I","I","I","I","I","I","I","I","I","I","I","I","I","I","I","I","I","I","I","I","I","I","I","I","I","I","I","I","I","I","I","I","I","I"]
["HOLES REQUIRED",null,"-- SELECT --"]
["HOLE SIZE  (mm)",null,{"$f":"VLOOKUP(C34,'Background Information'!$O$1:$P$4,2,FALSE)","v":0},null,{"$f":"IF($C$34=\"FIXED\",'Vertical Calculations'!D24,IF($C$34=\"RELATIVE\",'Vertical Calculations'!D22,IF($C$34=\"BLOCKS\",'Vertical Calculations'!D26,0)))","v":0},{"$f":"IF($C$34=\"FIXED\",'Vertical Calculations'!E24,IF($C$34=\"RELATIVE\",'Vertical Calculations'!E22,IF($C$34=\"BLOCKS\",'Vertical Calculations'!E26,0)))","v":0},{"$f":"IF($C$34=\"FIXED\",'Vertical Calculations'!F24,IF($C$34=\"RELATIVE\",'Vertical Calculations'!F22,IF($C$34=\"BLOCKS\",'Vertical Calculations'!F26,0)))","v":0},{"$f":"IF($C$34=\"FIXED\",'Vertical Calculations'!G24,IF($C$34=\"RELATIVE\",'Vertical Calculations'!G22,IF($C$34=\"BLOCKS\",'Vertical Calculations'!G26,0)))","v":0},{"$f":"IF($C$34=\"FIXED\",'Vertical Calculations'!H24,IF($C$34=\"RELATIVE\",'Vertical Calculations'!H22,IF($C$34=\"BLOCKS\",'Vertical Calculations'!H26,0)))","v":0},{"$f":"IF($C$34=\"FIXED\",'Vertical Calculations'!I24,IF($C$34=\"RELATIVE\",'Vertical Calculations'!I22,IF($C$34=\"BLOCKS\",'Vertical Calculations'!I26,0)))","v":0},{"$f":"IF($C$34=\"FIXED\",'Vertical Calculations'!J24,IF($C$34=\"RELATIVE\",'Vertical Calculations'!J22,IF($C$34=\"BLOCKS\",'Vertical Calculations'!J26,0)))","v":0},{"$f":"IF($C$34=\"FIXED\",'Vertical Calculations'!K24,IF($C$34=\"RELATIVE\",'Vertical Calculations'!K22,IF($C$34=\"BLOCKS\",'Vertical Calculations'!K26,0)))","v":0},{"$f":"IF($C$34=\"FIXED\",'Vertical Calculations'!L24,IF($C$34=\"RELATIVE\",'Vertical Calculations'!L22,IF($C$34=\"BLOCKS\",'Vertical Calculations'!L26,0)))","v":0},{"$f":"IF($C$34=\"FIXED\",'Vertical Calculations'!M24,IF($C$34=\"RELATIVE\",'Vertical Calculations'!M22,IF($C$34=\"BLOCKS\",'Vertical Calculations'!M26,0)))","v":0},{"$f":"IF($C$34=\"FIXED\",'Vertical Calculations'!N24,IF($C$34=\"RELATIVE\",'Vertical Calculations'!N22,IF($C$34=\"BLOCKS\",'Vertical Calculations'!N26,0)))","v":0},{"$f":"IF($C$34=\"FIXED\",'Vertical Calculations'!O24,IF($C$34=\"RELATIVE\",'Vertical Calculations'!O22,IF($C$34=\"BLOCKS\",'Vertical Calculations'!O26,0)))","v":0},{"$f":"IF($C$34=\"FIXED\",'Vertical Calculations'!P24,IF($C$34=\"RELATIVE\",'Vertical Calculations'!P22,IF($C$34=\"BLOCKS\",'Vertical Calculations'!P26,0)))","v":0},{"$f":"IF($C$34=\"FIXED\",'Vertical Calculations'!Q24,IF($C$34=\"RELATIVE\",'Vertical Calculations'!Q22,IF($C$34=\"BLOCKS\",'Vertical Calculations'!Q26,0)))","v":0},{"$f":"IF($C$34=\"FIXED\",'Vertical Calculations'!R24,IF($C$34=\"RELATIVE\",'Vertical Calculations'!R22,IF($C$34=\"BLOCKS\",'Vertical Calculations'!R26,0)))","v":0},{"$f":"IF($C$34=\"FIXED\",'Vertical Calculations'!S24,IF($C$34=\"RELATIVE\",'Vertical Calculations'!S22,IF($C$34=\"BLOCKS\",'Vertical Calculations'!S26,0)))","v":0},{"$f":"IF($C$34=\"FIXED\",'Vertical Calculations'!T24,IF($C$34=\"RELATIVE\",'Vertical Calculations'!T22,IF($C$34=\"BLOCKS\",'Vertical Calculations'!T26,0)))","v":0},{"$f":"IF($C$34=\"FIXED\",'Vertical Calculations'!U24,IF($C$34=\"RELATIVE\",'Vertical Calculations'!U22,IF($C$34=\"BLOCKS\",'Vertical Calculations'!U26,0)))","v":0},{"$f":"IF($C$34=\"FIXED\",'Vertical Calculations'!V24,IF($C$34=\"RELATIVE\",'Vertical Calculations'!V22,IF($C$34=\"BLOCKS\",'Vertical Calculations'!V26,0)))","v":0},{"$f":"IF($C$34=\"FIXED\",'Vertical Calculations'!W24,IF($C$34=\"RELATIVE\",'Vertical Calculations'!W22,IF($C$34=\"BLOCKS\",'Vertical Calculations'!W26,0)))","v":0},{"$f":"IF($C$34=\"FIXED\",'Vertical Calculations'!X24,IF($C$34=\"RELATIVE\",'Vertical Calculations'!X22,IF($C$34=\"BLOCKS\",'Vertical Calculations'!X26,0)))","v":0},{"$f":"IF($C$34=\"FIXED\",'Vertical Calculations'!Y24,IF($C$34=\"RELATIVE\",'Vertical Calculations'!Y22,IF($C$34=\"BLOCKS\",'Vertical Calculations'!Y26,0)))","v":0},{"$f":"IF($C$34=\"FIXED\",'Vertical Calculations'!Z24,IF($C$34=\"RELATIVE\",'Vertical Calculations'!Z22,IF($C$34=\"BLOCKS\",'Vertical Calculations'!Z26,0)))","v":0},{"$f":"IF($C$34=\"FIXED\",'Vertical Calculations'!AA24,IF($C$34=\"RELATIVE\",'Vertical Calculations'!AA22,IF($C$34=\"BLOCKS\",'Vertical Calculations'!AA26,0)))","v":0},{"$f":"IF($C$34=\"FIXED\",'Vertical Calculations'!AB24,IF($C$34=\"RELATIVE\",'Vertical Calculations'!AB22,IF($C$34=\"BLOCKS\",'Vertical Calculations'!AB26,0)))","v":0},{"$f":"IF($C$34=\"FIXED\",'Vertical Calculations'!AC24,IF($C$34=\"RELATIVE\",'Vertical Calculations'!AC22,IF($C$34=\"BLOCKS\",'Vertical Calculations'!AC26,0)))","v":0},{"$f":"IF($C$34=\"FIXED\",'Vertical Calculations'!AD24,IF($C$34=\"RELATIVE\",'Vertical Calculations'!AD22,IF($C$34=\"BLOCKS\",'Vertical Calculations'!AD26,0)))","v":0},{"$f":"IF($C$34=\"FIXED\",'Vertical Calculations'!AE24,IF($C$34=\"RELATIVE\",'Vertical Calculations'!AE22,IF($C$34=\"BLOCKS\",'Vertical Calculations'!AE26,0)))","v":0},{"$f":"IF($C$34=\"FIXED\",'Vertical Calculations'!AF24,IF($C$34=\"RELATIVE\",'Vertical Calculations'!AF22,IF($C$34=\"BLOCKS\",'Vertical Calculations'!AF26,0)))","v":0},{"$f":"IF($C$34=\"FIXED\",'Vertical Calculations'!AG24,IF($C$34=\"RELATIVE\",'Vertical Calculations'!AG22,IF($C$34=\"BLOCKS\",'Vertical Calculations'!AG26,0)))","v":0},{"$f":"IF($C$34=\"FIXED\",'Vertical Calculations'!AH24,IF($C$34=\"RELATIVE\",'Vertical Calculations'!AH22,IF($C$34=\"BLOCKS\",'Vertical Calculations'!AH26,0)))","v":0},{"$f":"IF($C$34=\"FIXED\",'Vertical Calculations'!AI24,IF($C$34=\"RELATIVE\",'Vertical Calculations'!AI22,IF($C$34=\"BLOCKS\",'Vertical Calculations'!AI26,0)))","v":0},{"$f":"IF($C$34=\"FIXED\",'Vertical Calculations'!AJ24,IF($C$34=\"RELATIVE\",'Vertical Calculations'!AJ22,IF($C$34=\"BLOCKS\",'Vertical Calculations'!AJ26,0)))","v":0},{"$f":"IF($C$34=\"FIXED\",'Vertical Calculations'!AK24,IF($C$34=\"RELATIVE\",'Vertical Calculations'!AK22,IF($C$34=\"BLOCKS\",'Vertical Calculations'!AK26,0)))","v":0},{"$f":"IF($C$34=\"FIXED\",'Vertical Calculations'!AL24,IF($C$34=\"RELATIVE\",'Vertical Calculations'!AL22,IF($C$34=\"BLOCKS\",'Vertical Calculations'!AL26,0)))","v":0},{"$f":"IF($C$34=\"FIXED\",'Vertical Calculations'!AM24,IF($C$34=\"RELATIVE\",'Vertical Calculations'!AM22,IF($C$34=\"BLOCKS\",'Vertical Calculations'!AM26,0)))","v":0},{"$f":"IF($C$34=\"FIXED\",'Vertical Calculations'!AN24,IF($C$34=\"RELATIVE\",'Vertical Calculations'!AN22,IF($C$34=\"BLOCKS\",'Vertical Calculations'!AN26,0)))","v":0},{"$f":"IF($C$34=\"FIXED\",'Vertical Calculations'!AO24,IF($C$34=\"RELATIVE\",'Vertical Calculations'!AO22,IF($C$34=\"BLOCKS\",'Vertical Calculations'!AO26,0)))","v":0},{"$f":"IF($C$34=\"FIXED\",'Vertical Calculations'!AP24,IF($C$34=\"RELATIVE\",'Vertical Calculations'!AP22,IF($C$34=\"BLOCKS\",'Vertical Calculations'!AP26,0)))","v":0},{"$f":"IF($C$34=\"FIXED\",'Vertical Calculations'!AQ24,IF($C$34=\"RELATIVE\",'Vertical Calculations'!AQ22,IF($C$34=\"BLOCKS\",'Vertical Calculations'!AQ26,0)))","v":0},{"$f":"IF($C$34=\"FIXED\",'Vertical Calculations'!AR24,IF($C$34=\"RELATIVE\",'Vertical Calculations'!AR22,IF($C$34=\"BLOCKS\",'Vertical Calculations'!AR26,0)))","v":0},{"$f":"IF($C$34=\"FIXED\",'Vertical Calculations'!AS24,IF($C$34=\"RELATIVE\",'Vertical Calculations'!AS22,IF($C$34=\"BLOCKS\",'Vertical Calculations'!AS26,0)))","v":0},{"$f":"IF($C$34=\"FIXED\",'Vertical Calculations'!AT24,IF($C$34=\"RELATIVE\",'Vertical Calculations'!AT22,IF($C$34=\"BLOCKS\",'Vertical Calculations'!AT26,0)))","v":0},{"$f":"IF($C$34=\"FIXED\",'Vertical Calculations'!AU24,IF($C$34=\"RELATIVE\",'Vertical Calculations'!AU22,IF($C$34=\"BLOCKS\",'Vertical Calculations'!AU26,0)))","v":0},{"$f":"IF($C$34=\"FIXED\",'Vertical Calculations'!AV24,IF($C$34=\"RELATIVE\",'Vertical Calculations'!AV22,IF($C$34=\"BLOCKS\",'Vertical Calculations'!AV26,0)))","v":0},{"$f":"IF($C$34=\"FIXED\",'Vertical Calculations'!AW24,IF($C$34=\"RELATIVE\",'Vertical Calculations'!AW22,IF($C$34=\"BLOCKS\",'Vertical Calculations'!AW26,0)))","v":0},{"$f":"IF($C$34=\"FIXED\",'Vertical Calculations'!AX24,IF($C$34=\"RELATIVE\",'Vertical Calculations'!AX22,IF($C$34=\"BLOCKS\",'Vertical Calculations'!AX26,0)))","v":0},{"$f":"IF($C$34=\"FIXED\",'Vertical Calculations'!AY24,IF($C$34=\"RELATIVE\",'Vertical Calculations'!AY22,IF($C$34=\"BLOCKS\",'Vertical Calculations'!AY26,0)))","v":0},{"$f":"IF($C$34=\"FIXED\",'Vertical Calculations'!AZ24,IF($C$34=\"RELATIVE\",'Vertical Calculations'!AZ22,IF($C$34=\"BLOCKS\",'Vertical Calculations'!AZ26,0)))","v":0},{"$f":"IF($C$34=\"FIXED\",'Vertical Calculations'!BA24,IF($C$34=\"RELATIVE\",'Vertical Calculations'!BA22,IF($C$34=\"BLOCKS\",'Vertical Calculations'!BA26,0)))","v":0}]
[]
["LABEL 4"]
["QUANTITY"]
["WIDTH (mm)",{"$nulls":3},"","","","","","","","","","","","","","","","","","","","","","","","","","","","","","","","","","","","","","","","","","","","","","","","","",""]
["HEIGHT (mm)"]
["COLOUR","-- SELECT --",{"$f":"B40","v":0}]
["TEXT SIZE  (mm)","AUTO"]
["FIXING","-- SELECT --"]
[{"$nulls":4},"I","I","I","I","I","I","I","I","I","I","I","I","I","I","I","I","I","I","I","I","I","I","I","I","I","I","I","I","I","I","I","I","I","I","I","I","I","I","I","I","I","I","I","I","I","I","I","I","I","I"]
["HOLES REQUIRED",null,"-- SELECT --"]
["HOLE SIZE  (mm)",null,{"$f":"VLOOKUP(C45,'Background Information'!$O$1:$P$4,2,FALSE)","v":0},null,{"$f":"IF($C$45=\"FIXED\",'Vertical Calculations'!D33,IF($C$45=\"RELATIVE\",'Vertical Calculations'!D31,IF($C$45=\"BLOCKS\",'Vertical Calculations'!D35,0)))","v":0},{"$f":"IF($C$45=\"FIXED\",'Vertical Calculations'!E33,IF($C$45=\"RELATIVE\",'Vertical Calculations'!E31,IF($C$45=\"BLOCKS\",'Vertical Calculations'!E35,0)))","v":0},{"$f":"IF($C$45=\"FIXED\",'Vertical Calculations'!F33,IF($C$45=\"RELATIVE\",'Vertical Calculations'!F31,IF($C$45=\"BLOCKS\",'Vertical Calculations'!F35,0)))","v":0},{"$f":"IF($C$45=\"FIXED\",'Vertical Calculations'!G33,IF($C$45=\"RELATIVE\",'Vertical Calculations'!G31,IF($C$45=\"BLOCKS\",'Vertical Calculations'!G35,0)))","v":0},{"$f":"IF($C$45=\"FIXED\",'Vertical Calculations'!H33,IF($C$45=\"RELATIVE\",'Vertical Calculations'!H31,IF($C$45=\"BLOCKS\",'Vertical Calculations'!H35,0)))","v":0},{"$f":"IF($C$45=\"FIXED\",'Vertical Calculations'!I33,IF($C$45=\"RELATIVE\",'Vertical Calculations'!I31,IF($C$45=\"BLOCKS\",'Vertical Calculations'!I35,0)))","v":0},{"$f":"IF($C$45=\"FIXED\",'Vertical Calculations'!J33,IF($C$45=\"RELATIVE\",'Vertical Calculations'!J31,IF($C$45=\"BLOCKS\",'Vertical Calculations'!J35,0)))","v":0},{"$f":"IF($C$45=\"FIXED\",'Vertical Calculations'!K33,IF($C$45=\"RELATIVE\",'Vertical Calculations'!K31,IF($C$45=\"BLOCKS\",'Vertical Calculations'!K35,0)))","v":0},{"$f":"IF($C$45=\"FIXED\",'Vertical Calculations'!L33,IF($C$45=\"RELATIVE\",'Vertical Calculations'!L31,IF($C$45=\"BLOCKS\",'Vertical Calculations'!L35,0)))","v":0},{"$f":"IF($C$45=\"FIXED\",'Vertical Calculations'!M33,IF($C$45=\"RELATIVE\",'Vertical Calculations'!M31,IF($C$45=\"BLOCKS\",'Vertical Calculations'!M35,0)))","v":0},{"$f":"IF($C$45=\"FIXED\",'Vertical Calculations'!N33,IF($C$45=\"RELATIVE\",'Vertical Calculations'!N31,IF($C$45=\"BLOCKS\",'Vertical Calculations'!N35,0)))","v":0},{"$f":"IF($C$45=\"FIXED\",'Vertical Calculations'!O33,IF($C$45=\"RELATIVE\",'Vertical Calculations'!O31,IF($C$45=\"BLOCKS\",'Vertical Calculations'!O35,0)))","v":0},{"$f":"IF($C$45=\"FIXED\",'Vertical Calculations'!P33,IF($C$45=\"RELATIVE\",'Vertical Calculations'!P31,IF($C$45=\"BLOCKS\",'Vertical Calculations'!P35,0)))","v":0},{"$f":"IF($C$45=\"FIXED\",'Vertical Calculations'!Q33,IF($C$45=\"RELATIVE\",'Vertical Calculations'!Q31,IF($C$45=\"BLOCKS\",'Vertical Calculations'!Q35,0)))","v":0},{"$f":"IF($C$45=\"FIXED\",'Vertical Calculations'!R33,IF($C$45=\"RELATIVE\",'Vertical Calculations'!R31,IF($C$45=\"BLOCKS\",'Vertical Calculations'!R35,0)))","v":0},{"$f":"IF($C$45=\"FIXED\",'Vertical Calculations'!S33,IF($C$45=\"RELATIVE\",'Vertical Calculations'!S31,IF($C$45=\"BLOCKS\",'Vertical Calculations'!S35,0)))","v":0},{"$f":"IF($C$45=\"FIXED\",'Vertical Calculations'!T33,IF($C$45=\"RELATIVE\",'Vertical Calculations'!T31,IF($C$45=\"BLOCKS\",'Vertical Calculations'!T35,0)))","v":0},{"$f":"IF($C$45=\"FIXED\",'Vertical Calculations'!U33,IF($C$45=\"RELATIVE\",'Vertical Calculations'!U31,IF($C$45=\"BLOCKS\",'Vertical Calculations'!U35,0)))","v":0},{"$f":"IF($C$45=\"FIXED\",'Vertical Calculations'!V33,IF($C$45=\"RELATIVE\",'Vertical Calculations'!V31,IF($C$45=\"BLOCKS\",'Vertical Calculations'!V35,0)))","v":0},{"$f":"IF($C$45=\"FIXED\",'Vertical Calculations'!W33,IF($C$45=\"RELATIVE\",'Vertical Calculations'!W31,IF($C$45=\"BLOCKS\",'Vertical Calculations'!W35,0)))","v":0},{"$f":"IF($C$45=\"FIXED\",'Vertical Calculations'!X33,IF($C$45=\"RELATIVE\",'Vertical Calculations'!X31,IF($C$45=\"BLOCKS\",'Vertical Calculations'!X35,0)))","v":0},{"$f":"IF($C$45=\"FIXED\",'Vertical Calculations'!Y33,IF($C$45=\"RELATIVE\",'Vertical Calculations'!Y31,IF($C$45=\"BLOCKS\",'Vertical Calculations'!Y35,0)))","v":0},{"$f":"IF($C$45=\"FIXED\",'Vertical Calculations'!Z33,IF($C$45=\"RELATIVE\",'Vertical Calculations'!Z31,IF($C$45=\"BLOCKS\",'Vertical Calculations'!Z35,0)))","v":0},{"$f":"IF($C$45=\"FIXED\",'Vertical Calculations'!AA33,IF($C$45=\"RELATIVE\",'Vertical Calculations'!AA31,IF($C$45=\"BLOCKS\",'Vertical Calculations'!AA35,0)))","v":0},{"$f":"IF($C$45=\"FIXED\",'Vertical Calculations'!AB33,IF($C$45=\"RELATIVE\",'Vertical Calculations'!AB31,IF($C$45=\"BLOCKS\",'Vertical Calculations'!AB35,0)))","v":0},{"$f":"IF($C$45=\"FIXED\",'Vertical Calculations'!AC33,IF($C$45=\"RELATIVE\",'Vertical Calculations'!AC31,IF($C$45=\"BLOCKS\",'Vertical Calculations'!AC35,0)))","v":0},{"$f":"IF($C$45=\"FIXED\",'Vertical Calculations'!AD33,IF($C$45=\"RELATIVE\",'Vertical Calculations'!AD31,IF($C$45=\"BLOCKS\",'Vertical Calculations'!AD35,0)))","v":0},{"$f":"IF($C$45=\"FIXED\",'Vertical Calculations'!AE33,IF($C$45=\"RELATIVE\",'Vertical Calculations'!AE31,IF($C$45=\"BLOCKS\",'Vertical Calculations'!AE35,0)))","v":0},{"$f":"IF($C$45=\"FIXED\",'Vertical Calculations'!AF33,IF($C$45=\"RELATIVE\",'Vertical Calculations'!AF31,IF($C$45=\"BLOCKS\",'Vertical Calculations'!AF35,0)))","v":0},{"$f":"IF($C$45=\"FIXED\",'Vertical Calculations'!AG33,IF($C$45=\"RELATIVE\",'Vertical Calculations'!AG31,IF($C$45=\"BLOCKS\",'Vertical Calculations'!AG35,0)))","v":0},{"$f":"IF($C$45=\"FIXED\",'Vertical Calculations'!AH33,IF($C$45=\"RELATIVE\",'Vertical Calculations'!AH31,IF($C$45=\"BLOCKS\",'Vertical Calculations'!AH35,0)))","v":0},{"$f":"IF($C$45=\"FIXED\",'Vertical Calculations'!AI33,IF($C$45=\"RELATIVE\",'Vertical Calculations'!AI31,IF($C$45=\"BLOCKS\",'Vertical Calculations'!AI35,0)))","v":0},{"$f":"IF($C$45=\"FIXED\",'Vertical Calculations'!AJ33,IF($C$45=\"RELATIVE\",'Vertical Calculations'!AJ31,IF($C$45=\"BLOCKS\",'Vertical Calculations'!AJ35,0)))","v":0},{"$f":"IF($C$45=\"FIXED\",'Vertical Calculations'!AK33,IF($C$45=\"RELATIVE\",'Vertical Calculations'!AK31,IF($C$45=\"BLOCKS\",'Vertical Calculations'!AK35,0)))","v":0},{"$f":"IF($C$45=\"FIXED\",'Vertical Calculations'!AL33,IF($C$45=\"RELATIVE\",'Vertical Calculations'!AL31,IF($C$45=\"BLOCKS\",'Vertical Calculations'!AL35,0)))","v":0},{"$f":"IF($C$45=\"FIXED\",'Vertical Calculations'!AM33,IF($C$45=\"RELATIVE\",'Vertical Calculations'!AM31,IF($C$45=\"BLOCKS\",'Vertical Calculations'!AM35,0)))","v":0},{"$f":"IF($C$45=\"FIXED\",'Vertical Calculations'!AN33,IF($C$45=\"RELATIVE\",'Vertical Calculations'!AN31,IF($C$45=\"BLOCKS\",'Vertical Calculations'!AN35,0)))","v":0},{"$f":"IF($C$45=\"FIXED\",'Vertical Calculations'!AO33,IF($C$45=\"RELATIVE\",'Vertical Calculations'!AO31,IF($C$45=\"BLOCKS\",'Vertical Calculations'!AO35,0)))","v":0},{"$f":"IF($C$45=\"FIXED\",'Vertical Calculations'!AP33,IF($C$45=\"RELATIVE\",'Vertical Calculations'!AP31,IF($C$45=\"BLOCKS\",'Vertical Calculations'!AP35,0)))","v":0},{"$f":"IF($C$45=\"FIXED\",'Vertical Calculations'!AQ33,IF($C$45=\"RELATIVE\",'Vertical Calculations'!AQ31,IF($C$45=\"BLOCKS\",'Vertical Calculations'!AQ35,0)))","v":0},{"$f":"IF($C$45=\"FIXED\",'Vertical Calculations'!AR33,IF($C$45=\"RELATIVE\",'Vertical Calculations'!AR31,IF($C$45=\"BLOCKS\",'Vertical Calculations'!AR35,0)))","v":0},{"$f":"IF($C$45=\"FIXED\",'Vertical Calculations'!AS33,IF($C$45=\"RELATIVE\",'Vertical Calculations'!AS31,IF($C$45=\"BLOCKS\",'Vertical Calculations'!AS35,0)))","v":0},{"$f":"IF($C$45=\"FIXED\",'Vertical Calculations'!AT33,IF($C$45=\"RELATIVE\",'Vertical Calculations'!AT31,IF($C$45=\"BLOCKS\",'Vertical Calculations'!AT35,0)))","v":0},{"$f":"IF($C$45=\"FIXED\",'Vertical Calculations'!AU33,IF($C$45=\"RELATIVE\",'Vertical Calculations'!AU31,IF($C$45=\"BLOCKS\",'Vertical Calculations'!AU35,0)))","v":0},{"$f":"IF($C$45=\"FIXED\",'Vertical Calculations'!AV33,IF($C$45=\"RELATIVE\",'Vertical Calculations'!AV31,IF($C$45=\"BLOCKS\",'Vertical Calculations'!AV35,0)))","v":0},{"$f":"IF($C$45=\"FIXED\",'Vertical Calculations'!AW33,IF($C$45=\"RELATIVE\",'Vertical Calculations'!AW31,IF($C$45=\"BLOCKS\",'Vertical Calculations'!AW35,0)))","v":0},{"$f":"IF($C$45=\"FIXED\",'Vertical Calculations'!AX33,IF($C$45=\"RELATIVE\",'Vertical Calculations'!AX31,IF($C$45=\"BLOCKS\",'Vertical Calculations'!AX35,0)))","v":0},{"$f":"IF($C$45=\"FIXED\",'Vertical Calculations'!AY33,IF($C$45=\"RELATIVE\",'Vertical Calculations'!AY31,IF($C$45=\"BLOCKS\",'Vertical Calculations'!AY35,0)))","v":0},{"$f":"IF($C$45=\"FIXED\",'Vertical Calculations'!AZ33,IF($C$45=\"RELATIVE\",'Vertical Calculations'!AZ31,IF($C$45=\"BLOCKS\",'Vertical Calculations'!AZ35,0)))","v":0},{"$f":"IF($C$45=\"FIXED\",'Vertical Calculations'!BA33,IF($C$45=\"RELATIVE\",'Vertical Calculations'!BA31,IF($C$45=\"BLOCKS\",'Vertical Calculations'!BA35,0)))","v":0}]
[]
["LABEL 5"]
["QUANTITY"]
["WIDTH (mm)",{"$nulls":3},"","","","","","","","","","","","","","","","","","","","","","","","","","","","","","","","","","","","","","","","","","","","","","","","","",""]
["HEIGHT (mm)"]
["COLOUR","-- SELECT --",{"$f":"B51","v":0}]
["TEXT SIZE  (mm)","AUTO"]
["FIXING","-- SELECT --"]
[{"$nulls":4},"I","I","I","I","I","I","I","I","I","I","I","I","I","I","I","I","I","I","I","I","I","I","I","I","I","I","I","I","I","I","I","I","I","I","I","I","I","I","I","I","I","I","I","I","I","I","I","I","I","I"]
["HOLES REQUIRED",null,"-- SELECT --"]
["HOLE SIZE  (mm)",null,{"$f":"VLOOKUP(C56,'Background Information'!$O$1:$P$4,2,FALSE)","v":0},null,{"$f":"IF($C$56=\"FIXED\",'Vertical Calculations'!D42,IF($C$56=\"RELATIVE\",'Vertical Calculations'!D40,IF($C$56=\"BLOCKS\",'Vertical Calculations'!D44,0)))","v":0},{"$f":"IF($C$56=\"FIXED\",'Vertical Calculations'!E42,IF($C$56=\"RELATIVE\",'Vertical Calculations'!E40,IF($C$56=\"BLOCKS\",'Vertical Calculations'!E44,0)))","v":0},{"$f":"IF($C$56=\"FIXED\",'Vertical Calculations'!F42,IF($C$56=\"RELATIVE\",'Vertical Calculations'!F40,IF($C$56=\"BLOCKS\",'Vertical Calculations'!F44,0)))","v":0},{"$f":"IF($C$56=\"FIXED\",'Vertical Calculations'!G42,IF($C$56=\"RELATIVE\",'Vertical Calculations'!G40,IF($C$56=\"BLOCKS\",'Vertical Calculations'!G44,0)))","v":0},{"$f":"IF($C$56=\"FIXED\",'Vertical Calculations'!H42,IF($C$56=\"RELATIVE\",'Vertical Calculations'!H40,IF($C$56=\"BLOCKS\",'Vertical Calculations'!H44,0)))","v":0},{"$f":"IF($C$56=\"FIXED\",'Vertical Calculations'!I42,IF($C$56=\"RELATIVE\",'Vertical Calculations'!I40,IF($C$56=\"BLOCKS\",'Vertical Calculations'!I44,0)))","v":0},{"$f":"IF($C$56=\"FIXED\",'Vertical Calculations'!J42,IF($C$56=\"RELATIVE\",'Vertical Calculations'!J40,IF($C$56=\"BLOCKS\",'Vertical Calculations'!J44,0)))","v":0},{"$f":"IF($C$56=\"FIXED\",'Vertical Calculations'!K42,IF($C$56=\"RELATIVE\",'Vertical Calculations'!K40,IF($C$56=\"BLOCKS\",'Vertical Calculations'!K44,0)))","v":0},{"$f":"IF($C$56=\"FIXED\",'Vertical Calculations'!L42,IF($C$56=\"RELATIVE\",'Vertical Calculations'!L40,IF($C$56=\"BLOCKS\",'Vertical Calculations'!L44,0)))","v":0},{"$f":"IF($C$56=\"FIXED\",'Vertical Calculations'!M42,IF($C$56=\"RELATIVE\",'Vertical Calculations'!M40,IF($C$56=\"BLOCKS\",'Vertical Calculations'!M44,0)))","v":0},{"$f":"IF($C$56=\"FIXED\",'Vertical Calculations'!N42,IF($C$56=\"RELATIVE\",'Vertical Calculations'!N40,IF($C$56=\"BLOCKS\",'Vertical Calculations'!N44,0)))","v":0},{"$f":"IF($C$56=\"FIXED\",'Vertical Calculations'!O42,IF($C$56=\"RELATIVE\",'Vertical Calculations'!O40,IF($C$56=\"BLOCKS\",'Vertical Calculations'!O44,0)))","v":0},{"$f":"IF($C$56=\"FIXED\",'Vertical Calculations'!P42,IF($C$56=\"RELATIVE\",'Vertical Calculations'!P40,IF($C$56=\"BLOCKS\",'Vertical Calculations'!P44,0)))","v":0},{"$f":"IF($C$56=\"FIXED\",'Vertical Calculations'!Q42,IF($C$56=\"RELATIVE\",'Vertical Calculations'!Q40,IF($C$56=\"BLOCKS\",'Vertical Calculations'!Q44,0)))","v":0},{"$f":"IF($C$56=\"FIXED\",'Vertical Calculations'!R42,IF($C$56=\"RELATIVE\",'Vertical Calculations'!R40,IF($C$56=\"BLOCKS\",'Vertical Calculations'!R44,0)))","v":0},{"$f":"IF($C$56=\"FIXED\",'Vertical Calculations'!S42,IF($C$56=\"RELATIVE\",'Vertical Calculations'!S40,IF($C$56=\"BLOCKS\",'Vertical Calculations'!S44,0)))","v":0},{"$f":"IF($C$56=\"FIXED\",'Vertical Calculations'!T42,IF($C$56=\"RELATIVE\",'Vertical Calculations'!T40,IF($C$56=\"BLOCKS\",'Vertical Calculations'!T44,0)))","v":0},{"$f":"IF($C$56=\"FIXED\",'Vertical Calculations'!U42,IF($C$56=\"RELATIVE\",'Vertical Calculations'!U40,IF($C$56=\"BLOCKS\",'Vertical Calculations'!U44,0)))","v":0},{"$f":"IF($C$56=\"FIXED\",'Vertical Calculations'!V42,IF($C$56=\"RELATIVE\",'Vertical Calculations'!V40,IF($C$56=\"BLOCKS\",'Vertical Calculations'!V44,0)))","v":0},{"$f":"IF($C$56=\"FIXED\",'Vertical Calculations'!W42,IF($C$56=\"RELATIVE\",'Vertical Calculations'!W40,IF($C$56=\"BLOCKS\",'Vertical Calculations'!W44,0)))","v":0},{"$f":"IF($C$56=\"FIXED\",'Vertical Calculations'!X42,IF($C$56=\"RELATIVE\",'Vertical Calculations'!X40,IF($C$56=\"BLOCKS\",'Vertical Calculations'!X44,0)))","v":0},{"$f":"IF($C$56=\"FIXED\",'Vertical Calculations'!Y42,IF($C$56=\"RELATIVE\",'Vertical Calculations'!Y40,IF($C$56=\"BLOCKS\",'Vertical Calculations'!Y44,0)))","v":0},{"$f":"IF($C$56=\"FIXED\",'Vertical Calculations'!Z42,IF($C$56=\"RELATIVE\",'Vertical Calculations'!Z40,IF($C$56=\"BLOCKS\",'Vertical Calculations'!Z44,0)))","v":0},{"$f":"IF($C$56=\"FIXED\",'Vertical Calculations'!AA42,IF($C$56=\"RELATIVE\",'Vertical Calculations'!AA40,IF($C$56=\"BLOCKS\",'Vertical Calculations'!AA44,0)))","v":0},{"$f":"IF($C$56=\"FIXED\",'Vertical Calculations'!AB42,IF($C$56=\"RELATIVE\",'Vertical Calculations'!AB40,IF($C$56=\"BLOCKS\",'Vertical Calculations'!AB44,0)))","v":0},{"$f":"IF($C$56=\"FIXED\",'Vertical Calculations'!AC42,IF($C$56=\"RELATIVE\",'Vertical Calculations'!AC40,IF($C$56=\"BLOCKS\",'Vertical Calculations'!AC44,0)))","v":0},{"$f":"IF($C$56=\"FIXED\",'Vertical Calculations'!AD42,IF($C$56=\"RELATIVE\",'Vertical Calculations'!AD40,IF($C$56=\"BLOCKS\",'Vertical Calculations'!AD44,0)))","v":0},{"$f":"IF($C$56=\"FIXED\",'Vertical Calculations'!AE42,IF($C$56=\"RELATIVE\",'Vertical Calculations'!AE40,IF($C$56=\"BLOCKS\",'Vertical Calculations'!AE44,0)))","v":0},{"$f":"IF($C$56=\"FIXED\",'Vertical Calculations'!AF42,IF($C$56=\"RELATIVE\",'Vertical Calculations'!AF40,IF($C$56=\"BLOCKS\",'Vertical Calculations'!AF44,0)))","v":0},{"$f":"IF($C$56=\"FIXED\",'Vertical Calculations'!AG42,IF($C$56=\"RELATIVE\",'Vertical Calculations'!AG40,IF($C$56=\"BLOCKS\",'Vertical Calculations'!AG44,0)))","v":0},{"$f":"IF($C$56=\"FIXED\",'Vertical Calculations'!AH42,IF($C$56=\"RELATIVE\",'Vertical Calculations'!AH40,IF($C$56=\"BLOCKS\",'Vertical Calculations'!AH44,0)))","v":0},{"$f":"IF($C$56=\"FIXED\",'Vertical Calculations'!AI42,IF($C$56=\"RELATIVE\",'Vertical Calculations'!AI40,IF($C$56=\"BLOCKS\",'Vertical Calculations'!AI44,0)))","v":0},{"$f":"IF($C$56=\"FIXED\",'Vertical Calculations'!AJ42,IF($C$56=\"RELATIVE\",'Vertical Calculations'!AJ40,IF($C$56=\"BLOCKS\",'Vertical Calculations'!AJ44,0)))","v":0},{"$f":"IF($C$56=\"FIXED\",'Vertical Calculations'!AK42,IF($C$56=\"RELATIVE\",'Vertical Calculations'!AK40,IF($C$56=\"BLOCKS\",'Vertical Calculations'!AK44,0)))","v":0},{"$f":"IF($C$56=\"FIXED\",'Vertical Calculations'!AL42,IF($C$56=\"RELATIVE\",'Vertical Calculations'!AL40,IF($C$56=\"BLOCKS\",'Vertical Calculations'!AL44,0)))","v":0},{"$f":"IF($C$56=\"FIXED\",'Vertical Calculations'!AM42,IF($C$56=\"RELATIVE\",'Vertical Calculations'!AM40,IF($C$56=\"BLOCKS\",'Vertical Calculations'!AM44,0)))","v":0},{"$f":"IF($C$56=\"FIXED\",'Vertical Calculations'!AN42,IF($C$56=\"RELATIVE\",'Vertical Calculations'!AN40,IF($C$56=\"BLOCKS\",'Vertical Calculations'!AN44,0)))","v":0},{"$f":"IF($C$56=\"FIXED\",'Vertical Calculations'!AO42,IF($C$56=\"RELATIVE\",'Vertical Calculations'!AO40,IF($C$56=\"BLOCKS\",'Vertical Calculations'!AO44,0)))","v":0},{"$f":"IF($C$56=\"FIXED\",'Vertical Calculations'!AP42,IF($C$56=\"RELATIVE\",'Vertical Calculations'!AP40,IF($C$56=\"BLOCKS\",'Vertical Calculations'!AP44,0)))","v":0},{"$f":"IF($C$56=\"FIXED\",'Vertical Calculations'!AQ42,IF($C$56=\"RELATIVE\",'Vertical Calculations'!AQ40,IF($C$56=\"BLOCKS\",'Vertical Calculations'!AQ44,0)))","v":0},{"$f":"IF($C$56=\"FIXED\",'Vertical Calculations'!AR42,IF($C$56=\"RELATIVE\",'Vertical Calculations'!AR40,IF($C$56=\"BLOCKS\",'Vertical Calculations'!AR44,0)))","v":0},{"$f":"IF($C$56=\"FIXED\",'Vertical Calculations'!AS42,IF($C$56=\"RELATIVE\",'Vertical Calculations'!AS40,IF($C$56=\"BLOCKS\",'Vertical Calculations'!AS44,0)))","v":0},{"$f":"IF($C$56=\"FIXED\",'Vertical Calculations'!AT42,IF($C$56=\"RELATIVE\",'Vertical Calculations'!AT40,IF($C$56=\"BLOCKS\",'Vertical Calculations'!AT44,0)))","v":0},{"$f":"IF($C$56=\"FIXED\",'Vertical Calculations'!AU42,IF($C$56=\"RELATIVE\",'Vertical Calculations'!AU40,IF($C$56=\"BLOCKS\",'Vertical Calculations'!AU44,0)))","v":0},{"$f":"IF($C$56=\"FIXED\",'Vertical Calculations'!AV42,IF($C$56=\"RELATIVE\",'Vertical Calculations'!AV40,IF($C$56=\"BLOCKS\",'Vertical Calculations'!AV44,0)))","v":0},{"$f":"IF($C$56=\"FIXED\",'Vertical Calculations'!AW42,IF($C$56=\"RELATIVE\",'Vertical Calculations'!AW40,IF($C$56=\"BLOCKS\",'Vertical Calculations'!AW44,0)))","v":0},{"$f":"IF($C$56=\"FIXED\",'Vertical Calculations'!AX42,IF($C$56=\"RELATIVE\",'Vertical Calculations'!AX40,IF($C$56=\"BLOCKS\",'Vertical Calculations'!AX44,0)))","v":0},{"$f":"IF($C$56=\"FIXED\",'Vertical Calculations'!AY42,IF($C$56=\"RELATIVE\",'Vertical Calculations'!AY40,IF($C$56=\"BLOCKS\",'Vertical Calculations'!AY44,0)))","v":0},{"$f":"IF($C$56=\"FIXED\",'Vertical Calculations'!AZ42,IF($C$56=\"RELATIVE\",'Vertical Calculations'!AZ40,IF($C$56=\"BLOCKS\",'Vertical Calculations'!AZ44,0)))","v":0},{"$f":"IF($C$56=\"FIXED\",'Vertical Calculations'!BA42,IF($C$56=\"RELATIVE\",'Vertical Calculations'!BA40,IF($C$56=\"BLOCKS\",'Vertical Calculations'!BA44,0)))","v":0}]
[]
["LABEL 6"]
["QUANTITY"]
["WIDTH (mm)",{"$nulls":3},"","","","","","","","","","","","","","","","","","","","","","","","","","","","","","","","","","","","","","","","","","","","","","","","","",""]
["HEIGHT (mm)"]
["COLOUR","-- SELECT --",{"$f":"B62","v":0}]
["TEXT SIZE  (mm)","AUTO"]
["FIXING","-- SELECT --"]
[{"$nulls":4},"I","I","I","I","I","I","I","I","I","I","I","I","I","I","I","I","I","I","I","I","I","I","I","I","I","I","I","I","I","I","I","I","I","I","I","I","I","I","I","I","I","I","I","I","I","I","I","I","I","I"]
["HOLES REQUIRED",null,"-- SELECT --"]
["HOLE SIZE  (mm)",null,{"$f":"VLOOKUP(C67,'Background Information'!$O$1:$P$4,2,FALSE)","v":0},null,{"$f":"IF($C$67=\"FIXED\",'Vertical Calculations'!D51,IF($C$67=\"RELATIVE\",'Vertical Calculations'!D49,IF($C$67=\"BLOCKS\",'Vertical Calculations'!D53,0)))","v":0},{"$f":"IF($C$67=\"FIXED\",'Vertical Calculations'!E51,IF($C$67=\"RELATIVE\",'Vertical Calculations'!E49,IF($C$67=\"BLOCKS\",'Vertical Calculations'!E53,0)))","v":0},{"$f":"IF($C$67=\"FIXED\",'Vertical Calculations'!F51,IF($C$67=\"RELATIVE\",'Vertical Calculations'!F49,IF($C$67=\"BLOCKS\",'Vertical Calculations'!F53,0)))","v":0},{"$f":"IF($C$67=\"FIXED\",'Vertical Calculations'!G51,IF($C$67=\"RELATIVE\",'Vertical Calculations'!G49,IF($C$67=\"BLOCKS\",'Vertical Calculations'!G53,0)))","v":0},{"$f":"IF($C$67=\"FIXED\",'Vertical Calculations'!H51,IF($C$67=\"RELATIVE\",'Vertical Calculations'!H49,IF($C$67=\"BLOCKS\",'Vertical Calculations'!H53,0)))","v":0},{"$f":"IF($C$67=\"FIXED\",'Vertical Calculations'!I51,IF($C$67=\"RELATIVE\",'Vertical Calculations'!I49,IF($C$67=\"BLOCKS\",'Vertical Calculations'!I53,0)))","v":0},{"$f":"IF($C$67=\"FIXED\",'Vertical Calculations'!J51,IF($C$67=\"RELATIVE\",'Vertical Calculations'!J49,IF($C$67=\"BLOCKS\",'Vertical Calculations'!J53,0)))","v":0},{"$f":"IF($C$67=\"FIXED\",'Vertical Calculations'!K51,IF($C$67=\"RELATIVE\",'Vertical Calculations'!K49,IF($C$67=\"BLOCKS\",'Vertical Calculations'!K53,0)))","v":0},{"$f":"IF($C$67=\"FIXED\",'Vertical Calculations'!L51,IF($C$67=\"RELATIVE\",'Vertical Calculations'!L49,IF($C$67=\"BLOCKS\",'Vertical Calculations'!L53,0)))","v":0},{"$f":"IF($C$67=\"FIXED\",'Vertical Calculations'!M51,IF($C$67=\"RELATIVE\",'Vertical Calculations'!M49,IF($C$67=\"BLOCKS\",'Vertical Calculations'!M53,0)))","v":0},{"$f":"IF($C$67=\"FIXED\",'Vertical Calculations'!N51,IF($C$67=\"RELATIVE\",'Vertical Calculations'!N49,IF($C$67=\"BLOCKS\",'Vertical Calculations'!N53,0)))","v":0},{"$f":"IF($C$67=\"FIXED\",'Vertical Calculations'!O51,IF($C$67=\"RELATIVE\",'Vertical Calculations'!O49,IF($C$67=\"BLOCKS\",'Vertical Calculations'!O53,0)))","v":0},{"$f":"IF($C$67=\"FIXED\",'Vertical Calculations'!P51,IF($C$67=\"RELATIVE\",'Vertical Calculations'!P49,IF($C$67=\"BLOCKS\",'Vertical Calculations'!P53,0)))","v":0},{"$f":"IF($C$67=\"FIXED\",'Vertical Calculations'!Q51,IF($C$67=\"RELATIVE\",'Vertical Calculations'!Q49,IF($C$67=\"BLOCKS\",'Vertical Calculations'!Q53,0)))","v":0},{"$f":"IF($C$67=\"FIXED\",'Vertical Calculations'!R51,IF($C$67=\"RELATIVE\",'Vertical Calculations'!R49,IF($C$67=\"BLOCKS\",'Vertical Calculations'!R53,0)))","v":0},{"$f":"IF($C$67=\"FIXED\",'Vertical Calculations'!S51,IF($C$67=\"RELATIVE\",'Vertical Calculations'!S49,IF($C$67=\"BLOCKS\",'Vertical Calculations'!S53,0)))","v":0},{"$f":"IF($C$67=\"FIXED\",'Vertical Calculations'!T51,IF($C$67=\"RELATIVE\",'Vertical Calculations'!T49,IF($C$67=\"BLOCKS\",'Vertical Calculations'!T53,0)))","v":0},{"$f":"IF($C$67=\"FIXED\",'Vertical Calculations'!U51,IF($C$67=\"RELATIVE\",'Vertical Calculations'!U49,IF($C$67=\"BLOCKS\",'Vertical Calculations'!U53,0)))","v":0},{"$f":"IF($C$67=\"FIXED\",'Vertical Calculations'!V51,IF($C$67=\"RELATIVE\",'Vertical Calculations'!V49,IF($C$67=\"BLOCKS\",'Vertical Calculations'!V53,0)))","v":0},{"$f":"IF($C$67=\"FIXED\",'Vertical Calculations'!W51,IF($C$67=\"RELATIVE\",'Vertical Calculations'!W49,IF($C$67=\"BLOCKS\",'Vertical Calculations'!W53,0)))","v":0},{"$f":"IF($C$67=\"FIXED\",'Vertical Calculations'!X51,IF($C$67=\"RELATIVE\",'Vertical Calculations'!X49,IF($C$67=\"BLOCKS\",'Vertical Calculations'!X53,0)))","v":0},{"$f":"IF($C$67=\"FIXED\",'Vertical Calculations'!Y51,IF($C$67=\"RELATIVE\",'Vertical Calculations'!Y49,IF($C$67=\"BLOCKS\",'Vertical Calculations'!Y53,0)))","v":0},{"$f":"IF($C$67=\"FIXED\",'Vertical Calculations'!Z51,IF($C$67=\"RELATIVE\",'Vertical Calculations'!Z49,IF($C$67=\"BLOCKS\",'Vertical Calculations'!Z53,0)))","v":0},{"$f":"IF($C$67=\"FIXED\",'Vertical Calculations'!AA51,IF($C$67=\"RELATIVE\",'Vertical Calculations'!AA49,IF($C$67=\"BLOCKS\",'Vertical Calculations'!AA53,0)))","v":0},{"$f":"IF($C$67=\"FIXED\",'Vertical Calculations'!AB51,IF($C$67=\"RELATIVE\",'Vertical Calculations'!AB49,IF($C$67=\"BLOCKS\",'Vertical Calculations'!AB53,0)))","v":0},{"$f":"IF($C$67=\"FIXED\",'Vertical Calculations'!AC51,IF($C$67=\"RELATIVE\",'Vertical Calculations'!AC49,IF($C$67=\"BLOCKS\",'Vertical Calculations'!AC53,0)))","v":0},{"$f":"IF($C$67=\"FIXED\",'Vertical Calculations'!AD51,IF($C$67=\"RELATIVE\",'Vertical Calculations'!AD49,IF($C$67=\"BLOCKS\",'Vertical Calculations'!AD53,0)))","v":0},{"$f":"IF($C$67=\"FIXED\",'Vertical Calculations'!AE51,IF($C$67=\"RELATIVE\",'Vertical Calculations'!AE49,IF($C$67=\"BLOCKS\",'Vertical Calculations'!AE53,0)))","v":0},{"$f":"IF($C$67=\"FIXED\",'Vertical Calculations'!AF51,IF($C$67=\"RELATIVE\",'Vertical Calculations'!AF49,IF($C$67=\"BLOCKS\",'Vertical Calculations'!AF53,0)))","v":0},{"$f":"IF($C$67=\"FIXED\",'Vertical Calculations'!AG51,IF($C$67=\"RELATIVE\",'Vertical Calculations'!AG49,IF($C$67=\"BLOCKS\",'Vertical Calculations'!AG53,0)))","v":0},{"$f":"IF($C$67=\"FIXED\",'Vertical Calculations'!AH51,IF($C$67=\"RELATIVE\",'Vertical Calculations'!AH49,IF($C$67=\"BLOCKS\",'Vertical Calculations'!AH53,0)))","v":0},{"$f":"IF($C$67=\"FIXED\",'Vertical Calculations'!AI51,IF($C$67=\"RELATIVE\",'Vertical Calculations'!AI49,IF($C$67=\"BLOCKS\",'Vertical Calculations'!AI53,0)))","v":0},{"$f":"IF($C$67=\"FIXED\",'Vertical Calculations'!AJ51,IF($C$67=\"RELATIVE\",'Vertical Calculations'!AJ49,IF($C$67=\"BLOCKS\",'Vertical Calculations'!AJ53,0)))","v":0},{"$f":"IF($C$67=\"FIXED\",'Vertical Calculations'!AK51,IF($C$67=\"RELATIVE\",'Vertical Calculations'!AK49,IF($C$67=\"BLOCKS\",'Vertical Calculations'!AK53,0)))","v":0},{"$f":"IF($C$67=\"FIXED\",'Vertical Calculations'!AL51,IF($C$67=\"RELATIVE\",'Vertical Calculations'!AL49,IF($C$67=\"BLOCKS\",'Vertical Calculations'!AL53,0)))","v":0},{"$f":"IF($C$67=\"FIXED\",'Vertical Calculations'!AM51,IF($C$67=\"RELATIVE\",'Vertical Calculations'!AM49,IF($C$67=\"BLOCKS\",'Vertical Calculations'!AM53,0)))","v":0},{"$f":"IF($C$67=\"FIXED\",'Vertical Calculations'!AN51,IF($C$67=\"RELATIVE\",'Vertical Calculations'!AN49,IF($C$67=\"BLOCKS\",'Vertical Calculations'!AN53,0)))","v":0},{"$f":"IF($C$67=\"FIXED\",'Vertical Calculations'!AO51,IF($C$67=\"RELATIVE\",'Vertical Calculations'!AO49,IF($C$67=\"BLOCKS\",'Vertical Calculations'!AO53,0)))","v":0},{"$f":"IF($C$67=\"FIXED\",'Vertical Calculations'!AP51,IF($C$67=\"RELATIVE\",'Vertical Calculations'!AP49,IF($C$67=\"BLOCKS\",'Vertical Calculations'!AP53,0)))","v":0},{"$f":"IF($C$67=\"FIXED\",'Vertical Calculations'!AQ51,IF($C$67=\"RELATIVE\",'Vertical Calculations'!AQ49,IF($C$67=\"BLOCKS\",'Vertical Calculations'!AQ53,0)))","v":0},{"$f":"IF($C$67=\"FIXED\",'Vertical Calculations'!AR51,IF($C$67=\"RELATIVE\",'Vertical Calculations'!AR49,IF($C$67=\"BLOCKS\",'Vertical Calculations'!AR53,0)))","v":0},{"$f":"IF($C$67=\"FIXED\",'Vertical Calculations'!AS51,IF($C$67=\"RELATIVE\",'Vertical Calculations'!AS49,IF($C$67=\"BLOCKS\",'Vertical Calculations'!AS53,0)))","v":0},{"$f":"IF($C$67=\"FIXED\",'Vertical Calculations'!AT51,IF($C$67=\"RELATIVE\",'Vertical Calculations'!AT49,IF($C$67=\"BLOCKS\",'Vertical Calculations'!AT53,0)))","v":0},{"$f":"IF($C$67=\"FIXED\",'Vertical Calculations'!AU51,IF($C$67=\"RELATIVE\",'Vertical Calculations'!AU49,IF($C$67=\"BLOCKS\",'Vertical Calculations'!AU53,0)))","v":0},{"$f":"IF($C$67=\"FIXED\",'Vertical Calculations'!AV51,IF($C$67=\"RELATIVE\",'Vertical Calculations'!AV49,IF($C$67=\"BLOCKS\",'Vertical Calculations'!AV53,0)))","v":0},{"$f":"IF($C$67=\"FIXED\",'Vertical Calculations'!AW51,IF($C$67=\"RELATIVE\",'Vertical Calculations'!AW49,IF($C$67=\"BLOCKS\",'Vertical Calculations'!AW53,0)))","v":0},{"$f":"IF($C$67=\"FIXED\",'Vertical Calculations'!AX51,IF($C$67=\"RELATIVE\",'Vertical Calculations'!AX49,IF($C$67=\"BLOCKS\",'Vertical Calculations'!AX53,0)))","v":0},{"$f":"IF($C$67=\"FIXED\",'Vertical Calculations'!AY51,IF($C$67=\"RELATIVE\",'Vertical Calculations'!AY49,IF($C$67=\"BLOCKS\",'Vertical Calculations'!AY53,0)))","v":0},{"$f":"IF($C$67=\"FIXED\",'Vertical Calculations'!AZ51,IF($C$67=\"RELATIVE\",'Vertical Calculations'!AZ49,IF($C$67=\"BLOCKS\",'Vertical Calculations'!AZ53,0)))","v":0},{"$f":"IF($C$67=\"FIXED\",'Vertical Calculations'!BA51,IF($C$67=\"RELATIVE\",'Vertical Calculations'!BA49,IF($C$67=\"BLOCKS\",'Vertical Calculations'!BA53,0)))","v":0}]
[]
["LABEL 7"]
["QUANTITY"]
["WIDTH (mm)",{"$nulls":3},"","","","","","","","","","","","","","","","","","","","","","","","","","","","","","","","","","","","","","","","","","","","","","","","","",""]
["HEIGHT (mm)"]
["COLOUR","-- SELECT --",{"$f":"B73","v":0}]
["TEXT SIZE  (mm)","AUTO"]
["FIXING","-- SELECT --"]
[{"$nulls":4},"I","I","I","I","I","I","I","I","I","I","I","I","I","I","I","I","I","I","I","I","I","I","I","I","I","I","I","I","I","I","I","I","I","I","I","I","I","I","I","I","I","I","I","I","I","I","I","I","I","I"]
["HOLES REQUIRED",null,"-- SELECT --"]
["HOLE SIZE  (mm)",null,{"$f":"VLOOKUP(C78,'Background Information'!$O$1:$P$4,2,FALSE)","v":0},null,{"$f":"IF($C$78=\"FIXED\",'Vertical Calculations'!D60,IF($C$78=\"RELATIVE\",'Vertical Calculations'!D58,IF($C$78=\"BLOCKS\",'Vertical Calculations'!D62,0)))","v":0},{"$f":"IF($C$78=\"FIXED\",'Vertical Calculations'!E60,IF($C$78=\"RELATIVE\",'Vertical Calculations'!E58,IF($C$78=\"BLOCKS\",'Vertical Calculations'!E62,0)))","v":0},{"$f":"IF($C$78=\"FIXED\",'Vertical Calculations'!F60,IF($C$78=\"RELATIVE\",'Vertical Calculations'!F58,IF($C$78=\"BLOCKS\",'Vertical Calculations'!F62,0)))","v":0},{"$f":"IF($C$78=\"FIXED\",'Vertical Calculations'!G60,IF($C$78=\"RELATIVE\",'Vertical Calculations'!G58,IF($C$78=\"BLOCKS\",'Vertical Calculations'!G62,0)))","v":0},{"$f":"IF($C$78=\"FIXED\",'Vertical Calculations'!H60,IF($C$78=\"RELATIVE\",'Vertical Calculations'!H58,IF($C$78=\"BLOCKS\",'Vertical Calculations'!H62,0)))","v":0},{"$f":"IF($C$78=\"FIXED\",'Vertical Calculations'!I60,IF($C$78=\"RELATIVE\",'Vertical Calculations'!I58,IF($C$78=\"BLOCKS\",'Vertical Calculations'!I62,0)))","v":0},{"$f":"IF($C$78=\"FIXED\",'Vertical Calculations'!J60,IF($C$78=\"RELATIVE\",'Vertical Calculations'!J58,IF($C$78=\"BLOCKS\",'Vertical Calculations'!J62,0)))","v":0},{"$f":"IF($C$78=\"FIXED\",'Vertical Calculations'!K60,IF($C$78=\"RELATIVE\",'Vertical Calculations'!K58,IF($C$78=\"BLOCKS\",'Vertical Calculations'!K62,0)))","v":0},{"$f":"IF($C$78=\"FIXED\",'Vertical Calculations'!L60,IF($C$78=\"RELATIVE\",'Vertical Calculations'!L58,IF($C$78=\"BLOCKS\",'Vertical Calculations'!L62,0)))","v":0},{"$f":"IF($C$78=\"FIXED\",'Vertical Calculations'!M60,IF($C$78=\"RELATIVE\",'Vertical Calculations'!M58,IF($C$78=\"BLOCKS\",'Vertical Calculations'!M62,0)))","v":0},{"$f":"IF($C$78=\"FIXED\",'Vertical Calculations'!N60,IF($C$78=\"RELATIVE\",'Vertical Calculations'!N58,IF($C$78=\"BLOCKS\",'Vertical Calculations'!N62,0)))","v":0},{"$f":"IF($C$78=\"FIXED\",'Vertical Calculations'!O60,IF($C$78=\"RELATIVE\",'Vertical Calculations'!O58,IF($C$78=\"BLOCKS\",'Vertical Calculations'!O62,0)))","v":0},{"$f":"IF($C$78=\"FIXED\",'Vertical Calculations'!P60,IF($C$78=\"RELATIVE\",'Vertical Calculations'!P58,IF($C$78=\"BLOCKS\",'Vertical Calculations'!P62,0)))","v":0},{"$f":"IF($C$78=\"FIXED\",'Vertical Calculations'!Q60,IF($C$78=\"RELATIVE\",'Vertical Calculations'!Q58,IF($C$78=\"BLOCKS\",'Vertical Calculations'!Q62,0)))","v":0},{"$f":"IF($C$78=\"FIXED\",'Vertical Calculations'!R60,IF($C$78=\"RELATIVE\",'Vertical Calculations'!R58,IF($C$78=\"BLOCKS\",'Vertical Calculations'!R62,0)))","v":0},{"$f":"IF($C$78=\"FIXED\",'Vertical Calculations'!S60,IF($C$78=\"RELATIVE\",'Vertical Calculations'!S58,IF($C$78=\"BLOCKS\",'Vertical Calculations'!S62,0)))","v":0},{"$f":"IF($C$78=\"FIXED\",'Vertical Calculations'!T60,IF($C$78=\"RELATIVE\",'Vertical Calculations'!T58,IF($C$78=\"BLOCKS\",'Vertical Calculations'!T62,0)))","v":0},{"$f":"IF($C$78=\"FIXED\",'Vertical Calculations'!U60,IF($C$78=\"RELATIVE\",'Vertical Calculations'!U58,IF($C$78=\"BLOCKS\",'Vertical Calculations'!U62,0)))","v":0},{"$f":"IF($C$78=\"FIXED\",'Vertical Calculations'!V60,IF($C$78=\"RELATIVE\",'Vertical Calculations'!V58,IF($C$78=\"BLOCKS\",'Vertical Calculations'!V62,0)))","v":0},{"$f":"IF($C$78=\"FIXED\",'Vertical Calculations'!W60,IF($C$78=\"RELATIVE\",'Vertical Calculations'!W58,IF($C$78=\"BLOCKS\",'Vertical Calculations'!W62,0)))","v":0},{"$f":"IF($C$78=\"FIXED\",'Vertical Calculations'!X60,IF($C$78=\"RELATIVE\",'Vertical Calculations'!X58,IF($C$78=\"BLOCKS\",'Vertical Calculations'!X62,0)))","v":0},{"$f":"IF($C$78=\"FIXED\",'Vertical Calculations'!Y60,IF($C$78=\"RELATIVE\",'Vertical Calculations'!Y58,IF($C$78=\"BLOCKS\",'Vertical Calculations'!Y62,0)))","v":0},{"$f":"IF($C$78=\"FIXED\",'Vertical Calculations'!Z60,IF($C$78=\"RELATIVE\",'Vertical Calculations'!Z58,IF($C$78=\"BLOCKS\",'Vertical Calculations'!Z62,0)))","v":0},{"$f":"IF($C$78=\"FIXED\",'Vertical Calculations'!AA60,IF($C$78=\"RELATIVE\",'Vertical Calculations'!AA58,IF($C$78=\"BLOCKS\",'Vertical Calculations'!AA62,0)))","v":0},{"$f":"IF($C$78=\"FIXED\",'Vertical Calculations'!AB60,IF($C$78=\"RELATIVE\",'Vertical Calculations'!AB58,IF($C$78=\"BLOCKS\",'Vertical Calculations'!AB62,0)))","v":0},{"$f":"IF($C$78=\"FIXED\",'Vertical Calculations'!AC60,IF($C$78=\"RELATIVE\",'Vertical Calculations'!AC58,IF($C$78=\"BLOCKS\",'Vertical Calculations'!AC62,0)))","v":0},{"$f":"IF($C$78=\"FIXED\",'Vertical Calculations'!AD60,IF($C$78=\"RELATIVE\",'Vertical Calculations'!AD58,IF($C$78=\"BLOCKS\",'Vertical Calculations'!AD62,0)))","v":0},{"$f":"IF($C$78=\"FIXED\",'Vertical Calculations'!AE60,IF($C$78=\"RELATIVE\",'Vertical Calculations'!AE58,IF($C$78=\"BLOCKS\",'Vertical Calculations'!AE62,0)))","v":0},{"$f":"IF($C$78=\"FIXED\",'Vertical Calculations'!AF60,IF($C$78=\"RELATIVE\",'Vertical Calculations'!AF58,IF($C$78=\"BLOCKS\",'Vertical Calculations'!AF62,0)))","v":0},{"$f":"IF($C$78=\"FIXED\",'Vertical Calculations'!AG60,IF($C$78=\"RELATIVE\",'Vertical Calculations'!AG58,IF($C$78=\"BLOCKS\",'Vertical Calculations'!AG62,0)))","v":0},{"$f":"IF($C$78=\"FIXED\",'Vertical Calculations'!AH60,IF($C$78=\"RELATIVE\",'Vertical Calculations'!AH58,IF($C$78=\"BLOCKS\",'Vertical Calculations'!AH62,0)))","v":0},{"$f":"IF($C$78=\"FIXED\",'Vertical Calculations'!AI60,IF($C$78=\"RELATIVE\",'Vertical Calculations'!AI58,IF($C$78=\"BLOCKS\",'Vertical Calculations'!AI62,0)))","v":0},{"$f":"IF($C$78=\"FIXED\",'Vertical Calculations'!AJ60,IF($C$78=\"RELATIVE\",'Vertical Calculations'!AJ58,IF($C$78=\"BLOCKS\",'Vertical Calculations'!AJ62,0)))","v":0},{"$f":"IF($C$78=\"FIXED\",'Vertical Calculations'!AK60,IF($C$78=\"RELATIVE\",'Vertical Calculations'!AK58,IF($C$78=\"BLOCKS\",'Vertical Calculations'!AK62,0)))","v":0},{"$f":"IF($C$78=\"FIXED\",'Vertical Calculations'!AL60,IF($C$78=\"RELATIVE\",'Vertical Calculations'!AL58,IF($C$78=\"BLOCKS\",'Vertical Calculations'!AL62,0)))","v":0},{"$f":"IF($C$78=\"FIXED\",'Vertical Calculations'!AM60,IF($C$78=\"RELATIVE\",'Vertical Calculations'!AM58,IF($C$78=\"BLOCKS\",'Vertical Calculations'!AM62,0)))","v":0},{"$f":"IF($C$78=\"FIXED\",'Vertical Calculations'!AN60,IF($C$78=\"RELATIVE\",'Vertical Calculations'!AN58,IF($C$78=\"BLOCKS\",'Vertical Calculations'!AN62,0)))","v":0},{"$f":"IF($C$78=\"FIXED\",'Vertical Calculations'!AO60,IF($C$78=\"RELATIVE\",'Vertical Calculations'!AO58,IF($C$78=\"BLOCKS\",'Vertical Calculations'!AO62,0)))","v":0},{"$f":"IF($C$78=\"FIXED\",'Vertical Calculations'!AP60,IF($C$78=\"RELATIVE\",'Vertical Calculations'!AP58,IF($C$78=\"BLOCKS\",'Vertical Calculations'!AP62,0)))","v":0},{"$f":"IF($C$78=\"FIXED\",'Vertical Calculations'!AQ60,IF($C$78=\"RELATIVE\",'Vertical Calculations'!AQ58,IF($C$78=\"BLOCKS\",'Vertical Calculations'!AQ62,0)))","v":0},{"$f":"IF($C$78=\"FIXED\",'Vertical Calculations'!AR60,IF($C$78=\"RELATIVE\",'Vertical Calculations'!AR58,IF($C$78=\"BLOCKS\",'Vertical Calculations'!AR62,0)))","v":0},{"$f":"IF($C$78=\"FIXED\",'Vertical Calculations'!AS60,IF($C$78=\"RELATIVE\",'Vertical Calculations'!AS58,IF($C$78=\"BLOCKS\",'Vertical Calculations'!AS62,0)))","v":0},{"$f":"IF($C$78=\"FIXED\",'Vertical Calculations'!AT60,IF($C$78=\"RELATIVE\",'Vertical Calculations'!AT58,IF($C$78=\"BLOCKS\",'Vertical Calculations'!AT62,0)))","v":0},{"$f":"IF($C$78=\"FIXED\",'Vertical Calculations'!AU60,IF($C$78=\"RELATIVE\",'Vertical Calculations'!AU58,IF($C$78=\"BLOCKS\",'Vertical Calculations'!AU62,0)))","v":0},{"$f":"IF($C$78=\"FIXED\",'Vertical Calculations'!AV60,IF($C$78=\"RELATIVE\",'Vertical Calculations'!AV58,IF($C$78=\"BLOCKS\",'Vertical Calculations'!AV62,0)))","v":0},{"$f":"IF($C$78=\"FIXED\",'Vertical Calculations'!AW60,IF($C$78=\"RELATIVE\",'Vertical Calculations'!AW58,IF($C$78=\"BLOCKS\",'Vertical Calculations'!AW62,0)))","v":0},{"$f":"IF($C$78=\"FIXED\",'Vertical Calculations'!AX60,IF($C$78=\"RELATIVE\",'Vertical Calculations'!AX58,IF($C$78=\"BLOCKS\",'Vertical Calculations'!AX62,0)))","v":0},{"$f":"IF($C$78=\"FIXED\",'Vertical Calculations'!AY60,IF($C$78=\"RELATIVE\",'Vertical Calculations'!AY58,IF($C$78=\"BLOCKS\",'Vertical Calculations'!AY62,0)))","v":0},{"$f":"IF($C$78=\"FIXED\",'Vertical Calculations'!AZ60,IF($C$78=\"RELATIVE\",'Vertical Calculations'!AZ58,IF($C$78=\"BLOCKS\",'Vertical Calculations'!AZ62,0)))","v":0},{"$f":"IF($C$78=\"FIXED\",'Vertical Calculations'!BA60,IF($C$78=\"RELATIVE\",'Vertical Calculations'!BA58,IF($C$78=\"BLOCKS\",'Vertical Calculations'!BA62,0)))","v":0}]
[]
["LABEL 8"]
["QUANTITY"]
["WIDTH (mm)",{"$nulls":3},"","","","","","","","","","","","","","","","","","","","","","","","","","","","","","","","","","","","","","","","","","","","","","","","","",""]
["HEIGHT (mm)"]
["COLOUR","-- SELECT --",{"$f":"B84","v":0}]
["TEXT SIZE  (mm)","AUTO"]
["FIXING","-- SELECT --"]
[{"$nulls":4},"I","I","I","I","I","I","I","I","I","I","I","I","I","I","I","I","I","I","I","I","I","I","I","I","I","I","I","I","I","I","I","I","I","I","I","I","I","I","I","I","I","I","I","I","I","I","I","I","I","I"]
["HOLES REQUIRED",null,"-- SELECT --"]
["HOLE SIZE  (mm)",null,{"$f":"VLOOKUP(C89,'Background Information'!$O$1:$P$4,2,FALSE)","v":0},null,{"$f":"IF($C$89=\"FIXED\",'Vertical Calculations'!D69,IF($C$89=\"RELATIVE\",'Vertical Calculations'!D67,IF($C$89=\"BLOCKS\",'Vertical Calculations'!D71,0)))","v":0},{"$f":"IF($C$89=\"FIXED\",'Vertical Calculations'!E69,IF($C$89=\"RELATIVE\",'Vertical Calculations'!E67,IF($C$89=\"BLOCKS\",'Vertical Calculations'!E71,0)))","v":0},{"$f":"IF($C$89=\"FIXED\",'Vertical Calculations'!F69,IF($C$89=\"RELATIVE\",'Vertical Calculations'!F67,IF($C$89=\"BLOCKS\",'Vertical Calculations'!F71,0)))","v":0},{"$f":"IF($C$89=\"FIXED\",'Vertical Calculations'!G69,IF($C$89=\"RELATIVE\",'Vertical Calculations'!G67,IF($C$89=\"BLOCKS\",'Vertical Calculations'!G71,0)))","v":0},{"$f":"IF($C$89=\"FIXED\",'Vertical Calculations'!H69,IF($C$89=\"RELATIVE\",'Vertical Calculations'!H67,IF($C$89=\"BLOCKS\",'Vertical Calculations'!H71,0)))","v":0},{"$f":"IF($C$89=\"FIXED\",'Vertical Calculations'!I69,IF($C$89=\"RELATIVE\",'Vertical Calculations'!I67,IF($C$89=\"BLOCKS\",'Vertical Calculations'!I71,0)))","v":0},{"$f":"IF($C$89=\"FIXED\",'Vertical Calculations'!J69,IF($C$89=\"RELATIVE\",'Vertical Calculations'!J67,IF($C$89=\"BLOCKS\",'Vertical Calculations'!J71,0)))","v":0},{"$f":"IF($C$89=\"FIXED\",'Vertical Calculations'!K69,IF($C$89=\"RELATIVE\",'Vertical Calculations'!K67,IF($C$89=\"BLOCKS\",'Vertical Calculations'!K71,0)))","v":0},{"$f":"IF($C$89=\"FIXED\",'Vertical Calculations'!L69,IF($C$89=\"RELATIVE\",'Vertical Calculations'!L67,IF($C$89=\"BLOCKS\",'Vertical Calculations'!L71,0)))","v":0},{"$f":"IF($C$89=\"FIXED\",'Vertical Calculations'!M69,IF($C$89=\"RELATIVE\",'Vertical Calculations'!M67,IF($C$89=\"BLOCKS\",'Vertical Calculations'!M71,0)))","v":0},{"$f":"IF($C$89=\"FIXED\",'Vertical Calculations'!N69,IF($C$89=\"RELATIVE\",'Vertical Calculations'!N67,IF($C$89=\"BLOCKS\",'Vertical Calculations'!N71,0)))","v":0},{"$f":"IF($C$89=\"FIXED\",'Vertical Calculations'!O69,IF($C$89=\"RELATIVE\",'Vertical Calculations'!O67,IF($C$89=\"BLOCKS\",'Vertical Calculations'!O71,0)))","v":0},{"$f":"IF($C$89=\"FIXED\",'Vertical Calculations'!P69,IF($C$89=\"RELATIVE\",'Vertical Calculations'!P67,IF($C$89=\"BLOCKS\",'Vertical Calculations'!P71,0)))","v":0},{"$f":"IF($C$89=\"FIXED\",'Vertical Calculations'!Q69,IF($C$89=\"RELATIVE\",'Vertical Calculations'!Q67,IF($C$89=\"BLOCKS\",'Vertical Calculations'!Q71,0)))","v":0},{"$f":"IF($C$89=\"FIXED\",'Vertical Calculations'!R69,IF($C$89=\"RELATIVE\",'Vertical Calculations'!R67,IF($C$89=\"BLOCKS\",'Vertical Calculations'!R71,0)))","v":0},{"$f":"IF($C$89=\"FIXED\",'Vertical Calculations'!S69,IF($C$89=\"RELATIVE\",'Vertical Calculations'!S67,IF($C$89=\"BLOCKS\",'Vertical Calculations'!S71,0)))","v":0},{"$f":"IF($C$89=\"FIXED\",'Vertical Calculations'!T69,IF($C$89=\"RELATIVE\",'Vertical Calculations'!T67,IF($C$89=\"BLOCKS\",'Vertical Calculations'!T71,0)))","v":0},{"$f":"IF($C$89=\"FIXED\",'Vertical Calculations'!U69,IF($C$89=\"RELATIVE\",'Vertical Calculations'!U67,IF($C$89=\"BLOCKS\",'Vertical Calculations'!U71,0)))","v":0},{"$f":"IF($C$89=\"FIXED\",'Vertical Calculations'!V69,IF($C$89=\"RELATIVE\",'Vertical Calculations'!V67,IF($C$89=\"BLOCKS\",'Vertical Calculations'!V71,0)))","v":0},{"$f":"IF($C$89=\"FIXED\",'Vertical Calculations'!W69,IF($C$89=\"RELATIVE\",'Vertical Calculations'!W67,IF($C$89=\"BLOCKS\",'Vertical Calculations'!W71,0)))","v":0},{"$f":"IF($C$89=\"FIXED\",'Vertical Calculations'!X69,IF($C$89=\"RELATIVE\",'Vertical Calculations'!X67,IF($C$89=\"BLOCKS\",'Vertical Calculations'!X71,0)))","v":0},{"$f":"IF($C$89=\"FIXED\",'Vertical Calculations'!Y69,IF($C$89=\"RELATIVE\",'Vertical Calculations'!Y67,IF($C$89=\"BLOCKS\",'Vertical Calculations'!Y71,0)))","v":0},{"$f":"IF($C$89=\"FIXED\",'Vertical Calculations'!Z69,IF($C$89=\"RELATIVE\",'Vertical Calculations'!Z67,IF($C$89=\"BLOCKS\",'Vertical Calculations'!Z71,0)))","v":0},{"$f":"IF($C$89=\"FIXED\",'Vertical Calculations'!AA69,IF($C$89=\"RELATIVE\",'Vertical Calculations'!AA67,IF($C$89=\"BLOCKS\",'Vertical Calculations'!AA71,0)))","v":0},{"$f":"IF($C$89=\"FIXED\",'Vertical Calculations'!AB69,IF($C$89=\"RELATIVE\",'Vertical Calculations'!AB67,IF($C$89=\"BLOCKS\",'Vertical Calculations'!AB71,0)))","v":0},{"$f":"IF($C$89=\"FIXED\",'Vertical Calculations'!AC69,IF($C$89=\"RELATIVE\",'Vertical Calculations'!AC67,IF($C$89=\"BLOCKS\",'Vertical Calculations'!AC71,0)))","v":0},{"$f":"IF($C$89=\"FIXED\",'Vertical Calculations'!AD69,IF($C$89=\"RELATIVE\",'Vertical Calculations'!AD67,IF($C$89=\"BLOCKS\",'Vertical Calculations'!AD71,0)))","v":0},{"$f":"IF($C$89=\"FIXED\",'Vertical Calculations'!AE69,IF($C$89=\"RELATIVE\",'Vertical Calculations'!AE67,IF($C$89=\"BLOCKS\",'Vertical Calculations'!AE71,0)))","v":0},{"$f":"IF($C$89=\"FIXED\",'Vertical Calculations'!AF69,IF($C$89=\"RELATIVE\",'Vertical Calculations'!AF67,IF($C$89=\"BLOCKS\",'Vertical Calculations'!AF71,0)))","v":0},{"$f":"IF($C$89=\"FIXED\",'Vertical Calculations'!AG69,IF($C$89=\"RELATIVE\",'Vertical Calculations'!AG67,IF($C$89=\"BLOCKS\",'Vertical Calculations'!AG71,0)))","v":0},{"$f":"IF($C$89=\"FIXED\",'Vertical Calculations'!AH69,IF($C$89=\"RELATIVE\",'Vertical Calculations'!AH67,IF($C$89=\"BLOCKS\",'Vertical Calculations'!AH71,0)))","v":0},{"$f":"IF($C$89=\"FIXED\",'Vertical Calculations'!AI69,IF($C$89=\"RELATIVE\",'Vertical Calculations'!AI67,IF($C$89=\"BLOCKS\",'Vertical Calculations'!AI71,0)))","v":0},{"$f":"IF($C$89=\"FIXED\",'Vertical Calculations'!AJ69,IF($C$89=\"RELATIVE\",'Vertical Calculations'!AJ67,IF($C$89=\"BLOCKS\",'Vertical Calculations'!AJ71,0)))","v":0},{"$f":"IF($C$89=\"FIXED\",'Vertical Calculations'!AK69,IF($C$89=\"RELATIVE\",'Vertical Calculations'!AK67,IF($C$89=\"BLOCKS\",'Vertical Calculations'!AK71,0)))","v":0},{"$f":"IF($C$89=\"FIXED\",'Vertical Calculations'!AL69,IF($C$89=\"RELATIVE\",'Vertical Calculations'!AL67,IF($C$89=\"BLOCKS\",'Vertical Calculations'!AL71,0)))","v":0},{"$f":"IF($C$89=\"FIXED\",'Vertical Calculations'!AM69,IF($C$89=\"RELATIVE\",'Vertical Calculations'!AM67,IF($C$89=\"BLOCKS\",'Vertical Calculations'!AM71,0)))","v":0},{"$f":"IF($C$89=\"FIXED\",'Vertical Calculations'!AN69,IF($C$89=\"RELATIVE\",'Vertical Calculations'!AN67,IF($C$89=\"BLOCKS\",'Vertical Calculations'!AN71,0)))","v":0},{"$f":"IF($C$89=\"FIXED\",'Vertical Calculations'!AO69,IF($C$89=\"RELATIVE\",'Vertical Calculations'!AO67,IF($C$89=\"BLOCKS\",'Vertical Calculations'!AO71,0)))","v":0},{"$f":"IF($C$89=\"FIXED\",'Vertical Calculations'!AP69,IF($C$89=\"RELATIVE\",'Vertical Calculations'!AP67,IF($C$89=\"BLOCKS\",'Vertical Calculations'!AP71,0)))","v":0},{"$f":"IF($C$89=\"FIXED\",'Vertical Calculations'!AQ69,IF($C$89=\"RELATIVE\",'Vertical Calculations'!AQ67,IF($C$89=\"BLOCKS\",'Vertical Calculations'!AQ71,0)))","v":0},{"$f":"IF($C$89=\"FIXED\",'Vertical Calculations'!AR69,IF($C$89=\"RELATIVE\",'Vertical Calculations'!AR67,IF($C$89=\"BLOCKS\",'Vertical Calculations'!AR71,0)))","v":0},{"$f":"IF($C$89=\"FIXED\",'Vertical Calculations'!AS69,IF($C$89=\"RELATIVE\",'Vertical Calculations'!AS67,IF($C$89=\"BLOCKS\",'Vertical Calculations'!AS71,0)))","v":0},{"$f":"IF($C$89=\"FIXED\",'Vertical Calculations'!AT69,IF($C$89=\"RELATIVE\",'Vertical Calculations'!AT67,IF($C$89=\"BLOCKS\",'Vertical Calculations'!AT71,0)))","v":0},{"$f":"IF($C$89=\"FIXED\",'Vertical Calculations'!AU69,IF($C$89=\"RELATIVE\",'Vertical Calculations'!AU67,IF($C$89=\"BLOCKS\",'Vertical Calculations'!AU71,0)))","v":0},{"$f":"IF($C$89=\"FIXED\",'Vertical Calculations'!AV69,IF($C$89=\"RELATIVE\",'Vertical Calculations'!AV67,IF($C$89=\"BLOCKS\",'Vertical Calculations'!AV71,0)))","v":0},{"$f":"IF($C$89=\"FIXED\",'Vertical Calculations'!AW69,IF($C$89=\"RELATIVE\",'Vertical Calculations'!AW67,IF($C$89=\"BLOCKS\",'Vertical Calculations'!AW71,0)))","v":0},{"$f":"IF($C$89=\"FIXED\",'Vertical Calculations'!AX69,IF($C$89=\"RELATIVE\",'Vertical Calculations'!AX67,IF($C$89=\"BLOCKS\",'Vertical Calculations'!AX71,0)))","v":0},{"$f":"IF($C$89=\"FIXED\",'Vertical Calculations'!AY69,IF($C$89=\"RELATIVE\",'Vertical Calculations'!AY67,IF($C$89=\"BLOCKS\",'Vertical Calculations'!AY71,0)))","v":0},{"$f":"IF($C$89=\"FIXED\",'Vertical Calculations'!AZ69,IF($C$89=\"RELATIVE\",'Vertical Calculations'!AZ67,IF($C$89=\"BLOCKS\",'Vertical Calculations'!AZ71,0)))","v":0},{"$f":"IF($C$89=\"FIXED\",'Vertical Calculations'!BA69,IF($C$89=\"RELATIVE\",'Vertical Calculations'!BA67,IF($C$89=\"BLOCKS\",'Vertical Calculations'!BA71,0)))","v":0}]
[]
["LABEL 9"]
["QUANTITY"]
["WIDTH (mm)",{"$nulls":3},"","","","","","","","","","","","","","","","","","","","","","","","","","","","","","","","","","","","","","","","","","","","","","","","","",""]
["HEIGHT (mm)"]
["COLOUR","-- SELECT --",{"$f":"B95","v":0}]
["TEXT SIZE  (mm)","AUTO"]
["FIXING","-- SELECT --"]
[{"$nulls":4},"I","I","I","I","I","I","I","I","I","I","I","I","I","I","I","I","I","I","I","I","I","I","I","I","I","I","I","I","I","I","I","I","I","I","I","I","I","I","I","I","I","I","I","I","I","I","I","I","I","I"]
["HOLES REQUIRED",null,"-- SELECT --"]
["HOLE SIZE  (mm)",null,{"$f":"VLOOKUP(C100,'Background Information'!$O$1:$P$4,2,FALSE)","v":0},null,{"$f":"IF($C$100=\"FIXED\",'Vertical Calculations'!D78,IF($C$100=\"RELATIVE\",'Vertical Calculations'!D76,IF($C$100=\"BLOCKS\",'Vertical Calculations'!D80,0)))","v":0},{"$f":"IF($C$100=\"FIXED\",'Vertical Calculations'!E78,IF($C$100=\"RELATIVE\",'Vertical Calculations'!E76,IF($C$100=\"BLOCKS\",'Vertical Calculations'!E80,0)))","v":0},{"$f":"IF($C$100=\"FIXED\",'Vertical Calculations'!F78,IF($C$100=\"RELATIVE\",'Vertical Calculations'!F76,IF($C$100=\"BLOCKS\",'Vertical Calculations'!F80,0)))","v":0},{"$f":"IF($C$100=\"FIXED\",'Vertical Calculations'!G78,IF($C$100=\"RELATIVE\",'Vertical Calculations'!G76,IF($C$100=\"BLOCKS\",'Vertical Calculations'!G80,0)))","v":0},{"$f":"IF($C$100=\"FIXED\",'Vertical Calculations'!H78,IF($C$100=\"RELATIVE\",'Vertical Calculations'!H76,IF($C$100=\"BLOCKS\",'Vertical Calculations'!H80,0)))","v":0},{"$f":"IF($C$100=\"FIXED\",'Vertical Calculations'!I78,IF($C$100=\"RELATIVE\",'Vertical Calculations'!I76,IF($C$100=\"BLOCKS\",'Vertical Calculations'!I80,0)))","v":0},{"$f":"IF($C$100=\"FIXED\",'Vertical Calculations'!J78,IF($C$100=\"RELATIVE\",'Vertical Calculations'!J76,IF($C$100=\"BLOCKS\",'Vertical Calculations'!J80,0)))","v":0},{"$f":"IF($C$100=\"FIXED\",'Vertical Calculations'!K78,IF($C$100=\"RELATIVE\",'Vertical Calculations'!K76,IF($C$100=\"BLOCKS\",'Vertical Calculations'!K80,0)))","v":0},{"$f":"IF($C$100=\"FIXED\",'Vertical Calculations'!L78,IF($C$100=\"RELATIVE\",'Vertical Calculations'!L76,IF($C$100=\"BLOCKS\",'Vertical Calculations'!L80,0)))","v":0},{"$f":"IF($C$100=\"FIXED\",'Vertical Calculations'!M78,IF($C$100=\"RELATIVE\",'Vertical Calculations'!M76,IF($C$100=\"BLOCKS\",'Vertical Calculations'!M80,0)))","v":0},{"$f":"IF($C$100=\"FIXED\",'Vertical Calculations'!N78,IF($C$100=\"RELATIVE\",'Vertical Calculations'!N76,IF($C$100=\"BLOCKS\",'Vertical Calculations'!N80,0)))","v":0},{"$f":"IF($C$100=\"FIXED\",'Vertical Calculations'!O78,IF($C$100=\"RELATIVE\",'Vertical Calculations'!O76,IF($C$100=\"BLOCKS\",'Vertical Calculations'!O80,0)))","v":0},{"$f":"IF($C$100=\"FIXED\",'Vertical Calculations'!P78,IF($C$100=\"RELATIVE\",'Vertical Calculations'!P76,IF($C$100=\"BLOCKS\",'Vertical Calculations'!P80,0)))","v":0},{"$f":"IF($C$100=\"FIXED\",'Vertical Calculations'!Q78,IF($C$100=\"RELATIVE\",'Vertical Calculations'!Q76,IF($C$100=\"BLOCKS\",'Vertical Calculations'!Q80,0)))","v":0},{"$f":"IF($C$100=\"FIXED\",'Vertical Calculations'!R78,IF($C$100=\"RELATIVE\",'Vertical Calculations'!R76,IF($C$100=\"BLOCKS\",'Vertical Calculations'!R80,0)))","v":0},{"$f":"IF($C$100=\"FIXED\",'Vertical Calculations'!S78,IF($C$100=\"RELATIVE\",'Vertical Calculations'!S76,IF($C$100=\"BLOCKS\",'Vertical Calculations'!S80,0)))","v":0},{"$f":"IF($C$100=\"FIXED\",'Vertical Calculations'!T78,IF($C$100=\"RELATIVE\",'Vertical Calculations'!T76,IF($C$100=\"BLOCKS\",'Vertical Calculations'!T80,0)))","v":0},{"$f":"IF($C$100=\"FIXED\",'Vertical Calculations'!U78,IF($C$100=\"RELATIVE\",'Vertical Calculations'!U76,IF($C$100=\"BLOCKS\",'Vertical Calculations'!U80,0)))","v":0},{"$f":"IF($C$100=\"FIXED\",'Vertical Calculations'!V78,IF($C$100=\"RELATIVE\",'Vertical Calculations'!V76,IF($C$100=\"BLOCKS\",'Vertical Calculations'!V80,0)))","v":0},{"$f":"IF($C$100=\"FIXED\",'Vertical Calculations'!W78,IF($C$100=\"RELATIVE\",'Vertical Calculations'!W76,IF($C$100=\"BLOCKS\",'Vertical Calculations'!W80,0)))","v":0},{"$f":"IF($C$100=\"FIXED\",'Vertical Calculations'!X78,IF($C$100=\"RELATIVE\",'Vertical Calculations'!X76,IF($C$100=\"BLOCKS\",'Vertical Calculations'!X80,0)))","v":0},{"$f":"IF($C$100=\"FIXED\",'Vertical Calculations'!Y78,IF($C$100=\"RELATIVE\",'Vertical Calculations'!Y76,IF($C$100=\"BLOCKS\",'Vertical Calculations'!Y80,0)))","v":0},{"$f":"IF($C$100=\"FIXED\",'Vertical Calculations'!Z78,IF($C$100=\"RELATIVE\",'Vertical Calculations'!Z76,IF($C$100=\"BLOCKS\",'Vertical Calculations'!Z80,0)))","v":0},{"$f":"IF($C$100=\"FIXED\",'Vertical Calculations'!AA78,IF($C$100=\"RELATIVE\",'Vertical Calculations'!AA76,IF($C$100=\"BLOCKS\",'Vertical Calculations'!AA80,0)))","v":0},{"$f":"IF($C$100=\"FIXED\",'Vertical Calculations'!AB78,IF($C$100=\"RELATIVE\",'Vertical Calculations'!AB76,IF($C$100=\"BLOCKS\",'Vertical Calculations'!AB80,0)))","v":0},{"$f":"IF($C$100=\"FIXED\",'Vertical Calculations'!AC78,IF($C$100=\"RELATIVE\",'Vertical Calculations'!AC76,IF($C$100=\"BLOCKS\",'Vertical Calculations'!AC80,0)))","v":0},{"$f":"IF($C$100=\"FIXED\",'Vertical Calculations'!AD78,IF($C$100=\"RELATIVE\",'Vertical Calculations'!AD76,IF($C$100=\"BLOCKS\",'Vertical Calculations'!AD80,0)))","v":0},{"$f":"IF($C$100=\"FIXED\",'Vertical Calculations'!AE78,IF($C$100=\"RELATIVE\",'Vertical Calculations'!AE76,IF($C$100=\"BLOCKS\",'Vertical Calculations'!AE80,0)))","v":0},{"$f":"IF($C$100=\"FIXED\",'Vertical Calculations'!AF78,IF($C$100=\"RELATIVE\",'Vertical Calculations'!AF76,IF($C$100=\"BLOCKS\",'Vertical Calculations'!AF80,0)))","v":0},{"$f":"IF($C$100=\"FIXED\",'Vertical Calculations'!AG78,IF($C$100=\"RELATIVE\",'Vertical Calculations'!AG76,IF($C$100=\"BLOCKS\",'Vertical Calculations'!AG80,0)))","v":0},{"$f":"IF($C$100=\"FIXED\",'Vertical Calculations'!AH78,IF($C$100=\"RELATIVE\",'Vertical Calculations'!AH76,IF($C$100=\"BLOCKS\",'Vertical Calculations'!AH80,0)))","v":0},{"$f":"IF($C$100=\"FIXED\",'Vertical Calculations'!AI78,IF($C$100=\"RELATIVE\",'Vertical Calculations'!AI76,IF($C$100=\"BLOCKS\",'Vertical Calculations'!AI80,0)))","v":0},{"$f":"IF($C$100=\"FIXED\",'Vertical Calculations'!AJ78,IF($C$100=\"RELATIVE\",'Vertical Calculations'!AJ76,IF($C$100=\"BLOCKS\",'Vertical Calculations'!AJ80,0)))","v":0},{"$f":"IF($C$100=\"FIXED\",'Vertical Calculations'!AK78,IF($C$100=\"RELATIVE\",'Vertical Calculations'!AK76,IF($C$100=\"BLOCKS\",'Vertical Calculations'!AK80,0)))","v":0},{"$f":"IF($C$100=\"FIXED\",'Vertical Calculations'!AL78,IF($C$100=\"RELATIVE\",'Vertical Calculations'!AL76,IF($C$100=\"BLOCKS\",'Vertical Calculations'!AL80,0)))","v":0},{"$f":"IF($C$100=\"FIXED\",'Vertical Calculations'!AM78,IF($C$100=\"RELATIVE\",'Vertical Calculations'!AM76,IF($C$100=\"BLOCKS\",'Vertical Calculations'!AM80,0)))","v":0},{"$f":"IF($C$100=\"FIXED\",'Vertical Calculations'!AN78,IF($C$100=\"RELATIVE\",'Vertical Calculations'!AN76,IF($C$100=\"BLOCKS\",'Vertical Calculations'!AN80,0)))","v":0},{"$f":"IF($C$100=\"FIXED\",'Vertical Calculations'!AO78,IF($C$100=\"RELATIVE\",'Vertical Calculations'!AO76,IF($C$100=\"BLOCKS\",'Vertical Calculations'!AO80,0)))","v":0},{"$f":"IF($C$100=\"FIXED\",'Vertical Calculations'!AP78,IF($C$100=\"RELATIVE\",'Vertical Calculations'!AP76,IF($C$100=\"BLOCKS\",'Vertical Calculations'!AP80,0)))","v":0},{"$f":"IF($C$100=\"FIXED\",'Vertical Calculations'!AQ78,IF($C$100=\"RELATIVE\",'Vertical Calculations'!AQ76,IF($C$100=\"BLOCKS\",'Vertical Calculations'!AQ80,0)))","v":0},{"$f":"IF($C$100=\"FIXED\",'Vertical Calculations'!AR78,IF($C$100=\"RELATIVE\",'Vertical Calculations'!AR76,IF($C$100=\"BLOCKS\",'Vertical Calculations'!AR80,0)))","v":0},{"$f":"IF($C$100=\"FIXED\",'Vertical Calculations'!AS78,IF($C$100=\"RELATIVE\",'Vertical Calculations'!AS76,IF($C$100=\"BLOCKS\",'Vertical Calculations'!AS80,0)))","v":0},{"$f":"IF($C$100=\"FIXED\",'Vertical Calculations'!AT78,IF($C$100=\"RELATIVE\",'Vertical Calculations'!AT76,IF($C$100=\"BLOCKS\",'Vertical Calculations'!AT80,0)))","v":0},{"$f":"IF($C$100=\"FIXED\",'Vertical Calculations'!AU78,IF($C$100=\"RELATIVE\",'Vertical Calculations'!AU76,IF($C$100=\"BLOCKS\",'Vertical Calculations'!AU80,0)))","v":0},{"$f":"IF($C$100=\"FIXED\",'Vertical Calculations'!AV78,IF($C$100=\"RELATIVE\",'Vertical Calculations'!AV76,IF($C$100=\"BLOCKS\",'Vertical Calculations'!AV80,0)))","v":0},{"$f":"IF($C$100=\"FIXED\",'Vertical Calculations'!AW78,IF($C$100=\"RELATIVE\",'Vertical Calculations'!AW76,IF($C$100=\"BLOCKS\",'Vertical Calculations'!AW80,0)))","v":0},{"$f":"IF($C$100=\"FIXED\",'Vertical Calculations'!AX78,IF($C$100=\"RELATIVE\",'Vertical Calculations'!AX76,IF($C$100=\"BLOCKS\",'Vertical Calculations'!AX80,0)))","v":0},{"$f":"IF($C$100=\"FIXED\",'Vertical Calculations'!AY78,IF($C$100=\"RELATIVE\",'Vertical Calculations'!AY76,IF($C$100=\"BLOCKS\",'Vertical Calculations'!AY80,0)))","v":0},{"$f":"IF($C$100=\"FIXED\",'Vertical Calculations'!AZ78,IF($C$100=\"RELATIVE\",'Vertical Calculations'!AZ76,IF($C$100=\"BLOCKS\",'Vertical Calculations'!AZ80,0)))","v":0},{"$f":"IF($C$100=\"FIXED\",'Vertical Calculations'!BA78,IF($C$100=\"RELATIVE\",'Vertical Calculations'!BA76,IF($C$100=\"BLOCKS\",'Vertical Calculations'!BA80,0)))","v":0}]
[]
["LABEL 10"]
["QUANTITY"]
["WIDTH (mm)",{"$nulls":3},"","","","","","","","","","","","","","","","","","","","","","","","","","","","","","","","","","","","","","","","","","","","","","","","","",""]
["HEIGHT (mm)"]
["COLOUR","-- SELECT --",{"$f":"B106","v":0}]
["TEXT SIZE  (mm)","AUTO"]
["FIXING","-- SELECT --"]
[{"$nulls":4},"I","I","I","I","I","I","I","I","I","I","I","I","I","I","I","I","I","I","I","I","I","I","I","I","I","I","I","I","I","I","I","I","I","I","I","I","I","I","I","I","I","I","I","I","I","I","I","I","I","I"]
["HOLES REQUIRED",null,"-- SELECT --"]
["HOLE SIZE  (mm)",null,{"$f":"VLOOKUP(C111,'Background Information'!$O$1:$P$4,2,FALSE)","v":0},null,{"$f":"IF($C$111=\"FIXED\",'Vertical Calculations'!D87,IF($C$111=\"RELATIVE\",'Vertical Calculations'!D85,IF($C$111=\"BLOCKS\",'Vertical Calculations'!D89,0)))","v":0},{"$f":"IF($C$111=\"FIXED\",'Vertical Calculations'!E87,IF($C$111=\"RELATIVE\",'Vertical Calculations'!E85,IF($C$111=\"BLOCKS\",'Vertical Calculations'!E89,0)))","v":0},{"$f":"IF($C$111=\"FIXED\",'Vertical Calculations'!F87,IF($C$111=\"RELATIVE\",'Vertical Calculations'!F85,IF($C$111=\"BLOCKS\",'Vertical Calculations'!F89,0)))","v":0},{"$f":"IF($C$111=\"FIXED\",'Vertical Calculations'!G87,IF($C$111=\"RELATIVE\",'Vertical Calculations'!G85,IF($C$111=\"BLOCKS\",'Vertical Calculations'!G89,0)))","v":0},{"$f":"IF($C$111=\"FIXED\",'Vertical Calculations'!H87,IF($C$111=\"RELATIVE\",'Vertical Calculations'!H85,IF($C$111=\"BLOCKS\",'Vertical Calculations'!H89,0)))","v":0},{"$f":"IF($C$111=\"FIXED\",'Vertical Calculations'!I87,IF($C$111=\"RELATIVE\",'Vertical Calculations'!I85,IF($C$111=\"BLOCKS\",'Vertical Calculations'!I89,0)))","v":0},{"$f":"IF($C$111=\"FIXED\",'Vertical Calculations'!J87,IF($C$111=\"RELATIVE\",'Vertical Calculations'!J85,IF($C$111=\"BLOCKS\",'Vertical Calculations'!J89,0)))","v":0},{"$f":"IF($C$111=\"FIXED\",'Vertical Calculations'!K87,IF($C$111=\"RELATIVE\",'Vertical Calculations'!K85,IF($C$111=\"BLOCKS\",'Vertical Calculations'!K89,0)))","v":0},{"$f":"IF($C$111=\"FIXED\",'Vertical Calculations'!L87,IF($C$111=\"RELATIVE\",'Vertical Calculations'!L85,IF($C$111=\"BLOCKS\",'Vertical Calculations'!L89,0)))","v":0},{"$f":"IF($C$111=\"FIXED\",'Vertical Calculations'!M87,IF($C$111=\"RELATIVE\",'Vertical Calculations'!M85,IF($C$111=\"BLOCKS\",'Vertical Calculations'!M89,0)))","v":0},{"$f":"IF($C$111=\"FIXED\",'Vertical Calculations'!N87,IF($C$111=\"RELATIVE\",'Vertical Calculations'!N85,IF($C$111=\"BLOCKS\",'Vertical Calculations'!N89,0)))","v":0},{"$f":"IF($C$111=\"FIXED\",'Vertical Calculations'!O87,IF($C$111=\"RELATIVE\",'Vertical Calculations'!O85,IF($C$111=\"BLOCKS\",'Vertical Calculations'!O89,0)))","v":0},{"$f":"IF($C$111=\"FIXED\",'Vertical Calculations'!P87,IF($C$111=\"RELATIVE\",'Vertical Calculations'!P85,IF($C$111=\"BLOCKS\",'Vertical Calculations'!P89,0)))","v":0},{"$f":"IF($C$111=\"FIXED\",'Vertical Calculations'!Q87,IF($C$111=\"RELATIVE\",'Vertical Calculations'!Q85,IF($C$111=\"BLOCKS\",'Vertical Calculations'!Q89,0)))","v":0},{"$f":"IF($C$111=\"FIXED\",'Vertical Calculations'!R87,IF($C$111=\"RELATIVE\",'Vertical Calculations'!R85,IF($C$111=\"BLOCKS\",'Vertical Calculations'!R89,0)))","v":0},{"$f":"IF($C$111=\"FIXED\",'Vertical Calculations'!S87,IF($C$111=\"RELATIVE\",'Vertical Calculations'!S85,IF($C$111=\"BLOCKS\",'Vertical Calculations'!S89,0)))","v":0},{"$f":"IF($C$111=\"FIXED\",'Vertical Calculations'!T87,IF($C$111=\"RELATIVE\",'Vertical Calculations'!T85,IF($C$111=\"BLOCKS\",'Vertical Calculations'!T89,0)))","v":0},{"$f":"IF($C$111=\"FIXED\",'Vertical Calculations'!U87,IF($C$111=\"RELATIVE\",'Vertical Calculations'!U85,IF($C$111=\"BLOCKS\",'Vertical Calculations'!U89,0)))","v":0},{"$f":"IF($C$111=\"FIXED\",'Vertical Calculations'!V87,IF($C$111=\"RELATIVE\",'Vertical Calculations'!V85,IF($C$111=\"BLOCKS\",'Vertical Calculations'!V89,0)))","v":0},{"$f":"IF($C$111=\"FIXED\",'Vertical Calculations'!W87,IF($C$111=\"RELATIVE\",'Vertical Calculations'!W85,IF($C$111=\"BLOCKS\",'Vertical Calculations'!W89,0)))","v":0},{"$f":"IF($C$111=\"FIXED\",'Vertical Calculations'!X87,IF($C$111=\"RELATIVE\",'Vertical Calculations'!X85,IF($C$111=\"BLOCKS\",'Vertical Calculations'!X89,0)))","v":0},{"$f":"IF($C$111=\"FIXED\",'Vertical Calculations'!Y87,IF($C$111=\"RELATIVE\",'Vertical Calculations'!Y85,IF($C$111=\"BLOCKS\",'Vertical Calculations'!Y89,0)))","v":0},{"$f":"IF($C$111=\"FIXED\",'Vertical Calculations'!Z87,IF($C$111=\"RELATIVE\",'Vertical Calculations'!Z85,IF($C$111=\"BLOCKS\",'Vertical Calculations'!Z89,0)))","v":0},{"$f":"IF($C$111=\"FIXED\",'Vertical Calculations'!AA87,IF($C$111=\"RELATIVE\",'Vertical Calculations'!AA85,IF($C$111=\"BLOCKS\",'Vertical Calculations'!AA89,0)))","v":0},{"$f":"IF($C$111=\"FIXED\",'Vertical Calculations'!AB87,IF($C$111=\"RELATIVE\",'Vertical Calculations'!AB85,IF($C$111=\"BLOCKS\",'Vertical Calculations'!AB89,0)))","v":0},{"$f":"IF($C$111=\"FIXED\",'Vertical Calculations'!AC87,IF($C$111=\"RELATIVE\",'Vertical Calculations'!AC85,IF($C$111=\"BLOCKS\",'Vertical Calculations'!AC89,0)))","v":0},{"$f":"IF($C$111=\"FIXED\",'Vertical Calculations'!AD87,IF($C$111=\"RELATIVE\",'Vertical Calculations'!AD85,IF($C$111=\"BLOCKS\",'Vertical Calculations'!AD89,0)))","v":0},{"$f":"IF($C$111=\"FIXED\",'Vertical Calculations'!AE87,IF($C$111=\"RELATIVE\",'Vertical Calculations'!AE85,IF($C$111=\"BLOCKS\",'Vertical Calculations'!AE89,0)))","v":0},{"$f":"IF($C$111=\"FIXED\",'Vertical Calculations'!AF87,IF($C$111=\"RELATIVE\",'Vertical Calculations'!AF85,IF($C$111=\"BLOCKS\",'Vertical Calculations'!AF89,0)))","v":0},{"$f":"IF($C$111=\"FIXED\",'Vertical Calculations'!AG87,IF($C$111=\"RELATIVE\",'Vertical Calculations'!AG85,IF($C$111=\"BLOCKS\",'Vertical Calculations'!AG89,0)))","v":0},{"$f":"IF($C$111=\"FIXED\",'Vertical Calculations'!AH87,IF($C$111=\"RELATIVE\",'Vertical Calculations'!AH85,IF($C$111=\"BLOCKS\",'Vertical Calculations'!AH89,0)))","v":0},{"$f":"IF($C$111=\"FIXED\",'Vertical Calculations'!AI87,IF($C$111=\"RELATIVE\",'Vertical Calculations'!AI85,IF($C$111=\"BLOCKS\",'Vertical Calculations'!AI89,0)))","v":0},{"$f":"IF($C$111=\"FIXED\",'Vertical Calculations'!AJ87,IF($C$111=\"RELATIVE\",'Vertical Calculations'!AJ85,IF($C$111=\"BLOCKS\",'Vertical Calculations'!AJ89,0)))","v":0},{"$f":"IF($C$111=\"FIXED\",'Vertical Calculations'!AK87,IF($C$111=\"RELATIVE\",'Vertical Calculations'!AK85,IF($C$111=\"BLOCKS\",'Vertical Calculations'!AK89,0)))","v":0},{"$f":"IF($C$111=\"FIXED\",'Vertical Calculations'!AL87,IF($C$111=\"RELATIVE\",'Vertical Calculations'!AL85,IF($C$111=\"BLOCKS\",'Vertical Calculations'!AL89,0)))","v":0},{"$f":"IF($C$111=\"FIXED\",'Vertical Calculations'!AM87,IF($C$111=\"RELATIVE\",'Vertical Calculations'!AM85,IF($C$111=\"BLOCKS\",'Vertical Calculations'!AM89,0)))","v":0},{"$f":"IF($C$111=\"FIXED\",'Vertical Calculations'!AN87,IF($C$111=\"RELATIVE\",'Vertical Calculations'!AN85,IF($C$111=\"BLOCKS\",'Vertical Calculations'!AN89,0)))","v":0},{"$f":"IF($C$111=\"FIXED\",'Vertical Calculations'!AO87,IF($C$111=\"RELATIVE\",'Vertical Calculations'!AO85,IF($C$111=\"BLOCKS\",'Vertical Calculations'!AO89,0)))","v":0},{"$f":"IF($C$111=\"FIXED\",'Vertical Calculations'!AP87,IF($C$111=\"RELATIVE\",'Vertical Calculations'!AP85,IF($C$111=\"BLOCKS\",'Vertical Calculations'!AP89,0)))","v":0},{"$f":"IF($C$111=\"FIXED\",'Vertical Calculations'!AQ87,IF($C$111=\"RELATIVE\",'Vertical Calculations'!AQ85,IF($C$111=\"BLOCKS\",'Vertical Calculations'!AQ89,0)))","v":0},{"$f":"IF($C$111=\"FIXED\",'Vertical Calculations'!AR87,IF($C$111=\"RELATIVE\",'Vertical Calculations'!AR85,IF($C$111=\"BLOCKS\",'Vertical Calculations'!AR89,0)))","v":0},{"$f":"IF($C$111=\"FIXED\",'Vertical Calculations'!AS87,IF($C$111=\"RELATIVE\",'Vertical Calculations'!AS85,IF($C$111=\"BLOCKS\",'Vertical Calculations'!AS89,0)))","v":0},{"$f":"IF($C$111=\"FIXED\",'Vertical Calculations'!AT87,IF($C$111=\"RELATIVE\",'Vertical Calculations'!AT85,IF($C$111=\"BLOCKS\",'Vertical Calculations'!AT89,0)))","v":0},{"$f":"IF($C$111=\"FIXED\",'Vertical Calculations'!AU87,IF($C$111=\"RELATIVE\",'Vertical Calculations'!AU85,IF($C$111=\"BLOCKS\",'Vertical Calculations'!AU89,0)))","v":0},{"$f":"IF($C$111=\"FIXED\",'Vertical Calculations'!AV87,IF($C$111=\"RELATIVE\",'Vertical Calculations'!AV85,IF($C$111=\"BLOCKS\",'Vertical Calculations'!AV89,0)))","v":0},{"$f":"IF($C$111=\"FIXED\",'Vertical Calculations'!AW87,IF($C$111=\"RELATIVE\",'Vertical Calculations'!AW85,IF($C$111=\"BLOCKS\",'Vertical Calculations'!AW89,0)))","v":0},{"$f":"IF($C$111=\"FIXED\",'Vertical Calculations'!AX87,IF($C$111=\"RELATIVE\",'Vertical Calculations'!AX85,IF($C$111=\"BLOCKS\",'Vertical Calculations'!AX89,0)))","v":0},{"$f":"IF($C$111=\"FIXED\",'Vertical Calculations'!AY87,IF($C$111=\"RELATIVE\",'Vertical Calculations'!AY85,IF($C$111=\"BLOCKS\",'Vertical Calculations'!AY89,0)))","v":0},{"$f":"IF($C$111=\"FIXED\",'Vertical Calculations'!AZ87,IF($C$111=\"RELATIVE\",'Vertical Calculations'!AZ85,IF($C$111=\"BLOCKS\",'Vertical Calculations'!AZ89,0)))","v":0},{"$f":"IF($C$111=\"FIXED\",'Vertical Calculations'!BA87,IF($C$111=\"RELATIVE\",'Vertical Calculations'!BA85,IF($C$111=\"BLOCKS\",'Vertical Calculations'!BA89,0)))","v":0}]
[]
["LABEL 11"]
["QUANTITY"]
["WIDTH (mm)",{"$nulls":3},"","","","","","","","","","","","","","","","","","","","","","","","","","","","","","","","","","","","","","","","","","","","","","","","","",""]
["HEIGHT (mm)"]
["COLOUR","-- SELECT --",{"$f":"B117","v":0}]
["TEXT SIZE  (mm)","AUTO"]
["FIXING","-- SELECT --"]
[{"$nulls":4},"I","I","I","I","I","I","I","I","I","I","I","I","I","I","I","I","I","I","I","I","I","I","I","I","I","I","I","I","I","I","I","I","I","I","I","I","I","I","I","I","I","I","I","I","I","I","I","I","I","I"]
["HOLES REQUIRED",null,"-- SELECT --"]
["HOLE SIZE  (mm)",null,{"$f":"VLOOKUP(C122,'Background Information'!$O$1:$P$4,2,FALSE)","v":0},null,{"$f":"IF($C$122=\"FIXED\",'Vertical Calculations'!D96,IF($C$122=\"RELATIVE\",'Vertical Calculations'!D94,IF($C$122=\"BLOCKS\",'Vertical Calculations'!D98,0)))","v":0},{"$f":"IF($C$122=\"FIXED\",'Vertical Calculations'!E96,IF($C$122=\"RELATIVE\",'Vertical Calculations'!E94,IF($C$122=\"BLOCKS\",'Vertical Calculations'!E98,0)))","v":0},{"$f":"IF($C$122=\"FIXED\",'Vertical Calculations'!F96,IF($C$122=\"RELATIVE\",'Vertical Calculations'!F94,IF($C$122=\"BLOCKS\",'Vertical Calculations'!F98,0)))","v":0},{"$f":"IF($C$122=\"FIXED\",'Vertical Calculations'!G96,IF($C$122=\"RELATIVE\",'Vertical Calculations'!G94,IF($C$122=\"BLOCKS\",'Vertical Calculations'!G98,0)))","v":0},{"$f":"IF($C$122=\"FIXED\",'Vertical Calculations'!H96,IF($C$122=\"RELATIVE\",'Vertical Calculations'!H94,IF($C$122=\"BLOCKS\",'Vertical Calculations'!H98,0)))","v":0},{"$f":"IF($C$122=\"FIXED\",'Vertical Calculations'!I96,IF($C$122=\"RELATIVE\",'Vertical Calculations'!I94,IF($C$122=\"BLOCKS\",'Vertical Calculations'!I98,0)))","v":0},{"$f":"IF($C$122=\"FIXED\",'Vertical Calculations'!J96,IF($C$122=\"RELATIVE\",'Vertical Calculations'!J94,IF($C$122=\"BLOCKS\",'Vertical Calculations'!J98,0)))","v":0},{"$f":"IF($C$122=\"FIXED\",'Vertical Calculations'!K96,IF($C$122=\"RELATIVE\",'Vertical Calculations'!K94,IF($C$122=\"BLOCKS\",'Vertical Calculations'!K98,0)))","v":0},{"$f":"IF($C$122=\"FIXED\",'Vertical Calculations'!L96,IF($C$122=\"RELATIVE\",'Vertical Calculations'!L94,IF($C$122=\"BLOCKS\",'Vertical Calculations'!L98,0)))","v":0},{"$f":"IF($C$122=\"FIXED\",'Vertical Calculations'!M96,IF($C$122=\"RELATIVE\",'Vertical Calculations'!M94,IF($C$122=\"BLOCKS\",'Vertical Calculations'!M98,0)))","v":0},{"$f":"IF($C$122=\"FIXED\",'Vertical Calculations'!N96,IF($C$122=\"RELATIVE\",'Vertical Calculations'!N94,IF($C$122=\"BLOCKS\",'Vertical Calculations'!N98,0)))","v":0},{"$f":"IF($C$122=\"FIXED\",'Vertical Calculations'!O96,IF($C$122=\"RELATIVE\",'Vertical Calculations'!O94,IF($C$122=\"BLOCKS\",'Vertical Calculations'!O98,0)))","v":0},{"$f":"IF($C$122=\"FIXED\",'Vertical Calculations'!P96,IF($C$122=\"RELATIVE\",'Vertical Calculations'!P94,IF($C$122=\"BLOCKS\",'Vertical Calculations'!P98,0)))","v":0},{"$f":"IF($C$122=\"FIXED\",'Vertical Calculations'!Q96,IF($C$122=\"RELATIVE\",'Vertical Calculations'!Q94,IF($C$122=\"BLOCKS\",'Vertical Calculations'!Q98,0)))","v":0},{"$f":"IF($C$122=\"FIXED\",'Vertical Calculations'!R96,IF($C$122=\"RELATIVE\",'Vertical Calculations'!R94,IF($C$122=\"BLOCKS\",'Vertical Calculations'!R98,0)))","v":0},{"$f":"IF($C$122=\"FIXED\",'Vertical Calculations'!S96,IF($C$122=\"RELATIVE\",'Vertical Calculations'!S94,IF($C$122=\"BLOCKS\",'Vertical Calculations'!S98,0)))","v":0},{"$f":"IF($C$122=\"FIXED\",'Vertical Calculations'!T96,IF($C$122=\"RELATIVE\",'Vertical Calculations'!T94,IF($C$122=\"BLOCKS\",'Vertical Calculations'!T98,0)))","v":0},{"$f":"IF($C$122=\"FIXED\",'Vertical Calculations'!U96,IF($C$122=\"RELATIVE\",'Vertical Calculations'!U94,IF($C$122=\"BLOCKS\",'Vertical Calculations'!U98,0)))","v":0},{"$f":"IF($C$122=\"FIXED\",'Vertical Calculations'!V96,IF($C$122=\"RELATIVE\",'Vertical Calculations'!V94,IF($C$122=\"BLOCKS\",'Vertical Calculations'!V98,0)))","v":0},{"$f":"IF($C$122=\"FIXED\",'Vertical Calculations'!W96,IF($C$122=\"RELATIVE\",'Vertical Calculations'!W94,IF($C$122=\"BLOCKS\",'Vertical Calculations'!W98,0)))","v":0},{"$f":"IF($C$122=\"FIXED\",'Vertical Calculations'!X96,IF($C$122=\"RELATIVE\",'Vertical Calculations'!X94,IF($C$122=\"BLOCKS\",'Vertical Calculations'!X98,0)))","v":0},{"$f":"IF($C$122=\"FIXED\",'Vertical Calculations'!Y96,IF($C$122=\"RELATIVE\",'Vertical Calculations'!Y94,IF($C$122=\"BLOCKS\",'Vertical Calculations'!Y98,0)))","v":0},{"$f":"IF($C$122=\"FIXED\",'Vertical Calculations'!Z96,IF($C$122=\"RELATIVE\",'Vertical Calculations'!Z94,IF($C$122=\"BLOCKS\",'Vertical Calculations'!Z98,0)))","v":0},{"$f":"IF($C$122=\"FIXED\",'Vertical Calculations'!AA96,IF($C$122=\"RELATIVE\",'Vertical Calculations'!AA94,IF($C$122=\"BLOCKS\",'Vertical Calculations'!AA98,0)))","v":0},{"$f":"IF($C$122=\"FIXED\",'Vertical Calculations'!AB96,IF($C$122=\"RELATIVE\",'Vertical Calculations'!AB94,IF($C$122=\"BLOCKS\",'Vertical Calculations'!AB98,0)))","v":0},{"$f":"IF($C$122=\"FIXED\",'Vertical Calculations'!AC96,IF($C$122=\"RELATIVE\",'Vertical Calculations'!AC94,IF($C$122=\"BLOCKS\",'Vertical Calculations'!AC98,0)))","v":0},{"$f":"IF($C$122=\"FIXED\",'Vertical Calculations'!AD96,IF($C$122=\"RELATIVE\",'Vertical Calculations'!AD94,IF($C$122=\"BLOCKS\",'Vertical Calculations'!AD98,0)))","v":0},{"$f":"IF($C$122=\"FIXED\",'Vertical Calculations'!AE96,IF($C$122=\"RELATIVE\",'Vertical Calculations'!AE94,IF($C$122=\"BLOCKS\",'Vertical Calculations'!AE98,0)))","v":0},{"$f":"IF($C$122=\"FIXED\",'Vertical Calculations'!AF96,IF($C$122=\"RELATIVE\",'Vertical Calculations'!AF94,IF($C$122=\"BLOCKS\",'Vertical Calculations'!AF98,0)))","v":0},{"$f":"IF($C$122=\"FIXED\",'Vertical Calculations'!AG96,IF($C$122=\"RELATIVE\",'Vertical Calculations'!AG94,IF($C$122=\"BLOCKS\",'Vertical Calculations'!AG98,0)))","v":0},{"$f":"IF($C$122=\"FIXED\",'Vertical Calculations'!AH96,IF($C$122=\"RELATIVE\",'Vertical Calculations'!AH94,IF($C$122=\"BLOCKS\",'Vertical Calculations'!AH98,0)))","v":0},{"$f":"IF($C$122=\"FIXED\",'Vertical Calculations'!AI96,IF($C$122=\"RELATIVE\",'Vertical Calculations'!AI94,IF($C$122=\"BLOCKS\",'Vertical Calculations'!AI98,0)))","v":0},{"$f":"IF($C$122=\"FIXED\",'Vertical Calculations'!AJ96,IF($C$122=\"RELATIVE\",'Vertical Calculations'!AJ94,IF($C$122=\"BLOCKS\",'Vertical Calculations'!AJ98,0)))","v":0},{"$f":"IF($C$122=\"FIXED\",'Vertical Calculations'!AK96,IF($C$122=\"RELATIVE\",'Vertical Calculations'!AK94,IF($C$122=\"BLOCKS\",'Vertical Calculations'!AK98,0)))","v":0},{"$f":"IF($C$122=\"FIXED\",'Vertical Calculations'!AL96,IF($C$122=\"RELATIVE\",'Vertical Calculations'!AL94,IF($C$122=\"BLOCKS\",'Vertical Calculations'!AL98,0)))","v":0},{"$f":"IF($C$122=\"FIXED\",'Vertical Calculations'!AM96,IF($C$122=\"RELATIVE\",'Vertical Calculations'!AM94,IF($C$122=\"BLOCKS\",'Vertical Calculations'!AM98,0)))","v":0},{"$f":"IF($C$122=\"FIXED\",'Vertical Calculations'!AN96,IF($C$122=\"RELATIVE\",'Vertical Calculations'!AN94,IF($C$122=\"BLOCKS\",'Vertical Calculations'!AN98,0)))","v":0},{"$f":"IF($C$122=\"FIXED\",'Vertical Calculations'!AO96,IF($C$122=\"RELATIVE\",'Vertical Calculations'!AO94,IF($C$122=\"BLOCKS\",'Vertical Calculations'!AO98,0)))","v":0},{"$f":"IF($C$122=\"FIXED\",'Vertical Calculations'!AP96,IF($C$122=\"RELATIVE\",'Vertical Calculations'!AP94,IF($C$122=\"BLOCKS\",'Vertical Calculations'!AP98,0)))","v":0},{"$f":"IF($C$122=\"FIXED\",'Vertical Calculations'!AQ96,IF($C$122=\"RELATIVE\",'Vertical Calculations'!AQ94,IF($C$122=\"BLOCKS\",'Vertical Calculations'!AQ98,0)))","v":0},{"$f":"IF($C$122=\"FIXED\",'Vertical Calculations'!AR96,IF($C$122=\"RELATIVE\",'Vertical Calculations'!AR94,IF($C$122=\"BLOCKS\",'Vertical Calculations'!AR98,0)))","v":0},{"$f":"IF($C$122=\"FIXED\",'Vertical Calculations'!AS96,IF($C$122=\"RELATIVE\",'Vertical Calculations'!AS94,IF($C$122=\"BLOCKS\",'Vertical Calculations'!AS98,0)))","v":0},{"$f":"IF($C$122=\"FIXED\",'Vertical Calculations'!AT96,IF($C$122=\"RELATIVE\",'Vertical Calculations'!AT94,IF($C$122=\"BLOCKS\",'Vertical Calculations'!AT98,0)))","v":0},{"$f":"IF($C$122=\"FIXED\",'Vertical Calculations'!AU96,IF($C$122=\"RELATIVE\",'Vertical Calculations'!AU94,IF($C$122=\"BLOCKS\",'Vertical Calculations'!AU98,0)))","v":0},{"$f":"IF($C$122=\"FIXED\",'Vertical Calculations'!AV96,IF($C$122=\"RELATIVE\",'Vertical Calculations'!AV94,IF($C$122=\"BLOCKS\",'Vertical Calculations'!AV98,0)))","v":0},{"$f":"IF($C$122=\"FIXED\",'Vertical Calculations'!AW96,IF($C$122=\"RELATIVE\",'Vertical Calculations'!AW94,IF($C$122=\"BLOCKS\",'Vertical Calculations'!AW98,0)))","v":0},{"$f":"IF($C$122=\"FIXED\",'Vertical Calculations'!AX96,IF($C$122=\"RELATIVE\",'Vertical Calculations'!AX94,IF($C$122=\"BLOCKS\",'Vertical Calculations'!AX98,0)))","v":0},{"$f":"IF($C$122=\"FIXED\",'Vertical Calculations'!AY96,IF($C$122=\"RELATIVE\",'Vertical Calculations'!AY94,IF($C$122=\"BLOCKS\",'Vertical Calculations'!AY98,0)))","v":0},{"$f":"IF($C$122=\"FIXED\",'Vertical Calculations'!AZ96,IF($C$122=\"RELATIVE\",'Vertical Calculations'!AZ94,IF($C$122=\"BLOCKS\",'Vertical Calculations'!AZ98,0)))","v":0},{"$f":"IF($C$122=\"FIXED\",'Vertical Calculations'!BA96,IF($C$122=\"RELATIVE\",'Vertical Calculations'!BA94,IF($C$122=\"BLOCKS\",'Vertical Calculations'!BA98,0)))","v":0}]
[]
["LABEL 12"]
["QUANTITY"]
["WIDTH (mm)",{"$nulls":3},"","","","","","","","","","","","","","","","","","","","","","","","","","","","","","","","","","","","","","","","","","","","","","","","","",""]
["HEIGHT (mm)"]
["COLOUR","-- SELECT --",{"$f":"B128","v":0}]
["TEXT SIZE  (mm)","AUTO"]
["FIXING","-- SELECT --"]
[{"$nulls":4},"I","I","I","I","I","I","I","I","I","I","I","I","I","I","I","I","I","I","I","I","I","I","I","I","I","I","I","I","I","I","I","I","I","I","I","I","I","I","I","I","I","I","I","I","I","I","I","I","I","I"]
["HOLES REQUIRED",null,"-- SELECT --"]
["HOLE SIZE  (mm)",null,{"$f":"VLOOKUP(C133,'Background Information'!$O$1:$P$4,2,FALSE)","v":0},null,{"$f":"IF($C$133=\"FIXED\",'Vertical Calculations'!D105,IF($C$133=\"RELATIVE\",'Vertical Calculations'!D103,IF($C$133=\"BLOCKS\",'Vertical Calculations'!D107,0)))","v":0},{"$f":"IF($C$133=\"FIXED\",'Vertical Calculations'!E105,IF($C$133=\"RELATIVE\",'Vertical Calculations'!E103,IF($C$133=\"BLOCKS\",'Vertical Calculations'!E107,0)))","v":0},{"$f":"IF($C$133=\"FIXED\",'Vertical Calculations'!F105,IF($C$133=\"RELATIVE\",'Vertical Calculations'!F103,IF($C$133=\"BLOCKS\",'Vertical Calculations'!F107,0)))","v":0},{"$f":"IF($C$133=\"FIXED\",'Vertical Calculations'!G105,IF($C$133=\"RELATIVE\",'Vertical Calculations'!G103,IF($C$133=\"BLOCKS\",'Vertical Calculations'!G107,0)))","v":0},{"$f":"IF($C$133=\"FIXED\",'Vertical Calculations'!H105,IF($C$133=\"RELATIVE\",'Vertical Calculations'!H103,IF($C$133=\"BLOCKS\",'Vertical Calculations'!H107,0)))","v":0},{"$f":"IF($C$133=\"FIXED\",'Vertical Calculations'!I105,IF($C$133=\"RELATIVE\",'Vertical Calculations'!I103,IF($C$133=\"BLOCKS\",'Vertical Calculations'!I107,0)))","v":0},{"$f":"IF($C$133=\"FIXED\",'Vertical Calculations'!J105,IF($C$133=\"RELATIVE\",'Vertical Calculations'!J103,IF($C$133=\"BLOCKS\",'Vertical Calculations'!J107,0)))","v":0},{"$f":"IF($C$133=\"FIXED\",'Vertical Calculations'!K105,IF($C$133=\"RELATIVE\",'Vertical Calculations'!K103,IF($C$133=\"BLOCKS\",'Vertical Calculations'!K107,0)))","v":0},{"$f":"IF($C$133=\"FIXED\",'Vertical Calculations'!L105,IF($C$133=\"RELATIVE\",'Vertical Calculations'!L103,IF($C$133=\"BLOCKS\",'Vertical Calculations'!L107,0)))","v":0},{"$f":"IF($C$133=\"FIXED\",'Vertical Calculations'!M105,IF($C$133=\"RELATIVE\",'Vertical Calculations'!M103,IF($C$133=\"BLOCKS\",'Vertical Calculations'!M107,0)))","v":0},{"$f":"IF($C$133=\"FIXED\",'Vertical Calculations'!N105,IF($C$133=\"RELATIVE\",'Vertical Calculations'!N103,IF($C$133=\"BLOCKS\",'Vertical Calculations'!N107,0)))","v":0},{"$f":"IF($C$133=\"FIXED\",'Vertical Calculations'!O105,IF($C$133=\"RELATIVE\",'Vertical Calculations'!O103,IF($C$133=\"BLOCKS\",'Vertical Calculations'!O107,0)))","v":0},{"$f":"IF($C$133=\"FIXED\",'Vertical Calculations'!P105,IF($C$133=\"RELATIVE\",'Vertical Calculations'!P103,IF($C$133=\"BLOCKS\",'Vertical Calculations'!P107,0)))","v":0},{"$f":"IF($C$133=\"FIXED\",'Vertical Calculations'!Q105,IF($C$133=\"RELATIVE\",'Vertical Calculations'!Q103,IF($C$133=\"BLOCKS\",'Vertical Calculations'!Q107,0)))","v":0},{"$f":"IF($C$133=\"FIXED\",'Vertical Calculations'!R105,IF($C$133=\"RELATIVE\",'Vertical Calculations'!R103,IF($C$133=\"BLOCKS\",'Vertical Calculations'!R107,0)))","v":0},{"$f":"IF($C$133=\"FIXED\",'Vertical Calculations'!S105,IF($C$133=\"RELATIVE\",'Vertical Calculations'!S103,IF($C$133=\"BLOCKS\",'Vertical Calculations'!S107,0)))","v":0},{"$f":"IF($C$133=\"FIXED\",'Vertical Calculations'!T105,IF($C$133=\"RELATIVE\",'Vertical Calculations'!T103,IF($C$133=\"BLOCKS\",'Vertical Calculations'!T107,0)))","v":0},{"$f":"IF($C$133=\"FIXED\",'Vertical Calculations'!U105,IF($C$133=\"RELATIVE\",'Vertical Calculations'!U103,IF($C$133=\"BLOCKS\",'Vertical Calculations'!U107,0)))","v":0},{"$f":"IF($C$133=\"FIXED\",'Vertical Calculations'!V105,IF($C$133=\"RELATIVE\",'Vertical Calculations'!V103,IF($C$133=\"BLOCKS\",'Vertical Calculations'!V107,0)))","v":0},{"$f":"IF($C$133=\"FIXED\",'Vertical Calculations'!W105,IF($C$133=\"RELATIVE\",'Vertical Calculations'!W103,IF($C$133=\"BLOCKS\",'Vertical Calculations'!W107,0)))","v":0},{"$f":"IF($C$133=\"FIXED\",'Vertical Calculations'!X105,IF($C$133=\"RELATIVE\",'Vertical Calculations'!X103,IF($C$133=\"BLOCKS\",'Vertical Calculations'!X107,0)))","v":0},{"$f":"IF($C$133=\"FIXED\",'Vertical Calculations'!Y105,IF($C$133=\"RELATIVE\",'Vertical Calculations'!Y103,IF($C$133=\"BLOCKS\",'Vertical Calculations'!Y107,0)))","v":0},{"$f":"IF($C$133=\"FIXED\",'Vertical Calculations'!Z105,IF($C$133=\"RELATIVE\",'Vertical Calculations'!Z103,IF($C$133=\"BLOCKS\",'Vertical Calculations'!Z107,0)))","v":0},{"$f":"IF($C$133=\"FIXED\",'Vertical Calculations'!AA105,IF($C$133=\"RELATIVE\",'Vertical Calculations'!AA103,IF($C$133=\"BLOCKS\",'Vertical Calculations'!AA107,0)))","v":0},{"$f":"IF($C$133=\"FIXED\",'Vertical Calculations'!AB105,IF($C$133=\"RELATIVE\",'Vertical Calculations'!AB103,IF($C$133=\"BLOCKS\",'Vertical Calculations'!AB107,0)))","v":0},{"$f":"IF($C$133=\"FIXED\",'Vertical Calculations'!AC105,IF($C$133=\"RELATIVE\",'Vertical Calculations'!AC103,IF($C$133=\"BLOCKS\",'Vertical Calculations'!AC107,0)))","v":0},{"$f":"IF($C$133=\"FIXED\",'Vertical Calculations'!AD105,IF($C$133=\"RELATIVE\",'Vertical Calculations'!AD103,IF($C$133=\"BLOCKS\",'Vertical Calculations'!AD107,0)))","v":0},{"$f":"IF($C$133=\"FIXED\",'Vertical Calculations'!AE105,IF($C$133=\"RELATIVE\",'Vertical Calculations'!AE103,IF($C$133=\"BLOCKS\",'Vertical Calculations'!AE107,0)))","v":0},{"$f":"IF($C$133=\"FIXED\",'Vertical Calculations'!AF105,IF($C$133=\"RELATIVE\",'Vertical Calculations'!AF103,IF($C$133=\"BLOCKS\",'Vertical Calculations'!AF107,0)))","v":0},{"$f":"IF($C$133=\"FIXED\",'Vertical Calculations'!AG105,IF($C$133=\"RELATIVE\",'Vertical Calculations'!AG103,IF($C$133=\"BLOCKS\",'Vertical Calculations'!AG107,0)))","v":0},{"$f":"IF($C$133=\"FIXED\",'Vertical Calculations'!AH105,IF($C$133=\"RELATIVE\",'Vertical Calculations'!AH103,IF($C$133=\"BLOCKS\",'Vertical Calculations'!AH107,0)))","v":0},{"$f":"IF($C$133=\"FIXED\",'Vertical Calculations'!AI105,IF($C$133=\"RELATIVE\",'Vertical Calculations'!AI103,IF($C$133=\"BLOCKS\",'Vertical Calculations'!AI107,0)))","v":0},{"$f":"IF($C$133=\"FIXED\",'Vertical Calculations'!AJ105,IF($C$133=\"RELATIVE\",'Vertical Calculations'!AJ103,IF($C$133=\"BLOCKS\",'Vertical Calculations'!AJ107,0)))","v":0},{"$f":"IF($C$133=\"FIXED\",'Vertical Calculations'!AK105,IF($C$133=\"RELATIVE\",'Vertical Calculations'!AK103,IF($C$133=\"BLOCKS\",'Vertical Calculations'!AK107,0)))","v":0},{"$f":"IF($C$133=\"FIXED\",'Vertical Calculations'!AL105,IF($C$133=\"RELATIVE\",'Vertical Calculations'!AL103,IF($C$133=\"BLOCKS\",'Vertical Calculations'!AL107,0)))","v":0},{"$f":"IF($C$133=\"FIXED\",'Vertical Calculations'!AM105,IF($C$133=\"RELATIVE\",'Vertical Calculations'!AM103,IF($C$133=\"BLOCKS\",'Vertical Calculations'!AM107,0)))","v":0},{"$f":"IF($C$133=\"FIXED\",'Vertical Calculations'!AN105,IF($C$133=\"RELATIVE\",'Vertical Calculations'!AN103,IF($C$133=\"BLOCKS\",'Vertical Calculations'!AN107,0)))","v":0},{"$f":"IF($C$133=\"FIXED\",'Vertical Calculations'!AO105,IF($C$133=\"RELATIVE\",'Vertical Calculations'!AO103,IF($C$133=\"BLOCKS\",'Vertical Calculations'!AO107,0)))","v":0},{"$f":"IF($C$133=\"FIXED\",'Vertical Calculations'!AP105,IF($C$133=\"RELATIVE\",'Vertical Calculations'!AP103,IF($C$133=\"BLOCKS\",'Vertical Calculations'!AP107,0)))","v":0},{"$f":"IF($C$133=\"FIXED\",'Vertical Calculations'!AQ105,IF($C$133=\"RELATIVE\",'Vertical Calculations'!AQ103,IF($C$133=\"BLOCKS\",'Vertical Calculations'!AQ107,0)))","v":0},{"$f":"IF($C$133=\"FIXED\",'Vertical Calculations'!AR105,IF($C$133=\"RELATIVE\",'Vertical Calculations'!AR103,IF($C$133=\"BLOCKS\",'Vertical Calculations'!AR107,0)))","v":0},{"$f":"IF($C$133=\"FIXED\",'Vertical Calculations'!AS105,IF($C$133=\"RELATIVE\",'Vertical Calculations'!AS103,IF($C$133=\"BLOCKS\",'Vertical Calculations'!AS107,0)))","v":0},{"$f":"IF($C$133=\"FIXED\",'Vertical Calculations'!AT105,IF($C$133=\"RELATIVE\",'Vertical Calculations'!AT103,IF($C$133=\"BLOCKS\",'Vertical Calculations'!AT107,0)))","v":0},{"$f":"IF($C$133=\"FIXED\",'Vertical Calculations'!AU105,IF($C$133=\"RELATIVE\",'Vertical Calculations'!AU103,IF($C$133=\"BLOCKS\",'Vertical Calculations'!AU107,0)))","v":0},{"$f":"IF($C$133=\"FIXED\",'Vertical Calculations'!AV105,IF($C$133=\"RELATIVE\",'Vertical Calculations'!AV103,IF($C$133=\"BLOCKS\",'Vertical Calculations'!AV107,0)))","v":0},{"$f":"IF($C$133=\"FIXED\",'Vertical Calculations'!AW105,IF($C$133=\"RELATIVE\",'Vertical Calculations'!AW103,IF($C$133=\"BLOCKS\",'Vertical Calculations'!AW107,0)))","v":0},{"$f":"IF($C$133=\"FIXED\",'Vertical Calculations'!AX105,IF($C$133=\"RELATIVE\",'Vertical Calculations'!AX103,IF($C$133=\"BLOCKS\",'Vertical Calculations'!AX107,0)))","v":0},{"$f":"IF($C$133=\"FIXED\",'Vertical Calculations'!AY105,IF($C$133=\"RELATIVE\",'Vertical Calculations'!AY103,IF($C$133=\"BLOCKS\",'Vertical Calculations'!AY107,0)))","v":0},{"$f":"IF($C$133=\"FIXED\",'Vertical Calculations'!AZ105,IF($C$133=\"RELATIVE\",'Vertical Calculations'!AZ103,IF($C$133=\"BLOCKS\",'Vertical Calculations'!AZ107,0)))","v":0},{"$f":"IF($C$133=\"FIXED\",'Vertical Calculations'!BA105,IF($C$133=\"RELATIVE\",'Vertical Calculations'!BA103,IF($C$133=\"BLOCKS\",'Vertical Calculations'!BA107,0)))","v":0}]
[]
["LABEL 13"]
["QUANTITY"]
["WIDTH (mm)",{"$nulls":3},"","","","","","","","","","","","","","","","","","","","","","","","","","","","","","","","","","","","","","","","","","","","","","","","","",""]
["HEIGHT (mm)"]
["COLOUR","-- SELECT --",{"$f":"B139","v":0}]
["TEXT SIZE  (mm)","AUTO"]
["FIXING","-- SELECT --"]
[{"$nulls":4},"I","I","I","I","I","I","I","I","I","I","I","I","I","I","I","I","I","I","I","I","I","I","I","I","I","I","I","I","I","I","I","I","I","I","I","I","I","I","I","I","I","I","I","I","I","I","I","I","I","I"]
["HOLES REQUIRED",null,"-- SELECT --"]
["HOLE SIZE  (mm)",null,{"$f":"VLOOKUP(C144,'Background Information'!$O$1:$P$4,2,FALSE)","v":0},null,{"$f":"IF($C$144=\"FIXED\",'Vertical Calculations'!D114,IF($C$144=\"RELATIVE\",'Vertical Calculations'!D112,IF($C$144=\"BLOCKS\",'Vertical Calculations'!D116,0)))","v":0},{"$f":"IF($C$144=\"FIXED\",'Vertical Calculations'!E114,IF($C$144=\"RELATIVE\",'Vertical Calculations'!E112,IF($C$144=\"BLOCKS\",'Vertical Calculations'!E116,0)))","v":0},{"$f":"IF($C$144=\"FIXED\",'Vertical Calculations'!F114,IF($C$144=\"RELATIVE\",'Vertical Calculations'!F112,IF($C$144=\"BLOCKS\",'Vertical Calculations'!F116,0)))","v":0},{"$f":"IF($C$144=\"FIXED\",'Vertical Calculations'!G114,IF($C$144=\"RELATIVE\",'Vertical Calculations'!G112,IF($C$144=\"BLOCKS\",'Vertical Calculations'!G116,0)))","v":0},{"$f":"IF($C$144=\"FIXED\",'Vertical Calculations'!H114,IF($C$144=\"RELATIVE\",'Vertical Calculations'!H112,IF($C$144=\"BLOCKS\",'Vertical Calculations'!H116,0)))","v":0},{"$f":"IF($C$144=\"FIXED\",'Vertical Calculations'!I114,IF($C$144=\"RELATIVE\",'Vertical Calculations'!I112,IF($C$144=\"BLOCKS\",'Vertical Calculations'!I116,0)))","v":0},{"$f":"IF($C$144=\"FIXED\",'Vertical Calculations'!J114,IF($C$144=\"RELATIVE\",'Vertical Calculations'!J112,IF($C$144=\"BLOCKS\",'Vertical Calculations'!J116,0)))","v":0},{"$f":"IF($C$144=\"FIXED\",'Vertical Calculations'!K114,IF($C$144=\"RELATIVE\",'Vertical Calculations'!K112,IF($C$144=\"BLOCKS\",'Vertical Calculations'!K116,0)))","v":0},{"$f":"IF($C$144=\"FIXED\",'Vertical Calculations'!L114,IF($C$144=\"RELATIVE\",'Vertical Calculations'!L112,IF($C$144=\"BLOCKS\",'Vertical Calculations'!L116,0)))","v":0},{"$f":"IF($C$144=\"FIXED\",'Vertical Calculations'!M114,IF($C$144=\"RELATIVE\",'Vertical Calculations'!M112,IF($C$144=\"BLOCKS\",'Vertical Calculations'!M116,0)))","v":0},{"$f":"IF($C$144=\"FIXED\",'Vertical Calculations'!N114,IF($C$144=\"RELATIVE\",'Vertical Calculations'!N112,IF($C$144=\"BLOCKS\",'Vertical Calculations'!N116,0)))","v":0},{"$f":"IF($C$144=\"FIXED\",'Vertical Calculations'!O114,IF($C$144=\"RELATIVE\",'Vertical Calculations'!O112,IF($C$144=\"BLOCKS\",'Vertical Calculations'!O116,0)))","v":0},{"$f":"IF($C$144=\"FIXED\",'Vertical Calculations'!P114,IF($C$144=\"RELATIVE\",'Vertical Calculations'!P112,IF($C$144=\"BLOCKS\",'Vertical Calculations'!P116,0)))","v":0},{"$f":"IF($C$144=\"FIXED\",'Vertical Calculations'!Q114,IF($C$144=\"RELATIVE\",'Vertical Calculations'!Q112,IF($C$144=\"BLOCKS\",'Vertical Calculations'!Q116,0)))","v":0},{"$f":"IF($C$144=\"FIXED\",'Vertical Calculations'!R114,IF($C$144=\"RELATIVE\",'Vertical Calculations'!R112,IF($C$144=\"BLOCKS\",'Vertical Calculations'!R116,0)))","v":0},{"$f":"IF($C$144=\"FIXED\",'Vertical Calculations'!S114,IF($C$144=\"RELATIVE\",'Vertical Calculations'!S112,IF($C$144=\"BLOCKS\",'Vertical Calculations'!S116,0)))","v":0},{"$f":"IF($C$144=\"FIXED\",'Vertical Calculations'!T114,IF($C$144=\"RELATIVE\",'Vertical Calculations'!T112,IF($C$144=\"BLOCKS\",'Vertical Calculations'!T116,0)))","v":0},{"$f":"IF($C$144=\"FIXED\",'Vertical Calculations'!U114,IF($C$144=\"RELATIVE\",'Vertical Calculations'!U112,IF($C$144=\"BLOCKS\",'Vertical Calculations'!U116,0)))","v":0},{"$f":"IF($C$144=\"FIXED\",'Vertical Calculations'!V114,IF($C$144=\"RELATIVE\",'Vertical Calculations'!V112,IF($C$144=\"BLOCKS\",'Vertical Calculations'!V116,0)))","v":0},{"$f":"IF($C$144=\"FIXED\",'Vertical Calculations'!W114,IF($C$144=\"RELATIVE\",'Vertical Calculations'!W112,IF($C$144=\"BLOCKS\",'Vertical Calculations'!W116,0)))","v":0},{"$f":"IF($C$144=\"FIXED\",'Vertical Calculations'!X114,IF($C$144=\"RELATIVE\",'Vertical Calculations'!X112,IF($C$144=\"BLOCKS\",'Vertical Calculations'!X116,0)))","v":0},{"$f":"IF($C$144=\"FIXED\",'Vertical Calculations'!Y114,IF($C$144=\"RELATIVE\",'Vertical Calculations'!Y112,IF($C$144=\"BLOCKS\",'Vertical Calculations'!Y116,0)))","v":0},{"$f":"IF($C$144=\"FIXED\",'Vertical Calculations'!Z114,IF($C$144=\"RELATIVE\",'Vertical Calculations'!Z112,IF($C$144=\"BLOCKS\",'Vertical Calculations'!Z116,0)))","v":0},{"$f":"IF($C$144=\"FIXED\",'Vertical Calculations'!AA114,IF($C$144=\"RELATIVE\",'Vertical Calculations'!AA112,IF($C$144=\"BLOCKS\",'Vertical Calculations'!AA116,0)))","v":0},{"$f":"IF($C$144=\"FIXED\",'Vertical Calculations'!AB114,IF($C$144=\"RELATIVE\",'Vertical Calculations'!AB112,IF($C$144=\"BLOCKS\",'Vertical Calculations'!AB116,0)))","v":0},{"$f":"IF($C$144=\"FIXED\",'Vertical Calculations'!AC114,IF($C$144=\"RELATIVE\",'Vertical Calculations'!AC112,IF($C$144=\"BLOCKS\",'Vertical Calculations'!AC116,0)))","v":0},{"$f":"IF($C$144=\"FIXED\",'Vertical Calculations'!AD114,IF($C$144=\"RELATIVE\",'Vertical Calculations'!AD112,IF($C$144=\"BLOCKS\",'Vertical Calculations'!AD116,0)))","v":0},{"$f":"IF($C$144=\"FIXED\",'Vertical Calculations'!AE114,IF($C$144=\"RELATIVE\",'Vertical Calculations'!AE112,IF($C$144=\"BLOCKS\",'Vertical Calculations'!AE116,0)))","v":0},{"$f":"IF($C$144=\"FIXED\",'Vertical Calculations'!AF114,IF($C$144=\"RELATIVE\",'Vertical Calculations'!AF112,IF($C$144=\"BLOCKS\",'Vertical Calculations'!AF116,0)))","v":0},{"$f":"IF($C$144=\"FIXED\",'Vertical Calculations'!AG114,IF($C$144=\"RELATIVE\",'Vertical Calculations'!AG112,IF($C$144=\"BLOCKS\",'Vertical Calculations'!AG116,0)))","v":0},{"$f":"IF($C$144=\"FIXED\",'Vertical Calculations'!AH114,IF($C$144=\"RELATIVE\",'Vertical Calculations'!AH112,IF($C$144=\"BLOCKS\",'Vertical Calculations'!AH116,0)))","v":0},{"$f":"IF($C$144=\"FIXED\",'Vertical Calculations'!AI114,IF($C$144=\"RELATIVE\",'Vertical Calculations'!AI112,IF($C$144=\"BLOCKS\",'Vertical Calculations'!AI116,0)))","v":0},{"$f":"IF($C$144=\"FIXED\",'Vertical Calculations'!AJ114,IF($C$144=\"RELATIVE\",'Vertical Calculations'!AJ112,IF($C$144=\"BLOCKS\",'Vertical Calculations'!AJ116,0)))","v":0},{"$f":"IF($C$144=\"FIXED\",'Vertical Calculations'!AK114,IF($C$144=\"RELATIVE\",'Vertical Calculations'!AK112,IF($C$144=\"BLOCKS\",'Vertical Calculations'!AK116,0)))","v":0},{"$f":"IF($C$144=\"FIXED\",'Vertical Calculations'!AL114,IF($C$144=\"RELATIVE\",'Vertical Calculations'!AL112,IF($C$144=\"BLOCKS\",'Vertical Calculations'!AL116,0)))","v":0},{"$f":"IF($C$144=\"FIXED\",'Vertical Calculations'!AM114,IF($C$144=\"RELATIVE\",'Vertical Calculations'!AM112,IF($C$144=\"BLOCKS\",'Vertical Calculations'!AM116,0)))","v":0},{"$f":"IF($C$144=\"FIXED\",'Vertical Calculations'!AN114,IF($C$144=\"RELATIVE\",'Vertical Calculations'!AN112,IF($C$144=\"BLOCKS\",'Vertical Calculations'!AN116,0)))","v":0},{"$f":"IF($C$144=\"FIXED\",'Vertical Calculations'!AO114,IF($C$144=\"RELATIVE\",'Vertical Calculations'!AO112,IF($C$144=\"BLOCKS\",'Vertical Calculations'!AO116,0)))","v":0},{"$f":"IF($C$144=\"FIXED\",'Vertical Calculations'!AP114,IF($C$144=\"RELATIVE\",'Vertical Calculations'!AP112,IF($C$144=\"BLOCKS\",'Vertical Calculations'!AP116,0)))","v":0},{"$f":"IF($C$144=\"FIXED\",'Vertical Calculations'!AQ114,IF($C$144=\"RELATIVE\",'Vertical Calculations'!AQ112,IF($C$144=\"BLOCKS\",'Vertical Calculations'!AQ116,0)))","v":0},{"$f":"IF($C$144=\"FIXED\",'Vertical Calculations'!AR114,IF($C$144=\"RELATIVE\",'Vertical Calculations'!AR112,IF($C$144=\"BLOCKS\",'Vertical Calculations'!AR116,0)))","v":0},{"$f":"IF($C$144=\"FIXED\",'Vertical Calculations'!AS114,IF($C$144=\"RELATIVE\",'Vertical Calculations'!AS112,IF($C$144=\"BLOCKS\",'Vertical Calculations'!AS116,0)))","v":0},{"$f":"IF($C$144=\"FIXED\",'Vertical Calculations'!AT114,IF($C$144=\"RELATIVE\",'Vertical Calculations'!AT112,IF($C$144=\"BLOCKS\",'Vertical Calculations'!AT116,0)))","v":0},{"$f":"IF($C$144=\"FIXED\",'Vertical Calculations'!AU114,IF($C$144=\"RELATIVE\",'Vertical Calculations'!AU112,IF($C$144=\"BLOCKS\",'Vertical Calculations'!AU116,0)))","v":0},{"$f":"IF($C$144=\"FIXED\",'Vertical Calculations'!AV114,IF($C$144=\"RELATIVE\",'Vertical Calculations'!AV112,IF($C$144=\"BLOCKS\",'Vertical Calculations'!AV116,0)))","v":0},{"$f":"IF($C$144=\"FIXED\",'Vertical Calculations'!AW114,IF($C$144=\"RELATIVE\",'Vertical Calculations'!AW112,IF($C$144=\"BLOCKS\",'Vertical Calculations'!AW116,0)))","v":0},{"$f":"IF($C$144=\"FIXED\",'Vertical Calculations'!AX114,IF($C$144=\"RELATIVE\",'Vertical Calculations'!AX112,IF($C$144=\"BLOCKS\",'Vertical Calculations'!AX116,0)))","v":0},{"$f":"IF($C$144=\"FIXED\",'Vertical Calculations'!AY114,IF($C$144=\"RELATIVE\",'Vertical Calculations'!AY112,IF($C$144=\"BLOCKS\",'Vertical Calculations'!AY116,0)))","v":0},{"$f":"IF($C$144=\"FIXED\",'Vertical Calculations'!AZ114,IF($C$144=\"RELATIVE\",'Vertical Calculations'!AZ112,IF($C$144=\"BLOCKS\",'Vertical Calculations'!AZ116,0)))","v":0},{"$f":"IF($C$144=\"FIXED\",'Vertical Calculations'!BA114,IF($C$144=\"RELATIVE\",'Vertical Calculations'!BA112,IF($C$144=\"BLOCKS\",'Vertical Calculations'!BA116,0)))","v":0}]
[]
["LABEL 14"]
["QUANTITY"]
["WIDTH (mm)",{"$nulls":3},"","","","","","","","","","","","","","","","","","","","","","","","","","","","","","","","","","","","","","","","","","","","","","","","","",""]
["HEIGHT (mm)"]
["COLOUR","-- SELECT --",{"$f":"B150","v":0}]
["TEXT SIZE  (mm)","AUTO"]
["FIXING","-- SELECT --"]
[{"$nulls":4},"I","I","I","I","I","I","I","I","I","I","I","I","I","I","I","I","I","I","I","I","I","I","I","I","I","I","I","I","I","I","I","I","I","I","I","I","I","I","I","I","I","I","I","I","I","I","I","I","I","I"]
["HOLES REQUIRED",null,"-- SELECT --"]
["HOLE SIZE  (mm)",null,{"$f":"VLOOKUP(C155,'Background Information'!$O$1:$P$4,2,FALSE)","v":0},null,{"$f":"IF($C$155=\"FIXED\",'Vertical Calculations'!D123,IF($C$155=\"RELATIVE\",'Vertical Calculations'!D121,IF($C$155=\"BLOCKS\",'Vertical Calculations'!D125,0)))","v":0},{"$f":"IF($C$155=\"FIXED\",'Vertical Calculations'!E123,IF($C$155=\"RELATIVE\",'Vertical Calculations'!E121,IF($C$155=\"BLOCKS\",'Vertical Calculations'!E125,0)))","v":0},{"$f":"IF($C$155=\"FIXED\",'Vertical Calculations'!F123,IF($C$155=\"RELATIVE\",'Vertical Calculations'!F121,IF($C$155=\"BLOCKS\",'Vertical Calculations'!F125,0)))","v":0},{"$f":"IF($C$155=\"FIXED\",'Vertical Calculations'!G123,IF($C$155=\"RELATIVE\",'Vertical Calculations'!G121,IF($C$155=\"BLOCKS\",'Vertical Calculations'!G125,0)))","v":0},{"$f":"IF($C$155=\"FIXED\",'Vertical Calculations'!H123,IF($C$155=\"RELATIVE\",'Vertical Calculations'!H121,IF($C$155=\"BLOCKS\",'Vertical Calculations'!H125,0)))","v":0},{"$f":"IF($C$155=\"FIXED\",'Vertical Calculations'!I123,IF($C$155=\"RELATIVE\",'Vertical Calculations'!I121,IF($C$155=\"BLOCKS\",'Vertical Calculations'!I125,0)))","v":0},{"$f":"IF($C$155=\"FIXED\",'Vertical Calculations'!J123,IF($C$155=\"RELATIVE\",'Vertical Calculations'!J121,IF($C$155=\"BLOCKS\",'Vertical Calculations'!J125,0)))","v":0},{"$f":"IF($C$155=\"FIXED\",'Vertical Calculations'!K123,IF($C$155=\"RELATIVE\",'Vertical Calculations'!K121,IF($C$155=\"BLOCKS\",'Vertical Calculations'!K125,0)))","v":0},{"$f":"IF($C$155=\"FIXED\",'Vertical Calculations'!L123,IF($C$155=\"RELATIVE\",'Vertical Calculations'!L121,IF($C$155=\"BLOCKS\",'Vertical Calculations'!L125,0)))","v":0},{"$f":"IF($C$155=\"FIXED\",'Vertical Calculations'!M123,IF($C$155=\"RELATIVE\",'Vertical Calculations'!M121,IF($C$155=\"BLOCKS\",'Vertical Calculations'!M125,0)))","v":0},{"$f":"IF($C$155=\"FIXED\",'Vertical Calculations'!N123,IF($C$155=\"RELATIVE\",'Vertical Calculations'!N121,IF($C$155=\"BLOCKS\",'Vertical Calculations'!N125,0)))","v":0},{"$f":"IF($C$155=\"FIXED\",'Vertical Calculations'!O123,IF($C$155=\"RELATIVE\",'Vertical Calculations'!O121,IF($C$155=\"BLOCKS\",'Vertical Calculations'!O125,0)))","v":0},{"$f":"IF($C$155=\"FIXED\",'Vertical Calculations'!P123,IF($C$155=\"RELATIVE\",'Vertical Calculations'!P121,IF($C$155=\"BLOCKS\",'Vertical Calculations'!P125,0)))","v":0},{"$f":"IF($C$155=\"FIXED\",'Vertical Calculations'!Q123,IF($C$155=\"RELATIVE\",'Vertical Calculations'!Q121,IF($C$155=\"BLOCKS\",'Vertical Calculations'!Q125,0)))","v":0},{"$f":"IF($C$155=\"FIXED\",'Vertical Calculations'!R123,IF($C$155=\"RELATIVE\",'Vertical Calculations'!R121,IF($C$155=\"BLOCKS\",'Vertical Calculations'!R125,0)))","v":0},{"$f":"IF($C$155=\"FIXED\",'Vertical Calculations'!S123,IF($C$155=\"RELATIVE\",'Vertical Calculations'!S121,IF($C$155=\"BLOCKS\",'Vertical Calculations'!S125,0)))","v":0},{"$f":"IF($C$155=\"FIXED\",'Vertical Calculations'!T123,IF($C$155=\"RELATIVE\",'Vertical Calculations'!T121,IF($C$155=\"BLOCKS\",'Vertical Calculations'!T125,0)))","v":0},{"$f":"IF($C$155=\"FIXED\",'Vertical Calculations'!U123,IF($C$155=\"RELATIVE\",'Vertical Calculations'!U121,IF($C$155=\"BLOCKS\",'Vertical Calculations'!U125,0)))","v":0},{"$f":"IF($C$155=\"FIXED\",'Vertical Calculations'!V123,IF($C$155=\"RELATIVE\",'Vertical Calculations'!V121,IF($C$155=\"BLOCKS\",'Vertical Calculations'!V125,0)))","v":0},{"$f":"IF($C$155=\"FIXED\",'Vertical Calculations'!W123,IF($C$155=\"RELATIVE\",'Vertical Calculations'!W121,IF($C$155=\"BLOCKS\",'Vertical Calculations'!W125,0)))","v":0},{"$f":"IF($C$155=\"FIXED\",'Vertical Calculations'!X123,IF($C$155=\"RELATIVE\",'Vertical Calculations'!X121,IF($C$155=\"BLOCKS\",'Vertical Calculations'!X125,0)))","v":0},{"$f":"IF($C$155=\"FIXED\",'Vertical Calculations'!Y123,IF($C$155=\"RELATIVE\",'Vertical Calculations'!Y121,IF($C$155=\"BLOCKS\",'Vertical Calculations'!Y125,0)))","v":0},{"$f":"IF($C$155=\"FIXED\",'Vertical Calculations'!Z123,IF($C$155=\"RELATIVE\",'Vertical Calculations'!Z121,IF($C$155=\"BLOCKS\",'Vertical Calculations'!Z125,0)))","v":0},{"$f":"IF($C$155=\"FIXED\",'Vertical Calculations'!AA123,IF($C$155=\"RELATIVE\",'Vertical Calculations'!AA121,IF($C$155=\"BLOCKS\",'Vertical Calculations'!AA125,0)))","v":0},{"$f":"IF($C$155=\"FIXED\",'Vertical Calculations'!AB123,IF($C$155=\"RELATIVE\",'Vertical Calculations'!AB121,IF($C$155=\"BLOCKS\",'Vertical Calculations'!AB125,0)))","v":0},{"$f":"IF($C$155=\"FIXED\",'Vertical Calculations'!AC123,IF($C$155=\"RELATIVE\",'Vertical Calculations'!AC121,IF($C$155=\"BLOCKS\",'Vertical Calculations'!AC125,0)))","v":0},{"$f":"IF($C$155=\"FIXED\",'Vertical Calculations'!AD123,IF($C$155=\"RELATIVE\",'Vertical Calculations'!AD121,IF($C$155=\"BLOCKS\",'Vertical Calculations'!AD125,0)))","v":0},{"$f":"IF($C$155=\"FIXED\",'Vertical Calculations'!AE123,IF($C$155=\"RELATIVE\",'Vertical Calculations'!AE121,IF($C$155=\"BLOCKS\",'Vertical Calculations'!AE125,0)))","v":0},{"$f":"IF($C$155=\"FIXED\",'Vertical Calculations'!AF123,IF($C$155=\"RELATIVE\",'Vertical Calculations'!AF121,IF($C$155=\"BLOCKS\",'Vertical Calculations'!AF125,0)))","v":0},{"$f":"IF($C$155=\"FIXED\",'Vertical Calculations'!AG123,IF($C$155=\"RELATIVE\",'Vertical Calculations'!AG121,IF($C$155=\"BLOCKS\",'Vertical Calculations'!AG125,0)))","v":0},{"$f":"IF($C$155=\"FIXED\",'Vertical Calculations'!AH123,IF($C$155=\"RELATIVE\",'Vertical Calculations'!AH121,IF($C$155=\"BLOCKS\",'Vertical Calculations'!AH125,0)))","v":0},{"$f":"IF($C$155=\"FIXED\",'Vertical Calculations'!AI123,IF($C$155=\"RELATIVE\",'Vertical Calculations'!AI121,IF($C$155=\"BLOCKS\",'Vertical Calculations'!AI125,0)))","v":0},{"$f":"IF($C$155=\"FIXED\",'Vertical Calculations'!AJ123,IF($C$155=\"RELATIVE\",'Vertical Calculations'!AJ121,IF($C$155=\"BLOCKS\",'Vertical Calculations'!AJ125,0)))","v":0},{"$f":"IF($C$155=\"FIXED\",'Vertical Calculations'!AK123,IF($C$155=\"RELATIVE\",'Vertical Calculations'!AK121,IF($C$155=\"BLOCKS\",'Vertical Calculations'!AK125,0)))","v":0},{"$f":"IF($C$155=\"FIXED\",'Vertical Calculations'!AL123,IF($C$155=\"RELATIVE\",'Vertical Calculations'!AL121,IF($C$155=\"BLOCKS\",'Vertical Calculations'!AL125,0)))","v":0},{"$f":"IF($C$155=\"FIXED\",'Vertical Calculations'!AM123,IF($C$155=\"RELATIVE\",'Vertical Calculations'!AM121,IF($C$155=\"BLOCKS\",'Vertical Calculations'!AM125,0)))","v":0},{"$f":"IF($C$155=\"FIXED\",'Vertical Calculations'!AN123,IF($C$155=\"RELATIVE\",'Vertical Calculations'!AN121,IF($C$155=\"BLOCKS\",'Vertical Calculations'!AN125,0)))","v":0},{"$f":"IF($C$155=\"FIXED\",'Vertical Calculations'!AO123,IF($C$155=\"RELATIVE\",'Vertical Calculations'!AO121,IF($C$155=\"BLOCKS\",'Vertical Calculations'!AO125,0)))","v":0},{"$f":"IF($C$155=\"FIXED\",'Vertical Calculations'!AP123,IF($C$155=\"RELATIVE\",'Vertical Calculations'!AP121,IF($C$155=\"BLOCKS\",'Vertical Calculations'!AP125,0)))","v":0},{"$f":"IF($C$155=\"FIXED\",'Vertical Calculations'!AQ123,IF($C$155=\"RELATIVE\",'Vertical Calculations'!AQ121,IF($C$155=\"BLOCKS\",'Vertical Calculations'!AQ125,0)))","v":0},{"$f":"IF($C$155=\"FIXED\",'Vertical Calculations'!AR123,IF($C$155=\"RELATIVE\",'Vertical Calculations'!AR121,IF($C$155=\"BLOCKS\",'Vertical Calculations'!AR125,0)))","v":0},{"$f":"IF($C$155=\"FIXED\",'Vertical Calculations'!AS123,IF($C$155=\"RELATIVE\",'Vertical Calculations'!AS121,IF($C$155=\"BLOCKS\",'Vertical Calculations'!AS125,0)))","v":0},{"$f":"IF($C$155=\"FIXED\",'Vertical Calculations'!AT123,IF($C$155=\"RELATIVE\",'Vertical Calculations'!AT121,IF($C$155=\"BLOCKS\",'Vertical Calculations'!AT125,0)))","v":0},{"$f":"IF($C$155=\"FIXED\",'Vertical Calculations'!AU123,IF($C$155=\"RELATIVE\",'Vertical Calculations'!AU121,IF($C$155=\"BLOCKS\",'Vertical Calculations'!AU125,0)))","v":0},{"$f":"IF($C$155=\"FIXED\",'Vertical Calculations'!AV123,IF($C$155=\"RELATIVE\",'Vertical Calculations'!AV121,IF($C$155=\"BLOCKS\",'Vertical Calculations'!AV125,0)))","v":0},{"$f":"IF($C$155=\"FIXED\",'Vertical Calculations'!AW123,IF($C$155=\"RELATIVE\",'Vertical Calculations'!AW121,IF($C$155=\"BLOCKS\",'Vertical Calculations'!AW125,0)))","v":0},{"$f":"IF($C$155=\"FIXED\",'Vertical Calculations'!AX123,IF($C$155=\"RELATIVE\",'Vertical Calculations'!AX121,IF($C$155=\"BLOCKS\",'Vertical Calculations'!AX125,0)))","v":0},{"$f":"IF($C$155=\"FIXED\",'Vertical Calculations'!AY123,IF($C$155=\"RELATIVE\",'Vertical Calculations'!AY121,IF($C$155=\"BLOCKS\",'Vertical Calculations'!AY125,0)))","v":0},{"$f":"IF($C$155=\"FIXED\",'Vertical Calculations'!AZ123,IF($C$155=\"RELATIVE\",'Vertical Calculations'!AZ121,IF($C$155=\"BLOCKS\",'Vertical Calculations'!AZ125,0)))","v":0},{"$f":"IF($C$155=\"FIXED\",'Vertical Calculations'!BA123,IF($C$155=\"RELATIVE\",'Vertical Calculations'!BA121,IF($C$155=\"BLOCKS\",'Vertical Calculations'!BA125,0)))","v":0}]
[]
["LABEL 15"]
["QUANTITY"]
["WIDTH (mm)",{"$nulls":3},"","","","","","","","","","","","","","","","","","","","","","","","","","","","","","","","","","","","","","","","","","","","","","","","","",""]
["HEIGHT (mm)"]
["COLOUR","-- SELECT --",{"$f":"B161","v":0}]
["TEXT SIZE  (mm)","AUTO"]
["FIXING","-- SELECT --"]
[{"$nulls":4},"I","I","I","I","I","I","I","I","I","I","I","I","I","I","I","I","I","I","I","I","I","I","I","I","I","I","I","I","I","I","I","I","I","I","I","I","I","I","I","I","I","I","I","I","I","I","I","I","I","I"]
["HOLES REQUIRED",null,"-- SELECT --"]
["HOLE SIZE  (mm)",null,{"$f":"VLOOKUP(C166,'Background Information'!$O$1:$P$4,2,FALSE)","v":0},null,{"$f":"IF($C$166=\"FIXED\",'Vertical Calculations'!D132,IF($C$166=\"RELATIVE\",'Vertical Calculations'!D130,IF($C$166=\"BLOCKS\",'Vertical Calculations'!D134,0)))","v":0},{"$f":"IF($C$166=\"FIXED\",'Vertical Calculations'!E132,IF($C$166=\"RELATIVE\",'Vertical Calculations'!E130,IF($C$166=\"BLOCKS\",'Vertical Calculations'!E134,0)))","v":0},{"$f":"IF($C$166=\"FIXED\",'Vertical Calculations'!F132,IF($C$166=\"RELATIVE\",'Vertical Calculations'!F130,IF($C$166=\"BLOCKS\",'Vertical Calculations'!F134,0)))","v":0},{"$f":"IF($C$166=\"FIXED\",'Vertical Calculations'!G132,IF($C$166=\"RELATIVE\",'Vertical Calculations'!G130,IF($C$166=\"BLOCKS\",'Vertical Calculations'!G134,0)))","v":0},{"$f":"IF($C$166=\"FIXED\",'Vertical Calculations'!H132,IF($C$166=\"RELATIVE\",'Vertical Calculations'!H130,IF($C$166=\"BLOCKS\",'Vertical Calculations'!H134,0)))","v":0},{"$f":"IF($C$166=\"FIXED\",'Vertical Calculations'!I132,IF($C$166=\"RELATIVE\",'Vertical Calculations'!I130,IF($C$166=\"BLOCKS\",'Vertical Calculations'!I134,0)))","v":0},{"$f":"IF($C$166=\"FIXED\",'Vertical Calculations'!J132,IF($C$166=\"RELATIVE\",'Vertical Calculations'!J130,IF($C$166=\"BLOCKS\",'Vertical Calculations'!J134,0)))","v":0},{"$f":"IF($C$166=\"FIXED\",'Vertical Calculations'!K132,IF($C$166=\"RELATIVE\",'Vertical Calculations'!K130,IF($C$166=\"BLOCKS\",'Vertical Calculations'!K134,0)))","v":0},{"$f":"IF($C$166=\"FIXED\",'Vertical Calculations'!L132,IF($C$166=\"RELATIVE\",'Vertical Calculations'!L130,IF($C$166=\"BLOCKS\",'Vertical Calculations'!L134,0)))","v":0},{"$f":"IF($C$166=\"FIXED\",'Vertical Calculations'!M132,IF($C$166=\"RELATIVE\",'Vertical Calculations'!M130,IF($C$166=\"BLOCKS\",'Vertical Calculations'!M134,0)))","v":0},{"$f":"IF($C$166=\"FIXED\",'Vertical Calculations'!N132,IF($C$166=\"RELATIVE\",'Vertical Calculations'!N130,IF($C$166=\"BLOCKS\",'Vertical Calculations'!N134,0)))","v":0},{"$f":"IF($C$166=\"FIXED\",'Vertical Calculations'!O132,IF($C$166=\"RELATIVE\",'Vertical Calculations'!O130,IF($C$166=\"BLOCKS\",'Vertical Calculations'!O134,0)))","v":0},{"$f":"IF($C$166=\"FIXED\",'Vertical Calculations'!P132,IF($C$166=\"RELATIVE\",'Vertical Calculations'!P130,IF($C$166=\"BLOCKS\",'Vertical Calculations'!P134,0)))","v":0},{"$f":"IF($C$166=\"FIXED\",'Vertical Calculations'!Q132,IF($C$166=\"RELATIVE\",'Vertical Calculations'!Q130,IF($C$166=\"BLOCKS\",'Vertical Calculations'!Q134,0)))","v":0},{"$f":"IF($C$166=\"FIXED\",'Vertical Calculations'!R132,IF($C$166=\"RELATIVE\",'Vertical Calculations'!R130,IF($C$166=\"BLOCKS\",'Vertical Calculations'!R134,0)))","v":0},{"$f":"IF($C$166=\"FIXED\",'Vertical Calculations'!S132,IF($C$166=\"RELATIVE\",'Vertical Calculations'!S130,IF($C$166=\"BLOCKS\",'Vertical Calculations'!S134,0)))","v":0},{"$f":"IF($C$166=\"FIXED\",'Vertical Calculations'!T132,IF($C$166=\"RELATIVE\",'Vertical Calculations'!T130,IF($C$166=\"BLOCKS\",'Vertical Calculations'!T134,0)))","v":0},{"$f":"IF($C$166=\"FIXED\",'Vertical Calculations'!U132,IF($C$166=\"RELATIVE\",'Vertical Calculations'!U130,IF($C$166=\"BLOCKS\",'Vertical Calculations'!U134,0)))","v":0},{"$f":"IF($C$166=\"FIXED\",'Vertical Calculations'!V132,IF($C$166=\"RELATIVE\",'Vertical Calculations'!V130,IF($C$166=\"BLOCKS\",'Vertical Calculations'!V134,0)))","v":0},{"$f":"IF($C$166=\"FIXED\",'Vertical Calculations'!W132,IF($C$166=\"RELATIVE\",'Vertical Calculations'!W130,IF($C$166=\"BLOCKS\",'Vertical Calculations'!W134,0)))","v":0},{"$f":"IF($C$166=\"FIXED\",'Vertical Calculations'!X132,IF($C$166=\"RELATIVE\",'Vertical Calculations'!X130,IF($C$166=\"BLOCKS\",'Vertical Calculations'!X134,0)))","v":0},{"$f":"IF($C$166=\"FIXED\",'Vertical Calculations'!Y132,IF($C$166=\"RELATIVE\",'Vertical Calculations'!Y130,IF($C$166=\"BLOCKS\",'Vertical Calculations'!Y134,0)))","v":0},{"$f":"IF($C$166=\"FIXED\",'Vertical Calculations'!Z132,IF($C$166=\"RELATIVE\",'Vertical Calculations'!Z130,IF($C$166=\"BLOCKS\",'Vertical Calculations'!Z134,0)))","v":0},{"$f":"IF($C$166=\"FIXED\",'Vertical Calculations'!AA132,IF($C$166=\"RELATIVE\",'Vertical Calculations'!AA130,IF($C$166=\"BLOCKS\",'Vertical Calculations'!AA134,0)))","v":0},{"$f":"IF($C$166=\"FIXED\",'Vertical Calculations'!AB132,IF($C$166=\"RELATIVE\",'Vertical Calculations'!AB130,IF($C$166=\"BLOCKS\",'Vertical Calculations'!AB134,0)))","v":0},{"$f":"IF($C$166=\"FIXED\",'Vertical Calculations'!AC132,IF($C$166=\"RELATIVE\",'Vertical Calculations'!AC130,IF($C$166=\"BLOCKS\",'Vertical Calculations'!AC134,0)))","v":0},{"$f":"IF($C$166=\"FIXED\",'Vertical Calculations'!AD132,IF($C$166=\"RELATIVE\",'Vertical Calculations'!AD130,IF($C$166=\"BLOCKS\",'Vertical Calculations'!AD134,0)))","v":0},{"$f":"IF($C$166=\"FIXED\",'Vertical Calculations'!AE132,IF($C$166=\"RELATIVE\",'Vertical Calculations'!AE130,IF($C$166=\"BLOCKS\",'Vertical Calculations'!AE134,0)))","v":0},{"$f":"IF($C$166=\"FIXED\",'Vertical Calculations'!AF132,IF($C$166=\"RELATIVE\",'Vertical Calculations'!AF130,IF($C$166=\"BLOCKS\",'Vertical Calculations'!AF134,0)))","v":0},{"$f":"IF($C$166=\"FIXED\",'Vertical Calculations'!AG132,IF($C$166=\"RELATIVE\",'Vertical Calculations'!AG130,IF($C$166=\"BLOCKS\",'Vertical Calculations'!AG134,0)))","v":0},{"$f":"IF($C$166=\"FIXED\",'Vertical Calculations'!AH132,IF($C$166=\"RELATIVE\",'Vertical Calculations'!AH130,IF($C$166=\"BLOCKS\",'Vertical Calculations'!AH134,0)))","v":0},{"$f":"IF($C$166=\"FIXED\",'Vertical Calculations'!AI132,IF($C$166=\"RELATIVE\",'Vertical Calculations'!AI130,IF($C$166=\"BLOCKS\",'Vertical Calculations'!AI134,0)))","v":0},{"$f":"IF($C$166=\"FIXED\",'Vertical Calculations'!AJ132,IF($C$166=\"RELATIVE\",'Vertical Calculations'!AJ130,IF($C$166=\"BLOCKS\",'Vertical Calculations'!AJ134,0)))","v":0},{"$f":"IF($C$166=\"FIXED\",'Vertical Calculations'!AK132,IF($C$166=\"RELATIVE\",'Vertical Calculations'!AK130,IF($C$166=\"BLOCKS\",'Vertical Calculations'!AK134,0)))","v":0},{"$f":"IF($C$166=\"FIXED\",'Vertical Calculations'!AL132,IF($C$166=\"RELATIVE\",'Vertical Calculations'!AL130,IF($C$166=\"BLOCKS\",'Vertical Calculations'!AL134,0)))","v":0},{"$f":"IF($C$166=\"FIXED\",'Vertical Calculations'!AM132,IF($C$166=\"RELATIVE\",'Vertical Calculations'!AM130,IF($C$166=\"BLOCKS\",'Vertical Calculations'!AM134,0)))","v":0},{"$f":"IF($C$166=\"FIXED\",'Vertical Calculations'!AN132,IF($C$166=\"RELATIVE\",'Vertical Calculations'!AN130,IF($C$166=\"BLOCKS\",'Vertical Calculations'!AN134,0)))","v":0},{"$f":"IF($C$166=\"FIXED\",'Vertical Calculations'!AO132,IF($C$166=\"RELATIVE\",'Vertical Calculations'!AO130,IF($C$166=\"BLOCKS\",'Vertical Calculations'!AO134,0)))","v":0},{"$f":"IF($C$166=\"FIXED\",'Vertical Calculations'!AP132,IF($C$166=\"RELATIVE\",'Vertical Calculations'!AP130,IF($C$166=\"BLOCKS\",'Vertical Calculations'!AP134,0)))","v":0},{"$f":"IF($C$166=\"FIXED\",'Vertical Calculations'!AQ132,IF($C$166=\"RELATIVE\",'Vertical Calculations'!AQ130,IF($C$166=\"BLOCKS\",'Vertical Calculations'!AQ134,0)))","v":0},{"$f":"IF($C$166=\"FIXED\",'Vertical Calculations'!AR132,IF($C$166=\"RELATIVE\",'Vertical Calculations'!AR130,IF($C$166=\"BLOCKS\",'Vertical Calculations'!AR134,0)))","v":0},{"$f":"IF($C$166=\"FIXED\",'Vertical Calculations'!AS132,IF($C$166=\"RELATIVE\",'Vertical Calculations'!AS130,IF($C$166=\"BLOCKS\",'Vertical Calculations'!AS134,0)))","v":0},{"$f":"IF($C$166=\"FIXED\",'Vertical Calculations'!AT132,IF($C$166=\"RELATIVE\",'Vertical Calculations'!AT130,IF($C$166=\"BLOCKS\",'Vertical Calculations'!AT134,0)))","v":0},{"$f":"IF($C$166=\"FIXED\",'Vertical Calculations'!AU132,IF($C$166=\"RELATIVE\",'Vertical Calculations'!AU130,IF($C$166=\"BLOCKS\",'Vertical Calculations'!AU134,0)))","v":0},{"$f":"IF($C$166=\"FIXED\",'Vertical Calculations'!AV132,IF($C$166=\"RELATIVE\",'Vertical Calculations'!AV130,IF($C$166=\"BLOCKS\",'Vertical Calculations'!AV134,0)))","v":0},{"$f":"IF($C$166=\"FIXED\",'Vertical Calculations'!AW132,IF($C$166=\"RELATIVE\",'Vertical Calculations'!AW130,IF($C$166=\"BLOCKS\",'Vertical Calculations'!AW134,0)))","v":0},{"$f":"IF($C$166=\"FIXED\",'Vertical Calculations'!AX132,IF($C$166=\"RELATIVE\",'Vertical Calculations'!AX130,IF($C$166=\"BLOCKS\",'Vertical Calculations'!AX134,0)))","v":0},{"$f":"IF($C$166=\"FIXED\",'Vertical Calculations'!AY132,IF($C$166=\"RELATIVE\",'Vertical Calculations'!AY130,IF($C$166=\"BLOCKS\",'Vertical Calculations'!AY134,0)))","v":0},{"$f":"IF($C$166=\"FIXED\",'Vertical Calculations'!AZ132,IF($C$166=\"RELATIVE\",'Vertical Calculations'!AZ130,IF($C$166=\"BLOCKS\",'Vertical Calculations'!AZ134,0)))","v":0},{"$f":"IF($C$166=\"FIXED\",'Vertical Calculations'!BA132,IF($C$166=\"RELATIVE\",'Vertical Calculations'!BA130,IF($C$166=\"BLOCKS\",'Vertical Calculations'!BA134,0)))","v":0}]
[]
["LABEL 16"]
["QUANTITY"]
["WIDTH (mm)",{"$nulls":3},"","","","","","","","","","","","","","","","","","","","","","","","","","","","","","","","","","","","","","","","","","","","","","","","","",""]
["HEIGHT (mm)"]
["COLOUR","-- SELECT --",{"$f":"B172","v":0}]
["TEXT SIZE  (mm)","AUTO"]
["FIXING","-- SELECT --"]
[{"$nulls":4},"I","I","I","I","I","I","I","I","I","I","I","I","I","I","I","I","I","I","I","I","I","I","I","I","I","I","I","I","I","I","I","I","I","I","I","I","I","I","I","I","I","I","I","I","I","I","I","I","I","I"]
["HOLES REQUIRED",null,"-- SELECT --"]
["HOLE SIZE  (mm)",null,{"$f":"VLOOKUP(C177,'Background Information'!$O$1:$P$4,2,FALSE)","v":0},null,{"$f":"IF($C$177=\"FIXED\",'Vertical Calculations'!D141,IF($C$177=\"RELATIVE\",'Vertical Calculations'!D139,IF($C$177=\"BLOCKS\",'Vertical Calculations'!D143,0)))","v":0},{"$f":"IF($C$177=\"FIXED\",'Vertical Calculations'!E141,IF($C$177=\"RELATIVE\",'Vertical Calculations'!E139,IF($C$177=\"BLOCKS\",'Vertical Calculations'!E143,0)))","v":0},{"$f":"IF($C$177=\"FIXED\",'Vertical Calculations'!F141,IF($C$177=\"RELATIVE\",'Vertical Calculations'!F139,IF($C$177=\"BLOCKS\",'Vertical Calculations'!F143,0)))","v":0},{"$f":"IF($C$177=\"FIXED\",'Vertical Calculations'!G141,IF($C$177=\"RELATIVE\",'Vertical Calculations'!G139,IF($C$177=\"BLOCKS\",'Vertical Calculations'!G143,0)))","v":0},{"$f":"IF($C$177=\"FIXED\",'Vertical Calculations'!H141,IF($C$177=\"RELATIVE\",'Vertical Calculations'!H139,IF($C$177=\"BLOCKS\",'Vertical Calculations'!H143,0)))","v":0},{"$f":"IF($C$177=\"FIXED\",'Vertical Calculations'!I141,IF($C$177=\"RELATIVE\",'Vertical Calculations'!I139,IF($C$177=\"BLOCKS\",'Vertical Calculations'!I143,0)))","v":0},{"$f":"IF($C$177=\"FIXED\",'Vertical Calculations'!J141,IF($C$177=\"RELATIVE\",'Vertical Calculations'!J139,IF($C$177=\"BLOCKS\",'Vertical Calculations'!J143,0)))","v":0},{"$f":"IF($C$177=\"FIXED\",'Vertical Calculations'!K141,IF($C$177=\"RELATIVE\",'Vertical Calculations'!K139,IF($C$177=\"BLOCKS\",'Vertical Calculations'!K143,0)))","v":0},{"$f":"IF($C$177=\"FIXED\",'Vertical Calculations'!L141,IF($C$177=\"RELATIVE\",'Vertical Calculations'!L139,IF($C$177=\"BLOCKS\",'Vertical Calculations'!L143,0)))","v":0},{"$f":"IF($C$177=\"FIXED\",'Vertical Calculations'!M141,IF($C$177=\"RELATIVE\",'Vertical Calculations'!M139,IF($C$177=\"BLOCKS\",'Vertical Calculations'!M143,0)))","v":0},{"$f":"IF($C$177=\"FIXED\",'Vertical Calculations'!N141,IF($C$177=\"RELATIVE\",'Vertical Calculations'!N139,IF($C$177=\"BLOCKS\",'Vertical Calculations'!N143,0)))","v":0},{"$f":"IF($C$177=\"FIXED\",'Vertical Calculations'!O141,IF($C$177=\"RELATIVE\",'Vertical Calculations'!O139,IF($C$177=\"BLOCKS\",'Vertical Calculations'!O143,0)))","v":0},{"$f":"IF($C$177=\"FIXED\",'Vertical Calculations'!P141,IF($C$177=\"RELATIVE\",'Vertical Calculations'!P139,IF($C$177=\"BLOCKS\",'Vertical Calculations'!P143,0)))","v":0},{"$f":"IF($C$177=\"FIXED\",'Vertical Calculations'!Q141,IF($C$177=\"RELATIVE\",'Vertical Calculations'!Q139,IF($C$177=\"BLOCKS\",'Vertical Calculations'!Q143,0)))","v":0},{"$f":"IF($C$177=\"FIXED\",'Vertical Calculations'!R141,IF($C$177=\"RELATIVE\",'Vertical Calculations'!R139,IF($C$177=\"BLOCKS\",'Vertical Calculations'!R143,0)))","v":0},{"$f":"IF($C$177=\"FIXED\",'Vertical Calculations'!S141,IF($C$177=\"RELATIVE\",'Vertical Calculations'!S139,IF($C$177=\"BLOCKS\",'Vertical Calculations'!S143,0)))","v":0},{"$f":"IF($C$177=\"FIXED\",'Vertical Calculations'!T141,IF($C$177=\"RELATIVE\",'Vertical Calculations'!T139,IF($C$177=\"BLOCKS\",'Vertical Calculations'!T143,0)))","v":0},{"$f":"IF($C$177=\"FIXED\",'Vertical Calculations'!U141,IF($C$177=\"RELATIVE\",'Vertical Calculations'!U139,IF($C$177=\"BLOCKS\",'Vertical Calculations'!U143,0)))","v":0},{"$f":"IF($C$177=\"FIXED\",'Vertical Calculations'!V141,IF($C$177=\"RELATIVE\",'Vertical Calculations'!V139,IF($C$177=\"BLOCKS\",'Vertical Calculations'!V143,0)))","v":0},{"$f":"IF($C$177=\"FIXED\",'Vertical Calculations'!W141,IF($C$177=\"RELATIVE\",'Vertical Calculations'!W139,IF($C$177=\"BLOCKS\",'Vertical Calculations'!W143,0)))","v":0},{"$f":"IF($C$177=\"FIXED\",'Vertical Calculations'!X141,IF($C$177=\"RELATIVE\",'Vertical Calculations'!X139,IF($C$177=\"BLOCKS\",'Vertical Calculations'!X143,0)))","v":0},{"$f":"IF($C$177=\"FIXED\",'Vertical Calculations'!Y141,IF($C$177=\"RELATIVE\",'Vertical Calculations'!Y139,IF($C$177=\"BLOCKS\",'Vertical Calculations'!Y143,0)))","v":0},{"$f":"IF($C$177=\"FIXED\",'Vertical Calculations'!Z141,IF($C$177=\"RELATIVE\",'Vertical Calculations'!Z139,IF($C$177=\"BLOCKS\",'Vertical Calculations'!Z143,0)))","v":0},{"$f":"IF($C$177=\"FIXED\",'Vertical Calculations'!AA141,IF($C$177=\"RELATIVE\",'Vertical Calculations'!AA139,IF($C$177=\"BLOCKS\",'Vertical Calculations'!AA143,0)))","v":0},{"$f":"IF($C$177=\"FIXED\",'Vertical Calculations'!AB141,IF($C$177=\"RELATIVE\",'Vertical Calculations'!AB139,IF($C$177=\"BLOCKS\",'Vertical Calculations'!AB143,0)))","v":0},{"$f":"IF($C$177=\"FIXED\",'Vertical Calculations'!AC141,IF($C$177=\"RELATIVE\",'Vertical Calculations'!AC139,IF($C$177=\"BLOCKS\",'Vertical Calculations'!AC143,0)))","v":0},{"$f":"IF($C$177=\"FIXED\",'Vertical Calculations'!AD141,IF($C$177=\"RELATIVE\",'Vertical Calculations'!AD139,IF($C$177=\"BLOCKS\",'Vertical Calculations'!AD143,0)))","v":0},{"$f":"IF($C$177=\"FIXED\",'Vertical Calculations'!AE141,IF($C$177=\"RELATIVE\",'Vertical Calculations'!AE139,IF($C$177=\"BLOCKS\",'Vertical Calculations'!AE143,0)))","v":0},{"$f":"IF($C$177=\"FIXED\",'Vertical Calculations'!AF141,IF($C$177=\"RELATIVE\",'Vertical Calculations'!AF139,IF($C$177=\"BLOCKS\",'Vertical Calculations'!AF143,0)))","v":0},{"$f":"IF($C$177=\"FIXED\",'Vertical Calculations'!AG141,IF($C$177=\"RELATIVE\",'Vertical Calculations'!AG139,IF($C$177=\"BLOCKS\",'Vertical Calculations'!AG143,0)))","v":0},{"$f":"IF($C$177=\"FIXED\",'Vertical Calculations'!AH141,IF($C$177=\"RELATIVE\",'Vertical Calculations'!AH139,IF($C$177=\"BLOCKS\",'Vertical Calculations'!AH143,0)))","v":0},{"$f":"IF($C$177=\"FIXED\",'Vertical Calculations'!AI141,IF($C$177=\"RELATIVE\",'Vertical Calculations'!AI139,IF($C$177=\"BLOCKS\",'Vertical Calculations'!AI143,0)))","v":0},{"$f":"IF($C$177=\"FIXED\",'Vertical Calculations'!AJ141,IF($C$177=\"RELATIVE\",'Vertical Calculations'!AJ139,IF($C$177=\"BLOCKS\",'Vertical Calculations'!AJ143,0)))","v":0},{"$f":"IF($C$177=\"FIXED\",'Vertical Calculations'!AK141,IF($C$177=\"RELATIVE\",'Vertical Calculations'!AK139,IF($C$177=\"BLOCKS\",'Vertical Calculations'!AK143,0)))","v":0},{"$f":"IF($C$177=\"FIXED\",'Vertical Calculations'!AL141,IF($C$177=\"RELATIVE\",'Vertical Calculations'!AL139,IF($C$177=\"BLOCKS\",'Vertical Calculations'!AL143,0)))","v":0},{"$f":"IF($C$177=\"FIXED\",'Vertical Calculations'!AM141,IF($C$177=\"RELATIVE\",'Vertical Calculations'!AM139,IF($C$177=\"BLOCKS\",'Vertical Calculations'!AM143,0)))","v":0},{"$f":"IF($C$177=\"FIXED\",'Vertical Calculations'!AN141,IF($C$177=\"RELATIVE\",'Vertical Calculations'!AN139,IF($C$177=\"BLOCKS\",'Vertical Calculations'!AN143,0)))","v":0},{"$f":"IF($C$177=\"FIXED\",'Vertical Calculations'!AO141,IF($C$177=\"RELATIVE\",'Vertical Calculations'!AO139,IF($C$177=\"BLOCKS\",'Vertical Calculations'!AO143,0)))","v":0},{"$f":"IF($C$177=\"FIXED\",'Vertical Calculations'!AP141,IF($C$177=\"RELATIVE\",'Vertical Calculations'!AP139,IF($C$177=\"BLOCKS\",'Vertical Calculations'!AP143,0)))","v":0},{"$f":"IF($C$177=\"FIXED\",'Vertical Calculations'!AQ141,IF($C$177=\"RELATIVE\",'Vertical Calculations'!AQ139,IF($C$177=\"BLOCKS\",'Vertical Calculations'!AQ143,0)))","v":0},{"$f":"IF($C$177=\"FIXED\",'Vertical Calculations'!AR141,IF($C$177=\"RELATIVE\",'Vertical Calculations'!AR139,IF($C$177=\"BLOCKS\",'Vertical Calculations'!AR143,0)))","v":0},{"$f":"IF($C$177=\"FIXED\",'Vertical Calculations'!AS141,IF($C$177=\"RELATIVE\",'Vertical Calculations'!AS139,IF($C$177=\"BLOCKS\",'Vertical Calculations'!AS143,0)))","v":0},{"$f":"IF($C$177=\"FIXED\",'Vertical Calculations'!AT141,IF($C$177=\"RELATIVE\",'Vertical Calculations'!AT139,IF($C$177=\"BLOCKS\",'Vertical Calculations'!AT143,0)))","v":0},{"$f":"IF($C$177=\"FIXED\",'Vertical Calculations'!AU141,IF($C$177=\"RELATIVE\",'Vertical Calculations'!AU139,IF($C$177=\"BLOCKS\",'Vertical Calculations'!AU143,0)))","v":0},{"$f":"IF($C$177=\"FIXED\",'Vertical Calculations'!AV141,IF($C$177=\"RELATIVE\",'Vertical Calculations'!AV139,IF($C$177=\"BLOCKS\",'Vertical Calculations'!AV143,0)))","v":0},{"$f":"IF($C$177=\"FIXED\",'Vertical Calculations'!AW141,IF($C$177=\"RELATIVE\",'Vertical Calculations'!AW139,IF($C$177=\"BLOCKS\",'Vertical Calculations'!AW143,0)))","v":0},{"$f":"IF($C$177=\"FIXED\",'Vertical Calculations'!AX141,IF($C$177=\"RELATIVE\",'Vertical Calculations'!AX139,IF($C$177=\"BLOCKS\",'Vertical Calculations'!AX143,0)))","v":0},{"$f":"IF($C$177=\"FIXED\",'Vertical Calculations'!AY141,IF($C$177=\"RELATIVE\",'Vertical Calculations'!AY139,IF($C$177=\"BLOCKS\",'Vertical Calculations'!AY143,0)))","v":0},{"$f":"IF($C$177=\"FIXED\",'Vertical Calculations'!AZ141,IF($C$177=\"RELATIVE\",'Vertical Calculations'!AZ139,IF($C$177=\"BLOCKS\",'Vertical Calculations'!AZ143,0)))","v":0},{"$f":"IF($C$177=\"FIXED\",'Vertical Calculations'!BA141,IF($C$177=\"RELATIVE\",'Vertical Calculations'!BA139,IF($C$177=\"BLOCKS\",'Vertical Calculations'!BA143,0)))","v":0}]
[]
["LABEL 17"]
["QUANTITY"]
["WIDTH (mm)",{"$nulls":3},"","","","","","","","","","","","","","","","","","","","","","","","","","","","","","","","","","","","","","","","","","","","","","","","","",""]
["HEIGHT (mm)"]
["COLOUR","-- SELECT --",{"$f":"B183","v":0}]
["TEXT SIZE  (mm)","AUTO"]
["FIXING","-- SELECT --"]
[{"$nulls":4},"I","I","I","I","I","I","I","I","I","I","I","I","I","I","I","I","I","I","I","I","I","I","I","I","I","I","I","I","I","I","I","I","I","I","I","I","I","I","I","I","I","I","I","I","I","I","I","I","I","I"]
["HOLES REQUIRED",null,"-- SELECT --"]
["HOLE SIZE  (mm)",null,{"$f":"VLOOKUP(C188,'Background Information'!$O$1:$P$4,2,FALSE)","v":0},null,{"$f":"IF($C$188=\"FIXED\",'Vertical Calculations'!D150,IF($C$188=\"RELATIVE\",'Vertical Calculations'!D148,IF($C$188=\"BLOCKS\",'Vertical Calculations'!D152,0)))","v":0},{"$f":"IF($C$188=\"FIXED\",'Vertical Calculations'!E150,IF($C$188=\"RELATIVE\",'Vertical Calculations'!E148,IF($C$188=\"BLOCKS\",'Vertical Calculations'!E152,0)))","v":0},{"$f":"IF($C$188=\"FIXED\",'Vertical Calculations'!F150,IF($C$188=\"RELATIVE\",'Vertical Calculations'!F148,IF($C$188=\"BLOCKS\",'Vertical Calculations'!F152,0)))","v":0},{"$f":"IF($C$188=\"FIXED\",'Vertical Calculations'!G150,IF($C$188=\"RELATIVE\",'Vertical Calculations'!G148,IF($C$188=\"BLOCKS\",'Vertical Calculations'!G152,0)))","v":0},{"$f":"IF($C$188=\"FIXED\",'Vertical Calculations'!H150,IF($C$188=\"RELATIVE\",'Vertical Calculations'!H148,IF($C$188=\"BLOCKS\",'Vertical Calculations'!H152,0)))","v":0},{"$f":"IF($C$188=\"FIXED\",'Vertical Calculations'!I150,IF($C$188=\"RELATIVE\",'Vertical Calculations'!I148,IF($C$188=\"BLOCKS\",'Vertical Calculations'!I152,0)))","v":0},{"$f":"IF($C$188=\"FIXED\",'Vertical Calculations'!J150,IF($C$188=\"RELATIVE\",'Vertical Calculations'!J148,IF($C$188=\"BLOCKS\",'Vertical Calculations'!J152,0)))","v":0},{"$f":"IF($C$188=\"FIXED\",'Vertical Calculations'!K150,IF($C$188=\"RELATIVE\",'Vertical Calculations'!K148,IF($C$188=\"BLOCKS\",'Vertical Calculations'!K152,0)))","v":0},{"$f":"IF($C$188=\"FIXED\",'Vertical Calculations'!L150,IF($C$188=\"RELATIVE\",'Vertical Calculations'!L148,IF($C$188=\"BLOCKS\",'Vertical Calculations'!L152,0)))","v":0},{"$f":"IF($C$188=\"FIXED\",'Vertical Calculations'!M150,IF($C$188=\"RELATIVE\",'Vertical Calculations'!M148,IF($C$188=\"BLOCKS\",'Vertical Calculations'!M152,0)))","v":0},{"$f":"IF($C$188=\"FIXED\",'Vertical Calculations'!N150,IF($C$188=\"RELATIVE\",'Vertical Calculations'!N148,IF($C$188=\"BLOCKS\",'Vertical Calculations'!N152,0)))","v":0},{"$f":"IF($C$188=\"FIXED\",'Vertical Calculations'!O150,IF($C$188=\"RELATIVE\",'Vertical Calculations'!O148,IF($C$188=\"BLOCKS\",'Vertical Calculations'!O152,0)))","v":0},{"$f":"IF($C$188=\"FIXED\",'Vertical Calculations'!P150,IF($C$188=\"RELATIVE\",'Vertical Calculations'!P148,IF($C$188=\"BLOCKS\",'Vertical Calculations'!P152,0)))","v":0},{"$f":"IF($C$188=\"FIXED\",'Vertical Calculations'!Q150,IF($C$188=\"RELATIVE\",'Vertical Calculations'!Q148,IF($C$188=\"BLOCKS\",'Vertical Calculations'!Q152,0)))","v":0},{"$f":"IF($C$188=\"FIXED\",'Vertical Calculations'!R150,IF($C$188=\"RELATIVE\",'Vertical Calculations'!R148,IF($C$188=\"BLOCKS\",'Vertical Calculations'!R152,0)))","v":0},{"$f":"IF($C$188=\"FIXED\",'Vertical Calculations'!S150,IF($C$188=\"RELATIVE\",'Vertical Calculations'!S148,IF($C$188=\"BLOCKS\",'Vertical Calculations'!S152,0)))","v":0},{"$f":"IF($C$188=\"FIXED\",'Vertical Calculations'!T150,IF($C$188=\"RELATIVE\",'Vertical Calculations'!T148,IF($C$188=\"BLOCKS\",'Vertical Calculations'!T152,0)))","v":0},{"$f":"IF($C$188=\"FIXED\",'Vertical Calculations'!U150,IF($C$188=\"RELATIVE\",'Vertical Calculations'!U148,IF($C$188=\"BLOCKS\",'Vertical Calculations'!U152,0)))","v":0},{"$f":"IF($C$188=\"FIXED\",'Vertical Calculations'!V150,IF($C$188=\"RELATIVE\",'Vertical Calculations'!V148,IF($C$188=\"BLOCKS\",'Vertical Calculations'!V152,0)))","v":0},{"$f":"IF($C$188=\"FIXED\",'Vertical Calculations'!W150,IF($C$188=\"RELATIVE\",'Vertical Calculations'!W148,IF($C$188=\"BLOCKS\",'Vertical Calculations'!W152,0)))","v":0},{"$f":"IF($C$188=\"FIXED\",'Vertical Calculations'!X150,IF($C$188=\"RELATIVE\",'Vertical Calculations'!X148,IF($C$188=\"BLOCKS\",'Vertical Calculations'!X152,0)))","v":0},{"$f":"IF($C$188=\"FIXED\",'Vertical Calculations'!Y150,IF($C$188=\"RELATIVE\",'Vertical Calculations'!Y148,IF($C$188=\"BLOCKS\",'Vertical Calculations'!Y152,0)))","v":0},{"$f":"IF($C$188=\"FIXED\",'Vertical Calculations'!Z150,IF($C$188=\"RELATIVE\",'Vertical Calculations'!Z148,IF($C$188=\"BLOCKS\",'Vertical Calculations'!Z152,0)))","v":0},{"$f":"IF($C$188=\"FIXED\",'Vertical Calculations'!AA150,IF($C$188=\"RELATIVE\",'Vertical Calculations'!AA148,IF($C$188=\"BLOCKS\",'Vertical Calculations'!AA152,0)))","v":0},{"$f":"IF($C$188=\"FIXED\",'Vertical Calculations'!AB150,IF($C$188=\"RELATIVE\",'Vertical Calculations'!AB148,IF($C$188=\"BLOCKS\",'Vertical Calculations'!AB152,0)))","v":0},{"$f":"IF($C$188=\"FIXED\",'Vertical Calculations'!AC150,IF($C$188=\"RELATIVE\",'Vertical Calculations'!AC148,IF($C$188=\"BLOCKS\",'Vertical Calculations'!AC152,0)))","v":0},{"$f":"IF($C$188=\"FIXED\",'Vertical Calculations'!AD150,IF($C$188=\"RELATIVE\",'Vertical Calculations'!AD148,IF($C$188=\"BLOCKS\",'Vertical Calculations'!AD152,0)))","v":0},{"$f":"IF($C$188=\"FIXED\",'Vertical Calculations'!AE150,IF($C$188=\"RELATIVE\",'Vertical Calculations'!AE148,IF($C$188=\"BLOCKS\",'Vertical Calculations'!AE152,0)))","v":0},{"$f":"IF($C$188=\"FIXED\",'Vertical Calculations'!AF150,IF($C$188=\"RELATIVE\",'Vertical Calculations'!AF148,IF($C$188=\"BLOCKS\",'Vertical Calculations'!AF152,0)))","v":0},{"$f":"IF($C$188=\"FIXED\",'Vertical Calculations'!AG150,IF($C$188=\"RELATIVE\",'Vertical Calculations'!AG148,IF($C$188=\"BLOCKS\",'Vertical Calculations'!AG152,0)))","v":0},{"$f":"IF($C$188=\"FIXED\",'Vertical Calculations'!AH150,IF($C$188=\"RELATIVE\",'Vertical Calculations'!AH148,IF($C$188=\"BLOCKS\",'Vertical Calculations'!AH152,0)))","v":0},{"$f":"IF($C$188=\"FIXED\",'Vertical Calculations'!AI150,IF($C$188=\"RELATIVE\",'Vertical Calculations'!AI148,IF($C$188=\"BLOCKS\",'Vertical Calculations'!AI152,0)))","v":0},{"$f":"IF($C$188=\"FIXED\",'Vertical Calculations'!AJ150,IF($C$188=\"RELATIVE\",'Vertical Calculations'!AJ148,IF($C$188=\"BLOCKS\",'Vertical Calculations'!AJ152,0)))","v":0},{"$f":"IF($C$188=\"FIXED\",'Vertical Calculations'!AK150,IF($C$188=\"RELATIVE\",'Vertical Calculations'!AK148,IF($C$188=\"BLOCKS\",'Vertical Calculations'!AK152,0)))","v":0},{"$f":"IF($C$188=\"FIXED\",'Vertical Calculations'!AL150,IF($C$188=\"RELATIVE\",'Vertical Calculations'!AL148,IF($C$188=\"BLOCKS\",'Vertical Calculations'!AL152,0)))","v":0},{"$f":"IF($C$188=\"FIXED\",'Vertical Calculations'!AM150,IF($C$188=\"RELATIVE\",'Vertical Calculations'!AM148,IF($C$188=\"BLOCKS\",'Vertical Calculations'!AM152,0)))","v":0},{"$f":"IF($C$188=\"FIXED\",'Vertical Calculations'!AN150,IF($C$188=\"RELATIVE\",'Vertical Calculations'!AN148,IF($C$188=\"BLOCKS\",'Vertical Calculations'!AN152,0)))","v":0},{"$f":"IF($C$188=\"FIXED\",'Vertical Calculations'!AO150,IF($C$188=\"RELATIVE\",'Vertical Calculations'!AO148,IF($C$188=\"BLOCKS\",'Vertical Calculations'!AO152,0)))","v":0},{"$f":"IF($C$188=\"FIXED\",'Vertical Calculations'!AP150,IF($C$188=\"RELATIVE\",'Vertical Calculations'!AP148,IF($C$188=\"BLOCKS\",'Vertical Calculations'!AP152,0)))","v":0},{"$f":"IF($C$188=\"FIXED\",'Vertical Calculations'!AQ150,IF($C$188=\"RELATIVE\",'Vertical Calculations'!AQ148,IF($C$188=\"BLOCKS\",'Vertical Calculations'!AQ152,0)))","v":0},{"$f":"IF($C$188=\"FIXED\",'Vertical Calculations'!AR150,IF($C$188=\"RELATIVE\",'Vertical Calculations'!AR148,IF($C$188=\"BLOCKS\",'Vertical Calculations'!AR152,0)))","v":0},{"$f":"IF($C$188=\"FIXED\",'Vertical Calculations'!AS150,IF($C$188=\"RELATIVE\",'Vertical Calculations'!AS148,IF($C$188=\"BLOCKS\",'Vertical Calculations'!AS152,0)))","v":0},{"$f":"IF($C$188=\"FIXED\",'Vertical Calculations'!AT150,IF($C$188=\"RELATIVE\",'Vertical Calculations'!AT148,IF($C$188=\"BLOCKS\",'Vertical Calculations'!AT152,0)))","v":0},{"$f":"IF($C$188=\"FIXED\",'Vertical Calculations'!AU150,IF($C$188=\"RELATIVE\",'Vertical Calculations'!AU148,IF($C$188=\"BLOCKS\",'Vertical Calculations'!AU152,0)))","v":0},{"$f":"IF($C$188=\"FIXED\",'Vertical Calculations'!AV150,IF($C$188=\"RELATIVE\",'Vertical Calculations'!AV148,IF($C$188=\"BLOCKS\",'Vertical Calculations'!AV152,0)))","v":0},{"$f":"IF($C$188=\"FIXED\",'Vertical Calculations'!AW150,IF($C$188=\"RELATIVE\",'Vertical Calculations'!AW148,IF($C$188=\"BLOCKS\",'Vertical Calculations'!AW152,0)))","v":0},{"$f":"IF($C$188=\"FIXED\",'Vertical Calculations'!AX150,IF($C$188=\"RELATIVE\",'Vertical Calculations'!AX148,IF($C$188=\"BLOCKS\",'Vertical Calculations'!AX152,0)))","v":0},{"$f":"IF($C$188=\"FIXED\",'Vertical Calculations'!AY150,IF($C$188=\"RELATIVE\",'Vertical Calculations'!AY148,IF($C$188=\"BLOCKS\",'Vertical Calculations'!AY152,0)))","v":0},{"$f":"IF($C$188=\"FIXED\",'Vertical Calculations'!AZ150,IF($C$188=\"RELATIVE\",'Vertical Calculations'!AZ148,IF($C$188=\"BLOCKS\",'Vertical Calculations'!AZ152,0)))","v":0},{"$f":"IF($C$188=\"FIXED\",'Vertical Calculations'!BA150,IF($C$188=\"RELATIVE\",'Vertical Calculations'!BA148,IF($C$188=\"BLOCKS\",'Vertical Calculations'!BA152,0)))","v":0}]
[]
["LABEL 18"]
["QUANTITY"]
["WIDTH (mm)",{"$nulls":3},"","","","","","","","","","","","","","","","","","","","","","","","","","","","","","","","","","","","","","","","","","","","","","","","","",""]
["HEIGHT (mm)"]
["COLOUR","-- SELECT --",{"$f":"B194","v":0}]
["TEXT SIZE  (mm)","AUTO"]
["FIXING","-- SELECT --"]
[{"$nulls":4},"I","I","I","I","I","I","I","I","I","I","I","I","I","I","I","I","I","I","I","I","I","I","I","I","I","I","I","I","I","I","I","I","I","I","I","I","I","I","I","I","I","I","I","I","I","I","I","I","I","I"]
["HOLES REQUIRED",null,"-- SELECT --"]
["HOLE SIZE  (mm)",null,{"$f":"VLOOKUP(C199,'Background Information'!$O$1:$P$4,2,FALSE)","v":0},null,{"$f":"IF($C$199=\"FIXED\",'Vertical Calculations'!D159,IF($C$199=\"RELATIVE\",'Vertical Calculations'!D157,IF($C$199=\"BLOCKS\",'Vertical Calculations'!D161,0)))","v":0},{"$f":"IF($C$199=\"FIXED\",'Vertical Calculations'!E159,IF($C$199=\"RELATIVE\",'Vertical Calculations'!E157,IF($C$199=\"BLOCKS\",'Vertical Calculations'!E161,0)))","v":0},{"$f":"IF($C$199=\"FIXED\",'Vertical Calculations'!F159,IF($C$199=\"RELATIVE\",'Vertical Calculations'!F157,IF($C$199=\"BLOCKS\",'Vertical Calculations'!F161,0)))","v":0},{"$f":"IF($C$199=\"FIXED\",'Vertical Calculations'!G159,IF($C$199=\"RELATIVE\",'Vertical Calculations'!G157,IF($C$199=\"BLOCKS\",'Vertical Calculations'!G161,0)))","v":0},{"$f":"IF($C$199=\"FIXED\",'Vertical Calculations'!H159,IF($C$199=\"RELATIVE\",'Vertical Calculations'!H157,IF($C$199=\"BLOCKS\",'Vertical Calculations'!H161,0)))","v":0},{"$f":"IF($C$199=\"FIXED\",'Vertical Calculations'!I159,IF($C$199=\"RELATIVE\",'Vertical Calculations'!I157,IF($C$199=\"BLOCKS\",'Vertical Calculations'!I161,0)))","v":0},{"$f":"IF($C$199=\"FIXED\",'Vertical Calculations'!J159,IF($C$199=\"RELATIVE\",'Vertical Calculations'!J157,IF($C$199=\"BLOCKS\",'Vertical Calculations'!J161,0)))","v":0},{"$f":"IF($C$199=\"FIXED\",'Vertical Calculations'!K159,IF($C$199=\"RELATIVE\",'Vertical Calculations'!K157,IF($C$199=\"BLOCKS\",'Vertical Calculations'!K161,0)))","v":0},{"$f":"IF($C$199=\"FIXED\",'Vertical Calculations'!L159,IF($C$199=\"RELATIVE\",'Vertical Calculations'!L157,IF($C$199=\"BLOCKS\",'Vertical Calculations'!L161,0)))","v":0},{"$f":"IF($C$199=\"FIXED\",'Vertical Calculations'!M159,IF($C$199=\"RELATIVE\",'Vertical Calculations'!M157,IF($C$199=\"BLOCKS\",'Vertical Calculations'!M161,0)))","v":0},{"$f":"IF($C$199=\"FIXED\",'Vertical Calculations'!N159,IF($C$199=\"RELATIVE\",'Vertical Calculations'!N157,IF($C$199=\"BLOCKS\",'Vertical Calculations'!N161,0)))","v":0},{"$f":"IF($C$199=\"FIXED\",'Vertical Calculations'!O159,IF($C$199=\"RELATIVE\",'Vertical Calculations'!O157,IF($C$199=\"BLOCKS\",'Vertical Calculations'!O161,0)))","v":0},{"$f":"IF($C$199=\"FIXED\",'Vertical Calculations'!P159,IF($C$199=\"RELATIVE\",'Vertical Calculations'!P157,IF($C$199=\"BLOCKS\",'Vertical Calculations'!P161,0)))","v":0},{"$f":"IF($C$199=\"FIXED\",'Vertical Calculations'!Q159,IF($C$199=\"RELATIVE\",'Vertical Calculations'!Q157,IF($C$199=\"BLOCKS\",'Vertical Calculations'!Q161,0)))","v":0},{"$f":"IF($C$199=\"FIXED\",'Vertical Calculations'!R159,IF($C$199=\"RELATIVE\",'Vertical Calculations'!R157,IF($C$199=\"BLOCKS\",'Vertical Calculations'!R161,0)))","v":0},{"$f":"IF($C$199=\"FIXED\",'Vertical Calculations'!S159,IF($C$199=\"RELATIVE\",'Vertical Calculations'!S157,IF($C$199=\"BLOCKS\",'Vertical Calculations'!S161,0)))","v":0},{"$f":"IF($C$199=\"FIXED\",'Vertical Calculations'!T159,IF($C$199=\"RELATIVE\",'Vertical Calculations'!T157,IF($C$199=\"BLOCKS\",'Vertical Calculations'!T161,0)))","v":0},{"$f":"IF($C$199=\"FIXED\",'Vertical Calculations'!U159,IF($C$199=\"RELATIVE\",'Vertical Calculations'!U157,IF($C$199=\"BLOCKS\",'Vertical Calculations'!U161,0)))","v":0},{"$f":"IF($C$199=\"FIXED\",'Vertical Calculations'!V159,IF($C$199=\"RELATIVE\",'Vertical Calculations'!V157,IF($C$199=\"BLOCKS\",'Vertical Calculations'!V161,0)))","v":0},{"$f":"IF($C$199=\"FIXED\",'Vertical Calculations'!W159,IF($C$199=\"RELATIVE\",'Vertical Calculations'!W157,IF($C$199=\"BLOCKS\",'Vertical Calculations'!W161,0)))","v":0},{"$f":"IF($C$199=\"FIXED\",'Vertical Calculations'!X159,IF($C$199=\"RELATIVE\",'Vertical Calculations'!X157,IF($C$199=\"BLOCKS\",'Vertical Calculations'!X161,0)))","v":0},{"$f":"IF($C$199=\"FIXED\",'Vertical Calculations'!Y159,IF($C$199=\"RELATIVE\",'Vertical Calculations'!Y157,IF($C$199=\"BLOCKS\",'Vertical Calculations'!Y161,0)))","v":0},{"$f":"IF($C$199=\"FIXED\",'Vertical Calculations'!Z159,IF($C$199=\"RELATIVE\",'Vertical Calculations'!Z157,IF($C$199=\"BLOCKS\",'Vertical Calculations'!Z161,0)))","v":0},{"$f":"IF($C$199=\"FIXED\",'Vertical Calculations'!AA159,IF($C$199=\"RELATIVE\",'Vertical Calculations'!AA157,IF($C$199=\"BLOCKS\",'Vertical Calculations'!AA161,0)))","v":0},{"$f":"IF($C$199=\"FIXED\",'Vertical Calculations'!AB159,IF($C$199=\"RELATIVE\",'Vertical Calculations'!AB157,IF($C$199=\"BLOCKS\",'Vertical Calculations'!AB161,0)))","v":0},{"$f":"IF($C$199=\"FIXED\",'Vertical Calculations'!AC159,IF($C$199=\"RELATIVE\",'Vertical Calculations'!AC157,IF($C$199=\"BLOCKS\",'Vertical Calculations'!AC161,0)))","v":0},{"$f":"IF($C$199=\"FIXED\",'Vertical Calculations'!AD159,IF($C$199=\"RELATIVE\",'Vertical Calculations'!AD157,IF($C$199=\"BLOCKS\",'Vertical Calculations'!AD161,0)))","v":0},{"$f":"IF($C$199=\"FIXED\",'Vertical Calculations'!AE159,IF($C$199=\"RELATIVE\",'Vertical Calculations'!AE157,IF($C$199=\"BLOCKS\",'Vertical Calculations'!AE161,0)))","v":0},{"$f":"IF($C$199=\"FIXED\",'Vertical Calculations'!AF159,IF($C$199=\"RELATIVE\",'Vertical Calculations'!AF157,IF($C$199=\"BLOCKS\",'Vertical Calculations'!AF161,0)))","v":0},{"$f":"IF($C$199=\"FIXED\",'Vertical Calculations'!AG159,IF($C$199=\"RELATIVE\",'Vertical Calculations'!AG157,IF($C$199=\"BLOCKS\",'Vertical Calculations'!AG161,0)))","v":0},{"$f":"IF($C$199=\"FIXED\",'Vertical Calculations'!AH159,IF($C$199=\"RELATIVE\",'Vertical Calculations'!AH157,IF($C$199=\"BLOCKS\",'Vertical Calculations'!AH161,0)))","v":0},{"$f":"IF($C$199=\"FIXED\",'Vertical Calculations'!AI159,IF($C$199=\"RELATIVE\",'Vertical Calculations'!AI157,IF($C$199=\"BLOCKS\",'Vertical Calculations'!AI161,0)))","v":0},{"$f":"IF($C$199=\"FIXED\",'Vertical Calculations'!AJ159,IF($C$199=\"RELATIVE\",'Vertical Calculations'!AJ157,IF($C$199=\"BLOCKS\",'Vertical Calculations'!AJ161,0)))","v":0},{"$f":"IF($C$199=\"FIXED\",'Vertical Calculations'!AK159,IF($C$199=\"RELATIVE\",'Vertical Calculations'!AK157,IF($C$199=\"BLOCKS\",'Vertical Calculations'!AK161,0)))","v":0},{"$f":"IF($C$199=\"FIXED\",'Vertical Calculations'!AL159,IF($C$199=\"RELATIVE\",'Vertical Calculations'!AL157,IF($C$199=\"BLOCKS\",'Vertical Calculations'!AL161,0)))","v":0},{"$f":"IF($C$199=\"FIXED\",'Vertical Calculations'!AM159,IF($C$199=\"RELATIVE\",'Vertical Calculations'!AM157,IF($C$199=\"BLOCKS\",'Vertical Calculations'!AM161,0)))","v":0},{"$f":"IF($C$199=\"FIXED\",'Vertical Calculations'!AN159,IF($C$199=\"RELATIVE\",'Vertical Calculations'!AN157,IF($C$199=\"BLOCKS\",'Vertical Calculations'!AN161,0)))","v":0},{"$f":"IF($C$199=\"FIXED\",'Vertical Calculations'!AO159,IF($C$199=\"RELATIVE\",'Vertical Calculations'!AO157,IF($C$199=\"BLOCKS\",'Vertical Calculations'!AO161,0)))","v":0},{"$f":"IF($C$199=\"FIXED\",'Vertical Calculations'!AP159,IF($C$199=\"RELATIVE\",'Vertical Calculations'!AP157,IF($C$199=\"BLOCKS\",'Vertical Calculations'!AP161,0)))","v":0},{"$f":"IF($C$199=\"FIXED\",'Vertical Calculations'!AQ159,IF($C$199=\"RELATIVE\",'Vertical Calculations'!AQ157,IF($C$199=\"BLOCKS\",'Vertical Calculations'!AQ161,0)))","v":0},{"$f":"IF($C$199=\"FIXED\",'Vertical Calculations'!AR159,IF($C$199=\"RELATIVE\",'Vertical Calculations'!AR157,IF($C$199=\"BLOCKS\",'Vertical Calculations'!AR161,0)))","v":0},{"$f":"IF($C$199=\"FIXED\",'Vertical Calculations'!AS159,IF($C$199=\"RELATIVE\",'Vertical Calculations'!AS157,IF($C$199=\"BLOCKS\",'Vertical Calculations'!AS161,0)))","v":0},{"$f":"IF($C$199=\"FIXED\",'Vertical Calculations'!AT159,IF($C$199=\"RELATIVE\",'Vertical Calculations'!AT157,IF($C$199=\"BLOCKS\",'Vertical Calculations'!AT161,0)))","v":0},{"$f":"IF($C$199=\"FIXED\",'Vertical Calculations'!AU159,IF($C$199=\"RELATIVE\",'Vertical Calculations'!AU157,IF($C$199=\"BLOCKS\",'Vertical Calculations'!AU161,0)))","v":0},{"$f":"IF($C$199=\"FIXED\",'Vertical Calculations'!AV159,IF($C$199=\"RELATIVE\",'Vertical Calculations'!AV157,IF($C$199=\"BLOCKS\",'Vertical Calculations'!AV161,0)))","v":0},{"$f":"IF($C$199=\"FIXED\",'Vertical Calculations'!AW159,IF($C$199=\"RELATIVE\",'Vertical Calculations'!AW157,IF($C$199=\"BLOCKS\",'Vertical Calculations'!AW161,0)))","v":0},{"$f":"IF($C$199=\"FIXED\",'Vertical Calculations'!AX159,IF($C$199=\"RELATIVE\",'Vertical Calculations'!AX157,IF($C$199=\"BLOCKS\",'Vertical Calculations'!AX161,0)))","v":0},{"$f":"IF($C$199=\"FIXED\",'Vertical Calculations'!AY159,IF($C$199=\"RELATIVE\",'Vertical Calculations'!AY157,IF($C$199=\"BLOCKS\",'Vertical Calculations'!AY161,0)))","v":0},{"$f":"IF($C$199=\"FIXED\",'Vertical Calculations'!AZ159,IF($C$199=\"RELATIVE\",'Vertical Calculations'!AZ157,IF($C$199=\"BLOCKS\",'Vertical Calculations'!AZ161,0)))","v":0},{"$f":"IF($C$199=\"FIXED\",'Vertical Calculations'!BA159,IF($C$199=\"RELATIVE\",'Vertical Calculations'!BA157,IF($C$199=\"BLOCKS\",'Vertical Calculations'!BA161,0)))","v":0}]
[]
["LABEL 19"]
["QUANTITY"]
["WIDTH (mm)",{"$nulls":3},"","","","","","","","","","","","","","","","","","","","","","","","","","","","","","","","","","","","","","","","","","","","","","","","","",""]
["HEIGHT (mm)"]
["COLOUR","-- SELECT --",{"$f":"B205","v":0}]
["TEXT SIZE  (mm)","AUTO"]
["FIXING","-- SELECT --"]
[{"$nulls":4},"I","I","I","I","I","I","I","I","I","I","I","I","I","I","I","I","I","I","I","I","I","I","I","I","I","I","I","I","I","I","I","I","I","I","I","I","I","I","I","I","I","I","I","I","I","I","I","I","I","I"]
["HOLES REQUIRED",null,"-- SELECT --"]
["HOLE SIZE  (mm)",null,{"$f":"VLOOKUP(C210,'Background Information'!$O$1:$P$4,2,FALSE)","v":0},null,{"$f":"IF($C$210=\"FIXED\",'Vertical Calculations'!D168,IF($C$210=\"RELATIVE\",'Vertical Calculations'!D166,IF($C$210=\"BLOCKS\",'Vertical Calculations'!D170,0)))","v":0},{"$f":"IF($C$210=\"FIXED\",'Vertical Calculations'!E168,IF($C$210=\"RELATIVE\",'Vertical Calculations'!E166,IF($C$210=\"BLOCKS\",'Vertical Calculations'!E170,0)))","v":0},{"$f":"IF($C$210=\"FIXED\",'Vertical Calculations'!F168,IF($C$210=\"RELATIVE\",'Vertical Calculations'!F166,IF($C$210=\"BLOCKS\",'Vertical Calculations'!F170,0)))","v":0},{"$f":"IF($C$210=\"FIXED\",'Vertical Calculations'!G168,IF($C$210=\"RELATIVE\",'Vertical Calculations'!G166,IF($C$210=\"BLOCKS\",'Vertical Calculations'!G170,0)))","v":0},{"$f":"IF($C$210=\"FIXED\",'Vertical Calculations'!H168,IF($C$210=\"RELATIVE\",'Vertical Calculations'!H166,IF($C$210=\"BLOCKS\",'Vertical Calculations'!H170,0)))","v":0},{"$f":"IF($C$210=\"FIXED\",'Vertical Calculations'!I168,IF($C$210=\"RELATIVE\",'Vertical Calculations'!I166,IF($C$210=\"BLOCKS\",'Vertical Calculations'!I170,0)))","v":0},{"$f":"IF($C$210=\"FIXED\",'Vertical Calculations'!J168,IF($C$210=\"RELATIVE\",'Vertical Calculations'!J166,IF($C$210=\"BLOCKS\",'Vertical Calculations'!J170,0)))","v":0},{"$f":"IF($C$210=\"FIXED\",'Vertical Calculations'!K168,IF($C$210=\"RELATIVE\",'Vertical Calculations'!K166,IF($C$210=\"BLOCKS\",'Vertical Calculations'!K170,0)))","v":0},{"$f":"IF($C$210=\"FIXED\",'Vertical Calculations'!L168,IF($C$210=\"RELATIVE\",'Vertical Calculations'!L166,IF($C$210=\"BLOCKS\",'Vertical Calculations'!L170,0)))","v":0},{"$f":"IF($C$210=\"FIXED\",'Vertical Calculations'!M168,IF($C$210=\"RELATIVE\",'Vertical Calculations'!M166,IF($C$210=\"BLOCKS\",'Vertical Calculations'!M170,0)))","v":0},{"$f":"IF($C$210=\"FIXED\",'Vertical Calculations'!N168,IF($C$210=\"RELATIVE\",'Vertical Calculations'!N166,IF($C$210=\"BLOCKS\",'Vertical Calculations'!N170,0)))","v":0},{"$f":"IF($C$210=\"FIXED\",'Vertical Calculations'!O168,IF($C$210=\"RELATIVE\",'Vertical Calculations'!O166,IF($C$210=\"BLOCKS\",'Vertical Calculations'!O170,0)))","v":0},{"$f":"IF($C$210=\"FIXED\",'Vertical Calculations'!P168,IF($C$210=\"RELATIVE\",'Vertical Calculations'!P166,IF($C$210=\"BLOCKS\",'Vertical Calculations'!P170,0)))","v":0},{"$f":"IF($C$210=\"FIXED\",'Vertical Calculations'!Q168,IF($C$210=\"RELATIVE\",'Vertical Calculations'!Q166,IF($C$210=\"BLOCKS\",'Vertical Calculations'!Q170,0)))","v":0},{"$f":"IF($C$210=\"FIXED\",'Vertical Calculations'!R168,IF($C$210=\"RELATIVE\",'Vertical Calculations'!R166,IF($C$210=\"BLOCKS\",'Vertical Calculations'!R170,0)))","v":0},{"$f":"IF($C$210=\"FIXED\",'Vertical Calculations'!S168,IF($C$210=\"RELATIVE\",'Vertical Calculations'!S166,IF($C$210=\"BLOCKS\",'Vertical Calculations'!S170,0)))","v":0},{"$f":"IF($C$210=\"FIXED\",'Vertical Calculations'!T168,IF($C$210=\"RELATIVE\",'Vertical Calculations'!T166,IF($C$210=\"BLOCKS\",'Vertical Calculations'!T170,0)))","v":0},{"$f":"IF($C$210=\"FIXED\",'Vertical Calculations'!U168,IF($C$210=\"RELATIVE\",'Vertical Calculations'!U166,IF($C$210=\"BLOCKS\",'Vertical Calculations'!U170,0)))","v":0},{"$f":"IF($C$210=\"FIXED\",'Vertical Calculations'!V168,IF($C$210=\"RELATIVE\",'Vertical Calculations'!V166,IF($C$210=\"BLOCKS\",'Vertical Calculations'!V170,0)))","v":0},{"$f":"IF($C$210=\"FIXED\",'Vertical Calculations'!W168,IF($C$210=\"RELATIVE\",'Vertical Calculations'!W166,IF($C$210=\"BLOCKS\",'Vertical Calculations'!W170,0)))","v":0},{"$f":"IF($C$210=\"FIXED\",'Vertical Calculations'!X168,IF($C$210=\"RELATIVE\",'Vertical Calculations'!X166,IF($C$210=\"BLOCKS\",'Vertical Calculations'!X170,0)))","v":0},{"$f":"IF($C$210=\"FIXED\",'Vertical Calculations'!Y168,IF($C$210=\"RELATIVE\",'Vertical Calculations'!Y166,IF($C$210=\"BLOCKS\",'Vertical Calculations'!Y170,0)))","v":0},{"$f":"IF($C$210=\"FIXED\",'Vertical Calculations'!Z168,IF($C$210=\"RELATIVE\",'Vertical Calculations'!Z166,IF($C$210=\"BLOCKS\",'Vertical Calculations'!Z170,0)))","v":0},{"$f":"IF($C$210=\"FIXED\",'Vertical Calculations'!AA168,IF($C$210=\"RELATIVE\",'Vertical Calculations'!AA166,IF($C$210=\"BLOCKS\",'Vertical Calculations'!AA170,0)))","v":0},{"$f":"IF($C$210=\"FIXED\",'Vertical Calculations'!AB168,IF($C$210=\"RELATIVE\",'Vertical Calculations'!AB166,IF($C$210=\"BLOCKS\",'Vertical Calculations'!AB170,0)))","v":0},{"$f":"IF($C$210=\"FIXED\",'Vertical Calculations'!AC168,IF($C$210=\"RELATIVE\",'Vertical Calculations'!AC166,IF($C$210=\"BLOCKS\",'Vertical Calculations'!AC170,0)))","v":0},{"$f":"IF($C$210=\"FIXED\",'Vertical Calculations'!AD168,IF($C$210=\"RELATIVE\",'Vertical Calculations'!AD166,IF($C$210=\"BLOCKS\",'Vertical Calculations'!AD170,0)))","v":0},{"$f":"IF($C$210=\"FIXED\",'Vertical Calculations'!AE168,IF($C$210=\"RELATIVE\",'Vertical Calculations'!AE166,IF($C$210=\"BLOCKS\",'Vertical Calculations'!AE170,0)))","v":0},{"$f":"IF($C$210=\"FIXED\",'Vertical Calculations'!AF168,IF($C$210=\"RELATIVE\",'Vertical Calculations'!AF166,IF($C$210=\"BLOCKS\",'Vertical Calculations'!AF170,0)))","v":0},{"$f":"IF($C$210=\"FIXED\",'Vertical Calculations'!AG168,IF($C$210=\"RELATIVE\",'Vertical Calculations'!AG166,IF($C$210=\"BLOCKS\",'Vertical Calculations'!AG170,0)))","v":0},{"$f":"IF($C$210=\"FIXED\",'Vertical Calculations'!AH168,IF($C$210=\"RELATIVE\",'Vertical Calculations'!AH166,IF($C$210=\"BLOCKS\",'Vertical Calculations'!AH170,0)))","v":0},{"$f":"IF($C$210=\"FIXED\",'Vertical Calculations'!AI168,IF($C$210=\"RELATIVE\",'Vertical Calculations'!AI166,IF($C$210=\"BLOCKS\",'Vertical Calculations'!AI170,0)))","v":0},{"$f":"IF($C$210=\"FIXED\",'Vertical Calculations'!AJ168,IF($C$210=\"RELATIVE\",'Vertical Calculations'!AJ166,IF($C$210=\"BLOCKS\",'Vertical Calculations'!AJ170,0)))","v":0},{"$f":"IF($C$210=\"FIXED\",'Vertical Calculations'!AK168,IF($C$210=\"RELATIVE\",'Vertical Calculations'!AK166,IF($C$210=\"BLOCKS\",'Vertical Calculations'!AK170,0)))","v":0},{"$f":"IF($C$210=\"FIXED\",'Vertical Calculations'!AL168,IF($C$210=\"RELATIVE\",'Vertical Calculations'!AL166,IF($C$210=\"BLOCKS\",'Vertical Calculations'!AL170,0)))","v":0},{"$f":"IF($C$210=\"FIXED\",'Vertical Calculations'!AM168,IF($C$210=\"RELATIVE\",'Vertical Calculations'!AM166,IF($C$210=\"BLOCKS\",'Vertical Calculations'!AM170,0)))","v":0},{"$f":"IF($C$210=\"FIXED\",'Vertical Calculations'!AN168,IF($C$210=\"RELATIVE\",'Vertical Calculations'!AN166,IF($C$210=\"BLOCKS\",'Vertical Calculations'!AN170,0)))","v":0},{"$f":"IF($C$210=\"FIXED\",'Vertical Calculations'!AO168,IF($C$210=\"RELATIVE\",'Vertical Calculations'!AO166,IF($C$210=\"BLOCKS\",'Vertical Calculations'!AO170,0)))","v":0},{"$f":"IF($C$210=\"FIXED\",'Vertical Calculations'!AP168,IF($C$210=\"RELATIVE\",'Vertical Calculations'!AP166,IF($C$210=\"BLOCKS\",'Vertical Calculations'!AP170,0)))","v":0},{"$f":"IF($C$210=\"FIXED\",'Vertical Calculations'!AQ168,IF($C$210=\"RELATIVE\",'Vertical Calculations'!AQ166,IF($C$210=\"BLOCKS\",'Vertical Calculations'!AQ170,0)))","v":0},{"$f":"IF($C$210=\"FIXED\",'Vertical Calculations'!AR168,IF($C$210=\"RELATIVE\",'Vertical Calculations'!AR166,IF($C$210=\"BLOCKS\",'Vertical Calculations'!AR170,0)))","v":0},{"$f":"IF($C$210=\"FIXED\",'Vertical Calculations'!AS168,IF($C$210=\"RELATIVE\",'Vertical Calculations'!AS166,IF($C$210=\"BLOCKS\",'Vertical Calculations'!AS170,0)))","v":0},{"$f":"IF($C$210=\"FIXED\",'Vertical Calculations'!AT168,IF($C$210=\"RELATIVE\",'Vertical Calculations'!AT166,IF($C$210=\"BLOCKS\",'Vertical Calculations'!AT170,0)))","v":0},{"$f":"IF($C$210=\"FIXED\",'Vertical Calculations'!AU168,IF($C$210=\"RELATIVE\",'Vertical Calculations'!AU166,IF($C$210=\"BLOCKS\",'Vertical Calculations'!AU170,0)))","v":0},{"$f":"IF($C$210=\"FIXED\",'Vertical Calculations'!AV168,IF($C$210=\"RELATIVE\",'Vertical Calculations'!AV166,IF($C$210=\"BLOCKS\",'Vertical Calculations'!AV170,0)))","v":0},{"$f":"IF($C$210=\"FIXED\",'Vertical Calculations'!AW168,IF($C$210=\"RELATIVE\",'Vertical Calculations'!AW166,IF($C$210=\"BLOCKS\",'Vertical Calculations'!AW170,0)))","v":0},{"$f":"IF($C$210=\"FIXED\",'Vertical Calculations'!AX168,IF($C$210=\"RELATIVE\",'Vertical Calculations'!AX166,IF($C$210=\"BLOCKS\",'Vertical Calculations'!AX170,0)))","v":0},{"$f":"IF($C$210=\"FIXED\",'Vertical Calculations'!AY168,IF($C$210=\"RELATIVE\",'Vertical Calculations'!AY166,IF($C$210=\"BLOCKS\",'Vertical Calculations'!AY170,0)))","v":0},{"$f":"IF($C$210=\"FIXED\",'Vertical Calculations'!AZ168,IF($C$210=\"RELATIVE\",'Vertical Calculations'!AZ166,IF($C$210=\"BLOCKS\",'Vertical Calculations'!AZ170,0)))","v":0},{"$f":"IF($C$210=\"FIXED\",'Vertical Calculations'!BA168,IF($C$210=\"RELATIVE\",'Vertical Calculations'!BA166,IF($C$210=\"BLOCKS\",'Vertical Calculations'!BA170,0)))","v":0}]
[]
["LABEL 20"]
["QUANTITY"]
["WIDTH (mm)",{"$nulls":3},"","","","","","","","","","","","","","","","","","","","","","","","","","","","","","","","","","","","","","","","","","","","","","","","","",""]
["HEIGHT (mm)"]
["COLOUR","-- SELECT --",{"$f":"B216","v":0}]
["TEXT SIZE  (mm)","AUTO"]
["FIXING","-- SELECT --"]
[{"$nulls":4},"I","I","I","I","I","I","I","I","I","I","I","I","I","I","I","I","I","I","I","I","I","I","I","I","I","I","I","I","I","I","I","I","I","I","I","I","I","I","I","I","I","I","I","I","I","I","I","I","I","I"]
["HOLES REQUIRED",null,"-- SELECT --"]
["HOLE SIZE  (mm)",null,{"$f":"VLOOKUP(C221,'Background Information'!$O$1:$P$4,2,FALSE)","v":0},null,{"$f":"IF($C$221=\"FIXED\",'Vertical Calculations'!D177,IF($C$221=\"RELATIVE\",'Vertical Calculations'!D175,IF($C$221=\"BLOCKS\",'Vertical Calculations'!D179,0)))","v":0},{"$f":"IF($C$221=\"FIXED\",'Vertical Calculations'!E177,IF($C$221=\"RELATIVE\",'Vertical Calculations'!E175,IF($C$221=\"BLOCKS\",'Vertical Calculations'!E179,0)))","v":0},{"$f":"IF($C$221=\"FIXED\",'Vertical Calculations'!F177,IF($C$221=\"RELATIVE\",'Vertical Calculations'!F175,IF($C$221=\"BLOCKS\",'Vertical Calculations'!F179,0)))","v":0},{"$f":"IF($C$221=\"FIXED\",'Vertical Calculations'!G177,IF($C$221=\"RELATIVE\",'Vertical Calculations'!G175,IF($C$221=\"BLOCKS\",'Vertical Calculations'!G179,0)))","v":0},{"$f":"IF($C$221=\"FIXED\",'Vertical Calculations'!H177,IF($C$221=\"RELATIVE\",'Vertical Calculations'!H175,IF($C$221=\"BLOCKS\",'Vertical Calculations'!H179,0)))","v":0},{"$f":"IF($C$221=\"FIXED\",'Vertical Calculations'!I177,IF($C$221=\"RELATIVE\",'Vertical Calculations'!I175,IF($C$221=\"BLOCKS\",'Vertical Calculations'!I179,0)))","v":0},{"$f":"IF($C$221=\"FIXED\",'Vertical Calculations'!J177,IF($C$221=\"RELATIVE\",'Vertical Calculations'!J175,IF($C$221=\"BLOCKS\",'Vertical Calculations'!J179,0)))","v":0},{"$f":"IF($C$221=\"FIXED\",'Vertical Calculations'!K177,IF($C$221=\"RELATIVE\",'Vertical Calculations'!K175,IF($C$221=\"BLOCKS\",'Vertical Calculations'!K179,0)))","v":0},{"$f":"IF($C$221=\"FIXED\",'Vertical Calculations'!L177,IF($C$221=\"RELATIVE\",'Vertical Calculations'!L175,IF($C$221=\"BLOCKS\",'Vertical Calculations'!L179,0)))","v":0},{"$f":"IF($C$221=\"FIXED\",'Vertical Calculations'!M177,IF($C$221=\"RELATIVE\",'Vertical Calculations'!M175,IF($C$221=\"BLOCKS\",'Vertical Calculations'!M179,0)))","v":0},{"$f":"IF($C$221=\"FIXED\",'Vertical Calculations'!N177,IF($C$221=\"RELATIVE\",'Vertical Calculations'!N175,IF($C$221=\"BLOCKS\",'Vertical Calculations'!N179,0)))","v":0},{"$f":"IF($C$221=\"FIXED\",'Vertical Calculations'!O177,IF($C$221=\"RELATIVE\",'Vertical Calculations'!O175,IF($C$221=\"BLOCKS\",'Vertical Calculations'!O179,0)))","v":0},{"$f":"IF($C$221=\"FIXED\",'Vertical Calculations'!P177,IF($C$221=\"RELATIVE\",'Vertical Calculations'!P175,IF($C$221=\"BLOCKS\",'Vertical Calculations'!P179,0)))","v":0},{"$f":"IF($C$221=\"FIXED\",'Vertical Calculations'!Q177,IF($C$221=\"RELATIVE\",'Vertical Calculations'!Q175,IF($C$221=\"BLOCKS\",'Vertical Calculations'!Q179,0)))","v":0},{"$f":"IF($C$221=\"FIXED\",'Vertical Calculations'!R177,IF($C$221=\"RELATIVE\",'Vertical Calculations'!R175,IF($C$221=\"BLOCKS\",'Vertical Calculations'!R179,0)))","v":0},{"$f":"IF($C$221=\"FIXED\",'Vertical Calculations'!S177,IF($C$221=\"RELATIVE\",'Vertical Calculations'!S175,IF($C$221=\"BLOCKS\",'Vertical Calculations'!S179,0)))","v":0},{"$f":"IF($C$221=\"FIXED\",'Vertical Calculations'!T177,IF($C$221=\"RELATIVE\",'Vertical Calculations'!T175,IF($C$221=\"BLOCKS\",'Vertical Calculations'!T179,0)))","v":0},{"$f":"IF($C$221=\"FIXED\",'Vertical Calculations'!U177,IF($C$221=\"RELATIVE\",'Vertical Calculations'!U175,IF($C$221=\"BLOCKS\",'Vertical Calculations'!U179,0)))","v":0},{"$f":"IF($C$221=\"FIXED\",'Vertical Calculations'!V177,IF($C$221=\"RELATIVE\",'Vertical Calculations'!V175,IF($C$221=\"BLOCKS\",'Vertical Calculations'!V179,0)))","v":0},{"$f":"IF($C$221=\"FIXED\",'Vertical Calculations'!W177,IF($C$221=\"RELATIVE\",'Vertical Calculations'!W175,IF($C$221=\"BLOCKS\",'Vertical Calculations'!W179,0)))","v":0},{"$f":"IF($C$221=\"FIXED\",'Vertical Calculations'!X177,IF($C$221=\"RELATIVE\",'Vertical Calculations'!X175,IF($C$221=\"BLOCKS\",'Vertical Calculations'!X179,0)))","v":0},{"$f":"IF($C$221=\"FIXED\",'Vertical Calculations'!Y177,IF($C$221=\"RELATIVE\",'Vertical Calculations'!Y175,IF($C$221=\"BLOCKS\",'Vertical Calculations'!Y179,0)))","v":0},{"$f":"IF($C$221=\"FIXED\",'Vertical Calculations'!Z177,IF($C$221=\"RELATIVE\",'Vertical Calculations'!Z175,IF($C$221=\"BLOCKS\",'Vertical Calculations'!Z179,0)))","v":0},{"$f":"IF($C$221=\"FIXED\",'Vertical Calculations'!AA177,IF($C$221=\"RELATIVE\",'Vertical Calculations'!AA175,IF($C$221=\"BLOCKS\",'Vertical Calculations'!AA179,0)))","v":0},{"$f":"IF($C$221=\"FIXED\",'Vertical Calculations'!AB177,IF($C$221=\"RELATIVE\",'Vertical Calculations'!AB175,IF($C$221=\"BLOCKS\",'Vertical Calculations'!AB179,0)))","v":0},{"$f":"IF($C$221=\"FIXED\",'Vertical Calculations'!AC177,IF($C$221=\"RELATIVE\",'Vertical Calculations'!AC175,IF($C$221=\"BLOCKS\",'Vertical Calculations'!AC179,0)))","v":0},{"$f":"IF($C$221=\"FIXED\",'Vertical Calculations'!AD177,IF($C$221=\"RELATIVE\",'Vertical Calculations'!AD175,IF($C$221=\"BLOCKS\",'Vertical Calculations'!AD179,0)))","v":0},{"$f":"IF($C$221=\"FIXED\",'Vertical Calculations'!AE177,IF($C$221=\"RELATIVE\",'Vertical Calculations'!AE175,IF($C$221=\"BLOCKS\",'Vertical Calculations'!AE179,0)))","v":0},{"$f":"IF($C$221=\"FIXED\",'Vertical Calculations'!AF177,IF($C$221=\"RELATIVE\",'Vertical Calculations'!AF175,IF($C$221=\"BLOCKS\",'Vertical Calculations'!AF179,0)))","v":0},{"$f":"IF($C$221=\"FIXED\",'Vertical Calculations'!AG177,IF($C$221=\"RELATIVE\",'Vertical Calculations'!AG175,IF($C$221=\"BLOCKS\",'Vertical Calculations'!AG179,0)))","v":0},{"$f":"IF($C$221=\"FIXED\",'Vertical Calculations'!AH177,IF($C$221=\"RELATIVE\",'Vertical Calculations'!AH175,IF($C$221=\"BLOCKS\",'Vertical Calculations'!AH179,0)))","v":0},{"$f":"IF($C$221=\"FIXED\",'Vertical Calculations'!AI177,IF($C$221=\"RELATIVE\",'Vertical Calculations'!AI175,IF($C$221=\"BLOCKS\",'Vertical Calculations'!AI179,0)))","v":0},{"$f":"IF($C$221=\"FIXED\",'Vertical Calculations'!AJ177,IF($C$221=\"RELATIVE\",'Vertical Calculations'!AJ175,IF($C$221=\"BLOCKS\",'Vertical Calculations'!AJ179,0)))","v":0},{"$f":"IF($C$221=\"FIXED\",'Vertical Calculations'!AK177,IF($C$221=\"RELATIVE\",'Vertical Calculations'!AK175,IF($C$221=\"BLOCKS\",'Vertical Calculations'!AK179,0)))","v":0},{"$f":"IF($C$221=\"FIXED\",'Vertical Calculations'!AL177,IF($C$221=\"RELATIVE\",'Vertical Calculations'!AL175,IF($C$221=\"BLOCKS\",'Vertical Calculations'!AL179,0)))","v":0},{"$f":"IF($C$221=\"FIXED\",'Vertical Calculations'!AM177,IF($C$221=\"RELATIVE\",'Vertical Calculations'!AM175,IF($C$221=\"BLOCKS\",'Vertical Calculations'!AM179,0)))","v":0},{"$f":"IF($C$221=\"FIXED\",'Vertical Calculations'!AN177,IF($C$221=\"RELATIVE\",'Vertical Calculations'!AN175,IF($C$221=\"BLOCKS\",'Vertical Calculations'!AN179,0)))","v":0},{"$f":"IF($C$221=\"FIXED\",'Vertical Calculations'!AO177,IF($C$221=\"RELATIVE\",'Vertical Calculations'!AO175,IF($C$221=\"BLOCKS\",'Vertical Calculations'!AO179,0)))","v":0},{"$f":"IF($C$221=\"FIXED\",'Vertical Calculations'!AP177,IF($C$221=\"RELATIVE\",'Vertical Calculations'!AP175,IF($C$221=\"BLOCKS\",'Vertical Calculations'!AP179,0)))","v":0},{"$f":"IF($C$221=\"FIXED\",'Vertical Calculations'!AQ177,IF($C$221=\"RELATIVE\",'Vertical Calculations'!AQ175,IF($C$221=\"BLOCKS\",'Vertical Calculations'!AQ179,0)))","v":0},{"$f":"IF($C$221=\"FIXED\",'Vertical Calculations'!AR177,IF($C$221=\"RELATIVE\",'Vertical Calculations'!AR175,IF($C$221=\"BLOCKS\",'Vertical Calculations'!AR179,0)))","v":0},{"$f":"IF($C$221=\"FIXED\",'Vertical Calculations'!AS177,IF($C$221=\"RELATIVE\",'Vertical Calculations'!AS175,IF($C$221=\"BLOCKS\",'Vertical Calculations'!AS179,0)))","v":0},{"$f":"IF($C$221=\"FIXED\",'Vertical Calculations'!AT177,IF($C$221=\"RELATIVE\",'Vertical Calculations'!AT175,IF($C$221=\"BLOCKS\",'Vertical Calculations'!AT179,0)))","v":0},{"$f":"IF($C$221=\"FIXED\",'Vertical Calculations'!AU177,IF($C$221=\"RELATIVE\",'Vertical Calculations'!AU175,IF($C$221=\"BLOCKS\",'Vertical Calculations'!AU179,0)))","v":0},{"$f":"IF($C$221=\"FIXED\",'Vertical Calculations'!AV177,IF($C$221=\"RELATIVE\",'Vertical Calculations'!AV175,IF($C$221=\"BLOCKS\",'Vertical Calculations'!AV179,0)))","v":0},{"$f":"IF($C$221=\"FIXED\",'Vertical Calculations'!AW177,IF($C$221=\"RELATIVE\",'Vertical Calculations'!AW175,IF($C$221=\"BLOCKS\",'Vertical Calculations'!AW179,0)))","v":0},{"$f":"IF($C$221=\"FIXED\",'Vertical Calculations'!AX177,IF($C$221=\"RELATIVE\",'Vertical Calculations'!AX175,IF($C$221=\"BLOCKS\",'Vertical Calculations'!AX179,0)))","v":0},{"$f":"IF($C$221=\"FIXED\",'Vertical Calculations'!AY177,IF($C$221=\"RELATIVE\",'Vertical Calculations'!AY175,IF($C$221=\"BLOCKS\",'Vertical Calculations'!AY179,0)))","v":0},{"$f":"IF($C$221=\"FIXED\",'Vertical Calculations'!AZ177,IF($C$221=\"RELATIVE\",'Vertical Calculations'!AZ175,IF($C$221=\"BLOCKS\",'Vertical Calculations'!AZ179,0)))","v":0},{"$f":"IF($C$221=\"FIXED\",'Vertical Calculations'!BA177,IF($C$221=\"RELATIVE\",'Vertical Calculations'!BA175,IF($C$221=\"BLOCKS\",'Vertical Calculations'!BA179,0)))","v":0}]

{"sheet":"Horizontal Switch Plates","index":3,"n_rows":331,"n_cols":49,"rows_kept":331,"merged":[[0,1,0,4],[0,12,0,13],[1,1,1,3],[1,12,1,13],[3,1,3,3],[3,5,3,6],[3,9,3,11],[3,13,3,14],[3,17,3,19],[3,21,3,22],[3,25,3,27],[3,29,3,30],[3,33,3,35],[3,37,3,38],[3,41,3,43],[3,45,3,46],[4,1,4,3],[4,5,4,7],[4,9,4,11],[4,13,4,15],[4,17,4,19],[4,21,4,23],[4,25,4,27],[4,29,4,31],[4,33,4,35],[4,37,4,39],[4,41,4,43],[4,45,4,47],[5,2,5,3],[5,6,5,7],[5,10,5,11],[5,14,5,15],[5,18,5,19],[5,21,5,22],[5,26,5,27],[5,30,5,31],[5,34,5,35],[5,37,5,38],[5,42,5,43],[5,45,5,46],[6,2,6,3],[6,6,6,7],[6,10,6,11],[6,14,6,15],[6,18,6,19],[6,21,6,22],[6,26,6,27],[6,30,6,31],[6,34,6,35],[6,37,6,38],[6,42,6,43],[6,45,6,46],[8,1,8,7],[8,9,8,15],[8,17,8,23],[8,25,8,31],[8,33,8,39],[8,41,8,47],[9,1,9,7],[9,9,9,15],[9,17,9,23],[9,25,10,26],[9,30,10,31],[9,33,10,33],[9,35,13,35],[9,37,13,37],[9,39,10,39],[9,41,10,41],[9,43,13,43],[9,45,13,45],[9,47,10,47],[10,1,10,7],[10,9,12,10],[10,14,12,15],[10,17,12,17],[10,19,18,19],[10,21,18,21],[10,23,12,23],[10,28,14,28],[11,1,11,7],[11,12,17,12],[11,25,13,26],[11,27,13,27],[11,29,13,29],[11,30,13,31],[11,33,13,33],[11,34,13,34],[11,36,13,36],[11,38,13,38],[11,39,13,39],[11,41,13,41],[11,42,13,42],[11,44,13,44],[11,46,13,46],[11,47,13,47],[12,1,12,7],[13,1,13,3],[13,4,15,4],[13,5,13,7],[13,9,15,10],[13,11,15,11],[13,13,15,13],[13,14,15,15],[13,17,15,17],[13,18,15,18],[13,20,15,20],[13,22,15,22],[13,23,15,23],[14,1,14,3],[14,5,14,7],[14,25,16,26],[14,30,16,31],[14,33,16,33],[14,35,16,35],[14,36,16,36],[14,37,16,37],[14,39,16,39],[14,41,16,41],[14,43,16,43],[14,45,16,45],[14,47,16,47],[15,1,15,3],[15,5,15,7],[16,1,16,7],[16,9,18,10],[16,14,18,15],[16,17,18,17],[16,23,18,23],[16,28,20,28],[17,1,17,7],[17,25,19,26],[17,27,19,27],[17,29,19,29],[17,30,19,31],[17,33,19,33],[17,34,19,34],[17,35,21,35],[17,36,19,36],[17,37,21,37],[17,38,19,38],[17,39,19,39],[17,41,19,41],[17,42,19,42],[17,43,21,43],[17,44,19,44],[17,45,21,45],[17,46,19,46],[17,47,19,47],[18,1,18,7],[19,1,19,7],[19,9,19,15],[19,17,19,23],[20,1,20,7],[20,9,20,15],[20,17,20,23],[20,25,21,26],[20,30,21,31],[20,33,21,33],[20,39,21,39],[20,41,21,41],[20,47,21,47],[22,25,22,31],[22,33,22,39],[22,41,22,47],[25,1,25,3],[25,5,25,6],[25,9,25,11],[25,13,25,14],[25,17,25,19],[25,21,25,22],[25,25,25,27],[25,29,25,30],[25,33,25,35],[25,37,25,38],[25,41,25,43],[25,45,25,46],[26,1,26,3],[26,5,26,7],[26,9,26,11],[26,13,26,15],[26,17,26,19],[26,21,26,23],[26,25,26,27],[26,29,26,31],[26,33,26,35],[26,37,26,39],[26,41,26,43],[26,45,26,47],[27,2,27,3],[27,6,27,7],[27,10,27,11],[27,14,27,15],[27,18,27,19],[27,21,27,22],[27,26,27,27],[27,30,27,31],[27,34,27,35],[27,37,27,38],[27,42,27,43],[27,45,27,46],[28,2,28,3],[28,6,28,7],[28,10,28,11],[28,14,28,15],[28,18,28,19],[28,21,28,22],[28,26,28,27],[28,30,28,31],[28,34,28,35],[28,37,28,38],[28,42,28,43],[28,45,28,46],[30,1,30,7],[30,9,30,15],[30,17,30,23],[30,25,30,31],[30,33,30,39],[30,41,30,47],[31,1,31,7],[31,9,31,15],[31,17,31,23],[31,25,32,26],[31,30,32,31],[31,33,32,33],[31,35,35,35],[31,37,35,37],[31,39,32,39],[31,41,32,41],[31,43,35,43],[31,45,35,45],[31,47,32,47],[32,1,32,7],[32,9,34,10],[32,14,34,15],[32,17,34,17],[32,19,40,19],[32,21,40,21],[32,23,34,23],[32,28,36,28],[33,1,33,7],[33,12,39,12],[33,25,35,26],[33,27,35,27],[33,29,35,29],[33,30,35,31],[33,33,35,33],[33,34,35,34],[33,36,35,36],[33,38,35,38],[33,39,35,39],[33,41,35,41],[33,42,35,42],[33,44,35,44],[33,46,35,46],[33,47,35,47],[34,1,34,7],[35,1,35,3],[35,4,37,4],[35,5,35,7],[35,9,37,10],[35,11,37,11],[35,13,37,13],[35,14,37,15],[35,17,37,17],[35,18,37,18],[35,20,37,20],[35,22,37,22],[35,23,37,23],[36,1,36,3],[36,5,36,7],[36,25,38,26],[36,30,38,31],[36,33,38,33],[36,35,38,35],[36,36,38,36],[36,37,38,37],[36,39,38,39],[36,41,38,41],[36,43,38,43],[36,45,38,45],[36,47,38,47],[37,1,37,3],[37,5,37,7],[38,1,38,7],[38,9,40,10],[38,14,40,15],[38,17,40,17],[38,23,40,23],[38,28,42,28],[39,1,39,7],[39,25,41,26],[39,27,41,27],[39,29,41,29],[39,30,41,31],[39,33,41,33],[39,34,41,34],[39,35,43,35],[39,36,41,36],[39,37,43,37],[39,38,41,38],[39,39,41,39],[39,41,41,41],[39,42,41,42],[39,43,43,43],[39,44,41,44],[39,45,43,45],[39,46,41,46],[39,47,41,47],[40,1,40,7],[41,1,41,7],[41,9,41,15],[41,17,41,23],[42,1,42,7],[42,9,42,15],[42,17,42,23],[42,25,43,26],[42,30,43,31],[42,33,43,33],[42,39,43,39],[42,41,43,41],[42,47,43,47],[44,25,44,31],[44,33,44,39],[44,41,44,47],[47,1,47,3],[47,5,47,6],[47,9,47,11],[47,13,47,14],[47,17,47,19],[47,21,47,22],[47,25,47,27],[47,29,47,30],[47,33,47,35],[47,37,47,38],[47,41,47,43],[47,45,47,46],[48,1,48,3],[48,5,48,7],[48,9,48,11],[48,13,48,15],[48,17,48,19],[48,21,48,23],[48,25,48,27],[48,29,48,31],[48,33,48,35],[48,37,48,39],[48,41,48,43],[48,45,48,47],[49,2,49,3],[49,6,49,7],[49,10,49,11],[49,14,49,15],[49,18,49,19],[49,21,49,22],[49,26,49,27],[49,30,49,31],[49,34,49,35],[49,37,49,38],[49,42,49,43],[49,45,49,46],[50,2,50,3],[50,6,50,7],[50,10,50,11],[50,14,50,15],[50,18,50,19],[50,21,50,22],[50,26,50,27],[50,30,50,31],[50,34,50,35],[50,37,50,38],[50,42,50,43],[50,45,50,46],[52,1,52,7],[52,9,52,15],[52,17,52,23],[52,25,52,31],[52,33,52,39],[52,41,52,47],[53,1,53,7],[53,9,53,15],[53,17,53,23],[53,25,54,26],[53,30,54,31],[53,33,54,33],[53,35,57,35],[53,37,57,37],[53,39,54,39],[53,41,54,41],[53,43,57,43],[53,45,57,45],[53,47,54,47],[54,1,54,7],[54,9,56,10],[54,14,56,15],[54,17,56,17],[54,19,62,19],[54,21,62,21],[54,23,56,23],[54,28,58,28],[55,1,55,7],[55,12,61,12],[55,25,57,26],[55,27,57,27],[55,29,57,29],[55,30,57,31],[55,33,57,33],[55,34,57,34],[55,36,57,36],[55,38,57,38],[55,39,57,39],[55,41,57,41],[55,42,57,42],[55,44,57,44],[55,46,57,46],[55,47,57,47],[56,1,56,7],[57,1,57,3],[57,4,59,4],[57,5,57,7],[57,9,59,10],[57,11,59,11],[57,13,59,13],[57,14,59,15],[57,17,59,17],[57,18,59,18],[57,20,59,20],[57,22,59,22],[57,23,59,23],[58,1,58,3],[58,5,58,7],[58,25,60,26],[58,30,60,31],[58,33,60,33],[58,35,60,35],[58,36,60,36],[58,37,60,37],[58,39,60,39],[58,41,60,41],[58,43,60,43],[58,45,60,45],[58,47,60,47],[59,1,59,3],[59,5,59,7],[60,1,60,7],[60,9,62,10],[60,14,62,15],[60,17,62,17],[60,23,62,23],[60,28,64,28],[61,1,61,7],[61,25,63,26],[61,27,63,27],[61,29,63,29],[61,30,63,31],[61,33,63,33],[61,34,63,34],[61,35,65,35],[61,36,63,36],[61,37,65,37],[61,38,63,38],[61,39,63,39],[61,41,63,41],[61,42,63,42],[61,43,65,43],[61,44,63,44],[61,45,65,45],[61,46,63,46],[61,47,63,47],[62,1,62,7],[63,1,63,7],[63,9,63,15],[63,17,63,23],[64,1,64,7],[64,9,64,15],[64,17,64,23],[64,25,65,26],[64,30,65,31],[64,33,65,33],[64,39,65,39],[64,41,65,41],[64,47,65,47],[66,25,66,31],[66,33,66,39],[66,41,66,47],[69,1,69,3],[69,5,69,6],[69,9,69,11],[69,13,69,14],[69,17,69,19],[69,21,69,22],[69,25,69,27],[69,29,69,30],[69,33,69,35],[69,37,69,38],[69,41,69,43],[69,45,69,46],[70,1,70,3],[70,5,70,7],[70,9,70,11],[70,13,70,15],[70,17,70,19],[70,21,70,23],[70,25,70,27],[70,29,70,31],[70,33,70,35],[70,37,70,39],[70,41,70,43],[70,45,70,47],[71,2,71,3],[71,6,71,7],[71,10,71,11],[71,14,71,15],[71,18,71,19],[71,21,71,22],[71,26,71,27],[71,30,71,31],[71,34,71,35],[71,37,71,38],[71,42,71,43],[71,45,71,46],[72,2,72,3],[72,6,72,7],[72,10,72,11],[72,14,72,15],[72,18,72,19],[72,21,72,22],[72,26,72,27],[72,30,72,31],[72,34,72,35],[72,37,72,38],[72,42,72,43],[72,45,72,46],[74,1,74,7],[74,9,74,15],[74,17,74,23],[74,25,74,31],[74,33,74,39],[74,41,74,47],[75,1,75,7],[75,9,75,15],[75,17,75,23],[75,25,76,26],[75,30,76,31],[75,33,76,33],[75,35,79,35],[75,37,79,37],[75,39,76,39],[75,41,76,41],[75,43,79,43],[75,45,79,45],[75,47,76,47],[76,1,76,7],[76,9,78,10],[76,14,78,15],[76,17,78,17],[76,19,84,19],[76,21,84,21],[76,23,78,23],[76,28,80,28],[77,1,77,7],[77,12,83,12],[77,25,79,26],[77,27,79,27],[77,29,79,29],[77,30,79,31],[77,33,79,33],[77,34,79,34],[77,36,79,36],[77,38,79,38],[77,39,79,39],[77,41,79,41],[77,42,79,42],[77,44,79,44],[77,46,79,46],[77,47,79,47],[78,1,78,7],[79,1,79,3],[79,4,81,4],[79,5,79,7],[79,9,81,10],[79,11,81,11],[79,13,81,13],[79,14,81,15],[79,17,81,17],[79,18,81,18],[79,20,81,20],[79,22,81,22],[79,23,81,23],[80,1,80,3],[80,5,80,7],[80,25,82,26],[80,30,82,31],[80,33,82,33],[80,35,82,35],[80,36,82,36],[80,37,82,37],[80,39,82,39],[80,41,82,41],[80,43,82,43],[80,45,82,45],[80,47,82,47],[81,1,81,3],[81,5,81,7],[82,1,82,7],[82,9,84,10],[82,14,84,15],[82,17,84,17],[82,23,84,23],[82,28,86,28],[83,1,83,7],[83,25,85,26],[83,27,85,27],[83,29,85,29],[83,30,85,31],[83,33,85,33],[83,34,85,34],[83,35,87,35],[83,36,85,36],[83,37,87,37],[83,38,85,38],[83,39,85,39],[83,41,85,41],[83,42,85,42],[83,43,87,43],[83,44,85,44],[83,45,87,45],[83,46,85,46],[83,47,85,47],[84,1,84,7],[85,1,85,7],[85,9,85,15],[85,17,85,23],[86,1,86,7],[86,9,86,15],[86,17,86,23],[86,25,87,26],[86,30,87,31],[86,33,87,33],[86,39,87,39],[86,41,87,41],[86,47,87,47],[88,25,88,31],[88,33,88,39],[88,41,88,47],[91,1,91,3],[91,5,91,6],[91,9,91,11],[91,13,91,14],[91,17,91,19],[91,21,91,22],[91,25,91,27],[91,29,91,30],[91,33,91,35],[91,37,91,38],[91,41,91,43],[91,45,91,46],[92,1,92,3],[92,5,92,7],[92,9,92,11],[92,13,92,15],[92,17,92,19],[92,21,92,23],[92,25,92,27],[92,29,92,31],[92,33,92,35],[92,37,92,39],[92,41,92,43],[92,45,92,47],[93,2,93,3],[93,6,93,7],[93,10,93,11],[93,14,93,15],[93,18,93,19],[93,21,93,22],[93,26,93,27],[93,30,93,31],[93,34,93,35],[93,37,93,38],[93,42,93,43],[93,45,93,46],[94,2,94,3],[94,6,94,7],[94,10,94,11],[94,14,94,15],[94,18,94,19],[94,21,94,22],[94,26,94,27],[94,30,94,31],[94,34,94,35],[94,37,94,38],[94,42,94,43],[94,45,94,46],[96,1,96,7],[96,9,96,15],[96,17,96,23],[96,25,96,31],[96,33,96,39],[96,41,96,47],[97,1,97,7],[97,9,97,15],[97,17,97,23],[97,25,98,26],[97,30,98,31],[97,33,98,33],[97,35,101,35],[97,37,101,37],[97,39,98,39],[97,41,98,41],[97,43,101,43],[97,45,101,45],[97,47,98,47],[98,1,98,7],[98,9,100,10],[98,14,100,15],[98,17,100,17],[98,19,106,19],[98,21,106,21],[98,23,100,23],[98,28,102,28],[99,1,99,7],[99,12,105,12],[99,25,101,26],[99,27,101,27],[99,29,101,29],[99,30,101,31],[99,33,101,33],[99,34,101,34],[99,36,101,36],[99,38,101,38],[99,39,101,39],[99,41,101,41],[99,42,101,42],[99,44,101,44],[99,46,101,46],[99,47,101,47],[100,1,100,7],[101,1,101,3],[101,4,103,4],[101,5,101,7],[101,9,103,10],[101,11,103,11],[101,13,103,13],[101,14,103,15],[101,17,103,17],[101,18,103,18],[101,20,103,20],[101,22,103,22],[101,23,103,23],[102,1,102,3],[102,5,102,7],[102,25,104,26],[102,30,104,31],[102,33,104,33],[102,35,104,35],[102,36,104,36],[102,37,104,37],[102,39,104,39],[102,41,104,41],[102,43,104,43],[102,45,104,45],[102,47,104,47],[103,1,103,3],[103,5,103,7],[104,1,104,7],[104,9,106,10],[104,14,106,15],[104,17,106,17],[104,23,106,23],[104,28,108,28],[105,1,105,7],[105,25,107,26],[105,27,107,27],[105,29,107,29],[105,30,107,31],[105,33,107,33],[105,34,107,34],[105,35,109,35],[105,36,107,36],[105,37,109,37],[105,38,107,38],[105,39,107,39],[105,41,107,41],[105,42,107,42],[105,43,109,43],[105,44,107,44],[105,45,109,45],[105,46,107,46],[105,47,107,47],[106,1,106,7],[107,1,107,7],[107,9,107,15],[107,17,107,23],[108,1,108,7],[108,9,108,15],[108,17,108,23],[108,25,109,26],[108,30,109,31],[108,33,109,33],[108,39,109,39],[108,41,109,41],[108,47,109,47],[110,25,110,31],[110,33,110,39],[110,41,110,47],[113,1,113,3],[113,5,113,6],[113,9,113,11],[113,13,113,14],[113,17,113,19],[113,21,113,22],[113,25,113,27],[113,29,113,30],[113,33,113,35],[113,37,113,38],[113,41,113,43],[113,45,113,46],[114,1,114,3],[114,5,114,7],[114,9,114,11],[114,13,114,15],[114,17,114,19],[114,21,114,23],[114,25,114,27],[114,29,114,31],[114,33,114,35],[114,37,114,39],[114,41,114,43],[114,45,114,47],[115,2,115,3],[115,6,115,7],[115,10,115,11],[115,14,115,15],[115,18,115,19],[115,21,115,22],[115,26,115,27],[115,30,115,31],[115,34,115,35],[115,37,115,38],[115,42,115,43],[115,45,115,46],[116,2,116,3],[116,6,116,7],[116,10,116,11],[116,14,116,15],[116,18,116,19],[116,21,116,22],[116,26,116,27],[116,30,116,31],[116,34,116,35],[116,37,116,38],[116,42,116,43],[116,45,116,46],[118,1,118,7],[118,9,118,15],[118,17,118,23],[118,25,118,31],[118,33,118,39],[118,41,118,47],[119,1,119,7],[119,9,119,15],[119,17,119,23],[119,25,120,26],[119,30,120,31],[119,33,120,33],[119,35,123,35],[119,37,123,37],[119,39,120,39],[119,41,120,41],[119,43,123,43],[119,45,123,45],[119,47,120,47],[120,1,120,7],[120,9,122,10],[120,14,122,15],[120,17,122,17],[120,19,128,19],[120,21,128,21],[120,23,122,23],[120,28,124,28],[121,1,121,7],[121,12,127,12],[121,25,123,26],[121,27,123,27],[121,29,123,29],[121,30,123,31],[121,33,123,33],[121,34,123,34],[121,36,123,36],[121,38,123,38],[121,39,123,39],[121,41,123,41],[121,42,123,42],[121,44,123,44],[121,46,123,46],[121,47,123,47],[122,1,122,7],[123,1,123,3],[123,4,125,4],[123,5,123,7],[123,9,125,10],[123,11,125,11],[123,13,125,13],[123,14,125,15],[123,17,125,17],[123,18,125,18],[123,20,125,20],[123,22,125,22],[123,23,125,23],[124,1,124,3],[124,5,124,7],[124,25,126,26],[124,30,126,31],[124,33,126,33],[124,35,126,35],[124,36,126,36],[124,37,126,37],[124,39,126,39],[124,41,126,41],[124,43,126,43],[124,45,126,45],[124,47,126,47],[125,1,125,3],[125,5,125,7],[126,1,126,7],[126,9,128,10],[126,14,128,15],[126,17,128,17],[126,23,128,23],[126,28,130,28],[127,1,127,7],[127,25,129,26],[127,27,129,27],[127,29,129,29],[127,30,129,31],[127,33,129,33],[127,34,129,34],[127,35,131,35],[127,36,129,36],[127,37,131,37],[127,38,129,38],[127,39,129,39],[127,41,129,41],[127,42,129,42],[127,43,131,43],[127,44,129,44],[127,45,131,45],[127,46,129,46],[127,47,129,47],[128,1,128,7],[129,1,129,7],[129,9,129,15],[129,17,129,23],[130,1,130,7],[130,9,130,15],[130,17,130,23],[130,25,131,26],[130,30,131,31],[130,33,131,33],[130,39,131,39],[130,41,131,41],[130,47,131,47],[132,25,132,31],[132,33,132,39],[132,41,132,47],[135,1,135,3],[135,5,135,6],[135,9,135,11],[135,13,135,14],[135,17,135,19],[135,21,135,22],[135,25,135,27],[135,29,135,30],[135,33,135,35],[135,37,135,38],[135,41,135,43],[135,45,135,46],[136,1,136,3],[136,5,136,7],[136,9,136,11],[136,13,136,15],[136,17,136,19],[136,21,136,23],[136,25,136,27],[136,29,136,31],[136,33,136,35],[136,37,136,39],[136,41,136,43],[136,45,136,47],[137,2,137,3],[137,6,137,7],[137,10,137,11],[137,14,137,15],[137,18,137,19],[137,21,137,22],[137,26,137,27],[137,30,137,31],[137,34,137,35],[137,37,137,38],[137,42,137,43],[137,45,137,46]],"merged_total":2419,"flags":["merged_cut"]}
[null,"HORIZONTAL  SWITCH  PLATES",{"$nulls":7},"1 GANGS:",{"$f":"SUM(H4,H26,H48,H70,H92,H114,H136,H158,H180,H202,H224,H246,H268,H290,H312)","v":0},"2 GANGS:",{"$f":"SUM(P4,P26,P48,P70,P92,P114,P136,P158,P180,P202,P224,P246,P268,P290,P312)","v":0},null,"3 GANGS:",{"$f":"SUM(X4,X26,X48,X70,X92,X114,X136,X158,X180,X202,X224,X246,X268,X290,X312)","v":0}]
[null,"TOTAL HORIZONTAL PLATES",null,null,{"$f":"SUM(K1,K2,M1,M2,P1,P2)","v":0},{"$nulls":4},"4 GANGS:",{"$f":"SUM(AF4,AF26,AF48,AF70,AF92,AF114,AF136,AF158,AF180,AF202,AF224,AF246,AF268,AF290,AF312)","v":0},"5 GANGS:",{"$f":"SUM(AN4,AN26,AN48,AN70,AN92,AN114,AN136,AN158,AN180,AN202,AN224,AN246,AN268,AN290,AN312)","v":0},null,"6 GANGS:",{"$f":"SUM(AV4,AV26,AV48,AV70,AV92,AV114,AV136,AV158,AV180,AV202,AV224,AV246,AV268,AV290,AV312)","v":0}]
[]
[null,"1 GANG",{"$nulls":3},"QUANTITY:",null," ",null,"2 GANG",{"$nulls":3},"QUANTITY:",null," ",null,"3 GANG",{"$nulls":3},"QUANTITY:",null," ",null,"4 GANG",{"$nulls":3},"QUANTITY:",null," ",null,"5 GANG",{"$nulls":3},"QUANTITY:",null," ",null,"6 GANG",{"$nulls":3},"QUANTITY:",null," "]
[null,"SEQUENTIAL TEXT [SEQ A]",{"$nulls":3},"SEQUENTIAL TEXT [SEQ B]",{"$nulls":3},"SEQUENTIAL TEXT [SEQ A]",{"$nulls":3},"SEQUENTIAL TEXT [SEQ B]",{"$nulls":3},"SEQUENTIAL TEXT [SEQ A]",{"$nulls":3},"SEQUENTIAL TEXT [SEQ B]",{"$nulls":3},"SEQUENTIAL TEXT [SEQ A]",{"$nulls":3},"SEQUENTIAL TEXT [SEQ B]",{"$nulls":3},"SEQUENTIAL TEXT [SEQ A]",{"$nulls":3},"SEQUENTIAL TEXT [SEQ B]",{"$nulls":3},"SEQUENTIAL TEXT [SEQ A]",{"$nulls":3},"SEQUENTIAL TEXT [SEQ B]"]
[null,"FROM:"," ",null,null,"FROM:"," ",null,null,"FROM:"," ",null,null,"FROM:"," ",null,null,"FROM:"," ",null,null,"FROM:",null," ",null,"FROM:"," ",null,null,"FROM:"," ",null,null,"FROM:"," ",null,null,"FROM:",null," ",null,"FROM:"," ",null,null,"FROM:",null," "]
[null,"TO:"," ",null,null,"TO:"," ",null,null,"TO:"," ",null,null,"TO:"," ",null,null,"TO:"," ",null,null,"TO:",null," ",null,"TO:"," ",null,null,"TO:"," ",null,null,"TO:"," ",null,null,"TO:",null," ",null,"TO:"," ",null,null,"TO:",null," "]
[]
["LINE 1"," ",{"$nulls":6}," "," ",{"$nulls":6}," "," ",{"$nulls":6}," "," ",{"$nulls":6}," "," ",{"$nulls":6}," "," ",{"$nulls":6}," "]
[null," ",{"$nulls":6}," "," ",{"$nulls":6}," "," ",{"$nulls":6}," "," ",null," "," "," "," ",null," "," "," "," "," "," "," "," "," "," "," "," "," "," "," "," "," "]
[null," ",{"$nulls":6}," "," ",null," "," "," "," ",null," "," "," "," "," "," "," "," "," ",null,null," "," "," ",null,null," ",null," ",null," ",null," ",null," ",null," ",null," ",null," ",null," "]
[null," ",{"$nulls":6}," ",null,null," "," "," ",null,null," ",null," ",null," ",null," ",null," "," ",null," ",null," "," ",null," "," "," ",null," ",null," "," "," "," "," ",null," ",null," "," "," "]
[null," ",{"$nulls":6}," ",null,null," ",null," ",null,null," ",null," ",null," ",null," ",null," ",{"$nulls":7}," ",{"$nulls":7}," ",{"$nulls":7}," "]
[null," ",null,null," "," ",null,null," "," ",null," ",null," "," ",null," "," "," ",null," ",null," "," "," ",{"$nulls":7}," ",{"$nulls":7}," ",{"$nulls":7}," "]
[null," ",{"$nulls":3}," ",null,null," ",{"$nulls":7}," ",{"$nulls":7}," "," ",null," ",null," ",null,null," "," "," "," "," "," "," "," "," "," "," "," "," "," "," "," "," "]
[null," ",{"$nulls":3}," ",null,null," ",{"$nulls":7}," ",{"$nulls":7}," ",null,null," "," "," ",null,null," ",null," ",{"$nulls":3}," ",null," ",null," ",null," ",null," ",null," "]
[null," ",{"$nulls":6}," "," ",null," ",null," "," ",null," "," "," ",null," ",null," "," "," ",null,null," "," "," ",null,null," ",null," ",{"$nulls":3}," ",null," ",null," ",null," ",null," ",null," "]
[null," ",{"$nulls":6}," ",null,null," ",null," ",null,null," ",null," ",null," ",null," ",null," "," ",null," ",null," "," ",null," "," "," "," "," "," "," "," "," "," "," "," "," "," "," "," "," "]
[null," ",{"$nulls":6}," ",null,null," "," "," ",null,null," ",null," ",null," ",null," ",null," ",{"$nulls":7}," ",{"$nulls":7}," ",{"$nulls":7}," "]
[null," ",{"$nulls":6}," "," ",{"$nulls":6}," "," ",{"$nulls":6}," ",{"$nulls":7}," ",{"$nulls":7}," ",{"$nulls":7}," "]
[null," ",{"$nulls":6}," "," ",{"$nulls":6}," "," ",{"$nulls":6}," "," ",null," ",null," "," ",null," "," "," ",null," ",null," "," "," "," "," ",null," ",null," "," "," "]
[" "," "," "," "," "," "," "," "," "," "," "," "," "," "," "," "," "," "," "," "," "," "," "," "," ",null,null," "," "," ",null,null," ",null," ",null," ",null," ",null," ",null," ",null," ",null," ",null," "]
[" "," "," "," "," "," "," "," "," "," "," "," "," "," "," "," "," "," "," "," "," "," "," "," "," "," ",{"$nulls":6}," "," ",{"$nulls":6}," "," ",{"$nulls":6}," "]
[]
[]
[null,"1 GANG",{"$nulls":3},"QUANTITY:",null," ",null,"2 GANG",{"$nulls":3},"QUANTITY:",null," ",null,"3 GANG",{"$nulls":3},"QUANTITY:",null," ",null,"4 GANG",{"$nulls":3},"QUANTITY:",null," ",null,"5 GANG",{"$nulls":3},"QUANTITY:",null," ",null,"6 GANG",{"$nulls":3},"QUANTITY:",null," "]
[null,"SEQUENTIAL TEXT [SEQ A]",{"$nulls":3},"SEQUENTIAL TEXT [SEQ B]",{"$nulls":3},"SEQUENTIAL TEXT [SEQ A]",{"$nulls":3},"SEQUENTIAL TEXT [SEQ B]",{"$nulls":3},"SEQUENTIAL TEXT [SEQ A]",{"$nulls":3},"SEQUENTIAL TEXT [SEQ B]",{"$nulls":3},"SEQUENTIAL TEXT [SEQ A]",{"$nulls":3},"SEQUENTIAL TEXT [SEQ B]",{"$nulls":3},"SEQUENTIAL TEXT [SEQ A]",{"$nulls":3},"SEQUENTIAL TEXT [SEQ B]",{"$nulls":3},"SEQUENTIAL TEXT [SEQ A]",{"$nulls":3},"SEQUENTIAL TEXT [SEQ B]"]
[null,"FROM:"," ",null,null,"FROM:"," ",null,null,"FROM:"," ",null,null,"FROM:"," ",null,null,"FROM:"," ",null,null,"FROM:",null," ",null,"FROM:"," ",null,null,"FROM:"," ",null,null,"FROM:"," ",null,null,"FROM:",null," ",null,"FROM:"," ",null,null,"FROM:",null," "]
[null,"TO:"," ",null,null,"TO:"," ",null,null,"TO:"," ",null,null,"TO:"," ",null,null,"TO:"," ",null,null,"TO:",null," ",null,"TO:"," ",null,null,"TO:"," ",null,null,"TO:"," ",null,null,"TO:",null," ",null,"TO:"," ",null,null,"TO:",null," "]
[]
["LINE 2"," ",{"$nulls":6}," "," ",{"$nulls":6}," "," ",{"$nulls":6}," "," ",{"$nulls":6}," "," ",{"$nulls":6}," "," ",{"$nulls":6}," "]
[null," ",{"$nulls":6}," "," ",{"$nulls":6}," "," ",{"$nulls":6}," "," ",null," "," "," "," ",null," "," "," "," "," "," "," "," "," "," "," "," "," "," "," "," "," "]
[null," ",{"$nulls":6}," "," ",null," "," "," "," ",null," "," "," "," "," "," "," "," "," ",null,null," "," "," ",null,null," ",null," ",null," ",null," ",null," ",null," ",null," ",null," ",null," "]
[null," ",{"$nulls":6}," ",null,null," "," "," ",null,null," ",null," ",null," ",null," ",null," "," ",null," ",null," "," ",null," "," "," ",null," ",null," "," "," "," "," ",null," ",null," "," "," "]
[null," ",{"$nulls":6}," ",null,null," ",null," ",null,null," ",null," ",null," ",null," ",null," ",{"$nulls":7}," ",{"$nulls":7}," ",{"$nulls":7}," "]
[null," ",null,null," "," ",null,null," "," ",null," ",null," "," ",null," "," "," ",null," ",null," "," "," ",{"$nulls":7}," ",{"$nulls":7}," ",{"$nulls":7}," "]
[null," ",{"$nulls":3}," ",null,null," ",{"$nulls":7}," ",{"$nulls":7}," "," ",null," ",null," "," ",null," "," "," "," "," "," "," "," "," "," "," "," "," "," "," "," "," "]
[null," ",{"$nulls":3}," ",null,null," ",{"$nulls":7}," ",{"$nulls":7}," ",null,null," "," "," ",null,null," ",null," ",{"$nulls":3}," ",null," ",null," ",null," ",null," ",null," "]
[null," ",{"$nulls":6}," "," ",null," ",null," "," ",null," "," "," ",null," ",null," "," "," ",null,null," "," "," ",null,null," ",null," ",{"$nulls":3}," ",null," ",null," ",null," ",null," ",null," "]
[null," ",{"$nulls":6}," ",null,null," ",null," ",null,null," ",null," ",null," ",null," ",null," "," ",null," ",null," "," ",null," "," "," "," "," "," "," "," "," "," "," "," "," "," "," "," "," "]
[null," ",{"$nulls":6}," ",null,null," "," "," ",null,null," ",null," ",null," ",null," ",null," ",{"$nulls":7}," ",{"$nulls":7}," ",{"$nulls":7}," "]
[null," ",{"$nulls":6}," "," ",{"$nulls":6}," "," ",{"$nulls":6}," ",{"$nulls":7}," ",{"$nulls":7}," ",{"$nulls":7}," "]
[null," ",{"$nulls":6}," "," ",{"$nulls":6}," "," ",{"$nulls":6}," "," ",null," ",null," "," ",null," "," "," ",null," ",null," "," "," "," "," ",null," ",null," "," "," "]
[null," "," "," "," "," "," "," "," "," "," "," "," "," "," "," "," "," "," "," "," "," "," "," "," ",null,null," "," "," ",null,null," ",null," ",null," ",null," ",null," ",null," ",null," ",null," ",null," "]
[null," "," "," "," "," "," "," "," "," "," "," "," "," "," "," "," "," "," "," "," "," "," "," "," "," ",{"$nulls":6}," "," ",{"$nulls":6}," "," ",{"$nulls":6}," "]
[]
[]
[null,"1 GANG",{"$nulls":3},"QUANTITY:",null," ",null,"2 GANG",{"$nulls":3},"QUANTITY:",null," ",null,"3 GANG",{"$nulls":3},"QUANTITY:",null," ",null,"4 GANG",{"$nulls":3},"QUANTITY:",null," ",null,"5 GANG",{"$nulls":3},"QUANTITY:",null," ",null,"6 GANG",{"$nulls":3},"QUANTITY:",null," "]
[null,"SEQUENTIAL TEXT [SEQ A]",{"$nulls":3},"SEQUENTIAL TEXT [SEQ B]",{"$nulls":3},"SEQUENTIAL TEXT [SEQ A]",{"$nulls":3},"SEQUENTIAL TEXT [SEQ B]",{"$nulls":3},"SEQUENTIAL TEXT [SEQ A]",{"$nulls":3},"SEQUENTIAL TEXT [SEQ B]",{"$nulls":3},"SEQUENTIAL TEXT [SEQ A]",{"$nulls":3},"SEQUENTIAL TEXT [SEQ B]",{"$nulls":3},"SEQUENTIAL TEXT [SEQ A]",{"$nulls":3},"SEQUENTIAL TEXT [SEQ B]",{"$nulls":3},"SEQUENTIAL TEXT [SEQ A]",{"$nulls":3},"SEQUENTIAL TEXT [SEQ B]"]
[null,"FROM:"," ",null,null,"FROM:"," ",null,null,"FROM:"," ",null,null,"FROM:"," ",null,null,"FROM:"," ",null,null,"FROM:",null," ",null,"FROM:"," ",null,null,"FROM:"," ",null,null,"FROM:"," ",null,null,"FROM:",null," ",null,"FROM:"," ",null,null,"FROM:",null," "]
[null,"TO:"," ",null,null,"TO:"," ",null,null,"TO:"," ",null,null,"TO:"," ",null,null,"TO:"," ",null,null,"TO:",null," ",null,"TO:"," ",null,null,"TO:"," ",null,null,"TO:"," ",null,null,"TO:",null," ",null,"TO:"," ",null,null,"TO:",null," "]
[]
["LINE 3"," ",{"$nulls":6}," "," ",{"$nulls":6}," "," ",{"$nulls":6}," "," ",{"$nulls":6}," "," ",{"$nulls":6}," "," ",{"$nulls":6}," "]
[null," ",{"$nulls":6}," "," ",{"$nulls":6}," "," ",{"$nulls":6}," "," ",null," "," "," "," ",null," "," "," "," "," "," "," "," "," "," "," "," "," "," "," "," "," "]
[null," ",{"$nulls":6}," "," ",null," "," "," "," ",null," "," "," "," "," "," "," "," "," ",null,null," "," "," ",null,null," ",null," ",null," ",null," ",null," ",null," ",null," ",null," ",null," "]
[null," ",{"$nulls":6}," ",null,null," "," "," ",null,null," ",null," ",null," ",null," ",null," "," ",null," ",null," "," ",null," "," "," ",null," ",null," "," "," "," "," ",null," ",null," "," "," "]
[null," ",{"$nulls":6}," ",null,null," ",null," ",null,null," ",null," ",null," ",null," ",null," ",{"$nulls":7}," ",{"$nulls":7}," ",{"$nulls":7}," "]
[null," ",null,null," "," ",null,null," "," ",null," ",null," "," ",null," "," "," ",null," ",null," "," "," ",{"$nulls":7}," ",{"$nulls":7}," ",{"$nulls":7}," "]
[null," ",{"$nulls":3}," ",null,null," ",{"$nulls":7}," ",{"$nulls":7}," "," ",null," ",null," "," ",null," "," "," "," "," "," "," "," "," "," "," "," "," "," "," "," "," "]
[null," ",{"$nulls":3}," ",null,null," ",{"$nulls":7}," ",{"$nulls":7}," ",null,null," "," "," ",null,null," ",null," ",{"$nulls":3}," ",null," ",null," ",null," ",null," ",null," "]
[null," ",{"$nulls":6}," "," ",null," ",null," "," ",null," "," "," ",null," ",null," "," "," ",null,null," "," "," ",null,null," ",null," ",{"$nulls":3}," ",null," ",null," ",null," ",null," ",null," "]
[null," ",{"$nulls":6}," ",null,null," ",null," ",null,null," ",null," ",null," ",null," ",null," "," ",null," ",null," "," ",null," "," "," "," "," "," "," "," "," "," "," "," "," "," "," "," "," "]
[null," ",{"$nulls":6}," ",null,null," "," "," ",null,null," ",null," ",null," ",null," ",null," ",{"$nulls":7}," ",{"$nulls":7}," ",{"$nulls":7}," "]
[null," ",{"$nulls":6}," "," ",{"$nulls":6}," "," ",{"$nulls":6}," ",{"$nulls":7}," ",{"$nulls":7}," ",{"$nulls":7}," "]
[null," ",{"$nulls":6}," "," ",{"$nulls":6}," "," ",{"$nulls":6}," "," ",null," ",null," "," ",null," "," "," ",null," ",null," "," "," "," "," ",null," ",null," "," "," "]
[null," "," "," "," "," "," "," "," "," "," "," "," "," "," "," "," "," "," "," "," "," "," "," "," ",null,null," "," "," ",null,null," ",null," ",null," ",null," ",null," ",null," ",null," ",null," ",null," "]
[null," "," "," "," "," "," "," "," "," "," "," "," "," "," "," "," "," "," "," "," "," "," "," "," "," ",{"$nulls":6}," "," ",{"$nulls":6}," "," ",{"$nulls":6}," "]
[]
[]
[null,"1 GANG",{"$nulls":3},"QUANTITY:",null," ",null,"2 GANG",{"$nulls":3},"QUANTITY:",null," ",null,"3 GANG",{"$nulls":3},"QUANTITY:",null," ",null,"4 GANG",{"$nulls":3},"QUANTITY:",null," ",null,"5 GANG",{"$nulls":3},"QUANTITY:",null," ",null,"6 GANG",{"$nulls":3},"QUANTITY:",null," "]
[null,"SEQUENTIAL TEXT [SEQ A]",{"$nulls":3},"SEQUENTIAL TEXT [SEQ B]",{"$nulls":3},"SEQUENTIAL TEXT [SEQ A]",{"$nulls":3},"SEQUENTIAL TEXT [SEQ B]",{"$nulls":3},"SEQUENTIAL TEXT [SEQ A]",{"$nulls":3},"SEQUENTIAL TEXT [SEQ B]",{"$nulls":3},"SEQUENTIAL TEXT [SEQ A]",{"$nulls":3},"SEQUENTIAL TEXT [SEQ B]",{"$nulls":3},"SEQUENTIAL TEXT [SEQ A]",{"$nulls":3},"SEQUENTIAL TEXT [SEQ B]",{"$nulls":3},"SEQUENTIAL TEXT [SEQ A]",{"$nulls":3},"SEQUENTIAL TEXT [SEQ B]"]
[null,"FROM:"," ",null,null,"FROM:"," ",null,null,"FROM:"," ",null,null,"FROM:"," ",null,null,"FROM:"," ",null,null,"FROM:",null," ",null,"FROM:"," ",null,null,"FROM:"," ",null,null,"FROM:"," ",null,null,"FROM:",null," ",null,"FROM:"," ",null,null,"FROM:",null," "]
[null,"TO:"," ",null,null,"TO:"," ",null,null,"TO:"," ",null,null,"TO:"," ",null,null,"TO:"," ",null,null,"TO:",null," ",null,"TO:"," ",null,null,"TO:"," ",null,null,"TO:"," ",null,null,"TO:",null," ",null,"TO:"," ",null,null,"TO:",null," "]
[]
["LINE 4"," ",{"$nulls":6}," "," ",{"$nulls":6}," "," ",{"$nulls":6}," "," ",{"$nulls":6}," "," ",{"$nulls":6}," "," ",{"$nulls":6}," "]
[null," ",{"$nulls":6}," "," ",{"$nulls":6}," "," ",{"$nulls":6}," "," ",null," "," "," "," ",null," "," "," "," "," "," "," "," "," "," "," "," "," "," "," "," "," "]
[null," ",{"$nulls":6}," "," ",null," "," "," "," ",null," "," "," "," "," "," "," "," "," ",null,null," "," "," ",null,null," ",null," ",null," ",null," ",null," ",null," ",null," ",null," ",null," "]
[null," ",{"$nulls":6}," ",null,null," "," "," ",null,null," ",null," ",null," ",null," ",null," "," ",null," ",null," "," ",null," "," "," ",null," ",null," "," "," "," "," ",null," ",null," "," "," "]
[null," ",{"$nulls":6}," ",null,null," ",null," ",null,null," ",null," ",null," ",null," ",null," ",{"$nulls":7}," ",{"$nulls":7}," ",{"$nulls":7}," "]
[null," ",null,null," "," ",null,null," "," ",null," ",null," "," ",null," "," "," ",null," ",null," "," "," ",{"$nulls":7}," ",{"$nulls":7}," ",{"$nulls":7}," "]
[null," ",{"$nulls":3}," ",null,null," ",{"$nulls":7}," ",{"$nulls":7}," "," ",null," ",null," "," ",null," "," "," "," "," "," "," "," "," "," "," "," "," "," "," "," "," "]
[null," ",{"$nulls":3}," ",null,null," ",{"$nulls":7}," ",{"$nulls":7}," ",null,null," "," "," ",null,null," ",null," ",{"$nulls":3}," ",null," ",null," ",null," ",null," ",null," "]
[null," ",{"$nulls":6}," "," ",null," ",null," "," ",null," "," "," ",null," ",null," "," "," ",null,null," "," "," ",null,null," ",null," ",{"$nulls":3}," ",null," ",null," ",null," ",null," ",null," "]
[null," ",{"$nulls":6}," ",null,null," ",null," ",null,null," ",null," ",null," ",null," ",null," "," ",null," ",null," "," ",null," "," "," "," "," "," "," "," "," "," "," "," "," "," "," "," "," "]
[null," ",{"$nulls":6}," ",null,null," "," "," ",null,null," ",null," ",null," ",null," ",null," ",{"$nulls":7}," ",{"$nulls":7}," ",{"$nulls":7}," "]
[null," ",{"$nulls":6}," "," ",{"$nulls":6}," "," ",{"$nulls":6}," ",{"$nulls":7}," ",{"$nulls":7}," ",{"$nulls":7}," "]
[null," ",{"$nulls":6}," "," ",{"$nulls":6}," "," ",{"$nulls":6}," "," ",null," ",null," "," ",null," "," "," ",null," ",null," "," "," "," "," ",null," ",null," "," "," "]
[null," "," "," "," "," "," "," "," "," "," "," "," "," "," "," "," "," "," "," "," "," "," "," "," ",null,null," "," "," ",null,null," ",null," ",null," ",null," ",null," ",null," ",null," ",null," ",null," "]
[null," "," "," "," "," "," "," "," "," "," "," "," "," "," "," "," "," "," "," "," "," "," "," "," "," ",{"$nulls":6}," "," ",{"$nulls":6}," "," ",{"$nulls":6}," "]
[]
[]
[null,"1 GANG",{"$nulls":3},"QUANTITY:",null," ",null,"2 GANG",{"$nulls":3},"QUANTITY:",null," ",null,"3 GANG",{"$nulls":3},"QUANTITY:",null," ",null,"4 GANG",{"$nulls":3},"QUANTITY:",null," ",null,"5 GANG",{"$nulls":3},"QUANTITY:",null," ",null,"6 GANG",{"$nulls":3},"QUANTITY:",null," "]
[null,"SEQUENTIAL TEXT [SEQ A]",{"$nulls":3},"SEQUENTIAL TEXT [SEQ B]",{"$nulls":3},"SEQUENTIAL TEXT [SEQ A]",{"$nulls":3},"SEQUENTIAL TEXT [SEQ B]",{"$nulls":3},"SEQUENTIAL TEXT [SEQ A]",{"$nulls":3},"SEQUENTIAL TEXT [SEQ B]",{"$nulls":3},"SEQUENTIAL TEXT [SEQ A]",{"$nulls":3},"SEQUENTIAL TEXT [SEQ B]",{"$nulls":3},"SEQUENTIAL TEXT [SEQ A]",{"$nulls":3},"SEQUENTIAL TEXT [SEQ B]",{"$nulls":3},"SEQUENTIAL TEXT [SEQ A]",{"$nulls":3},"SEQUENTIAL TEXT [SEQ B]"]
[null,"FROM:"," ",null,null,"FROM:"," ",null,null,"FROM:"," ",null,null,"FROM:"," ",null,null,"FROM:"," ",null,null,"FROM:",null," ",null,"FROM:"," ",null,null,"FROM:"," ",null,null,"FROM:"," ",null,null,"FROM:",null," ",null,"FROM:"," ",null,null,"FROM:",null," "]
[null,"TO:"," ",null,null,"TO:"," ",null,null,"TO:"," ",null,null,"TO:"," ",null,null,"TO:"," ",null,null,"TO:",null," ",null,"TO:"," ",null,null,"TO:"," ",null,null,"TO:"," ",null,null,"TO:",null," ",null,"TO:"," ",null,null,"TO:",null," "]
[]
["LINE 5"," ",{"$nulls":6}," "," ",{"$nulls":6}," "," ",{"$nulls":6}," "," ",{"$nulls":6}," "," ",{"$nulls":6}," "," ",{"$nulls":6}," "]
[null," ",{"$nulls":6}," "," ",{"$nulls":6}," "," ",{"$nulls":6}," "," ",null," "," "," "," ",null," "," "," "," "," "," "," "," "," "," "," "," "," "," "," "," "," "]
[null," ",{"$nulls":6}," "," ",null," "," "," "," ",null," "," "," "," "," "," "," "," "," ",null,null," "," "," ",null,null," ",null," ",null," ",null," ",null," ",null," ",null," ",null," ",null," "]
[null," ",{"$nulls":6}," ",null,null," "," "," ",null,null," ",null," ",null," ",null," ",null," "," ",null," ",null," "," ",null," "," "," ",null," ",null," "," "," "," "," ",null," ",null," "," "," "]
[null," ",{"$nulls":6}," ",null,null," ",null," ",null,null," ",null," ",null," ",null," ",null," ",{"$nulls":7}," ",{"$nulls":7}," ",{"$nulls":7}," "]
[null," ",null,null," "," ",null,null," "," ",null," ",null," "," ",null," "," "," ",null," ",null," "," "," ",{"$nulls":7}," ",{"$nulls":7}," ",{"$nulls":7}," "]
[null," ",{"$nulls":3}," ",null,null," ",{"$nulls":7}," ",{"$nulls":7}," "," ",null," ",null," "," ",null," "," "," "," "," "," "," "," "," "," "," "," "," "," "," "," "," "]
[null," ",{"$nulls":3}," ",null,null," ",{"$nulls":7}," ",{"$nulls":7}," ",null,null," "," "," ",null,null," ",null," ",{"$nulls":3}," ",null," ",null," ",null," ",null," ",null," "]
[null," ",{"$nulls":6}," "," ",null," ",null," "," ",null," "," "," ",null," ",null," "," "," ",null,null," "," "," ",null,null," ",null," ",{"$nulls":3}," ",null," ",null," ",null," ",null," ",null," "]
[null," ",{"$nulls":6}," ",null,null," ",null," ",null,null," ",null," ",null," ",null," ",null," "," ",null," ",null," "," ",null," "," "," "," "," "," "," "," "," "," "," "," "," "," "," "," "," "]
[null," ",{"$nulls":6}," ",null,null," "," "," ",null,null," ",null," ",null," ",null," ",null," ",{"$nulls":7}," ",{"$nulls":7}," ",{"$nulls":7}," "]
[null," ",{"$nulls":6}," "," ",{"$nulls":6}," "," ",{"$nulls":6}," ",{"$nulls":7}," ",{"$nulls":7}," ",{"$nulls":7}," "]
[null," ",{"$nulls":6}," "," ",{"$nulls":6}," "," ",{"$nulls":6}," "," ",null," ",null," "," ",null," "," "," ",null," ",null," "," "," "," "," ",null," ",null," "," "," "]
[null," "," "," "," "," "," "," "," "," "," "," "," "," "," "," "," "," "," "," "," "," "," "," "," ",null,null," "," "," ",null,null," ",null," ",null," ",null," ",null," ",null," ",null," ",null," ",null," "]
[null," "," "," "," "," "," "," "," "," "," "," "," "," "," "," "," "," "," "," "," "," "," "," "," "," ",{"$nulls":6}," "," ",{"$nulls":6}," "," ",{"$nulls":6}," "]
[]
[]
[null,"1 GANG",{"$nulls":3},"QUANTITY:",null," ",null,"2 GANG",{"$nulls":3},"QUANTITY:",null," ",null,"3 GANG",{"$nulls":3},"QUANTITY:",null," ",null,"4 GANG",{"$nulls":3},"QUANTITY:",null," ",null,"5 GANG",{"$nulls":3},"QUANTITY:",null," ",null,"6 GANG",{"$nulls":3},"QUANTITY:",null," "]
[null,"SEQUENTIAL TEXT [SEQ A]",{"$nulls":3},"SEQUENTIAL TEXT [SEQ B]",{"$nulls":3},"SEQUENTIAL TEXT [SEQ A]",{"$nulls":3},"SEQUENTIAL TEXT [SEQ B]",{"$nulls":3},"SEQUENTIAL TEXT [SEQ A]",{"$nulls":3},"SEQUENTIAL TEXT [SEQ B]",{"$nulls":3},"SEQUENTIAL TEXT [SEQ A]",{"$nulls":3},"SEQUENTIAL TEXT [SEQ B]",{"$nulls":3},"SEQUENTIAL TEXT [SEQ A]",{"$nulls":3},"SEQUENTIAL TEXT [SEQ B]",{"$nulls":3},"SEQUENTIAL TEXT [SEQ A]",{"$nulls":3},"SEQUENTIAL TEXT [SEQ B]"]
[null,"FROM:"," ",null,null,"FROM:"," ",null,null,"FROM:"," ",null,null,"FROM:"," ",null,null,"FROM:"," ",null,null,"FROM:",null," ",null,"FROM:"," ",null,null,"FROM:"," ",null,null,"FROM:"," ",null,null,"FROM:",null," ",null,"FROM:"," ",null,null,"FROM:",null," "]
[null,"TO:"," ",null,null,"TO:"," ",null,null,"TO:"," ",null,null,"TO:"," ",null,null,"TO:"," ",null,null,"TO:",null," ",null,"TO:"," ",null,null,"TO:"," ",null,null,"TO:"," ",null,null,"TO:",null," ",null,"TO:"," ",null,null,"TO:",null," "]
[]
["LINE 6"," ",{"$nulls":6}," "," ",{"$nulls":6}," "," ",{"$nulls":6}," "," ",{"$nulls":6}," "," ",{"$nulls":6}," "," ",{"$nulls":6}," "]
[null," ",{"$nulls":6}," "," ",{"$nulls":6}," "," ",{"$nulls":6}," "," ",null," "," "," "," ",null," "," "," "," "," "," "," "," "," "," "," "," "," "," "," "," "," "]
[null," ",{"$nulls":6}," "," ",null," "," "," "," ",null," "," "," "," "," "," "," "," "," ",null,null," "," "," ",null,null," ",null," ",null," ",null," ",null," ",null," ",null," ",null," ",null," "]
[null," ",{"$nulls":6}," ",null,null," "," "," ",null,null," ",null," ",null," ",null," ",null," "," ",null," ",null," "," ",null," "," "," ",null," ",null," "," "," "," "," ",null," ",null," "," "," "]
[null," ",{"$nulls":6}," ",null,null," ",null," ",null,null," ",null," ",null," ",null," ",null," ",{"$nulls":7}," ",{"$nulls":7}," ",{"$nulls":7}," "]
[null," ",null,null," "," ",null,null," "," ",null," ",null," "," ",null," "," "," ",null," ",null," "," "," ",{"$nulls":7}," ",{"$nulls":7}," ",{"$nulls":7}," "]
[null," ",{"$nulls":3}," ",null,null," ",{"$nulls":7}," ",{"$nulls":7}," "," ",null," ",null," "," ",null," "," "," "," "," "," "," "," "," "," "," "," "," "," "," "," "," "]
[null," ",{"$nulls":3}," ",null,null," ",{"$nulls":7}," ",{"$nulls":7}," ",null,null," "," "," ",null,null," ",null," ",{"$nulls":3}," ",null," ",null," ",null," ",null," ",null," "]
[null," ",{"$nulls":6}," "," ",null," ",null," "," ",null," "," "," ",null," ",null," "," "," ",null,null," "," "," ",null,null," ",null," ",{"$nulls":3}," ",null," ",null," ",null," ",null," ",null," "]
[null," ",{"$nulls":6}," ",null,null," ",null," ",null,null," ",null," ",null," ",null," ",null," "," ",null," ",null," "," ",null," "," "," "," "," "," "," "," "," "," "," "," "," "," "," "," "," "]
[null," ",{"$nulls":6}," ",null,null," "," "," ",null,null," ",null," ",null," ",null," ",null," ",{"$nulls":7}," ",{"$nulls":7}," ",{"$nulls":7}," "]
[null," ",{"$nulls":6}," "," ",{"$nulls":6}," "," ",{"$nulls":6}," ",{"$nulls":7}," ",{"$nulls":7}," ",{"$nulls":7}," "]
[null," ",{"$nulls":6}," "," ",{"$nulls":6}," "," ",{"$nulls":6}," "," ",null," ",null," "," ",null," "," "," ",null," ",null," "," "," "," "," ",null," ",null," "," "," "]
[null," "," "," "," "," "," "," "," "," "," "," "," "," "," "," "," "," "," "," "," "," "," "," "," ",null,null," "," "," ",null,null," ",null," ",null," ",null," ",null," ",null," ",null," ",null," ",null," "]
[null," "," "," "," "," "," "," "," "," "," "," "," "," "," "," "," "," "," "," "," "," "," "," "," "," ",{"$nulls":6}," "," ",{"$nulls":6}," "," ",{"$nulls":6}," "]
[]
[]
[null,"1 GANG",{"$nulls":3},"QUANTITY:",null," ",null,"2 GANG",{"$nulls":3},"QUANTITY:",null," ",null,"3 GANG",{"$nulls":3},"QUANTITY:",null," ",null,"4 GANG",{"$nulls":3},"QUANTITY:",null," ",null,"5 GANG",{"$nulls":3},"QUANTITY:",null," ",null,"6 GANG",{"$nulls":3},"QUANTITY:",null," "]
[null,"SEQUENTIAL TEXT [SEQ A]",{"$nulls":3},"SEQUENTIAL TEXT [SEQ B]",{"$nulls":3},"SEQUENTIAL TEXT [SEQ A]",{"$nulls":3},"SEQUENTIAL TEXT [SEQ B]",{"$nulls":3},"SEQUENTIAL TEXT [SEQ A]",{"$nulls":3},"SEQUENTIAL TEXT [SEQ B]",{"$nulls":3},"SEQUENTIAL TEXT [SEQ A]",{"$nulls":3},"SEQUENTIAL TEXT [SEQ B]",{"$nulls":3},"SEQUENTIAL TEXT [SEQ A]",{"$nulls":3},"SEQUENTIAL TEXT [SEQ B]",{"$nulls":3},"SEQUENTIAL TEXT [SEQ A]",{"$nulls":3},"SEQUENTIAL TEXT [SEQ B]"]
[null,"FROM:"," ",null,null,"FROM:"," ",null,null,"FROM:"," ",null,null,"FROM:"," ",null,null,"FROM:"," ",null,null,"FROM:",null," ",null,"FROM:"," ",null,null,"FROM:"," ",null,null,"FROM:"," ",null,null,"FROM:",null," ",null,"FROM:"," ",null,null,"FROM:",null," "]
[null,"TO:"," ",null,null,"TO:"," ",null,null,"TO:"," ",null,null,"TO:"," ",null,null,"TO:"," ",null,null,"TO:",null," ",null,"TO:"," ",null,null,"TO:"," ",null,null,"TO:"," ",null,null,"TO:",null," ",null,"TO:"," ",null,null,"TO:",null," "]
[]
["LINE 7"," ",{"$nulls":6}," "," ",{"$nulls":6}," "," ",{"$nulls":6}," "," ",{"$nulls":6}," "," ",{"$nulls":6}," "," ",{"$nulls":6}," "]
[null," ",{"$nulls":6}," "," ",{"$nulls":6}," "," ",{"$nulls":6}," "," ",null," "," "," "," ",null," "," "," "," "," "," "," "," "," "," "," "," "," "," "," "," "," "]
[null," ",{"$nulls":6}," "," ",null," "," "," "," ",null," "," "," "," "," "," "," "," "," ",null,null," "," "," ",null,null," ",null," ",null," ",null," ",null," ",null," ",null," ",null," ",null," "]
[null," ",{"$nulls":6}," ",null,null," "," "," ",null,null," ",null," ",null," ",null," ",null," "," ",null," ",null," "," ",null," "," "," ",null," ",null," "," "," "," "," ",null," ",null," "," "," "]
[null," ",{"$nulls":6}," ",null,null," ",null," ",null,null," ",null," ",null," ",null," ",null," ",{"$nulls":7}," ",{"$nulls":7}," ",{"$nulls":7}," "]
[null," ",null,null," "," ",null,null," "," ",null," ",null," "," ",null," "," "," ",null," ",null," "," "," ",{"$nulls":7}," ",{"$nulls":7}," ",{"$nulls":7}," "]
[null," ",{"$nulls":3}," ",null,null," ",{"$nulls":7}," ",{"$nulls":7}," "," ",null," ",null," "," ",null," "," "," "," "," "," "," "," "," "," "," "," "," "," "," "," "," "]
[null," ",{"$nulls":3}," ",null,null," ",{"$nulls":7}," ",{"$nulls":7}," ",null,null," "," "," ",null,null," ",null," ",{"$nulls":3}," ",null," ",null," ",null," ",null," ",null," "]
[null," ",{"$nulls":6}," "," ",null," ",null," "," ",null," "," "," ",null," ",null," "," "," ",null,null," "," "," ",null,null," ",null," ",{"$nulls":3}," ",null," ",null," ",null," ",null," ",null," "]
[null," ",{"$nulls":6}," ",null,null," ",null," ",null,null," ",null," ",null," ",null," ",null," "," ",null," ",null," "," ",null," "," "," "," "," "," "," "," "," "," "," "," "," "," "," "," "," "]
[null," ",{"$nulls":6}," ",null,null," "," "," ",null,null," ",null," ",null," ",null," ",null," ",{"$nulls":7}," ",{"$nulls":7}," ",{"$nulls":7}," "]
[null," ",{"$nulls":6}," "," ",{"$nulls":6}," "," ",{"$nulls":6}," ",{"$nulls":7}," ",{"$nulls":7}," ",{"$nulls":7}," "]
[null," ",{"$nulls":6}," "," ",{"$nulls":6}," "," ",{"$nulls":6}," "," ",null," ",null," "," ",null," "," "," ",null," ",null," "," "," "," "," ",null," ",null," "," "," "]
[null," "," "," "," "," "," "," "," "," "," "," "," "," "," "," "," "," "," "," "," "," "," "," "," ",null,null," "," "," ",null,null," ",null," ",null," ",null," ",null," ",null," ",null," ",null," ",null," "]
[null," "," "," "," "," "," "," "," "," "," "," "," "," "," "," "," "," "," "," "," "," "," "," "," "," ",{"$nulls":6}," "," ",{"$nulls":6}," "," ",{"$nulls":6}," "]
[]
[]
[null,"1 GANG",{"$nulls":3},"QUANTITY:",null," ",null,"2 GANG",{"$nulls":3},"QUANTITY:",null," ",null,"3 GANG",{"$nulls":3},"QUANTITY:",null," ",null,"4 GANG",{"$nulls":3},"QUANTITY:",null," ",null,"5 GANG",{"$nulls":3},"QUANTITY:",null," ",null,"6 GANG",{"$nulls":3},"QUANTITY:",null," "]
[null,"SEQUENTIAL TEXT [SEQ A]",{"$nulls":3},"SEQUENTIAL TEXT [SEQ B]",{"$nulls":3},"SEQUENTIAL TEXT [SEQ A]",{"$nulls":3},"SEQUENTIAL TEXT [SEQ B]",{"$nulls":3},"SEQUENTIAL TEXT [SEQ A]",{"$nulls":3},"SEQUENTIAL TEXT [SEQ B]",{"$nulls":3},"SEQUENTIAL TEXT [SEQ A]",{"$nulls":3},"SEQUENTIAL TEXT [SEQ B]",{"$nulls":3},"SEQUENTIAL TEXT [SEQ A]",{"$nulls":3},"SEQUENTIAL TEXT [SEQ B]",{"$nulls":3},"SEQUENTIAL TEXT [SEQ A]",{"$nulls":3},"SEQUENTIAL TEXT [SEQ B]"]
[null,"FROM:"," ",null,null,"FROM:"," ",null,null,"FROM:"," ",null,null,"FROM:"," ",null,null,"FROM:"," ",null,null,"FROM:",null," ",null,"FROM:"," ",null,null,"FROM:"," ",null,null,"FROM:"," ",null,null,"FROM:",null," ",null,"FROM:"," ",null,null,"FROM:",null," "]
[null,"TO:"," ",null,null,"TO:"," ",null,null,"TO:"," ",null,null,"TO:"," ",null,null,"TO:"," ",null,null,"TO:",null," ",null,"TO:"," ",null,null,"TO:"," ",null,null,"TO:"," ",null,null,"TO:",null," ",null,"TO:"," ",null,null,"TO:",null," "]
[]
["LINE 8"," ",{"$nulls":6}," "," ",{"$nulls":6}," "," ",{"$nulls":6}," "," ",{"$nulls":6}," "," ",{"$nulls":6}," "," ",{"$nulls":6}," "]
[null," ",{"$nulls":6}," "," ",{"$nulls":6}," "," ",{"$nulls":6}," "," ",null," "," "," "," ",null," "," "," "," "," "," "," "," "," "," "," "," "," "," "," "," "," "]
[null," ",{"$nulls":6}," "," ",null," "," "," "," ",null," "," "," "," "," "," "," "," "," ",null,null," "," "," ",null,null," ",null," ",null," ",null," ",null," ",null," ",null," ",null," ",null," "]
[null," ",{"$nulls":6}," ",null,null," "," "," ",null,null," ",null," ",null," ",null," ",null," "," ",null," ",null," "," ",null," "," "," ",null," ",null," "," "," "," "," ",null," ",null," "," "," "]
[null," ",{"$nulls":6}," ",null,null," ",null," ",null,null," ",null," ",null," ",null," ",null," ",{"$nulls":7}," ",{"$nulls":7}," ",{"$nulls":7}," "]
[null," ",null,null," "," ",null,null," "," ",null," ",null," "," ",null," "," "," ",null," ",null," "," "," ",{"$nulls":7}," ",{"$nulls":7}," ",{"$nulls":7}," "]
[null," ",{"$nulls":3}," ",null,null," ",{"$nulls":7}," ",{"$nulls":7}," "," ",null," ",null," "," ",null," "," "," "," "," "," "," "," "," "," "," "," "," "," "," "," "," "]
[null," ",{"$nulls":3}," ",null,null," ",{"$nulls":7}," ",{"$nulls":7}," ",null,null," "," "," ",null,null," ",null," ",{"$nulls":3}," ",null," ",null," ",null," ",null," ",null," "]
[null," ",{"$nulls":6}," "," ",null," ",null," "," ",null," "," "," ",null," ",null," "," "," ",null,null," "," "," ",null,null," ",null," ",{"$nulls":3}," ",null," ",null," ",null," ",null," ",null," "]
[null," ",{"$nulls":6}," ",null,null," ",null," ",null,null," ",null," ",null," ",null," ",null," "," ",null," ",null," "," ",null," "," "," "," "," "," "," "," "," "," "," "," "," "," "," "," "," "]
[null," ",{"$nulls":6}," ",null,null," "," "," ",null,null," ",null," ",null," ",null," ",null," ",{"$nulls":7}," ",{"$nulls":7}," ",{"$nulls":7}," "]
[null," ",{"$nulls":6}," "," ",{"$nulls":6}," "," ",{"$nulls":6}," ",{"$nulls":7}," ",{"$nulls":7}," ",{"$nulls":7}," "]
[null," ",{"$nulls":6}," "," ",{"$nulls":6}," "," ",{"$nulls":6}," "," ",null," ",null," "," ",null," "," "," ",null," ",null," "," "," "," "," ",null," ",null," "," "," "]
[null," "," "," "," "," "," "," "," "," "," "," "," "," "," "," "," "," "," "," "," "," "," "," "," ",null,null," "," "," ",null,null," ",null," ",null," ",null," ",null," ",null," ",null," ",null," ",null," "]
[null," "," "," "," "," "," "," "," "," "," "," "," "," "," "," "," "," "," "," "," "," "," "," "," "," ",{"$nulls":6}," "," ",{"$nulls":6}," "," ",{"$nulls":6}," "]
[]
[]
[null,"1 GANG",{"$nulls":3},"QUANTITY:",null," ",null,"2 GANG",{"$nulls":3},"QUANTITY:",null," ",null,"3 GANG",{"$nulls":3},"QUANTITY:",null," ",null,"4 GANG",{"$nulls":3},"QUANTITY:",null," ",null,"5 GANG",{"$nulls":3},"QUANTITY:",null," ",null,"6 GANG",{"$nulls":3},"QUANTITY:",null," "]
[null,"SEQUENTIAL TEXT [SEQ A]",{"$nulls":3},"SEQUENTIAL TEXT [SEQ B]",{"$nulls":3},"SEQUENTIAL TEXT [SEQ A]",{"$nulls":3},"SEQUENTIAL TEXT [SEQ B]",{"$nulls":3},"SEQUENTIAL TEXT [SEQ A]",{"$nulls":3},"SEQUENTIAL TEXT [SEQ B]",{"$nulls":3},"SEQUENTIAL TEXT [SEQ A]",{"$nulls":3},"SEQUENTIAL TEXT [SEQ B]",{"$nulls":3},"SEQUENTIAL TEXT [SEQ A]",{"$nulls":3},"SEQUENTIAL TEXT [SEQ B]",{"$nulls":3},"SEQUENTIAL TEXT [SEQ A]",{"$nulls":3},"SEQUENTIAL TEXT [SEQ B]"]
[null,"FROM:"," ",null,null,"FROM:"," ",null,null,"FROM:"," ",null,null,"FROM:"," ",null,null,"FROM:"," ",null,null,"FROM:",null," ",null,"FROM:"," ",null,null,"FROM:"," ",null,null,"FROM:"," ",null,null,"FROM:",null," ",null,"FROM:"," ",null,null,"FROM:",null," "]
[null,"TO:"," ",null,null,"TO:"," ",null,null,"TO:"," ",null,null,"TO:"," ",null,null,"TO:"," ",null,null,"TO:",null," ",null,"TO:"," ",null,null,"TO:"," ",null,null,"TO:"," ",null,null,"TO:",null," ",null,"TO:"," ",null,null,"TO:",null," "]
[]
["LINE 9"," ",{"$nulls":6}," "," ",{"$nulls":6}," "," ",{"$nulls":6}," "," ",{"$nulls":6}," "," ",{"$nulls":6}," "," ",{"$nulls":6}," "]
[null," ",{"$nulls":6}," "," ",{"$nulls":6}," "," ",{"$nulls":6}," "," ",null," "," "," "," ",null," "," "," "," "," "," "," "," "," "," "," "," "," "," "," "," "," "]
[null," ",{"$nulls":6}," "," ",null," "," "," "," ",null," "," "," "," "," "," "," "," "," ",null,null," "," "," ",null,null," ",null," ",null," ",null," ",null," ",null," ",null," ",null," ",null," "]
[null," ",{"$nulls":6}," ",null,null," "," "," ",null,null," ",null," ",null," ",null," ",null," "," ",null," ",null," "," ",null," "," "," ",null," ",null," "," "," "," "," ",null," ",null," "," "," "]
[null," ",{"$nulls":6}," ",null,null," ",null," ",null,null," ",null," ",null," ",null," ",null," ",{"$nulls":7}," ",{"$nulls":7}," ",{"$nulls":7}," "]
[null," ",null,null," "," ",null,null," "," ",null," ",null," "," ",null," "," "," ",null," ",null," "," "," ",{"$nulls":7}," ",{"$nulls":7}," ",{"$nulls":7}," "]
[null," ",{"$nulls":3}," ",null,null," ",{"$nulls":7}," ",{"$nulls":7}," "," ",null," ",null," "," ",null," "," "," "," "," "," "," "," "," "," "," "," "," "," "," "," "," "]
[null," ",{"$nulls":3}," ",null,null," ",{"$nulls":7}," ",{"$nulls":7}," ",null,null," "," "," ",null,null," ",null," ",{"$nulls":3}," ",null," ",null," ",null," ",null," ",null," "]
[null," ",{"$nulls":6}," "," ",null," ",null," "," ",null," "," "," ",null," ",null," "," "," ",null,null," "," "," ",null,null," ",null," ",{"$nulls":3}," ",null," ",null," ",null," ",null," ",null," "]
[null," ",{"$nulls":6}," ",null,null," ",null," ",null,null," ",null," ",null," ",null," ",null," "," ",null," ",null," "," ",null," "," "," "," "," "," "," "," "," "," "," "," "," "," "," "," "," "]
[null," ",{"$nulls":6}," ",null,null," "," "," ",null,null," ",null," ",null," ",null," ",null," ",{"$nulls":7}," ",{"$nulls":7}," ",{"$nulls":7}," "]
[null," ",{"$nulls":6}," "," ",{"$nulls":6}," "," ",{"$nulls":6}," ",{"$nulls":7}," ",{"$nulls":7}," ",{"$nulls":7}," "]
[null," ",{"$nulls":6}," "," ",{"$nulls":6}," "," ",{"$nulls":6}," "," ",null," ",null," "," ",null," "," "," ",null," ",null," "," "," "," "," ",null," ",null," "," "," "]
[null," "," "," "," "," "," "," "," "," "," "," "," "," "," "," "," "," "," "," "," "," "," "," "," ",null,null," "," "," ",null,null," ",null," ",null," ",null," ",null," ",null," ",null," ",null," ",null," "]
[null," "," "," "," "," "," "," "," "," "," "," "," "," "," "," "," "," "," "," "," "," "," "," "," "," ",{"$nulls":6}," "," ",{"$nulls":6}," "," ",{"$nulls":6}," "]
[]
[]
[null,"1 GANG",{"$nulls":3},"QUANTITY:",null," ",null,"2 GANG",{"$nulls":3},"QUANTITY:",null," ",null,"3 GANG",{"$nulls":3},"QUANTITY:",null," ",null,"4 GANG",{"$nulls":3},"QUANTITY:",null," ",null,"5 GANG",{"$nulls":3},"QUANTITY:",null," ",null,"6 GANG",{"$nulls":3},"QUANTITY:",null," "]
[null,"SEQUENTIAL TEXT [SEQ A]",{"$nulls":3},"SEQUENTIAL TEXT [SEQ B]",{"$nulls":3},"SEQUENTIAL TEXT [SEQ A]",{"$nulls":3},"SEQUENTIAL TEXT [SEQ B]",{"$nulls":3},"SEQUENTIAL TEXT [SEQ A]",{"$nulls":3},"SEQUENTIAL TEXT [SEQ B]",{"$nulls":3},"SEQUENTIAL TEXT [SEQ A]",{"$nulls":3},"SEQUENTIAL TEXT [SEQ B]",{"$nulls":3},"SEQUENTIAL TEXT [SEQ A]",{"$nulls":3},"SEQUENTIAL TEXT [SEQ B]",{"$nulls":3},"SEQUENTIAL TEXT [SEQ A]",{"$nulls":3},"SEQUENTIAL TEXT [SEQ B]"]
[null,"FROM:"," ",null,null,"FROM:"," ",null,null,"FROM:"," ",null,null,"FROM:"," ",null,null,"FROM:"," ",null,null,"FROM:",null," ",null,"FROM:"," ",null,null,"FROM:"," ",null,null,"FROM:"," ",null,null,"FROM:",null," ",null,"FROM:"," ",null,null,"FROM:",null," "]
[null,"TO:"," ",null,null,"TO:"," ",null,null,"TO:"," ",null,null,"TO:"," ",null,null,"TO:"," ",null,null,"TO:",null," ",null,"TO:"," ",null,null,"TO:"," ",null,null,"TO:"," ",null,null,"TO:",null," ",null,"TO:"," ",null,null,"TO:",null," "]
[]
["LINE 10"," ",{"$nulls":6}," "," ",{"$nulls":6}," "," ",{"$nulls":6}," "," ",{"$nulls":6}," "," ",{"$nulls":6}," "," ",{"$nulls":6}," "]
[null," ",{"$nulls":6}," "," ",{"$nulls":6}," "," ",{"$nulls":6}," "," ",null," "," "," "," ",null," "," "," "," "," "," "," "," "," "," "," "," "," "," "," "," "," "]
[null," ",{"$nulls":6}," "," ",null," "," "," "," ",null," "," "," "," "," "," "," "," "," ",null,null," "," "," ",null,null," ",null," ",null," ",null," ",null," ",null," ",null," ",null," ",null," "]
[null," ",{"$nulls":6}," ",null,null," "," "," ",null,null," ",null," ",null," ",null," ",null," "," ",null," ",null," "," ",null," "," "," ",null," ",null," "," "," "," "," ",null," ",null," "," "," "]
[null," ",{"$nulls":6}," ",null,null," ",null," ",null,null," ",null," ",null," ",null," ",null," ",{"$nulls":7}," ",{"$nulls":7}," ",{"$nulls":7}," "]
[null," ",null,null," "," ",null,null," "," ",null," ",null," "," ",null," "," "," ",null," ",null," "," "," ",{"$nulls":7}," ",{"$nulls":7}," ",{"$nulls":7}," "]
[null," ",{"$nulls":3}," ",null,null," ",{"$nulls":7}," ",{"$nulls":7}," "," ",null," ",null," "," ",null," "," "," "," "," "," "," "," "," "," "," "," "," "," "," "," "," "]
[null," ",{"$nulls":3}," ",null,null," ",{"$nulls":7}," ",{"$nulls":7}," ",null,null," "," "," ",null,null," ",null," ",{"$nulls":3}," ",null," ",null," ",null," ",null," ",null," "]
[null," ",{"$nulls":6}," "," ",null," ",null," "," ",null," "," "," ",null," ",null," "," "," ",null,null," "," "," ",null,null," ",null," ",{"$nulls":3}," ",null," ",null," ",null," ",null," ",null," "]
[null," ",{"$nulls":6}," ",null,null," ",null," ",null,null," ",null," ",null," ",null," ",null," "," ",null," ",null," "," ",null," "," "," "," "," "," "," "," "," "," "," "," "," "," "," "," "," "]
[null," ",{"$nulls":6}," ",null,null," "," "," ",null,null," ",null," ",null," ",null," ",null," ",{"$nulls":7}," ",{"$nulls":7}," ",{"$nulls":7}," "]
[null," ",{"$nulls":6}," "," ",{"$nulls":6}," "," ",{"$nulls":6}," ",{"$nulls":7}," ",{"$nulls":7}," ",{"$nulls":7}," "]
[null," ",{"$nulls":6}," "," ",{"$nulls":6}," "," ",{"$nulls":6}," "," ",null," ",null," "," ",null," "," "," ",null," ",null," "," "," "," "," ",null," ",null," "," "," "]
[null," "," "," "," "," "," "," "," "," "," "," "," "," "," "," "," "," "," "," "," "," "," "," "," ",null,null," "," "," ",null,null," ",null," ",null," ",null," ",null," ",null," ",null," ",null," ",null," "]
[null," "," "," "," "," "," "," "," "," "," "," "," "," "," "," "," "," "," "," "," "," "," "," "," "," ",{"$nulls":6}," "," ",{"$nulls":6}," "," ",{"$nulls":6}," "]
[]
[]
[null,"1 GANG",{"$nulls":3},"QUANTITY:",null," ",null,"2 GANG",{"$nulls":3},"QUANTITY:",null," ",null,"3 GANG",{"$nulls":3},"QUANTITY:",null," ",null,"4 GANG",{"$nulls":3},"QUANTITY:",null," ",null,"5 GANG",{"$nulls":3},"QUANTITY:",null," ",null,"6 GANG",{"$nulls":3},"QUANTITY:",null," "]
[null,"SEQUENTIAL TEXT [SEQ A]",{"$nulls":3},"SEQUENTIAL TEXT [SEQ B]",{"$nulls":3},"SEQUENTIAL TEXT [SEQ A]",{"$nulls":3},"SEQUENTIAL TEXT [SEQ B]",{"$nulls":3},"SEQUENTIAL TEXT [SEQ A]",{"$nulls":3},"SEQUENTIAL TEXT [SEQ B]",{"$nulls":3},"SEQUENTIAL TEXT [SEQ A]",{"$nulls":3},"SEQUENTIAL TEXT [SEQ B]",{"$nulls":3},"SEQUENTIAL TEXT [SEQ A]",{"$nulls":3},"SEQUENTIAL TEXT [SEQ B]",{"$nulls":3},"SEQUENTIAL TEXT [SEQ A]",{"$nulls":3},"SEQUENTIAL TEXT [SEQ B]"]
[null,"FROM:"," ",null,null,"FROM:"," ",null,null,"FROM:"," ",null,null,"FROM:"," ",null,null,"FROM:"," ",null,null,"FROM:",null," ",null,"FROM:"," ",null,null,"FROM:"," ",null,null,"FROM:"," ",null,null,"FROM:",null," ",null,"FROM:"," ",null,null,"FROM:",null," "]
[null,"TO:"," ",null,null,"TO:"," ",null,null,"TO:"," ",null,null,"TO:"," ",null,null,"TO:"," ",null,null,"TO:",null," ",null,"TO:"," ",null,null,"TO:"," ",null,null,"TO:"," ",null,null,"TO:",null," ",null,"TO:"," ",null,null,"TO:",null," "]
[]
["LINE 11"," ",{"$nulls":6}," "," ",{"$nulls":6}," "," ",{"$nulls":6}," "," ",{"$nulls":6}," "," ",{"$nulls":6}," "," ",{"$nulls":6}," "]
[null," ",{"$nulls":6}," "," ",{"$nulls":6}," "," ",{"$nulls":6}," "," ",null," "," "," "," ",null," "," "," "," "," "," "," "," "," "," "," "," "," "," "," "," "," "]
[null," ",{"$nulls":6}," "," ",null," "," "," "," ",null," "," "," "," "," "," "," "," "," ",null,null," "," "," ",null,null," ",null," ",null," ",null," ",null," ",null," ",null," ",null," ",null," "]
[null," ",{"$nulls":6}," ",null,null," "," "," ",null,null," ",null," ",null," ",null," ",null," "," ",null," ",null," "," ",null," "," "," ",null," ",null," "," "," "," "," ",null," ",null," "," "," "]
[null," ",{"$nulls":6}," ",null,null," ",null," ",null,null," ",null," ",null," ",null," ",null," ",{"$nulls":7}," ",{"$nulls":7}," ",{"$nulls":7}," "]
[null," ",null,null," "," ",null,null," "," ",null," ",null," "," ",null," "," "," ",null," ",null," "," "," ",{"$nulls":7}," ",{"$nulls":7}," ",{"$nulls":7}," "]
[null," ",{"$nulls":3}," ",null,null," ",{"$nulls":7}," ",{"$nulls":7}," "," ",null," ",null," "," ",null," "," "," "," "," "," "," "," "," "," "," "," "," "," "," "," "," "]
[null," ",{"$nulls":3}," ",null,null," ",{"$nulls":7}," ",{"$nulls":7}," ",null,null," "," "," ",null,null," ",null," ",{"$nulls":3}," ",null," ",null," ",null," ",null," ",null," "]
[null," ",{"$nulls":6}," "," ",null," ",null," "," ",null," "," "," ",null," ",null," "," "," ",null,null," "," "," ",null,null," ",null," ",{"$nulls":3}," ",null," ",null," ",null," ",null," ",null," "]
[null," ",{"$nulls":6}," ",null,null," ",null," ",null,null," ",null," ",null," ",null," ",null," "," ",null," ",null," "," ",null," "," "," "," "," "," "," "," "," "," "," "," "," "," "," "," "," "]
[null," ",{"$nulls":6}," ",null,null," "," "," ",null,null," ",null," ",null," ",null," ",null," ",{"$nulls":7}," ",{"$nulls":7}," ",{"$nulls":7}," "]
[null," ",{"$nulls":6}," "," ",{"$nulls":6}," "," ",{"$nulls":6}," ",{"$nulls":7}," ",{"$nulls":7}," ",{"$nulls":7}," "]
[null," ",{"$nulls":6}," "," ",{"$nulls":6}," "," ",{"$nulls":6}," "," ",null," ",null," "," ",null," "," "," ",null," ",null," "," "," "," "," ",null," ",null," "," "," "]
[null," "," "," "," "," "," "," "," "," "," "," "," "," "," "," "," "," "," "," "," "," "," "," "," ",null,null," "," "," ",null,null," ",null," ",null," ",null," ",null," ",null," ",null," ",null," ",null," "]
[null," "," "," "," "," "," "," "," "," "," "," "," "," "," "," "," "," "," "," "," "," "," "," "," "," ",{"$nulls":6}," "," ",{"$nulls":6}," "," ",{"$nulls":6}," "]
[]
[]
[null,"1 GANG",{"$nulls":3},"QUANTITY:",null," ",null,"2 GANG",{"$nulls":3},"QUANTITY:",null," ",null,"3 GANG",{"$nulls":3},"QUANTITY:",null," ",null,"4 GANG",{"$nulls":3},"QUANTITY:",null," ",null,"5 GANG",{"$nulls":3},"QUANTITY:",null," ",null,"6 GANG",{"$nulls":3},"QUANTITY:",null," "]
[null,"SEQUENTIAL TEXT [SEQ A]",{"$nulls":3},"SEQUENTIAL TEXT [SEQ B]",{"$nulls":3},"SEQUENTIAL TEXT [SEQ A]",{"$nulls":3},"SEQUENTIAL TEXT [SEQ B]",{"$nulls":3},"SEQUENTIAL TEXT [SEQ A]",{"$nulls":3},"SEQUENTIAL TEXT [SEQ B]",{"$nulls":3},"SEQUENTIAL TEXT [SEQ A]",{"$nulls":3},"SEQUENTIAL TEXT [SEQ B]",{"$nulls":3},"SEQUENTIAL TEXT [SEQ A]",{"$nulls":3},"SEQUENTIAL TEXT [SEQ B]",{"$nulls":3},"SEQUENTIAL TEXT [SEQ A]",{"$nulls":3},"SEQUENTIAL TEXT [SEQ B]"]
[null,"FROM:"," ",null,null,"FROM:"," ",null,null,"FROM:"," ",null,null,"FROM:"," ",null,null,"FROM:"," ",null,null,"FROM:",null," ",null,"FROM:"," ",null,null,"FROM:"," ",null,null,"FROM:"," ",null,null,"FROM:",null," ",null,"FROM:"," ",null,null,"FROM:",null," "]
[null,"TO:"," ",null,null,"TO:"," ",null,null,"TO:"," ",null,null,"TO:"," ",null,null,"TO:"," ",null,null,"TO:",null," ",null,"TO:"," ",null,null,"TO:"," ",null,null,"TO:"," ",null,null,"TO:",null," ",null,"TO:"," ",null,null,"TO:",null," "]
[]
["LINE 12"," ",{"$nulls":6}," "," ",{"$nulls":6}," "," ",{"$nulls":6}," "," ",{"$nulls":6}," "," ",{"$nulls":6}," "," ",{"$nulls":6}," "]
[null," ",{"$nulls":6}," "," ",{"$nulls":6}," "," ",{"$nulls":6}," "," ",null," "," "," "," ",null," "," "," "," "," "," "," "," "," "," "," "," "," "," "," "," "," "]
[null," ",{"$nulls":6}," "," ",null," "," "," "," ",null," "," "," "," "," "," "," "," "," ",null,null," "," "," ",null,null," ",null," ",null," ",null," ",null," ",null," ",null," ",null," ",null," "]
[null," ",{"$nulls":6}," ",null,null," "," "," ",null,null," ",null," ",null," ",null," ",null," "," ",null," ",null," "," ",null," "," "," ",null," ",null," "," "," "," "," ",null," ",null," "," "," "]
[null," ",{"$nulls":6}," ",null,null," ",null," ",null,null," ",null," ",null," ",null," ",null," ",{"$nulls":7}," ",{"$nulls":7}," ",{"$nulls":7}," "]
[null," ",null,null," "," ",null,null," "," ",null," ",null," "," ",null," "," "," ",null," ",null," "," "," ",{"$nulls":7}," ",{"$nulls":7}," ",{"$nulls":7}," "]
[null," ",{"$nulls":3}," ",null,null," ",{"$nulls":7}," ",{"$nulls":7}," "," ",null," ",null," "," ",null," "," "," "," "," "," "," "," "," "," "," "," "," "," "," "," "," "]
[null," ",{"$nulls":3}," ",null,null," ",{"$nulls":7}," ",{"$nulls":7}," ",null,null," "," "," ",null,null," ",null," ",{"$nulls":3}," ",null," ",null," ",null," ",null," ",null," "]
[null," ",{"$nulls":6}," "," ",null," ",null," "," ",null," "," "," ",null," ",null," "," "," ",null,null," "," "," ",null,null," ",null," ",{"$nulls":3}," ",null," ",null," ",null," ",null," ",null," "]
[null," ",{"$nulls":6}," ",null,null," ",null," ",null,null," ",null," ",null," ",null," ",null," "," ",null," ",null," "," ",null," "," "," "," "," "," "," "," "," "," "," "," "," "," "," "," "," "]
[null," ",{"$nulls":6}," ",null,null," "," "," ",null,null," ",null," ",null," ",null," ",null," ",{"$nulls":7}," ",{"$nulls":7}," ",{"$nulls":7}," "]
[null," ",{"$nulls":6}," "," ",{"$nulls":6}," "," ",{"$nulls":6}," ",{"$nulls":7}," ",{"$nulls":7}," ",{"$nulls":7}," "]
[null," ",{"$nulls":6}," "," ",{"$nulls":6}," "," ",{"$nulls":6}," "," ",null," ",null," "," ",null," "," "," ",null," ",null," "," "," "," "," ",null," ",null," "," "," "]
[null," "," "," "," "," "," "," "," "," "," "," "," "," "," "," "," "," "," "," "," "," "," "," "," ",null,null," "," "," ",null,null," ",null," ",null," ",null," ",null," ",null," ",null," ",null," ",null," "]
[null," "," "," "," "," "," "," "," "," "," "," "," "," "," "," "," "," "," "," "," "," "," "," "," "," ",{"$nulls":6}," "," ",{"$nulls":6}," "," ",{"$nulls":6}," "]
[]
[]
[null,"1 GANG",{"$nulls":3},"QUANTITY:",null," ",null,"2 GANG",{"$nulls":3},"QUANTITY:",null," ",null,"3 GANG",{"$nulls":3},"QUANTITY:",null," ",null,"4 GANG",{"$nulls":3},"QUANTITY:",null," ",null,"5 GANG",{"$nulls":3},"QUANTITY:",null," ",null,"6 GANG",{"$nulls":3},"QUANTITY:",null," "]
[null,"SEQUENTIAL TEXT [SEQ A]",{"$nulls":3},"SEQUENTIAL TEXT [SEQ B]",{"$nulls":3},"SEQUENTIAL TEXT [SEQ A]",{"$nulls":3},"SEQUENTIAL TEXT [SEQ B]",{"$nulls":3},"SEQUENTIAL TEXT [SEQ A]",{"$nulls":3},"SEQUENTIAL TEXT [SEQ B]",{"$nulls":3},"SEQUENTIAL TEXT [SEQ A]",{"$nulls":3},"SEQUENTIAL TEXT [SEQ B]",{"$nulls":3},"SEQUENTIAL TEXT [SEQ A]",{"$nulls":3},"SEQUENTIAL TEXT [SEQ B]",{"$nulls":3},"SEQUENTIAL TEXT [SEQ A]",{"$nulls":3},"SEQUENTIAL TEXT [SEQ B]"]
[null,"FROM:"," ",null,null,"FROM:"," ",null,null,"FROM:"," ",null,null,"FROM:"," ",null,null,"FROM:"," ",null,null,"FROM:",null," ",null,"FROM:"," ",null,null,"FROM:"," ",null,null,"FROM:"," ",null,null,"FROM:",null," ",null,"FROM:"," ",null,null,"FROM:",null," "]
[null,"TO:"," ",null,null,"TO:"," ",null,null,"TO:"," ",null,null,"TO:"," ",null,null,"TO:"," ",null,null,"TO:",null," ",null,"TO:"," ",null,null,"TO:"," ",null,null,"TO:"," ",null,null,"TO:",null," ",null,"TO:"," ",null,null,"TO:",null," "]
[]
["LINE 13"," ",{"$nulls":6}," "," ",{"$nulls":6}," "," ",{"$nulls":6}," "," ",{"$nulls":6}," "," ",{"$nulls":6}," "," ",{"$nulls":6}," "]
[null," ",{"$nulls":6}," "," ",{"$nulls":6}," "," ",{"$nulls":6}," "," ",null," "," "," "," ",null," "," "," "," "," "," "," "," "," "," "," "," "," "," "," "," "," "]
[null," ",{"$nulls":6}," "," ",null," "," "," "," ",null," "," "," "," "," "," "," "," "," ",null,null," "," "," ",null,null," ",null," ",null," ",null," ",null," ",null," ",null," ",null," ",null," "]
[null," ",{"$nulls":6}," ",null,null," "," "," ",null,null," ",null," ",null," ",null," ",null," "," ",null," ",null," "," ",null," "," "," ",null," ",null," "," "," "," "," ",null," ",null," "," "," "]
[null," ",{"$nulls":6}," ",null,null," ",null," ",null,null," ",null," ",null," ",null," ",null," ",{"$nulls":7}," ",{"$nulls":7}," ",{"$nulls":7}," "]
[null," ",null,null," "," ",null,null," "," ",null," ",null," "," ",null," "," "," ",null," ",null," "," "," ",{"$nulls":7}," ",{"$nulls":7}," ",{"$nulls":7}," "]
[null," ",{"$nulls":3}," ",null,null," ",{"$nulls":7}," ",{"$nulls":7}," "," ",null," ",null," "," ",null," "," "," "," "," "," "," "," "," "," "," "," "," "," "," "," "," "]
[null," ",{"$nulls":3}," ",null,null," ",{"$nulls":7}," ",{"$nulls":7}," ",null,null," "," "," ",null,null," ",null," ",{"$nulls":3}," ",null," ",null," ",null," ",null," ",null," "]
[null," ",{"$nulls":6}," "," ",null," ",null," "," ",null," "," "," ",null," ",null," "," "," ",null,null," "," "," ",null,null," ",null," ",{"$nulls":3}," ",null," ",null," ",null," ",null," ",null," "]
[null," ",{"$nulls":6}," ",null,null," ",null," ",null,null," ",null," ",null," ",null," ",null," "," ",null," ",null," "," ",null," "," "," "," "," "," "," "," "," "," "," "," "," "," "," "," "," "]
[null," ",{"$nulls":6}," ",null,null," "," "," ",null,null," ",null," ",null," ",null," ",null," ",{"$nulls":7}," ",{"$nulls":7}," ",{"$nulls":7}," "]
[null," ",{"$nulls":6}," "," ",{"$nulls":6}," "," ",{"$nulls":6}," ",{"$nulls":7}," ",{"$nulls":7}," ",{"$nulls":7}," "]
[null," ",{"$nulls":6}," "," ",{"$nulls":6}," "," ",{"$nulls":6}," "," ",null," ",null," "," ",null," "," "," ",null," ",null," "," "," "," "," ",null," ",null," "," "," "]
[null," "," "," "," "," "," "," "," "," "," "," "," "," "," "," "," "," "," "," "," "," "," "," "," ",null,null," "," "," ",null,null," ",null," ",null," ",null," ",null," ",null," ",null," ",null," ",null," "]
[null," "," "," "," "," "," "," "," "," "," "," "," "," "," "," "," "," "," "," "," "," "," "," "," "," ",{"$nulls":6}," "," ",{"$nulls":6}," "," ",{"$nulls":6}," "]
[]
[]
[null,"1 GANG",{"$nulls":3},"QUANTITY:",null," ",null,"2 GANG",{"$nulls":3},"QUANTITY:",null," ",null,"3 GANG",{"$nulls":3},"QUANTITY:",null," ",null,"4 GANG",{"$nulls":3},"QUANTITY:",null," ",null,"5 GANG",{"$nulls":3},"QUANTITY:",null," ",null,"6 GANG",{"$nulls":3},"QUANTITY:",null," "]
[null,"SEQUENTIAL TEXT [SEQ A]",{"$nulls":3},"SEQUENTIAL TEXT [SEQ B]",{"$nulls":3},"SEQUENTIAL TEXT [SEQ A]",{"$nulls":3},"SEQUENTIAL TEXT [SEQ B]",{"$nulls":3},"SEQUENTIAL TEXT [SEQ A]",{"$nulls":3},"SEQUENTIAL TEXT [SEQ B]",{"$nulls":3},"SEQUENTIAL TEXT [SEQ A]",{"$nulls":3},"SEQUENTIAL TEXT [SEQ B]",{"$nulls":3},"SEQUENTIAL TEXT [SEQ A]",{"$nulls":3},"SEQUENTIAL TEXT [SEQ B]",{"$nulls":3},"SEQUENTIAL TEXT [SEQ A]",{"$nulls":3},"SEQUENTIAL TEXT [SEQ B]"]
[null,"FROM:"," ",null,null,"FROM:"," ",null,null,"FROM:"," ",null,null,"FROM:"," ",null,null,"FROM:"," ",null,null,"FROM:",null," ",null,"FROM:"," ",null,null,"FROM:"," ",null,null,"FROM:"," ",null,null,"FROM:",null," ",null,"FROM:"," ",null,null,"FROM:",null," "]
[null,"TO:"," ",null,null,"TO:"," ",null,null,"TO:"," ",null,null,"TO:"," ",null,null,"TO:"," ",null,null,"TO:",null," ",null,"TO:"," ",null,null,"TO:"," ",null,null,"TO:"," ",null,null,"TO:",null," ",null,"TO:"," ",null,null,"TO:",null," "]
[]
["LINE 14"," ",{"$nulls":6}," "," ",{"$nulls":6}," "," ",{"$nulls":6}," "," ",{"$nulls":6}," "," ",{"$nulls":6}," "," ",{"$nulls":6}," "]
[null," ",{"$nulls":6}," "," ",{"$nulls":6}," "," ",{"$nulls":6}," "," ",null," "," "," "," ",null," "," "," "," "," "," "," "," "," "," "," "," "," "," "," "," "," "]
[null," ",{"$nulls":6}," "," ",null," "," "," "," ",null," "," "," "," "," "," "," "," "," ",null,null," "," "," ",null,null," ",null," ",null," ",null," ",null," ",null," ",null," ",null," ",null," "]
[null," ",{"$nulls":6}," ",null,null," "," "," ",null,null," ",null," ",null," ",null," ",null," "," ",null," ",null," "," ",null," "," "," ",null," ",null," "," "," "," "," ",null," ",null," "," "," "]
[null," ",{"$nulls":6}," ",null,null," ",null," ",null,null," ",null," ",null," ",null," ",null," ",{"$nulls":7}," ",{"$nulls":7}," ",{"$nulls":7}," "]
[null," ",null,null," "," ",null,null," "," ",null," ",null," "," ",null," "," "," ",null," ",null," "," "," ",{"$nulls":7}," ",{"$nulls":7}," ",{"$nulls":7}," "]
[null," ",{"$nulls":3}," ",null,null," ",{"$nulls":7}," ",{"$nulls":7}," "," ",null," ",null," "," ",null," "," "," "," "," "," "," "," "," "," "," "," "," "," "," "," "," "]
[null," ",{"$nulls":3}," ",null,null," ",{"$nulls":7}," ",{"$nulls":7}," ",null,null," "," "," ",null,null," ",null," ",{"$nulls":3}," ",null," ",null," ",null," ",null," ",null," "]
[null," ",{"$nulls":6}," "," ",null," ",null," "," ",null," "," "," ",null," ",null," "," "," ",null,null," "," "," ",null,null," ",null," ",{"$nulls":3}," ",null," ",null," ",null," ",null," ",null," "]
[null," ",{"$nulls":6}," ",null,null," ",null," ",null,null," ",null," ",null," ",null," ",null," "," ",null," ",null," "," ",null," "," "," "," "," "," "," "," "," "," "," "," "," "," "," "," "," "]
[null," ",{"$nulls":6}," ",null,null," "," "," ",null,null," ",null," ",null," ",null," ",null," ",{"$nulls":7}," ",{"$nulls":7}," ",{"$nulls":7}," "]
[null," ",{"$nulls":6}," "," ",{"$nulls":6}," "," ",{"$nulls":6}," ",{"$nulls":7}," ",{"$nulls":7}," ",{"$nulls":7}," "]
[null," ",{"$nulls":6}," "," ",{"$nulls":6}," "," ",{"$nulls":6}," "," ",null," ",null," "," ",null," "," "," ",null," ",null," "," "," "," "," ",null," ",null," "," "," "]
[null," "," "," "," "," "," "," "," "," "," "," "," "," "," "," "," "," "," "," "," "," "," "," "," ",null,null," "," "," ",null,null," ",null," ",null," ",null," ",null," ",null," ",null," ",null," ",null," "]
[null," "," "," "," "," "," "," "," "," "," "," "," "," "," "," "," "," "," "," "," "," "," "," "," "," ",{"$nulls":6}," "," ",{"$nulls":6}," "," ",{"$nulls":6}," "]
[]
[]
[null,"1 GANG",{"$nulls":3},"QUANTITY:",null," ",null,"2 GANG",{"$nulls":3},"QUANTITY:",null," ",null,"3 GANG",{"$nulls":3},"QUANTITY:",null," ",null,"4 GANG",{"$nulls":3},"QUANTITY:",null," ",null,"5 GANG",{"$nulls":3},"QUANTITY:",null," ",null,"6 GANG",{"$nulls":3},"QUANTITY:",null," "]
[null,"SEQUENTIAL TEXT [SEQ A]",{"$nulls":3},"SEQUENTIAL TEXT [SEQ B]",{"$nulls":3},"SEQUENTIAL TEXT [SEQ A]",{"$nulls":3},"SEQUENTIAL TEXT [SEQ B]",{"$nulls":3},"SEQUENTIAL TEXT [SEQ A]",{"$nulls":3},"SEQUENTIAL TEXT [SEQ B]",{"$nulls":3},"SEQUENTIAL TEXT [SEQ A]",{"$nulls":3},"SEQUENTIAL TEXT [SEQ B]",{"$nulls":3},"SEQUENTIAL TEXT [SEQ A]",{"$nulls":3},"SEQUENTIAL TEXT [SEQ B]",{"$nulls":3},"SEQUENTIAL TEXT [SEQ A]",{"$nulls":3},"SEQUENTIAL TEXT [SEQ B]"]
[null,"FROM:"," ",null,null,"FROM:"," ",null,null,"FROM:"," ",null,null,"FROM:"," ",null,null,"FROM:"," ",null,null,"FROM:",null," ",null,"FROM:"," ",null,null,"FROM:"," ",null,null,"FROM:"," ",null,null,"FROM:",null," ",null,"FROM:"," ",null,null,"FROM:",null," "]
[null,"TO:"," ",null,null,"TO:"," ",null,null,"TO:"," ",null,null,"TO:"," ",null,null,"TO:"," ",null,null,"TO:",null," ",null,"TO:"," ",null,null,"TO:"," ",null,null,"TO:"," ",null,null,"TO:",null," ",null,"TO:"," ",null,null,"TO:",null," "]
[]
["LINE 15"," ",{"$nulls":6}," "," ",{"$nulls":6}," "," ",{"$nulls":6}," "," ",{"$nulls":6}," "," ",{"$nulls":6}," "," ",{"$nulls":6}," "]
[null," ",{"$nulls":6}," "," ",{"$nulls":6}," "," ",{"$nulls":6}," "," ",null," "," "," "," ",null," "," "," "," "," "," "," "," "," "," "," "," "," "," "," "," "," "]
[null," ",{"$nulls":6}," "," ",null," "," "," "," ",null," "," "," "," "," "," "," "," "," ",null,null," "," "," ",null,null," ",null," ",null," ",null," ",null," ",null," ",null," ",null," ",null," "]
[null," ",{"$nulls":6}," ",null,null," "," "," ",null,null," ",null," ",null," ",null," ",null," "," ",null," ",null," "," ",null," "," "," ",null," ",null," "," "," "," "," ",null," ",null," "," "," "]
[null," ",{"$nulls":6}," ",null,null," ",null," ",null,null," ",null," ",null," ",null," ",null," ",{"$nulls":7}," ",{"$nulls":7}," ",{"$nulls":7}," "]
[null," ",null,null," "," ",null,null," "," ",null," ",null," "," ",null," "," "," ",null," ",null," "," "," ",{"$nulls":7}," ",{"$nulls":7}," ",{"$nulls":7}," "]
[null," ",{"$nulls":3}," ",null,null," ",{"$nulls":7}," ",{"$nulls":7}," "," ",null," ",null," "," ",null," "," "," "," "," "," "," "," "," "," "," "," "," "," "," "," "," "]
[null," ",{"$nulls":3}," ",null,null," ",{"$nulls":7}," ",{"$nulls":7}," ",null,null," "," "," ",null,null," ",null," ",{"$nulls":3}," ",null," ",null," ",null," ",null," ",null," "]
[null," ",{"$nulls":6}," "," ",null," ",null," "," ",null," "," "," ",null," ",null," "," "," ",null,null," "," "," ",null,null," ",null," ",{"$nulls":3}," ",null," ",null," ",null," ",null," ",null," "]
[null," ",{"$nulls":6}," ",null,null," ",null," ",null,null," ",null," ",null," ",null," ",null," "," ",null," ",null," "," ",null," "," "," "," "," "," "," "," "," "," "," "," "," "," "," "," "," "]
[null," ",{"$nulls":6}," ",null,null," "," "," ",null,null," ",null," ",null," ",null," ",null," ",{"$nulls":7}," ",{"$nulls":7}," ",{"$nulls":7}," "]
[null," ",{"$nulls":6}," "," ",{"$nulls":6}," "," ",{"$nulls":6}," ",{"$nulls":7}," ",{"$nulls":7}," ",{"$nulls":7}," "]
[null," ",{"$nulls":6}," "," ",{"$nulls":6}," "," ",{"$nulls":6}," "," ",null," ",null," "," ",null," "," "," ",null," ",null," "," "," "," "," ",null," ",null," "," "," "]
[null," "," "," "," "," "," "," "," "," "," "," "," "," "," "," "," "," "," "," "," "," "," "," "," ",null,null," "," "," ",null,null," ",null," ",null," ",null," ",null," ",null," ",null," ",null," ",null," "]
[null," "," "," "," "," "," "," "," "," "," "," "," "," "," "," "," "," "," "," "," "," "," "," "," "," ",{"$nulls":6}," "," ",{"$nulls":6}," "," ",{"$nulls":6}," "]

{"sheet":"Vertical Switch Plates","index":4,"n_rows":513,"n_cols":31,"rows_kept":513,"merged":[[283,11,285,11],[283,13,285,13],[283,17,285,17],[284,1,284,3],[284,5,284,7],[285,1,285,3],[285,5,285,7],[286,1,286,3],[286,5,286,7],[286,9,286,11],[286,13,286,17],[286,19,287,19],[287,1,287,3],[287,5,287,7],[287,9,287,11],[287,13,287,17],[288,1,288,3],[288,5,288,7],[288,9,288,11],[288,13,288,17],[288,19,288,23],[288,25,288,29],[291,1,291,3],[291,5,291,7],[291,9,291,11],[291,13,291,17],[291,19,291,23],[291,25,291,29],[292,1,292,2],[292,5,292,6],[292,9,292,10],[292,13,292,14],[292,15,292,17],[292,19,292,20],[292,21,292,23],[292,25,292,26],[292,27,292,29],[293,1,293,3],[293,5,293,7],[293,9,293,11],[293,13,293,17],[293,19,293,23],[293,25,293,29],[294,2,294,3],[294,6,294,7],[294,10,294,11],[294,14,294,17],[294,20,294,23],[294,26,294,29],[295,2,295,3],[295,6,295,7],[295,10,295,11],[295,14,295,17],[295,20,295,23],[295,26,295,29],[296,1,296,3],[296,5,296,7],[296,9,296,11],[296,13,296,17],[296,19,296,23],[296,25,296,29],[297,2,297,3],[297,6,297,7],[297,10,297,11],[297,14,297,17],[297,20,297,23],[297,26,297,29],[298,2,298,3],[298,6,298,7],[298,10,298,11],[298,14,298,17],[298,20,298,23],[298,26,298,29],[300,1,300,3],[300,5,300,7],[300,9,300,11],[300,13,300,17],[300,19,300,23],[300,25,300,29],[301,1,301,3],[301,5,301,7],[301,9,301,11],[301,13,301,17],[301,19,302,19],[301,23,302,23],[301,25,302,25],[301,29,302,29],[302,1,302,3],[302,5,302,7],[302,9,302,11],[302,13,302,17],[302,21,305,21],[302,27,305,27],[303,1,303,3],[303,5,303,7],[303,9,305,9],[303,11,305,11],[303,13,305,13],[303,15,308,15],[303,17,305,17],[303,19,305,19],[303,23,305,23],[303,25,305,25],[303,29,305,29],[304,1,304,3],[304,5,304,7],[305,1,305,3],[305,5,305,7],[306,1,306,3],[306,5,308,5],[306,7,308,7],[306,9,306,11],[306,13,308,13],[306,17,308,17],[306,19,308,19],[306,23,308,23],[306,25,308,25],[306,29,308,29],[307,1,307,3],[307,9,307,11],[308,1,308,3],[308,9,308,11],[309,1,311,1],[309,3,311,3],[309,5,309,7],[309,9,311,9],[309,11,311,11],[309,13,311,13],[309,17,311,17],[309,19,311,20],[309,22,311,23],[309,25,311,25],[309,27,311,27],[309,29,311,29],[310,5,310,7],[311,5,311,7],[312,1,312,3],[312,5,314,5],[312,7,314,7],[312,9,312,11],[312,13,314,13],[312,15,317,15],[312,17,314,17],[312,19,314,19],[312,23,314,23],[312,25,314,25],[312,29,314,29],[313,1,313,3],[313,9,313,11],[314,1,314,3],[314,9,314,11],[315,1,315,3],[315,5,315,7],[315,9,317,9],[315,11,317,11],[315,13,317,13],[315,17,317,17],[315,19,317,19],[315,21,318,21],[315,23,317,23],[315,25,317,25],[315,27,318,27],[315,29,317,29],[316,1,316,3],[316,5,316,7],[317,1,317,3],[317,5,317,7],[318,1,318,3],[318,5,318,7],[318,9,318,11],[318,13,318,17],[318,19,319,19],[318,23,319,23],[318,25,319,25],[318,29,319,29],[319,1,319,3],[319,5,319,7],[319,9,319,11],[319,13,319,17],[320,1,320,3],[320,5,320,7],[320,9,320,11],[320,13,320,17],[320,19,320,23],[320,25,320,29],[323,1,323,3],[323,5,323,7],[323,9,323,11],[323,13,323,17],[323,19,323,23],[323,25,323,29],[324,1,324,2],[324,5,324,6],[324,9,324,10],[324,13,324,14],[324,15,324,17],[324,19,324,20],[324,21,324,23],[324,25,324,26],[324,27,324,29],[325,1,325,3],[325,5,325,7],[325,9,325,11],[325,13,325,17],[325,19,325,23],[325,25,325,29],[326,2,326,3],[326,6,326,7],[326,10,326,11],[326,14,326,17],[326,20,326,23],[326,26,326,29],[327,2,327,3],[327,6,327,7],[327,10,327,11],[327,14,327,17],[327,20,327,23],[327,26,327,29],[328,1,328,3],[328,5,328,7],[328,9,328,11],[328,13,328,17],[328,19,328,23],[328,25,328,29],[329,2,329,3],[329,6,329,7],[329,10,329,11],[329,14,329,17],[329,20,329,23],[329,26,329,29],[330,2,330,3],[330,6,330,7],[330,10,330,11],[330,14,330,17],[330,20,330,23],[330,26,330,29],[332,1,332,3],[332,5,332,7],[332,9,332,11],[332,13,332,17],[332,19,332,23],[332,25,332,29],[333,1,333,3],[333,5,333,7],[333,9,333,11],[333,13,333,17],[333,19,334,19],[333,23,334,23],[333,25,334,25],[333,29,334,29],[334,1,334,3],[334,5,334,7],[334,9,334,11],[334,13,334,17],[334,21,337,21],[334,27,337,27],[335,1,335,3],[335,5,335,7],[335,9,337,9],[335,11,337,11],[335,13,337,13],[335,15,340,15],[335,17,337,17],[335,19,337,19],[335,23,337,23],[335,25,337,25],[335,29,337,29],[336,1,336,3],[336,5,336,7],[337,1,337,3],[337,5,337,7],[338,1,338,3],[338,5,340,5],[338,7,340,7],[338,9,338,11],[338,13,340,13],[338,17,340,17],[338,19,340,19],[338,23,340,23],[338,25,340,25],[338,29,340,29],[339,1,339,3],[339,9,339,11],[340,1,340,3],[340,9,340,11],[341,1,343,1],[341,3,343,3],[341,5,341,7],[341,9,343,9],[341,11,343,11],[341,13,343,13],[341,17,343,17],[341,19,343,20],[341,22,343,23],[341,25,343,25],[341,27,343,27],[341,29,343,29],[342,5,342,7],[343,5,343,7],[344,1,344,3],[344,5,346,5],[344,7,346,7],[344,9,344,11],[344,13,346,13],[344,15,349,15],[344,17,346,17],[344,19,346,19],[344,23,346,23],[344,25,346,25],[344,29,346,29],[345,1,345,3],[345,9,345,11],[346,1,346,3],[346,9,346,11],[347,1,347,3],[347,5,347,7],[347,9,349,9],[347,11,349,11],[347,13,349,13],[347,17,349,17],[347,19,349,19],[347,21,350,21],[347,23,349,23],[347,25,349,25],[347,27,350,27],[347,29,349,29],[348,1,348,3],[348,5,348,7],[349,1,349,3],[349,5,349,7],[350,1,350,3],[350,5,350,7],[350,9,350,11],[350,13,350,17],[350,19,351,19],[350,23,351,23],[350,25,351,25],[350,29,351,29],[351,1,351,3],[351,5,351,7],[351,9,351,11],[351,13,351,17],[352,1,352,3],[352,5,352,7],[352,9,352,11],[352,13,352,17],[352,19,352,23],[352,25,352,29],[355,1,355,3],[355,5,355,7],[355,9,355,11],[355,13,355,17],[355,19,355,23],[355,25,355,29],[356,1,356,2],[356,5,356,6],[356,9,356,10],[356,13,356,14],[356,15,356,17],[356,19,356,20],[356,21,356,23],[356,25,356,26],[356,27,356,29],[357,1,357,3],[357,5,357,7],[357,9,357,11],[357,13,357,17],[357,19,357,23],[357,25,357,29],[358,2,358,3],[358,6,358,7],[358,10,358,11],[358,14,358,17],[358,20,358,23],[358,26,358,29],[359,2,359,3],[359,6,359,7],[359,10,359,11],[359,14,359,17],[359,20,359,23],[359,26,359,29],[360,1,360,3],[360,5,360,7],[360,9,360,11],[360,13,360,17],[360,19,360,23],[360,25,360,29],[361,2,361,3],[361,6,361,7],[361,10,361,11],[361,14,361,17],[361,20,361,23],[361,26,361,29],[362,2,362,3],[362,6,362,7],[362,10,362,11],[362,14,362,17],[362,20,362,23],[362,26,362,29],[364,1,364,3],[364,5,364,7],[364,9,364,11],[364,13,364,17],[364,19,364,23],[364,25,364,29],[365,1,365,3],[365,5,365,7],[365,9,365,11],[365,13,365,17],[365,19,366,19],[365,23,366,23],[365,25,366,25],[365,29,366,29],[366,1,366,3],[366,5,366,7],[366,9,366,11],[366,13,366,17],[366,21,369,21],[366,27,369,27],[367,1,367,3],[367,5,367,7],[367,9,369,9],[367,11,369,11],[367,13,369,13],[367,15,372,15],[367,17,369,17],[367,19,369,19],[367,23,369,23],[367,25,369,25],[367,29,369,29],[368,1,368,3],[368,5,368,7],[369,1,369,3],[369,5,369,7],[370,1,370,3],[370,5,372,5],[370,7,372,7],[370,9,370,11],[370,13,372,13],[370,17,372,17],[370,19,372,19],[370,23,372,23],[370,25,372,25],[370,29,372,29],[371,1,371,3],[371,9,371,11],[372,1,372,3],[372,9,372,11],[373,1,375,1],[373,3,375,3],[373,5,373,7],[373,9,375,9],[373,11,375,11],[373,13,375,13],[373,17,375,17],[373,19,375,20],[373,22,375,23],[373,25,375,25],[373,27,375,27],[373,29,375,29],[374,5,374,7],[375,5,375,7],[376,1,376,3],[376,5,378,5],[376,7,378,7],[376,9,376,11],[376,13,378,13],[376,15,381,15],[376,17,378,17],[376,19,378,19],[376,23,378,23],[376,25,378,25],[376,29,378,29],[377,1,377,3],[377,9,377,11],[378,1,378,3],[378,9,378,11],[379,1,379,3],[379,5,379,7],[379,9,381,9],[379,11,381,11],[379,13,381,13],[379,17,381,17],[379,19,381,19],[379,21,382,21],[379,23,381,23],[379,25,381,25],[379,27,382,27],[379,29,381,29],[380,1,380,3],[380,5,380,7],[381,1,381,3],[381,5,381,7],[382,1,382,3],[382,5,382,7],[382,9,382,11],[382,13,382,17],[382,19,383,19],[382,23,383,23],[382,25,383,25],[382,29,383,29],[383,1,383,3],[383,5,383,7],[383,9,383,11],[383,13,383,17],[384,1,384,3],[384,5,384,7],[384,9,384,11],[384,13,384,17],[384,19,384,23],[384,25,384,29],[387,1,387,3],[387,5,387,7],[387,9,387,11],[387,13,387,17],[387,19,387,23],[387,25,387,29],[388,1,388,2],[388,5,388,6],[388,9,388,10],[388,13,388,14],[388,15,388,17],[388,19,388,20],[388,21,388,23],[388,25,388,26],[388,27,388,29],[389,1,389,3],[389,5,389,7],[389,9,389,11],[389,13,389,17],[389,19,389,23],[389,25,389,29],[390,2,390,3],[390,6,390,7],[390,10,390,11],[390,14,390,17],[390,20,390,23],[390,26,390,29],[391,2,391,3],[391,6,391,7],[391,10,391,11],[391,14,391,17],[391,20,391,23],[391,26,391,29],[392,1,392,3],[392,5,392,7],[392,9,392,11],[392,13,392,17],[392,19,392,23],[392,25,392,29],[393,2,393,3],[393,6,393,7],[393,10,393,11],[393,14,393,17],[393,20,393,23],[393,26,393,29],[394,2,394,3],[394,6,394,7],[394,10,394,11],[394,14,394,17],[394,20,394,23],[394,26,394,29],[396,1,396,3],[396,5,396,7],[396,9,396,11],[396,13,396,17],[396,19,396,23],[396,25,396,29],[397,1,397,3],[397,5,397,7],[397,9,397,11],[397,13,397,17],[397,19,398,19],[397,23,398,23],[397,25,398,25],[397,29,398,29],[398,1,398,3],[398,5,398,7],[398,9,398,11],[398,13,398,17],[398,21,401,21],[398,27,401,27],[399,1,399,3],[399,5,399,7],[399,9,401,9],[399,11,401,11],[399,13,401,13],[399,15,404,15],[399,17,401,17],[399,19,401,19],[399,23,401,23],[399,25,401,25],[399,29,401,29],[400,1,400,3],[400,5,400,7],[401,1,401,3],[401,5,401,7],[402,1,402,3],[402,5,404,5],[402,7,404,7],[402,9,402,11],[402,13,404,13],[402,17,404,17],[402,19,404,19],[402,23,404,23],[402,25,404,25],[402,29,404,29],[403,1,403,3],[403,9,403,11],[404,1,404,3],[404,9,404,11],[405,1,407,1],[405,3,407,3],[405,5,405,7],[405,9,407,9],[405,11,407,11],[405,13,407,13],[405,17,407,17],[405,19,407,20],[405,22,407,23],[405,25,407,25],[405,27,407,27],[405,29,407,29],[406,5,406,7],[407,5,407,7],[408,1,408,3],[408,5,410,5],[408,7,410,7],[408,9,408,11],[408,13,410,13],[408,15,413,15],[408,17,410,17],[408,19,410,19],[408,23,410,23],[408,25,410,25],[408,29,410,29],[409,1,409,3],[409,9,409,11],[410,1,410,3],[410,9,410,11],[411,1,411,3],[411,5,411,7],[411,9,413,9],[411,11,413,11],[411,13,413,13],[411,17,413,17],[411,19,413,19],[411,21,414,21],[411,23,413,23],[411,25,413,25],[411,27,414,27],[411,29,413,29],[412,1,412,3],[412,5,412,7],[413,1,413,3],[413,5,413,7],[414,1,414,3],[414,5,414,7],[414,9,414,11],[414,13,414,17],[414,19,415,19],[414,23,415,23],[414,25,415,25],[414,29,415,29],[415,1,415,3],[415,5,415,7],[415,9,415,11],[415,13,415,17],[416,1,416,3],[416,5,416,7],[416,9,416,11],[416,13,416,17],[416,19,416,23],[416,25,416,29],[419,1,419,3],[419,5,419,7],[419,9,419,11],[419,13,419,17],[419,19,419,23],[419,25,419,29],[420,1,420,2],[420,5,420,6],[420,9,420,10],[420,13,420,14],[420,15,420,17],[420,19,420,20],[420,21,420,23],[420,25,420,26],[420,27,420,29],[421,1,421,3],[421,5,421,7],[421,9,421,11],[421,13,421,17],[421,19,421,23],[421,25,421,29],[422,2,422,3],[422,6,422,7],[422,10,422,11],[422,14,422,17],[422,20,422,23],[422,26,422,29],[423,2,423,3],[423,6,423,7],[423,10,423,11],[423,14,423,17],[423,20,423,23],[423,26,423,29],[424,1,424,3],[424,5,424,7],[424,9,424,11],[424,13,424,17],[424,19,424,23],[424,25,424,29],[425,2,425,3],[425,6,425,7],[425,10,425,11],[425,14,425,17],[425,20,425,23],[425,26,425,29],[426,2,426,3],[426,6,426,7],[426,10,426,11],[426,14,426,17],[426,20,426,23],[426,26,426,29],[428,1,428,3],[428,5,428,7],[428,9,428,11],[428,13,428,17],[428,19,428,23],[428,25,428,29],[429,1,429,3],[429,5,429,7],[429,9,429,11],[429,13,429,17],[429,19,430,19],[429,23,430,23],[429,25,430,25],[429,29,430,29],[430,1,430,3],[430,5,430,7],[430,9,430,11],[430,13,430,17],[430,21,433,21],[430,27,433,27],[431,1,431,3],[431,5,431,7],[431,9,433,9],[431,11,433,11],[431,13,433,13],[431,15,436,15],[431,17,433,17],[431,19,433,19],[431,23,433,23],[431,25,433,25],[431,29,433,29],[432,1,432,3],[432,5,432,7],[433,1,433,3],[433,5,433,7],[434,1,434,3],[434,5,436,5],[434,7,436,7],[434,9,434,11],[434,13,436,13],[434,17,436,17],[434,19,436,19],[434,23,436,23],[434,25,436,25],[434,29,436,29],[435,1,435,3],[435,9,435,11],[436,1,436,3],[436,9,436,11],[437,1,439,1],[437,3,439,3],[437,5,437,7],[437,9,439,9],[437,11,439,11],[437,13,439,13],[437,17,439,17],[437,19,439,20],[437,22,439,23],[437,25,439,25],[437,27,439,27],[437,29,439,29],[438,5,438,7],[439,5,439,7],[440,1,440,3],[440,5,442,5],[440,7,442,7],[440,9,440,11],[440,13,442,13],[440,15,445,15],[440,17,442,17],[440,19,442,19],[440,23,442,23],[440,25,442,25],[440,29,442,29],[441,1,441,3],[441,9,441,11],[442,1,442,3],[442,9,442,11],[443,1,443,3],[443,5,443,7],[443,9,445,9],[443,11,445,11],[443,13,445,13],[443,17,445,17],[443,19,445,19],[443,21,446,21],[443,23,445,23],[443,25,445,25],[443,27,446,27],[443,29,445,29],[444,1,444,3],[444,5,444,7],[445,1,445,3],[445,5,445,7],[446,1,446,3],[446,5,446,7],[446,9,446,11],[446,13,446,17],[446,19,447,19],[446,23,447,23],[446,25,447,25],[446,29,447,29],[447,1,447,3],[447,5,447,7],[447,9,447,11],[447,13,447,17],[448,1,448,3],[448,5,448,7],[448,9,448,11],[448,13,448,17],[448,19,448,23],[448,25,448,29],[451,1,451,3],[451,5,451,7],[451,9,451,11],[451,13,451,17],[451,19,451,23],[451,25,451,29],[452,1,452,2],[452,5,452,6],[452,9,452,10],[452,13,452,14],[452,15,452,17],[452,19,452,20],[452,21,452,23],[452,25,452,26],[452,27,452,29],[453,1,453,3],[453,5,453,7],[453,9,453,11],[453,13,453,17],[453,19,453,23],[453,25,453,29],[454,2,454,3],[454,6,454,7],[454,10,454,11],[454,14,454,17],[454,20,454,23],[454,26,454,29],[455,2,455,3],[455,6,455,7],[455,10,455,11],[455,14,455,17],[455,20,455,23],[455,26,455,29],[456,1,456,3],[456,5,456,7],[456,9,456,11],[456,13,456,17],[456,19,456,23],[456,25,456,29],[457,2,457,3],[457,6,457,7],[457,10,457,11],[457,14,457,17],[457,20,457,23],[457,26,457,29],[458,2,458,3],[458,6,458,7],[458,10,458,11],[458,14,458,17],[458,20,458,23],[458,26,458,29],[460,1,460,3],[460,5,460,7],[460,9,460,11],[460,13,460,17],[460,19,460,23],[460,25,460,29],[461,1,461,3],[461,5,461,7],[461,9,461,11],[461,13,461,17],[461,19,462,19],[461,23,462,23],[461,25,462,25],[461,29,462,29],[462,1,462,3],[462,5,462,7],[462,9,462,11],[462,13,462,17],[462,21,465,21],[462,27,465,27],[463,1,463,3],[463,5,463,7],[463,9,465,9],[463,11,465,11],[463,13,465,13],[463,15,468,15],[463,17,465,17],[463,19,465,19],[463,23,465,23],[463,25,465,25],[463,29,465,29],[464,1,464,3],[464,5,464,7],[465,1,465,3],[465,5,465,7],[466,1,466,3],[466,5,468,5],[466,7,468,7],[466,9,466,11],[466,13,468,13],[466,17,468,17],[466,19,468,19],[466,23,468,23],[466,25,468,25],[466,29,468,29],[467,1,467,3],[467,9,467,11],[468,1,468,3],[468,9,468,11],[469,1,471,1],[469,3,471,3],[469,5,469,7],[469,9,471,9],[469,11,471,11],[469,13,471,13],[469,17,471,17],[469,19,471,20],[469,22,471,23],[469,25,471,25],[469,27,471,27],[469,29,471,29],[470,5,470,7],[471,5,471,7],[472,1,472,3],[472,5,474,5],[472,7,474,7],[472,9,472,11],[472,13,474,13],[472,15,477,15],[472,17,474,17],[472,19,474,19],[472,23,474,23],[472,25,474,25],[472,29,474,29],[473,1,473,3],[473,9,473,11],[474,1,474,3],[474,9,474,11],[475,1,475,3],[475,5,475,7],[475,9,477,9],[475,11,477,11],[475,13,477,13],[475,17,477,17],[475,19,477,19],[475,21,478,21],[475,23,477,23],[475,25,477,25],[475,27,478,27],[475,29,477,29],[476,1,476,3],[476,5,476,7],[477,1,477,3],[477,5,477,7],[478,1,478,3],[478,5,478,7],[478,9,478,11],[478,13,478,17],[478,19,479,19],[478,23,479,23],[478,25,479,25],[478,29,479,29],[479,1,479,3],[479,5,479,7],[479,9,479,11],[479,13,479,17],[480,1,480,3],[480,5,480,7],[480,9,480,11],[480,13,480,17],[480,19,480,23],[480,25,480,29]],"merged_total":2462,"flags":["merged_cut"]}
[null,"VERTICAL  SWITCH  PLATES",{"$nulls":7},"1 GANGS:",{"$f":"SUM(D5,D37,D69,D101,D133,D165,D197,D229,D261,D293,D325,D357,D389,D421,D453)","v":0},"2 GANGS:",{"$f":"SUM(H5,H37,H69,H101,H133,H165,H197,H229,H261,H293,H325,H357,H389,H421,H453)","v":0},"3 GANGS:",{"$f":"SUM(L5,L37,L69,L101,L133,L165,L197,L229,L261,L293,L325,L357,L389,L421,L453)","v":0}]
[null,"TOTAL VERTICAL PLATES",null,null,{"$f":"SUM(K1,M1,O1,K2,M2,O2)","v":0},{"$nulls":4},"4 GANGS:",{"$f":"SUM(P5,P37,P69,P101,P133,P165,P197,P229,P261,P293,P325,P357,P389,P421,P453)","v":0},"5 GANGS:",{"$f":"SUM(V5,V37,V69,V101,V133,V165,V197,V229,V261,V293,V325,V357,V389,V421,V453)","v":0},"6 GANGS:",{"$f":"SUM(AB5,AB37,AB69,AB101,AB133,AB165,AB197,AB229,AB261,AB293,AB325,AB357,AB389,AB421,AB453)","v":0}]
[]
[null,"1 GANG",{"$nulls":3},"2 GANG",{"$nulls":3},"3 GANG",{"$nulls":3},"4 GANG",{"$nulls":5},"5 GANG",{"$nulls":5},"6 GANG"]
[null,"QUANTITY",null," ",null,"QUANTITY",null," ",null,"QUANTITY",null," ",null,"QUANTITY",null," ",{"$nulls":3},"QUANTITY",null," ",{"$nulls":3},"QUANTITY",null," "]
[null,"SEQUENTIAL TEXT [SEQ A]",{"$nulls":3},"SEQUENTIAL TEXT [SEQ A]",{"$nulls":3},"SEQUENTIAL TEXT [SEQ A]",{"$nulls":3},"SEQUENTIAL TEXT [SEQ A]",{"$nulls":5},"SEQUENTIAL TEXT [SEQ A]",{"$nulls":5},"SEQUENTIAL TEXT [SEQ A]"]
[null,"FROM:"," ",null,null,"FROM:"," ",null,null,"FROM:"," ",null,null,"FROM:"," ",{"$nulls":4},"FROM:"," ",{"$nulls":4},"FROM:"," "]
[null,"TO:"," ",null,null,"TO:"," ",null,null,"TO:"," ",null,null,"TO:"," ",{"$nulls":4},"TO:"," ",{"$nulls":4},"TO:"," "]
[null,"SEQUENTIAL TEXT [SEQ B]",{"$nulls":3},"SEQUENTIAL TEXT [SEQ B]",{"$nulls":3},"SEQUENTIAL TEXT [SEQ B]",{"$nulls":3},"SEQUENTIAL TEXT [SEQ B]",{"$nulls":5},"SEQUENTIAL TEXT [SEQ B]",{"$nulls":5},"SEQUENTIAL TEXT [SEQ B]"]
[null,"FROM:"," ",null,null,"FROM:"," ",null,null,"FROM:"," ",null,null,"FROM:"," ",{"$nulls":4},"FROM:"," ",{"$nulls":4},"FROM:"," "]
[null,"TO:"," ",null,null,"TO:"," ",null,null,"TO:"," ",null,null,"TO:"," ",{"$nulls":4},"TO:"," ",{"$nulls":4},"TO:"," "]
[]
["LINE 1"," ",null,null," "," ",null,null," "," ",null,null," "," ",{"$nulls":4}," "," ",{"$nulls":4}," "," ",{"$nulls":4}," "]
[null," ",null,null," "," ",null,null," "," ",null,null," "," ",{"$nulls":4}," "," "," "," "," "," "," "," "," "," "," "," "," "]
[null," ",null,null," "," ",null,null," "," ",null,null," "," ",{"$nulls":4}," ",null," "," "," ",null," ",null," "," "," ",null," "]
[null," ",null,null," "," ",null,null," "," "," "," "," "," "," "," "," "," "," "," "," ",null," "," "," "," "," ",null," "," "," "]
[null," ",null,null," "," ",null,null," ",null," ",null," ",null," ",null," ",null," ",null," ",null," ",null," ",null," ",null," ",null," "]
[null," ",null,null," "," ",null,null," ",null," ",null," ",null," ",null," ",null," ",null," ",null," ",null," ",null," ",null," ",null," "]
[null," ",null,null," "," "," "," "," "," ",null,null," "," "," ",null," "," "," "," "," "," "," "," "," "," "," "," "," "," "," "]
[null," ",null,null," ",null," ",null," "," ",null,null," ",null," ",null," ",null," ",null," "," "," ",null," ",null," "," "," ",null," "]
[null," ",null,null," ",null," ",null," "," ",null,null," ",null," ",null," ",null," ",null," "," "," ",null," ",null," "," "," ",null," "]
[null," "," "," "," "," ",null,null," "," "," "," "," "," "," "," "," "," "," "," ",null," "," ",null," "," "," "," "," "," "," "]
[null,null," ",null," "," ",null,null," ",null," ",null," ",null," "," "," ",null," ",null,null," ",null,null," ",null," ",null," ",null," "]
[null,null," ",null," "," ",null,null," ",null," ",null," ",null," "," "," ",null," ",null,null," ",null,null," ",null," ",null," ",null," "]
[null," ",null,null," "," "," "," "," "," ",null,null," "," "," "," "," "," "," "," "," "," "," "," "," "," "," "," "," "," "," "]
[null," ",null,null," ",null," ",null," "," ",null,null," ",null," ",null," ",null," ",null," "," "," ",null," ",null," "," "," ",null," "]
[null," ",null,null," ",null," ",null," "," ",null,null," ",null," ",null," ",null," ",null," "," "," ",null," ",null," "," "," ",null," "]
[null," ",null,null," "," ",null,null," "," "," "," "," "," "," ",null," "," "," "," "," "," "," "," "," "," "," "," "," "," "," "]
[null," ",null,null," "," ",null,null," ",null," ",null," ",null," ",null," ",null," ",null," ",null," ",null," ",null," ",null," ",null," "]
[null," ",null,null," "," ",null,null," ",null," ",null," ",null," ",null," ",null," ",null," ",null," ",null," ",null," ",null," ",null," "]
[null," ",null,null," "," ",null,null," "," ",null,null," "," ",{"$nulls":4}," "," "," ",null," "," "," "," "," ",null," "," "," "]
[null," ",null,null," "," ",null,null," "," ",null,null," "," ",{"$nulls":4}," ",null," "," "," ",null," ",null," "," "," ",null," "]
[null," ",null,null," "," ",null,null," "," ",null,null," "," ",{"$nulls":4}," "," ",{"$nulls":4}," "," ",{"$nulls":4}," "]
[]
[]
[null,"1 GANG",{"$nulls":3},"2 GANG",{"$nulls":3},"3 GANG",{"$nulls":3},"4 GANG",{"$nulls":5},"5 GANG",{"$nulls":5},"6 GANG"]
[null,"QUANTITY",null," ",null,"QUANTITY",null," ",null,"QUANTITY",null," ",null,"QUANTITY",null," ",{"$nulls":3},"QUANTITY",null," ",{"$nulls":3},"QUANTITY",null," "]
[null,"SEQUENTIAL TEXT [SEQ A]",{"$nulls":3},"SEQUENTIAL TEXT [SEQ A]",{"$nulls":3},"SEQUENTIAL TEXT [SEQ A]",{"$nulls":3},"SEQUENTIAL TEXT [SEQ A]",{"$nulls":5},"SEQUENTIAL TEXT [SEQ A]",{"$nulls":5},"SEQUENTIAL TEXT [SEQ A]"]
[null,"FROM:"," ",null,null,"FROM:"," ",null,null,"FROM:"," ",null,null,"FROM:"," ",{"$nulls":4},"FROM:"," ",{"$nulls":4},"FROM:"," "]
[null,"TO:"," ",null,null,"TO:"," ",null,null,"TO:"," ",null,null,"TO:"," ",{"$nulls":4},"TO:"," ",{"$nulls":4},"TO:"," "]
[null,"SEQUENTIAL TEXT [SEQ B]",{"$nulls":3},"SEQUENTIAL TEXT [SEQ B]",{"$nulls":3},"SEQUENTIAL TEXT [SEQ B]",{"$nulls":3},"SEQUENTIAL TEXT [SEQ B]",{"$nulls":5},"SEQUENTIAL TEXT [SEQ B]",{"$nulls":5},"SEQUENTIAL TEXT [SEQ B]"]
[null,"FROM:"," ",null,null,"FROM:"," ",null,null,"FROM:"," ",null,null,"FROM:"," ",{"$nulls":4},"FROM:"," ",{"$nulls":4},"FROM:"," "]
[null,"TO:"," ",null,null,"TO:"," ",null,null,"TO:"," ",null,null,"TO:"," ",{"$nulls":4},"TO:"," ",{"$nulls":4},"TO:"," "]
[]
["LINE 2"," ",null,null," "," ",null,null," "," ",null,null," "," ",{"$nulls":4}," "," ",{"$nulls":4}," "," ",{"$nulls":4}," "]
[null," ",null,null," "," ",null,null," "," ",null,null," "," ",{"$nulls":4}," "," "," "," "," "," "," "," "," "," "," "," "," "]
[null," ",null,null," "," ",null,null," "," ",null,null," "," ",{"$nulls":4}," ",null," "," "," ",null," ",null," "," "," ",null," "]
[null," ",null,null," "," ",null,null," "," "," "," "," "," "," "," "," "," "," "," "," ",null," "," "," "," "," ",null," "," "," "]
[null," ",null,null," "," ",null,null," ",null," ",null," ",null," ",null," ",null," ",null," ",null," ",null," ",null," ",null," ",null," "]
[null," ",null,null," "," ",null,null," ",null," ",null," ",null," ",null," ",null," ",null," ",null," ",null," ",null," ",null," ",null," "]
[null," ",null,null," "," "," "," "," "," ",null,null," "," "," ",null," "," "," "," "," "," "," "," "," "," "," "," "," "," "," "]
[null," ",null,null," ",null," ",null," "," ",null,null," ",null," ",null," ",null," ",null," "," "," ",null," ",null," "," "," ",null," "]
[null," ",null,null," ",null," ",null," "," ",null,null," ",null," ",null," ",null," ",null," "," "," ",null," ",null," "," "," ",null," "]
[null," "," "," "," "," ",null,null," "," "," "," "," "," "," "," "," "," "," "," ",null," "," ",null," "," "," "," "," "," "," "]
[null,null," ",null," "," ",null,null," ",null," ",null," ",null," "," "," ",null," ",null,null," ",null,null," ",null," ",null," ",null," "]
[null,null," ",null," "," ",null,null," ",null," ",null," ",null," "," "," ",null," ",null,null," ",null,null," ",null," ",null," ",null," "]
[null," ",null,null," "," "," "," "," "," ",null,null," "," "," "," "," "," "," "," "," "," "," "," "," "," "," "," "," "," "," "]
[null," ",null,null," ",null," ",null," "," ",null,null," ",null," ",null," ",null," ",null," "," "," ",null," ",null," "," "," ",null," "]
[null," ",null,null," ",null," ",null," "," ",null,null," ",null," ",null," ",null," ",null," "," "," ",null," ",null," "," "," ",null," "]
[null," ",null,null," "," ",null,null," "," "," "," "," "," "," ",null," "," "," "," "," "," "," "," "," "," "," "," "," "," "," "]
[null," ",null,null," "," ",null,null," ",null," ",null," ",null," ",null," ",null," ",null," ",null," ",null," ",null," ",null," ",null," "]
[null," ",null,null," "," ",null,null," ",null," ",null," ",null," ",null," ",null," ",null," ",null," ",null," ",null," ",null," ",null," "]
[null," ",null,null," "," ",null,null," "," ",null,null," "," ",{"$nulls":4}," "," "," ",null," "," "," "," "," ",null," "," "," "]
[null," ",null,null," "," ",null,null," "," ",null,null," "," ",{"$nulls":4}," ",null," "," "," ",null," ",null," "," "," ",null," "]
[null," ",null,null," "," ",null,null," "," ",null,null," "," ",{"$nulls":4}," "," ",{"$nulls":4}," "," ",{"$nulls":4}," "]
[]
[]
[null,"1 GANG",{"$nulls":3},"2 GANG",{"$nulls":3},"3 GANG",{"$nulls":3},"4 GANG",{"$nulls":5},"5 GANG",{"$nulls":5},"6 GANG"]
[null,"QUANTITY",null," ",null,"QUANTITY",null," ",null,"QUANTITY",null," ",null,"QUANTITY",null," ",{"$nulls":3},"QUANTITY",null," ",{"$nulls":3},"QUANTITY",null," "]
[null,"SEQUENTIAL TEXT [SEQ A]",{"$nulls":3},"SEQUENTIAL TEXT [SEQ A]",{"$nulls":3},"SEQUENTIAL TEXT [SEQ A]",{"$nulls":3},"SEQUENTIAL TEXT [SEQ A]",{"$nulls":5},"SEQUENTIAL TEXT [SEQ A]",{"$nulls":5},"SEQUENTIAL TEXT [SEQ A]"]
[null,"FROM:"," ",null,null,"FROM:"," ",null,null,"FROM:"," ",null,null,"FROM:"," ",{"$nulls":4},"FROM:"," ",{"$nulls":4},"FROM:"," "]
[null,"TO:"," ",null,null,"TO:"," ",null,null,"TO:"," ",null,null,"TO:"," ",{"$nulls":4},"TO:"," ",{"$nulls":4},"TO:"," "]
[null,"SEQUENTIAL TEXT [SEQ B]",{"$nulls":3},"SEQUENTIAL TEXT [SEQ B]",{"$nulls":3},"SEQUENTIAL TEXT [SEQ B]",{"$nulls":3},"SEQUENTIAL TEXT [SEQ B]",{"$nulls":5},"SEQUENTIAL TEXT [SEQ B]",{"$nulls":5},"SEQUENTIAL TEXT [SEQ B]"]
[null,"FROM:"," ",null,null,"FROM:"," ",null,null,"FROM:"," ",null,null,"FROM:"," ",{"$nulls":4},"FROM:"," ",{"$nulls":4},"FROM:"," "]
[null,"TO:"," ",null,null,"TO:"," ",null,null,"TO:"," ",null,null,"TO:"," ",{"$nulls":4},"TO:"," ",{"$nulls":4},"TO:"," "]
[]
["LINE 3"," ",null,null," "," ",null,null," "," ",null,null," "," ",{"$nulls":4}," "," ",{"$nulls":4}," "," ",{"$nulls":4}," "]
[null," ",null,null," "," ",null,null," "," ",null,null," "," ",{"$nulls":4}," "," "," "," "," "," "," "," "," "," "," "," "," "]
[null," ",null,null," "," ",null,null," "," ",null,null," "," ",{"$nulls":4}," ",null," "," "," ",null," ",null," "," "," ",null," "]
[null," ",null,null," "," ",null,null," "," "," "," "," "," "," "," "," "," "," "," "," ",null," "," "," "," "," ",null," "," "," "]
[null," ",null,null," "," ",null,null," ",null," ",null," ",null," ",null," ",null," ",null," ",null," ",null," ",null," ",null," ",null," "]
[null," ",null,null," "," ",null,null," ",null," ",null," ",null," ",null," ",null," ",null," ",null," ",null," ",null," ",null," ",null," "]
[null," ",null,null," "," "," "," "," "," ",null,null," "," "," ",null," "," "," "," "," "," "," "," "," "," "," "," "," "," "," "]
[null," ",null,null," ",null," ",null," "," ",null,null," ",null," ",null," ",null," ",null," "," "," ",null," ",null," "," "," ",null," "]
[null," ",null,null," ",null," ",null," "," ",null,null," ",null," ",null," ",null," ",null," "," "," ",null," ",null," "," "," ",null," "]
[null," "," "," "," "," ",null,null," "," "," "," "," "," "," "," "," "," "," "," ",null," "," ",null," "," "," "," "," "," "," "]
[null,null," ",null," "," ",null,null," ",null," ",null," ",null," "," "," ",null," ",null,null," ",null,null," ",null," ",null," ",null," "]
[null,null," ",null," "," ",null,null," ",null," ",null," ",null," "," "," ",null," ",null,null," ",null,null," ",null," ",null," ",null," "]
[null," ",null,null," "," "," "," "," "," ",null,null," "," "," "," "," "," "," "," "," "," "," "," "," "," "," "," "," "," "," "]
[null," ",null,null," ",null," ",null," "," ",null,null," ",null," ",null," ",null," ",null," "," "," ",null," ",null," "," "," ",null," "]
[null," ",null,null," ",null," ",null," "," ",null,null," ",null," ",null," ",null," ",null," "," "," ",null," ",null," "," "," ",null," "]
[null," ",null,null," "," ",null,null," "," "," "," "," "," "," ",null," "," "," "," "," "," "," "," "," "," "," "," "," "," "," "]
[null," ",null,null," "," ",null,null," ",null," ",null," ",null," ",null," ",null," ",null," ",null," ",null," ",null," ",null," ",null," "]
[null," ",null,null," "," ",null,null," ",null," ",null," ",null," ",null," ",null," ",null," ",null," ",null," ",null," ",null," ",null," "]
[null," ",null,null," "," ",null,null," "," ",null,null," "," ",{"$nulls":4}," "," "," ",null," "," "," "," "," ",null," "," "," "]
[null," ",null,null," "," ",null,null," "," ",null,null," "," ",{"$nulls":4}," ",null," "," "," ",null," ",null," "," "," ",null," "]
[null," ",null,null," "," ",null,null," "," ",null,null," "," ",{"$nulls":4}," "," ",{"$nulls":4}," "," ",{"$nulls":4}," "]
[]
[]
[null,"1 GANG",{"$nulls":3},"2 GANG",{"$nulls":3},"3 GANG",{"$nulls":3},"4 GANG",{"$nulls":5},"5 GANG",{"$nulls":5},"6 GANG"]
[null,"QUANTITY",null," ",null,"QUANTITY",null," ",null,"QUANTITY",null," ",null,"QUANTITY",null," ",{"$nulls":3},"QUANTITY",null," ",{"$nulls":3},"QUANTITY",null," "]
[null,"SEQUENTIAL TEXT [SEQ A]",{"$nulls":3},"SEQUENTIAL TEXT [SEQ A]",{"$nulls":3},"SEQUENTIAL TEXT [SEQ A]",{"$nulls":3},"SEQUENTIAL TEXT [SEQ A]",{"$nulls":5},"SEQUENTIAL TEXT [SEQ A]",{"$nulls":5},"SEQUENTIAL TEXT [SEQ A]"]
[null,"FROM:"," ",null,null,"FROM:"," ",null,null,"FROM:"," ",null,null,"FROM:"," ",{"$nulls":4},"FROM:"," ",{"$nulls":4},"FROM:"," "]
[null,"TO:"," ",null,null,"TO:"," ",null,null,"TO:"," ",null,null,"TO:"," ",{"$nulls":4},"TO:"," ",{"$nulls":4},"TO:"," "]
[null,"SEQUENTIAL TEXT [SEQ B]",{"$nulls":3},"SEQUENTIAL TEXT [SEQ B]",{"$nulls":3},"SEQUENTIAL TEXT [SEQ B]",{"$nulls":3},"SEQUENTIAL TEXT [SEQ B]",{"$nulls":5},"SEQUENTIAL TEXT [SEQ B]",{"$nulls":5},"SEQUENTIAL TEXT [SEQ B]"]
[null,"FROM:"," ",null,null,"FROM:"," ",null,null,"FROM:"," ",null,null,"FROM:"," ",{"$nulls":4},"FROM:"," ",{"$nulls":4},"FROM:"," "]
[null,"TO:"," ",null,null,"TO:"," ",null,null,"TO:"," ",null,null,"TO:"," ",{"$nulls":4},"TO:"," ",{"$nulls":4},"TO:"," "]
[]
["LINE 4"," ",null,null," "," ",null,null," "," ",null,null," "," ",{"$nulls":4}," "," ",{"$nulls":4}," "," ",{"$nulls":4}," "]
[null," ",null,null," "," ",null,null," "," ",null,null," "," ",{"$nulls":4}," "," "," "," "," "," "," "," "," "," "," "," "," "]
[null," ",null,null," "," ",null,null," "," ",null,null," "," ",{"$nulls":4}," ",null," "," "," ",null," ",null," "," "," ",null," "]
[null," ",null,null," "," ",null,null," "," "," "," "," "," "," "," "," "," "," "," "," ",null," "," "," "," "," ",null," "," "," "]
[null," ",null,null," "," ",null,null," ",null," ",null," ",null," ",null," ",null," ",null," ",null," ",null," ",null," ",null," ",null," "]
[null," ",null,null," "," ",null,null," ",null," ",null," ",null," ",null," ",null," ",null," ",null," ",null," ",null," ",null," ",null," "]
[null," ",null,null," "," "," "," "," "," ",null,null," "," "," ",null," "," "," "," "," "," "," "," "," "," "," "," "," "," "," "]
[null," ",null,null," ",null," ",null," "," ",null,null," ",null," ",null," ",null," ",null," "," "," ",null," ",null," "," "," ",null," "]
[null," ",null,null," ",null," ",null," "," ",null,null," ",null," ",null," ",null," ",null," "," "," ",null," ",null," "," "," ",null," "]
[null," "," "," "," "," ",null,null," "," "," "," "," "," "," "," "," "," "," "," ",null," "," ",null," "," "," "," "," "," "," "]
[null,null," ",null," "," ",null,null," ",null," ",null," ",null," "," "," ",null," ",null,null," ",null,null," ",null," ",null," ",null," "]
[null,null," ",null," "," ",null,null," ",null," ",null," ",null," "," "," ",null," ",null,null," ",null,null," ",null," ",null," ",null," "]
[null," ",null,null," "," "," "," "," "," ",null,null," "," "," "," "," "," "," "," "," "," "," "," "," "," "," "," "," "," "," "]
[null," ",null,null," ",null," ",null," "," ",null,null," ",null," ",null," ",null," ",null," "," "," ",null," ",null," "," "," ",null," "]
[null," ",null,null," ",null," ",null," "," ",null,null," ",null," ",null," ",null," ",null," "," "," ",null," ",null," "," "," ",null," "]
[null," ",null,null," "," ",null,null," "," "," "," "," "," "," ",null," "," "," "," "," "," "," "," "," "," "," "," "," "," "," "]
[null," ",null,null," "," ",null,null," ",null," ",null," ",null," ",null," ",null," ",null," ",null," ",null," ",null," ",null," ",null," "]
[null," ",null,null," "," ",null,null," ",null," ",null," ",null," ",null," ",null," ",null," ",null," ",null," ",null," ",null," ",null," "]
[null," ",null,null," "," ",null,null," "," ",null,null," "," ",{"$nulls":4}," "," "," ",null," "," "," "," "," ",null," "," "," "]
[null," ",null,null," "," ",null,null," "," ",null,null," "," ",{"$nulls":4}," ",null," "," "," ",null," ",null," "," "," ",null," "]
[null," ",null,null," "," ",null,null," "," ",null,null," "," ",{"$nulls":4}," "," ",{"$nulls":4}," "," ",{"$nulls":4}," "]
[]
[]
[null,"1 GANG",{"$nulls":3},"2 GANG",{"$nulls":3},"3 GANG",{"$nulls":3},"4 GANG",{"$nulls":5},"5 GANG",{"$nulls":5},"6 GANG"]
[null,"QUANTITY",null," ",null,"QUANTITY",null," ",null,"QUANTITY",null," ",null,"QUANTITY",null," ",{"$nulls":3},"QUANTITY",null," ",{"$nulls":3},"QUANTITY",null," "]
[null,"SEQUENTIAL TEXT [SEQ A]",{"$nulls":3},"SEQUENTIAL TEXT [SEQ A]",{"$nulls":3},"SEQUENTIAL TEXT [SEQ A]",{"$nulls":3},"SEQUENTIAL TEXT [SEQ A]",{"$nulls":5},"SEQUENTIAL TEXT [SEQ A]",{"$nulls":5},"SEQUENTIAL TEXT [SEQ A]"]
[null,"FROM:"," ",null,null,"FROM:"," ",null,null,"FROM:"," ",null,null,"FROM:"," ",{"$nulls":4},"FROM:"," ",{"$nulls":4},"FROM:"," "]
[null,"TO:"," ",null,null,"TO:"," ",null,null,"TO:"," ",null,null,"TO:"," ",{"$nulls":4},"TO:"," ",{"$nulls":4},"TO:"," "]
[null,"SEQUENTIAL TEXT [SEQ B]",{"$nulls":3},"SEQUENTIAL TEXT [SEQ B]",{"$nulls":3},"SEQUENTIAL TEXT [SEQ B]",{"$nulls":3},"SEQUENTIAL TEXT [SEQ B]",{"$nulls":5},"SEQUENTIAL TEXT [SEQ B]",{"$nulls":5},"SEQUENTIAL TEXT [SEQ B]"]
[null,"FROM:"," ",null,null,"FROM:"," ",null,null,"FROM:"," ",null,null,"FROM:"," ",{"$nulls":4},"FROM:"," ",{"$nulls":4},"FROM:"," "]
[null,"TO:"," ",null,null,"TO:"," ",null,null,"TO:"," ",null,null,"TO:"," ",{"$nulls":4},"TO:"," ",{"$nulls":4},"TO:"," "]
[]
["LINE 5"," ",null,null," "," ",null,null," "," ",null,null," "," ",{"$nulls":4}," "," ",{"$nulls":4}," "," ",{"$nulls":4}," "]
[null," ",null,null," "," ",null,null," "," ",null,null," "," ",{"$nulls":4}," "," "," "," "," "," "," "," "," "," "," "," "," "]
[null," ",null,null," "," ",null,null," "," ",null,null," "," ",{"$nulls":4}," ",null," "," "," ",null," ",null," "," "," ",null," "]
[null," ",null,null," "," ",null,null," "," "," "," "," "," "," "," "," "," "," "," "," ",null," "," "," "," "," ",null," "," "," "]
[null," ",null,null," "," ",null,null," ",null," ",null," ",null," ",null," ",null," ",null," ",null," ",null," ",null," ",null," ",null," "]
[null," ",null,null," "," ",null,null," ",null," ",null," ",null," ",null," ",null," ",null," ",null," ",null," ",null," ",null," ",null," "]
[null," ",null,null," "," "," "," "," "," ",null,null," "," "," ",null," "," "," "," "," "," "," "," "," "," "," "," "," "," "," "]
[null," ",null,null," ",null," ",null," "," ",null,null," ",null," ",null," ",null," ",null," "," "," ",null," ",null," "," "," ",null," "]
[null," ",null,null," ",null," ",null," "," ",null,null," ",null," ",null," ",null," ",null," "," "," ",null," ",null," "," "," ",null," "]
[null," "," "," "," "," ",null,null," "," "," "," "," "," "," "," "," "," "," "," ",null," "," ",null," "," "," "," "," "," "," "]
[null,null," ",null," "," ",null,null," ",null," ",null," ",null," "," "," ",null," ",null,null," ",null,null," ",null," ",null," ",null," "]
[null,null," ",null," "," ",null,null," ",null," ",null," ",null," "," "," ",null," ",null,null," ",null,null," ",null," ",null," ",null," "]
[null," ",null,null," "," "," "," "," "," ",null,null," "," "," "," "," "," "," "," "," "," "," "," "," "," "," "," "," "," "," "]
[null," ",null,null," ",null," ",null," "," ",null,null," ",null," ",null," ",null," ",null," "," "," ",null," ",null," "," "," ",null," "]
[null," ",null,null," ",null," ",null," "," ",null,null," ",null," ",null," ",null," ",null," "," "," ",null," ",null," "," "," ",null," "]
[null," ",null,null," "," ",null,null," "," "," "," "," "," "," ",null," "," "," "," "," "," "," "," "," "," "," "," "," "," "," "]
[null," ",null,null," "," ",null,null," ",null," ",null," ",null," ",null," ",null," ",null," ",null," ",null," ",null," ",null," ",null," "]
[null," ",null,null," "," ",null,null," ",null," ",null," ",null," ",null," ",null," ",null," ",null," ",null," ",null," ",null," ",null," "]
[null," ",null,null," "," ",null,null," "," ",null,null," "," ",{"$nulls":4}," "," "," ",null," "," "," "," "," ",null," "," "," "]
[null," ",null,null," "," ",null,null," "," ",null,null," "," ",{"$nulls":4}," ",null," "," "," ",null," ",null," "," "," ",null," "]
[null," ",null,null," "," ",null,null," "," ",null,null," "," ",{"$nulls":4}," "," ",{"$nulls":4}," "," ",{"$nulls":4}," "]
[]
[]
[null,"1 GANG",{"$nulls":3},"2 GANG",{"$nulls":3},"3 GANG",{"$nulls":3},"4 GANG",{"$nulls":5},"5 GANG",{"$nulls":5},"6 GANG"]
[null,"QUANTITY",null," ",null,"QUANTITY",null," ",null,"QUANTITY",null," ",null,"QUANTITY",null," ",{"$nulls":3},"QUANTITY",null," ",{"$nulls":3},"QUANTITY",null," "]
[null,"SEQUENTIAL TEXT [SEQ A]",{"$nulls":3},"SEQUENTIAL TEXT [SEQ A]",{"$nulls":3},"SEQUENTIAL TEXT [SEQ A]",{"$nulls":3},"SEQUENTIAL TEXT [SEQ A]",{"$nulls":5},"SEQUENTIAL TEXT [SEQ A]",{"$nulls":5},"SEQUENTIAL TEXT [SEQ A]"]
[null,"FROM:"," ",null,null,"FROM:"," ",null,null,"FROM:"," ",null,null,"FROM:"," ",{"$nulls":4},"FROM:"," ",{"$nulls":4},"FROM:"," "]
[null,"TO:"," ",null,null,"TO:"," ",null,null,"TO:"," ",null,null,"TO:"," ",{"$nulls":4},"TO:"," ",{"$nulls":4},"TO:"," "]
[null,"SEQUENTIAL TEXT [SEQ B]",{"$nulls":3},"SEQUENTIAL TEXT [SEQ B]",{"$nulls":3},"SEQUENTIAL TEXT [SEQ B]",{"$nulls":3},"SEQUENTIAL TEXT [SEQ B]",{"$nulls":5},"SEQUENTIAL TEXT [SEQ B]",{"$nulls":5},"SEQUENTIAL TEXT [SEQ B]"]
[null,"FROM:"," ",null,null,"FROM:"," ",null,null,"FROM:"," ",null,null,"FROM:"," ",{"$nulls":4},"FROM:"," ",{"$nulls":4},"FROM:"," "]
[null,"TO:"," ",null,null,"TO:"," ",null,null,"TO:"," ",null,null,"TO:"," ",{"$nulls":4},"TO:"," ",{"$nulls":4},"TO:"," "]
[]
["LINE 6"," ",null,null," "," ",null,null," "," ",null,null," "," ",{"$nulls":4}," "," ",{"$nulls":4}," "," ",{"$nulls":4}," "]
[null," ",null,null," "," ",null,null," "," ",null,null," "," ",{"$nulls":4}," "," "," "," "," "," "," "," "," "," "," "," "," "]
[null," ",null,null," "," ",null,null," "," ",null,null," "," ",{"$nulls":4}," ",null," "," "," ",null," ",null," "," "," ",null," "]
[null," ",null,null," "," ",null,null," "," "," "," "," "," "," "," "," "," "," "," "," ",null," "," "," "," "," ",null," "," "," "]
[null," ",null,null," "," ",null,null," ",null," ",null," ",null," ",null," ",null," ",null," ",null," ",null," ",null," ",null," ",null," "]
[null," ",null,null," "," ",null,null," ",null," ",null," ",null," ",null," ",null," ",null," ",null," ",null," ",null," ",null," ",null," "]
[null," ",null,null," "," "," "," "," "," ",null,null," "," "," ",null," "," "," "," "," "," "," "," "," "," "," "," "," "," "," "]
[null," ",null,null," ",null," ",null," "," ",null,null," ",null," ",null," ",null," ",null," "," "," ",null," ",null," "," "," ",null," "]
[null," ",null,null," ",null," ",null," "," ",null,null," ",null," ",null," ",null," ",null," "," "," ",null," ",null," "," "," ",null," "]
[null," "," "," "," "," ",null,null," "," "," "," "," "," "," "," "," "," "," "," ",null," "," ",null," "," "," "," "," "," "," "]
[null,null," ",null," "," ",null,null," ",null," ",null," ",null," "," "," ",null," ",null,null," ",null,null," ",null," ",null," ",null," "]
[null,null," ",null," "," ",null,null," ",null," ",null," ",null," "," "," ",null," ",null,null," ",null,null," ",null," ",null," ",null," "]
[null," ",null,null," "," "," "," "," "," ",null,null," "," "," "," "," "," "," "," "," "," "," "," "," "," "," "," "," "," "," "]
[null," ",null,null," ",null," ",null," "," ",null,null," ",null," ",null," ",null," ",null," "," "," ",null," ",null," "," "," ",null," "]
[null," ",null,null," ",null," ",null," "," ",null,null," ",null," ",null," ",null," ",null," "," "," ",null," ",null," "," "," ",null," "]
[null," ",null,null," "," ",null,null," "," "," "," "," "," "," ",null," "," "," "," "," "," "," "," "," "," "," "," "," "," "," "]
[null," ",null,null," "," ",null,null," ",null," ",null," ",null," ",null," ",null," ",null," ",null," ",null," ",null," ",null," ",null," "]
[null," ",null,null," "," ",null,null," ",null," ",null," ",null," ",null," ",null," ",null," ",null," ",null," ",null," ",null," ",null," "]
[null," ",null,null," "," ",null,null," "," ",null,null," "," ",{"$nulls":4}," "," "," ",null," "," "," "," "," ",null," "," "," "]
[null," ",null,null," "," ",null,null," "," ",null,null," "," ",{"$nulls":4}," ",null," "," "," ",null," ",null," "," "," ",null," "]
[null," ",null,null," "," ",null,null," "," ",null,null," "," ",{"$nulls":4}," "," ",{"$nulls":4}," "," ",{"$nulls":4}," "]
[]
[]
[null,"1 GANG",{"$nulls":3},"2 GANG",{"$nulls":3},"3 GANG",{"$nulls":3},"4 GANG",{"$nulls":5},"5 GANG",{"$nulls":5},"6 GANG"]
[null,"QUANTITY",null," ",null,"QUANTITY",null," ",null,"QUANTITY",null," ",null,"QUANTITY",null," ",{"$nulls":3},"QUANTITY",null," ",{"$nulls":3},"QUANTITY",null," "]
[null,"SEQUENTIAL TEXT [SEQ A]",{"$nulls":3},"SEQUENTIAL TEXT [SEQ A]",{"$nulls":3},"SEQUENTIAL TEXT [SEQ A]",{"$nulls":3},"SEQUENTIAL TEXT [SEQ A]",{"$nulls":5},"SEQUENTIAL TEXT [SEQ A]",{"$nulls":5},"SEQUENTIAL TEXT [SEQ A]"]
[null,"FROM:"," ",null,null,"FROM:"," ",null,null,"FROM:"," ",null,null,"FROM:"," ",{"$nulls":4},"FROM:"," ",{"$nulls":4},"FROM:"," "]
[null,"TO:"," ",null,null,"TO:"," ",null,null,"TO:"," ",null,null,"TO:"," ",{"$nulls":4},"TO:"," ",{"$nulls":4},"TO:"," "]
[null,"SEQUENTIAL TEXT [SEQ B]",{"$nulls":3},"SEQUENTIAL TEXT [SEQ B]",{"$nulls":3},"SEQUENTIAL TEXT [SEQ B]",{"$nulls":3},"SEQUENTIAL TEXT [SEQ B]",{"$nulls":5},"SEQUENTIAL TEXT [SEQ B]",{"$nulls":5},"SEQUENTIAL TEXT [SEQ B]"]
[null,"FROM:"," ",null,null,"FROM:"," ",null,null,"FROM:"," ",null,null,"FROM:"," ",{"$nulls":4},"FROM:"," ",{"$nulls":4},"FROM:"," "]
[null,"TO:"," ",null,null,"TO:"," ",null,null,"TO:"," ",null,null,"TO:"," ",{"$nulls":4},"TO:"," ",{"$nulls":4},"TO:"," "]
[]
["LINE 7"," ",null,null," "," ",null,null," "," ",null,null," "," ",{"$nulls":4}," "," ",{"$nulls":4}," "," ",{"$nulls":4}," "]
[null," ",null,null," "," ",null,null," "," ",null,null," "," ",{"$nulls":4}," "," "," "," "," "," "," "," "," "," "," "," "," "]
[null," ",null,null," "," ",null,null," "," ",null,null," "," ",{"$nulls":4}," ",null," "," "," ",null," ",null," "," "," ",null," "]
[null," ",null,null," "," ",null,null," "," "," "," "," "," "," "," "," "," "," "," "," ",null," "," "," "," "," ",null," "," "," "]
[null," ",null,null," "," ",null,null," ",null," ",null," ",null," ",null," ",null," ",null," ",null," ",null," ",null," ",null," ",null," "]
[null," ",null,null," "," ",null,null," ",null," ",null," ",null," ",null," ",null," ",null," ",null," ",null," ",null," ",null," ",null," "]
[null," ",null,null," "," "," "," "," "," ",null,null," "," "," ",null," "," "," "," "," "," "," "," "," "," "," "," "," "," "," "]
[null," ",null,null," ",null," ",null," "," ",null,null," ",null," ",null," ",null," ",null," "," "," ",null," ",null," "," "," ",null," "]
[null," ",null,null," ",null," ",null," "," ",null,null," ",null," ",null," ",null," ",null," "," "," ",null," ",null," "," "," ",null," "]
[null," "," "," "," "," ",null,null," "," "," "," "," "," "," "," "," "," "," "," ",null," "," ",null," "," "," "," "," "," "," "]
[null,null," ",null," "," ",null,null," ",null," ",null," ",null," "," "," ",null," ",null,null," ",null,null," ",null," ",null," ",null," "]
[null,null," ",null," "," ",null,null," ",null," ",null," ",null," "," "," ",null," ",null,null," ",null,null," ",null," ",null," ",null," "]
[null," ",null,null," "," "," "," "," "," ",null,null," "," "," "," "," "," "," "," "," "," "," "," "," "," "," "," "," "," "," "]
[null," ",null,null," ",null," ",null," "," ",null,null," ",null," ",null," ",null," ",null," "," "," ",null," ",null," "," "," ",null," "]
[null," ",null,null," ",null," ",null," "," ",null,null," ",null," ",null," ",null," ",null," "," "," ",null," ",null," "," "," ",null," "]
[null," ",null,null," "," ",null,null," "," "," "," "," "," "," ",null," "," "," "," "," "," "," "," "," "," "," "," "," "," "," "]
[null," ",null,null," "," ",null,null," ",null," ",null," ",null," ",null," ",null," ",null," ",null," ",null," ",null," ",null," ",null," "]
[null," ",null,null," "," ",null,null," ",null," ",null," ",null," ",null," ",null," ",null," ",null," ",null," ",null," ",null," ",null," "]
[null," ",null,null," "," ",null,null," "," ",null,null," "," ",{"$nulls":4}," "," "," ",null," "," "," "," "," ",null," "," "," "]
[null," ",null,null," "," ",null,null," "," ",null,null," "," ",{"$nulls":4}," ",null," "," "," ",null," ",null," "," "," ",null," "]
[null," ",null,null," "," ",null,null," "," ",null,null," "," ",{"$nulls":4}," "," ",{"$nulls":4}," "," ",{"$nulls":4}," "]
[]
[]
[null,"1 GANG",{"$nulls":3},"2 GANG",{"$nulls":3},"3 GANG",{"$nulls":3},"4 GANG",{"$nulls":5},"5 GANG",{"$nulls":5},"6 GANG"]
[null,"QUANTITY",null," ",null,"QUANTITY",null," ",null,"QUANTITY",null," ",null,"QUANTITY",null," ",{"$nulls":3},"QUANTITY",null," ",{"$nulls":3},"QUANTITY",null," "]
[null,"SEQUENTIAL TEXT [SEQ A]",{"$nulls":3},"SEQUENTIAL TEXT [SEQ A]",{"$nulls":3},"SEQUENTIAL TEXT [SEQ A]",{"$nulls":3},"SEQUENTIAL TEXT [SEQ A]",{"$nulls":5},"SEQUENTIAL TEXT [SEQ A]",{"$nulls":5},"SEQUENTIAL TEXT [SEQ A]"]
[null,"FROM:"," ",null,null,"FROM:"," ",null,null,"FROM:"," ",null,null,"FROM:"," ",{"$nulls":4},"FROM:"," ",{"$nulls":4},"FROM:"," "]
[null,"TO:"," ",null,null,"TO:"," ",null,null,"TO:"," ",null,null,"TO:"," ",{"$nulls":4},"TO:"," ",{"$nulls":4},"TO:"," "]
[null,"SEQUENTIAL TEXT [SEQ B]",{"$nulls":3},"SEQUENTIAL TEXT [SEQ B]",{"$nulls":3},"SEQUENTIAL TEXT [SEQ B]",{"$nulls":3},"SEQUENTIAL TEXT [SEQ B]",{"$nulls":5},"SEQUENTIAL TEXT [SEQ B]",{"$nulls":5},"SEQUENTIAL TEXT [SEQ B]"]
[null,"FROM:"," ",null,null,"FROM:"," ",null,null,"FROM:"," ",null,null,"FROM:"," ",{"$nulls":4},"FROM:"," ",{"$nulls":4},"FROM:"," "]
[null,"TO:"," ",null,null,"TO:"," ",null,null,"TO:"," ",null,null,"TO:"," ",{"$nulls":4},"TO:"," ",{"$nulls":4},"TO:"," "]
[]
["LINE 8"," ",null,null," "," ",null,null," "," ",null,null," "," ",{"$nulls":4}," "," ",{"$nulls":4}," "," ",{"$nulls":4}," "]
[null," ",null,null," "," ",null,null," "," ",null,null," "," ",{"$nulls":4}," "," "," "," "," "," "," "," "," "," "," "," "," "]
[null," ",null,null," "," ",null,null," "," ",null,null," "," ",{"$nulls":4}," ",null," "," "," ",null," ",null," "," "," ",null," "]
[null," ",null,null," "," ",null,null," "," "," "," "," "," "," "," "," "," "," "," "," ",null," "," "," "," "," ",null," "," "," "]
[null," ",null,null," "," ",null,null," ",null," ",null," ",null," ",null," ",null," ",null," ",null," ",null," ",null," ",null," ",null," "]
[null," ",null,null," "," ",null,null," ",null," ",null," ",null," ",null," ",null," ",null," ",null," ",null," ",null," ",null," ",null," "]
[null," ",null,null," "," "," "," "," "," ",null,null," "," "," ",null," "," "," "," "," "," "," "," "," "," "," "," "," "," "," "]
[null," ",null,null," ",null," ",null," "," ",null,null," ",null," ",null," ",null," ",null," "," "," ",null," ",null," "," "," ",null," "]
[null," ",null,null," ",null," ",null," "," ",null,null," ",null," ",null," ",null," ",null," "," "," ",null," ",null," "," "," ",null," "]
[null," "," "," "," "," ",null,null," "," "," "," "," "," "," "," "," "," "," "," ",null," "," ",null," "," "," "," "," "," "," "]
[null,null," ",null," "," ",null,null," ",null," ",null," ",null," "," "," ",null," ",null,null," ",null,null," ",null," ",null," ",null," "]
[null,null," ",null," "," ",null,null," ",null," ",null," ",null," "," "," ",null," ",null,null," ",null,null," ",null," ",null," ",null," "]
[null," ",null,null," "," "," "," "," "," ",null,null," "," "," "," "," "," "," "," "," "," "," "," "," "," "," "," "," "," "," "]
[null," ",null,null," ",null," ",null," "," ",null,null," ",null," ",null," ",null," ",null," "," "," ",null," ",null," "," "," ",null," "]
[null," ",null,null," ",null," ",null," "," ",null,null," ",null," ",null," ",null," ",null," "," "," ",null," ",null," "," "," ",null," "]
[null," ",null,null," "," ",null,null," "," "," "," "," "," "," ",null," "," "," "," "," "," "," "," "," "," "," "," "," "," "," "]
[null," ",null,null," "," ",null,null," ",null," ",null," ",null," ",null," ",null," ",null," ",null," ",null," ",null," ",null," ",null," "]
[null," ",null,null," "," ",null,null," ",null," ",null," ",null," ",null," ",null," ",null," ",null," ",null," ",null," ",null," ",null," "]
[null," ",null,null," "," ",null,null," "," ",null,null," "," ",{"$nulls":4}," "," "," ",null," "," "," "," "," ",null," "," "," "]
[null," ",null,null," "," ",null,null," "," ",null,null," "," ",{"$nulls":4}," ",null," "," "," ",null," ",null," "," "," ",null," "]
[null," ",null,null," "," ",null,null," "," ",null,null," "," ",{"$nulls":4}," "," ",{"$nulls":4}," "," ",{"$nulls":4}," "]
[]
[]
[null,"1 GANG",{"$nulls":3},"2 GANG",{"$nulls":3},"3 GANG",{"$nulls":3},"4 GANG",{"$nulls":5},"5 GANG",{"$nulls":5},"6 GANG"]
[null,"QUANTITY",null," ",null,"QUANTITY",null," ",null,"QUANTITY",null," ",null,"QUANTITY",null," ",{"$nulls":3},"QUANTITY",null," ",{"$nulls":3},"QUANTITY",null," "]
[null,"SEQUENTIAL TEXT [SEQ A]",{"$nulls":3},"SEQUENTIAL TEXT [SEQ A]",{"$nulls":3},"SEQUENTIAL TEXT [SEQ A]",{"$nulls":3},"SEQUENTIAL TEXT [SEQ A]",{"$nulls":5},"SEQUENTIAL TEXT [SEQ A]",{"$nulls":5},"SEQUENTIAL TEXT [SEQ A]"]
[null,"FROM:"," ",null,null,"FROM:"," ",null,null,"FROM:"," ",null,null,"FROM:"," ",{"$nulls":4},"FROM:"," ",{"$nulls":4},"FROM:"," "]
[null,"TO:"," ",null,null,"TO:"," ",null,null,"TO:"," ",null,null,"TO:"," ",{"$nulls":4},"TO:"," ",{"$nulls":4},"TO:"," "]
[null,"SEQUENTIAL TEXT [SEQ B]",{"$nulls":3},"SEQUENTIAL TEXT [SEQ B]",{"$nulls":3},"SEQUENTIAL TEXT [SEQ B]",{"$nulls":3},"SEQUENTIAL TEXT [SEQ B]",{"$nulls":5},"SEQUENTIAL TEXT [SEQ B]",{"$nulls":5},"SEQUENTIAL TEXT [SEQ B]"]
[null,"FROM:"," ",null,null,"FROM:"," ",null,null,"FROM:"," ",null,null,"FROM:"," ",{"$nulls":4},"FROM:"," ",{"$nulls":4},"FROM:"," "]
[null,"TO:"," ",null,null,"TO:"," ",null,null,"TO:"," ",null,null,"TO:"," ",{"$nulls":4},"TO:"," ",{"$nulls":4},"TO:"," "]
[]
["LINE 9"," ",null,null," "," ",null,null," "," ",null,null," "," ",{"$nulls":4}," "," ",{"$nulls":4}," "," ",{"$nulls":4}," "]
[null," ",null,null," "," ",null,null," "," ",null,null," "," ",{"$nulls":4}," "," "," "," "," "," "," "," "," "," "," "," "," "]
[null," ",null,null," "," ",null,null," "," ",null,null," "," ",{"$nulls":4}," ",null," "," "," ",null," ",null," "," "," ",null," "]
[null," ",null,null," "," ",null,null," "," "," "," "," "," "," "," "," "," "," "," "," ",null," "," "," "," "," ",null," "," "," "]
[null," ",null,null," "," ",null,null," ",null," ",null," ",null," ",null," ",null," ",null," ",null," ",null," ",null," ",null," ",null," "]
[null," ",null,null," "," ",null,null," ",null," ",null," ",null," ",null," ",null," ",null," ",null," ",null," ",null," ",null," ",null," "]
[null," ",null,null," "," "," "," "," "," ",null,null," "," "," ",null," "," "," "," "," "," "," "," "," "," "," "," "," "," "," "]
[null," ",null,null," ",null," ",null," "," ",null,null," ",null," ",null," ",null," ",null," "," "," ",null," ",null," "," "," ",null," "]
[null," ",null,null," ",null," ",null," "," ",null,null," ",null," ",null," ",null," ",null," "," "," ",null," ",null," "," "," ",null," "]
[null," "," "," "," "," ",null,null," "," "," "," "," "," "," "," "," "," "," "," ",null," "," ",null," "," "," "," "," "," "," "]
[null,null," ",null," "," ",null,null," ",null," ",null," ",null," "," "," ",null," ",null,null," ",null,null," ",null," ",null," ",null," "]
[null,null," ",null," "," ",null,null," ",null," ",null," ",null," "," "," ",null," ",null,null," ",null,null," ",null," ",null," ",null," "]
[null," ",null,null," "," "," "," "," "," ",null,null," "," "," "," "," "," "," "," "," "," "," "," "," "," "," "," "," "," "," "]
[null," ",null,null," ",null," ",null," "," ",null,null," ",null," ",null," ",null," ",null," "," "," ",null," ",null," "," "," ",null," "]
[null," ",null,null," ",null," ",null," "," ",null,null," ",null," ",null," ",null," ",null," "," "," ",null," ",null," "," "," ",null," "]
[null," ",null,null," "," ",null,null," "," "," "," "," "," "," ",null," "," "," "," "," "," "," "," "," "," "," "," "," "," "," "]
[null," ",null,null," "," ",null,null," ",null," ",null," ",null," ",null," ",null," ",null," ",null," ",null," ",null," ",null," ",null," "]
[null," ",null,null," "," ",null,null," ",null," ",null," ",null," ",null," ",null," ",null," ",null," ",null," ",null," ",null," ",null," "]
[null," ",null,null," "," ",null,null," "," ",null,null," "," ",{"$nulls":4}," "," "," ",null," "," "," "," "," ",null," "," "," "]
[null," ",null,null," "," ",null,null," "," ",null,null," "," ",{"$nulls":4}," ",null," "," "," ",null," ",null," "," "," ",null," "]
[null," ",null,null," "," ",null,null," "," ",null,null," "," ",{"$nulls":4}," "," ",{"$nulls":4}," "," ",{"$nulls":4}," "]
[]
[]
[null,"1 GANG",{"$nulls":3},"2 GANG",{"$nulls":3},"3 GANG",{"$nulls":3},"4 GANG",{"$nulls":5},"5 GANG",{"$nulls":5},"6 GANG"]
[null,"QUANTITY",null," ",null,"QUANTITY",null," ",null,"QUANTITY",null," ",null,"QUANTITY",null," ",{"$nulls":3},"QUANTITY",null," ",{"$nulls":3},"QUANTITY",null," "]
[null,"SEQUENTIAL TEXT [SEQ A]",{"$nulls":3},"SEQUENTIAL TEXT [SEQ A]",{"$nulls":3},"SEQUENTIAL TEXT [SEQ A]",{"$nulls":3},"SEQUENTIAL TEXT [SEQ A]",{"$nulls":5},"SEQUENTIAL TEXT [SEQ A]",{"$nulls":5},"SEQUENTIAL TEXT [SEQ A]"]
[null,"FROM:"," ",null,null,"FROM:"," ",null,null,"FROM:"," ",null,null,"FROM:"," ",{"$nulls":4},"FROM:"," ",{"$nulls":4},"FROM:"," "]
[null,"TO:"," ",null,null,"TO:"," ",null,null,"TO:"," ",null,null,"TO:"," ",{"$nulls":4},"TO:"," ",{"$nulls":4},"TO:"," "]
[null,"SEQUENTIAL TEXT [SEQ B]",{"$nulls":3},"SEQUENTIAL TEXT [SEQ B]",{"$nulls":3},"SEQUENTIAL TEXT [SEQ B]",{"$nulls":3},"SEQUENTIAL TEXT [SEQ B]",{"$nulls":5},"SEQUENTIAL TEXT [SEQ B]",{"$nulls":5},"SEQUENTIAL TEXT [SEQ B]"]
[null,"FROM:"," ",null,null,"FROM:"," ",null,null,"FROM:"," ",null,null,"FROM:"," ",{"$nulls":4},"FROM:"," ",{"$nulls":4},"FROM:"," "]
[null,"TO:"," ",null,null,"TO:"," ",null,null,"TO:"," ",null,null,"TO:"," ",{"$nulls":4},"TO:"," ",{"$nulls":4},"TO:"," "]
[]
["LINE 10"," ",null,null," "," ",null,null," "," ",null,null," "," ",{"$nulls":4}," "," ",{"$nulls":4}," "," ",{"$nulls":4}," "]
[null," ",null,null," "," ",null,null," "," ",null,null," "," ",{"$nulls":4}," "," "," "," "," "," "," "," "," "," "," "," "," "]
[null," ",null,null," "," ",null,null," "," ",null,null," "," ",{"$nulls":4}," ",null," "," "," ",null," ",null," "," "," ",null," "]
[null," ",null,null," "," ",null,null," "," "," "," "," "," "," "," "," "," "," "," "," ",null," "," "," "," "," ",null," "," "," "]
[null," ",null,null," "," ",null,null," ",null," ",null," ",null," ",null," ",null," ",null," ",null," ",null," ",null," ",null," ",null," "]
[null," ",null,null," "," ",null,null," ",null," ",null," ",null," ",null," ",null," ",null," ",null," ",null," ",null," ",null," ",null," "]
[null," ",null,null," "," "," "," "," "," ",null,null," "," "," ",null," "," "," "," "," "," "," "," "," "," "," "," "," "," "," "]
[null," ",null,null," ",null," ",null," "," ",null,null," ",null," ",null," ",null," ",null," "," "," ",null," ",null," "," "," ",null," "]
[null," ",null,null," ",null," ",null," "," ",null,null," ",null," ",null," ",null," ",null," "," "," ",null," ",null," "," "," ",null," "]
[null," "," "," "," "," ",null,null," "," "," "," "," "," "," "," "," "," "," "," ",null," "," ",null," "," "," "," "," "," "," "]
[null,null," ",null," "," ",null,null," ",null," ",null," ",null," "," "," ",null," ",null,null," ",null,null," ",null," ",null," ",null," "]
[null,null," ",null," "," ",null,null," ",null," ",null," ",null," "," "," ",null," ",null,null," ",null,null," ",null," ",null," ",null," "]
[null," ",null,null," "," "," "," "," "," ",null,null," "," "," "," "," "," "," "," "," "," "," "," "," "," "," "," "," "," "," "]
[null," ",null,null," ",null," ",null," "," ",null,null," ",null," ",null," ",null," ",null," "," "," ",null," ",null," "," "," ",null," "]
[null," ",null,null," ",null," ",null," "," ",null,null," ",null," ",null," ",null," ",null," "," "," ",null," ",null," "," "," ",null," "]
[null," ",null,null," "," ",null,null," "," "," "," "," "," "," ",null," "," "," "," "," "," "," "," "," "," "," "," "," "," "," "]
[null," ",null,null," "," ",null,null," ",null," ",null," ",null," ",null," ",null," ",null," ",null," ",null," ",null," ",null," ",null," "]
[null," ",null,null," "," ",null,null," ",null," ",null," ",null," ",null," ",null," ",null," ",null," ",null," ",null," ",null," ",null," "]
[null," ",null,null," "," ",null,null," "," ",null,null," "," ",{"$nulls":4}," "," "," ",null," "," "," "," "," ",null," "," "," "]
[null," ",null,null," "," ",null,null," "," ",null,null," "," ",{"$nulls":4}," ",null," "," "," ",null," ",null," "," "," ",null," "]
[null," ",null,null," "," ",null,null," "," ",null,null," "," ",{"$nulls":4}," "," ",{"$nulls":4}," "," ",{"$nulls":4}," "]
[]
[]
[null,"1 GANG",{"$nulls":3},"2 GANG",{"$nulls":3},"3 GANG",{"$nulls":3},"4 GANG",{"$nulls":5},"5 GANG",{"$nulls":5},"6 GANG"]
[null,"QUANTITY",null," ",null,"QUANTITY",null," ",null,"QUANTITY",null," ",null,"QUANTITY",null," ",{"$nulls":3},"QUANTITY",null," ",{"$nulls":3},"QUANTITY",null," "]
[null,"SEQUENTIAL TEXT [SEQ A]",{"$nulls":3},"SEQUENTIAL TEXT [SEQ A]",{"$nulls":3},"SEQUENTIAL TEXT [SEQ A]",{"$nulls":3},"SEQUENTIAL TEXT [SEQ A]",{"$nulls":5},"SEQUENTIAL TEXT [SEQ A]",{"$nulls":5},"SEQUENTIAL TEXT [SEQ A]"]
[null,"FROM:"," ",null,null,"FROM:"," ",null,null,"FROM:"," ",null,null,"FROM:"," ",{"$nulls":4},"FROM:"," ",{"$nulls":4},"FROM:"," "]
[null,"TO:"," ",null,null,"TO:"," ",null,null,"TO:"," ",null,null,"TO:"," ",{"$nulls":4},"TO:"," ",{"$nulls":4},"TO:"," "]
[null,"SEQUENTIAL TEXT [SEQ B]",{"$nulls":3},"SEQUENTIAL TEXT [SEQ B]",{"$nulls":3},"SEQUENTIAL TEXT [SEQ B]",{"$nulls":3},"SEQUENTIAL TEXT [SEQ B]",{"$nulls":5},"SEQUENTIAL TEXT [SEQ B]",{"$nulls":5},"SEQUENTIAL TEXT [SEQ B]"]
[null,"FROM:"," ",null,null,"FROM:"," ",null,null,"FROM:"," ",null,null,"FROM:"," ",{"$nulls":4},"FROM:"," ",{"$nulls":4},"FROM:"," "]
[null,"TO:"," ",null,null,"TO:"," ",null,null,"TO:"," ",null,null,"TO:"," ",{"$nulls":4},"TO:"," ",{"$nulls":4},"TO:"," "]
[]
["LINE 11"," ",null,null," "," ",null,null," "," ",null,null," "," ",{"$nulls":4}," "," ",{"$nulls":4}," "," ",{"$nulls":4}," "]
[null," ",null,null," "," ",null,null," "," ",null,null," "," ",{"$nulls":4}," "," "," "," "," "," "," "," "," "," "," "," "," "]
[null," ",null,null," "," ",null,null," "," ",null,null," "," ",{"$nulls":4}," ",null," "," "," ",null," ",null," "," "," ",null," "]
[null," ",null,null," "," ",null,null," "," "," "," "," "," "," "," "," "," "," "," "," ",null," "," "," "," "," ",null," "," "," "]
[null," ",null,null," "," ",null,null," ",null," ",null," ",null," ",null," ",null," ",null," ",null," ",null," ",null," ",null," ",null," "]
[null," ",null,null," "," ",null,null," ",null," ",null," ",null," ",null," ",null," ",null," ",null," ",null," ",null," ",null," ",null," "]
[null," ",null,null," "," "," "," "," "," ",null,null," "," "," ",null," "," "," "," "," "," "," "," "," "," "," "," "," "," "," "]
[null," ",null,null," ",null," ",null," "," ",null,null," ",null," ",null," ",null," ",null," "," "," ",null," ",null," "," "," ",null," "]
[null," ",null,null," ",null," ",null," "," ",null,null," ",null," ",null," ",null," ",null," "," "," ",null," ",null," "," "," ",null," "]
[null," "," "," "," "," ",null,null," "," "," "," "," "," "," "," "," "," "," "," ",null," "," ",null," "," "," "," "," "," "," "]
[null,null," ",null," "," ",null,null," ",null," ",null," ",null," "," "," ",null," ",null,null," ",null,null," ",null," ",null," ",null," "]
[null,null," ",null," "," ",null,null," ",null," ",null," ",null," "," "," ",null," ",null,null," ",null,null," ",null," ",null," ",null," "]
[null," ",null,null," "," "," "," "," "," ",null,null," "," "," "," "," "," "," "," "," "," "," "," "," "," "," "," "," "," "," "]
[null," ",null,null," ",null," ",null," "," ",null,null," ",null," ",null," ",null," ",null," "," "," ",null," ",null," "," "," ",null," "]
[null," ",null,null," ",null," ",null," "," ",null,null," ",null," ",null," ",null," ",null," "," "," ",null," ",null," "," "," ",null," "]
[null," ",null,null," "," ",null,null," "," "," "," "," "," "," ",null," "," "," "," "," "," "," "," "," "," "," "," "," "," "," "]
[null," ",null,null," "," ",null,null," ",null," ",null," ",null," ",null," ",null," ",null," ",null," ",null," ",null," ",null," ",null," "]
[null," ",null,null," "," ",null,null," ",null," ",null," ",null," ",null," ",null," ",null," ",null," ",null," ",null," ",null," ",null," "]
[null," ",null,null," "," ",null,null," "," ",null,null," "," ",{"$nulls":4}," "," "," ",null," "," "," "," "," ",null," "," "," "]
[null," ",null,null," "," ",null,null," "," ",null,null," "," ",{"$nulls":4}," ",null," "," "," ",null," ",null," "," "," ",null," "]
[null," ",null,null," "," ",null,null," "," ",null,null," "," ",{"$nulls":4}," "," ",{"$nulls":4}," "," ",{"$nulls":4}," "]
[]
[]
[null,"1 GANG",{"$nulls":3},"2 GANG",{"$nulls":3},"3 GANG",{"$nulls":3},"4 GANG",{"$nulls":5},"5 GANG",{"$nulls":5},"6 GANG"]
[null,"QUANTITY",null," ",null,"QUANTITY",null," ",null,"QUANTITY",null," ",null,"QUANTITY",null," ",{"$nulls":3},"QUANTITY",null," ",{"$nulls":3},"QUANTITY",null," "]
[null,"SEQUENTIAL TEXT [SEQ A]",{"$nulls":3},"SEQUENTIAL TEXT [SEQ A]",{"$nulls":3},"SEQUENTIAL TEXT [SEQ A]",{"$nulls":3},"SEQUENTIAL TEXT [SEQ A]",{"$nulls":5},"SEQUENTIAL TEXT [SEQ A]",{"$nulls":5},"SEQUENTIAL TEXT [SEQ A]"]
[null,"FROM:"," ",null,null,"FROM:"," ",null,null,"FROM:"," ",null,null,"FROM:"," ",{"$nulls":4},"FROM:"," ",{"$nulls":4},"FROM:"," "]
[null,"TO:"," ",null,null,"TO:"," ",null,null,"TO:"," ",null,null,"TO:"," ",{"$nulls":4},"TO:"," ",{"$nulls":4},"TO:"," "]
[null,"SEQUENTIAL TEXT [SEQ B]",{"$nulls":3},"SEQUENTIAL TEXT [SEQ B]",{"$nulls":3},"SEQUENTIAL TEXT [SEQ B]",{"$nulls":3},"SEQUENTIAL TEXT [SEQ B]",{"$nulls":5},"SEQUENTIAL TEXT [SEQ B]",{"$nulls":5},"SEQUENTIAL TEXT [SEQ B]"]
[null,"FROM:"," ",null,null,"FROM:"," ",null,null,"FROM:"," ",null,null,"FROM:"," ",{"$nulls":4},"FROM:"," ",{"$nulls":4},"FROM:"," "]
[null,"TO:"," ",null,null,"TO:"," ",null,null,"TO:"," ",null,null,"TO:"," ",{"$nulls":4},"TO:"," ",{"$nulls":4},"TO:"," "]
[]
["LINE 12"," ",null,null," "," ",null,null," "," ",null,null," "," ",{"$nulls":4}," "," ",{"$nulls":4}," "," ",{"$nulls":4}," "]
[null," ",null,null," "," ",null,null," "," ",null,null," "," ",{"$nulls":4}," "," "," "," "," "," "," "," "," "," "," "," "," "]
[null," ",null,null," "," ",null,null," "," ",null,null," "," ",{"$nulls":4}," ",null," "," "," ",null," ",null," "," "," ",null," "]
[null," ",null,null," "," ",null,null," "," "," "," "," "," "," "," "," "," "," "," "," ",null," "," "," "," "," ",null," "," "," "]
[null," ",null,null," "," ",null,null," ",null," ",null," ",null," ",null," ",null," ",null," ",null," ",null," ",null," ",null," ",null," "]
[null," ",null,null," "," ",null,null," ",null," ",null," ",null," ",null," ",null," ",null," ",null," ",null," ",null," ",null," ",null," "]
[null," ",null,null," "," "," "," "," "," ",null,null," "," "," ",null," "," "," "," "," "," "," "," "," "," "," "," "," "," "," "]
[null," ",null,null," ",null," ",null," "," ",null,null," ",null," ",null," ",null," ",null," "," "," ",null," ",null," "," "," ",null," "]
[null," ",null,null," ",null," ",null," "," ",null,null," ",null," ",null," ",null," ",null," "," "," ",null," ",null," "," "," ",null," "]
[null," "," "," "," "," ",null,null," "," "," "," "," "," "," "," "," "," "," "," ",null," "," ",null," "," "," "," "," "," "," "]
[null,null," ",null," "," ",null,null," ",null," ",null," ",null," "," "," ",null," ",null,null," ",null,null," ",null," ",null," ",null," "]
[null,null," ",null," "," ",null,null," ",null," ",null," ",null," "," "," ",null," ",null,null," ",null,null," ",null," ",null," ",null," "]
[null," ",null,null," "," "," "," "," "," ",null,null," "," "," "," "," "," "," "," "," "," "," "," "," "," "," "," "," "," "," "]
[null," ",null,null," ",null," ",null," "," ",null,null," ",null," ",null," ",null," ",null," "," "," ",null," ",null," "," "," ",null," "]
[null," ",null,null," ",null," ",null," "," ",null,null," ",null," ",null," ",null," ",null," "," "," ",null," ",null," "," "," ",null," "]
[null," ",null,null," "," ",null,null," "," "," "," "," "," "," ",null," "," "," "," "," "," "," "," "," "," "," "," "," "," "," "]
[null," ",null,null," "," ",null,null," ",null," ",null," ",null," ",null," ",null," ",null," ",null," ",null," ",null," ",null," ",null," "]
[null," ",null,null," "," ",null,null," ",null," ",null," ",null," ",null," ",null," ",null," ",null," ",null," ",null," ",null," ",null," "]
[null," ",null,null," "," ",null,null," "," ",null,null," "," ",{"$nulls":4}," "," "," ",null," "," "," "," "," ",null," "," "," "]
[null," ",null,null," "," ",null,null," "," ",null,null," "," ",{"$nulls":4}," ",null," "," "," ",null," ",null," "," "," ",null," "]
[null," ",null,null," "," ",null,null," "," ",null,null," "," ",{"$nulls":4}," "," ",{"$nulls":4}," "," ",{"$nulls":4}," "]
[]
[]
[null,"1 GANG",{"$nulls":3},"2 GANG",{"$nulls":3},"3 GANG",{"$nulls":3},"4 GANG",{"$nulls":5},"5 GANG",{"$nulls":5},"6 GANG"]
[null,"QUANTITY",null," ",null,"QUANTITY",null," ",null,"QUANTITY",null," ",null,"QUANTITY",null," ",{"$nulls":3},"QUANTITY",null," ",{"$nulls":3},"QUANTITY",null," "]
[null,"SEQUENTIAL TEXT [SEQ A]",{"$nulls":3},"SEQUENTIAL TEXT [SEQ A]",{"$nulls":3},"SEQUENTIAL TEXT [SEQ A]",{"$nulls":3},"SEQUENTIAL TEXT [SEQ A]",{"$nulls":5},"SEQUENTIAL TEXT [SEQ A]",{"$nulls":5},"SEQUENTIAL TEXT [SEQ A]"]
[null,"FROM:"," ",null,null,"FROM:"," ",null,null,"FROM:"," ",null,null,"FROM:"," ",{"$nulls":4},"FROM:"," ",{"$nulls":4},"FROM:"," "]
[null,"TO:"," ",null,null,"TO:"," ",null,null,"TO:"," ",null,null,"TO:"," ",{"$nulls":4},"TO:"," ",{"$nulls":4},"TO:"," "]
[null,"SEQUENTIAL TEXT [SEQ B]",{"$nulls":3},"SEQUENTIAL TEXT [SEQ B]",{"$nulls":3},"SEQUENTIAL TEXT [SEQ B]",{"$nulls":3},"SEQUENTIAL TEXT [SEQ B]",{"$nulls":5},"SEQUENTIAL TEXT [SEQ B]",{"$nulls":5},"SEQUENTIAL TEXT [SEQ B]"]
[null,"FROM:"," ",null,null,"FROM:"," ",null,null,"FROM:"," ",null,null,"FROM:"," ",{"$nulls":4},"FROM:"," ",{"$nulls":4},"FROM:"," "]
[null,"TO:"," ",null,null,"TO:"," ",null,null,"TO:"," ",null,null,"TO:"," ",{"$nulls":4},"TO:"," ",{"$nulls":4},"TO:"," "]
[]
["LINE 13"," ",null,null," "," ",null,null," "," ",null,null," "," ",{"$nulls":4}," "," ",{"$nulls":4}," "," ",{"$nulls":4}," "]
[null," ",null,null," "," ",null,null," "," ",null,null," "," ",{"$nulls":4}," "," "," "," "," "," "," "," "," "," "," "," "," "]
[null," ",null,null," "," ",null,null," "," ",null,null," "," ",{"$nulls":4}," ",null," "," "," ",null," ",null," "," "," ",null," "]
[null," ",null,null," "," ",null,null," "," "," "," "," "," "," "," "," "," "," "," "," ",null," "," "," "," "," ",null," "," "," "]
[null," ",null,null," "," ",null,null," ",null," ",null," ",null," ",null," ",null," ",null," ",null," ",null," ",null," ",null," ",null," "]
[null," ",null,null," "," ",null,null," ",null," ",null," ",null," ",null," ",null," ",null," ",null," ",null," ",null," ",null," ",null," "]
[null," ",null,null," "," "," "," "," "," ",null,null," "," "," ",null," "," "," "," "," "," "," "," "," "," "," "," "," "," "," "]
[null," ",null,null," ",null," ",null," "," ",null,null," ",null," ",null," ",null," ",null," "," "," ",null," ",null," "," "," ",null," "]
[null," ",null,null," ",null," ",null," "," ",null,null," ",null," ",null," ",null," ",null," "," "," ",null," ",null," "," "," ",null," "]
[null," "," "," "," "," ",null,null," "," "," "," "," "," "," "," "," "," "," "," ",null," "," ",null," "," "," "," "," "," "," "]
[null,null," ",null," "," ",null,null," ",null," ",null," ",null," "," "," ",null," ",null,null," ",null,null," ",null," ",null," ",null," "]
[null,null," ",null," "," ",null,null," ",null," ",null," ",null," "," "," ",null," ",null,null," ",null,null," ",null," ",null," ",null," "]
[null," ",null,null," "," "," "," "," "," ",null,null," "," "," "," "," "," "," "," "," "," "," "," "," "," "," "," "," "," "," "]
[null," ",null,null," ",null," ",null," "," ",null,null," ",null," ",null," ",null," ",null," "," "," ",null," ",null," "," "," ",null," "]
[null," ",null,null," ",null," ",null," "," ",null,null," ",null," ",null," ",null," ",null," "," "," ",null," ",null," "," "," ",null," "]
[null," ",null,null," "," ",null,null," "," "," "," "," "," "," ",null," "," "," "," "," "," "," "," "," "," "," "," "," "," "," "]
[null," ",null,null," "," ",null,null," ",null," ",null," ",null," ",null," ",null," ",null," ",null," ",null," ",null," ",null," ",null," "]
[null," ",null,null," "," ",null,null," ",null," ",null," ",null," ",null," ",null," ",null," ",null," ",null," ",null," ",null," ",null," "]
[null," ",null,null," "," ",null,null," "," ",null,null," "," ",{"$nulls":4}," "," "," ",null," "," "," "," "," ",null," "," "," "]
[null," ",null,null," "," ",null,null," "," ",null,null," "," ",{"$nulls":4}," ",null," "," "," ",null," ",null," "," "," ",null," "]
[null," ",null,null," "," ",null,null," "," ",null,null," "," ",{"$nulls":4}," "," ",{"$nulls":4}," "," ",{"$nulls":4}," "]
[]
[]
[null,"1 GANG",{"$nulls":3},"2 GANG",{"$nulls":3},"3 GANG",{"$nulls":3},"4 GANG",{"$nulls":5},"5 GANG",{"$nulls":5},"6 GANG"]
[null,"QUANTITY",null," ",null,"QUANTITY",null," ",null,"QUANTITY",null," ",null,"QUANTITY",null," ",{"$nulls":3},"QUANTITY",null," ",{"$nulls":3},"QUANTITY",null," "]
[null,"SEQUENTIAL TEXT [SEQ A]",{"$nulls":3},"SEQUENTIAL TEXT [SEQ A]",{"$nulls":3},"SEQUENTIAL TEXT [SEQ A]",{"$nulls":3},"SEQUENTIAL TEXT [SEQ A]",{"$nulls":5},"SEQUENTIAL TEXT [SEQ A]",{"$nulls":5},"SEQUENTIAL TEXT [SEQ A]"]
[null,"FROM:"," ",null,null,"FROM:"," ",null,null,"FROM:"," ",null,null,"FROM:"," ",{"$nulls":4},"FROM:"," ",{"$nulls":4},"FROM:"," "]
[null,"TO:"," ",null,null,"TO:"," ",null,null,"TO:"," ",null,null,"TO:"," ",{"$nulls":4},"TO:"," ",{"$nulls":4},"TO:"," "]
[null,"SEQUENTIAL TEXT [SEQ B]",{"$nulls":3},"SEQUENTIAL TEXT [SEQ B]",{"$nulls":3},"SEQUENTIAL TEXT [SEQ B]",{"$nulls":3},"SEQUENTIAL TEXT [SEQ B]",{"$nulls":5},"SEQUENTIAL TEXT [SEQ B]",{"$nulls":5},"SEQUENTIAL TEXT [SEQ B]"]
[null,"FROM:"," ",null,null,"FROM:"," ",null,null,"FROM:"," ",null,null,"FROM:"," ",{"$nulls":4},"FROM:"," ",{"$nulls":4},"FROM:"," "]
[null,"TO:"," ",null,null,"TO:"," ",null,null,"TO:"," ",null,null,"TO:"," ",{"$nulls":4},"TO:"," ",{"$nulls":4},"TO:"," "]
[]
["LINE 14"," ",null,null," "," ",null,null," "," ",null,null," "," ",{"$nulls":4}," "," ",{"$nulls":4}," "," ",{"$nulls":4}," "]
[null," ",null,null," "," ",null,null," "," ",null,null," "," ",{"$nulls":4}," "," "," "," "," "," "," "," "," "," "," "," "," "]
[null," ",null,null," "," ",null,null," "," ",null,null," "," ",{"$nulls":4}," ",null," "," "," ",null," ",null," "," "," ",null," "]
[null," ",null,null," "," ",null,null," "," "," "," "," "," "," "," "," "," "," "," "," ",null," "," "," "," "," ",null," "," "," "]
[null," ",null,null," "," ",null,null," ",null," ",null," ",null," ",null," ",null," ",null," ",null," ",null," ",null," ",null," ",null," "]
[null," ",null,null," "," ",null,null," ",null," ",null," ",null," ",null," ",null," ",null," ",null," ",null," ",null," ",null," ",null," "]
[null," ",null,null," "," "," "," "," "," ",null,null," "," "," ",null," "," "," "," "," "," "," "," "," "," "," "," "," "," "," "]
[null," ",null,null," ",null," ",null," "," ",null,null," ",null," ",null," ",null," ",null," "," "," ",null," ",null," "," "," ",null," "]
[null," ",null,null," ",null," ",null," "," ",null,null," ",null," ",null," ",null," ",null," "," "," ",null," ",null," "," "," ",null," "]
[null," "," "," "," "," ",null,null," "," "," "," "," "," "," "," "," "," "," "," ",null," "," ",null," "," "," "," "," "," "," "]
[null,null," ",null," "," ",null,null," ",null," ",null," ",null," "," "," ",null," ",null,null," ",null,null," ",null," ",null," ",null," "]
[null,null," ",null," "," ",null,null," ",null," ",null," ",null," "," "," ",null," ",null,null," ",null,null," ",null," ",null," ",null," "]
[null," ",null,null," "," "," "," "," "," ",null,null," "," "," "," "," "," "," "," "," "," "," "," "," "," "," "," "," "," "," "]
[null," ",null,null," ",null," ",null," "," ",null,null," ",null," ",null," ",null," ",null," "," "," ",null," ",null," "," "," ",null," "]
[null," ",null,null," ",null," ",null," "," ",null,null," ",null," ",null," ",null," ",null," "," "," ",null," ",null," "," "," ",null," "]
[null," ",null,null," "," ",null,null," "," "," "," "," "," "," ",null," "," "," "," "," "," "," "," "," "," "," "," "," "," "," "]
[null," ",null,null," "," ",null,null," ",null," ",null," ",null," ",null," ",null," ",null," ",null," ",null," ",null," ",null," ",null," "]
[null," ",null,null," "," ",null,null," ",null," ",null," ",null," ",null," ",null," ",null," ",null," ",null," ",null," ",null," ",null," "]
[null," ",null,null," "," ",null,null," "," ",null,null," "," ",{"$nulls":4}," "," "," ",null," "," "," "," "," ",null," "," "," "]
[null," ",null,null," "," ",null,null," "," ",null,null," "," ",{"$nulls":4}," ",null," "," "," ",null," ",null," "," "," ",null," "]
[null," ",null,null," "," ",null,null," "," ",null,null," "," ",{"$nulls":4}," "," ",{"$nulls":4}," "," ",{"$nulls":4}," "]
[]
[]
[null,"1 GANG",{"$nulls":3},"2 GANG",{"$nulls":3},"3 GANG",{"$nulls":3},"4 GANG",{"$nulls":5},"5 GANG",{"$nulls":5},"6 GANG"]
[null,"QUANTITY",null," ",null,"QUANTITY",null," ",null,"QUANTITY",null," ",null,"QUANTITY",null," ",{"$nulls":3},"QUANTITY",null," ",{"$nulls":3},"QUANTITY",null," "]
[null,"SEQUENTIAL TEXT [SEQ A]",{"$nulls":3},"SEQUENTIAL TEXT [SEQ A]",{"$nulls":3},"SEQUENTIAL TEXT [SEQ A]",{"$nulls":3},"SEQUENTIAL TEXT [SEQ A]",{"$nulls":5},"SEQUENTIAL TEXT [SEQ A]",{"$nulls":5},"SEQUENTIAL TEXT [SEQ A]"]
[null,"FROM:"," ",null,null,"FROM:"," ",null,null,"FROM:"," ",null,null,"FROM:"," ",{"$nulls":4},"FROM:"," ",{"$nulls":4},"FROM:"," "]
[null,"TO:"," ",null,null,"TO:"," ",null,null,"TO:"," ",null,null,"TO:"," ",{"$nulls":4},"TO:"," ",{"$nulls":4},"TO:"," "]
[null,"SEQUENTIAL TEXT [SEQ B]",{"$nulls":3},"SEQUENTIAL TEXT [SEQ B]",{"$nulls":3},"SEQUENTIAL TEXT [SEQ B]",{"$nulls":3},"SEQUENTIAL TEXT [SEQ B]",{"$nulls":5},"SEQUENTIAL TEXT [SEQ B]",{"$nulls":5},"SEQUENTIAL TEXT [SEQ B]"]
[null,"FROM:"," ",null,null,"FROM:"," ",null,null,"FROM:"," ",null,null,"FROM:"," ",{"$nulls":4},"FROM:"," ",{"$nulls":4},"FROM:"," "]
[null,"TO:"," ",null,null,"TO:"," ",null,null,"TO:"," ",null,null,"TO:"," ",{"$nulls":4},"TO:"," ",{"$nulls":4},"TO:"," "]
[]
["LINE 15"," ",null,null," "," ",null,null," "," ",null,null," "," ",{"$nulls":4}," "," ",{"$nulls":4}," "," ",{"$nulls":4}," "]
[null," ",null,null," "," ",null,null," "," ",null,null," "," ",{"$nulls":4}," "," "," "," "," "," "," "," "," "," "," "," "," "]
[null," ",null,null," "," ",null,null," "," ",null,null," "," ",{"$nulls":4}," ",null," "," "," ",null," ",null," "," "," ",null," "]
[null," ",null,null," "," ",null,null," "," "," "," "," "," "," "," "," "," "," "," "," ",null," "," "," "," "," ",null," "," "," "]
[null," ",null,null," "," ",null,null," ",null," ",null," ",null," ",null," ",null," ",null," ",null," ",null," ",null," ",null," ",null," "]
[null," ",null,null," "," ",null,null," ",null," ",null," ",null," ",null," ",null," ",null," ",null," ",null," ",null," ",null," ",null," "]
[null," ",null,null," "," "," "," "," "," ",null,null," "," "," ",null," "," "," "," "," "," "," "," "," "," "," "," "," "," "," "]
[null," ",null,null," ",null," ",null," "," ",null,null," ",null," ",null," ",null," ",null," "," "," ",null," ",null," "," "," ",null," "]
[null," ",null,null," ",null," ",null," "," ",null,null," ",null," ",null," ",null," ",null," "," "," ",null," ",null," "," "," ",null," "]
[null," "," "," "," "," ",null,null," "," "," "," "," "," "," "," "," "," "," "," ",null," "," ",null," "," "," "," "," "," "," "]
[null,null," ",null," "," ",null,null," ",null," ",null," ",null," "," "," ",null," ",null,null," ",null,null," ",null," ",null," ",null," "]
[null,null," ",null," "," ",null,null," ",null," ",null," ",null," "," "," ",null," ",null,null," ",null,null," ",null," ",null," ",null," "]
[null," ",null,null," "," "," "," "," "," ",null,null," "," "," "," "," "," "," "," "," "," "," "," "," "," "," "," "," "," "," "]
[null," ",null,null," ",null," ",null," "," ",null,null," ",null," ",null," ",null," ",null," "," "," ",null," ",null," "," "," ",null," "]
[null," ",null,null," ",null," ",null," "," ",null,null," ",null," ",null," ",null," ",null," "," "," ",null," ",null," "," "," ",null," "]
[null," ",null,null," "," ",null,null," "," "," "," "," "," "," ",null," "," "," "," "," "," "," "," "," "," "," "," "," "," "," "]
[null," ",null,null," "," ",null,null," ",null," ",null," ",null," ",null," ",null," ",null," ",null," ",null," ",null," ",null," ",null," "]
[null," ",null,null," "," ",null,null," ",null," ",null," ",null," ",null," ",null," ",null," ",null," ",null," ",null," ",null," ",null," "]
[null," ",null,null," "," ",null,null," "," ",null,null," "," ",{"$nulls":4}," "," "," ",null," "," "," "," "," ",null," "," "," "]
[null," ",null,null," "," ",null,null," "," ",null,null," "," ",{"$nulls":4}," ",null," "," "," ",null," ",null," "," "," ",null," "]
[null," ",null,null," "," ",null,null," "," ",null,null," "," ",{"$nulls":4}," "," ",{"$nulls":4}," "," ",{"$nulls":4}," "]
{"$rows_empty":11}
[null," "," "," "," "," "," "," "," "," "," "," "," "," "," "," "," "," "," "," "," "," "," "," "," "," "," "," "," "," "," "]
[null," "," "," "," "," "," "," "," "," "," "," "," "," "," "," "," "," "," "," "," "," "," "," "," "," "," "," "," "," "," "]
[null," "," "," "," "," "," "," "," "," "," "," "," "," "," "," "," "," "," "," "," "," "," "," "," "," "," "," "," "," "," "]
[null," "," "," "," "," "," "," "," "," "," "," "," "," "," "," "," "," "," "," "," "," "," "," "," "," "," "," "," "," "," "]
[null," "," "," "," "," "," "," "," "," "," "," "," "," "," "," "," "," "," "," "," "," "," "," "," "," "," "," "," "," "," "]
[null," "," "," "," "," "," "," "," "," "," "," "," "," "," "," "," "," "," "," "," "," "," "," "," "," "," "," "," "," "," "]
[null," "," "," "," "," "," "," "," "," "," "," "," "," "," "," "," "," "," "," "," "," "," "," "," "," "," "," "," "," "," "]
[null," "," "," "," "," "," "," "," "," "," "," "," "," "," "," "," "," "," "," "," "," "," "," "," "," "," "," "," "," "," "]
[null," "," "," "," "," "," "," "," "," "," "," "," "," "," "," "," "," "," "," "," "," "," "," "," "," "," "," "," "," "," "]
[null," "," "," "," "," "," "," "," "," "," "," "," "," "," "," "," "," "," "," "," "," "," "," "," "," "," "," "," "," "," "]
[null," "," "," "," "," "," "," "," "," "," "," "," "," "," "," "," "," "," "," "," "," "," "," "," "," "," "," "," "," "," "]
[null," "," "," "," "," "," "," "," "," "," "," "," "," "," "," "," "," "," "," "," "," "," "," "," "," "," "," "," "," "," "]
[null," "," "," "," "," "," "," "," "," "," "," "," "," "," "," "," "," "," "," "," "," "," "," "," "," "," "," "," "," "," "]
[null," "," "," "," "," "," "," "," "," "," "," "," "," "," "," "," "," "," "," "," "," "," "," "," "," "," "," "," "," "," "]
[null," "," "," "," "," "," "," "," "," "," "," "," "," "," "," "," "," "," "," "," "," "," "," "," "," "," "," "," "," "," "]
[null," "," "," "," "," "," "," "," "," "," "," "," "," "," "," "," "," "," "," "," "," "," "," "," "," "," "," "," "," "," "]
[null," "," "," "," "," "," "," "," "," "," "," "," "," "," "," "," "," "," "," "," "," "," "," "," "," "," "," "," "," "," "]
[null," "," "," "," "," "," "," "," "," "," "," "," "," "," "," "," "," "," "," "," "," "," "," "," "," "," "," "," "," "," "]
[null," "," "," "," "," "," "," "," "," "," "," "," "," "," "," "," "," "," "," "," "," "," "," "," "," "," "," "," "," "," "]
[null," "," "," "," "," "," "," "," "," "," "," "," "," "," "," "," "," "," "," "," "," "," "," "," "," "," "," "," "," "," "]
[null," "," "," "," "," "," "," "," "," "," "," "," "," "," "," "," "," "," "," "," "," "," "," "," "," "," "," "," "," "," "]

{"sheet":"Custom","index":5,"n_rows":500,"n_cols":390,"rows_kept":139,"cut":true,"merged":[[0,0,0,3],[1,0,1,1],[1,2,1,3],[1,4,1,30],[2,0,2,3]],"bounds":{"rows_first":62,"rows_last":15,"rows_between":62,"halvings":5}}
["CUSTOM"]
["TOTAL",null,0,null,"<--- ENTER TOTAL AMOUNT OF ITEMS HERE"]
[]
[" "," "," "," "," "," "," "," "," "," "," "," "," "," "," "," "," "," "," "," "," "," "," "," "," "," "," "," "," "," "," "," "," "," "," "," "," "," "," "," "," "," "," "," "," "," "," "," "," "," "," "," "," "," "," "," "," "," "," "," "," "," "," "," "," "," "," "," "," "," "," "," "," "," "," "," "," "," "," "," "," "," "," "," "," "," "," "," "," "," "," "," "," "," "," "," "," "," "," "," "," "," "," "," "," "," "," "," "," "," "," "," "," "," "," "," "," "," "," "," "," "," "," "," "," "," "," "," "," "," "," "," "," "," "," "," "," "," "," "," "," "," "," "," "," "," "," "," "," "," "," "," "," "," "," "," "," "," "," "," "," "," "," "," "," "," "," "," "," "," "," "," "," "," "," "," "," "," "," "," "," "," "," "," "," "," "," "," "," "," "," "," "," "," "," "," "," "," "," "," "," "," "," "," "," "," "," "," "," "," "," "," "," "," "," "," "," "," "," "," "," "," "," "," "," "," "," "," "," "," "," "," "," "," "," "," "," "," "," "," "," "," "," "," "," "," "," "," "," "," "," "," "," "," "," "," "," "," "," "," "," "," "," "," "," "," "," "," "," "," "," "," "," "," "," "," "," "," "," "," "," "," "," "," "," "," "," "," "," "," "," "," "," "," "," "," "," "," "," "," "," "," "," "," "," "," "," "," "," "," "," "," "," "," "," "," "," "," "," "," "," "," "," "," "," "," "," "," "," "," "," "," "," "," "," "," "," "," "," "," "," "," "," "," "," "," "," "," "," "," "," "," "," "," "," "," "," "," "," "," "," "," "," "," "," "," "," "," "," "," "," "," "," "," "," "," "," "," "," "," "," "," "," "," "," "," "," "," "," "," "]
[" "," "," "," "," "," "," "," "," "," "," "," "," "," "," "," "," "," "," "," "," "," "," "," "," "," "," "," "," "," "," "," "," "," "," "," "," "," "," "," "," "," "," "," "," "," "," "," "," "," "," "," "," "," "," "," "," "," "," "," "," "," "," "," "," "," "," "," "," "," "," "," "," "," "," "," "," "," "," "," "," "," "," "," "," "," "," "," "," "," "," "," "," "," "," "," "," "," "," "," "," "," "," "," "," "," "," "," "," "," "," "," "," "," "," "," "," "," "," "," "," "," "," "," "," "," "," "," "," "," "," "," "," "," "," "," "," "," "," "," "," "," "," "," "," "," "," "," "," "," "," "," "," "," "," "," "," "," "," "," "," "," "," "," "," "," "," "," "," "," "," "," "," "," "," "," "," "," "," "," "," "," "," "," "," "," "," "," "," "," "," "," "," "," "," "," "," "," "," "," "," "," "," "," "," "," "," "," "," "," "," "," "," "," "," "," "," "," "," "," "," "," "," "," "," "," "," "," "," "," "," "," "," "," "," "," "," "," "," "," "," "," "," "," "," "," "," "," "," "," "," "," "," "," "," "," "," "," "," "," "," "," "," "," "," "," "," "," "," "," "," "," "," "," "," "," "," "," "," "," "," "," "," "," "," "," "," "," "," "," "," "," "," "," "," "," "," "," "," "," "," "," "," "," "," "," "," "," "," "," "," "," "," "," "," "," "," "," "," "," "," "," "," "," "," "," "," "," "," "," "," "," "," "," "," "," "," "," "," "," "," "," "," "," "," "," "," "," "," "," "," "," "," "," "," "," "," "," "," "," "," "," "," "," "," "," "," "," "," "," "," "," "," "," "," "," "," "," "," "," "," "," "," "," "," "," "," "," "," "," "]
[" "," "," "," "," "," "," "," "," "," "," "," "," "," "," "," "," "," "," "," "," "," "," "," "," "," "," "," "," "," "," "," "," "," "," "," "," "," "," "," "," "," "," "," "," "," "," "," "," "," "," "," "," "," "," "," "," "," "," "," "," "," "," "," "," "," "," "," "," "," "," "," "," "," "," "," "," "," "," "," "," "," "," "," "," "," "," "," "," "," "," "," "," "," "," "," "," "," "," "," "," "," "," "," "," "," "," "," "," "," "," "," "," "," "," "," "," "," "," "," "," "," "," "," "," "," "," "," "," "," "," "," "," "," "," "," "," "," "," "," "," "," "," "," "," "," "," "," "," "," "," "," "," "," "," "," "," "," "," "," "," "," "," "," "," "," "," "," "," "," "," "," "," "," "," "," "," "," "," "," "," "," "," "," "," "," "," "," "," "," "," "," "," "," "," "," "," "," "," "," "," "," "," "," "," "," "," "," "," "," "," "," "," "," "," "," "," "," "," "," "," "," "," "," "," "," "," "," "," "," "," "," "," "," "," "," "," "," "," "," "," "," "," "," "," "," "," "," "," "," "," "," "," "," "," "," "," "," "," "," "," "," "," "," "," "," "," "," "," "," "," "," "," "," "," "," "," "," "," "," "," "," "," "," "," "," "," "," "," "," "," "," "," "," "," "," "," "," "," "," "," "," "," "," "," "," "," "," "," "," "," "," "," "," "," "," "," "," "," "," "," "," "," "," "," "," "," "," "," "," "," "," "," "," "," "," "," "," "," "," "," "," "," "," "," "," "," "," "," "," "," "," "," "," "," "," "," "," "," "," "," "," "," "," "," "," "," "," "," "," "," "," "," "," "," "," "," "," "," "," "," "," "," "," "," "," "," "," "," "," "]
[" "," "," "," "," "," "," "," "," "," "," "," "," "," "," "," "," "," "," "," "," "," "," "," "," "," "," "," "," "," "," "," "," "," "," "," "," "," "," "," "," "," "," "," "," "," "," "," "," "," "," "," "," "," "," "," "," "," "," "," "," "," "," "," "," "," "," "," "," "," "," "," "," "," "," "," "," "," "," "," "," "," "," "," "," "," "," "," "," "," "," "," "," "," "," "," "," "," "," "," "," "," "," "," "," "," "," "," "," "," "," "," "," "," "," "," "," "," "," "," "," "," "," "," "," "," "," "," "," "," "," "," "," "," "," "," "," "," "," "," "," "," "," "," "," "," "," "," "," "," "," "," "," "," "," "," "," "," "," "," "," "," "," "," "," "," "," "," "," "," "," "," "," "," "," "," "," "," "," "," "," "," "," "," "," "," "," "," "," "," "," "," "," "," "," "," "," "," "," "," "," "," "," "," "," "," "," "," "," "," "," "," "," "," "," "," "," "," "," "," "," "," "," "," "," "," "," "," "," "," "," "," "," "," "," "," "," "," "," "," "," "," "," "," "," "," "," "," "," "," "," "," "," "," "," "," "," "," "," "," "," "," "," "," "," "," "," "," "," "," "," "," "," "," "," "," "," "," "," "," "," "," "," "," "," "," "," "," "," "," "," "," "," "," "," "," "," "," "," "," "," "," "," "," "," "," "," "," "," "," "," "," "," "," "," "," "," "," "," "," "," "," "," "," "," "," "," "," "," "," "," "," "," "," "," "," "," "," "," "," "," "," "," "," "," "," "," "," "," "," "," "," "," "," "," "," "," "," "," "," "," "," "," "," "," "," "," "," "," "," "," "," "," "," "," "," "," "," "," "," "," "," "," "," "," "," "," "," "," "," "]
[" "," "," "," "," "," "," "," "," "," "," "," "," "," "," "," "," "," "," "," "," "," "," "," "," "," "," "," "," "," "," "," "," "," "," "," "," "," "," "," "," "," "," "," "," "," "," "," "," "," "," "," "," "," "," "," "," "," "," "," "," "," "," "," "," "," "," "," "," "," "," "," "," "," "," "," "," "," "," "," "," "," "," "," "," "," "," "," "," "," "," "," "," "," "," "," "," "," "," "," "," "," "," "," "," "," "," "," "," "," "," "," "," "," "," "," "," "," "," "," "," "," "," "," "," "," "," "," "," "," "," "," "," "," "," "," "," "," "," "," "," "," "," "," "," "," "," "," "," "," "," "," "," "," "," "," "," "," "," "," "," "," "," "," "," "," "," "," "," "," "," "," "," "," "," "," "," "," "," "," "," "," "," "," "," "," "," "," "," "," "," "," "," "," "," "," "," "," "," "," "," "," "," "," "," "," "," "," "," "," "," "," "," "," "," "," "," "," "," "," "," "," "," "," "," "," "," "," "," "," "," "," "," "," "," "," "," "," "," "," "," "," "," "," "," "," "," "," "," "," "," "," "," "," "," "," "," "," "," "," "," "," "," "," "," "," "," "," "," "," "," "," "," "," "," "," "," "," "," "," "," "," "," "," "," "," "," "," "," "," "," "," "," "," "," "," "," "," "," "," "," "," "," "," "," "," "," "," "," "," "," "," "," "," "," "," "," "," "," "," "," "," "," "," "," "," "," "," "," "," "," "," "," "," "," "," "," "," "," "," "," "," "," "," "," "," "," "," "," "," "," "," "," "," "," "," "," "," "," "," "," "," "," "," "," "," "," "," "," "," "," "," "," "," "," "," "," "," "," "," "," "," "," "," "," "," "," "," "," "," "]
[" "," "," "," "," "," "," "," "," "," "," "," "," "," "," "," "," "," "," "," "," "," "," "," "," "," "," "," "," "," "," "," "," "," "," "," "," "," "," "," "," "," "," "," "," "," "," "," "," "," "," "," "," "," "," "," "," "," "," "," "," "," "," "," "," "," "," "," "," "," "," "," "," "," "," "," "," "," "," "," "," "," "," "," "," "," "," "," "," "," "," "," "," "," "," "," "," "," "," "," "," "," "," "," "," "," "," "," "," "," "," "," "," "," "," "," "," "," "," "," "," "," "," "," "," "," "," "," "," "," "," "," "," "," "," "," "," "," "," "," "," "," "," "," "," "," "," "," "," "," "," "," "," "," "," "," "," "," "," "," "," "," "," "," "," "," "," "," "," "," "," "," "," "," "," "," "," "," "," "," "," "," "," "," "," "," "," "," "," "," "," "," "," "," "," "," "," "," "," "," "," "," "," "," "," "," "," "," "," "," "," "," "," "," "," "," "," "," "," "," "," "," "," "," "," "," "," "," "," "," "," "," "," "," "," "," "," "," "," "," "," "," "," "," "," "," "," "," "," "," "," "," "," "," "," "," "," "," "," "," "," "," "," "," "," "," "," "," "," "," "," "," "," "," "," "," "," "," "," "," "," "," "," "," "," "," "," "," "," "," "," "," "," "," "," "," "," "," "," "," "," "," "," "," "," "," "," "," "," "," "," "," "," "," "," "," "," "," "," "," "," "," "," "," "," "," "," "," "," "," "," "," "," "," "," "," "," "," "," "," "," "," "," "," "," "," "," "," "," "," "," "," "," "," "," "," "," "," "," "," "," "," "," "," "," "," "," "," "," "," "," "," "," "," "," "," "," "," "," "," "," "," "," "," "," "," "," "," "," "," "]
[" "," "," "," "," "," "," "," "," "," "," "," "," "," "," "," "," "," "," "," "," "," "," "," "," "," "," "," "," "," "," "," "," "," "," "," "," "," "," "," "," "," "," "," "," "," "," "," "," "," "," "," "," "," "," "," "," "," "," "," "," "," "," "," "," "," "," "," "," "," "," "," "," "," "," "," "," "," "," "," "," "," "," "," "," "," "," "," "," "," "," "," "," "," "," "," "," "," "," "," "," "," "," "," "," "," "," "," "," "," "," "," "," "," "," "," "," "," "," "," "," "," "," "," "," "," "," "," "," "," "," "," "," "," "," "," "," "," "," "," "," "," "," "," "," "," "," "," "," "," "," "," "," "," "," "," "," "," "," "," "," "," "," "," "," "," "," "," "," "," "," "," "," "," "," "," "," "," "," "," "," "," "," "," "," "," "," "," "," "," "," "," "," "," "," "," "," "," "," "," "," "," "," "," "," "," "," "," "," "," "," "," "," "," "," "," "," "," "," "," "," "," "," "," "," "," "," "," "," "," "," "," "," "," "," "," "," "," "," "," "," "," "," "," "," "," "," "," "," "," "," "," "," "," "," "," "," "," "," "," "," "," "," "," "," "," "," "," "," "," "," "," "," "," "," "," "," "," "," "," "," "," "," "," "," "," "," "," "," "," "," "," "," "," "," "," "," "," "," "," "," "," "," "," "," "," "," "," "," "," "," "," "," "," "," "," "," "," "," "," "," "," "," "," "," "," "," "," "," "," "," "," "," "," "," "," "," "," "," "," "," "," "," "," "," "," "," "," "," "," "," "," "," "," "," "," "," "," "," "," "," "," "," "," "," "," "," "," "," "," "," "," "," "," "," "," "," "," "," "," "," "," "," "," "," "," "," "," "," "," "]
[" "," "," "," "," "," "," "," "," "," "," "," "," "," "," "," "," "," "," "," "," "," "," "," "," "," "," "," "," "," "," "," "," "," "," "," "," "," "," "," "," "," "," "," "," "," "," "," "," "," "," "," "," "," "," "," "," "," "," "," "," "," "," "," "," "," "," "," "," "," "," "," "," "," "," "," "," "," "," "," "," "," "," "," "," "," "," "," "," "," "," "," "," "," "," "," "," "," "," "," "," "," "," "," "," "," "," "," "," "," "," "," "," "," "," "," "," "," "," "," "," "," "," "," "," "," "," "," "," "," "," "," "," "," "," "," "," "," "," "," "," "," "," "," "," "," "," "," "," "," "," "," "," "," "," "," "," "," "," "," "," "," "," "," "," "," "," "," "," "," "," "," "," "," "," "," "," "," "," "," "," "," "," "," "," "," "," "," "," "," "," "," "," "," "," "," "," "," "," "," "," "," "," "," "," "," "," "," "," "," "," "," "," "," "," "," "," "," "," "," "," "," "," "," "," "," "," "," "," "," "," "," "," "," "," "," "," "," "," "," "," "," "," "," "," "," "," "," "," "," "," "," "," "," "," "," "," "," "," "," "," "," "," "," "," "," "," "," "," "," "," "," "," "," "," "," "," "," "," "," "," "," "," "," "," "," "," "," "," "," "," "," "," "," "," "," "," "," "," "," "," "," "," "," "," "," "," "," "," "," "," "," "," "," "," "," "," "," "," "," "," "," "," "," "," "," "," "," "," "," "," "," "," "," "," "," "," "," "," "," "," "," "," "," "," "," "," "," "," "," "," "," "," "," "," "," "," "," "," "," "," "," "," "," "," "," "," "," "," "," "," "," "," "," "," "," "," "," "," "," "," "," "," "," "," "," "," "," "," "," "]
[" "," "," "," "," "," "," "," "," "," "," "," "," "," "," "," "," "," "," "," "," "," "," "," "," "," "," "," "," "," "," "," "," "," "," "," "," "," "," "," "," "," "," "," "," "," "," "," "," "," "," "," "," "," "," "," "," "," "," "," "," "," "," "," "," "," "," "," "," "," "," "," "," "," "," "," "," "," "," "," "," "," "," "," "," "," "," "," "," "," "," "," "," "," "," "," "," "," "," "," "," "," "," "," "," "," "," "," "," "," "," "," "," "," "," "," "," "," "," "," "," "," "," "," "," "," "," "," "," "," "," "," "," "," "," "," "," "," "," "," "," "," "," "," "," "," "," "," "," "," "," "," "," "," "," "," "," "," "," "," "," "," "," "," "," "," "," "," "," "," "," "," "," "," "," "," "," "," "," "," "," "," "," "," "," "," "," "," "," "," "," "," "," "," "," "," "," "," "," "," "," "," "," "," "," "," "," "," "," "," "," "," "," "," "," "," "," "," "," "," "," "," "," "," "," "," "," "," "," "," "," "," "," "," "," "," "," "," "," "," "," "," "," "," "," "," "," "," "," "," "," "," "," "," "," "," "," "," "," "," "," "," "," "," "," "," "," "," "," "," "," "," "," "," "," "," "," "," "," "," "," "," "," "," "," "," "," "," "," "," "," "," "," "," "," "," "," "," "," "," "," "," "," "," "," "," "," "," "," "," "," "," "," "," "," "," "," "," "," "," "," "," "," "," "," "," "," "," "," "," "," "," "," "," "," "," "," "," "," "," "," "," "," "," "," "," "," "," "," "," "," "," "," "," "," "," "," "," "," "," "," "," "," "," "," "," "," "," "," "," "," "," "," "," "," "," "," "," "," "," "," "," "," "," "," "," "," "," "," "," "]
[" "," "," "," "," "," "," "," "," "," "," "," "," "," "," "," "," "," "," "," "," "," "," "," "," "," "," "," "," "," "," "," "," "," "," "," "," "," "," "," "," "," "," "," "," "," "," "," "," "," "," "," "," "," "," "," "," "," "," "," "," "," "," "," "," "," "," "," "," "," "," "," "," "," "," "," "," "," "," "," "," "," "," "," "," "," "," "," "," "," "," "," "," "," "," "," "," "," "," "," "," "," "," "," "," "," "," "," "," "," "," "," "," "," "," "," "," "," "," "," "," "," "," "," "," "," "," "," "," "," "," "," "," "," "," "," "," "," "," "," "," "," "," "," "," "," "," "," "," "," "," "," "," "," "," "," "," "," "," "," "," "," "," "," "," "," "," "," "," "," "," "," "," "," "," "," "," "," "," "," "," "," "," "," "," "," "," "," "," "," "," "," "," "," "," "," "," "," "," "," "," "," "," "," "," "," "," "," "," "," "," "," "," "," "," "," "," "," "," "," "," "," "," "," "," "," "," "," "," "," "," "," "," "," "," "," "," "," "," "," "," "," "," "," "," "," "," "," "," "," "," "," "," "," "," "," "," "," "," "," "," "," "," "," "," "," "," "," "," "," "," "," "," "," "," "," "," "," "," "," "," "," "," "," "," "," "," "," "," "," "," "," "," "," "," "," "," "," "," "," "," "," "," "," "," "," "," "," "," "," "," "," "," "," "," "," "," "," "," "," "," "," "," "," "," "," "," "," "," "," "," "," "," "," "," "," "," "," "," "," "," "," "," "," "," "," "," "," "," "," "," "," "," "," "," "," "," "," "," "," "," "," "," "," "," "," "," "," "," "," "," "," "," "," "," "," "," "," "," "," "," "," "," "," "," "," "," "," "," "," "]
[" "," "," "," "," "," "," "," "," "," "," "," "," "," "," "," "," "," "," "," "," "," "," "," "," "," "," "," "," "," "," "," "," "," "," "," "," "," "," "," "," "," "," "," "," "," "," "," "," "," "," "," "," "," "," "," "," "," "," "," "," "," "," "," "," "," "," "," "," "," "," "," "," "," "," "," "," "," "," "," "," "," "," "," "," "," "," "," "," "," "," "," "," "," "," "," "," "," "," "," "," "," "," "," "," "," "," "," "," "," "," "," "," "," "," "," "," "," "," "," "," "," "," "," "," "," "," "," "," "," "," "," "," "," "," "," "," "," "," "," "," "," "," "," "," "," "," "," "," "," "," "," "," "," "," "," "," "," "," "," "," "," "," "," "," "," "," "," "," "," "," "," "," "," "," "," "," "," "," "," "," "," "," "," "," "," "," "," "," "," "," "," "," "," "," "," "," "," "," "," "," "," "," "," "," "," "," "," "," "," "," "," "," "," "," "," "," "," "," "," "," "," "," "," "," "," "," "," "," "," "," "," "," "," "," "," "," "," "," "," "," "," "," "," "," "," "," "," "," "," "," "," "," "," "," "," "," "," "," "," "," "," "," "," "," "," "," "," "," "," "," "," "," "," "," "," "," "," "," "," "," "," "," "," "," "," "," "," "," "," "," "," "," "," "," "," "," "," "," "," "," "," "," "," "," "," "," "," "," "," "," "," "," "," "," "," "," "," "," "," "," "," "," "," "," "," "," "," "," "," "," "," "," "," "," "," "," "," "," "," "," "," "," "," "," "," "," "," "," "," "," "," "," "," "," "," "," "," "," "," "," "," "," "," "," "," "," "," "," "," "," "," "," "," "," "," "," "," "," "," "," "," "," "," "," "," "," "," "," "," "]
[" "," "," "," "," "," "," "," "," "," "," "," "," "," "," "," "," "," "," "," "," "," "," "," "," "," "," "," "," "," "," "," "," "," "," "," "," "," "," "," "," "," "," "," "," "," "," "," "," "," "," "," "," "," "," "," "," "," "," "," "," "," "," "," "," "," "," "," "," "," "," "," "," "," "," "," "," "," "," "," "," "," "," "," "," "," "," "," "," "," "," "," "," "," "," "," "," "," "," "," "," "," "," "," "," "," "," "," "," "," "," "," "," "," "," "," "," "," "," "," "," "," "," "," "," "," "," "," "," "," "," "," "," "," "," "," "," "," "," "," "," "," "," "," "," "," "," "," "," "," "," "," "," "," "," "," "," "," "," "," "," "," "," "," "," "," "," "," "," "," "," "," "," "," "," "," "," "," "," "," "," "," "," "," "," "," "," "," "," "," "," "," "," "," "," "," "," "," "," "," "," "," "," "," "," "," "," "," "," "," "," "," "," "," "," "," "," "," "," "," "," "," "," "," "," "," "," "," "," "," "," "," "," "," "," "," "," "," "," "," "," "," "," "," "," "," "," "," "," "," "," "," "," "," "," "," "," "," "," "," "," "," "," "," "," "," "," "," "," "," "," "," "," "," "," "," "," "," "," "," "," "," "," "," "," "," "," "," "," "," "," "," "," "," "," "," "," "," "," "," "," "," "," "," "," "," "," "," "," "," "," "," "," "," "," "," "," "," "," "," "," "," "," "," "," "," "," "," "," "," "," "," "," "," "," "," "," "," "," "," "," "," "," "," "," "," "," "," "," "," "," "," "," "," "," "," "," "," "," "," "," "," "," "," "," "," "," "," "," "," "," "," "," "," "," "," "," "," "," "," "," "," "," "," "," "," "," "," "," "," "]
[" "," "," "," "," "," "," "," "," "," "," "," "," "," "," "," "," "," "," "," "," "," "," "," "," "," "," "," "," "," "," "," "," "," "," "," "," "," "," "," "," "," "," "," "," "," "," "," "," "," "," "," "," "," "," "," "," "," "," "," "," "," "," "," "," "," "," "," "," "," "," "," "," "," "," "," "," "," "," "," "," "," "," "," "," "," "," "," "," "," "," "," "," "," "," "," "," "," "," "," "," "," "," "," "," "," "," "," "," "," "," "," "," "," "," "," "," "," "," "," "," "," "," "," "," "," "," "," "," "," "," "," "," "," "," "," "," "," "," "," "," "," "," "," "," "," "," "," "," "," "," "," "," "," "," "," "," "," "," "," "," "," "," "," "," "," "," "," "," "," "," "," "," "," "," "," "," "," "," "," "," "," "," "," "," "," "," "," "," "," "," "," "," "," "," "," "," "," "," "," "," "," "," "," "," "," "," "," "," "," "," "," "," "," "," "," "," "," "," "," "," "," "," "," "," "," "," "," "," "," "," "," "," "," "," "," "," "," "," "," "," "," "," "," "," "," "," "," "," "," "," "," "," "," "," "," "," "," "," "," "," "," "," "," "," "," "," "," "," "," "," "," "," "," "," "," "," "," "," "," "," "," "," "," "," "," "," "," "," "," "," "," "," "," "," "," "," "," "," "," "," "," "," "," "," "," "," "," "," "," "," "," "," "," "," "," "," "," "," "," "," "," "," "," "," "," "," "," "," "," "," "," "," "," "," "," "," "," "," "," "," "," "," "," "," "," "," "," "," "," "," "," "," "," "," "," "," "," "," "," "," "," "," "," "," "," "," "," "," "," "," "," "," "," "," "," "," "," "," "," "," "," "," "," "," "," "," "," "," "," "]
[" "," "," "," "," "," "," "," "," "," "," "," "," "," "," "," "," "," "," "," "," "," "," "," "," "," "," "," "," "," "," "," "," "," "," "," "," "," "," "," "," "," "," "," "," "," "," "," "," "," "," "," "," "," "," "," "," "," "," "," "," "," "," "," "," "," "," "," "," "," "," "," "," "," "," "," "," "," "," "," "," "," "," "," "," "," "," "," "," "," "," "," "," "," "," "," "," "," "," "," "," "," "," "," "," "," "," "," "," "," "," "," "," "," "," "," "," "," "," "," "," "," "," "," "," "," "," "," "," "," "," "," "," "," "," "," "," "," "," "," "," "," "," "," "," "," "," "," "," "," "," "," "," "," "," "," "," "," "," "," "," "," "," "," "," "," "," "," "," "," "," "," "," "," "," "," "," "," "," "," "," "," "," "," "," "," "," "," "," "," "," "," "," "," "," "," "," "," "," "," "," "," "," "," "," "," "," "," "," "," "," "," "," "," "," "," "," "," "," "," "," "," "," "," "," "," "," "," "," "," "," "," "," "," "," "," "," "," "," "," "," "," "," "," "," "," "," "," "," "," "," "," "," "," "," "," "," "," "," "," "," "," "," "," "," "," "," "," "," "," "," "," "," "," "," "," "," "," "," "," "," "," "," "," "," "," "," "," "," "," "," "," "," "," "," "," "," "," "," "," "," "," "," "," "," "," "," "," "," "," "," "," "," "," "," "," "," "," "," "," "," "," "," "," "," "," "," "," "," "," "," "," "," "," "," "," "," "," "," "," "," "," "," "," "," "," "," "," "," "," "," "," "," "," "," "," "," "," "," "," "," "," "," "," "," "," "," "," "," "," "," "," "," "," "," "," "," "," "," "," "," "," "," "," "," "," "," "," "," "," "]
[" "," "," "," "," "," "," "," "," "," "," "," "," "," "," "," "," "," "," "," "," "," "," "," "," "," "," "," "," "," "," "," "," "," "," "," "," "," "," "," "," "," "," "," "," "," "," "," "," "," "," "," "," "," "," "," "," "," "," "," "," "," "," "," "," "," "," "," "," "," "," "," "," "," "," "," "," "," "," "," "," "," "," "," "," "," "," "," "," "," "," "," "," "," "," "," "," "," "," "," "," "," "," "," "," "," "," "," "," "," "," "," "," "," "," "," "," "," "," "," "," "," "," "," "," "," "," "," "," "," "," "," "," "," "," "," "," "," "," "," "," "," "," "," "," "," "," "," "," "," "," "," "," "," "," "," "," "," "," "," "," "," "," "," "," "," "," "," "," "," "," "," "," "," "," "," "," "," "," "," "," "," "," "," "," "," "," "," "," "," "," "," "," "," "," "," "," "," "," "," "," "," "," "," "," "," "," "," "," "," "," "," "," "," "," "," "," "," "," "," "," "," "," "," "," "," "," "," "," "," "," "," "," "," "," "," "," "," "," "," "," "," "," "," "," "," "," "," "," "," "," "," "," "," "," "," "," "," "," "," "," "," "," "," "," "," "," "," "," "," "," "," "," "," "," "," "," "," "," "," "," "," "," "," "," "," "," "," "," "," "," "," "," "," "," "," "," "," "," "," "," "," "," "," "," "," "," "," "," "," "," "," "," "," "," "," "," "," "," "," "," "," "," "," "," "," "," "," "," "," "," "," "," "," "," "," "," "," "," "," "," "," "," "," "," "," "," "," "," "," "," "," "," "," "," "," "," "," "," "," "," "," "," "," "," "," "," "," "," "," "," "," "," "," "," "," "," "," "," "," "," "," "," "," "," "," "," "," "," "," "]
[" "," "," "," "," "," "," "," "," "," "," "," "," "," "," "," "," "," "," "," "," "," "," "," "," "," "," "," "," "," "," "," "," "," "," "," "," "," "," "," "," "," "," "," "," "," "," "," "," "," "," "," "," "," "," "," "," "," "," "," "," "," "," "," "," "," "," "," "," "," "," "," "," "," "," "," "," "," "," "," "," "," "," "," "," "," "," "," "," "," "," "," "," "," "," "," "," "," "," "," "," "," "," "," "," "," "," "," "," "," "," "," "," "," "," "," "," "," "," "," "," "," "," "," "," "," "," "," "," "," "," "," "," "," "," "," "," "," "," "," "," "," "," "," "," "," "," "," "," "," "," "," "," "," "," "," "," "," "," "," "," "," "," "," "," "," "," "," "," "," "," "," "," "," "," "," "," "," "," "," "," "," "," "," "," "," "," "," "," "," "," "," "," "," "," "," "," "," "," "," "," "," "," "," "," "," "," "," "," "," "," "," "," "," "," "," "," "," "," "," "," "," "," "," "," "," "," "," "," "," "," "," "," "," "," "," "," "," "," "," "," "," "," "," "," "," "," "," "," "," "," "," "," "," "," "," "," "," "," "," "," "," "," "," "," "," "," "," "," "," "," "," "," "," "," "," "," "," "," "," "," "," "," "," "," "," "," "," "," "," "," "," "," "," "," "," "," "," "," "," "," "," "," "," "," "," "," "," "," "," "," "," "," "," "," "," "," "," "," "," "," "," "," "," "," "," "," "," "," "," "," "," "," "," "," "," "," "," "," "," "," "," "," "," "," "," "," "," "," "," "," "," "," "," "," "," "," "," "," "," "," "," "," "," "," "," "," "," "," "," "," "," "," "," "," "," "," "," "," "," "," "," "," "," "," "," "," "," "," "," "]
[" "," "," "," "," "," "," "," "," "," "," "," "," "," "," "," "," "," "," "," "," "," "," "," "," "," "," "," "," "," "," "," "," "," "," "," "," "," "," "," "," "," "," "," "," "," "," "," "," "," "," "," "," "," "," "," "," "," "," "," "," "," "," "," "," "," "," "," "," "," "," "," "," "," "," "," "," "," "," "," "," "," "," "," "," "," "," "," "," "," "," "," "," "," "," "," "," "," "," "," "," "," "," "," "," "," "," "," "," "," "," "," "," "," "," "," "," "," "," "," "," "," "," "," "," "," "," "," "," "," "," "," "," "," "," "," "," "," "," "," "," "," "," "," "," "," "," "," "," "," "," "," "," "," "," "," "," "," "," "," "," "," "," "," "," "," "," "," "," "," "," "," "," "," "," "," "," "," "," "," "," "," "," "," "," "," "," "," "," "," "," "," "," "," "," "," "," "," "," "," "," "," "," "," "," "," "," "," "," "," "," "," "," "," "," "," "," "," "," "," "," "," "," "," "," "," "," "," "," "," "," "," "," "," "," "," "," "," "," "," "," "," "," "," "," "," "," "," "," "," "," "," "," "," "," "," "," "," "," "," "," "," "," "," "," "," "," "," "," "," "," "," "," "," "," "," "," "," "," "," "," "," "," "," "," "," "," "," "," "," "," "," "," "," "," "," "," "," "," "," "," "," "," "," "," "," "," "," "," "," "," "," "," "," "," "," "," "," "," "," "," "," "," "," "," "," "," "," "," "," "," "," "," "," "," "," "," "," "," "," "," "," "," "," "," "," "," "," "," "," "," "," "," "," "," "," "," "," "," "," "," "," "," "," "," "," "," "," "," "," "," "," "," "," "," "," "," "," "," "," "," "," "," "," "," "," "," "," "," "," "]
[" "," "," "," "," "," "," "," "," "," "," "," "," "," "," "," "," "," "," "," "," "," "," "," "," "," "," "," "," "," "," "," "," "," "," "," "," "," "," "," "," "," "," "," "," "," "," "," "," "," "," "," "," "," "," "," "," "," "," "," "," "," "," "," "," "," "," "," "," "," "," "," "," "," "," "," "," "," "," "," "," "," "," "," "," "," "," "," "," "," "," "," "," "," "," "," "," "," "," "," "," "," "," "," "," "," "," "," "," "," "," "," "," "," "," "," "," "," "," "," "," "," "," "," "," "," "," "," "," "," "," "," "," "," "," "," "," "," "," "," "," "," "," "," "," "," "," "," "," "," "," "," "," "," "," "," "," "," "," "," "," "," "," "," "," "," "," "," "," "," "," "," "," "," "," "," "," "," "," "," "," "," "," "," "," "," "," "," "," "," "," "," "," "," "," "," "," "," "," "," "," "," "," "," "," "," "," "," "," "," "," "," "," "," "," "," "," "," "," "," "," "," "," "," "," "," "," "," "," "," "," "," "," "," "," "," "," "," "," "," "," "," "," "," "," "," "," "," "," "," "," "," "," "," "," "," "," "," "," "," "," "," "," "," "," "," "," "," "," "," "," "," "," "," "," "," "," "," "," "," "," "," "," "," "," "," "," "," "," "," "," "," "," "," "," "," "," "," "," "," "," "," "," "," "," "," "," "," "," "," "," "," "," "," "," "," "," "," "," "," "," "," "," "," "," "," "," "," "," "," "," "," "," "," "," "," "," "," "," "," "," "," "," "," "," "," "," "," "," "," "," "," "," "," "," "," "," "," "," "," "," "," "," "," "," "," "," "," "," "," "," "," "," "," "," "," "," "," "," "," "," "," "," "," "," "," "," "," "," "," "]
[" "," "," "," "," "," "," "," "," "," "," "," "," "," "," "," "," "," "," "," "," "," "," "," "," "," "," "," "," "," "," "," "," "," "," "," "," "," "," "," "," "," "," "," "," "," "," "," "," "," "," "," "," "," "," "," "," "," "," "," "," "," "," "," "," "," "," "," "," "," "," "," "," "," "," "," "," "," "," "," "," "," "," "," "," "," "," "," "," "," "," "," "," "," "," "," "," "," "," "," "," "," "," "," "," "," "," "," "," "," "," "," "," "," "," "," "," "," "," "," "," "," "," "," "," "," "," "," "," "," "," "," "," "," "," "," "," "," "," "," "," "," "," "," "," "," "," "," "," "," "," "," "," "," "," "," "," "," "," "," "," "," "," "," "," "," "," "," "," "," "," "," "," "," "," "," "," "," "," "," "," "," "," "," "," "," "," "," "," "," "," "," "," "," "," "," "," "," "," "," "," "," "," "," "," "," "," "," "," "," "," "," "," "," "," "," "," "," "," "," "," "," "," "," "," "," "," "," "," "," "," "," "," "," "," "," "," "," "," "," "," "," "," "," "," "," "," "," "," "," "," "," "," "," "," "," "," "," "," "," "," "," "," "," "," "," "," "," "," "," "," "," "," "," "," "," "," "," "," "," "," "," "," "," "," "," "," "," "," "," "," "," "," "," "," "," "," "," "," "," "," "," "," "," "," "," "," "," "," "," "," "," "," "," "," "," "," "," "," "," "," "," "," "," "," "," "," "," "," "," "," "," "," "," "," "," "," "," "," "," "," "," "," "," "," "," "," "," "," "," "," "," "," "," "," "," "," "," "," "," "," "," "," "," "," "," "," "," "," "," "," "," "," "," "," "," "," "," "," "," "," "," "," "," "," "," "," "," "," "," "]
[" "," "," "," "," "," "," "," "," "," "," "," "," "," "," "," "," "," "," "," "," "," "," "," "," "," "," "," "," "," "," "," "," "," "," "," "," "," "," "," "," "," "," "," "," "," "," "," "," "," "," "," "," "," "," "," "," "," "," "," "," "," "," "," "," "," "," "," "," "," "," "," "," "," "," "," "," "," "," "," "," "," "," "," "," "," "," "," "," "," "," "," "," "," "," "," "," "," "," "," "," "," "," "," "," "," "," "," "," "," "," "," "," "," "," "," "," "," "," "," "," "," "," "," "," "," "," "," "," "," "," "," "," "," "," "," "," "," "," "," "," "," "," "," "," "," "," "," "," "," "," "," "," "," "," "," "," "," "," "," "," "," "," "," "," "," "," "," "," "," "," "," "," "," "," "," "," "," "," "," "," "," "," "," "," "," "," "," "," "," "," "," "," "," "," "," "," "," "," "," "," "," "," "," "," "," "," "," "," "," "," "," "," "," "," "," "," "," "," "," "," "," "," "," "," "," "," "," "," "," "," "," "," "," "," "," "," "," "," "," "," "," "," "," "," "," "," "," "," "," "," "," "," "," "," "," "," "," "," "," "," "," "," "," "," "," "," "," "," "," "," "," "," "," "," "," "," "," "," "," "," "," "," "," "," "," "," "," "," "," "," "," "," "," "," "," "," "," "," "," "," "," "," "," "," "," "," "," "," "," "," "," "," "," "," "," "," "," "," "," "," "," "," "," "," "," "," "," "," "," "," "," "," "," "," "," "," "," "," "," "," "," "," "," "," "," "," "," "," "," "," "," "," "," "," "," "," "," "," "," "," "," "," "," "," "," "," "," "," "," "," "," "," "," "," "," "," "," "," "," "," "," "," "," "," "," "," "," "," "," "]
[" "," "," "," "," "," "," "," "," "," "," "," "," "," "," "," "," "," "," "," "," "," "," "," "," "," "," "," "," "," "," "," "," "," "," "," "," "," "," "," "," "," "," "," "," "," "," "," "," "," "," "," "," "," "," "," "," "," "," "," "," "," "," "," "," "," "," "," "," "," "," "," "," "," "," "," "," "," "," "," "," "," "," "," "," "," "," "," "," "," "," "," "," "," "," "," "," "," "," "," "," "," "," "," "," "," "," "," "," "," "," "," "," "," "," "," "," "," "," "," "," "," "," "," "," "," "," "," "," "," "," "," "," "," "," "," "," "," "," "," "," "," "," "," "," "," "," "," "," "," "," "," "," "," "," "," "," "," "," "," "," "," "," "," "," "," "," "," "," "," "," "," "," "," "," "," "," "," "," "," "," "," "," "," "," "," "," "," "," "," "," "," "," "," "," "," "," "," "," "," "," "," "," "," "," "," "," "," "," "," "," "," "," "," "," "," "," "," "," "," "," "," "," "," "," "," "," "," "," "," "," "," "," "," "," "," "," "," "," "," "," "," "," "," "," "," "," "," "," "," "," "," "," "," "," "," "," "," "," "," "," "," "," "," "," "," "," "," "," "," "," "," "," "," "," "," "," "," "," "," "," "," "," "," "," "," "," "," "," "," "," "," "," "," "," "," "," "," "," "," "," "," "," "," "," "," "," "," "," "," "," "," "," "," "," "," "," "," "," "," "," "," "," "," "," "," "," "," "," "," "," "," "," "," "," "," "," "," "," "," "," "," "," "," "," "," "," "," "," "," "," "," "," "," "," "," "," "," "," "," "," "," "," "," "," "," "," "," "," "," "," "," "," "," "," "," "," "," "," "," "," "," "," "," "," "," "," "," "," "," "]
[" "," "," "," "," "," "," "," "," "," "," "," "," "," "," "," "," "," "," "," "," "," "," "," "," "," "," "," "," "," "," "," "," "," "," "," "," "," "," "," "," "," "," "," "," "," "," "," "," "," "," "," "," "," "," "," "," "," "," "," "," "," "," "," "," "," "," "," "," "," "," "," "," "," "," "," "," "," "," "," "," "," "," "," "," "," "," "," "," "," "," "," "," "," "," "," "," "," "," "," "," "," "," "," "," "," "," "," "," "," "," "," "," "," "," "," "," "," "," "," "," "," "," "," "," "," "," "," "," "," "," "," "," "," "," "," "," "," "," "," "," "," "," "," "," "," "," "," "," "," "," "," "," "," "," "," "," "," "," "," "," "," "," "," "," "," "," "," "," "," "," "," "," "," "," "," "," "," "," "," "," "," "," "," "," "," "," "," "," "," "," "," "," "," "," "," "," "," "," "," "," "," "," "," "," "," "," "," "," "," "," "," "," "," "," "," "," "," "," "," "," "," "," "," "," "," "," "," "," "," "," "," "," "," "," "," "," "," "," "," "," "," "," "," "," "," "," "," "," "," "," "," "," "," "," "," "," "," "," "," "," "," "," "," "," "," "," "," "," "," "," "," "," "," "," "," "," "," "," "," "," "," "," "," "," "," "," "," "," "," "," "," "," "," "," "," "," "," "," "," "," "," "," "," "," "," "," "," "," "," "," "," "," "," "," "," "," "," "," "," "," "," "," "," "," "," "," "," "," "," "," "," "," "," "," "," "," "," "," "," "," "," "," "," "," "," "," "," "," "," "," "," "," "," "," "," "," "," "," "," "," "," "," "," "," "," "," "," "," "," "," "," "," "," "," "," "," "," "," "," "," "," "," "," "," "," "," "," "," "," "]
[" "," "," "," "," "," "," "," "," "," "," "," "," "," "," "," "," "," "," "," "," "," "," "," "," "," "," "," "," "," "," "," "," "," "," "," "," "," "," "," "," "," "," "," "," "," "," "," "," "," "," "," "," "," "," "," "," "," "," "," "," "," "," "," "," "," "," "," "," "," "," "," "," "," "," "," "," "," "," "," "," "," "," "," "," "," "," "," "," "," "," "," "," "," "," "," "," "," "," "," "," "," "," "," "," "," "," "," "," "," "," "," "," "," "," "," "," "," "," "," "," "," "," "," "," "," "," "," "," "," "," "," "," "," "," "," "," "," "," "," "," "," "," "," "," "," "," "," "," "," "," "," "," "," "," "," "," "," "," "," "," "," "," "," "," "," "," "," "," "," "," "," "," "," "," "," "," "," "," "," "," "," "," "," "," "," "," "," "," "," "," "," "," "," "," "," "," "," "," "," "," "," "," "," "," "," "," "," "," "," "," "," "," "," "," "," "," "," "," "," "," "," "," "," "," "," "," "," "," "," "," "," "," "," "," "," "," "," "," "," "," "," "," "," "," "," "," "," "," "," "," "," "," "," "," "," "," "," "," "," "," "," "," "," "," "," "," "," "," "," "," "," "," "," "," "," "," "," "," "," "," "," "," "," "," "," "," "," "," "," "," "," "," "," "," "," "," "," "," "," "," "," "," "," "," "," "," "," "," "," "," "," "," "," "," "," "," "," "," "," "," "," "," "," "," "," "," "," "," "," "," "," "," "," "," "," "," "," "," "," "," "," "," "," "," "," "," "," "," "," "," "," "," "," "," "," "," "," "," "," "," "," "," "," "," "," "," "," "," "," "," "," "," "," "," "," "," "," "," "," "," "," "," "," "," "," "," "," "," "," "]
[" "," "," "," "," "," "," "," "," "," "," "," "," "," "," "," "," "," "," "," "," "," "," "," "," "," "," "," "," "," "," "," "," "," "," "," "," "," "," "," "," "," "," "," "," "," "," "," "," "," "," "," "," "," "," "," "," "," "," "," "," "," "," "," "," "," "," "," "," "," "," "," "," "," "," "," "," "," "," "," "," "," "," "," "," "," "," "," "," "," "," "," "," "," "," "," "," "," "," "," "," "," "," "," "," "," "," "," "," "," "," "," "," "," "," "," "," "," "," "," "," "," "," "," "," "," "," "," "," "," "," "," "," "," "," "," "," "," "," "," "," "," "," "," "," "," "," "," "," "," "," "," "," "," "," "," "," "," "," "," "," "," "," "," "," "," "," "," "," "," "," "," "," "," "," "," "," "," "," "," "," "," "," "," "," "," "," "," "," "," "," "," "," "," "," "," "," "," "," "," "," "," "," "," "," "," "," "," "," "," "," "," "," "," "," "," "," "," "," "," "," "," "," "," "," "," "," "," "," "," "," "," "," "," "," "," "," "," "," "," "," "," "," "," "," "," "," "," "," "," "," "," "," "," "," "," "," "," "," "," "," "," "," "," "," "," "," "," "," "," "," "," "," "," "," "," "," "," "," "," "," "," "," "," "," "," "," "," "," "," "," "," "," "," "," "," "," "," "," "," "," "," "," "," "," "," "," "," "," "," "," "," "," "," "," "," "," "," "," "," "," "," "," "," "," "," "," "," "," "," "," "," "," "," "," "," "," "," "," "," "," "," "," "," "," "," "," "," "," "," "," "," "," "," "," "," "," "," "," "," "," "," "," "," "," "," "," "," "," "," "," "," "," "," "," "," "," "," "," "," "," "," "," "," "," "," "," "," "," "," "]
[" "," "," "," "," "," "," "," "," "," "," "," "," "," "," "," "," "," "," "," "," "," "," "," "," "," "," "," "," "," "," "," "," "," "," "," "," "," "," "," "," "," "," "," "," "," "," "," "," "," "," "," "," "," "," "," "," "," "," "," "," "," "," "," "," "," "," "," "," "," "," "," "," "," "," "," "," "," "," "," "," "," "," "," "," "," "," "," "," "," "," "," "," "," "," "," "," "," "," "," "," "," "," "," "," "," "," "," "," "," "," "," "," "," "," "," "," "," "," "," "," "," "," "," "," "," "," "," "," "," "," "," "," "," "," "," "," "," "," "," "," "," "," "," "," "," "," "," "," "," "," "," "," "," "," "," "," "," "," "," "," "," "," "," "," "," "," "," "," "," "," "," "," "," "," "," "," "," "," "," "," "," "," "," "," "," "," "," "," "," "," "," "," "," "," "," "," "," "," "," "," "," "," "," "," "," "," "," "," "," "," "," "," "," "," "," "," "," "," "," "," "," "," "," "," "," "," "," "," "," "," "," "," "," "," "," "," "," "," "," "," "," "," "," "," "," "," "," "," "," "," "," "," "," "," "," "," "," "," "," "," "," "," "," "," "," "," "," "," "," "," "," "," "," "," "," "," "," "," "," "," "," "," "," "," "," "," "," "," "," "," "," "," "," "," "," "," "," "," "," "," "," "," "," "," "," "," "," "," "," "," "," "," "," "," "," "," "," "," "," "," "," "," "," "," "," "," "," "," "," "," "," "," "," "," "," "," "," "," "," "," "," "," "," "," "," "," "," "," "," "," "," "," "," "," "," "," "," "," "," "," "," "," "," "," "," "," "," "," "," "," "," "," "," "," "," "," "," "," "," "," "," "," "," "," "," "," "," "," "," "]
[" "," "," "," "," "," "," "," "," "," "," "," "," "," "," "," "," "," "," "," "," "," "," "," "," "," "," "," "," "," "," "," "," "," "," "," "," "," "," "," "," "," "," "," "," "," "," "," "," "," "," "," "," "," "," "," "," "," "," "," "," "," "," "," "," "," "," "," "," "," "," "," "," "," "," "," "," "," "," "," "," "," "," "," "," "," "," "," "," "," "," "," "," "," "," "," "," "," "," "," "," "," "," "," "," "," "," "," "," "," "," "," "," "," "," "," "," "," "," "," "," "," "," "," "," "," "," "," "," "," "," "," "," "," "," "," "," "," "," "," "," "," "," "," "," "," "," "," "," "," "," "," "," "," "," "," "," "," "," "," "," "," "," "," "," "," "," "," "," "," "," "," "," "," "," "," "," "," "," "," "," "," "," "," "," "," "," "," "," "," "," "," "," "," "," "," "," "," "," "," "," "," "," "," "," "," "," "," "," "," "," "," "," "," "," "," "," "," "," "," "," "," "," "," "," "," "," "," "," "," "," "," "," "," "," "," "," "," "," "," "," "," "," "," "," "," "," "," "," "," "," "," "," "," "," "," "," "," "," "," "," "," "," "," "," "," "," "," "," "," "," "," "," "," "," "," "," "," "," "," "," "," "," "," "," "," "," "," "," "," "," "," "," "," "," "," "," "," "," "," "," "," "," "," "," "," "," "," "," "," "," "," "," "," "," "," "," "," "," "," "," "," "," "," "," "," "," "," "," "," "," "," "," "," "," "," "," "," "," "," "," "," "," "," "," "," "," "," "," "," "," "," "," "," "," "," "," "," "," "," "," "," "," "," "," "," "," "," "," "," "," "," "," "," "," "," "," "," "," "," "," "," "," "," "," "," "," "," "," "," "]
[" "," "," "," "," "," "," "," "," "," "," "," "," "," "," "," "," "," "," "," "," "," "," "," "," "," "," "," "," "," "," "," "," "," "," "," "," "," "," "," "," "," "," "," "," "," "," "," "," "," "," "," "," "," "," "," "," "," "," "," "," "," "," "," "," "," "," "," "," "," "," "," "," "," "," "," "," "," "," "," "," "," "," "," "," "," "," "," "," "," "," "," "," "," "," "," "," "," "," "," "," "," "," "," "," "," "," "," "," "," "," "," "," "," "," "," "," "," "," "," "," "," "," "," "," "," "," "," "," "," "," "," "," "," "," "," "," "," "," "," "," "," "," "," "," "," "," "," "," "," "," "," "," "," "," "," "," "," "," "," "," "," "," "," "," "," "," "," "," "," "," "," "," "," "," "," "," "," "," "," "," "," "," "," "," "," "," "," "," "," "," "," "," "," "," "," "," "," "," "," "," "," "," "," "," "," "," "," "," "," "," "," "," "," "," "," "," "," "," "," "," "," "," "," "," "," "," "," "," "," "," "," "," "," "," "," "," "," "," "," "," "," "," "," "," "," "," "," "," "," "," "," "," "," "," "," "," "," "," "," "," "," "," "," "," "," "," "," "," "," "," "," "," "," "," "," "," "," "," "," "," "," "," "," "," "," "," "," "," "," "," "," "," "," "," "," "," "," "," "," "," "," "," "," "," "," "," "," "," "," "," "," "," "," "," "," "," "," "," "," "," "," "," "," "," "," "," "," "," "," "," "," "," "," "," "," "," "," "," "," "," "," "," "," "," "," "," "," "," "," "," "," "," "," "," "," "," "," "," "," "," "," "," "," "," "," "," "," "," "," "," "," "," "," "," "," "," "," "," "," "," "," "," "," "," "," "," "," "," "," "]
[" "," "," "," "," "," "," "," "," "," "," "," "," "," "," "," "," "," "," "," "," "," "," "," "," "," "," "," "," "," "," "," "," "," "," "," "," "," "," "," "," "," "," "," "," "," "," "," "," "," "," "," "," "," "," "," "," "," "," "," "," "," "," "," "," "," "," "," "," "," "," "," "," "," "," "," "," "," "," "," "," "," "," "," "," "," "," "," "," "," "," "," "," "," "," "," "," "," "," "," "," "," "," "," "," "," "," "," "," "," "," "," "," "," "," "," "," "," "," "," "," "," "," "," "," "," "," "," "," "," "," "," "," "," "," "," "," "," "," "," "," "," "," "," "," "," "," "," "," "," "," "," "," "," "," "," "," "," "," "," "," "," "," "," "," "," "," "," "," "," "," "," "," "," "," "," "," "," "," "," "," "," "," "," "," "," "," "," "," "," "," "," "," "," "," "," "," "," "," "," "," "," "," "," "," "," "," "," "," "," "," "," "," "," "," "," "," "," "," "," "," "," "," "," "," "," "," "," "," "," "," "," "," "," "," "," "," "," "," "," "," "," "," "," "," "," "," "," "," "," "," "," "," "," "," "," "," "," "," "," "," "," "," "," "," "," "," "," "," "," "," "," "," "," "," "," "," "," "," "," "," "," "," "," "," "," "," "," "," "," "," "," "," "," "," "," "," "," "," "," "," "," "," "," "," "," "," "," "," "," "," "," "," "," "," "," "," "," "," "," "," "," "," "," "," "," "," "," "," "," "," "," "," "," "," "," "," "," "," "," "," "," "," "," "," "," "," "," "," "," "," "," "," "," "," "," "," "," "," "," "," "," "," "," "," "," "," "," "," "," "," "," "," "," "," "," "," "," "," "," "," "," "," "," "," "," "," "," "," "," "]
[" "," "," "," "," "," "," "," "," "," "," "," "," "," "," "," "," "," "," "," "," "," "," "," "," "," "," "," "," "," "," "," "," "," "," "," "," "," "," "," "," "," "," "," "," "," "," "," "," "," "," "," "," "," "," "," "," "," "," "," "," "," "," "," "," "," "," "," "," "," "," "," "," "," "," "," "," "," "," "," "," "," "," "," "," "," "," "," "," "," "," "," "," "," "," "," "," "," "," "," "," "," "," "," "," "," "," "," "," "," "," "," "," "," "," "," "," "," "," "," "," "," "," "," "," "," "," "," "," "," "," "," "," "," "," "," "," "," "," "," "," "," "," "," "," "," "," "," "," "," "," "," "," "," "," "," "," "," "," "," "," "," "," "," "," "," "," "," "," "," "," "," "," "," "," "," "," "," "," "," "," "," "," "," "," "," "," "," "," "," "," "," "," "," "," "," "," "," "," "," "," "," "," "," "," "," "," "," "," "," "," "," "," "," "," "," "," "," "," "," "," "," "," "," "," "," "," "," "," "," "," "," "," "," "," "," "," "," "," "," "," "," "," "," "," "," "," "," "," "," "," "," "," "," "," "," "," "," "," "," "," "," "," "," "," "," "," "," "," "," "," "," "," "," "," "," "," "," "," "," "," "," "," "," "," "," "," "," "," "," "," "," "," "," "," "," "," "," "," "," "," "," "," "," "," "," "," "," "," "," "," "," "," "," "," "," "," "," "," "," "," "," "," "," "," "," "," "," "," "," "," "," "," "," "," "," "," "," "," "," "," "," "," "," "," "," "," "," "," "," "," "," "," "," "," "," "," "," "," "," "," "," "," "," "," "," "," "," "," "," "," "," "," "," "," "," "," "," "," "," "," "," "," "," "," "," "," "," "," "," "]
[" "," "," "," "," "," "," "," "," "," "," "," "," "," "," "," "," "," "," "," "," "," "," "," "," "," "," "," "," "," "," "," "," "," "," "," "," "," "," "," "," "," "," "," "," "," "," "," "," "," "," "," "," "," "," "," "," "," "," "," "," "," "," "," "," "," "," "," "," "," "," "," "," "," "," "," "," "," "," "," "," "," "," "," "," "," "," "," "," "," "," "," "," "," "," "," "," "," "," "," "," "," "," "," "," "," "," "," "," "," "," "," "," "," "," "," "," "," "," "," "," "," "," "," "," "," "," "," "," "," "," "," "," "," "," "," "," "," "," "," "," "," "," "," "," "," "," "," "," "," "," "," "," "," "," "," "," "," "," "," "," "," "," "," "," "," "," "," "," "," "," "," "," "," "," "," "," "," "," "," "," "," "," "," "," "," "," "," "," "," "," "," "," "," "," "," "," "," "," "," "," "," "," "," "," "," "," "," "," "," "," "," "," "," "," "," "," "," "," "," "," "," "," "," "," "," "," "," "," "," "," "," "," "," "," "," "," "," "," "," "," "," "," "," "," "," "," "," "," "," "," "," "," "," "," "," "," "," "," "," "," "," "," "," "," "," "," "," "," "," "," "," "," "," "," "," "," "," "," "," "," "," "," "," "," "," "," "," "," "," "," "," "," "," "," "," "," "," "," "," "," "," "," "," "," "," "," "," "," "," "," "," "," "," "," "," "," "," "," "," "," "," "," "," "," "," "," "," "," "," "," "," "," "," "," "," "," "," "," "," "," "," "," "," "," "," "," "," "," "," "," "," "," "," "," "," "," "," "," "," "," "," "," "," "," "," "," "," "," "," "," "," "," "," "," "," "," "," "," "," "," "," "," "," "," "," "," "," "," "," "]
[" "," "," "," "," "," "," "," "," "," "," "," "," "," "," "," "," "," "," "," "," "," "," "," "," "," "," "," "," "," "," "," "," "," "," "," "," "," "," "," "," "," "," "," "," "," "," "," "," "," "," "," "," "," "," "," "," "," "," "," "," "," "," "," "," "," "," "," "," "," "," "," "," "," "," "," "," "," "," "," "," "," "," "," "," "," "," "," "," "," "," "," "," "," "," "," "," "," "," "," "," "," "," "," "," "," "," "," "," "," "," "," "," "," "," "," "," "," "," "," "," "," "," "," "," "," "," "," "," "," "," "," "," "," "," "," "," "," "," "," "," "," "," "," "," "," "," "," "," "," "," "," "," "," "," "," "," "," "," "," "," "," "," "," "," "," "," "," "," "," "," "," "," "," "," "," "," "," "," "," "," "," "," "," "," "," "," "," "," "," "," "," "," "," "," "," "," "," "," "," "," "," "," "," "," "," "," "," "," "," "," "," "," "," "," "," "," "," "," "," "," "," "," "," "," "," "," "," "," "," "," "," "," "," "," "," "," "," "," "," "," "," "," "," "," "," "," "," "," "," "," "," "," "," "," "," "," "," "," "," "," "," "," "," "," "," "," "," "," "," "," "," "," "," "," "," "," "," "," "," "," "," "," "," "," "," "," "," "," "," "," "," "," "," "," "," "," "," "," "," "," "," "," "," "," "," "," "," "," "," "," "," "," "," "," "," "," "," "," "," "," "," "," "," "," "," "," "," "," "," "," "," "," "," "," "," "," "," "," "," "," "," "," "," "," "," "," "," "," "," "," "," "," "," "," "," "," "," "," "," "," "," "," "," "," "," "," "," "," "," "," "," "," "," "," "," "," "," "," "," "," "," "," "," "," "," "," "," "," "," "]
[" "," "," "," "," "," "," "," "," "," "," "," "," "," "," "," "," "," "," "," "," "," "," "," "," "," "," "," "," "," "," "," "," "," "," "," "," "," "," "," "," "," "," "," "," "," "," "," "," "," "," "," "," "," "," "," "," "," "," "," "," "," "," "," "," "," "," "," "," "," "," "," "," "," "," "," "," "," "," "," "," "," "," "," "," "," "," "," "," "," "," "," "," "," "," "," "," "," "," "," "," "," "," "," "," "," "," "," "," "," "," "," "," "," "," "," "," "," "," "," "," "," "," "," "," "," "," "," "," "," "," "," "," "," "," "," "," "," "," "," "," "," "," "," "," "," "," "," "," "," "," "," "," "," "," "," "," "," "," "," "," "," "," "," "," "," "," "," "," "," "," "," "," "," "," "," "," "," "," "," "," "," "," "," "," "," "," "," "," "," "," "," "," "," "," "," "," "," "," "," "," "," "," "," "," "," "," "," "," "," "," "," "," "," "," "," "," "," "," "," "," "," "," "," "," "," "," "," "," "," "," "," "," "," "," "," "," "," "," "," "," "," "," "," "," "," "," "," "," "," "," "," "," "," "," "," "," "," "," "," "," "," "," "," "," "," "," "," "," "," "," "," "," "," "," "," "," "," "," "," "," "," "," "," "," "," "," "," "," "," "," "," "," "," "," "," "," "," "," "," "," "," "," "," "," "," "," "," "," "," "," "," "," "," "," "," "," "," "," "," "," "," "," "," "," "," "," "," "," "," "," "," "," "," "," "," "," "," "," "," "," "," "," "," "," "," "," "," "," "," "," "," "," "," "," "," "," "," "," "," "," "," "," "," "," "," "," "," "," "," "," "," "," "," "," "," "," "," "," "," "," "," "," "," "," "," "," "," "," "," "]
[" "," "," "," "," "," "," "," "," "," "," "," "," "," "," "," "," "," "," "," "," "," "," "," "," "," "," "," "," "," "," "," "," "," "," "," "," "," "," "," "," "," "," "," "," "," "," "," "," "," "," "," "," "," "," "," "," "," "," "," "," "," "," "," "," "," "," "," "," "," "," "," "," "," "," "," "," "," "," "," "," "," "," "," "," "," "," "," "," "," "," "," "," "," "," "," "," "," "," "," "," "," "," "," "," "," "," "," "," "," "," "," "," "," "," "," "," "," "," "," "," "," "," "," "," "," "," "," "," "," "," "," "," "," "," "," "," "," "," "," "," "," "," "," "," "," "," "," "," "," "," "," "," "," "," "," "," "," "," "," "," "," "," "," "," "," "," "," "," "," "," "," "," "," "," "," "," "," "," "," "," "," "," "," "," "," "," "," "," "," "," "," "," "," "," "," "," "," "," "," "," "," "," "," "," "," "," "," "," "," "," "," "," "," "," "," "," "," "," "," "," "," "," "," "," "," "," "," "," "," "," "," "," "," "," "," "," "," "," "," "," "," "," "," "," "," "," "," "," "," "," "," "," "," "," "," "," "," "," "," "," "," "," "," "," "," "," "," "," "," "," "," "," "," "," "," "," "," "," "," "," "," "," "," "," "," "," "," "," "," "," "," "," "," "," "," "," "," "," "," "," "," "," "," "," "," "," "," "," "," "," "," "," "," "," "," "," "," "," "," "," "," "," "," "," "," "," "," "," "," "," "," "," "," "," "," "," "," "," "," "," "," "," "," "," "," "," "," "," "," "," "," "," "," "," "," "," "," "," "," "," "," "," "," "," "," "," "," "," "," "," "," "," "," "," "," "," "," "," "," "," "," "," "," "," "," "," "," "," "," "]
[" "," "," "," "," "," "," "," "," "," "," "," "," "," "," "," "," "," "," "," "," "," "," "," "," "," "," "," "," "," "," "," "," "," "," "," "," "," "," "," "," "," "," "," "," "," "," "," "," "," "," "," "," "," "," "," "," "," "," "," "," "," "," "," "," "," "," "," "," "," "," "," "," "," "," "," "," "," "," "," "," "," "," "," "," "," "," "," "," "," "," "," "," "," "," "," "," "," "," "," "," "," "," "," "," "," "," "," "," "," "," "," "," "," "," "," "," "," "," "," "," "," "," "," "," "," "," "," "," "," "," "," "," "," "," "," "," "," "," "," "," "," "," "," "," "," "," "," "," "," "," "," "," "," "," "," "," "," "," "," "," "," "," "," "," "," "," "," "," "," "," "," "," "," "," "," "," "," "," "," "," "," "," "," "," "," "," "," "," "," "," "," "," "," "," "," "," "," "," "," "," "," "," "," "," "," "," "," "," "," "," "," "," "," "," "," "," "," "," "," "," "," "," "," "," "," "," "," "," "," "," "," "," "," "," "," "," "," "," "," "," "," "," "," "," "," "," "," "," "," "," "," "," "," "," "," "," "," "," "," "," "," "," "," "," "," "," "," "," "," "," "," "," "," "," "," "," "," "," "," "," "," "," "," "," "," "," "," "," "," "," "," "," "," "," "," "," "," "," "," "," "," "," "," "," "," "," "," "," "," "," "," "," "," "," "," "," "," "," "," "," "," "," "," "," "," "," "," "," "," "," "," "," "," "," "," "," "," "," "," "," "," "," "," "," "," "," "," "," "," "," "," "," "," "," "," "," "," "," "," "," "," "," "," "," "," "," "," "," "," "," "," "," "," "," "," "," "," "," "," "," "," "," "," "," "," "," "," "," "," "]
[" "," "," "," "," "," "," "," "," "," "," "," "," "," "," "," "," "," "," "," "," "," "," "," "," "," "," "," "," "," "," "," "," "," "," "," "," "," "," "," "," "," "," "," "," "," "," "," "," "," "," "," "," "," "," "," "," "," "," "," "," "," "," "," "," "," "," "," "," "," "," "," "," "," "," "," "," "," "," "," "," "," "," "," "," "," "," "," "," "," "," "," "," "," "," "," "," "," "," "," "," "," "," "," "," "," "," "," "," "," "," "," "," "," "," "," "," "," "," "," "," "," "," "," "," "," "," "," "," "," "," "," "," "," "," "," "," "," "," "," "," "," "," "," "," "," "," "," "," "," "," "," "," "," "," "," "," "," "," "," "," "," "," "," "," "," "," "," "," "," "," "," "," "," "," "," "," "," "," "," "," "," "," "," "," "," "," "," "," "," "," "," "," "," "," "," "," "," "," "," "," "," "," "," "," "," "," "," "," "," "," "," "," "," "," "," "," "," "," "," "," "," "," "," "," "," "," "," "," "," "," "," "," "," "," "," "," "," "," "," "," "," "," "," "," "," "," "," "," "," "," "," "," "," "," "," "," "," "," "," "," "," "," "," "," "," "," "," "," "," "," "," "," "," "," "," "," "," "," "," "," "," "," "," "," "," "," "," "," "," "," "," "," "," "," "," "," "," "," "," "," "," "," "," "," "," "," "," "," "," "," "," "," "," "," "," "," "," "," "," "," "," "," "," "," "," "," "," "," "," "," "," "," "," "," "," "," "," "," "," "," "," "," "," "," "," "," "," "," "," "," "," "," "," "," "," "," "," "," "," "," "," "," "," "," "," "," "," "," "," "," "," "," "," "," "," "," "," "," "," "," "," "," "," "," "," "," "," "," "," "]
[" "," "," "," "," "," "," "," "," "," "," "," "," "," "," "," "," "," "," "," "," "," "," "," "," "," "," "," "," "," "," "," "," "," "," "," "," "," "," "," "," "," "," "," "," "," "," "," "," "," "," "," "," "," "," "," "," "," "," "," "," "," "," "," "," "," "," "," "," "," "," "," "," "," "," "," "," "," "," "," "," "," "," "," "," "," "," "," "," "," "," "," "," "," "," "," "," "," "," "," "," "," "," "," "," "," "," "," "," "," "," "," "," "," "," "," "," "," "," "," "," "," "," "," "," "," "," "," "," "," "," "," "," "," "," "," "," "," "," "," "," "," "," "," "," "," "," "," "," "," "," "," "," "," "," "," "," "," "," "," "," "," "," "," "," "," "," "," "," "," "," "," "," "," "," "," "," "," "," "," "," "," "," "," "," "," "," "," "," "," "," "," "," "," "," "," "," "," "," "," "," "," "," "," "," "," "," "," "," "," "," "," "," "," "," "," "," "," "," "," "," "," "," "," "," "," "," "," "," "," "," "," "," "," "," "," "," "," "," "," "," "," "," "," "," "," "," "," "," "," "," "," "," "," "," "," "," "," "," "," "," "," "," "," "," "," "," "," "," "," "," "," "," "," "," "," "," "," "," "," "," "," "," "," "," "," "," "," "," "," "," "," "," "," "," "," "," "," "," "," "," "," "," "," "," "," "," "," "," "," "," "," "," "," "," "," "," "," "," "," "," "," "," "," "," "," "," "," "," "," "," "," "," "," "," "," "," "," "," "," "," "," "," "," "," "," "," "," "," "," "," "," "," "," "," "," "," "," "," "," "," "," "," "," "," "," "," "," "," "," "," "," "," "," "," "," "," "," "," "," "," "," "," "," "," "," "," "," "," "," "]
[" "," "," "," "," "," "," "," "," "," "," "," "," "," "," "," "," "," "," "," "," "," "," "," "," "," "," "," "," "," "," "," "," "," "," "," "," "," "," "," "," "," "," "," "," "," "," "," "," "," "," "," "," "," "," "," "," "," "," "," "," "," "," "," "," "," "," "," "," "," "," "," "," "," "," "," "," "," "," "," "," "," "," "," "," "," "," "," "," "," "," "," "," "," "," "," "," "," "," "," "," "," "," "," "," "," "," "," "," "," "," "," "," "," "," "," "," "," "," "," "," "," "," "," "," "," "," "," "," "," "," "," "," "," "," "," "," "," "," "," "," "," "," "," "," "," "," "," "," "," "," "," "," "," "," "," "," "," "," "," "," "," "," "," "," "," "," "," "," "," "," "," "," "," "," "," "," "," "," "," "," "," "," "," "," "," "," "," "," "," "," "," "," "," "," "," "," "," "," "," "," "," "," "," "," "," "," "," "," "," "," "," "," "," "," "," "," "," "," "," "," "," "," "," "," "," "," "," "," "," "," "," "," "," "," "," "," "," "," "," "," "," "," "," "," "," "," "," "," "," "," "," "," "," "," "," "," "," "," "," "," "," "," "," "," "," "," "," "," "," "," "," "," "," "," "," "," "," "," "," "," "," "," "," "," "," "," "," "," "," "," "," "," "," "," "," "," "," "," "," "," "," "," "," "," "," "," "," "," "," "," "," "," "," "," "," "," "," "," "," "," "," "," "," "," "," "," "," "," "," "," "," "," "," "," "," "," "," "," "," "," "," "," "," "," "," "," "," "," "," "," "," "," "," "," "," "," "," "," "," "," "," "," "," "," "," "," "," "," "," "," "," "," "," "," "," "," "," "," "," "," "," "," "," "," "," "," "," "," "," "]
[" "," "," "," "," "," "," "," "," "," "," "," "," "," "," "," "," "," "," "," "," "," "," "," "," "," "," "," "," "," "," "," "," "," "," "," "," "," "," "," "," "," "," "," "," "," "," "," "," "," "," "," "," "," "," "," "," "," "," "," "," "," "," "," "," "," "," "," "," "," "," "," "," "," "," "," "," "," "," "," "," "," "," "," "," "," "," "," "," "," "," "," "," "," "," "," "," "," "," "," "," "," "," "," "," "," "," "," "," "," "," "," "," "," "," "," "," "," "," "," "," "," "," "," "," "," "," "," "," "," "," "," "," "," "," "," "," "," "," "," "," "," "," "," "," "," "," "," "," "," "," "," "," "," "," "," "," "," "," "," "," "," "," "," "," "," "," "," "," "," "," "," "," "," "," "," "," "," "," "," "," "," "," "," "," "," "," "," "," "," "," "," "," "," "," "," "," "," "," "," "," "," "," "," "," "," "," "," "," "," "," "," "," "," "," "," "," "," "," "," "," "," "," "," "," "," "," "," "," "," "," "," "," "," "," "," "," "," "," "," "," "," "," "," "," "," "," "," "," "," "," "," "," "," "," "," "," "," "," "," "," "," "," "," "," "," "," "," "," "," "," "," "," "," "," "," "," "," "," "," "," "," "," "," "," "," "," "," "," "," "," "," "," "," "," "," "," "," "," "," "," "," "," "," "," "," "," "," "," "," "," "," "," "," "," "," "," "," "," "," "," "," "," "," "," "," "," "," "," "," "," "," "," "," "," "," "," "," "," "," "," "," "," "," "," "," "," "," "," "," "," "," "," "," "," "," "," "," "," "," "," "," "," "," "," "," "," "," "," "," "," "," "," "," "," "," "," "," "," "," "," "," "," "," "," "," "," "," "," "," "]
[" "," "," "," "," "," "," "," "," "," "," "," "," "," "," "," "," "," "," "," "," "," "," "," "," "," "," "," "," "," "," "," "," "," "," "," "," "," "," "," "," "," "," "," "," "," "," "," "," "," "," "," "," "," "," "," "," "," "," "," "," "," "," "," "," "," "," "," "," "," "," "," "," "," "," "," "," "," "," "," "," "," "," "," "," "," "," "," "," "," "," "," "," "," "," "," "," "," "," "," "," "," "," "," "," "," "," "," "," "," "," "," "," "," "," "," "," "," "," "," "," "," "," "," "," "," "," "," "," "," "," "," "," "," "," "," "," "," "," "," "," "," "," "," "," "," "," "," "," "," "," "," "," "," "," "," "," "," "," "," "," "," "," "," "," "," "," "," "," "," "," "," "," "," "," "," "," "," "," "," "," "," "," "," "," "," "," "," "," "," "," "," "," "," "," "," "," "," "," "," "," "," "," "," "," "," "," "," "," "," "," "," "," "," "," "," "," "," "," "," "," "," "," "," "," "," "," "," "," "," "," "," "," "," "," "," "," "," "," "," "," "," "," "," "," "," "," "," "," "," "," "," "," "," "," "," "," "," "," "," "," "," "," "," "," "," "," "," "," "," "," "," "," "," "," "," "," "," "," "," "," "," "," "," "," "," "," "," "," "," "," "," "," "," "," "," "," "," "," "," "," "," "," "," "," "," "," "," "," "," "," "," "," "," "," "," "," "," "," "," "," "," "," "," "," "," "," "," "," "," "," "," "," "," "," "," "," "," "," "," "," "," "," "," "," "," "," "," "," "," "," "," "," "," "," "," "," "," "," "," "," "," "," "," "," "," "," "," "," "," "," "," "," "," "," "," "," "," "," "," "," "," "," "," "," "," "," "," "," "," "]
[" "," "," "," "," "," "," "," "," "," "," "," "," "," "," "," "," "," "," "," "," "," "," "," "," "," "," "," "," "," "," "," "," "," "," "," "," "," "," "," "," "," "," "," "," "," "," "," "," "," "," "," "," "," "," "," "," "," "," "," "," "," "," "," "," "," "," "," "," "," "," "," "," "," "," "," "," "," "," "," "," "," "," "," "," "," "," "," "," "," "," "," "," "," "," "," "," "," "," "," "," "," "," "," "," "," "," "," "," "," "," "," "," "," "," "," "," "," "," "," "," "," "," "," "," "," "," "," "," "," "," "," "," "," "," "," "," "," "," "," "," "," "," "," "," "," "," "," "," "," "," "," "," "," "," "," "," "," "," "," "," "," "," "," "," "," "," "," "," "," "," "," "," "," "," "," "," "," "," "," "," "," "," "," "," "," "," "," "," "," "," "," "," "," "," "," "," "," "," "," "," "," "," "," "," "," "," "," "," "," "," "," "," "," "," "," "," "," "," "," "," "," "," "," "," "," "," "," "," "," "," "," "," "," "," "," "," "," "," "," "," "," "," "," "," "," "," "," "," "," "," "," "," "," "," "," "," "," "," "," "," "," "," "," "," "," "," "," "," "," "," "," "," "," "," "," "," "," "," "," "," "," "," "," "," "," "," "," "," "," "," "," "," "," "," "," "," "," "," "," "," "," "," "," "," "," "," "," "," "," "," "," "," "," "," "," "," "," "," "," "," "," "," "," "," "," "," "," "," "," "," "," "," "," "," "," "," "," "," "," "," "," "," "," "," "," "," "," "," "," "," "," "," "," "," "," "," "," "," "," "," "," "," "," "," "," "," "," "," "," "," "," "," "," "," "," "," "," "," "," "," "," "," "," "," "," "," "," "," "," "]
[" "," "," "," "," "," "," "," "," "," "," "," "," "," "," "," "," "," "," "," "," "," "," "," "," "," "," "," "," "," "," "," "," "," "," "," "," "," "," "," "," "," "," "," "," "," "," "," "," "," "," "," "," "," "," "," "," "," "," "," "," "," "," "," "," "," "," "," "," "," "," "," "," "," "," "," "," "," "," "," "," "," "," "," "," "," "," "," "," "," "," "," "," "," "," "," "," "," "," "," "," "," "," "," "," "," "," "," "," "," "," "," "," "," "," "," "," "," "," "," "," "," "," "," "," "," "," "," "," "," "," "," "," "," "," "," "," "," "," "," "," "," "," "," "," "," "," "," "," "," "," "," "," "," "," "," "," "," "," "," "," "," "," "," "," "," "," "," "," "," "," "," "," "," "," "," "," "," "," "," "," "," "," "," "," "," "," "," "," "," "," "," "," "," "," "," "," "," "," "," "," "," "," "," "," "," "," "," "," "," "," "," "," "," "," "," "," "," "," "," "," "," "," "," "," "," "," "," "," "," "," "," "," "," "," "," "," "," "," "," "," "," "," "," "," "," "," "," "," "," "," "," "," "," "," "," "," "," "," "," "," "," "," "," "," "," "," "," "," "," "," "," "," "," "," "," "," "," "," "," "," "," "," "," "," "," "," "," "," "," "," "," "," "," "," "," "," "," "," "," "," "," "," "," "," "," "," "," "," "," "," "," "," "," "," "," "," "," "," "," "," "," "," "," "," "," "," "," "," "," "," "," "," "," "," "," "," "," "," "," "," "," "," "," "," "," "," "," "," "," "," "," "," "," "," "," "," "," "," "," "," "," "," "," "," "," "," "," "," "," "," "," "," "," "," "," "," "," "," "," "," "," "," "," "," "," "," "," "," "," "]
[" "," "," "," "," "," "," "," "," "," "," "," "," "," "," "," "," "," "," "," "," "," "," "," "," "," "," "," "," "," "," "," "," "," "," "," "," "," "," "," "," "," "," "," "," "," "," "," "," "," "," "," "," "," "," "," "," "," "," "," "," "," "," "," "," "," "," "," "," "," "," "," "," "," "," "," "," "," "," "," "," "," "," "," "," "," "," "," "," "," "," "," "," "," "," "," "," "," "," "," "," "," "," "," "," "," "," "," "," "," "," "," "," "," "," "," "," "," "," "," "," "," "," "," "," "," "," "," "," "," "," "," "," "," "," "," "," "," "," "," "," "," "," "," "," "," "," "," "," "," "," "," "," "," "," "," "," "," "," "," "," "," "," "," "," "," "," "," "," "," "," "," "," "," "," "," "," "," "," "," "," "," "," "," "," "," "," "," "," "," "," "," "," "," "," "," "," "," "," "," "," "," "," "," "," "," "," "," "," "," "," "," "," "," "," "," "," "," "," "," "," "," "," "," "," "," "," "," "," "," "," "," "," "," "," "," "," "," "," "," "," "," "," "," "," "," "," "," "," "," "," "," "," "," "," "," "," "," "," "," "," "," "," "," "," "," "," "," "," "," "," "," "," "," "," "," "," "," "," "," "," "," "," "," "," "," "," "," "," "," "," "," "," "," "," "," "," "," "," "," "," "," "," "," "," "," "," "," "," "," "," "," "," "," "," "," "," "," "," "," "," "," "," "," "," "," "," "," "," "," "," "," "," "," "," "," "," "," "," "," "," "," "," "," "," "," "," "," "," "," "," "," "," "," "," "," "," "," "," "," "," "," "," "," "," "," "," "," "," "," "," "," "," "," "," "," "," "," "," "," "," "," "," "," "," "," "," "," "," "," "]
[" "," "," "," "," "," "," "," "," "," "," "," "," "," "," "," "," "," "," "," "," "," "," "," "," "," "," "," "," "," "," "," "," "," "," "," "," "," "," "," "," "," "," "," "," "," "," "," "," "," "," "," "," "," "," "," "," "," "," "," "," "," "," "," "," "," "," "," "," "," "," "," "," "," "," "," "," "," "," "," "," "," "," "," "," "," "," "," "," "," "," "," "," "," "," "," "," "," "," "," "," "," "," "," "," "," "," "," "," "," "," "," "," "," "," "," "," "," "," "," "," "," "," "," "," "," "," "," "," "," "," "," "," "," "," "," "," "," "," "," "," "," "," "," "," "," "," "," "," "," "," "," "," "," "," "," "," "," "," "," "," "," "," "," "," "," "," "," "," "," "," "," "," "," "," "," "," "," "," "," "," "," "," "," "," "," "," "," "," "," "," "," "," "," "," "," "," "," "," "," "," "," "," "," "," "," "," "," "," "," "," "," "," "," "," "," "," "," "," "," "," "," "," "," "," "," "," "," "," "," "," "," "," "," "," "," "," "," "," "," "," "," "," "," "," "," "," "," "," "," "," "," "," "," "," "," "," "," "," "," "," "," "," "," "," "," "," "," "," "," "," "," "," "," "," "," "," "," "," "," "," "," "," "," "," "," "," "," "," "," "," "," "," "," "," "," "," "," "," "," "," "," "," "," "," "," "," "," "," "," "," "," "," "," "," "," "," "," "," "," "," "," "," "," "," "," "," "," "," "," "," "," "," "," "," "," "," "," "," "," "," "," "," "," "," "," "," "," "," "," "," "," "," "," "," "," "," "," "," "," "," "," "," "," "," "," "," "," "," "," "," "," "," "," "," "," "," "," "," "," "," "," "," "," "," "," "," "," "," "," "]
[" "," "," "," "," "," "," "," "," "," "," "," "," "," "," "," "," "," "," "," "," "," "," "," "," "," "," "," "," "," "," "," "," "," "," "," "," "," "," "," "," "," "," "," "," "," "," "," "," "," "," "," "," "," "," "," "," "," "," "," "," "," "," "," "," "," "," "," "," "," "," "," "," "," "," "," "," "," "," "," "," "," "," "," "," "," "," "," "," "," "," "," "," "," "," "," "," "," "," "," "," "," "," "," "," "," "," "," "," "," "," "," "," "," "," "," "," "," "," "," "," "," "," "," "," "," "," "," "," "," "," "," "," "," "," "," "," "," "," "," "," "," "," "," "," "," "," "," "," "," "," "," "," "," "," "," "," "," "," "," "," "," "," "," "," "," "," "," "," "," "," "," "," "," "," "," "," "," "," "," "," "," "," "," "," "," "," "," "," "," "," "," "," "," "," "," "," "," "," "," "," "," "," "," "," "," "," "," "," "," "," "," "," "," "," "," "," "," "," "," "," "," "," "," "," "," "," "," "," "," "," "," "," "," "," "," "," "," "," "," "," "," "," "," "," "," "," "," "," "," "," "," "," "," "," "," "," "," "," "," "," "," "," "," "," "," "," "," "," "," "," "," "," "," "," "," "," "," "," "," "," "," "," "," "," "," "," "," "," "," "," "," "," "," "," "," "," "," "," "," "," "," "," "," "," "," "," "," "," "," "," "," "," "," "," "," "," "," "," "," "," "," "," "," "," "," "," "," "," "," "," "," "," "," "," "," "," "," "," "," "," "," "," "," "," "," "," "," "," "," "," "," "," "," "," "," "," "," "," "," "," "," "," "," "," "," "," "," "," "," "," "," "," "," "," "," "," "," "," "," "," "," "," "," "," "," "," "," "," "," "]
[" "," "," "," "," "," "," "," "," "," "," "," "," "," "," "," "," "," "," "," "," "," "," "," "," "," "," "," "," "," "," "," "," "," "," "," "," "," "," "," "," "," "," "," "," "," "," "," "," "," "," "," "," "," "," "," "," "," "," "," "," "," "," "," "," "," "," "," "," "," "," "," "," "," "," "," "," "," "," "," "," "," "," "," "," "," "," "," "," "," "," "," "," "," "," "," "," "," "," "," "," "," "," "," "," "," "," "," "," "," "," "," "," "," "," "," "," "," "," "," "," "," "," "," "," "," "," "," "," "," "," "," "," "," "," "," "," "," "," "," "," "," "," "," "," "," "," "," "," "," "," "," "," "," "," "," "," "," "," "," "," "," "," "," "," "," "," "," "," "," "," "," "," "," "," "," "," "," "," "," "," "," "," "," "," "," "," "," "," "," "," "," "," "," "," "," "," "," "," "," "," "," "," "," "," "," "," "," "," "," "," "," "," "," "," "," "," "," "," "," "," "," "," "," "," "," "," "," "," "," "," "," "," "," "," "," "," "," "," "," "," "," "," "," "," "," "," "," "," "," "," "," "," "," "," "," "," "," "," "," "," "," "," "," "," "," "," "," "," "," "," "," "," "," "," "," "," "," "," "," "," "," "," "," "," "," "," "," "," "," "," "," "," "," "," "," "," "," "," "," "," "," "," "," "," "," "," "," "," "," "," "," "," "," "," "," "," "," "," "," "," "," "," "," "," "," "," "," "," "," "," "," "," "," "," "," "," "," "," "," "," "," "," "," "," "," "," "," "," "," "," "," "," "," "," "," "," "," "," "," "," "," "," "," "," "," "," "," "," "," "," "," "," "," "," "," "," "," "," "," "," "," "," "," "," "," "," "," "," "," "]
[" "," "," "," "," "," "," "," "," "," "," "," "," "," "," "," "," "," "," "," "," "," "," "," "," "," "," "," "," "," "," "," "," "," "," "," "," "," "," "," "," "," "," "," "," "," "," "," "," "," "," "," "," "," "," "," "," "," "," "," "," "," "," "," "," "," "," "," "," "," "," "," "," "," "," "," "," "," "," "," "," "," "," "," "," "," "," "," "," "," "," "," "," "," "," "," "," "," "," "," "," "," "," "," "," "," "," "," "," "," "," "," "," "," "," "," "," "," "," "," "," "," "," "," "," "," "," "," "," "," "," "," "," "," "," "," "," "," "," "," "," "," "," "," "," "," "," "," "," "," "," "," "," "," "," "," "," "," "," "," "," "," "," "," "," "," "," "," "," "," "," "," "," "," "," "," "," "," "," "," "," "," "," "," "," "," "," "," "," "," "," "," "," "," "," "," "," "," "," "," "," "," "," "," "," "," "," "," "," "," "," "," "," "," "," "," "," "," "," "," "," "," "," "," "," "," "," "," "," "," "," "," "," "," "," "," "," "," "," "," "," "," "," "," "," "," "," "," "," "," "," "," "," "," "," "," "," "," "," "," "," "," "," "," "," "," "," "," "," "," "," "," "," "," "," "," "," "," "," "," "," "," "," "," "," "," "," "," "," "," "," "," "," "," "," "," "," "," "," "," "," "," "," "," "," "," "," "," "," "," "," "," "," "," "," "," "," "," "," "," "," "," "," "," "," "," "," "," "," "," "," "," "," "," "," "," "," "," "," "," "," "," "," "," "," "," "," "," "," "," "," "," "," "," "," "," "," "," "," "," "," "," "," "," "," "," "," "," "," "," "," "," "," "," "," "," "," "," "," "," "," "," "," "," "," "," "," "," "," "," "]
[" "," "," "," "," "," "," "," "," "," "," "," "," "," "," "," "," "," "," "," "," "," "," "," "," "," "," "," "," "," "," "," "," "," "," "," "," "," "," "," "," "," "," "," "," "," "," "," "," "," "," "," "," "," "," "," "," "," "," "," "," "," "," "," "," "," "," "," "," "," "," "," "," "," "," "," "," "," "," "," "," "," "," "," "," "," "," "," "," "," "," "," "," "," "," "," "," "," "," "," "," "," "," "," "," "," "," "," "," "," "," "," "," "," "," "," "," "," "," "," "," "," "," "," "," "," "," "," "," "," "," "," "," "," "," "," "," "," "," "," "," "," "," "," "," "," "," "," "," "," "," "," "," "," "," "," "," "," "," "," "," "," "," "," "," "," "," "," "," "," "," "," "," "," "," "," "," "," "," "," "," "," "," "," "," "," "," "," "," "," "," "," "," "," "," "," "," "," "," "," "," "," "," "," "," "," "," "," "," "," "," "," "," "," "," "," "," "," "," "," "," "," "," "," "," "," "," "," "," "," "," "," "," "," "," "," "," "," "," "," "," "," "," "," "," "," "," "," "," "," "," "," "," "," "," "," "," "," "," "," "," "," "," "," "," "," "," "," "," "," "," "," "," "," "," "," "," "," "," "," "," "," "," "," "," "," "," "," "," "," "," "," "," "," "," "," "," "," "," "," "," "," "," "," "," "," "," "," "," "," "," "," "," "," "," "," "," "," "," "," "," "," "," "," "," "," "," "," "," "," "," "," "," "," "," "," "," "," "," "," "," "," "," "," "," "," "," "," "," "," "," "," "," "," "," "," "," "," "," "," "," "," "," "," "," "," "," "," "," "," "," "," "," "," "," "," "," "," "," "," "," "," "," "," "," "," "," "," "," "," "]
[" "," "," "," "," "," "," "," "," "," "," "," "," "," "," "," "," "," "," "," "," "," "," "," "," "," "," "," "," "," "," "," "," "," "," "," "," "," "," "," "," "," "," "," "," "," "," "," "," "," "," "," "," "," "," "," "," "," "," "," "," "," "," "," "," "," "," "," "," "," "," "," "," "," "," "," "," "," "," "," "," "," "," "," "," "," "," "," "," "," "," "," "," "," "," "," "," "," "," "," "," "," "," "," "," "," "," "," "," "," "," "," "," "," "," "," "," "," "," "," "," "," "," "," "," "," "," "," "," "," "," "," "," "," "," "," "," "," "," "," "," "," "," "," "," "," "," "," "," "," "," "," "," "," "," "," "," "," "," "," "," "," "," "," "," "," "," "," "," "," "," "," "," "," "," "," "," "," "," "," "," "," "," "," "," "," "," "," "," "," "," "," "," "," "," "," "," "," "," "," "," "," "," "," "," "," "," "," "," "," "," "," "," "," "," "," "," "," "," "," "," "," "," "," "," "," "," "," "," "," "," "," "," "," "," "," "," "," "," "," "," "," "," "," "," "," "," "," "," "," "," "," "," "," "," "," "," "," "," "," "," "," "," "," "," "," "," "," "," "," "," "," "," "," "," "," "," "," "," "," "," "," "," "," "," "," "," "," "," "," "," "," "," "," "," "," "," "," "," "," "," "," "," "," "," "," "," "," "," "," "," "," "," "," "," "," "," "," "," "," "," "," "," "," "," "," "," "," "," "," "," "," "," "," "," "," "," "," "," "," "," "," "," "," "," "," "," "," "," "," "," "," "," "," "," "," "," "," "," "," "," "," "," "," "," "," "," "," "," "," "," "," "," "," "," "," "," "," "," "," "," "," "," "," "," "," "," "," "," "," "]
[" "," "," "," "," "," "," "," "," "," "," "," "," "," "," "," "," "," "," "," "," "," "," "," "," "," "," "," "," "," "," "," "," "," "," "," "," "," "," "," "," "," "," "," "," "," "," "," "," "," "," "," "," "," "," "," "," "," "," "," "," "," "," "," "," "," "," "," "," "," "," "," "," "," "," "," "," "," "," "," "," "," "," "," "," "," "," "," "," "," "," "," "," "," "," "," "," "," "," "," "," "," "," "," "," "," "," "," "," "," "," "," "," "," "," "," "," "," "," "," "," "," "," "," "," "," "," "," "," "," "," "," "," "," "," "," "," "," "," "," "," "," "," "," "," "," "," "," "," "," "," "," "," "," "," "," "," "," "," "," "," "," "," "," "," "," "," "," "," "," "," "," "," "," "," "," "," "," "," "," "," "," "," "," "," "," "," "," "," "," "," "," "," "," "," "," "," "," "," "," "," "," "," "," "," "," "," "," "," "," "," "," "," "," "," "," "," "," "," "," "," "," "," "," "," "," "," "," "," "," "," "," "," "," "," "," "," "," "," "," "," "," "," "," "," "," "," "," "," "," "," "," "," "," "," "," "," "," "," "," "," "," "," "," "," "," "," "," "," "," "," "," "," "," "," "," "," "," "," "," "," "," "," "," "," "," "," "," "," "," "," "," "," "," "," "," "," "," "," "," "," "," "," "," "," "," "," "," "," "," "," "," "," "," "," "," "," "," "," "," "," "," "," "," "," "," "," "," "," "," "," "," "," "," "," "," "," "," "," "," "," "," "," "," "," "," "," "," "," "," "," "," "," "," "," "," "," "," "," "," "," "," "," "," "," "," "," "," "," "," "," "," "," "," "," "," "," "," "," "," "," "," "," "," "," "," "," "," "," "," "]
[" "," "," "," "," "," "," "," "," "," "," "," "," "," "," "," "," "," "," "," "," "," "," "," "," "," "," "," "," "," "," "," "," "," "," "," "," "," "," "," "," "," "," "," "," "," "," "," "," "," "," "," "," "," "," "," "," "," "," "," "," "," "," "," "," "," "," "," "," "," "," "," "," "," "," "," "," "," "," "," "," "," "," "," "," "," "," "," "," "," "," "," "," "," "," "," "," "," "," "," "," "," "," "," "," "," "," "," "," "," "," "," "," "," "," "," "," "," "," "," "," "," "," "," "," "," "," "," "," "," "," "," "," "," "," "," "," "," "," "," "," "," "," "," "," "," "," "," "," "," "," "," "," "," "," "," "," "," "," "," "," "," "," "," "," "," "," "," "," "," "," "," "," "," "," "," "," "," "," "," "," "," "," "," "," "," "," "," "," "," "," "," "," "," "," "," "," "," "," "," "," "," "," "," "," "," "," "," "," "," "," "," "," "," "," "," "," "," "," "," "," "," "," "," "," "," "," "," "," "," "," "," "," "," "," "," "," "," "," "," "," "," "," "," "," "," "," "," "," "," "," "," "," "," "," "," "," "," "," "," "," "," "," "," "," "," "," "," "," "," "," "," "," "," "," "," "," "," "," "," "," "," "," "," "," "," "," "," "," "," "," "," "," "," "," "," "," "," "," "," "," "," "," "," "," "," "," "," "," "," "," "," "," "," "," "," "," "," "," "," "," "," "," "," "," "," "," "," "," "," "," "," "," "," "," "," "," "," "," "," "," "," "," "," "," "," "," "," "," "," "," "," "," "," "," "," "," "," "," "," "," "," "," "," "," "," "," "," "," "," "," "," "," "," "," "," "," "," "," "," "," "," "," "," "," "," "," "," "," "," "]
[" "," "," "," "," "," "," "," "," "," "," "," "," "," "," "," "," "," "," "," "," "," "," "," "," "," "," "," "," "," "," "," "," "," "," "," "," "," "," "," "," "," "," "," "," "," "," "," "," "," "," "," "," "," "," "," "," "," "," "," "," "," "," "," "," "," "," "," "," "," "," "," "," "," "," "," "," "," "," "," "," "," "," "," "," "," "," "," "," "," "," "," "," "," "," "," "," "," "," "," "," "," "," "," "," "," "," "," "," "," "," "," "," "," "," "," "," "," "," "," "," "," "," "," "," "," "," "," "," "," "," "," "," "," "," "," "," "," "," "," "," "," "," "," "," "," "," "," "," "," "," "," "," "," "," "," "," "," "," "," "," "," "," "," "," "," "," "," "," "," "," "," "," "," "," "," "," "," "," "," "," "," "," "," "," "," "," "," "," "," "," "," "," "," "," "," "," "," "," "," "," "," "," "," "," "," "," "," "," "," "," "," "," "," "," "," "," "," "," "," "," "," "," "," "," "," "," "," "," "," "," "," "," "," "," "," "," "," "," "," "," "," "," "," "," "," "," "," "," "," "," "," "," "," "," "," "," "," "," "," "," "," "," "," "," "," "," "," "," "," "," "," "," "," "," "," "," "," "," "," "," "," "," "," "," "," "," "," "," "," "," "," "," "," "," "," "," "," "," "," "," "," "," "," "," "," "," "," "," "," "," "," "," "," "," "," "," "," "," "," "," "," "," "," "," "," "," "," "," "," "," "," "," "," "," "," "," "," "," "," "," "," "," "," "," "," "," "," "," "," "," "," "," "," "," "," "," "," "," "," "," "," "," "," "," "," "," "," "," "," "," "," "," "," "," "," "," "," "," "," "," "," "," "," "," "," "," "," "," "," "]
[" "," "," "," "," "," "," "," "," "," "," "," "," "," "," "," "," "," "," "," "," "," "," "," "," "," "," "," "," "," "," "," "," "," "," "," "," "," "," "," "," "," "," "," "," "," "," "," "," "," "," "," "," "," "," "," "," "," "," "," "," "," "," "," "," "," "," "," "," "," "," "," "," "," "," "," "," "," "," "," "," "," "," "," "," "," "," "," "," "," "," "," "," "," "," "," "," "," "," "," "," "," "," "," "," "," "," "," "," "," "," "," "," "," "," "," "," "," "," "," "," "," "," "," "," "," "," "," "," "," "," "," "," "," "," "," "," "," "," "," "," "," "," "," "," "," "," "," "," "," "," "," "," "," "," "," "," "," "," "," "," "," "," "," "," "," "," "," "," "," "," "," "," "," "," "," "," "," "," "," "," "," "," "," "," "," "," "," "," "," "," "," "," "," "," "," "," "," "," "," "," "," "," "," "," "," "," "," "," "," "," "," "," "," "," "," "," "," "," "," "," "," "," "," "," "," "," "," "," "," "," "," "," "," "," "," "," "," "," "," "," "," "," "," "," "," "," "," "," "," "," "," "," "," "," "," "," "," "," "," "," "," "," "," "," "," "," "," "," "," "," "," "," "," "," "," "," "," "," "," "," "," "," "," "," "," "," "," "," "," "," "," "," "," "," "," "," "," "," "," "," "," "," "," "," "," "," "," "," "," "," "," "," "," "," "," "," "," "," "," "," "," "," "," "," "," "," "," "," "," "," "," "," "," "," "," "," "," "," "," "," "," "," "," "," "," "," "," "," "," "," "," "," "," "," "," "," "," "," "," "," "," "," "," "," "," "," "," "," "," "," "," "," "," "," "," "," "," "," "," "," "," "," "," "," "," "," "," "," "," "]
[" "," "," "," "," "," "," "," "," "," "," "," "," "," "," "," "," "," "," "," "," "," "," "," "," "," "," "," "," "," "," "," "," "," "," "," "," "," "," "," "," "," "," "," "," "," "," "," "," "," "," "," "," "," "," "," "," "," "," "," "," "," "," "," "," "," "," "," "," "," "," "," "," "," "," "," "," "," "," "," "," "," "," "," "," "," "," "," "," "," "," "," "," "," "," "," "," "," "," "," "," "," "," "," "," "," "," "," "," "," "," "," "," "," "," "," "," "," "," "," "," "," "," "," "," "," "," "," "," "," "," "," "," "," "," "," "," "," "," "," "," "," "," "," "," "," "," "," "," "," "," "," "," "," "," "," "," "," "," "," "," "," "," "," "," "," "," "," "," "," "," "," "," "," "," "," "," "," "," "," "," "," "," "," "," "," "," "," "," "," "," "," "," "," "," "," "," "," "," "," "," "," "," "," "," "," "," "," "," "," "," "," "," "," "," "," "," "," "," "," "," "," "," "," "," "," "," "," "," "," "," "," "," "," "," "," "," "," "," "," "," "," "," "," "," "," "," "," "," "," "," "," "," "," "," "," "," "," "," "," "," "," "," "," "," "," "," "," "," "," "," "," "," "," "," "," "," "," "," "," "," "," "," "," "," "," "," "," "," "," "," "," "," "," "," "," "," "," "," "," "," "," "," "," "," "," "," "," "," "," "," "," "," "," "," "," "," "," "," "," "," "," "," "," "," "," "," "," "," "," "," "," "," "," "," "," "," "," "," "," "," "," "," "," "," "," "," "," "," "," "," "," "," "," "," "," "," "," "," "," "," "," "," "," "," "," "," "," "," "," "," "," "," "," "," "," "," "," "," "," "," "," "," "," "," "," "," "," "," "," "]
[" "," "," "," "," "," "," "," "," "," "," "," "," "," "," "," "," "," "," "," "," "," "," "," "," "," "," "," "," "," "," "," "," "," "," "," "," "," "," "," "," "," "," "," "," "," "," "," "," "," "," "," "," "," "," "," "," "," "," "," "," "," "," "," "," "," "," "," "," "," "," "," "," "," "," "," "," "," "," "," "," "," "," "," "," "," "," "," "," "," "," "," "," "," "," "," "," "," "," "," "," "," "," "," "," "," "," "," "," "," "," "," "," "," "," "," "," "," "," "," "," "," "," "," "," "," "," "," "," "," "," "," "," "," "," "," "," "," "," "," "," "," "," "," "," "," "," "," "," "," "," "," "," "," "," "," "," "," "," "," "," "," "," "," "," "," "," "," "," "," "," "," "," "," "," "," "," "," "," "," "," "," "," "," "," "," "," "," "," "," "," "," "," "," "," "," "," "," "," "," "," "," "," "," "," "," "," "," "," "," "," "," "," "," "," "," "," "," "," "," "," "," "," "," "," "," "," "," "," "," "," "," "," "," "," "," "," "," "," "," "," "," "," "," "," "," "," "," "," "," "," "," "," "," "," "," "," "," "," "," "," "," "," "," "," "," "," "," "," "," "," "," "," "," "," "," "," "," "," "," "," "," "," "," "," "," "," "," "," "," "," "," "," "," "," "," "," "," "," "," "," "," "," "," "," "," "," "," "," "," "," "," "," "," "," "," "," "," "," "," "," "," "," "," "," "," "," "," "," "," "," "," "," "," "," "," "," "," "," "," "," "," "," "," "," "," "," "," "," "," "," "," "," "," "," "," "," "," "," "," "," "," "," "," "," "," "," "," "," "," "," "," "," "," "," "," "," "," "," "," "," "," "," "," "," "," "," "," "," "," "]
[" "," "," "," "," "," "," "," "," "," "," "," "," "," "," "," "," "," "," "," "," "," "," "," "," "," "," "," "," "," "," "," "," "," "," "," "," "," "," "," "," "," "," "," "," "," "," "," "," "," "," "," "," "," "," "," "," "," "," "," "," "," "," "," "," "," "," "," "," "," "," "," "," "," "," "," "," "," "," "," "," "," "," "," "," "," "," "," "," "," "," "," "," "," "," "," "," "," "," "," "," "," "," "," "," "," "," "," "," "," "," "," "," "," "," "," "," "," "," "," "," "," "," "," "," "," "," "," "," "," "," "," "," "," "," "," "," "," "," "," "," "," "," "," "," "," "," "," "," "," "," "," "," "," "," "," "," "," "," "," "," "," "," "," "," "," "," "," "," "," "," "," "," "," "," "," "," "," "," "," "," "," "," "," "," "," "," "," "," "," "," "," "," "," "," "," "," "," "," "," "," "," "," "," "," "," "," "," "," "," "," "," "," "," "," "," "," "," "," "," "," "," "," "," "," "," "," "," "," "," "," "," "," "," "," "," "," "," "," "," "," "," "," "," "," "," "," "," "," "," "," "," "," "," "," "," "," "," "," "," "," "," "," "," "," "," "," "," "," "," "," "," "," "," "," "," "," "," "," "," "," "," "," "," "," "," "," "," "," "," "," "," "," "," "," "," "," "," "," "," "," "," "," "," "," "," "," "," "," "," "," "," "," "," "," "," "," "," "," "," "," "," "," "," "," "," "," "," "," "," "," "," "," "," "," "," "," "," "," "," "," "," "," "," "," "," "," "," "," "," "," "," "," "," "," "," "," "," "," "," "," "," "," "," "," "," "," "," "," "," "," "," "," "," "," "," "," "," "," "," "," "," "," "," "," "," "," "," "," "," "]
[" "," "," "," "," "," "," "," "," "," "," "," "," "," "," "," "," "," "," "," "," "," "," "," "," "," "," "," "," "," "," "," "," "," "," "," "," "," "," "," "," "," "," "," "," "," "," "," "," "," "," "," "," "," "," "," "," "," "," "," "," "," "," "," "," "," "," "," "," "," "," "," "," "," "," "," "," "," "," "," "," "," "," "," "," "," "," "," "," "," "," "," "," "," "," "," "," "," "," "," "," "," "," "," "," "," "," "," "," "," "," "," "," "," "," "," "," "," "," "," "," "," "," "," "," "," "," "," "," "," "," "," "," "," "," "," "," "," "," "," "," "," "," "," "," "," "," "," "," "," "," "," "," "," "," "," "," "," "," "," "," "," "," "," "," "," "," "," "," "," "," "," "," "," "," "," "," "," "," "," "," "," "," "," "," "," "," "," "," "," "," "," "," "," "," "," "," "," "," "," "," "," "," "," "," "," "," "," "," "," "," "," "," "," "," "," "," "," "," "," "," "," "," "," "," "," "," "," "," "," "," "," "," "," "," "," "," "," "," "," "," "," "," "," "," "," "," "," "," "," "," "," "," "," "," "," "," "," "," "," "," "," "," "," "," "," "," "," "," "," "," "," "," "," "," "," "," "," "," "," "," "," "," "," "," "," "," "," "," "," "," "," "," "," "," "," "," "," "," "," "," "," "," "," "," "," "," "," "," "," "," "," "," "," "," "," "," "," "," "," "," "," "," "," "," "," "," "," "," "," "," "," "," "," "," "," "," "," "," "," "," "," "," "," "," "," "," "," "," "," "," "," "," "," "," "," "," "," "," "," "," "," "," "," "," "," "," "," "," "," "," "," "," "," "," "," "," "," "," "," "," "," "," "," "," "," "," "," "," "," "]
[" "," "," "," "," "," "," "," "," "," "," "," "," "," "," "," "," "," "," "," "," "," "," "," "," "," "," "," "," "," "," "," "," "," "," "," "," "," "," "," "," "," "," "," "," "," "," "," "," "," "," "," "," "," "," "," "," "," "," "," "," "," "," "," "," "," "," "," "," "," "," "," "," "," "," "," "," "," "," "," "," "," "," "," "," "," "," "," "," "," "," "," "," "," "," "," "," "," "," "," "," "," "," "," "," "," "," "," "," "," "," "," "," "," "," "," "," "," "," "," "," "," "," "," "," "," "," "," "," "," "," "," "," "," "," "," "," "," "," "," "," "," "," "," "," "," "," "," "," "," "," "," "," "," "," "," "," "," "," "," "," "," "," "," "," "," "," "," "," "," "," "," "," "," "," "," "," "," "," "," "," "," "," "," "," "," "," "," "," "," "," "," "," "," "," "," "," "," "," "," "," "," "," "," "," "," "," "," "," "," "," "," "," "," "," "," "," "," "," "," "," "," "," "," "," "," "," "," "," "," "," "," "," "," "," "," "," "," "," "," "," "," "," "," "," "," "," "," "," "," "," "," "," "," "," "," "," "," "," "," "," "," "," "," "," "," "," "," "," "," "," "," "," "," "," "," "," "," "," "," "," "," "," "," "," "," "," "," "," "," "," "," "," "," "," "," "," "," "," "," "," "," "," "," "," "," "," "," "," "," "," "," "," "," "," "," "," "," "," "," "," "," "," "," "," "," "," "," "," "," "," "," "," "," "," "," "," "," "," "," "," "," "," "," "," "," "," "," "," "," "," "," "," "," "," "," "," "," "," "," "," "," "," "," "," "," "," "," "," "," "," "," "," "," "," "," "," "," "," "," "," "," "," "," "," "," "," "," "," "," "]
[" "," "," "," "," "," "," "," "," "," "," "," "," "," "," "," "," "," "," "," "," "," "," "," "," "," "," "," "," "," "," "," "," "," "," "," "," "," "," "," "," "," "," "," "," "," "," "," "," "," "," "," "," "," "," "," "," "," "," "," "," "," "," "," "," "," "," "," "," "," "," "," "," "," "," "," "," "," "," "," "," "," "," "," "," "," "," "," "," "," "," "," "," "," "," "," "," "," "," "," "," "," "," "," "," "," "," "," "," "," "," "," "," "," "," "," "," "," "," "," "," "," "," "," "," "," "," "," "," "," "," "," "," "," "," "," "," "," "," "," "," "," "," "," "," "," "," "," "," "," "," "," "," "," "," "," "," "," "," "," "," "," "," "," "," "," "," "," "," "," "," "," "," "," "," "," "," "," "," "," "," "," "," "," "," "," "," "," "," "," "," "," "," "," "," "," "," "," "," "," "," "," "," "," "," "," "," "," "," "," "," "," "," "," "," "," "," "," "," "," "," "," "," "," "," "," "," "," "," "," "," "," "," "," "," "," "," "," "," "," "," "," "," "," "," "," "," "," "," "," "," "," "," "," "," "," "," "," "," "," "," "," "," "," "," "," "," "," "," "," "," "," "," "," "," "," "," "," "," "," "," "," "," "," "," "," "," "," "," "," "," "," "," "," "," "," "," "," "," "," "," "," "," "," "," "," "," "," "," "," "," "," "," "," "," "," "," "," "," "," "," "," "," "," "," "," "," "," "," "," "," "," "," "," "," "," "," "," "," "," "," "," "," "," "," "," "," "," "," "," "," "," "," "," "," "," "," "," "," "," "," "," "," "," "," "," "," "," "," "," "," "," "," "," "," "," "," "," "," "," "," "," "," "," "," "," "," "," "," "," "]
[" "," "," "," "," "," "," "," "," "," "," "," "," "," "," "," "," "," "," "," "," "," "," "," "," "," "," "," "," "," "," "," "," "," "," "," "," "," "," "," "," "," "," "," "," "," "," "," "," "," "," "," "," "," "," "," "," "," "," "," "," "," "," "," "," "," "," "," "," "," "," "," "," "," "," "," "," "," "," "," "," "," "," "," "," "," "," "," "," "," "," "," "," "," "," "," "," "," "," "," "," "," "," "," "," "," "," "," "," "," "," "," "," "," "," "," "," "," "," "," "," "," "," "," "," "," "," "," "," "," "," "," "," "," "," "," "," "," "," "," "," "," "," "," "," "," "," "," "," "," "," "," "," "," "," "," "," "," "," "," "," "," "," "," "," "," "," "," "," "," "," "," "," "," "," "," "," "," "," "," "," "," "," "," "," "," "," "," "," "," "," "," "," "," "," "," "," "," "," "," "," "," "," "," "," "," "," "," "," "," "," "," "," "," "," "," "," "," "," "," "," "," "," "," "," "," "," "," "," "," "," "," "," "," "," "," "," "," "," "," "," "," "," "," "," "," "," "," "," "," "," "," "," "," "," "," "," "," "," "," "," "," "," "," "," "," "," "," "," "," "," "," "," "," "," "," "," "," "," "," "," "," "," "," "," "," "," "," "," "," "," "," "," "," "," "," "," "," "," "," "," "," "," "," "," "," "," "," "," "," "," "," "," "," "," "," "," "," "," "," "," "," "," "," "," "," "," "," "," "," "," "," "," "," "," "," "," "," "," "," "," "," "," "," "," "," "," "," "," "," "," "," "," "," "," "," "," "," "," "," "," "," "," "," "," "," "," "," "," "," "," "," "," "," "," "," "," "," "," "," "," "," "," "," "," "," "," "," "," "," "]
[" "," "," "," "," "," "," "," "," "," "," "," "," "," "," "," "," "," "," "," "," "," "," "," "," "," "," "," "," "," "," "," "," "," "," "," "," "," "," "," "," "," "," "," "," "," "," "," "," "," "," "," "," "," "," "," "," "," "," "," "," "," "," "," "," "," "," "," "," "," "," "," "," "," "," "," "," "," "," "," "," "," "," "," "," "," "," "," "," "," "," "," "," "," "," "," "," "," "," "," "," "," "," "," "," "," "," "," "," "," "," "," "," "," "," "," "," "," "," "," "," "," "," "," "," "," "," "," "," "," "," "," "," "," "," "," "," "," "," "," "," "," "," "," "," "," "," "," "," "," "," "," "," "," "," "," "," "," "," "," "," "," "," "," "," "," "," "," "," "," "," "," "," "," "," "," "," "," "," "," "," "," "," "," "," "," "," "," "," "," "," "," "," "," "," "," "," "," "," "," "," "," "," "," "," "," "," "," "," "," "," "," "," "," "," "," "," "," "," "," "," "," "," "," "," "," "," "," "," "," "," "," "," "," "," "," "," "," "," "," "," "," "," "," "," "," "," "," "," "," "," "," "," "," "," "," "," "," "," "," "," "," "," "," "," "," "," "," "," "," "," "," "," "," "," "," "," "," "," "," "," "," "," "," "," "," "," "," "," "," "," "," "," "," "," "," "," "," "," "," "," "," "," "," "," "," "," "," "," "," "," "," "," "," "," "," "," "," "," "," "," "," "," "," "," "," "," "," "," "," "," "," "," "," "," "," "," "," "," "," "," "," "," "," "," "," "," "," "," "," "," "," "," "," "," "," "," "," "," "," "," "," "," "," "," "," "," "," "," "," "," "," "," "," "," "," "," "," "," "," "," "," "," "," "," "," "," "," "," "," "]
[" "," "," "," "," "," "," "," "," "," "," "," "," "," "," "," "," "," "," "," "," "," "," "," "," "," "," "," "," "," "," "," "," "," "," "," "," "," "," "," "," "," "," "," "," "," "," "," "," "," "," "," "," "," "," "," "," "," "," "," "," "," "," "," "," "," "," "," "," "," "," "," "," "," "," "," "," "," "," "," "," "," "," "," "," "," "," "," "," "," "," "," "," "," "," "," "," "," "," "," "," "," "," "," "," "," "," "," "," "," "," "," "," "," "," "," "," "," "," "," "," "," "," "," "," "," "," "," "," "," "," "," "," "," "," "," "," "," "," "," "," "," "," "," "," "," "," "," "," "," "," "," "," "," "," "," "," "," "," "," "," "," "," "," "," "," "," "," "," "," "," "," "," "," "," "," "," "," "," "," "," "," "," "," "," "," "," "," "," "," "," "," "," "," "," "," "," "," "," "," "," "," "," "," "," "," "," "," "," "," "," "," "," "," "," "," "," "," "," "," "," "," "," "," "," "," "," "," "," "," "," "," "," "," "," "," "," "," "," "," "," "," "," "," "," "," "," "," "," "," "," "," "," "," "," "," "," "," "," "," "," "," "," "," "," "," "," "," "," "," "," "," "," "," "," "," "," "," "," "," "," "," "," "," "," "," "," "," "," "," "," "," "," "," "," "," "," "," "," "," "," "," "," "," "," "," "," "," "," "," "," "," "," "," "," "," "," "," "," "," "," "," "," "," "," "," "," "," "," "," "," "," "," "," "," "," "," "," "," "," "," "," "," "," "," "," "," "," "," "," "," "," "," "," "," "," "," "," "," "," "," "," "," "," "," "," "," "," "," "," "," "," "," "," "," "," "," "," "," "," "," "," "," "," "," "," "," "," "," "," "]
[" "," "," "," "," "," "," "," "," "," "," "," "," "," "," "," "," "," "," "," "," "," "," "," "," "," "," "," "," "," "," "," "," "," "," "," "," "," "," "," "," "," "," "," "," "," "," "," "," "," "," "," "," "," "," "," "," "," "," "," "," "," "," "," "," "," "," "," "," "," "," "," "," "," "," "," "," "," "," "," "," "," "," "," "," "," "," "," "," "," "," "," "," "," "," "," "," "," "," "," "," "," "," "," "," "," "," "," "," "," "," "," "," "," "," "," "," "," "," "," "," "," "," "," "," "," "," "," "," "," "," "," "," "," "," "," "," "," "," "," "," "," "," "," "," "," "," "," "," "," "," "," "," "," "," "," "," "," "," "," "," "," "," "," "," "," "," "," "," "," "," "," "," "," "," "," "," "," "," "," "," "," "," "," "," "," "," "," "," "," "," "," "," "," "," "," "," "," "," "," "," "," "," "," "," "," "," "," "," "," "," "," "," "," "," "," "," "," "," "," "," "," "," "," "," "," "," "," "," "," "," "," "," "," "," "," "," "," "," "," "," "," "," "," "," "," "," "," "," "," "," "," "," "," "," "," "," "," "," "," "," "," "," "," "," "," "," "," "," "," "," "," "," "," "," "," "," "," "," "," "," "," "," "," "," "," "," "," "," "," "," "," "," "," "," "," "," "," "," "," "," "," "," "," "," "," "," "," "," "," "," "," "," "," "," "," "," "," "," "," "," "," "," "," "," "," "," "," "," "," "," "," "," "," "," "," "," "," "," "," "," "," "," "," "," "," "," "," "," "," "," "," "," "," "," "," "," "," "," "," "," "," "," "," "," "," "," "," "," "," "," "," "," "," "," "," "," "," "," "," "," "," "," "," "," "," "," "," "," "," "]
[" "," "," "," "," "," "," "," "," "," "," "," "," "," "," "," "," "," "," "," "," "," "," "," "," "," "," "," "," "," "," "," "," "," "," "," "," "," "," "," "," "," "," "," "," "," "," "," "," "," "," "," "," "," "," "," "," "," "," "," "," "," "," "," "," "," "," "," "," "," "," "," "," "," "," "," "," "," "," "," "," "," "," "," "," "," "," "," "," "," "," "," "," "," "," "," "," "," "," "," "," "," "," "," "," "," "," "," "," "," "," "," "," "," "," "," "," "," "," "," "," "," "," "," "," "," "," "," "," "," "," "," "," "," "," "," "," "," "," "," "," "," "," "," "," "," "," "," "," "," "," "," "," "," "," "," "," "," "," "," "," "," "," "," "," "," "," "," "," "," "," "," "," "," "," "," "," "," "," "," "," "," "," "," "," "," "," "," "," "," "," "," "," "," "," "," "," "," "," "," "," "," "," "," "," "," "," "," "," "," "," "," "," "," "," "," "," "," "," "," "," "," "," "," "," "," "," "," "," "," "," "," "," "," "," "," "," "," "," "," "," "," "," "," "," "," "," "," "," "," "," "," "," "," "," "," "," "," "," "," "," "," "," "," "," "," "," "," "," "," "," "," "," "," "," "," "," "," "," "," "," "," "," "," "," "," "," "," "," "," "," "," "," "," "," "," "," "," "," "," "," "," "," "," "," "," "," "," "," "," "," "," "," "," "," "," "," "," "," "," "," "," "," "," "," "," "," "," "," "," "," "," "," "," "," "," "," "," "," "," "," "," "," "," "," "," "," "," "," "," "," "," "," "," "," "," "," "," "," "," "," "," "," "," "," "," "," "," "," "," "," "," "," "," "," "," "," "," "," "," "," "," "," "," "," "," "," "," "," "," "]
[" "," "," "," "," "," "," "," "," "," "," "," "," "," "," "," "," "," "," "," "," "," "," "," "," "," "," "," "," "," "," "," "," "," "," "," "," "," "," "," "," "," "," "," "," "," "," "," "," "," "," "," "," "," "," "," "," "," "," "," "," "," "," "," "," "," "," "," "," "," "," "," "," "," "," "," "," "," "," "," "," "," "," "," "," "," "," "," "," "," "," "," "," "," "," "," "," "," "," "," "," "," "," "," "," "," "," "," "," "," "," "," "," "," "," "," "," "," "," "," "," "," "," "," "," "," "," "," "," "," "," "," "," "," "," "," "," "," "," "," "," "," "," "," "," "," "," "," "," "," "," "," "," "," "," "," "," "," "," "," "," "," "," "," "," "," "," "," "," "," "," "," "," "," "," "," "," "," "," "," "," "," "," "," "," "," "," "," "," "," "," "," "," "," "," "," "," "," "," "," "," "," "," "," "," "," "," "," "," "," "," "," "," "," "," "," "," "," "," "," "," "," "," "," "," "," "," "," "," "," "," "," "," "," "," "," "," "," "," "," "," "," "," "," "," "," "," "," "," "," "," "," "," "," "," "," "," "," "," "," "," "," "," "," "," "," "," "," "," "," "," "," "," "," "," "," "," "," "," "," "," "," "," "," "," "," "," "," "," "," "," "," "," "," "," "," "," "," "," "," "," "," "," "," "," "," "," "," "," "," "," "," "," "," "," "," "," "," "," "," "," "," "," "," "," "," "," "," "," "," "," "," "," "," "," "," "," "," "," "," "," "," "," "," "," "," "," "," "," "," "," "," "," "," "," "," "," "," "," "," "," "," "," "," "," "," "," "," "," "," "," "," "," "," "," "," "," "," "," "," "," "," "," "," "," "," "," "," "," "," "]
[" "," "," "," "," "," "," "," "," "," "," "," "," "," "," "," "," "," "," "," "," "," "," "," "," "," "," "," "," "," "," "," "," "," "," "," "," "," "," "," "," "," "," "," "," "," "," "," "," "," "," "," "," "," "," "," "," "," "," "," "," "," "," "," "," "," "," "," "," "," "," "," "," "," "," "," "," "," "," "," "," "," "," "," "," "," "," "," "," "," "," "," "," "," "," "," "," "," "," "," "," "," "," "," "," "," "," "," "," "," "," "," "," "," "," "," "," "," "," "," "," "," "," "," "," "," "," "," "," "," "," "," "," "," "," "," "," "," "," "," "," "," "," "," "," "," "," "," "," "," "," "," "," "," "," "," "," "," "," "," "," "," "," "," "," "," "," "," "," "," "," "," "," "," "," "," "," "," "," "," "," "," "," "," "," "," "," "," "," "," "," "," "," "," "," "," "," "," "," "," "," "," "," "," "," "," "," "," "," "," "," "," "," "," "," "," "," "," "," "," "," "," "," "," "," "," "," "," "," "," "," "," "," "," "," "," "," "," "," "," "," "," "," "," "," "," "," "," "," "," "," "," "," "," "," "," "," "," "," "," "," "," "," "," "," "," "," "," "," "," "," "," "," "," "," "," "," "," "," "," "," "," "," "," "," "," "," "," "," "," "," "," "," "," "," "," "," "," "," "," "," "," "," "," "," "," "," "," "," "," "," "," "," "," "," "," "," "," "," "," "," "," "," "," "," "," "," "," "," "," "," "," "," "," "," "," "," "," "," "," "," "," "," "," "," "," "," "," "," "," "," "," "," "," "," "," "," "," "," "," "," "," "," "," "," "," "," "," "," "," "," "," "," "," "," "," "," "," "," "," "," "," "," "," "," "," "," "," "," "," "]
[" "," "," "," "," "," "," "," "," "," "," "," "," "," "," "," "," "," "," "," "," "," "," "," "," "," "," "," "," "," "," "," "," "," "," "," "," "," "," "," "," "," "," "," "," "," "," "," "," "," "," "," "," "," "," "," "," "," "," "," "," "," "," "," "," "," "," "," "," "," "," "," "," "," "," "," "," "," "," "," "," "," "," "," "," "," "," "," "," "," "," "," "," "," "," "," "," "," "," "," "," "," "," "," "," "," "," "," "," "," "," "," "," "," "," "," "," "," "," "," "," "," "," "," "," "," "," "," "," "," "," "," "," "," "," "," "," "," "," "," "," "," "," "," "," "," "," "," "," "," "," "," "," "," "," "," "," "," "," "," "," "," "," "," "," "," "," "," "," "," "," "," "," "," "," "," "," "," "," "," "," "," "," "," "," "," "," "," "," "," "," "," "," "," "," "," "," "," "," "," "," "," "," "," "," "," "," "," "," "," "," "," "," "," "," "," "," "," "," "," "," "," "," "," "," "," "," "," "," "," "," "," "," "," "," "," "," "," "," "," "," "," "," "," "," "," "," "," "," "," "," "," "," "," "," "," "," "," "," "," "," "," "," "," "," "," "," "," "," "," "," "," "," "," "," "," "," "," "," "," "," "," "," "," "," "," "," "," "," "," "," "," "," "," "," "," "," "," "," "," "," "," "," "," "," "," "," "," "," "," "," "," "," "," "," "," "," "," "," "," "," "," "," "," "," "," "," "," "," "," "," "," "," "," "," "," "," "," "," "," "," "," "," "," "," "," "," "," "," "," "," "," "," "," "," "," "," "," "," "," "," "," "," "," "," "," "," "," "," "," "," "," "," "," "," "," "," "," "," "," "," "," "," "," "," "," "," "," "," "," "]
[" "," "," "," "," "," "," "," "," "," "," "," "," "," "," "," "," "," "," "," "," "," "," "," "," "," "," "," "," "," "," "," "," "," "," "," "," "," "," "," "," "," "," "," "," "," "," "," "," "," "," "," "," "," "," "," "," "," "," "," "," "," "," "," "," "," "," "," "," "," "," "," "," "," "," "," "," "," "," "," "," "," "," "," "," "," "," "," "," "," "," "," "," "," "," "," "," "," "," "," "," "," "," "," "," "," "," "," "," "," "," "," "," "," "," "," "," "," "," "," "," "," "," "," "," "," "," "," "," "," "," "," "," "," "," "," "," "," "," "," "," "," "," "," "," "," "," "," "," "," "," "," "," "," "," "," "," "," "," "," "," "," "," "," "," "," "," "," "," "," "," "," "," "," "," "," "," "," "," "," "," "," "," "," "," "," "," "," "," "," "," "," "," "," "," "," "," "," "," "," "," "," "," "," "," "," "," "," "," "," "," "," "," "," "," "," "," "," "," "," "," "," "," "," "," "," "," "," "," "," "," "," "," "," "," "," "," "," "," "," "," "," "," "," "," "," "," "," "," "," "," "," "," "," "," "," "," "," "," "," "," "," "," "," "," "," "," "," "," "," "," "," "," "," "," "," "," "," "," "," "," "," "," "," "," "," "," "," "," "," "," "," "," "," "," "," "," "," "," "," "," "," "," "," "," "," "," "," "," "," "," "," "," "," "," "," "," "," "," "," "," "," "," "," "," "," "," "," "," "," "," "," "," "," "," "," "," "," "," "," "," "," "," "," "," "," "," "," "," "," "," "," "," "," "," "," "," "," "," "," "," "," "," "," "," "," "," "," "," "," "," "," "," "," "," "," "," "," "," "," "," "," "," "," "," "," "," "," "," "," "]
[" "," "," "," "," "," "," "," "," "," "," "," "," "," "," "," "," "," "," "," "," "," "," "," "," "," "," "," "," "," "," "," "," "," "," "," "," "," "," "," "," "," "," "," "," "," "," "," "," "," "," "," "," "," "," "," "," "," "," "," "," "," "," "," "," "," "," "," "," "," "," "," "," "," "," "," "," "," "," "," "," "," "," "," "," "," "," "," "," "," "," "," "," "," "," "," "," "," "," "," "," "," "," "," "," "," "," "," "," "," "," "," "," "," "," "," "," "," "," "," "," "," "," "," "," "," "," "," "," "," "," "," "," "," "," "," "," "," "," "," "," "," "," "," "," "," "," "," "," "," "," "," "," "," "," "," "," "," "," "," "," "," "," "," "," "," "," "," "," "," "," "," "," "," "," "," "," "," "," "," "," "," "," "," "," "," "," "," "," "," "," "," "," "," "," "," "," "," "," "," "," "," "," "," "," "," "," "," "," "," "," "," "," "," "," "," "," "," "," "," "," "," "," "," "," "," "," "," "," "," "," "," "," "," "," "," "," "," "," "," "," "," "," "," "," "," "," "," "," "," "," "," "," "," "," "," "," "," "," "," "," "," "," "," "," "," "," "," "," "," "," "," "," "," "," "," "," "," "," "," "," "," "," "," "," "," "," "," "," "," "," "," "," "," "," "," "," "," "," "," "," "," "," "," "," "," "," "," "," "," "," "," "," "," "," "," "," "," "," "," "," "," "," "," "," "," "," "," "," "," "," "," "," "," "," "," "," "," "," "," "," "," "," "," "," "," "," "," "," "," "," "," "," "," "," "," "," "," "," "," "," "," "," "," "," "," "," "," "," "," "," "," "," "," "," "," "," "," "," "," "," "," "," "," "," "," "," "," "," "," "]
[" "," "," "," "," "," "," "," "," "," "," "," "," "," "," "," "," "," "," "," "," "," "," "," "," "," "," "," "," "," "," "," "," "," "," "," "," "," "," "," "," "," "," "," "," "," "," "," "," "," "," "," "," "," "," "," "," "," "," "," "," "," "," "," "," "," "," "," "," "," "," "," "," "," "," "," "," "," "," "," "," "," "," "," "," "," "," "," "," "," "," "," "," "," "," "," "," "," "," "," "," "," "," "," "," "," "," "," "," "," "," "," "," "," "," "," "," "," "," "," "," "," "," "," "," "," "," "," "," "," "," "," "," "," "," "," "," "," "," "," "," "," "," "," "," "," "," "," "," "," "," "," "," "," "," "," "," "," "," "," "," "," "," "," "," "," "," "," "," "," "," "," "," "," "," "," "," "," "," "," "," "," "," "," "," "," "," "," "," "," "," "," "," "," "," "," "," "," "," "," "," "," "," "," "," "," "," "," "," "," "," "," "," "," "," "," "," "," "," "," "," "," "," "," "," "," "," "," "," "," "," "," "," "," "," "," "," "," "," "," "," "," "," "," "," "," "," "," "," "," "," "," "," "," "," "," "," "," "," "," "," "," "," "," "," "," "," "," "," "," "," "," "," "," "," "," "," "," "," "," "," "," "," "," "," "," "," "," "," "," "," "," "," "," "," "," "," "," "," "," "," "," "," "," "," "," "," "," "," "," "," "," "," "," "," "," "," "," "," "," "," "," "," "," "," "," "," "," "," "," "," "," "," "," "," "," "," "," "," "," "," "," "," "," "," "," "," "," "," "," "," "," "," "," "," "," "," "," "," "," "," "," "," "," "," "," "," "," "," "," "," "," "," "," "," "," "," "," "," "," "," "," "," "," "," "," "," "," "," "," "]
[" "," "," "," "," "," "," "," "," "," "," "," "," "," "," "," "," "," "," "," "," "," "," "," "," "," "," "," "," "," "," "," "," "," "," "," "," "," "," "," "," "," "," "," "," "," "," "," "," "," "," "," "," "," "," "," "," "," "," "," "," "," "," "," "," "," "," "," "," "," "," "," "," "," "," "," "," "," "," "," "," "," "," "," "," "," "," "," "," "," "," "," "," "," "," "," "," "," "," "," "," "," "," "," "," "," "," "," "," "," "," "," "," "," "," "," "," "," "," "," "," "," "," "," "," "," "," "," "," "," "," "," "," "," "," "," "," "," "," "," "," "," "," "," "," "," "," "," "," "," "," "," "," "," "," "," "," "," "," "," "," "," "," "," "," "," "," "," "," "," "," "," "," "," "," "," "," "," "," "," "," "," "," "," "," "," "," "," "," "," "," "," "," "," "," "," "," "," "," "," "," "," "," "," "," "," "," "," "," "," "," "," "," "," "," "," "," "," "," "," "," "," "," "," "," "," "," "," "," "," "," "," "," "," "," "," "," "," "," "," "," "," "," "," "," "," "," "," "," "," "," "," "," "," "," "," "," "," "," "," "," "," "," "," "," "," "," "," "," "," "," "," "," "," "," "," "," "," "," "," "," "," "," "," "," "," "," "," "," "," "," "," "," "," "," "," "," "," "," "," "," "," "," "," "," "," "," "," "," "," "," "," "," "," "," "," "," "," "," "," "," "," "," "," "," "," "," "," "," "," "," "," "," "," "," "," "," "," "," "," "," "," "," "," "," "," "," "," "," "," "," "," "," "," "," "," "," "," "," "," "," "," "," "," "," "," "," "," "," "," "," "," "," "," "," "," "," "," "," "," "," "," "," "," "," "," "," "," "," "," "]
[" "," "," "," "," "," "," "," "," "," "," "," "," "," "," "," "," "," "," "," "," "," "," "," "," "," "," "," "," "," "," "," "," "," "," "," "," "," "," "," "," "," "," "," "," "," "," "," "," "," "," "," "," "," "," "," "," "," "," "," "," "," "," "," "," "," "," "," "," "," "," "," "," "," "," "," "," "," "," "," "," "," "," "," "," "," "," "," "," "," "," "," "," "," "," "," "," "," "," "," "," "," "," "," "," "," "," "," "," "," "," "," "," "," "," "," "," "," "," "," "," "," "," "," "," "," "," "," "," "," "," "," "," "," "," "," "," "," "," "," "," "," "," "," "," "," "," "," "," "," "," "," "," "," "," "," "," "," "," "," "," "," "," "," "," "," "," "," "," "," "," "," "," "," "," "," "," "," "," "," "," "," "," "," "," "," "," "," "," "," "," "," "," "," "," "," "," "," "," "," "," "," "," "," "," "," "," "," "," "," "," "," "," "," "," "," "," "," "," "," "," "," "," "," "," "," "," "," "," "," "," "," "," "," "," "," "," "," "," "," "," "," "," "," "," "," "," "," "," "," "," "," "," "," "," "," "," "," "," "," "," "," "," "," "," "," "," "," "," "," "," "," "," "," "," "," "," "," "," "," "," "," "," "," "," "," "," "," "," "," "," "," "," "," "," "," "," "," "," "," "," "," "," "," "," "," "," "," "," "," "," "," "," "," "," "," "," "," "," "," "," "," "," "," "," "," "," "," "," "," "," "," "," "," "," "," "," "," "," "," "," "," "," "," "," "," "," "," "," "," "," "," "," "," "," "," "," "," "," "," "," "," "," "," "," "," "," "," "," "," "," "," "," "," "," "," "," "," "," "," "," "," "," "," "," "," "," "," "," "," "]
[" "," "," "," "," "," "," "," "," "," "," "," "," "," "," "," "," "," "," "," "," "," "," "," "," "," "," "," "," "," "," "," "," "," "," "," "," "," "," "," "," "," "," "," "," "," "," "," "," "," "," "," "," "," "," "," "," "," "," "," "," "," "," "," "," "," "," "," "," "," "," "," "," "," "," "," "," "," "," "," "," "," "," "," "," "," "," "," "," "," "," "," "," "," "," "," "," "," "," "," "," "," "," "," "," "," "," "," "," "," "," "," "," "," "," "," "," "," "," "," "," "," "," "," "," "," "," "," "," "," "," "," "," "," "," "," "," "," "," "," "," "," "," "," "," "," "," "," "," "," "," "," "," "," "," "," "," "," "," "," "," "," "," "," "," "," "," "," "," "," "," "," "," "," "," "," "," "," "," "," "," "," "," "," "," "," "," "," "," "," "," "," "," "," "," "," "," "," "," "," "," "," "," "," "," "," "," "," "," "," "," "," "," "," "," "," "," "," "," "," "," "," "," "," "," "," "," "," "," "," "," "," "," "," "," "," "," "," "," "," "," "," "," "," "," "," "," "," "," "," "," "," "," "," "," "," "," "," "," "," "," "," "," "," "," "," "," "," "," "," "," "," "," "," "," "," "," "," "," "," "," "," "," "," "," "," "," "," "," "," "," "," "," "," "," "," "," "," "," "," "," "," "," "," "," "," "," "," "," "," "," "," "," "," "," "," "," "," "," "," "," "," "," "," "," "," "," "," "," "," "," "," "," "," "," "," "," "," "," "," "," "," "," "," "," "," "," "," "," "," "," "," "," "," "," "," "," "," "," "," "," "," "," "," "," "," "," "," "," "," "," "," "," "," "," "," "," "," "," "," "," "," "," "," "," "," "," "," "," "," "]
[" "," "," "," "," "," "," "," "," "," "," "," "," "," "," "," "," "," "," "," "," "," "," "," "," "," "," "," "," "," "," "," "," "," "," "," "," "," "," "," "," "," "," "," "," "," "," "," "," "," "," "," "," "," "," "," "," "," "," "," "," "," "," "," "," "," "," "," "," "," "," "," "," "," "," "," "," "," "," "," "," "," "," "," "," "," "," "," "," "," "," "," "," "," "," "," "," "," "," "," "," "," "," "," "," "," "," "," "," "," "," "," "," "," "," "," "," "," "," "," "," "," "," "," "," "," "," "," "," "," "," "," "," "," "," "," "," "," "," "," "," "," "," "," "," "," "," "," "," "," "," "," "," "," "," "," "," "," "," "," "," "," "," "," "," "," "," "," "," "," "," "," "," "," "," "," "," "," "," "," "," "," "," "," "," "," "," "," "," "," "," "," "," "," "," "," "," "," "," "," "," "," "," "," "," "," "," "," "," "," "," "," "," "," "," "," "," "," "," "," "," "," "," "," "," "," "," "," "," "," "," "," "," "," "," "," "," "," "," "," "," "," "," "," "," "," "," "," "," "," "," "," "," "," "," "," "," "," "," "," "," "," "," "," "," "," "," "," "," "," "," "," "," "," "," "," "," "," "," "," "," "," "," "," "," "," "," "," "," "," "," "," "," "," "," "," "," "," "," "," "," "," "," "," "," "," "," "," "," "," "," "," "," "," "," "," "," "," "," "," "," "," "," "," "," "," "," "," "," "," "," "," "," "," "," "," "," "," "," "," "," "," "," "," "," "," "," "," "," "," "," "," "," "," "," "," "," "," "," "," "," "," "," "," "," "," "," "," "," "," "," "," "," "," "," "," "," "," "," "," "," "," "," "," "," "," "," "," "," "," "]
[" "," "," "," "," "," "," "," "," "," "," "," "," "," "," "," "," "," "," "," "," "," "," "," "," "," "," "," "," "," "," "," "," "," "," "," "," "," "," "," "," "," "," "," "," "," "," "," "," "," "," "," "," "," "," "," "," "," "," "," "," "," "," "," "," "," "," "," "," "," "," "," "," "," "," "," "," "," "," "," "," "," "," "," "," "," "," "," "," "," "," "," "," "," "," "," "," "," "," "," "," "," "," "," "," "," "," "," "," "," "," "," "," "," "," "," "," "," "," "," "," "," "," "," "," "," "," "," "," "," "," "," "," "," "," "," "," "," "," "," "," "," "," "," "," "," "," "," "," "," "," "," "," "," "," "," "," "," "," "," "," "," "," "," "," "," "," "," "," "," "," "," "," "," "," "," "," "," "," "," "," "," "," "," "," "," "," "," "," "," "," "," "," "," "," "," "," "," "," "," "," "," "," "," "," "," "," "," "," "," "," "," "," "," "," "," "," "," "," "," "," "," "," "," "," "," "," "," "," "," "," "," "," "," "," "," "," "," "," "," "," "," "," "," "," "," "," "," "," "," "," "," "," "," "," "," "," "," "," "," "," "," "," "," "," "," "," "," "," "," "," "," "," "," "," "," "," "," "," "," "," "," "," "," "," "," "," "," "," "," "," "," "," "," "," "," "," "," "," "," "," "," "," "," "," "," "," "," "," "," "," "," "," "," "," "," "," "," "," "," "," "," "," "," "," "," "," "," "," "," "," "," "," "," "," "," "," "," "," "," "," "," "," "," "," "," "," "," "," "," "," "," "," "," "," "," "," "," "," "," "," "," "," "," "," "," "," "," "," "," "," "," "," "," "," "," "," "," "," "," "," "," "," "," "," "," "," "," "," "," "]
[" "," "," "," "," "," "," "," "," "," "," "," "," "," "," "," "," "," "," "," "," "," "," "," "," "," "," "," "," "," "," "," "," "," "," "," "," "," "," "," "," "," "," "," "," "," "," "," "," "," "," "," "," "," "," "," "," "," "," "," "," "," "," "," "," "," "," "," "," "," "," "," "," "," "," "," "," "," "," "," "," "," "," "," "," "," "," "," "," "," "," "," "," "," "," "," "," "," "," "," "," "," "," "," "," "," "," "," "," "," "," "," "," "," "," "," "," "," "," "," "," "," "," "," "," "," "," "," "," "," "," "," "," "," "," "," "," "," "," "," "," "," "," "," "," "," "," "," "," "," "," "," "," "," "," "," "," "," "," "," "," "," "," "," "," "," "," "," "," "," "," "," "," "," "," "," "," "," "," "," "," "," "," "," "," "," "," "," "," "," "," "," "," "," "," "," "," "," "," "," "," "," "," "," "," "," "," "," "," "," "," "," "," "," "," "," "," "," "," "," "," "," "," "," "," "," "," "," "," "," "," "," "," "," "," "," "," "," "," "," "," "," "," "," "," "," "," "," "," "," "," "," "," "," "," "," "," "," "," "," "," "," "," "," "," "," "," "," "," "," "," "," "," "," "," "," "," "," "," "," "," "," "," "," "," "," "," "," "," "," "," "," "," "," "," "," "," "," "," "," "," "," "," "," "," "," "," "," "," "," "," "," "," "," "," "," "," "," "," "," "," "," "," "," "," "," "," "," "," "," "," "," "," "," "," "," "," "," "," "," "," "," "," "," "," "," "," "," "," "," "," "," "," "," "," "," "," "," "," "," "," "," "," "," "," "," "," "," "," "," "," "," "," "," "," "," "," "," "," "," "," "," "," "," "," "," "," "," "," "," "]
[" "," "," "," "," "," "," "," "," "," "," "," "," "," "," "," "," "," "," "," "," "," "," "," "," "," "," "," "," "," "," "," "," "," "," "," "," "," "," "," "," "," "," "," "," "," "," "," "," "," "," "," "," "," "," "," "," "," "," "," "," "," "," "," "," "," "," "," "," "," "," "," "," "," "," "," "," "," "," "," "," "," "," "," "," "," "," "," "," "," "," "," "," "," "," "," "," "," "," "," "," "," "," "," "," "," "," "," "," "," "," "," "," "," "," "," "," "," "," "," "," "," "," "," "," "," "," "," "," "," "," "," "," "," "," "," "," "," "," "," "," "," "," "," "," "," "," "," "," "," "," "," "," "," "," "," "," "," "," "," "," "," "," "," "," "," "," "," "," "," "," "," "," "," "," "," "," "," "," "," "," "," "," "," "," "," "," "," "," "," "," "," "," "," "," "," "," "," "," "," "," "," "," "," "," "," "," "," "," "," "," "," "," "," "," "," "," "," "," "," "," "," "," "," "," "," "," "," "," "," "," "," "," "," "," "," "," "," "," "," "," "," "," "," "," "," "," "," "," "," "," "," "," "," "," "," "," "," "," "," "," "," "," "," "," "," "," "," "," "," "," "," "," "," "," "," "," "," "," "," "," "," "," "," "," "," "," "," "," "," "," "," "," "," "," "," "," "," "," "," "," "," "," "," "," "," "," "," "," "," "," "," "," "," "," "," "," "," "," "," "," "," "," "," "," "," "," "," "," "," "," "," "," "," "," "," "," "," "," "," "," "," "," "," "," "," "," "," "," "," "," "," "," "," "," "," "," "," "," "," "," "," "," "," "," "," "," "," "," "," "," "," "," "," "," "," "," "," "," "," "," "," "," "," "," "," "," "," "," "," "]
[" "," "," "," "," "," "," "," "," "," "," "," "," "," "," "," "," "," "," "," "," "," "," "," "," "," "," "," "," "," "," "," "," "," "," "," "," "," "," "," "," "," "," "," "," "," "," "," "," "," "," "," "," "," "," "," "," "," "," "," "," "," "," "," "," "," "," "," "," "," "," "," "," "," "," "," "," "," "," "," "," "," "," "," "," "," "," "," "," "," "," "," "," "," "," "," "," "," "," "," "," "," "," "," "," "," "," "," "," "," "," "," "," "," "," "," "," "," "," "," "," "," "," "," "," "," "," "," "," "," "," "," "," "," "," "," "," "," "," "," "," "," "," "," "," "," "," "," "," "," "," "," "," "," "," "," "," "," "," "," "," "," "," "," "," "," "," "," "," "," "," "," "," "," "," "," "," "," "," "," "," "," "," "," "," "," "," "," "," "," "," "," "," "," "," "," "," "," "," "," "," "," "," "," "," "," "," "," "," "," "," "," "," "," "," "," "," "," "," "," "," "," "," "," "," "," "," "," "," "," "," "," "," "," "," "," "," "," "," "," "," "," "," "," "," "," "," "," "," "," "," "," "," "," "," "," "," "," "," "," "," "," "," "," "," "," "," "," "," "," "," "," "," "," "," "," "," "," "," "," "," "," "," "," "," "," "," "," "," "," "," "," "," "," "," "," "," "," "," "," "," "," "," "," "," "," "," "," "," "," "," "," "," "," "," "," "," "," "," "," "," "," "," "," "," "," "," "," "," "," "," "," "," "," "," "," "," "," "," "," "," "," "," "," "," "," "," "," "," "," "," "," "," "," "," "," "," "," "," "," "," "," "," "," "," "," "," "," "," "," "," "," "," "," "," "," "," "," "," "," "," "," "," "," "," "," "," "," "," "," "]
[" "," "," "," "," "," "," "," "," "," "," "," "," "," "," "," "," "," "," "," "," "," "," "," "," "," "," "," "," "," "," "," "," "," "," "," "," "," "," "," "," "," "," "," "," "," "," "," "," "," "," "," "," "," "," "," "," "," "," "," "," "," "," "," "," "," "," "," "," "," "," "," "," "," "," "," "," "," "," "," "," "," "," "," "," "," "," "," "," "," "," "," "," "," "," "," "," "," "," "," "," "," "," "," "," "," "," "," "," "," "," "," "," "," "," "," "," "," "," "," "," "," "," "," "," "," "," "," "," "," "," "," "," "," "," "," "," "," "," "," "," "," "," "," "," "," "," "," "," "," "," "," "," "," "," "," "," "," "," "," "," "," "," "," "," "," "," "," "," "," "," "," "," "," "," "," "," "," "," "," "," "," "," "," "," "," "," "," "," "," "," "," "," "," "," "," "," "," "," "," "," "," "," "," "," "," "," "," "," "," "," "," "," "," "," "," "," "," "," "," "," "," "," "," "," "," "," "," "," "," "," "," "," "," "," "," "," "," "," "," "," "," "," "," "," "," "," "," "," "," "," "," "," "," "," "," "," "," "," "," "," "," "," "," "," "," "," "," "," "," "," "," "," "," "," "," "," "," "," "," "," "," "," "," "," "," "," "," "," "," "," "," "," "," "," "," "," "," "," "," "," "," "," "," "," "," "," "," "," "," "," "," "," "," "," "," "," "," "," "," "," "," "," "," "," "," "," "," "," "," "," "," "," "," "," "," "," "," "," "," "," "," "," "," "," "," "," "," "," "," "," "," "," "," "," "," "," "," "," "," "," "," "," "," "," "," "," "," "," "," "," "," "," "," "," "," "," "," "," "," "," "," "," "," "," "," "," "," "," "," "]
[" "," "," "," "," "," "," "," "," "," "," "," "," "," "," "," "," "," "," "," "," "," "," "," "," "," "," "," "," "," "," "," "," "," "," "," "," "," "," "," "," "," "," "," "," "," "," "," "," "," "," "," "," "," "," "," "," "," "," "," "," "," "," "," "," "," "," "," "," "," "," "," "," "," "," "," "," "," "," "," "," "," "," "," "," "," "," "," "," "," "," "," "," "," "," "," "," "," "," "," "," "," "," "," "," "," "," "," "," "," "," "," "," "," "," "," "," "," "," "," "," "," "," "," "," "," "," "," "," "," "," "," "," "," "," "," "," "," "," "," "," "," "," "," "," "," "," "," "," "," "," "," "," "," "," "," "," "," "," "," "," "," "," "," "," "," "," "," "," "," "," "," "," "," "," "," "," "," "," "," "," "," "," "," "," "," "," "," "," "," "," "," "," "," "," "," "," "," "," "," "," "," "," "," "," "," "," "," "," "," "," "," "," "," "," "," "," "," "," "," "," "," "," "," "," "," "," "," "," "," "," "," "," "," "," "," "," "," "," "," "," "," "," "," "," "," "," "," "," "," "," "," "," "," "," "," "," "," "," "," "," "," "," "," "," "," "," "," "," "," "," "," "," "," "," "," "," "," "," "," "," "," "," "," "," "," "," "," "," "," "," "," "," "," "," "," "," "," "," "," "," "," "," "," "," "," "," "," "," "," "," "," "," "," "," "," "," "," "," "," "," "," "," "," "," "," "," "," "," "," "," "," "," "," "," "," "," "," "," "," "," "," "," "," "," "," "," "," "," "," "," "," "," "," "," "," "," "," "," "," "," "," "," "," "," "," "," "," "," "," "," "," "," "," "," "," "," "," "," "," "," "," "," "," "," "," "," "," "," "," "]
[" "," "," "," "," "," "," "," "," "," "," "," "," "," "," "," "," "," "," "," "," "," "," "," "," "," "," "," "," "," "," "," "," "," "," "," "," "," "," "," "," "," "," "," "," "," "," "," "," "," "," "," "," "," "," "," "," "," "," "," "," "," "," "," "," "," "," "," "," "," "," "," "," "," "," "," "," "," "," "," "," "," "," "," "," "," "," "," "," "," "," "," "," "," "," "," "," "," "," "," "," "," "," "," "," "," "," "," "," "," "," "," "," "," "," "," "," "," "," "," "," "," "," "," "," "," "," "," "," "," "," "," "," "," "," "," "," "," "," "," "," "," "," "," "," "," "," "," "," "," "," "," "," "," "," "," "," "," "," "," "," "," "," "," "," "," "," "," "," "," "," "," "," "," "," "," "," "," "," "," "," "," "," "," "," "," "," "," "," "," "," "," "," "," "," "," "," "," "," "," "," "," "," "," "," "," "," "," "," "," "," "," "," "," "," "," "," "," "," "," "," "," "," "," "," "," "," "," "," "," "," "," "," "," "," "," "," "," "," "," "," "," "," "," "," "," "," "," "," "," "," "," "," "," "," "," "," "," "," "," "," "," "," "," "," "," "," "," "," "," "," "," "," "," "," "," "," "," "," "," "," "," "," "," "," "," "," "," "," "," "," "," "," "," "," "," "," "," "," "," "," "," "," "," "," "," "," "," "," "," "," "," "," "," "," "," "," "," "," "," "," "," "," "," "," "," "," "," "," "," "," "," "," "," "," "," "," "," "," "," "," "," "," "," "," "," "," "," "," "," "," "," "," "," "," "," "," "," "," "," "," "," "," "," "," "," "," "," "," "," "," "," "," "," "," "," "," "," "," "," "," "," "," "," "," "," "," "," "," "," "]
[" "," "," "," "," "," "," "," "," "," "," "," "," "," "," "," "," "," "," "," "," "," "," "," "," "," "," "," "," "," "," "," "," "," "," "," "," "," "," "," "," "," "," "," "," "," "," "," "," "," "," "," "," "," "," "," "," "," "," "," "," "," "," "," "," "," "," "," "," "," "," "," "," "," "," "," "," "," "," "," "," "," "," "," "," "," "," "," "," "," "," "," "," "," "," "," "," "," "," "," "," "," "," "," "," "," "," "," "," "," "," "," "," "," "," "," "," "," "," "," "," "," "," "," "," "," "," "," "," "," "," "," "," "," "," "," "," "," "," "," "," "," "," "," "," "," "," "," "," "," "," "," "," "," "," "," "," "," "," "," "," "," "," "," "," "," "," "," "," "," "," "," "," "," "," "," "," "," "," "," "," "," "," "," "," "," "," "," "," "," "," "," "," "," "," "," "," "," "," "," "," "," "," "," "," "," "," "," "," "," "," "," "," "," "," "," "," "," "," "," "," "," "," "," "," "," "," "," "," "," "," "," "," "," "," "," "," "," "," "," "," "," "," "," "," "," "," "," "," "," "," "," "," "," "," "," "," "," "," "," "," "," "," "," "," "," "," "," "," "," "," "," "," "," "," "," "," "," "," "," "," "," "," "," "," "," "," "," "," "," "," "," "," "," "," "," "," "," "," "," "," "," "," "," "," "," "," "," "," "," "," "," "," "," "," "," "," "," "," "," "," "," "," "," "," "," "," "," "," "," "," "," "," "," "," "," "," "," "," "," "," "," "," "," "," "," "," "," "," "," "," "," "," "," "," "," "," "," "," "," "," "," "," "," "," "," "," "," "," "," "," "," "," "," "," "," "," "," "," "," "," "," "," "," "," "," "," "," "," "," "]
[" "," "," "," "," "," "," "," "," "," "," "," "," "," "," "," "," "," "," "," "," "," "," "," "," "," "," "," "," "," "," "," "," "," "," "," "," "," "," "," "," "," "," "," "," "," "," "," "," "," "," "," "," "," "," "," "," "," "," "," "," "," "," "," "," "," "," "," "," "," "," "," "," "," "," "," "," "," "," "," "," "," "," "," "," "," "," "," "," "," "," "," "," "," "," "," "," "," "," "," "," "," "," "," "," "," "," "," "," "," "," "," "," "," "," "," "," "," "," "," "," "," "," "," "," "," "," "," "," "," "," "," "," "," "," "," "," "," "," "," "," "," "," "," "," "," "," "," "," "," "," "," "," "," "," "," "," "," "," "," "," "," "," "," "," "," "," "," "," "," "," "," "," "," "," "," "," "," "," "," "," "," "," "," "," "," "," "," "," "," "," "," "," "," "," "," "," "," "," "," "," "," "," "," "," "," "," "," "," "," "," "," "," "," "," "," "," "," "," "," "," "," "," "," "," "," "," "," "," "," "," "," "," "," "," "," "," "," "," "," "," "," "," "," "," "," "," "," "," "," "," "," "," "," "," "," "," "," "," "," "," "," "," "," "," "," "," "," "," "," "," "," "," "," "," "," "," "," "," "," "," "," "," "," "," "," "," "," "," "," "," "," "," "," "," "," "," "," "," "," "," "," "," "," "," "," "," "," "," "," "," "," "," "," "," "," "," "," "," "," "," "," "," "," "," "," "," "," "," "," "," "," "," "," "," "," "," "," "," "," "," "," "," "," "," "," "," "," "," "," "," "," "," "," "," "," "," "," "," "," "," "," "," "," "," "," "," "," "," "," "," "," "," "," "," "," "," "," "," "," "," "," "," "," "," "," "," "," "," "," "]
[" "," "," "," "," "," "," "," "," "," "," "," "," "," "," "," "," "," "," "," "," "," "," "," "," "," "," "," "," "," "," "," "," "," "," "," "," "," "," "," "," "," "," "," "," "," "," "," "," "," "," "," "," "," "," "," "," "," "," "," "," "," "," "," "," "," "," "," "," "," "," "," "," "," "," "," "," "," "," "," "," "," "," "," "," "," "," "," "," "," "," "," "," "," "," "," "," "," "," "," "," "," "," "," "," "," "," "," "," "," "," "," "," "," "," "," "," "," "," "," "," "," "," "," "," "," "," "," "," "," "," "," "," "," "," "," "," "," "," "," "," "," "," "," "," "," "," "," "," "," "," "," "," "," "," "," "," "," "," "," "," "," "," "," "," "," "," "," "," "," "," "," "," "," "," "," "," "," "," "," "," "," "," "," "," "," "," "," "," "," "," "," "," "," "," "," "," "," "," "," "," "," "," "," "," "," "," "," "," "," "," "," "," "," "," "," "," "," "," "," "," "," "," "," "," "," "," "," "," "," "," "," "," "," "," "," "," "," "," "," "," "," "," "," "," "," "," "," "," "," "," "," "," "," "," "," "," "," "," "," "," "," "," "," "," "," "," "," "," "," "," "," "," "," "," "," "," "," "," "," "," "," "," "," "," "," "," "," "," "," "," "," "," "," "," "," "," "," "," "," "," "," "," "," "," "," "," "," "," "," "," "," "," "," "," "," "," "," "," "," "," "," "," "," "," "," "," "," "," "," "," "," "," "," "," "," "," "," "," "," "," "," "," "," "," "," "," "," "," "," "," "," "," "," "," "," "," "," "," "," "," "," "," "," "," "," "," "," "," "," "," "," "," "," "," "," "," "," "," "," "," "," "," "," "," "," "," "," "," "," "]
[" "," "," "," "," "," "," "," "," "," "," "," "," "," "," "," "," "," "," "," "," "," "," "," "," "," "," "," "," "," "," "," "," "," "," "," "," "," "," "," "," "," "," "," "," "," "," "," "," "," "," "," "," "," "," "," "," "," "," "," "," "," "," "," "," "," "," "," "," "," "," "," "," "," "," "," "," "," "," "," "," "," "," "," "," "," "," "," "," "," "," "," "," "," "," "," "," "," "," "," "," "," "," "," "," "," "," "," "," "," "," "," "," "," "," "," "," "," "," "," "," "," "," "," "," "," "," "," "," "," "," "," "," "," "," "," "," "," "," "," "," "," "," "," "," "," "," "," "," "," "," "," "," "," "," "," "," "," "," "," "," "," "," "," "," "," "," "," "," "," "," "," "," "," "," "," "," "," "," "," "," "," "," "," "," "," "," "," "," "," "," "," "," "," "," "," "," "," "," "," "," "," "," "," "," "," "," "," "," "," "," "," "," "," "," "," "," "," "," "," "," "," "," "," "," "," "," "," "," "," "," "," "," "," "," "," "," "," "," "," "," "," "," "," "," "," "," "," "," "," "," "," "," "," "," "," "," "," "," "," "," "," "," "," "," "," "," "," "," "," "," "," "," "," "," "," "," "," "," "," "," "," "," "," "," "," "," "," "," "," "," "," "," "," "," "," "," "," "," "," "," "," "," "," "," "," "," "," "," "," "," "," "," "," "," "," "," "," "," "," "," "," "," "," "," "," "," "," "," "," "," "," "," "," "," "," "," "," "," "," "," "," "," "," "," "," "," "," "," "," "," "," "," "," "," "," "," "," "," "," "," "," "," "," "," "," "," "," "," "," "," "," "," "," "," "," "," "," "," "," "," "," "," "," "," "," "," "," "," "," "]
[" "," "," "," "," "," "," "," "," "," "," "," "," "," "," "," "," "," "," "," "," "," "," "," "," "," "," "," "," "," "," "," "," "," "," "," "," "," "," "," "," "," "," "," "," "," "," "," "," "," "," "," "," "," "," "," "," "," "," "," "," "," "," "," "," "," "," "," "," "," "," "," "," "," "," "," "," "," "," "," "," "," "," "," "," "," "," "," "," "," "," "," "," "," "," "," "," "," "," "," "," "," "," "," "," "," "," "," "," "," "," "," "," "," "," "," "," "," "," "," "," "," "," "," "," "," "," "," "," "," "," "," "," "," "," "," "," "," "," "," "," "," "," "," "," "," "," "," "," "," "," "," "," "," "," "," "," "," "," "," "," "," "," "," "," "," "," "," "," "," "," "," "," "," "," "," "," "," "," "," "," "," "," "," "," "," "," "," "," "," "," "," "," "," "," "," "," "," "," "," "," "," "," "," "," "," "," "," "," "," "," "," "," "," "," "," "," "," "," "," "," "," "," "," "," "," "," "," "," "," "," "," "," "," "," "," "," "," "," "," "," "," "," "," "," "," "," "," "," "," "," "," "," "," "," "," "," "," "," "," "," "," "," "," "," "," "," "," "," "," "," "," "," "," "," "," "," "," "," "," "," "," "," "," "," "," "," "," "," "," "," "," "," "," "," "," "," "," "," "," "," "," "," "," "," "," "," "," "," "," "," "," "," "," "," "," "," "," "," "," "," "," "," "," "," "," "," "," "," "," "," "," "," "," "," "," "," "," "," "," "," "," "," "," "," "," "," "," "," "," "," "," "," "," "," "," "," "," "," "," "," "," "," "," "," "," "," "," "," "," "," "," "," "," "," "," "," "," "," "," "," "," "," "," "," "," "," "," "," "," "]
[" "," "," "," "," "," "," "," "," "," "," "," "," "," "," "," "," "," "," "," "," "," "," "," "," "," "," "," "," "," "," "," "," "," "," "," "," "," "," "," "," "," "," "," "," "," "," "," "," "," "," "," "," "," "," "," "," "," "," "," "," "," "," "," "," "," "," "," "," "," "," "," "," "," "," "," "," "," "," "," "," "," "," "," "," "," "," "," "," "," "," "," "," "," "," "," "," "," "," "," "," "," "," "," "," "," "," "," "," "," "," "," "," "," "," "," "," "," "," "," "," "," "," "," "," "," "," "," "," "," "," "," "," "," "," "," "," "," "," "," "," "," "," "," "," "," "," "," "," "," "," "," "," "," "," "," "," "," "," "," "," "," "," "," "," "," "," "," "," "," "," "," "," "," "," "," "," "," "," "," "," "," "," "," "," "," "," "," "," "," "," "," "," "," "," "," "," "," "," "," "," "," "," "," "," "," "," "," "," "," "," "," "," "," "," "," "," "," "," "," "," "," "," "," "," "," "," "," "," "," "," "," "," "," "," "," "," "," "," "," "," "," "," "," "," "," "," "," "," "," "," "," "," "," "," "," "," "," "," "," "," "," "," "," "," "," "," "," "," "," "," "," "," "," "," "," "," "," "," "," "," "," "," "," "," "," "," "," "," "," "," "," "," "," "," "," "," "," "," "," "," "," "," "," "," "," "," "," "," "," "," "," "," "," "," "," "," "," "," "," "," "," "," "," "," "," "," "," "," "," "," "," "," "," "," "," "," "," "," "," "," "," "," "," "," "," "," "," "," "," "," "," "," "," "," "," "," "," "," "," "," "," "," "," "," "," "," "," "," "," "," "," "," "," "," "," "," "," "," "," "," "," "," "," "," "," "," "," "," "," "]
[" "," "," "," "," "," "," "," "," "," "," "," "," "," "," "," "," "," "," "," "," "," "," "," "," "," "," "," "," "," "," "," "," "," "," "," "," "," "," "," "," "," "," "," "," "," "," "," "," "," "," "," "," "," "," "," "," "," "," "," "," "," "," "," "," "," "," "," "," "," "," "," "," "," "," "," "," "," "," "," "," "," "," "," "," "," "," "," "," "," "," "," "," "," "," "," "," "," "," "," "," "," "," "," "," "," "," "," "," "," "," "," "," "," "," "," "," "," "," "," "," "," "," "," "," "," "," "," "," "," "," "," "," "," "," "," "," "," "," "," "," "," "," "," "," "," "," "," "," "," "," "," "," "," "," "," "," "," "," "," "," "," "," "," "," "," "," "," "," "," "," "," "," "," "," "," "," "," "," "," "," "," "," "," "," "," "," "," "," "," "," "," "," "," "," "," "," "," "," "," "," "," "," "," "," "," "," "," "," "," "," "," "," "," "," "," "," "," "," "," "," "," "," "," "," "," "," "," "," "," "," "," "," "," "," "," "," "," "," "," "," "," "," "," "," "," "," "," "," "," "," "," "," "," "," "," "," "," "," "," "," "," "," "," "," "," "," "," "," "," "," "," "," "," "," "," "," "," "," "," "," "," "," "," "," "," "," "," "," "," "," "," "," "," "," "," "," "," "," "," "," "," "," "," "," "," "," "," "," "," "," "," "," "," "," "," "," "," "," "," "," "," "," "," "," "," "," "," "," "," "," "," "," "," "," "," "," "," "," "," "," "," "," "," "," "," "," "," "," "," "," "," "," "," "," "," "," "," "," "," "," "," "," "," "," "," "," "," "," "," "," "," "," "," "," "," "," "," "," "," "," "," "," "," "," "," "," "," "," "," "]
[" "," "," "," "," "," "," "," "," "," "," "," "," "," "," "," "," "," "," "," "," "," "," "," "," "," "," "," "," "," "," "," "," "," "," "," "," "," "," "," "," "," "," "," "," "," "," "," "," "," "," "," "," "," "," "," "," "," "," "," "," "," "," "," "," "," "," "," "," "," "," "," "," "," "," "," "," "," "," "," "," "," "," "," "," "," "," "," "," "," "," "," "," "," "," "," "," "," "," "," "," "," "," "," "," "," "," "," "," "," "," "," "," "," "," "," "," "," "," "," "," "," "," "," "," "," "," "," "," "," "," "," "," "," "," "," "," "," "," "," "," "," "," "," "," "," "," "," "," "," "," "," "," "," "," "," "," "," "," "," "," "," "," "," "," "," "," "," "," "," "," "," "," "," "," "," "," "," "," "," "," "," "," "," "," "," "," "," "," "," "," "," "," "," "," "," "," "," "," "," "," "," "," "," "," "," "," "," "," "," "," "," "," "," "," "," "," "," "," "," "," "," "," "," "," "," "," "," "," "," "," "," "," "," "," "," "," "," "," "," "," "," "," "," "," "," "," "," "," "," "," "," "," "," "," "," "," "," "," "," "," "," "," "," "," "," "," "," "," "," "," "," "," "," "," "," "," "," "," "," "," "," "," "," "," "," "," "," "," "," "," "," "," "," "," "," "," "," "," "," "," "," "," "," "," "," "," "," "," "," "," "," "," "," "," "," "," "," "," "," "," "," "," "," "," "," "," "," "," "," "," "," "," "," "," "," "," "," "," "," "," "," "," "," "," "," "," "," "," "," "," "," "," "," "," "," "," "," "," "," "," "," "," "," "," "," "," "," "," "," "," "," "," "," "," "," "," "," "," "," "," "," "," "," "," "," "," "," "," "," "]
[" "," "," "," "," "," "," "," "," "," "," "," "," "," "," "," "," "," "," "," "," "," "," "," "," "," "," "," "," "," "," "," "," "," "," "," "," "," "," "," "," "," "," "," "," "," "," "," "," "," "," "," "," "," "," "," "," "," "," "," "," "," "," "," "," "," "," "," "," "," "," "," "," "," "," "," "," "," "," "," "," "," "," "," "," "," "," "," "," "," "," "," "," "," "," "," "," "," "," "," "," "," "," "," "," "," "," "," "," "," "," "," "," "," "," "," "," "," "," "," "," "," "," "," "," "," "," "," "," "," "," "," "," "," "," "," "," "," "," "," "," "," "," "," "," "," "," "," "," "," "," "," "," "," "," "," "," "," "," "," "," "," "," "," "," "," "," "," "," "," "," "," "," "," "," "," "," "," "," "," "," "," "," "," "," "," "," "," "," "," "," "," "," "," "," "," "," "," "," "," "," "," "," "," "," "," "," "," "," "," "," "," "," "," "," "," "," "," "," "," "," "," "," "," "," "," "," "," "," "," "," "," "," "," "," "," "," "," "," "," "," "," "," "," "," "," "," "," "," "," "," "," "," "," "," "," "," "," "," "," "," "," "," "," "," "," "," "," "," "," "," "," "," "," "," "," "," "," "," "," "," "," "," "," "," "," "," "," "," "," "," "," "," "," "," "," "," "," "," "," "," "," "," "," "," "," "," "," "," "," "," "," "," "," "," "," "," "," "," "," "," "," "," "," "," "," "," "," "," "," "," "," "," "," "," "," "," "," "," "," "," "," "," "," "," "," "," "," "," "," "," "," "," "," "," "," "," "," "," "," "," "," "," "," "," "," "," "," "," "," "," "," "," "," "," "," "," "," "," "," "," "," "," "," "," "," "," "," "," "," "]
[" "," "," "," "," "," "," "," "," "," "," "," "," "," "," "," "," "," "," "," "," "," "," "," "," "," "," "," "," "," "," "," "," "," "," "," "," "," "," "," "," "," "," "," "," "," "," "," "," "," "," "," "," "," "," "," "," "," "," "," "," "," "," "," "," "," "," "," "," "," "," "," "," "," "," "," "," "," "," "," "," "," "," "," "," "," "," "," "," "," "," "," "," "," "," "," "," "," "," "," "," "," "," "," "," "," "," "," "," "," "," "," "," "," "," "," "," "," "," "," "," "," "," "," "," "," "," "," "," "," "," "," "," "," "," "," "," "," "," "," "," "," "," "," "," "," "," "," "," "," "," "," "," "," "," "," "," "," "," "," "," "," "," "," "," "," "," "," "," "," "," "," "," "," "," "," "," "," "," "," "," "," "," "," "," "," "," "," "," "," "," "," "," "," "," "," "," "," "," "," "," "," "," "," "," "," "," "," "," "," "," "," "," "," "," "," "," "," "," "," "," "," "," "," "," "," "," "," "," "," "," "," "," "," "," "," "," "," "," "," "," "," "," "," "," "," "," "," "," "," "," "," "," "," "," "," "," "," "," "," "," "," "," "," "," "," "," "," "," "," "," "," "," "," "," "," "," "," "," "," "," "," "," "," "," "," "," "," "," "," "," "," "," "," "," "," "," "," "," "," "," "," "," "," "," "," "," "," "," "," "," "," "," "," "," "," "," "," "," "," "," "," "," "," "," "," "," "," "," "," "," "," "," "," "," "," "," "," "," "," "," "," "," "," "," "," "," "," "," "," "," "," "," "," "," "," "," "," "," "," "," "," "," "," "," "," "," "," "," "," "," "," "," "," "," "," "," "," "," "," "," "," "," "," "," "," "," "," "," "," "]
[" "," "," "," "," "," "," "," "," "," "," "," "," "," "," "," "," "," "," "," "," "," "," "," "," "," "," "," "," "," "," "," "," "," "," "," "," "," "," "," "," "," "," "," "," "," "," "," "," "," "," "," "," "," "," "," "," "," "," "," "," "," "," "," "," "," "," "," "," "," "," "," "," "," "," "," "," "," "," "," "," "," "," "," "," "," "," "," "," "," "," "," "," "," "," "," "," "," "," "," "," "," "," "," "," "," "," "," "," "," "," "," "," "," "," "," "," "," "," "," "," "," "," "," "," "," "," "," "," "," "," "," "," "," "," "," "," "," "," "," "," "," "," "," "," "," "," "," "," "," "," "," "," "," "," "," "," "," "," "," "," "," "," "," "," "," "," "," "," "," "," "," "," "," "," "," "," "," "," "," "," "," "," "," "," "," "," "," "," "," "," "," "," "," "," "," "," "," "," "," "," "," "," "," "," "," "," "," "," "," "," "," "," "," "," "," "," "," "," "," "," "," "," "," "," "," "," "," "," "," "," "," "," "," "," "," "," "," "," "," "," "," "," "," "," "," "," "," "," "," "," "," "," "," "," "," "," "," "," "," "," "," "," "," "," "," "," "," "," "," "," "," "," "," "," "," "," "," "," "," "," "," "," "," "," "," "," "," "," "," "," "," "," "," "," "," "," "," "," "," "," "," "," "," "," "," "," "," "," "," "," "," "," "," "," "," "," "," "," "," "," "," "," "," "," "," "," "," "," "," "," "," "," "," "," "," "," "," "," "," "," "," "," "," "," "," "," "," "," "," "," "," "," "," "," "," "," "," "," "," "," "," "," "," "," "," "," "," "," "," "," "," "," "," "," "," "," "," "," "," "," "," "," "," "," "," "," "," "," "," "]
[" "," "," "," "," "," "," "," "," "," "," "," "," "," "," "," "," "," "," "," "," "," "," "," "," "," "," "," "," "," "," "," "," "," "," "," "," "," "," "," "," "," "," "," "," "," "," "," "," "," "," "," "," "," "," "," "," "," "," "," "," "," "," "," "," "," "," "," "," "," "," "," "," "," "," "," "," "," "," "," "," "," "," "," "," "," "," "," "," "," "," "," "," "," "," "," "," "," "," "," "," "," "," "," "," "," "," "," "," "," "," "," "," "," "," "," "," "," "," "," "," "," "," "," "," "," "," "," "," "," "," "," "," "," "," "," "," "," "," "," "," "," "," "," "," "," "," "," "," "," "," "," "," "," "," "," "," "," "," "," "," "," "," "," "," "," "," "," "," "," "," "," "," "," "," "," "," "," "," "," "," "," "," "," "," "," "," "," "," "," "," "," "," "," "," "," "," "," "," "," "," "," "," "," "," "," "," "," "," "," "," "," "," "," "," "," "," "," "," "," "," "," "," "," "," "," "," "," "," "," "," "," "," "," "," "," "," "," "," "," "," "," "," "," "," "," "," "," "," "," "," "," "," "," "," "," "," "," "," "," "," "," "," "," "," "," "," "," "," "," "," "," "," "," "," "," "," "," "," "," "," "," "," "," "," "," "," "," "," "," "," "," "," "," "," "," "," "," "," "," "," "," "," "," "," "," "," "," "," "," "," "," "," "," "," "," "," "," "," "," "," "," "," "," "," "," "," "," "," "," "," "," "," "," "," "," "," "," "," "," "," "," "," "," "," "," "," "," "," "," "," "," "," "," "," "," "," "," "," "," "," "," "," "," "," "," "," "," "," "," "," "," "," "," "," "," "," "," "," "," "," "," "," "," "," "," "," "," "," "," "]
[" "," "," "," "," "," "," "," "," "," "," "," "," "," "," "," "," "," "," "," "," "," "," "," "," "," "," "," "," "," "," "," "," "," "," "," "," "," "," "," "," "," "," "," "," "," "," "," "," "," "," "," "," "," "," "," "," "," "," "," "," "," "," "," "," "," "," "," "," "," "," "," "," "," "," "," "," "," "," "," "," "," "," "," "," "," "," "," "," "," "," "," "," "," "," "," "," "," "," "," "," "," "," "," "," "," "," "," "," "," "," "," "," "," "," "," "," "," "," "," "," "," "," "," "," "," "," "," "," "," "," "," "," "," "," "," "," "," "," "," "," "," "," "," "," "," "," "," "," "," "," "," "," "," "," "," "," "," "," "," "," "," "," "," "," "," "," "," "," "," "," "," "," "," "," "," "," "," "," "," "," "," "," "," "," "," "," "," "," "," "," "," "," "," "," "," "," "," "," "," "," "," "," "," "," "," "," "," "," "," "," "," "," "," "," "," "," "," "," "," "," "," "," "," "," "," "," "," "," "," "," "," "," "," "," "," "," "," "," "," "," "," "," "," "," "," "," "," "," "," "," "," "," "," "," "," "," "," "," "," "," "," "," "," "," "," "," "," "," "," "," "," "," "," "," "," "," "," "," "," "," "," "," "," "," "," "," "," "," "," "," "," "," "," "," "," "," "," "," "," "," "," "," "," "," "," "," "," "," "," "," "," "," "," "," "," "," "," "," "," "," "," "," "," "," "," "," "," "," "," "," "," "," "," "," "," "," "," "," "," "," "," "," "," "," "," "," "," "," "," "," "," "," "," "," "," "," "," "," "," "," "," "," "," "," "," "," "," "," "," "," "," "," "," "," "," "," "," "," "," "," "," "," "," "," "," "," "," "," "," "]
[" "," "," "," "," "," "," "," "," "," "," "," "," "," "," "," "," "," "," "," "," "," "," "," "," "," "," "," "," "," "," "," "," "," "," "," "," "," "," "," "," "," "," "," "," "," "," "," "," "," "," "," "," "," "," "," "," "," "," "," "," "," "," "," "," "," "," "," "," "," "," "," "," "," "," "," "," "," "," "," "," "," "," "," "," "," "," "," "," "," "," "," "," "," "," "," "," "," "," "," "," "," "," "," "," "," "," "," "," "," "," "," "," "," "," "," "," "," "," "," "," "," "," "," "," "," "," "," "," "," "," "," "," "," "," "," "," "," "," "," "," "," "," "," "," "," "," "," "," "," "," "," "," "," "," "," "," "," "," "," "," "," "," "," "," "," "," "," "," "," "," "," "," "," "," "," "," "," "," "," "," "," "," "," "," "," "," "," "," "," "," "," "," "," "," "," "," "," "," "," "," "," "," "," "," "," "," "," "," "," "," "," "," "," "," "," "," "," "," "," "," "," "," "," "," "," "," "," "," "," "," "," "," "," "," "," "," "," "," "," "," "," "," "," "," "," "," "," "," "," "," "," "," "," "," "," "," "," "," "," "," "," "," "," "," "," "," "," "," "," "," "," "," "," "," "," "," "," "," "," "," "," "," "," "," "," "," "," "," "," "," "," "," "," "," "," "," "," "," "," "," "," "," "," "," "," "," "," "," "," "," "," "," "," "," "," "," "," "," "," "," "," "," "," "," "," "," "," "," "," "," "," "," "," "," "," "," "," "," "," "," "," "," "," "," "," "," "," "," "," "," "," "," "," "," "," "," "," "," "," "," "," "," "," "," "," "," "," "," "," "," "," "," "," "," "," "," "," "," "," "," "," "," "," "," "," "," "," "," "," "]
[" "," "," "," "," "," "," "," "," "," "," "," "," "," "," "," "," "," "," "," "," "," "," "," "," "," "," "," "," "," "," "," "," "," "," "," "," "," "," "," "," "," "," "," "," "," "," "," "," "," "," "," "," "," "," "," "," "," "," "," "," "," "," "," "," "," "," "," "," "," "," "," "," "," "," "," "," "," "," "," "," "," "," "," "," "," "," "," "," "," "," "," "," "," "," "," "," "," "," "," "," "," "," "," "," "," "," "," "," "," "," "," "," "," "," "," "," "," "," "," "," "," "," "," "," "," "," "," "," "," "," "," "," "," "," "," "," "," "," "," "," "," "," "," "," "," "," "," "," "," "," "," "," "," "," "," "," "," "," "," "," "," "," "," "," "," "," "," "," "," "," "," "," "," "," "," "," "," "," "," "," "," "," "," "," "," "," "," "," "," "," "," "," "," "," "," "," "," "," "," "," "," "," "," "," "," "," "," "," "," "," "," "," "," "," "," "," "," "," "," "," "," "," "," "," "," "," "," "," "," "," "," "," "," "," "," "," "," "," "," "," "," "," "," "," "," "," "," "," "," "," "," "," "," "," "," "," "," "," "," "," "," "," "," "," "," "," "," "," "," "," "," "," "," "," "," "," "," "," "," "," "," "," "," "," "," "," "," "," "," "," "," "," "," "," "," "," "," "," "," "," "," "," "," "," "," "," "," "," "," "," "," "," "," "," "," "," "," "," "," "," "," "," "," "," "," "," "," "," "," "," "," "," "," "," "," "," "," "," "," "," "," "," "," "," "," "," "," "," "," "," "," "," "," "," "," "," "," "," "," "," "," "," "," "," "," "," "," "," "," "," "," "," "," "," "," "," "," "," "," "," "," "," "," "," "," "," "," "," "," "]
[" "," "," "," "," "," "," "," "," "," "," "," "," "," "," "," "," "," "," "," "," "," "," "," "," "," "," "," "," "," "," "," "," "," "," "," "," "," "," "," "," "," "," "," "," "," "," "," "," "," "," "," "," "," "," "," "," "," "," "," "," "," "," "," "," "," "," "," "," "," "," "," "," "," "," "," "," "," "," "," "," "," "," "," "," "," "," "," "," "," "," "," "," "," "," "," "," "," "," "," "," "," "," "," "," "," "," "," "," "," "," "," "," "," "," "," "," "," "," "," "," "," "," "," "," "," "," "," "," "," "," "," "," "," "," "," "," "," "," "," "," "," "," "," "," "," "," "," "," "," "," "," "," "," "," "," "," "," "," "," "," "," "," "," "," "," "," "," "," "," "," "," "," "," "," "," "," "," "," "," "," "," "," "," "," "," "," "," "," "," "," "," "," "," "," "," "," "," "," "," "," "," "," "," "," "," "," "," "," "," "," "," "," "," "," "," "," "," "," "," "," "," "," "," "," "," "," "," "," "," "," "," "," "," "," "," "," "," "," "," "," "," "," "," "," "," "," "," "," "," "," "," "," "," "," "," "," "," "," "," "," "," "," "," "," "," "," "," "," "," "," "," "," "," "," "," "," "," "," "," "," "," "," "," "," "," "," "," "," "," "," "," "," "," "," "," "," "," "," "," "," "," "," "," "," "," "," "," "," "," "," "," "," "," "," "," "," "," "," "," "," "," "," "," "," "," "," "," "," "," "," "," "," "," "," "," "," "," "," "," "," "," "," "," "," "," "," "," "," "," "," "," "," "," "," "," "," "," "," "," "," "," "," "," "," "," "," "," "," "," "," "," "," "," "," "," "," "," "," "," "," "," "," "," "," "," "," "," "," "," "]
[" "," "," "," "," "," "," "," "," "," "," "," "," "," "," "," "," "," "," "," "," "," "," "," "," "," "," "," "," "," "," "," "," "," "," "," "," "," "," "," "," "," "," "," "," "," "," "," "," "," "," "," "," "," "," "," "," "," "," "," "," "," "," "," "," "," "," "," "," "," "," "," "," "," "," "," "," "," "," "," "," "," "," "," "," "," "," "," "," "," "," "," "," "," "," "," "," "," "," "," "," "," "," "," "," "," "," "," "," "," "," "," "," "," "," "," "," "," "," "," "," "," "," "," "," "," "," "," "," "," "," "," "," "," "," "," "," "," "," "," "," "," "," "," "," "," "," "," "," "," "," "," "," "," "," "," "," "," "," "," "," "," "," "," "," "," "," "," "," "," "," "," "," "," "," "," "," "," "," "," "," "," "," "," "," "," "," "," "," "," "," "," "," "," "," "," "," "," "," "," "," "," "," "," "," "," "," "," "," "," "," "," "," "," "," "," "," "," "," "," "," "," "," "," "," "," "," "," "," "," "," "," "," "," "," "," "," "," "," "," "," "," "," "," "," "," "," "," "," "," "," "," "," "," "," "," "," "," "," "," "," "," "," "," "," "," "," "," "," "," "," "," "," "," "," "," "," "," "," "," "," "," "," "," "," "," "," "," "," "," "," "," "," "," "," "," "," "," "," "," "," "," "," "," "," "," "," "," "," "," "," "," "," "," "," "," "," "," "," "," "," "," "," "," "," "," "," "," "," "," "," "," "," "," "," "," "," "," "," "," "," "," "," "," "," "," "," "," "," "," "," "," "," "," "," "," "," "," "," "," "," "," "," "," "," "," "," "," "," "," "," "," "," "," "," "," "," "," "," "," "," "," "," "," "," "," "," "," "," "," "]
[" "," "," "," "," "," "," "," "," "," "," "," "," "," "," "," "," "," "," "," "," "," "," "," "," "," "," "," "," "," "," "," "," "," "," "," "," "," "," "," "," "," "," "," "," "," "," "," "," "," "," "," "," "," "," "," "," "," "," "," "," "," "," "," "," "," "," "," "," "," "," "," "," "," "," "," "," "," "," "," "," "," "," "," "," "," "," "," "," "," "," "," "," "," "," "," "," "," "," "," "," "," "," "," "," "," "," "," "," "," "," "," "," "," "," "," "," "," "," "," "," "," "," "," "," "," "," "," "," "," "," "," "," "," "," "," "," "," "," "," "," "," "," "," "," "," "," "," "," "," "," "," "," "," "," "," "," "," "," "," "," "," "," "," "," "," "," "," "," "," "," "," "," "," "," "," "," "," "," "," "," "," "," "," "," "," "," "," "," "," "," "," "," "," "," "," "," "," "," "," "," "," "," "," "," "," "," "," "," "," "," "," "," "," "," "," "," "," "," "," "," "," "," "," "," "," "," "," "," "," "," "," "," "," "," "," "," "," "," "," "," "," "," "," "," "," "," "," "," "," "," "," "," "," "," "," "," "," "," "," "," "," "," "," "," "," "," "," "," "," "," "," "," "," "," "," "," "," "," "," "," "," "," "," "," "," "," "," "," "," "," "," "," "," "," "," "," "," "," "," "," "," "," "," "," "," "," "," "," "," "," "," "," "," "," "," "," "," "," "," "," "," "," "," "," "," "," "," "," "," "," "," "," "," "," "," "," "," "," "," "," "," "," "," "," "," "," "," "," "," "," "," "," "," "," "," "," "," "," "," "," "," "," "," "," "," "," "," "," "," "," "," "," "," "," "," "," "," "," "," "," "," "," "," "," "," "," "," "," "," "]
[" "," "," "," "," "," "," "," "," "," "," "," "," "," "," "," "," "," "," "," "," "," "," "," "," "," "," "," "," "," "," "," "," "," "," "," "," "," "," "," "," "," "," "," "," "," "," "," "," "," "," "," "," "," "," "," "," "," "," "," "," "," "," "," "," "," "," "," "," "," "," "," "," "," "," "," "," "," "," "," "," "," "," "," "," "," "," "," "," "," "," "," "," "," "," "," "," "," "," "," "," "," "," "," "," "," "," "," "," "," "," "," "," "," "," "," "," "," "," "," "," "," "," "," "," "," "," "," "," "," "," "," "," "," "," "," "," "," "," "," "," "," "," "," "," "," "," "," "," "," "," "," "," "," "," "," "," "," "," "," "," "," "," "," "," "," "," "," "," "," "," "," "," "," "," "," "," "," "," "," "," "," "," "," "," "," "," "," "," "," "," "," "," "," "," "," "," "," "," "," "," "," "," "," "," "," "," "," "," "," "," "," "," "," "," "," "," "," "," "," "," "," "," "," "," "," "," "," "," "," "," "," "," "," "," "," "," "," "," "," "," "," "," "," "," "," "," "," "," "," "," "," "," "," "," "," "," "," "," "," "," "," "," "," "," "," "," "," "," "," "," "," "," "," "," "," "," "," "," "," "," "," "," "," "," "," "," "," "," "," "," "," "," "," "," "," "," "," "," "," "," "," "," "," "," "," "," "," "," "," "," "," "," "," "," "," "," "," "," "," "," "," "," "," "," "," "," "," "," "," "," "," "," "," "," "," "," "," "," "," "," "," "," "," "," "," "," "," "," "," "," "," "," "," "," "," "," "," "," "," "," "," "," "," "," "," "," "," "," "," "," "," "," "," "," "," "," "," "," "," "," "," "," "," "," "," "," "," "," "," "]
[" "," "," "," "," "," "," "," "," "," "," "," "," "," "," "," "," "," "," "," "," "," "," "," "," "," "," "," "," "," "," "," "," "," "," "," "," "," "," "," "," "," "," "," "," "," "," "," "," "," "," "," "," "," "," "," "," "," "," "," "," "," "," "," "," "," "," "," "," "," "," "," "," "," "," "," "," "," "," "," "," "," "," "," "," "," "," "," "," "," "," "," "," "," "," "," "," "," "," "," "," "," "," "," "," "," "," "," "," "," "," "," "," "," "," "," "," "," "," "," "," "," "," "," "," "," "," "," "," "," "," "," "," "," "," "," "," "," "," "," "," "," "," "," "," "," "," "," "," "," "," "," "," "," "," "," "," "," "," "," "," "," "," "," "," "," "," "," "," "," "," "," "," "," "," "," "," "," "," "," "," "," "," "," "," "," "," "," "," "," "," "," "," "," "," "," "," "," "," "," "," "," "," "," "," "," "," "," "," "," "," "," "," "," "," "," "," "," "," "," "," "," "," "," "," "," "," "," "," "," "," "," "," "," "," "," "," "," "," "," "," "," "," "," "," "," "," "," "," "," "," "," "," "," "," "," "," "," "," "," "," "," "," "," "," "," "," "," "," "," "," "," "," "," "," "," "," "," "," "," "," "," "," "," "," "," "," "," "," "," "," "," "," "," "," "," "," "," "," "," "," "," "," "," "," "," "," "," "," "," "," "," "," "," "," "," "," "," "," "," "," "," "," "," "," "," "," "," "," "," "," "," "," "," "," "," "," "," "," "," "," "," "," "," "," "," "," "," "," "," "," "," "," "," "," "," "," "," "," "," "," "," "," "," "," "," "," "," "," "," "," "," "," "," "," "," "," "," "," "," "," "," "," "," "," "," "," "," "," "," "]
[" "," "," "," "," "," "," "," "," "," "," "," "," "," "," "," "," "," "," "," "," "," "," "," "," "," "," "," "," "," "," "," "," "," "," "," "," "," "," "," "," "," "," "," "," "," "," "," "," "," "," "," "," "," "," "," "," "," "," "," "," "," "," "," "," "," "," "," "," "," "," "," "," "," "," "," "," "," "," "," "," "," "," "," "," "," "," "," "," "," "," "," "," "," "," "," "," "," "," "," "," "," "," "," "," "," "," "," "," "," "," "," "," "," "," "," "," "," "," "," "," "," "," "," "," "," "," "," "," "," "," "," "," "," "," "," "," "," "," "," "," "," "," "," "," "," "," "," "," "," "," "," "," "," "," "," "," "," "," "," "," "," "," "," "," "," "," "," "," "," "," "," "," "," "," "," "," "," "," "," "," "," "," "," "," "," "," "," "," "," "," "," "," "," "," "," "," "," "," "," "," "," "," "," "," "," "," "," "," "," "," "," "," "," "," "," "," "," "," "," "," "," "," "," "," "," "," "," "," "," "," "," "," "," "," "," "," "," "," "," "," "," "," "," "," "," "," "," "," "," "," "," "," "," "," "," "," "," "," "," "," "," "," "," "," "," "," "," "," "," "," "," "," "," "," "," "," "," "," "," "," "," "," "," "," "," "," "," "," "," "," "," "," "," "," "," "," "," "," "," "," "," "," "," "," "," "," "," "," "," "," "," "," "," "," "," "," "," "," "," "," "," "," "," "," "," "," "," "," "," "," "," "," "," "," "," "," "," "," "," "," "," "," "," "," "," "," "," "," "," "," "," "," "," "," "," "," "," "," "," "," "," "," "," "," "," "," "," "," "," "," "," "," "," "," "," "," "," "," "," "," "," "," "," "," "," "," "," "," "," "]
[" "," "," "," "," "," "," "," "," "," "," "," "," "," "," "," "," "," "," "," "," "," "," "," "," "," "," "," "," "," "," "," "," "," "," "," "," "," "," "," "," "," "," "," "," "," "," "," "," "," "," "," "," "," "," "," "," "," "," "," "," "," "," "," "," "," "," "," "," "," "," "," "," "," "," "," "," "," "," "," "," "," "," "," "," "," "," "," "," "," "," "," "," "," "," "," "," "," "," "," "," "," "," "," "," "," "," "," "," "," "," "," "," "," "," "," "," "," "," "," "," "," "," "," "," "," "," "," "," "," "," "," "," "," "," "," "," "," "," "," "," "," "," "," "," "," "," "," "," "," "," "," "," "," "," "," "," "," "," "," "," "," "," "," "," "," "," "," "," "," "," "," "," "," "," "," "," "," "," "," "," "," "," "," "," "," "," "," "," "," "," "," "," "," "," "," "," "," "," "," "," "," "," "," "," "," "," "," "," "," "," "," "," "," "," "," "," "," "," "," "," "," "," "," "," "," "," "," "," "," "," "," "," "," "," "," "," "," "," "," "," "," "," "," "," "," "," "," "," "," "," "," "," "," "," "," "," "," "," "," "," "," "," "," "," "," "," "," "," "," "," "," "," "," "," "," "," "," "," "," "," "," "," "," "," "," "," "," "," "," "," "," "," "," "," "," "," "," "," "," "," "," "," "," "," "," "," "," "," "," "," "," "," "," "," "," "," "," "," "," "," "," "," "," "," "," "," "," "," "," "," "," "," "," "," "," "," "," "," "," "," "," "," "," "," "," "," "," "," "," "," "," "," "," "," "," "," "," "," "," "," "," "," "," "," "," "," "," "," "," "," "," "," "," "," "," "," "," "," "," "," "," "," "," "," "," "," "," "," "," "]
[" "," "," "," "," "," "," "," "," "," "," "," "," "," "," "," "," "," "," "," "," "," "," "," "," "," "," "," "," "," "," "," "," "," "," "," "," "," "," "," "," "," "," "," "," "," "," "," "," "," "," "," "," "," "," "," "," "," "," "," "," "," "," "," "," "," "," "," "," "," "," "," "," "," "," "," "," "," "," "," "," "," "," "," "," "," "," "," "," "," "," "," "," "," "," "," "," "," "," "," "," "," "," "," "," "," "," "," "," "," "," "," "," "," "," "," "," "," "," "," "," "," "," "," "," "," "," "," "," "," "," "," "," "," "," "," "," "," "," "," "," "," "," "," "," "," "," "," "," "," "," "," "," "," "," "," "," "," "," "," "," "," "," "," "," "," "," "," "," "," "," "," "," "," "," "," "," "," "," "," "," "," "," "," "," "," "," "," "," "," "," "," "," "," "," "," "," "," "," "," "," "," "," "," "," "," "," "," "," "," "," "," "," "," "," "," "," "," "," "," "," "," "," "," "," "," "," "," "," "," "," "," "," "," "," "," "," "," "," "," "," "," "," "," "," "," "," "," "," "," "," "," "," "," "," "," "," "," "," "," "," "," "," "," "," "," "," "," "," "," "," "," "," "," "," "," "," "," "," "," "," "," "," "," "," "," "," "," "," "," "," "," "," "," "," "," "," "," "," "," "," "," "," "," "," "," "," "," "," "," "," "," "," "," "," "," "," "," "," "," "," "," "," "," "," "," "," "," "," "," "," "," "," "," "," "," "," "," "," "," "," "," "," "," "," "," "," "," "," "," "," "," "," "," "," "," "," "," "," "," "," "," "," "," "," "," "," "," "," "," "," "," "," "," "," "," "," "," "," "," "," "," "," "," "," "," "," "," "," "," "]
[" "," "," "," "," "," "," "," "," "," "," "," "," "," "," "," "," "," "," "," "," "," "," "," "," "," "," "," "," "," "," "," "," "," "," "," "," "," "," "," "," "," "," "," "," "," "," "," "," "," "," "," "," "," "," "," "," "," "," "," "," "," "," "," "," "," "," "," "," "," "," "," "," "," "," "," "," "," "," "," "," "," "," "," "," "," "," "," "," "," "," "," "," "," "," "," "," "," "," "," "," "," "," "," "," "," "," "," "," "," "," "," "," "," "," "," "," "," "," "," "," "," "," "," "," "," "," "," "," "," "," "," "," "," "," "," "," "," "," "," "," "," "," "," "," "," "," "," "," "," "," "," "," "," "," "," "," "," "," "," "," "," "," "," "," "," "," "," "," "," "," "," "," "," "," "," "," "," "," "," "," "," "," "," "," "," "," "," "," "," "," "," "," "," "," "," "," "," "," "," "," "," "," "," "," "," "," "," "," "," "," "," "," "," "," "," "," "," "," "," "," "," "," "," "," "," "," "," "," "," "," "," "," "," "," "," "," "," "," "," "," "," "," "," "," "," "," "," "," "," "," "," "," "," "," "," "," "," "," "," "," "," "," "," "," "," "," "," "," "," "," "," "," "," "," "," "," "," "," "," "," "," "," "," "," "," "," "," "," "," "," "," "," "," "," "," "," "," "," "," "," "," "," "," "," "," "," "," "," "," "," "," "," "," "," "," "," "," "," "," "," "," "," "," "," "," "," "," "," "," "," "," "," "," "," "," "," "," "," "," "," "," "," "," "," "," "," "," "," "," "," "," "," "," "," "," "," "," "," "," "," "," "," "," "," "," "," "," "," "," "," "," "," "," "," "," "," "," "," "," "," "," "," "," "," "," "," "," "," "," "]
[" "," "," "," "," "," "," "," "," "," "," "," "," "," "," "," "," "," "," "," "," "," "," "," "," "," "," "," "," "," "," "," "," "," "," "," "," "," "," "," "," "," "," "," "," "," "," "," "," "," "," "," "," "," "," "," "," "," "," "," "," "," "," "," "," "," "," "," "," "," "," "," "," "," "," "," "," "," "," "," "," "," "," "," "," "," "," "," "," "," "," "," "," "," "," "," "," "," "," "," "," "," "," "," "," "," "," "," "," "," "," "," "," "," "," "," "," "," "," "," "," "," "," "," "," "," "," "," "," "," "," "," "," "," "," "," "," "," "," "," "," "," "," "," "," "," "," "," "," "," "," "," "," "," "," "," "," "," "," "," "," "," "," "," "," "," "," "," "," "," "," "," "," "," "," "," "," "," "," "," "," "," "," "," "," "," "," "," "," "," "," "," "," "," "," "," "," "," "," "," "," "," "," "," "," "," "," "," "," "," "," "," "," "," "," "," "," "," "," "," "," "," "," "," "," "," "," "," "," "," "," "," "," "," "," "," "," "," "," "," "," "," "," "," "," "," "," "," "," "," "," "," "," "," "," "," "," "," "," "," "," "," "," "," "," "," "," "," "," "," "," "," "," "," "," "," "," "," "," "," "," "," "," "," "," "," "," "," "," "," "," "," "," "," "," "," "," "," "," "," "," "," "," "," "," "," "," "," "," "," "," "," "," "," "," "," "," "," "," "," "," "," "," "," "," "," "," "," "," "," "," "," "," "," "," "," "," "," "," "," "," "," "," "," "," "," "," "," "," "," "," "," "," "," "," "," "," "," "," "," "," "," "," "," "," "," "," "," "," "," "," "," "," "," "," "," "," "," "," "," "," "," "," "," "," "," "," "," "," "," "]
[" "," "," "," "," "," "," "," "," "," "," "," "," "," "," "," "," "," "," "," "," "," "," "," "," "," "," "," "," "," "," "," "," "," "," "," "," "," "," "," "," "," "," "," "," "," "," "," "," "," "," "," "," "," "," "," "," "," "," "," "," "," "," "," "," "," "," "," "," "," "," "," "," "," "," "," "," "," "," "," "," "," "," "," "," "," "," "," "," "," "," "," "," "," "," "," "," "," "," "," "," "," "," "," "," "," "," "," "," "," "," "," "," "," "," "," "," "," "," "," "," "," "," "," "," "," "," "," "," "," "," "," "," "," "," "," "," "," "," "," "," "," "," "," "," "," "," "," "," "," "," "," "," "," "," "," "," "," "," "," "," "," "," "," "," "," "," "," "," "," "," "," "," "," "," "," "," "," "," "," "," "," "," "," "," "," "," "," "," "," "," "," "," "," "," "," "," "," "," "," "," "," "," "," "," "," "," "," "," "," "," "," "," "," "," "," "," "," "," "," "," "," "," "," "," "," "," "," "," "," "," "," "," "," "," "," "," "," "," "," "," "," "," "," "," "," "," "," "," "," "," "," "," "," "," "," "," "," "," "," "," "," "," "," "," "," "," "," "," "," "," "," "," "," "," "," "," "," "," "," "," "," "," "," "," "," "," "," "," "," "," "," "," "," "," "," "," "," "," "," "," "," "," "," "," "," "," "," "," "," "," "," "," "," "," "," "," "," "," "," "," "," "," "," "," "," "," "," "," "," "," "," "," "," "," "," "," "," "," "," "," "," "," "," "," "," "," "," "," "," "," "," "," "," "," "," "," "," "," "," "," "," "," "," "," "," "," "," "," "," "," "," "," "," "," "," "," "," "," "," "," "," "," "," "," "," "," "," "," "," "]
[" "," "," "," "," "," "," "," "," "," "," "," "," "," "," "," "," "," "," "," "," "," "," "," "," "," "," "," "," "," "," "," "," "," "," "," "," "," "," "," "," "," "," "," "," "," "," "," "," "," "," "," "," "," "," "," "," "," "," "," "," "," "," "," "," "," "," "," "," "," "," "," "," "," "," "," "," "," "," "," "," "," "," "," "," "," "," "," "," "," "," "," "," "," "," "," "," "," "," "," "," "," "," "," "," "," "," "," "," "," "," "," "," "," "," "," "," "," "," "," "," "," "," "," "," "," "," "," "," "," "," "," "," "," "," "," "," "," "," "," "," "," "," "," "," "," "," "," "," "," "," "," "," "," "," "," "," "," "," "," "," "," "," "," "," "," "," "," "," "," "," "," "," "," "," "," "," "," "," "," "," "," "," "," "," "," "," "," "," "," "," "," "," "," "," "," "," "," "," "," "," "," "," "," "," "," "," "," "," "," "," "," "," "," "," "," "," "," "," "," "," "," "," "," "," "," "," "," "," "," "," "," "," "," "," "," "," "," "," "," "," "," "," "," "," "," "," "," "," "," "," "," "," "," "," "," "," "," "," "," "," "," "," "," "," "," "," "," "," "," "," "," "," "," "," "," "," "," "," "," "," "," "," "," "," "," "," "," "," "," "," "," "," "," "," "," "," "," "," "," "," "," "," "," "," "," "," "," "," "," "," "," "," "," "," "," "," "," "," "," "," "," "," "," "," "," "," "," "," "," "," "," "," "," "," "," "," "," "," "," "," "," "," "," "," "," "," "," "," "," "," "," "," "," "," "," "," "," "," "," "," "," "," "," "," "," "," "," "," "," "," "," "," "," "," "," "," "," "," "," "," "," "," "," "," "," "," "," "," "," "]
[" "," "," "," "," "," "," "," "," "," "," "," "," "," "," "," "," "," "," "," "," "," "," "," "," "," "," "," "," "," "," "," "," "," "," "," "," "," "," "," "," "," "," "," "," "," "," "," "," "," "," "," "," "," "," "," "," "," "," "," "," "," "," "," "," "," "," "," "," "," "," "," "," "," "," "," "," "," "," "," "," "," "," "," "," "," "," "," "," "," "," "," "," "," "," "," "," "," "," "," "," "," "," "," "," "," "," "," "," "," "," "," "," "," "," "," "," "," "," "," "," "," "," "," "," "," "," "," "," "," "," "," "," "," "," "," "," "," "," "," "," "," "," "," "," "," "," "," "," "," "," "," "," "," "," "," "," "," "," "," "," "," "," "," "," "," "," "," "," "," "," "," "," "," "," "," "," "," "," "," "," "," "," "," "," "," "," "," "," "," "," "," "," "," "," "," "," "," "," "," "," "," "," "," "," "," "," "," "," "," "," "," "," "," "," "," "," "," "," "," "," "," "," "," "," "," "," "," "," "," "," "," "," "," "," "," "," "," "," "," "," "," "," "," "," "," "," "," "," "," "," "," "," "," "," "," "," "," "," "," "," "," "," "," "," "," "," "," "," "," "," "," "," "," "," "," "," "," "," "," "," "," "," "," "," "," "," "," "," "," "," "," "," "," "," "," "," "," "," "," "," "," "," "," "," "," "," "," "," "," "," "," "," "," "," "," "," "," "," "," "," "," "," "," "," "," "," "," "," "," "," "," "," "," "," "," "," "," "," "," "," "," "," "," "," "," "," "," "," "," "," "," "," "," "," "," "," "," "," "," "," "," "," "," "," "," "," "," "," "," "," "," "," "," "," "," "," "," "," "," "," "," "," "," "," "," "," "," "," "," "]
[" "," "," "," "," "," "," "," "," "," "," "," "," "," "," "," "," "," "," "," "," "," "," "," "," "," "," "," "," "," "," "," "," "," "," "," "," "," "," "," "," "," "," "," "," "," "," "," "," "," "," "," "," "," "," "," "," "," "," "," "," "," "," "," "," "," "," "," "," "," "," "," "," "," "," "," "," "," "," "," "," "," "," "," "," "," "," "," "," "," "," "," "," "," "," "," "," "," "," "," "," "," "," "," "," "," "," "," "," "," "," "," "," "," "," "," "," "," "," "," "," "," "," "," "," "," "," "," "," "," "," "," "," "," "," "," "," "," "," "," "," "," "," "," "," "," "," "," "," "," "," "," "," "," "," "," "," "," "," "," "," "," "," "," "," "," "," "," "," "," "," "," "," "," "," "," "," "," "," "," "," "," "," "," "," "," "," "," "," "," "," "," "," "," "," "," "," "," "," "," "," "," "," "," "," "," "," "," "," "," "," "," "," "," "," "," "," "," "," "," "," "," "," "," "," "," "," "," "," "," "," "," "," "," "," "," "," "," "," "," "," "," "," "," "," "," "," "," "," "," "," "," "," "," "," "," "," "," "," "," "," "," "," "," "," "," "," "," "," "," "," "," "," "," "," "," "," "," "," "," "," "," "," "," "," "," "," "," "," "," "," "," "," "," "," "," "," "," "," "," "," "," "," "," "," "," "," "," "," "," "," "," "," "," "," "," "," "," "," "," "," "," "," "," "," "," "," "," "," "," "," "," "," "," "," "," "," "," "," "," "," "," "," "," "," "," "," "," "," "," "," "," "," "," "," "," "," "," "," "," "," "," "," "," "," "," "," "," "," "," "," "," "," "," "," "," "," "," "," "," "," "," "," "," "," "," "," "," "," "," "]
[" "," "," "," "," "," "," "," "," "," "," "," "," "," "," "," "," "," "," "," "," "," "," "," "," "," "," "," "," "," "," "," "," "," "," "," "," "," "," "," "," "," "," "," "," "," "," "," "," "," "," "," "," "," "," "," "," "," "," "," "," "," "," "," "," "," "," "," "," "," "," "," "," "," "," "," "," "," "," "," "," "," "," "," "," "," "," "," "," "," "," "," "," "," "," "," "," "," "," "," "," "," "," "," "," "," "," "," "," "," "," "," "," "," "," "," "," "," "," "," "," "," "," "," "," "," "," "," "," "," "," "," "," "," "," "," "," "," "," "," "," "," "," "," "," "," "," "," "," "," "," "," "," "," "," "," "," "," "," "," "," "," "," "," "," "," "," "," "," "," "," "," "," "," "," "," "," "," "," "," "," "," "," "," "," "," "," "," "," "," "," "," "," "," "," "," "," "," "," "," "," "," "," "," "," "," "," "," "," "," "," "," "," "," "," "," "," "," "," "," "," "," "," "," "," "," "," "," "," "," "," "," "," "," "," "," "," "," "," "," "," "," "," "," "," "," "," "," "," "," "," "," "," "," "," "," "," "," "," "," "," "," "," "," "," "," "," "," "," "," "," "," "," "," "," "," "," "," "," "," "," "," "," "," "," "," "," "," "," "," "," "," "," "," "," "," "," "," "," "," "," "," "," "," "," "," "," "," "," "," "," "," "," "," "," "," "," "," "," "," "," "," "," "," "," "," "," "," "," "," "," "," "," "," "," "," "," "," "," "," "," "," "," "," "," "," "," "," "," "," "," "," "," "," "," "," "," "," "," "," "," "," "," "," "," "," "," "," "," "," "," "," "," "," "," "," "," "," "," "," "," "," "," "," "," "," "," "," "," "," "]
[" "," "," "," "," "," "," "," "," "," "," "," "," "," "," "," "," "," "," "," "," "," "," "," "," "," "," "," "," "," "," "," "," "," "," "," "," "," "," "," "," "," "," "," "," "," "," "," "," "," "," "," "," "," "," "," "," "," "," "," "," "," "," "," "," "," "," "," "," "," "," "," "," "," "," "," "," "," "," "," "," "," "," "," "," "," "," "," "," "," "," "," "," "," "," "," "," "," "," "," "," "," "," "," "," "," "," "," "," "," "," "," "," "," "," "," "," "," "," "," "," "," "," "," "," "," "," "," "," "," "," "," "," "," "," "," "," "," "," "," "," "," "," "," "," "," "," "," "," "," "," "," "," "," "," "," "," "," "," "," "," "," "," "," "," "," "," "," "," "," "," "," "," "," "," "," "," "," "," "," "," "," "," "," "," "," "," "," "," "," "," "," "," "," "," "," "," "," "," "," "," "," "," "," "," "," "," "," "," "," "," "," "," "," "," "," "," "," "," "," "," "," "," "," "," "," "," "," "," "," "," "," "," "," "," "," "," "," "," "," "," "," "," "," "," "," "," "," "," "," "," "," "," "," "," "," "," "," "," "," "," "," "," "," "," "," "," "," "," "," "," "," "," "," "," "," "," "," "," "," "," "," "," "," "," "," "," "," "," "," "," "," "," "," "," "," "," "," "," "," "," "," "," "," "," "," "," "," "," "," "," "," "," "," "," "," "," "," "," "," "," "," "," "," "," "," "," "," "," "," "," "," "," "," "," "," "," "," "," "," "," "," "," "," "," "," "," "," "," "," "," "," "," "," "," "," "," "," "," "," "," "," "," "," "," "," "," "," "," "," "," "," "," "," "," "," "," "," "," "," "," "," "," "," "," "," "," "," "," "," "]
[" "," "," "," "," "," "," "," "," "," "," "," "," "," "," "," "," "," "," "," "," "," "," "," "," "," "," "," "," "," "," "," "," "," "," "," "," "," "," "," "," "," "," "," "," "," "," "," "," "," "," "," "," "," "," "," "," "," "," "," "," "," "," "," "," "," "," "," "," "," "," "," "," "," "," "," "," "," "," "," "," "," "," "," "," "," "," "," "," "," "," "," "," "," "," "," "," "," "," "," "," "," "," "," "," "," "," "," "," "," "," "," "," "," "," "," "," "," "," "," "," "," "," "," "," "," "," "," "," "," "," "," "," "," "," "," "," "," "," "," "," "," "," "," "," "," "," "," "," "," "," "," "," "," "," "," "," "," "," "," "," "," "," "," "," "," "," "," "," "," "," "," "," "," "," "," "," "," "," "," "," "," "," "," "," "," "," "," "," "," "," "," "," "," "," "," "," "," "," "," "," "," "," "," "," "," "," "," "," "," "," "," "," "," "," "," "," "," "," "," "," "," "," "," "," "," "," "," "," "," "," "," "," "," "," "," "," "," "," "," "," "," "," "," "," "," "," "," "," "," "," "," "," "," "," "," "," "," "," "," "," "," "," "," "," "," "," "," "," "," "," "," "," "," "," "," "," "," "," "," "," "," "," "," "," "," "," "," "," "," "," "," "," "," "," "," "," "," "," "," "," "," "," "," "," "," "," "," "," "," "," "," "," "," "," "," "," "," "," "," "," "," "," "," "," "," "," "," "," "," "," "," "," "," "," "," "," "," "," "," "," "," "," "," "," "," "," "," "," "," "," "," "," "," "," "," "," "," "," "," "," "," "," "," "," "," "," "," "," "," "," "," "," "," "," "," "," "," "," "," "," "," "," "," "," "," "," "," "," "," "]
[" "," "," "," "," "," "," "," "," "," "," "," "," "," "," "," "," "," "," "," "," "," "," "," "," "," "," "," "," "," "," "," "," "," "," "," "," "," "," "," "," "," "," "," "," "," "," "," "," "," "," "," "," "," "," "," "," "," "," "," "," "," "," "," "," "," "," "," "," "," "," "," "," "," "," "," "," "," "," "," "," "," "," "," "," "," "," "," "," "," "," "," "," "," "," "," "," "," "," "," "," "," "," "," "," "," "," "," "," "," "," "," "," "," "," "," "," "," "," "," "," "," "," "," "," "," "," "," "," "," "," "," "," "," "," "," "," "," "," "," "," "," "," "," "," "," "," "," "," "," "," "," "," "," "," "," "," "," "," "," "," "," "," "," "," "," "," "," "," "," "," "," "," "," "," "," "," "," "," "," "," "," "," "," "," "," "," "," "," "," "," "," "," "," "," "," "," "," "," "," "," "," "," "," "," "," "," "," "," "," "," "," "," "," "," "," "," "," "," "," "," "," "," "," "," "," "," "," "," "," "," "," "," "," "," "," "," "," "," "," "," "," "," "," "," "," "," "," "," "," "," "," "," "," "," "," "," "," "," "," "," "," "," "," "," "," "," "," "," "," "," "," "," "," "," "," "," "," "," "," "," "," "," "," "," "," "," "," "," "," "," "," "," "," "," "," "," "," "," "," "," "," "," "," "," "," "," "," "," "," "," "," "," "," "," "," "," "," "," "," "," "," "," "," "," "," "," "," "," "," "," "," "," "," "," "," "," "," "," "," "," "," "," "," "," "," "," "," "," "," "," "," "," "," "," "," "," "," "," "," "," "," "," "," "," "," "," "," "," "," "," "," "," "," "," "," "," "," "," "," "," "," "," "," "," "," "," "," "," "," "]
[" "," "," "," "," "," "," "," "," "," "," "," "," "," "," "," "," "," "," "," "," "," "," "," "," "," "," "," "," "," "," "," "," "," "," "," "," "," "," "," "," "," "," "," "," "," "," "," "," "," "," "," "," "," "," "," "," "," "," "," "," "," "," "," "," "," "," "," "," "," "," "," "," "," "," "," "," "," "," "," "," "," "," "," "," "," "," "," "," "," "," "," "," "," "," "," "," "," "," "," "," "," "," "," "," "," "," "," "," "," "," "," "," "," "," "," "," "," "," "," "," "," "," "," "," "," "," "," "," "," "," "," "," "," "," "," "," "," "," "," "," "," "," "," "," "," "," "," "," "," "," "," "," "," "," "," "," "," "," "," "," "," "," "," "," "," "," "," "," "," "," "," "," "," "," "," "," "," "," "," "," "," "," "," "," "," "," "," "," "," "," "," "," "," "," "," "," "," "," "," "," "," "," "," "," "," "," "," "," "," "," "," "," "," "," "," "," "," "," "," "," "," "," "," "," "," "," "," "," "," "," "," "," "," "," "," "," "," "," "," "," "," "," "," "," "," "," "," "," "," "," "," "," "," "," "," "," "," "," "," "," "," "," "," "," "," "," "," "," "," "," "," "," "," "," "," "," "," "," "," "," "," "," "," "," "," "," "," "," "," "," "," "," "," "," "," "," "," "," "," "," "," "," "," "," "," "," "," "," "," "," "," "," "," "," "," "," "," "," "," "," "," "," "," "," "," "," "," "," "," "," "," "," "," "," "," "," "," "," "," "," "," "," "," "," "," "," "," "," "," "," "," "," "," "," "," "," "," "," "," "," "," "," "," "," "," "," "," "," "," "," "," "," "," "," "," "," "," "," "," "," "," "," "," "," "," "," "," "," "," "]
[" "," "," "," "," "," "," "," "," "," "," "," "," "," "," "," "," "," "," "," "," "," "," "," "," "," "," "," "," "," "," "," "," "," "," "," "," "," "," "," "," "," "," "," "," "," "," "," "," "," "," "," "," "," "," "," "," "," "," "," "," "," "," "," "," "," "," "," "," "," "," "," "," "," "," "," "," "," "," "," "," "," "," "," "," "," "," "," "," "," "," "," "," "," "," "," "," "," "," "," "," "," "," "," "," "," "," "," "," "," "," "," "," "," "," "," "," "," "," "," "," "," "," "," "," "," "," "," "," "," "," "," "," "," "," "," "," "," "," "," "," "," "," "," "," "," "," "," "," "," "," "," "," "," "," "," "," "," "," "," "," "," "," "," "," "," "," "," "," "," "," "," "," "," "," "," "," "," "," "," "," "," "," "," "," "," "," "," "," "," "," "," "," "," "," "," "," "," "," "," "," "," "," "," "," "," "," "," "," "," "," "," "," "," "," "," "," "," "," "," "," "," "," "," "," "," "," "," "," "," "," "," "," "," "," "," "," "," "," "," "," "," "," "," "," "," "," "," "," "," "," "," "," "," "," "," "," "," "," "," "," "," "," "," "," "," "," "," "," "," "," "," "," "," "," "," "," "," "," "," "," "," "," "," "," "," "," "," "," "," "," "," "," "," "," "," "," "," "," "," "," "," "," "," "," "," "," "," "," "," "," "," "," "," "," "," "," "," "," "," "," "," "," "," "," "," "," "," "," "," "," "," "," "," "," "," "," "," "," "," "," "," "," "," "," "," "," "," "," "," "," "," "," "," "," "," "," "," "," "," "," "," "," "," "," "," "," "," "," "," "," "," "," "," "," "," "," "," "," "," "," "," "," "," "," "," "," "," "," "," "]
[" "," "," "," "," "," "," "," "," "," "," "," "," "," "," "," "," "," "," "," "," "," "," "," "," "," "," "," "," "," "," "," "," "," "," "," "," "," "," "," "," "," "," "," "," "," "," "," "," "," "," "," "," "," "," "," "," "," "," "," "," "," "," "," "," "," "," "," "," "," "," "," "," "," "," "," "," "," "," "," "," "," "," "," "," "," "," "," "," "," "," "," "," "," "," "," "," "," "," "," "," "," "," "," "," "," "," "," "," "," "," "," "," "," "," "," "," "," "," "," "," "," "," "," "," "," "," "," "," "," "," "," "," "," "," "," "," "," "," "," "," "," "," "," "," "," "," "," "," "," "," "," "," "," "," "," "," "," "," "," "," "," "," "," "," "," "," "," "," "," "," "," "," "," "," "," "," "," "," "," "," "," "," "," "," "," "," "," "," "," "," "," "," "," "," "," "," "," "," "," "," "," "," "," "," "," "," "," "," "," "," "," "," "," "," "," "," "," "," "," "," "," "," "," "," "," "," "," "," "," "," "," "," "," "," "," "," "," "," "," "," "," "," "," "," "," "," "," "," "," "," "," "," "," "," "," "," "," "," "," "," "," "," "," "," "," "," "," "," "," "," "," "," "," "," "," "," "," "," "," "," "," "," "," "," "," "," "," "," "," "," "," "," "," "," "," "," "," "," "," "," "," "," "," "," "," "," "," "," "," "," "," "," "," "," "," "," "," "," "," "," "," "," "," "," "," "," "," "," "," "," "," "," "," "," "," "," "," "," "," "," "," "," "," "," "," "," "," "," "," "," "," "," "," "," "," "," "," "," "," "," "," "," "," "," "," "," "," "," "," "," "," "," "," "," "," "," "," "," "," "," "," "," "," "," "," "," "," "," "," "]
[" "," "," "," "," "," "," "," "," "," "," "," "," "," "," "," "," "," "," "," "," "," "," "," "," "," "," "," "," "," "," "," "," "," "," "," "," "," "," "," "," "," "," "," "," "," "," "," "," "," "," "," "," "," "," "," "," "," "," "," "," "," "," "," "," "," "," "," "," "," "," "," "," "," "," "," "," "," "," "," "," "," "," "," "," "," "," "," "," "," "," "," "," "," "," "," "," "," "," "," "," "," "," "," "," "," "," "," "," "," "," "," "," "," "," "," "," "," "," "," "," "," "," "," "," "," "," "," "," "," "," "," "," "," "," "," "," "," "," "," "," "," "," "," "," "," "," "," "," "," "," "," "," "," "," "," "," "," "," "," "," "," "," "," "," "," "," "," "," "," "," "," "," "," "," "," "," "," "," "," "," "," "," "," "," "," "," "," "," "," "," "," "," "," "," "," "," "," "," "," "," "," "," "," "," "," "," "," "," "," "," "," "," "," "," "," "," "," "," "," "," "," "," "," "," "," "," "," "," "," "," "," "," "," "," "," "," "," "," "," "," "," "," "," "," "," "," "," "," "," "," "," "," "," "," "," "," "," "," "," "," "," "," "," "," "," "," "," "," "," "," "," "," "," "," "," "," "," "," "," "," "," "," "," "," "," "," "," "," "," "," "," "," "," "," "," "," "," "," "," "," "," "," "," "," "," "," "," "," "," "," "," "," "," "," "," "," "," "," "," "," "," "," "," "," "," "," "," "," "," "," "," "," "," "," "," "," "," "," "," "," "," "," "," "," "," "," "," "," "," "," "," "," "," "," "," "," "," "," "," "," "," "," "," "," "," "," "," "," "," "," "," "," "," "," "," "," "," "," "," "," "," "," "," "," "," "," "," "," "," "]
[" "," "," "," "," "," "," "," "," "," "," "," "," "," "," "," "," "," "," "," "," "," "," "," "," "," "," "," "," "," "," "," "," "," "," "," "," "," "," "," "," "," "," "," "," "," "," "," "," "," "," "," "," "," "," "," "," "," "," "," "," "," "," "," "," "," "," "," "," "," "," "," "," "," "," "," "," "," "," "," "," "," "," "," "," "," "," "," "," "," "," "," "," "," "," "," "," "," "," "," "," "," "," "," "," "," "," "," "," "," "," "," "," "," "," "," "," "," "," "," "," "," "," "," "," "," "," "," "," "," "," "," "," "," "," "," "," "," "," "," "," "," "," "," "," "," "," "," "," "," "," "," "," "," "," "," "," "," "," "," "," "," "," "," "," "," "," "," "," "," "," "," "," "," "," "," "," "," "," "," "," "," "," "," "," "," "," "," "," "," "," "," "," "," "," "," "," "," "," "," "," "," "," "," "," "," "," "," "," "," "," "," "," "," "," "," "," "," "," "," "," "," "," "," "," "," "," "," "," "," "," "," "," "," "," "," "," "," "," "," "," "," "," "," "," "," "," "," "," "," "," "," "," "," "," "," "," "," "," "," "," "," "," "," "," "," "," "," "," "," "," "," "," "," "," "," "," "," "," "," "," "," "," "," "," "," "," "," "," "," "," "," "," "," "," "," "," "," "," "," "," "," "," "," "," "," "," "," "," "," "," "," "," "," "," "," "," "," "," "," "," "," "," "," "," "," "," "," "," "," "," "," "," "," "," "," "," "," "," "," "," "," "," "," "," "," "," "," "," "," "," "," "," "," "," "," "," "," "," "," "," "," "," "," "," "," "," "," "," "," "," "," "," "," "," "," "," "," "," "," "," "," "," "," "," "," "," "," "," "," "]
[" "," "," "," "," "," "," "," "," "," "," "," "," "," "," "," "," "," "," "," "," "," "," "," "," "," "," "," "," "," "," "," "," "," "," "," "," "," "," "," "," "," "," "," "," "," "," "," "," "," "," "," "," "," "," "," "," "," "," "," "," "," "," "," "," "," "," "," "," "," "," "," "," "," "," "," "," "," "," "," "," "," "," "," "," "," "," "," "," "," "," "," "," "," "," "," "," "," "," "," "," "," "," "," "," "," "," "," "," "," "," "," "," "," "," "," "," "," "," "," "," "," "," "," "," "," "," "," "," "," "," "," "," "," "," "," "," "," "," "," "," "," "," "," "," "," "," "," "," "," "," "," "," "," "," "," "," "," "," "," "," "," "," "," "," "," "," "," "," "," "," "," "," "," "," "," "," "," "," "," "," "," "," "," "," "," "," "," "," "," "," "," "," "," "," "," "," "," "," "," "," "," "," "," "," "," "," "," "," "," "," "," "," "," "," "," "," "," "," "," "," "," "," "," "," "," "," "," "," "," "," "," "," "," "," "," "," "," "," "," "," "," "," "," "," "," "," "," "," "," "," "," "," "," "," "," "," "," "," "," "," "," "," "," "," "," "," "," "," "," "," "," "," "," "," "," "," "," "," "," "," "," "," "," "," "," "," "," "," "," "," "," "," "," "," "," "," "," "," "," "," "," "," "," "," "," "," "," "," "," "," "," "," "," "," "," "," "," "," "," "," "," "," "," "," "," "," "," "," "," "," "," "," "," "," "," "," "," "," "," "," "," "," "," "," "," "," "," "," "," "," "," "," "," "," "," "," "," "," "," "," "," "," "," "," "," "," "," "," "," "," "," "," "," "," "," "," "," "," "," "," "," "," "," "," "," "," "," "," "," "]
[" "," "," "," "," "," "," "," "," "," "," "," "," "," "," "," "," "," "," "," "," "," "," "," "," "," "," "," "," "," "," "," "," "," "," "," "," "," "," "," "," "," "," "," "," "," "," "," "," "," "," "," "," "," "," "," "," "," "," "," "," "," "," "," "," "," "," "," "," "," "," "," "," "," "," "," "," "," "," "," "," "," "," "," "," "," "," "," "," "," "," "," "," "," "," "," "," "," "," "," "," "," "," "," "," "," "," "," "," "," "," "," "," "," "," "," "," "," "," "," "," "," "," "," "," "," "," "," "," "," "," "," "," "," "," "," "," "," "," "," "," "," "," "," "," "," "," "," "," "," "," "," "," "," "," "," "," "," "," "," "," "," "," "," "," "," "," "," "," "," "," "," "," "," "," "," "," "," "," "," "," "," "," "," "," "," "," "," "," "," "," "," "," "," "," "," "," "," "," "," "," "," "," "," "," "," "," "," "," "," "," "," "," "," "," "," "," "," "," "," "," "," "," "," "," "," "," "," "," "," "," "," "," "," "," "," "," "," "," "," "," "," "," "," "," "," "," "," "," "," "," "," "," "," "," "," "," "," "," "," "," "," "," "," "," "," "," "," "," "," "," "," "," "," "," "," "," "," "," "," "," "," "," "," "," "," "," "," "," "," "," "," "," "," "," "," "," "," "," "," "," "," "," "," "," "," "," "," "," "," "," "," "," "," "," "," "," "," "," "," "," "," "," "," "," "," "," "," "," "," "," "," "," "," "," "," "," "," "," "," "," "," "," "," "," "," "," "," "," "," "," "," "," "," "," "," "," "," "," "," "," "," "," "," "," "," "," "," "," "," "," "," "," "," "," "," "," "," "," "," "," "," "," "," "," "," "," "," "," "," "]
[" "," "," "," "," "," "," "," "," "," "," "," "," "," "," "," "," "," "," "," "," "," "," "," "," "," "," "," "," "," "," "," "," "," "," "," "," "," "," "," "," "," "," "," "," "," "," "," "," "," "," "," "," "," "," "," "," "," "," "," "," "," "," "," "," "," "," "," "," "," "," "," "," "," "," "," "," "," "," "," "," "," "," "," "," "," "," "," "," "," "," "," "," "," "," "," "," "," "," "," "," "," "," "," "," "," "," "," "," "," "," "," "," "," "," "," "," "," "," "," "," "," "," "," "," "," "," "," "," "," "," "," "," "," "," "," "," "," "," "," "," "," "," "," "," "," "," "," "," "," "," "," "," "," "," "," "," "," "," "," "," "," "," "," "," "," "," "," "," "," "," "," "," "," "," "," "," "," "," "," "," "," "," "," "," "," "," "," "," "," "," "," "," "," "," "," "," "," "," "," "," "," "," "," "," "," "," "," "," "," "," "," "," "," "," "," "," "," "," "," "," "," "," "," "," "," "," "," "," "," "," "," "," "," "," "," "," "," "," "," "," "," "," "," "," "," "," "," "," "," "," "," "," "," "," "," "," "," "," "," "," "," "," "," "," "," "," "," "," "," "," "," "," "," "," "," "," "," "," "," "," "," "," "," "," "," "," "," "," "," "," "," "," "," "," "," "," "," "," "," "," "," "," "," "," "," "," "," "," "," "," "," "," "," "," "," "," "," "," "," "," "," "," "," "," "," "," "," "," "," "," "," "," "," "," "," "," "," "," "," "," "," "," "," "," "," "," "," "," "," "," "," "," "," "," "," "," "," "," "," "," "," "," "," "," "," "," "," "," "," "," "," "," "," "," "," "," "," "," "," "," "," "," "," "," "," "," "," "," "," "]
[" "," "," "," "," "," "," "," "," "," "," "," "," "," "," "," "," "," "," "," "," "," "," "," "," "," "," "," "," "," "," "," "," "," "," "," "," "," "," "," "," "," "," "," "," "," "," "," "," "," "," "," "," "," "," "," "," "," "," "," "," "," "," "," "," "," "," "," "," "," "," "," "," "," "," "," "," "," "," "," "," "," "," "," "," "," "," "," "," "," "," "," "," "," "," "," "," "," "," "," "," "," "," "," "," "," "," "," "," "," "," "," "," "," "," "," "," "," "," "," "," "," "," "," "," "," "," "," "," "," "," "," "," "," "," "," "," "," "," "," "," "," "," "," "," "," "," "," "," "," "," "," "," "," "," "," "," "," "," "," "," "," "," "," "," "," "," "," "," "," "," "," "," "," "," "," "," "," "," "," "," "," "," "," "," "," "," "," "," "," "," "," "," "," "," "," "," "," "," "," "," "," "," "," "," "," "," "," "," "," "," "," "," "," "," "," "," "," "," "," "," "," "," "," "," "," "," "," "," "," "," "," "," "," "," "," "," "," "," "," "," "," "," "," "," "," "," "," "," "," "," "," "," "," "," "," "," "," "," "," "," "," "," "," "," "," "," "," "," "," "," "," "," "," "," "," "," "," "," "," "," "," "," "," "," "," "," "," "," "," "," "," "," "," "," "," "," "," "," "," "," "," "," "," "," "," "," "," "," "," "," "," "," "," "," "," "," "," "," "," "," "," "," "," "," "," "," "," "," "," "," "," "," "," "," "," "," "," "," "," "," "," "," "," "," "," "," "," "," "," "," "," "," "," "," "," "," "," "," "," "," "," "," "," "," "," "," "," "," "," "," "," "," "," "," "," "," "," "," "," "," "," "," "," "," "," "," "," "," "," "]
[" "," "," "," "," "," "," "," "," "," "," "," "," "," "," "," "," "," "," "," "," "," "," "," "," "," "," "," "," "," "," "," "," "," "," "," "," "," "," "," "," "," "," "," "," "," "," "," "," "," "," "," "," "," "," "," "," "," "," "," "," "," "," "," "," "," "," "," "," "," "," "," "," "," "," "," "," "," "," "," "," "," "," "," "," "," "," "," "," "," "," "," "," "," "," "," "," "," "," "," "," "," "," "," "," "," "," "," "," "," "," "," "," "," "," "," "," "," "," "," "," "," "," "," "," "," "," "," "," "," "," "," "," "," "," "," "," "," "," "," "," "," "," "," "," "," "," "," "," "," "," "," "," "," "," "," "," "," "," "," "," "," "," "," "," "," "," "," "," "," "," "," "," "," "," "," "," "," "," "," "," "," "," "," "," "," "," "," "," "," "," "," "," "," "," "," "," "," "," "," "," "," "," "," "," "," "," "," "," "," "," "," "," "," "," "," "," "," "," "," "," "," "," "," "," "," "," "," "," "," "," "," "," "," "," "," "," "," "," "," "," "," "," "," "," "," "," "," "," "," "," "," "," "," "," "," "," "," "," "," "," "," "," "," "," "," "," "," "," "," "," "," "," "," "," "," "," "," "," "," "," "," "," "," "," "," "," "," "," "," "," "," "," "," "," "," "," "," "," "," "," "," "," "," "," "," "," "," "," "," "," "," "," "," "," "," "," "," "," "," "," "," "," "," "," "," "," "," "," "," "," "," "," "," "," "," "," "," "," "," "," "," "," "," "," "," "," "," "," "," "," "," "," "," "," "," "," "," "," "," "," "," "," "," "," "," "," "," "," "," "," "," "," "," "," "," "," "," "," "," "," "," "," "," "," "," "," "," "," "," "]
[" "," "," "," "," "," "," "," "," "," "," "," "," "," "," "," "," "," "," "," "," "," "," "," "," "," "," "," "," "," "," "," "," "," "," "," "," "," "," "," "," "," "," "," "," "," "," "," "," "," "," "," "," "," "," "," "," "," "," "," "," "," "," "," "," "," "," "," "," "," "," "," "," "," "," "," "," "," "," "," "," "," "," "," "," "," "," "," "," "," "," "," "," "," "," "," "," "," "," "," "," "," "," "," "," "," "," "," "," "," "," "," "," "," "," "," "," "," "," "," "," "," "," "," "," "," "," "," "," "," "," "," "," "," "," "," "," "," "," "," "," "," "," "," "," "," "," "," "," "," "," "," "," "," "," "," "," "," "," "," "," "," "," "," "," "," "," "," "," "," "," "," "," "," "," "," "," "," "," "," "," "," "," "," "," "," "," "," "," "," "," "," "," "," "," "," "," "," "," "," "," "," "," "," "," "," "," "," "," "," "," "," "," "," "," "," "," "," "," "," "," "," "," "," "," "," "," "," "," "," "," "," "," "," "," "," "," "," "," "," "," "," "," "," "," "," "," "," "," "," "," "," "," "," "," "," "," "," "," "," "," "," "," "," "," "," "," "," "," "," "," "," "," "," "," "," "," "," "," "," "," "," "," "," "," "," "," "," "," "," "," "," "," "," "," "," "," "," "," "," "," "," "," "," "," "," "," "," "," "," "," "," "," "," "," "," "," "," "," "," "," "," "," "," "," "," "," "," "," "," "," "," "," "," "," "," "," "," "," "," "," "," "," "," "," "," "," "," "," "," "," "," "," "," "," "," "," "," "," "," "," "," "," "," "," "," "," "," "," "," "," "," "," "," "," "," "," "," "," "," "," "," "," "," "," "," "," "," "," "," "]
[" "," "," "," "," "," "," "," "," "," "," "," "," "," "," "," "," "," "," "," "," "," "," "," "," "," "," "," "," "," "," "," "," "," "," "," "," "," "," "," "," "," "," "," "," "," "," "," "," "," "," "," "," "," "," "," "," "," "," "," "," "," "," "," "," "," "," "," "," "," "," "," "," "," "," "," "," "," "," "," "," "," "," "," "," "," "," "," "," "," "," "," "," "," "," "," "," "," "," "," "," "," "," "," "," "," "," "," "," "," "," "," "," "," "," "," "," "," "," "," "," "," "," "," "," "," "," "," "," "," "," "," "," "," "," "," "," "," "," "," "," "," "," "," "," "," "," "," "," "," "," "," "," "," "," "," "," "," "," "," "," "," "," "," "," "," "," "," "," "," "," "," "," "," "," "," "," "," "," "," "," "," "," "," "," "," "," "," "," "," "," "," "," "," "," "," "," "," "," "," "," "," "," "," "," "," "," "," "," "," "," "," "," "," "," "," "," "," "," "," "," "," "," "," "," "," "," "," "," "," "," "," "," "," "," "," "," "," "," "," "," "," "," "," "," "," "," "," "," "," "," "," "," "," "," "," "," "," "," "," "," "," "," "," "," "," "," "," "," "," "," "," "," "," "," "," "," "," "," "," "," "," "," "," "," "," "," "," "," "," "," "," "," "," "," "," "," "," "," "," "," "," "," "," "," "," "," "," "," "," "," "," "," "," "," "," "," "," "," "," "," "," "," "," "," "," "," "," "," "," "," "," "," "," "," "," "," "," "," "," "," "," "," "," "," "," "," "," "," "," "," "," "," "," "," "," "," "," "," "," "," "," "," "," "," "," "," "," "," "," "," "," "," "," "," "," "," "," "," "," "," "," "," "," "," "," "," "," "," "," "]
[" "," "," "," "," "," "," "," "," "," "," "," "," "," "," "," "," "," "," "," "," "," "," "," "," "," "," "," "," "," "," "," "," "," "," "," "," "," "," "," "," "," "," "," "," "," "," "," "," "," "," "," "," "," "," "," "," "," "," "," "," "," "," "," "," "," "," "," "," "," "," "," "," "," "," "," "," "," "," "," "," "," "," "," "," "," "," "," "," "," "," "," "," "," "," "," "," "," "," "," "," "," "," "," "," "," "," "," "," "," "," "," "," "," "," "," "," "," "," "," "," "," "," "," "," "," "," "," "," "," "," "," "," "," "," "," "," "," "," "," "," "," "," "," "," "," "," "," "," "," "," "," "," "," "," "," "," "," "," "," "," "," "," "," "," "," "," "," "," "," "," "," "," "," "," "," "," "," "," "," "," "," "," "," "," "," "," "," "," "," "," "," "," "," "," "," "," "," "," "," "," "," "," "," "," "," "," "," "," "," "," "," "," "," "," "," "," "," "," "," "," "," "," "," "," "," "," "," "," "," "," "," "," "," "," "," "," "," "," "," "," "," "," "," "," "," "," "," "," "," "," "," "," "," "," "," "," "," "," "," "," "," "," "," "," "," "," "," "," "," "," "," "," "," "," "," "," "," "," "," "," "," "," "," "," "," "," "," "," "," "," "," "," "," "," "," "," "," "," "," "," "," "," "," "," "," "," "," "," "," "," "," "," "," "," "," "," "," "," "," "," "," "," "," "," "," "," "," "," "," "," "," "," "," "," "," "," "," "," "," "," "," "," "," "," "," "," "," "," "," "," "," "," "," "," "," "," "," "," "," "," "," "," "," "," "," "," "," "," "," "," "," "," "," "," "," "," "," "," "," "," "," "," "," "," "," "," "," "," "," "]
[" "," "," "," "," "," "," "," "," "," "," "," "," "," "," "," "," "," "," "," "," "," "," "," "," "," "," "," "," "," "," "," "," "," "," "," "," "," "," "," "," "," "," "," "," "," "," "," "," "," "," "," "," "," "," "," "," "," "," "," "," "," "," "," "," "," "," "," "," "," "," "," "," "," "," "," "," "," "," "," "," "," "," "," "," "," "," "," "," "," "," "," "," "," "," "," "," "," "," "," "," "," "," "," "," "," "," "," "," "," "," "," "," "," "," "," "," "," "," "," "," "," "," "," "," "," "," "," "," "," "," "," "," "," "," "," "," "," "," "," "," "," "," "," "," "," "," "," "," "," "," "," "," "," "," "," "," "," "," "," "," "," "," "," "," "," "," "," "," "," "," "," "," "," "," "," "," "," "," "," "," "," "," "," "," "," "," "," "," "," "," "," "," "," "," "," "," "," "," "," "," "," "," "," "," "," "," "," "," "," "," "," "," "," "," "," "," "," "," "," "," "," "," "," "," "," "," "," "," "," "," "," "," "," "," "," "," "," "," "," "," "," "," "," "," "," "," "," "," "," "," "," "," "," "," "," "," "," "," "," "," "," "," "," "," "," "," "," "," "," "," "," "," "," "," "," "," "," "," "," "," "," "," "," "," "," "," "," "," "," "," "," "," "," "," "," "," "," "," "," "," "," "," "," "," "," "," "," "," "," "," "," "," "," "," "," "," "," "," "," "," "," "," "," "," "," "," "," "," "," "," "," "," "," "," "," "," "," "," "," "," "," "," "," "," "," "," "," "," "," "," "," "," "," "," "," "," "," "," "," "," "," "," "," "," "," "," "," "," "," "," "," "," "," "," "," "," "," "," "," "," "," "," "," "," "," "," "," "," "," "]
[" "," "," "," "," "," "," "," "," "," "," "," "," "," "," "," "," "," "," "," "," "," "," "," "," "," "," "," "," "," "," "," "," "," "," "," "," "," "," "," "," "," "," "," "," "," "," "," "," "," "," "," "," "," "," "," "," "," "," "," "," "," "," "," "," "," "," "," "," "," "," "," "," "," "," "," "," "," "," "," "," "," "," "," "," "," "," "," "," "," "," "," "," "," "," "," "," "," "," "," "," "," "," "," "," "," "," "," "," "," "," "," "," "," "," "," "," "," "," "," "," "," "," "," "," "," "," "," "," "," "," "," "," "," "," "," "," "," "," "," "," "," "," "," "," "," "," "," "," "," "," "," "," "," "," "," "," "," "," "," "," "," "," "," "," "," "," "," "," "," "," "," "," "," "," "," "," "," "," "," "," "," "," "," "," "," "," "," "," "," "," "," "," "," "," "," "," "," "," "," "," "," "," "," "," "," "," "," "," "," "," "," "," "," "," "," "," "," "," "," "," "," "," "," "," "," "," "," "," "," "," "," "," "," "," "," "," "," "," "," "," "," "," "," "," "," "," "," "," "," "," "," "," "," "," "," "," "," "," "," "," "," "," "," "," "," "," "," "," "," "," "," "," "," "," "," "," "," "," "," "," "," "," "," "," "," "," "," "," "," "," "," "," "," "," "," "," "," "," "," "," "," "," "," "," "," "," "," "," "," "," "," "," "," "," "," "," "," "," "," "," "," "," "," "," "," "," "," "," "," "," "," "," "," "," "," "," "," "," "," "," "," "," "," "," "," "," "," "," "," "," "," "," "," "," "," "," "," "," "," "," "," "," "," "," "," "," "," "," "," "," "," "," "," "," "," "," "," "," "," "," "," "," "," "," "," "," "," "," "," "]
[" "," "," "," "," "," "," "," "," "," "," "," "," "," "," "," "," "," "," "," "," "," "," "," "," "," "," "," "," "," "," "," "," "," "," "," "," "," "," "," "," "," "," "," "," "," "," "," "," "," "," "," "," "," "," "," "," "," "," "," "," "," "," "," "," "," "," "," "," "," "," "," "," "," "," "," "," "," "," "," "," "," "," "," "," "," "," "," "," "," "," "," "," "," "," "," "," "," "," "," "," "," "," "," "," "," "," "," "," "," "," "," "," "," "," "," "," "," "," "," "," "," "," "," "," "," "," "," "," "," "," "," "," "," "," "," "," "," "," "," "," "," "," "," "," "," "," "," "," "," "," "," "," "," "," "," "," "," "," "," "," "," "," "," "," "," "," "," "," "," "," "," "," "," "," "," "," "," "," "," "," "," "," "," "," "," "," "," "," "," "," "," "," "," "," "," "," "," "," "," "," "," "," "," "," "," "," "," "," "," "," "," "," "," "," "," "," "," "," "," "," "," "," "," "," "," "," "," "," "," "," "," "," "," "," "," "," "," "," "," "," "," "," "," "," "," "," "," "," "," "," "," "," "," "," "," "," "," "," "," "," "," "," "," "," "," "," "," "," "," "," "," "," "," "," "," "," "," "," "," "," "," "," "," "," "," "," "," "," "," "," "," "," "," "," "," "," "," "," "," "," "," "," "," "," "," "," "," "," "," "," "," "," "," "," "," "," "," "," "," "," "," "," "," "," "," "," "," "," "," "," "," "," "," "," "," "," "," "," "," "," "," "," "," "," "," "," "," "," "," "," "," "," "," "," "," "," "," "," "," "," "," "," "," "," "," "," "," "," "," "," "," "," "," "," "," "," "," "," "," "," "," "," "," "," "," "," "," "," "," "]
[" "," "," "," "," "," "," "," "," "," "," "," "," "," "," "," "," "," "," "," "," "," "," "," "," "," "," "," "," "," "," "," "," "," "," "," "," "," "," "," "," "," "," "," "," "," "," "," "," "," "," "," "," "," "," "," "," "," "," "," "," "," "," "," "," "," "," "," "," "," "," "," "," "," "," "," "," "," "," "," "," "," "," "," "," "," "," "," "," "," "," "," "," "," "," "," "," "," "," "," "," "," "," "," "," "," "," "," "," "," "," "," "," "," "," "," "," "," "," "," "," "," "," "," "," "," "," "," "," "," "," "," "," "," "," "," "," "," "," "," "," "," "," "," "," "," "," "," "," "," "," "," "," "," "," "," "," "," "," "," "," "," "," "," "," "," "," "," "," "," "," "," "," "," "," "," "," "," "," "," "," "," "," "," "," "," "," "," "," "," "," "," "," "," "," "," "," "," "," "," "," "," "," "," "," "," "," "," "," "," "," "," "," "," "," "," "," "," "," "," "," "," "," "," "," "," "," "," "," "," "," "," "," "," "," "," "," "," "," "," "," "," "," "," "," "," "," "," "," "," "," "," "," "," "," "," "," "," "," "," "," "," "," "," "," "," "," "," "," "," "," "," "," "," "," "," "," "," "," "," "," "," "," "," "," "," "," "," "," "," "," "," "," "," "," "," "," "," "," "," "," "," "," "," "," "," "," "," "," "," "," "," "," "," "," "," "," "," "," "," "," "," "," "," "," "," "," "," "," "," "," "," "," "," "," "," "," "," "," "," "," "," "," "," "," "," "," "," "," "," "," "," "," "," "," "," "," "," "," "," "," "," "," "," "," "," "," "," "," "," "," "," "," "," "," "," "," "," "," "," "," "," "," "," "," "," "," "," "," "," "]
[" "," "," "," "," "," "," "," "," "," "," "," "," "," "," "," "," "," "," "," "," "," "," "," "," "," "," "," "," "," "," "," "," "," "," "," "," "," "," "," "," "," "," "," "," "," "," "," "," "," "," "," "," "," "," "," "," "," "," "," "," "," "," "," "," "," "," "," "," "," "," "," "," "," "," "," "," "," "," "," "," "," "," "," "," "," "," "," "," "," "," "," "," "," "," "," "," "," "," "," "," "," "," "," "," "," "," "," "," "," "," "," "," "," "," "," "," "," "," "," "," "," "," "," "," "," "," "," "," "," "," "," "," "," "," "," "," "," "," "," "," "," "," "," "," "," "," "," "," "," "," "," "," "," "," "," "," "," "," "," "," "," "," "," "," "," "," "," "," "," "," "," "," "," "," "," "," "," "," "," "," "," "," "," "," "," "," "," "," "," "," "," "," "," "," "," "," "," "," "," "," "," "," "," "," "," "," "," "," "," "," "," "," "," "," "," "," "," "," "," "," "," "," "," "," "," "," "," "," "," "," "," "," "," "," "," "," "," "," "," "," "," "," "," "," "," "," "," "," "," "," "," "," "," "," "," "," "," "," "," "," "," "," "," "," "," "," "," "," "," "," "," "," "," "," "," "," "," "," "," "," "," "," "," "," "," "," "," "," "," "," "," "," "," "," "," "," "," "," "," "," "," "," "," "," "," "," "," "," "," "," "," "," "," "," "," "," "," "," "," "," "," "," "," "," "," "," "," "," "," "," "," "," "," "," "," "," "," "," "," "," "," "," "," "," "," "," "," "," "," "," "," "," "," "," "," "," "," "," "," "," "," "," "," "," "," "," "," "," "," "," "," "," "," "," "," "," "," "," "," "," "," "," "," "," "," "," "," "," "," "]
[" "," "," "," "," "," "," "," "," "," "," "," "," "," "," "," "," "," "," "," "," "," "," "," "," "," "," "," "," "," "," "," "," "," "," "," "," "," "," "," "," "," "," "," "," "," "," "," "," "," "," "," "," "," "," "," "," "," "," "," "," "," "," "," "," "," "," "," "," "," "," "," "," "," "," "," "," "," "," "," "," "," "," "," "," "," "," "," "," "," "," "," "," "," "," "," "," "," "," "," "," "," "," "," "," "," "," "," "," "," "," "," "," "," "," "," "," "," "," "," "," "," "," "," "," "," "," "," "," "," "," "," "," "," "," "," "," "," "," "," "," "," "," "," "," "," "," "," "," "," "," "," "," "," "," "," "," "," "," "," "," "," "," "," "," "," "," "," "," "," "," "," "," "," "," "," "," "," "," "," "," "," "," "," "," "," "," "," "," "," "," "," "," "," "," "," "," "," "," "," "," "," "," "," "," "," "," "," "," "," "," "," "," "," "," "," "," "," "," "," "," "," "," "," "," "," "," "," "," "," "," "," "," "," "," "," "," "," "," "," "," "," "," "," "," "," "," "," "," "," "," "," "," "," "," "," "," "," "," "," "," "," "," "," "," "," "," "," "," "," "," "," "," "," "," "," "," "," "," "," "," "," "," "," "," "," "," "," "," "," "," "," "," "," "," "," "," "," "," "," "," "," "," "," "," "," "," "," "," "," "," "," "," "," "," "," "," "," "," "," "," "," "," "," "," "," "," "," "," "," "," "," "," "," "," "," "," "," "," "," "," "," "," "," "," "," "," "," "," "," "," "," "," "," "," "," "," "," "," "," "," "," "," "," "," "," "," "," "," "," "," "," "," "," "," "," "," "," "," "," "," "," "," "," "," "," "," "," "," "," "]
[" "," "," "," "," "," "," "," "," "," "," "," "," "," "," "," "," "," "," "," "," "," "," "," "," "," "," "," "," "," "," "," "," "," "," "," "," "," "," "," "," "," "," "," "," "," "," "," "," "," "," "," "," "," "," "," "," "," "," "," "," "," "," "," "," "," "," "," "," "," "," "," "," "," "," "," "," "," "," "," "," "," "," "," "," "," "," "," "," "," "," "," "," "," "," "," "," "," "," "," "," "," "," "," "," "," "," "," "," "," "," "," "," "," "," "," "," "," "," "," "," "," "," "," "," "," "," "," "," "," "," "," "," "," "," "," "," "," "," "," "," "," "," "," "," "," "," "," "," "," "," "," "," "," "," "," "," "," "," "," "," "," "," "," "," "," "," "," "," "," "," "," "," "," "," "," "," "," "," "," "," "," "," "," "," "," "," "," "," "," "," "," "," "," "," "," "," "," "," "," "," "," "," "," "," "," "," "," "," "," "," "," "," "," "," "," "," "," "," "," "," "," "," "," "," "," "," "," "," "," "," "," "," "," "," "," "," "," "," "," "," "," "," "," "," "," "," "," "," "," "," "," "," "," "," "," "," "," "," "," "," "," "," "," "," "," "," "," "," "," "," "," "," "," "," "," "," "," "," "," "," "," "," "," "," "," "," "," "," "," "," "," "," "," "," "," "," "," "," "," "," "," "," "," "," "," "," "," "," "," "," "," "," "," "," "," "," "," "," "," "," "," "," "," "," "," "," "," "," "," "," "," "," "," "," "," "," "," "," "," "," "," "," "," "," "," "," "," "," "," "," "," "," "," "," "," "," "," "," "," "," "," "," "," "," "," "," "," "," "," "," "," "," "," "," "," "," "," "," "," "," "," "," "," "," "," "," "," "," "," "]
[" "," "," "," "," "," "," "," "," "," "," "," "," "," "," "," "," "," "," "," "," "," "," "," "," "," "," "," "," "," "," "," "," "," "," "," "," "," "," "," "," "," "," "," "," "," "," "," "," "," "," "," "," "," "," "," "," "," "," "," "," "," "," "," "," "," "," "," "," "," "," "," "," "," "," "," "," "," "," "," "," "," "," "," "," "," "," "," "," "," "," "," "," "," "," "," "," "," "," "," "," "," "," "," "," "," "," "," "," "," "," "," "," "," "," "," "," "," "," "," "," "," "," "," "," "," "," "," "," "," "," "," "," "," "," "," "," "," "," "," "," "," "," "," "," "," "," "," "," "," "," "," "," "," "," "," "," "," "," "," "," "," "," "," "," "," "," "," "," "," "," "," "," "," "," "," "," "," "," "," "," "," "," "," "," "," "," "," "," "," "," "," "," "," "," "," "," "," "," "," "," "," "," "," "," "," "," "," "," "," "," "," "," "," "," "," "," "," "," "," "," "," "," "," "," "," "," "," "," "," "," "," "," "," "," "," "," "," "," "," "," "," "," "," "," "," "," "," "," "," "," "," "," "," "," "," "," "," "," "," "," "," "," "," "," "," "," "," "," "," "," "," "," "," "," "," "," "," "," "," "," "," "," "," "," "," "," "," "," "," "," "," "," "," "," "," "," "," "," "," "," "," "," "," "," "," "," "," "," "," "," "," "," "," "," "," "," "," "," "," "," "," "," "," "," "," "," "," "," "," "," "," "," "," "," "," "," "," "," "," "," "," "," "," "," "," "," "," "," "," "," "," "," "," "," "," "," "," "," "," "," "," "," "," "," "," "," "," "," "," "," "," "," "," "," "," "," "," "," "," "," "," "," "," "," "," "," "," "," "," "]
[" "," "," "," "," "," "," "," "," "," "," "," "," "," "," "," "," "," "," "," "," "," "," "," "," "," "," "," "," "," "," "," "," "," "," "," "," "," "," "," "," "," "," "," "," "," "," "," "," "," "," "," "," "," "," "," "," "," "," "," "," "," "," "," "," "," "," "," "," "," "," "," "," "," "," "," "," "," "," "," "," "," "," "," "," "," "," "," "," "," "," "," "," "," "," "," "," "," "," "," "," "," "," "," "," "," "," "," "," "," "," "," "," "," "," "," "," "," "," "," "," "," "," "," "," "," "," "," "," "," "," "," "," "," "," "," "," "," "," "," "," "," "," "," "," "," "," "," "," "," "," "," "," "," "," "," "," "," "," "," "," "," "," "," "," "," "," "," "," "," "," "," "," "," "," "," "," "," "," "," "," "," "," "," "," "," "," "," "," "," "," "," "," "," "," "," "," "," "," "," "," "," "," "," "," "," "," "," "," "," "," "," "," "," "," "," "," "," "," "," "," "," "," "," "," "," "," "," "," "," "," "," "," "," "," "," "," "," "," "," "," "," "," "," "," "," "," "," "," "," "," "," "," "," "," "," "," "," "," "," "," "," "," "," "," "," "," "," "," "," "," "," "," "," "," "," "," "," "," "," "," "," "," "," "," "," "," "," "," "," "," "," "," "," "," "," "," "," "," "," "," "," "," "," "," "," "," "," "," "," "," "," "," "," "," "," "," "," "," "," "," "," "," "," "," "," "," "," "," "," "," "," "," "," "," "," "," "," "," "," "," "," "," "," "," "," "," "," "," "," "," "," "," "," "," "," "," "," "," "," "," "," "," "," "," "," "," "," "," "," "," "," "," "," "," "," "," "," "," "," "," "," "," "," "," "," "," "," "," "," "]
[" "," "," "," "," "," "," "," "," "," "," "," "," "," "," "," "," "," "," "," "," "," "," "," "," "," "," "," "," "," "," "," "," "," "," "," "," "," "," "," "," "," "," "," "," "," "," "," "," "," "," "," "," "," "," "," "," "," "," "," "," "," "," "," "," "," "," "," "," "," "," "," "," "," "," "," "," "," "," "," "," "," "," "," "," "," "," "," "," "," "," "," "," "," "," "," "," "," "," "," "," "," "," "," "," "," "," "," "," "," "," "," "," "," "," "," "," "," "," "," "," "," "," "," "," "," "," "," "," "," "," "," "," "," "," "," "," "," "," "," "," "," "," "," "," "," "," "," "," "," "," "," "," "," "," "," "," "," "," "," "," "," "," "," "," "," "," "," "," "," "," "," "," "," "," "," "," "," "," "," "," "," "," "," "," "," "," "," "," "," "," "," "," "," "," "," "," "," "," "," "," "," "," "," "," "," "," "," "," "," "," "," "," "," "," "," "," "," "," "," "," "," "," "," "," "," "," "," "," "," "," "," "," "," "," "," "," "," "," "," "," "," "," "," "," "," "," "," "," "," "," "," "," "," "," "," "," "," "," "," "," "," "," "," "," "," "," "," "," "," "," "," "," "," "," "," "," "," "," "," "," "," "," "," "," "," "," "," "," "," "," "," "," "," "," "," "," "," "," "," "," "," "," "," "," "," "," "," "," "," "," "," "," "," "," "," "," "," "," "," "," "," "," "," "," "," "," "," "," "," "," "," "," "," "," "," "," "," "," "," "," "," "," "," "," "," "," "," "," "," "," "," "," "," "," "," "," "," "," "," "," "," "," "," "," "," "," "," "," "," "," "," "," "," "," "," "," "," "," "," "," "," "," "," "," "," "," "," "," "," "]

{"sheet":"Horizontal Calculations","index":6,"n_rows":180,"n_cols":53,"rows_kept":180,"hidden":true}
[]
[{"$nulls":3},1,2,3,4,5,6,7,8,9,10,11,12,13,14,15,16,17,18,19,20,21,22,23,24,25,26,27,28,29,30,31,32,33,34,35,36,37,38,39,40,41,42,43,44,45,46,47,48,49,50]
[null,"LABEL 1","RELATIVE",{"$f":"'Horizontal Labels'!E12","v":0},{"$f":"'Horizontal Labels'!F12","v":0},{"$f":"'Horizontal Labels'!G12","v":0},{"$f":"'Horizontal Labels'!H12","v":0},{"$f":"'Horizontal Labels'!I12","v":0},{"$f":"'Horizontal Labels'!J12","v":0},{"$f":"'Horizontal Labels'!K12","v":0},{"$f":"'Horizontal Labels'!L12","v":0},{"$f":"'Horizontal Labels'!M12","v":0},{"$f":"'Horizontal Labels'!N12","v":0},{"$f":"'Horizontal Labels'!O12","v":0},{"$f":"'Horizontal Labels'!P12","v":0},{"$f":"'Horizontal Labels'!Q12","v":0},{"$f":"'Horizontal Labels'!R12","v":0},{"$f":"'Horizontal Labels'!S12","v":0},{"$f":"'Horizontal Labels'!T12","v":0},{"$f":"'Horizontal Labels'!U12","v":0},{"$f":"'Horizontal Labels'!V12","v":0},{"$f":"'Horizontal Labels'!W12","v":0},{"$f":"'Horizontal Labels'!X12","v":0},{"$f":"'Horizontal Labels'!Y12","v":0},{"$f":"'Horizontal Labels'!Z12","v":0},{"$f":"'Horizontal Labels'!AA12","v":0},{"$f":"'Horizontal Labels'!AB12","v":0},{"$f":"'Horizontal Labels'!AC12","v":0},{"$f":"'Horizontal Labels'!AD12","v":0},{"$f":"'Horizontal Labels'!AE12","v":0},{"$f":"'Horizontal Labels'!AF12","v":0},{"$f":"'Horizontal Labels'!AG12","v":0},{"$f":"'Horizontal Labels'!AH12","v":0},{"$f":"'Horizontal Labels'!AI12","v":0},{"$f":"'Horizontal Labels'!AJ12","v":0},{"$f":"'Horizontal Labels'!AK12","v":0},{"$f":"'Horizontal Labels'!AL12","v":0},{"$f":"'Horizontal Labels'!AM12","v":0},{"$f":"'Horizontal Labels'!AN12","v":0},{"$f":"'Horizontal Labels'!AO12","v":0},{"$f":"'Horizontal Labels'!AP12","v":0},{"$f":"'Horizontal Labels'!AQ12","v":0},{"$f":"'Horizontal Labels'!AR12","v":0},{"$f":"'Horizontal Labels'!AS12","v":0},{"$f":"'Horizontal Labels'!AT12","v":0},{"$f":"'Horizontal Labels'!AU12","v":0},{"$f":"'Horizontal Labels'!AV12","v":0},{"$f":"'Horizontal Labels'!AW12","v":0},{"$f":"'Horizontal Labels'!AX12","v":0},{"$f":"'Horizontal Labels'!AY12","v":0},{"$f":"'Horizontal Labels'!AZ12","v":0},{"$f":"'Horizontal Labels'!BA12","v":0},{"$f":"'Horizontal Labels'!BB12","v":0}]
[null,null,"FIXED",{"$f":"SUM($D$3:D3)","v":0},{"$f":"IF(OR(SUM($D$3:E3)=D4,D4=0),0,SUM($D$3:E3))","v":0},{"$f":"IF(OR(SUM($D$3:F3)=E4,E4=0),0,SUM($D$3:F3))","v":0},{"$f":"IF(OR(SUM($D$3:G3)=F4,F4=0),0,SUM($D$3:G3))","v":0},{"$f":"IF(OR(SUM($D$3:H3)=G4,G4=0),0,SUM($D$3:H3))","v":0},{"$f":"IF(OR(SUM($D$3:I3)=H4,H4=0),0,SUM($D$3:I3))","v":0},{"$f":"IF(OR(SUM($D$3:J3)=I4,I4=0),0,SUM($D$3:J3))","v":0},{"$f":"IF(OR(SUM($D$3:K3)=J4,J4=0),0,SUM($D$3:K3))","v":0},{"$f":"IF(OR(SUM($D$3:L3)=K4,K4=0),0,SUM($D$3:L3))","v":0},{"$f":"IF(OR(SUM($D$3:M3)=L4,L4=0),0,SUM($D$3:M3))","v":0},{"$f":"IF(OR(SUM($D$3:N3)=M4,M4=0),0,SUM($D$3:N3))","v":0},{"$f":"IF(OR(SUM($D$3:O3)=N4,N4=0),0,SUM($D$3:O3))","v":0},{"$f":"IF(OR(SUM($D$3:P3)=O4,O4=0),0,SUM($D$3:P3))","v":0},{"$f":"IF(OR(SUM($D$3:Q3)=P4,P4=0),0,SUM($D$3:Q3))","v":0},{"$f":"IF(OR(SUM($D$3:R3)=Q4,Q4=0),0,SUM($D$3:R3))","v":0},{"$f":"IF(OR(SUM($D$3:S3)=R4,R4=0),0,SUM($D$3:S3))","v":0},{"$f":"IF(OR(SUM($D$3:T3)=S4,S4=0),0,SUM($D$3:T3))","v":0},{"$f":"IF(OR(SUM($D$3:U3)=T4,T4=0),0,SUM($D$3:U3))","v":0},{"$f":"IF(OR(SUM($D$3:V3)=U4,U4=0),0,SUM($D$3:V3))","v":0},{"$f":"IF(OR(SUM($D$3:W3)=V4,V4=0),0,SUM($D$3:W3))","v":0},{"$f":"IF(OR(SUM($D$3:X3)=W4,W4=0),0,SUM($D$3:X3))","v":0},{"$f":"IF(OR(SUM($D$3:Y3)=X4,X4=0),0,SUM($D$3:Y3))","v":0},{"$f":"IF(OR(SUM($D$3:Z3)=Y4,Y4=0),0,SUM($D$3:Z3))","v":0},{"$f":"IF(OR(SUM($D$3:AA3)=Z4,Z4=0),0,SUM($D$3:AA3))","v":0},{"$f":"IF(OR(SUM($D$3:AB3)=AA4,AA4=0),0,SUM($D$3:AB3))","v":0},{"$f":"IF(OR(SUM($D$3:AC3)=AB4,AB4=0),0,SUM($D$3:AC3))","v":0},{"$f":"IF(OR(SUM($D$3:AD3)=AC4,AC4=0),0,SUM($D$3:AD3))","v":0},{"$f":"IF(OR(SUM($D$3:AE3)=AD4,AD4=0),0,SUM($D$3:AE3))","v":0},{"$f":"IF(OR(SUM($D$3:AF3)=AE4,AE4=0),0,SUM($D$3:AF3))","v":0},{"$f":"IF(OR(SUM($D$3:AG3)=AF4,AF4=0),0,SUM($D$3:AG3))","v":0},{"$f":"IF(OR(SUM($D$3:AH3)=AG4,AG4=0),0,SUM($D$3:AH3))","v":0},{"$f":"IF(OR(SUM($D$3:AI3)=AH4,AH4=0),0,SUM($D$3:AI3))","v":0},{"$f":"IF(OR(SUM($D$3:AJ3)=AI4,AI4=0),0,SUM($D$3:AJ3))","v":0},{"$f":"IF(OR(SUM($D$3:AK3)=AJ4,AJ4=0),0,SUM($D$3:AK3))","v":0},{"$f":"IF(OR(SUM($D$3:AL3)=AK4,AK4=0),0,SUM($D$3:AL3))","v":0},{"$f":"IF(OR(SUM($D$3:AM3)=AL4,AL4=0),0,SUM($D$3:AM3))","v":0},{"$f":"IF(OR(SUM($D$3:AN3)=AM4,AM4=0),0,SUM($D$3:AN3))","v":0},{"$f":"IF(OR(SUM($D$3:AO3)=AN4,AN4=0),0,SUM($D$3:AO3))","v":0},{"$f":"IF(OR(SUM($D$3:AP3)=AO4,AO4=0),0,SUM($D$3:AP3))","v":0},{"$f":"IF(OR(SUM($D$3:AQ3)=AP4,AP4=0),0,SUM($D$3:AQ3))","v":0},{"$f":"IF(OR(SUM($D$3:AR3)=AQ4,AQ4=0),0,SUM($D$3:AR3))","v":0},{"$f":"IF(OR(SUM($D$3:AS3)=AR4,AR4=0),0,SUM($D$3:AS3))","v":0},{"$f":"IF(OR(SUM($D$3:AT3)=AS4,AS4=0),0,SUM($D$3:AT3))","v":0},{"$f":"IF(OR(SUM($D$3:AU3)=AT4,AT4=0),0,SUM($D$3:AU3))","v":0},{"$f":"IF(OR(SUM($D$3:AV3)=AU4,AU4=0),0,SUM($D$3:AV3))","v":0},{"$f":"IF(OR(SUM($D$3:AW3)=AV4,AV4=0),0,SUM($D$3:AW3))","v":0},{"$f":"IF(OR(SUM($D$3:AX3)=AW4,AW4=0),0,SUM($D$3:AX3))","v":0},{"$f":"IF(OR(SUM($D$3:AY3)=AX4,AX4=0),0,SUM($D$3:AY3))","v":0},{"$f":"IF(OR(SUM($D$3:AZ3)=AY4,AY4=0),0,SUM($D$3:AZ3))","v":0},{"$f":"IF(OR(SUM($D$3:BA3)=AZ4,AZ4=0),0,SUM($D$3:BA3))","v":0}]
[null,null,"FIXED",{"$f":"'Horizontal Labels'!E12","v":0},{"$f":"'Horizontal Labels'!F12","v":0},{"$f":"'Horizontal Labels'!G12","v":0},{"$f":"'Horizontal Labels'!H12","v":0},{"$f":"'Horizontal Labels'!I12","v":0},{"$f":"'Horizontal Labels'!J12","v":0},{"$f":"'Horizontal Labels'!K12","v":0},{"$f":"'Horizontal Labels'!L12","v":0},{"$f":"'Horizontal Labels'!M12","v":0},{"$f":"'Horizontal Labels'!N12","v":0},{"$f":"'Horizontal Labels'!O12","v":0},{"$f":"'Horizontal Labels'!P12","v":0},{"$f":"'Horizontal Labels'!Q12","v":0},{"$f":"'Horizontal Labels'!R12","v":0},{"$f":"'Horizontal Labels'!S12","v":0},{"$f":"'Horizontal Labels'!T12","v":0},{"$f":"'Horizontal Labels'!U12","v":0},{"$f":"'Horizontal Labels'!V12","v":0},{"$f":"'Horizontal Labels'!W12","v":0},{"$f":"'Horizontal Labels'!X12","v":0},{"$f":"'Horizontal Labels'!Y12","v":0},{"$f":"'Horizontal Labels'!Z12","v":0},{"$f":"'Horizontal Labels'!AA12","v":0},{"$f":"'Horizontal Labels'!AB12","v":0},{"$f":"'Horizontal Labels'!AC12","v":0},{"$f":"'Horizontal Labels'!AD12","v":0},{"$f":"'Horizontal Labels'!AE12","v":0},{"$f":"'Horizontal Labels'!AF12","v":0},{"$f":"'Horizontal Labels'!AG12","v":0},{"$f":"'Horizontal Labels'!AH12","v":0},{"$f":"'Horizontal Labels'!AI12","v":0},{"$f":"'Horizontal Labels'!AJ12","v":0},{"$f":"'Horizontal Labels'!AK12","v":0},{"$f":"'Horizontal Labels'!AL12","v":0},{"$f":"'Horizontal Labels'!AM12","v":0},{"$f":"'Horizontal Labels'!AN12","v":0},{"$f":"'Horizontal Labels'!AO12","v":0},{"$f":"'Horizontal Labels'!AP12","v":0},{"$f":"'Horizontal Labels'!AQ12","v":0},{"$f":"'Horizontal Labels'!AR12","v":0},{"$f":"'Horizontal Labels'!AS12","v":0},{"$f":"'Horizontal Labels'!AT12","v":0},{"$f":"'Horizontal Labels'!AU12","v":0},{"$f":"'Horizontal Labels'!AV12","v":0},{"$f":"'Horizontal Labels'!AW12","v":0},{"$f":"'Horizontal Labels'!AX12","v":0},{"$f":"'Horizontal Labels'!AY12","v":0},{"$f":"'Horizontal Labels'!AZ12","v":0},{"$f":"'Horizontal Labels'!BA12","v":0},{"$f":"'Horizontal Labels'!BB12","v":0}]
[null,null,"RELATIVE",{"$f":"D5","v":0},{"$f":"IF(E5-D5<1,0,E5-D5)","v":0},{"$f":"IF(F5-E5<1,0,F5-E5)","v":0},0,0,0,0,0,0,0,0,0,0,0,0,0,0,{"$f":"IF(U5-T5<1,0,U5-T5)","v":0},{"$f":"IF(V5-U5<1,0,V5-U5)","v":0},{"$f":"IF(W5-V5<1,0,W5-V5)","v":0},{"$f":"IF(X5-W5<1,0,X5-W5)","v":0},{"$f":"IF(Y5-X5<1,0,Y5-X5)","v":0},{"$f":"IF(Z5-Y5<1,0,Z5-Y5)","v":0},{"$f":"IF(AA5-Z5<1,0,AA5-Z5)","v":0},{"$f":"IF(AB5-AA5<1,0,AB5-AA5)","v":0},{"$f":"IF(AC5-AB5<1,0,AC5-AB5)","v":0},{"$f":"IF(AD5-AC5<1,0,AD5-AC5)","v":0},{"$f":"IF(AE5-AD5<1,0,AE5-AD5)","v":0},{"$f":"IF(AF5-AE5<1,0,AF5-AE5)","v":0},{"$f":"IF(AG5-AF5<1,0,AG5-AF5)","v":0},{"$f":"IF(AH5-AG5<1,0,AH5-AG5)","v":0},0,{"$f":"IF(AJ5-AI5<1,0,AJ5-AI5)","v":0},{"$f":"IF(AK5-AJ5<1,0,AK5-AJ5)","v":0},{"$f":"IF(AL5-AK5<1,0,AL5-AK5)","v":0},{"$f":"IF(AM5-AL5<1,0,AM5-AL5)","v":0},{"$f":"IF(AN5-AM5<1,0,AN5-AM5)","v":0},{"$f":"IF(AO5-AN5<1,0,AO5-AN5)","v":0},{"$f":"IF(AP5-AO5<1,0,AP5-AO5)","v":0},{"$f":"IF(AQ5-AP5<1,0,AQ5-AP5)","v":0},{"$f":"IF(AR5-AQ5<1,0,AR5-AQ5)","v":0},{"$f":"IF(AS5-AR5<1,0,AS5-AR5)","v":0},{"$f":"IF(AT5-AS5<1,0,AT5-AS5)","v":0},{"$f":"IF(AU5-AT5<1,0,AU5-AT5)","v":0},{"$f":"IF(AV5-AU5<1,0,AV5-AU5)","v":0},{"$f":"IF(AW5-AV5<1,0,AW5-AV5)","v":0},0,{"$f":"IF(AY5-AX5<1,0,AY5-AX5)","v":0},{"$f":"IF(AZ5-AY5<1,0,AZ5-AY5)","v":0},{"$f":"IF(BA5-AZ5<1,0,BA5-AZ5)","v":0}]
[null,null,"BLOCKS",{"$f":"'Horizontal Labels'!E12","v":0},{"$f":"'Horizontal Labels'!F12","v":0},{"$f":"'Horizontal Labels'!G12","v":0},{"$f":"'Horizontal Labels'!H12","v":0},{"$f":"'Horizontal Labels'!I12","v":0},{"$f":"'Horizontal Labels'!J12","v":0},{"$f":"'Horizontal Labels'!K12","v":0},{"$f":"'Horizontal Labels'!L12","v":0},{"$f":"'Horizontal Labels'!M12","v":0},{"$f":"'Horizontal Labels'!N12","v":0},{"$f":"'Horizontal Labels'!O12","v":0},{"$f":"'Horizontal Labels'!P12","v":0},{"$f":"'Horizontal Labels'!Q12","v":0},{"$f":"'Horizontal Labels'!R12","v":0},{"$f":"'Horizontal Labels'!S12","v":0},{"$f":"'Horizontal Labels'!T12","v":0},{"$f":"'Horizontal Labels'!U12","v":0},{"$f":"'Horizontal Labels'!V12","v":0},{"$f":"'Horizontal Labels'!W12","v":0},{"$f":"'Horizontal Labels'!X12","v":0},{"$f":"'Horizontal Labels'!Y12","v":0},{"$f":"'Horizontal Labels'!Z12","v":0},{"$f":"'Horizontal Labels'!AA12","v":0},{"$f":"'Horizontal Labels'!AB12","v":0},{"$f":"'Horizontal Labels'!AC12","v":0},{"$f":"'Horizontal Labels'!AD12","v":0},{"$f":"'Horizontal Labels'!AE12","v":0},{"$f":"'Horizontal Labels'!AF12","v":0},{"$f":"'Horizontal Labels'!AG12","v":0},{"$f":"'Horizontal Labels'!AH12","v":0},{"$f":"'Horizontal Labels'!AI12","v":0},{"$f":"'Horizontal Labels'!AJ12","v":0},{"$f":"'Horizontal Labels'!AK12","v":0},{"$f":"'Horizontal Labels'!AL12","v":0},{"$f":"'Horizontal Labels'!AM12","v":0},{"$f":"'Horizontal Labels'!AN12","v":0},{"$f":"'Horizontal Labels'!AO12","v":0},{"$f":"'Horizontal Labels'!AP12","v":0},{"$f":"'Horizontal Labels'!AQ12","v":0},{"$f":"'Horizontal Labels'!AR12","v":0},{"$f":"'Horizontal Labels'!AS12","v":0},{"$f":"'Horizontal Labels'!AT12","v":0},{"$f":"'Horizontal Labels'!AU12","v":0},{"$f":"'Horizontal Labels'!AV12","v":0},{"$f":"'Horizontal Labels'!AW12","v":0},{"$f":"'Horizontal Labels'!AX12","v":0},{"$f":"'Horizontal Labels'!AY12","v":0},{"$f":"'Horizontal Labels'!AZ12","v":0},{"$f":"'Horizontal Labels'!BA12","v":0},{"$f":"'Horizontal Labels'!BB12","v":0}]
[null,null,"FIXED",{"$f":"D9","v":0},{"$f":"IF(OR(SUM($D$9:E9)=D8,D8=0),0,SUM($D$9:E9))","v":0},{"$f":"IF(OR(SUM($D$9:F9)=E8,E8=0),0,SUM($D$9:F9))","v":0},{"$f":"IF(OR(SUM($D$9:G9)=F8,F8=0),0,SUM($D$9:G9))","v":0},{"$f":"IF(OR(SUM($D$9:H9)=G8,G8=0),0,SUM($D$9:H9))","v":0},{"$f":"IF(OR(SUM($D$9:I9)=H8,H8=0),0,SUM($D$9:I9))","v":0},{"$f":"IF(OR(SUM($D$9:J9)=I8,I8=0),0,SUM($D$9:J9))","v":0},{"$f":"IF(OR(SUM($D$9:K9)=J8,J8=0),0,SUM($D$9:K9))","v":0},{"$f":"IF(OR(SUM($D$9:L9)=K8,K8=0),0,SUM($D$9:L9))","v":0},{"$f":"IF(OR(SUM($D$9:M9)=L8,L8=0),0,SUM($D$9:M9))","v":0},{"$f":"IF(OR(SUM($D$9:N9)=M8,M8=0),0,SUM($D$9:N9))","v":0},{"$f":"IF(OR(SUM($D$9:O9)=N8,N8=0),0,SUM($D$9:O9))","v":0},{"$f":"IF(OR(SUM($D$9:P9)=O8,O8=0),0,SUM($D$9:P9))","v":0},{"$f":"IF(OR(SUM($D$9:Q9)=P8,P8=0),0,SUM($D$9:Q9))","v":0},{"$f":"IF(OR(SUM($D$9:R9)=Q8,Q8=0),0,SUM($D$9:R9))","v":0},{"$f":"IF(OR(SUM($D$9:S9)=R8,R8=0),0,SUM($D$9:S9))","v":0},{"$f":"IF(OR(SUM($D$9:T9)=S8,S8=0),0,SUM($D$9:T9))","v":0},{"$f":"IF(OR(SUM($D$9:U9)=T8,T8=0),0,SUM($D$9:U9))","v":0},{"$f":"IF(OR(SUM($D$9:V9)=U8,U8=0),0,SUM($D$9:V9))","v":0},{"$f":"IF(OR(SUM($D$9:W9)=V8,V8=0),0,SUM($D$9:W9))","v":0},{"$f":"IF(OR(SUM($D$9:X9)=W8,W8=0),0,SUM($D$9:X9))","v":0},{"$f":"IF(OR(SUM($D$9:Y9)=X8,X8=0),0,SUM($D$9:Y9))","v":0},{"$f":"IF(OR(SUM($D$9:Z9)=Y8,Y8=0),0,SUM($D$9:Z9))","v":0},{"$f":"IF(OR(SUM($D$9:AA9)=Z8,Z8=0),0,SUM($D$9:AA9))","v":0},{"$f":"IF(OR(SUM($D$9:AB9)=AA8,AA8=0),0,SUM($D$9:AB9))","v":0},{"$f":"IF(OR(SUM($D$9:AC9)=AB8,AB8=0),0,SUM($D$9:AC9))","v":0},{"$f":"IF(OR(SUM($D$9:AD9)=AC8,AC8=0),0,SUM($D$9:AD9))","v":0},{"$f":"IF(OR(SUM($D$9:AE9)=AD8,AD8=0),0,SUM($D$9:AE9))","v":0},{"$f":"IF(OR(SUM($D$9:AF9)=AE8,AE8=0),0,SUM($D$9:AF9))","v":0},{"$f":"IF(OR(SUM($D$9:AG9)=AF8,AF8=0),0,SUM($D$9:AG9))","v":0},{"$f":"IF(OR(SUM($D$9:AH9)=AG8,AG8=0),0,SUM($D$9:AH9))","v":0},{"$f":"IF(OR(SUM($D$9:AI9)=AH8,AH8=0),0,SUM($D$9:AI9))","v":0},{"$f":"IF(OR(SUM($D$9:AJ9)=AI8,AI8=0),0,SUM($D$9:AJ9))","v":0},{"$f":"IF(OR(SUM($D$9:AK9)=AJ8,AJ8=0),0,SUM($D$9:AK9))","v":0},{"$f":"IF(OR(SUM($D$9:AL9)=AK8,AK8=0),0,SUM($D$9:AL9))","v":0},{"$f":"IF(OR(SUM($D$9:AM9)=AL8,AL8=0),0,SUM($D$9:AM9))","v":0},{"$f":"IF(OR(SUM($D$9:AN9)=AM8,AM8=0),0,SUM($D$9:AN9))","v":0},{"$f":"IF(OR(SUM($D$9:AO9)=AN8,AN8=0),0,SUM($D$9:AO9))","v":0},{"$f":"IF(OR(SUM($D$9:AP9)=AO8,AO8=0),0,SUM($D$9:AP9))","v":0},{"$f":"IF(OR(SUM($D$9:AQ9)=AP8,AP8=0),0,SUM($D$9:AQ9))","v":0},{"$f":"IF(OR(SUM($D$9:AR9)=AQ8,AQ8=0),0,SUM($D$9:AR9))","v":0},{"$f":"IF(OR(SUM($D$9:AS9)=AR8,AR8=0),0,SUM($D$9:AS9))","v":0},{"$f":"IF(OR(SUM($D$9:AT9)=AS8,AS8=0),0,SUM($D$9:AT9))","v":0},{"$f":"IF(OR(SUM($D$9:AU9)=AT8,AT8=0),0,SUM($D$9:AU9))","v":0},{"$f":"IF(OR(SUM($D$9:AV9)=AU8,AU8=0),0,SUM($D$9:AV9))","v":0},{"$f":"IF(OR(SUM($D$9:AW9)=AV8,AV8=0),0,SUM($D$9:AW9))","v":0},{"$f":"IF(OR(SUM($D$9:AX9)=AW8,AW8=0),0,SUM($D$9:AX9))","v":0},{"$f":"IF(OR(SUM($D$9:AY9)=AX8,AX8=0),0,SUM($D$9:AY9))","v":0},{"$f":"IF(OR(SUM($D$9:AZ9)=AY8,AY8=0),0,SUM($D$9:AZ9))","v":0},{"$f":"IF(OR(SUM($D$9:BA9)=AZ8,AZ8=0),0,SUM($D$9:BA9))","v":0}]
[null,null,"RELATIVE",{"$f":"D7/2","v":0},{"$f":"(D7/2)+(E7/2)","v":0},{"$f":"(E7/2)+(F7/2)","v":0},0,0,0,0,0,0,0,0,0,0,0,0,0,0,0,0,0,0,0,0,0,0,0,0,0,0,0,0,0,0,0,0,0,0,0,0,0,0,0,0,0,0,0,0,0,0,0]
[]
[{"$nulls":3},1,2,3,4,5,6,7,8,9,10,11,12,13,14,15,16,17,18,19,20,21,22,23,24,25,26,27,28,29,30,31,32,33,34,35,36,37,38,39,40,41,42,43,44,45,46,47,48,49,50]
[null,"LABEL 2","RELATIVE",{"$f":"'Horizontal Labels'!E$23","v":0},{"$f":"'Horizontal Labels'!F$23","v":0},{"$f":"'Horizontal Labels'!G$23","v":0},{"$f":"'Horizontal Labels'!H$23","v":0},{"$f":"'Horizontal Labels'!I$23","v":0},{"$f":"'Horizontal Labels'!J$23","v":0},{"$f":"'Horizontal Labels'!K$23","v":0},{"$f":"'Horizontal Labels'!L$23","v":0},{"$f":"'Horizontal Labels'!M$23","v":0},{"$f":"'Horizontal Labels'!N$23","v":0},{"$f":"'Horizontal Labels'!O$23","v":0},{"$f":"'Horizontal Labels'!P$23","v":0},{"$f":"'Horizontal Labels'!Q$23","v":0},{"$f":"'Horizontal Labels'!R$23","v":0},{"$f":"'Horizontal Labels'!S$23","v":0},{"$f":"'Horizontal Labels'!T$23","v":0},{"$f":"'Horizontal Labels'!U$23","v":0},{"$f":"'Horizontal Labels'!V$23","v":0},{"$f":"'Horizontal Labels'!W$23","v":0},{"$f":"'Horizontal Labels'!X$23","v":0},{"$f":"'Horizontal Labels'!Y$23","v":0},{"$f":"'Horizontal Labels'!Z$23","v":0},{"$f":"'Horizontal Labels'!AA$23","v":0},{"$f":"'Horizontal Labels'!AB$23","v":0},{"$f":"'Horizontal Labels'!AC$23","v":0},{"$f":"'Horizontal Labels'!AD$23","v":0},{"$f":"'Horizontal Labels'!AE$23","v":0},{"$f":"'Horizontal Labels'!AF$23","v":0},{"$f":"'Horizontal Labels'!AG$23","v":0},{"$f":"'Horizontal Labels'!AH$23","v":0},{"$f":"'Horizontal Labels'!AI$23","v":0},{"$f":"'Horizontal Labels'!AJ$23","v":0},{"$f":"'Horizontal Labels'!AK$23","v":0},{"$f":"'Horizontal Labels'!AL$23","v":0},{"$f":"'Horizontal Labels'!AM$23","v":0},{"$f":"'Horizontal Labels'!AN$23","v":0},{"$f":"'Horizontal Labels'!AO$23","v":0},{"$f":"'Horizontal Labels'!AP$23","v":0},{"$f":"'Horizontal Labels'!AQ$23","v":0},{"$f":"'Horizontal Labels'!AR$23","v":0},{"$f":"'Horizontal Labels'!AS$23","v":0},{"$f":"'Horizontal Labels'!AT$23","v":0},{"$f":"'Horizontal Labels'!AU$23","v":0},{"$f":"'Horizontal Labels'!AV$23","v":0},{"$f":"'Horizontal Labels'!AW$23","v":0},{"$f":"'Horizontal Labels'!AX$23","v":0},{"$f":"'Horizontal Labels'!AY$23","v":0},{"$f":"'Horizontal Labels'!AZ$23","v":0},{"$f":"'Horizontal Labels'!BA$23","v":0},{"$f":"'Horizontal Labels'!BB$23","v":0}]
[null,null,"FIXED",{"$f":"SUM($D$12:D12)","v":0},{"$f":"IF(OR(SUM($D$12:E12)=D13,D13=0),0,SUM($D$12:E12))","v":0},{"$f":"IF(OR(SUM($D$12:F12)=E13,E13=0),0,SUM($D$12:F12))","v":0},{"$f":"IF(OR(SUM($D$12:G12)=F13,F13=0),0,SUM($D$12:G12))","v":0},{"$f":"IF(OR(SUM($D$12:H12)=G13,G13=0),0,SUM($D$12:H12))","v":0},{"$f":"IF(OR(SUM($D$12:I12)=H13,H13=0),0,SUM($D$12:I12))","v":0},{"$f":"IF(OR(SUM($D$12:J12)=I13,I13=0),0,SUM($D$12:J12))","v":0},{"$f":"IF(OR(SUM($D$12:K12)=J13,J13=0),0,SUM($D$12:K12))","v":0},{"$f":"IF(OR(SUM($D$12:L12)=K13,K13=0),0,SUM($D$12:L12))","v":0},{"$f":"IF(OR(SUM($D$12:M12)=L13,L13=0),0,SUM($D$12:M12))","v":0},{"$f":"IF(OR(SUM($D$12:N12)=M13,M13=0),0,SUM($D$12:N12))","v":0},{"$f":"IF(OR(SUM($D$12:O12)=N13,N13=0),0,SUM($D$12:O12))","v":0},{"$f":"IF(OR(SUM($D$12:P12)=O13,O13=0),0,SUM($D$12:P12))","v":0},{"$f":"IF(OR(SUM($D$12:Q12)=P13,P13=0),0,SUM($D$12:Q12))","v":0},{"$f":"IF(OR(SUM($D$12:R12)=Q13,Q13=0),0,SUM($D$12:R12))","v":0},{"$f":"IF(OR(SUM($D$12:S12)=R13,R13=0),0,SUM($D$12:S12))","v":0},{"$f":"IF(OR(SUM($D$12:T12)=S13,S13=0),0,SUM($D$12:T12))","v":0},{"$f":"IF(OR(SUM($D$12:U12)=T13,T13=0),0,SUM($D$12:U12))","v":0},{"$f":"IF(OR(SUM($D$12:V12)=U13,U13=0),0,SUM($D$12:V12))","v":0},{"$f":"IF(OR(SUM($D$12:W12)=V13,V13=0),0,SUM($D$12:W12))","v":0},{"$f":"IF(OR(SUM($D$12:X12)=W13,W13=0),0,SUM($D$12:X12))","v":0},{"$f":"IF(OR(SUM($D$12:Y12)=X13,X13=0),0,SUM($D$12:Y12))","v":0},{"$f":"IF(OR(SUM($D$12:Z12)=Y13,Y13=0),0,SUM($D$12:Z12))","v":0},{"$f":"IF(OR(SUM($D$12:AA12)=Z13,Z13=0),0,SUM($D$12:AA12))","v":0},{"$f":"IF(OR(SUM($D$12:AB12)=AA13,AA13=0),0,SUM($D$12:AB12))","v":0},{"$f":"IF(OR(SUM($D$12:AC12)=AB13,AB13=0),0,SUM($D$12:AC12))","v":0},{"$f":"IF(OR(SUM($D$12:AD12)=AC13,AC13=0),0,SUM($D$12:AD12))","v":0},{"$f":"IF(OR(SUM($D$12:AE12)=AD13,AD13=0),0,SUM($D$12:AE12))","v":0},{"$f":"IF(OR(SUM($D$12:AF12)=AE13,AE13=0),0,SUM($D$12:AF12))","v":0},{"$f":"IF(OR(SUM($D$12:AG12)=AF13,AF13=0),0,SUM($D$12:AG12))","v":0},{"$f":"IF(OR(SUM($D$12:AH12)=AG13,AG13=0),0,SUM($D$12:AH12))","v":0},{"$f":"IF(OR(SUM($D$12:AI12)=AH13,AH13=0),0,SUM($D$12:AI12))","v":0},{"$f":"IF(OR(SUM($D$12:AJ12)=AI13,AI13=0),0,SUM($D$12:AJ12))","v":0},{"$f":"IF(OR(SUM($D$12:AK12)=AJ13,AJ13=0),0,SUM($D$12:AK12))","v":0},{"$f":"IF(OR(SUM($D$12:AL12)=AK13,AK13=0),0,SUM($D$12:AL12))","v":0},{"$f":"IF(OR(SUM($D$12:AM12)=AL13,AL13=0),0,SUM($D$12:AM12))","v":0},{"$f":"IF(OR(SUM($D$12:AN12)=AM13,AM13=0),0,SUM($D$12:AN12))","v":0},{"$f":"IF(OR(SUM($D$12:AO12)=AN13,AN13=0),0,SUM($D$12:AO12))","v":0},{"$f":"IF(OR(SUM($D$12:AP12)=AO13,AO13=0),0,SUM($D$12:AP12))","v":0},{"$f":"IF(OR(SUM($D$12:AQ12)=AP13,AP13=0),0,SUM($D$12:AQ12))","v":0},{"$f":"IF(OR(SUM($D$12:AR12)=AQ13,AQ13=0),0,SUM($D$12:AR12))","v":0},{"$f":"IF(OR(SUM($D$12:AS12)=AR13,AR13=0),0,SUM($D$12:AS12))","v":0},{"$f":"IF(OR(SUM($D$12:AT12)=AS13,AS13=0),0,SUM($D$12:AT12))","v":0},{"$f":"IF(OR(SUM($D$12:AU12)=AT13,AT13=0),0,SUM($D$12:AU12))","v":0},{"$f":"IF(OR(SUM($D$12:AV12)=AU13,AU13=0),0,SUM($D$12:AV12))","v":0},{"$f":"IF(OR(SUM($D$12:AW12)=AV13,AV13=0),0,SUM($D$12:AW12))","v":0},{"$f":"IF(OR(SUM($D$12:AX12)=AW13,AW13=0),0,SUM($D$12:AX12))","v":0},{"$f":"IF(OR(SUM($D$12:AY12)=AX13,AX13=0),0,SUM($D$12:AY12))","v":0},{"$f":"IF(OR(SUM($D$12:AZ12)=AY13,AY13=0),0,SUM($D$12:AZ12))","v":0},{"$f":"IF(OR(SUM($D$12:BA12)=AZ13,AZ13=0),0,SUM($D$12:BA12))","v":0}]
[null,null,"FIXED",{"$f":"'Horizontal Labels'!E$23","v":0},{"$f":"'Horizontal Labels'!F$23","v":0},{"$f":"'Horizontal Labels'!G$23","v":0},{"$f":"'Horizontal Labels'!H$23","v":0},{"$f":"'Horizontal Labels'!I$23","v":0},{"$f":"'Horizontal Labels'!J$23","v":0},{"$f":"'Horizontal Labels'!K$23","v":0},{"$f":"'Horizontal Labels'!L$23","v":0},{"$f":"'Horizontal Labels'!M$23","v":0},{"$f":"'Horizontal Labels'!N$23","v":0},{"$f":"'Horizontal Labels'!O$23","v":0},{"$f":"'Horizontal Labels'!P$23","v":0},{"$f":"'Horizontal Labels'!Q$23","v":0},{"$f":"'Horizontal Labels'!R$23","v":0},{"$f":"'Horizontal Labels'!S$23","v":0},{"$f":"'Horizontal Labels'!T$23","v":0},{"$f":"'Horizontal Labels'!U$23","v":0},{"$f":"'Horizontal Labels'!V$23","v":0},{"$f":"'Horizontal Labels'!W$23","v":0},{"$f":"'Horizontal Labels'!X$23","v":0},{"$f":"'Horizontal Labels'!Y$23","v":0},{"$f":"'Horizontal Labels'!Z$23","v":0},{"$f":"'Horizontal Labels'!AA$23","v":0},{"$f":"'Horizontal Labels'!AB$23","v":0},{"$f":"'Horizontal Labels'!AC$23","v":0},{"$f":"'Horizontal Labels'!AD$23","v":0},{"$f":"'Horizontal Labels'!AE$23","v":0},{"$f":"'Horizontal Labels'!AF$23","v":0},{"$f":"'Horizontal Labels'!AG$23","v":0},{"$f":"'Horizontal Labels'!AH$23","v":0},{"$f":"'Horizontal Labels'!AI$23","v":0},{"$f":"'Horizontal Labels'!AJ$23","v":0},{"$f":"'Horizontal Labels'!AK$23","v":0},{"$f":"'Horizontal Labels'!AL$23","v":0},{"$f":"'Horizontal Labels'!AM$23","v":0},{"$f":"'Horizontal Labels'!AN$23","v":0},{"$f":"'Horizontal Labels'!AO$23","v":0},{"$f":"'Horizontal Labels'!AP$23","v":0},{"$f":"'Horizontal Labels'!AQ$23","v":0},{"$f":"'Horizontal Labels'!AR$23","v":0},{"$f":"'Horizontal Labels'!AS$23","v":0},{"$f":"'Horizontal Labels'!AT$23","v":0},{"$f":"'Horizontal Labels'!AU$23","v":0},{"$f":"'Horizontal Labels'!AV$23","v":0},{"$f":"'Horizontal Labels'!AW$23","v":0},{"$f":"'Horizontal Labels'!AX$23","v":0},{"$f":"'Horizontal Labels'!AY$23","v":0},{"$f":"'Horizontal Labels'!AZ$23","v":0},{"$f":"'Horizontal Labels'!BA$23","v":0},{"$f":"'Horizontal Labels'!BB$23","v":0}]
[null,null,"RELATIVE",{"$f":"D14","v":0},{"$f":"IF(E14-D14<1,0,E14-D14)","v":0},{"$f":"IF(F14-E14<1,0,F14-E14)","v":0},0,0,0,0,0,0,0,0,0,0,0,0,0,0,0,0,0,0,0,0,0,0,0,0,0,0,0,0,0,0,0,0,0,0,0,0,0,0,0,0,0,0,0,0,0,0,0]
[null,null,"BLOCKS",{"$f":"'Horizontal Labels'!E$23","v":0},{"$f":"'Horizontal Labels'!F$23","v":0},{"$f":"'Horizontal Labels'!G$23","v":0},{"$f":"'Horizontal Labels'!H$23","v":0},{"$f":"'Horizontal Labels'!I$23","v":0},{"$f":"'Horizontal Labels'!J$23","v":0},{"$f":"'Horizontal Labels'!K$23","v":0},{"$f":"'Horizontal Labels'!L$23","v":0},{"$f":"'Horizontal Labels'!M$23","v":0},{"$f":"'Horizontal Labels'!N$23","v":0},{"$f":"'Horizontal Labels'!O$23","v":0},{"$f":"'Horizontal Labels'!P$23","v":0},{"$f":"'Horizontal Labels'!Q$23","v":0},{"$f":"'Horizontal Labels'!R$23","v":0},{"$f":"'Horizontal Labels'!S$23","v":0},{"$f":"'Horizontal Labels'!T$23","v":0},{"$f":"'Horizontal Labels'!U$23","v":0},{"$f":"'Horizontal Labels'!V$23","v":0},{"$f":"'Horizontal Labels'!W$23","v":0},{"$f":"'Horizontal Labels'!X$23","v":0},{"$f":"'Horizontal Labels'!Y$23","v":0},{"$f":"'Horizontal Labels'!Z$23","v":0},{"$f":"'Horizontal Labels'!AA$23","v":0},{"$f":"'Horizontal Labels'!AB$23","v":0},{"$f":"'Horizontal Labels'!AC$23","v":0},{"$f":"'Horizontal Labels'!AD$23","v":0},{"$f":"'Horizontal Labels'!AE$23","v":0},{"$f":"'Horizontal Labels'!AF$23","v":0},{"$f":"'Horizontal Labels'!AG$23","v":0},{"$f":"'Horizontal Labels'!AH$23","v":0},{"$f":"'Horizontal Labels'!AI$23","v":0},{"$f":"'Horizontal Labels'!AJ$23","v":0},{"$f":"'Horizontal Labels'!AK$23","v":0},{"$f":"'Horizontal Labels'!AL$23","v":0},{"$f":"'Horizontal Labels'!AM$23","v":0},{"$f":"'Horizontal Labels'!AN$23","v":0},{"$f":"'Horizontal Labels'!AO$23","v":0},{"$f":"'Horizontal Labels'!AP$23","v":0},{"$f":"'Horizontal Labels'!AQ$23","v":0},{"$f":"'Horizontal Labels'!AR$23","v":0},{"$f":"'Horizontal Labels'!AS$23","v":0},{"$f":"'Horizontal Labels'!AT$23","v":0},{"$f":"'Horizontal Labels'!AU$23","v":0},{"$f":"'Horizontal Labels'!AV$23","v":0},{"$f":"'Horizontal Labels'!AW$23","v":0},{"$f":"'Horizontal Labels'!AX$23","v":0},{"$f":"'Horizontal Labels'!AY$23","v":0},{"$f":"'Horizontal Labels'!AZ$23","v":0},{"$f":"'Horizontal Labels'!BA$23","v":0},{"$f":"'Horizontal Labels'!BB$23","v":0}]
[null,null,"FIXED",{"$f":"D18","v":0},{"$f":"IF(OR(SUM($D$18:E18)=D17,D17=0),0,SUM($D$18:E18))","v":0},{"$f":"IF(OR(SUM($D$18:F18)=E17,E17=0),0,SUM($D$18:F18))","v":0},{"$f":"IF(OR(SUM($D$18:G18)=F17,F17=0),0,SUM($D$18:G18))","v":0},{"$f":"IF(OR(SUM($D$18:H18)=G17,G17=0),0,SUM($D$18:H18))","v":0},{"$f":"IF(OR(SUM($D$18:I18)=H17,H17=0),0,SUM($D$18:I18))","v":0},{"$f":"IF(OR(SUM($D$18:J18)=I17,I17=0),0,SUM($D$18:J18))","v":0},{"$f":"IF(OR(SUM($D$18:K18)=J17,J17=0),0,SUM($D$18:K18))","v":0},{"$f":"IF(OR(SUM($D$18:L18)=K17,K17=0),0,SUM($D$18:L18))","v":0},{"$f":"IF(OR(SUM($D$18:M18)=L17,L17=0),0,SUM($D$18:M18))","v":0},{"$f":"IF(OR(SUM($D$18:N18)=M17,M17=0),0,SUM($D$18:N18))","v":0},{"$f":"IF(OR(SUM($D$18:O18)=N17,N17=0),0,SUM($D$18:O18))","v":0},{"$f":"IF(OR(SUM($D$18:P18)=O17,O17=0),0,SUM($D$18:P18))","v":0},{"$f":"IF(OR(SUM($D$18:Q18)=P17,P17=0),0,SUM($D$18:Q18))","v":0},{"$f":"IF(OR(SUM($D$18:R18)=Q17,Q17=0),0,SUM($D$18:R18))","v":0},{"$f":"IF(OR(SUM($D$18:S18)=R17,R17=0),0,SUM($D$18:S18))","v":0},{"$f":"IF(OR(SUM($D$18:T18)=S17,S17=0),0,SUM($D$18:T18))","v":0},{"$f":"IF(OR(SUM($D$18:U18)=T17,T17=0),0,SUM($D$18:U18))","v":0},{"$f":"IF(OR(SUM($D$18:V18)=U17,U17=0),0,SUM($D$18:V18))","v":0},{"$f":"IF(OR(SUM($D$18:W18)=V17,V17=0),0,SUM($D$18:W18))","v":0},{"$f":"IF(OR(SUM($D$18:X18)=W17,W17=0),0,SUM($D$18:X18))","v":0},{"$f":"IF(OR(SUM($D$18:Y18)=X17,X17=0),0,SUM($D$18:Y18))","v":0},{"$f":"IF(OR(SUM($D$18:Z18)=Y17,Y17=0),0,SUM($D$18:Z18))","v":0},{"$f":"IF(OR(SUM($D$18:AA18)=Z17,Z17=0),0,SUM($D$18:AA18))","v":0},{"$f":"IF(OR(SUM($D$18:AB18)=AA17,AA17=0),0,SUM($D$18:AB18))","v":0},{"$f":"IF(OR(SUM($D$18:AC18)=AB17,AB17=0),0,SUM($D$18:AC18))","v":0},{"$f":"IF(OR(SUM($D$18:AD18)=AC17,AC17=0),0,SUM($D$18:AD18))","v":0},{"$f":"IF(OR(SUM($D$18:AE18)=AD17,AD17=0),0,SUM($D$18:AE18))","v":0},{"$f":"IF(OR(SUM($D$18:AF18)=AE17,AE17=0),0,SUM($D$18:AF18))","v":0},{"$f":"IF(OR(SUM($D$18:AG18)=AF17,AF17=0),0,SUM($D$18:AG18))","v":0},{"$f":"IF(OR(SUM($D$18:AH18)=AG17,AG17=0),0,SUM($D$18:AH18))","v":0},{"$f":"IF(OR(SUM($D$18:AI18)=AH17,AH17=0),0,SUM($D$18:AI18))","v":0},{"$f":"IF(OR(SUM($D$18:AJ18)=AI17,AI17=0),0,SUM($D$18:AJ18))","v":0},{"$f":"IF(OR(SUM($D$18:AK18)=AJ17,AJ17=0),0,SUM($D$18:AK18))","v":0},{"$f":"IF(OR(SUM($D$18:AL18)=AK17,AK17=0),0,SUM($D$18:AL18))","v":0},{"$f":"IF(OR(SUM($D$18:AM18)=AL17,AL17=0),0,SUM($D$18:AM18))","v":0},{"$f":"IF(OR(SUM($D$18:AN18)=AM17,AM17=0),0,SUM($D$18:AN18))","v":0},{"$f":"IF(OR(SUM($D$18:AO18)=AN17,AN17=0),0,SUM($D$18:AO18))","v":0},{"$f":"IF(OR(SUM($D$18:AP18)=AO17,AO17=0),0,SUM($D$18:AP18))","v":0},{"$f":"IF(OR(SUM($D$18:AQ18)=AP17,AP17=0),0,SUM($D$18:AQ18))","v":0},{"$f":"IF(OR(SUM($D$18:AR18)=AQ17,AQ17=0),0,SUM($D$18:AR18))","v":0},{"$f":"IF(OR(SUM($D$18:AS18)=AR17,AR17=0),0,SUM($D$18:AS18))","v":0},{"$f":"IF(OR(SUM($D$18:AT18)=AS17,AS17=0),0,SUM($D$18:AT18))","v":0},{"$f":"IF(OR(SUM($D$18:AU18)=AT17,AT17=0),0,SUM($D$18:AU18))","v":0},{"$f":"IF(OR(SUM($D$18:AV18)=AU17,AU17=0),0,SUM($D$18:AV18))","v":0},{"$f":"IF(OR(SUM($D$18:AW18)=AV17,AV17=0),0,SUM($D$18:AW18))","v":0},{"$f":"IF(OR(SUM($D$18:AX18)=AW17,AW17=0),0,SUM($D$18:AX18))","v":0},{"$f":"IF(OR(SUM($D$18:AY18)=AX17,AX17=0),0,SUM($D$18:AY18))","v":0},{"$f":"IF(OR(SUM($D$18:AZ18)=AY17,AY17=0),0,SUM($D$18:AZ18))","v":0},{"$f":"IF(OR(SUM($D$18:BA18)=AZ17,AZ17=0),0,SUM($D$18:BA18))","v":0}]
[null,null,"RELATIVE",{"$f":"D16/2","v":0},{"$f":"(D16/2)+(E16/2)","v":0},{"$f":"(E16/2)+(F16/2)","v":0},{"$f":"(F16/2)+(G16/2)","v":0},{"$f":"(G16/2)+(H16/2)","v":0},{"$f":"(H16/2)+(I16/2)","v":0},{"$f":"(I16/2)+(J16/2)","v":0},{"$f":"(J16/2)+(K16/2)","v":0},{"$f":"(K16/2)+(L16/2)","v":0},{"$f":"(L16/2)+(M16/2)","v":0},{"$f":"(M16/2)+(N16/2)","v":0},{"$f":"(N16/2)+(O16/2)","v":0},{"$f":"(O16/2)+(P16/2)","v":0},{"$f":"(P16/2)+(Q16/2)","v":0},{"$f":"(Q16/2)+(R16/2)","v":0},{"$f":"(R16/2)+(S16/2)","v":0},{"$f":"(S16/2)+(T16/2)","v":0},{"$f":"(T16/2)+(U16/2)","v":0},{"$f":"(U16/2)+(V16/2)","v":0},{"$f":"(V16/2)+(W16/2)","v":0},{"$f":"(W16/2)+(X16/2)","v":0},{"$f":"(X16/2)+(Y16/2)","v":0},{"$f":"(Y16/2)+(Z16/2)","v":0},{"$f":"(Z16/2)+(AA16/2)","v":0},{"$f":"(AA16/2)+(AB16/2)","v":0},{"$f":"(AB16/2)+(AC16/2)","v":0},{"$f":"(AC16/2)+(AD16/2)","v":0},{"$f":"(AD16/2)+(AE16/2)","v":0},{"$f":"(AE16/2)+(AF16/2)","v":0},{"$f":"(AF16/2)+(AG16/2)","v":0},{"$f":"(AG16/2)+(AH16/2)","v":0},{"$f":"(AH16/2)+(AI16/2)","v":0},{"$f":"(AI16/2)+(AJ16/2)","v":0},{"$f":"(AJ16/2)+(AK16/2)","v":0},{"$f":"(AK16/2)+(AL16/2)","v":0},{"$f":"(AL16/2)+(AM16/2)","v":0},{"$f":"(AM16/2)+(AN16/2)","v":0},{"$f":"(AN16/2)+(AO16/2)","v":0},{"$f":"(AO16/2)+(AP16/2)","v":0},{"$f":"(AP16/2)+(AQ16/2)","v":0},{"$f":"(AQ16/2)+(AR16/2)","v":0},{"$f":"(AR16/2)+(AS16/2)","v":0},{"$f":"(AS16/2)+(AT16/2)","v":0},{"$f":"(AT16/2)+(AU16/2)","v":0},{"$f":"(AU16/2)+(AV16/2)","v":0},{"$f":"(AV16/2)+(AW16/2)","v":0},{"$f":"(AW16/2)+(AX16/2)","v":0},{"$f":"(AX16/2)+(AY16/2)","v":0},{"$f":"(AY16/2)+(AZ16/2)","v":0},{"$f":"(AZ16/2)+(BA16/2)","v":0}]
[]
[{"$nulls":3},1,2,3,4,5,6,7,8,9,10,11,12,13,14,15,16,17,18,19,20,21,22,23,24,25,26,27,28,29,30,31,32,33,34,35,36,37,38,39,40,41,42,43,44,45,46,47,48,49,50]
[null,"LABEL 3","RELATIVE",{"$f":"'Horizontal Labels'!E$34","v":0},{"$f":"'Horizontal Labels'!F$34","v":0},{"$f":"'Horizontal Labels'!G$34","v":0},{"$f":"'Horizontal Labels'!H$34","v":0},{"$f":"'Horizontal Labels'!I$34","v":0},{"$f":"'Horizontal Labels'!J$34","v":0},{"$f":"'Horizontal Labels'!K$34","v":0},{"$f":"'Horizontal Labels'!L$34","v":0},{"$f":"'Horizontal Labels'!M$34","v":0},{"$f":"'Horizontal Labels'!N$34","v":0},{"$f":"'Horizontal Labels'!O$34","v":0},{"$f":"'Horizontal Labels'!P$34","v":0},{"$f":"'Horizontal Labels'!Q$34","v":0},{"$f":"'Horizontal Labels'!R$34","v":0},{"$f":"'Horizontal Labels'!S$34","v":0},{"$f":"'Horizontal Labels'!T$34","v":0},{"$f":"'Horizontal Labels'!U$34","v":0},{"$f":"'Horizontal Labels'!V$34","v":0},{"$f":"'Horizontal Labels'!W$34","v":0},{"$f":"'Horizontal Labels'!X$34","v":0},{"$f":"'Horizontal Labels'!Y$34","v":0},{"$f":"'Horizontal Labels'!Z$34","v":0},{"$f":"'Horizontal Labels'!AA$34","v":0},{"$f":"'Horizontal Labels'!AB$34","v":0},{"$f":"'Horizontal Labels'!AC$34","v":0},{"$f":"'Horizontal Labels'!AD$34","v":0},{"$f":"'Horizontal Labels'!AE$34","v":0},{"$f":"'Horizontal Labels'!AF$34","v":0},{"$f":"'Horizontal Labels'!AG$34","v":0},{"$f":"'Horizontal Labels'!AH$34","v":0},{"$f":"'Horizontal Labels'!AI$34","v":0},{"$f":"'Horizontal Labels'!AJ$34","v":0},{"$f":"'Horizontal Labels'!AK$34","v":0},{"$f":"'Horizontal Labels'!AL$34","v":0},{"$f":"'Horizontal Labels'!AM$34","v":0},{"$f":"'Horizontal Labels'!AN$34","v":0},{"$f":"'Horizontal Labels'!AO$34","v":0},{"$f":"'Horizontal Labels'!AP$34","v":0},{"$f":"'Horizontal Labels'!AQ$34","v":0},{"$f":"'Horizontal Labels'!AR$34","v":0},{"$f":"'Horizontal Labels'!AS$34","v":0},{"$f":"'Horizontal Labels'!AT$34","v":0},{"$f":"'Horizontal Labels'!AU$34","v":0},{"$f":"'Horizontal Labels'!AV$34","v":0},{"$f":"'Horizontal Labels'!AW$34","v":0},{"$f":"'Horizontal Labels'!AX$34","v":0},{"$f":"'Horizontal Labels'!AY$34","v":0},{"$f":"'Horizontal Labels'!AZ$34","v":0},{"$f":"'Horizontal Labels'!BA$34","v":0},{"$f":"'Horizontal Labels'!BB$34","v":0}]
[null,null,"FIXED",{"$f":"SUM($D$21:D21)","v":0},{"$f":"IF(OR(SUM($D$21:E21)=D22,D22=0),0,SUM($D$21:E21))","v":0},{"$f":"IF(OR(SUM($D$21:F21)=E22,E22=0),0,SUM($D$21:F21))","v":0},{"$f":"IF(OR(SUM($D$21:G21)=F22,F22=0),0,SUM($D$21:G21))","v":0},{"$f":"IF(OR(SUM($D$21:H21)=G22,G22=0),0,SUM($D$21:H21))","v":0},{"$f":"IF(OR(SUM($D$21:I21)=H22,H22=0),0,SUM($D$21:I21))","v":0},{"$f":"IF(OR(SUM($D$21:J21)=I22,I22=0),0,SUM($D$21:J21))","v":0},{"$f":"IF(OR(SUM($D$21:K21)=J22,J22=0),0,SUM($D$21:K21))","v":0},{"$f":"IF(OR(SUM($D$21:L21)=K22,K22=0),0,SUM($D$21:L21))","v":0},{"$f":"IF(OR(SUM($D$21:M21)=L22,L22=0),0,SUM($D$21:M21))","v":0},{"$f":"IF(OR(SUM($D$21:N21)=M22,M22=0),0,SUM($D$21:N21))","v":0},{"$f":"IF(OR(SUM($D$21:O21)=N22,N22=0),0,SUM($D$21:O21))","v":0},{"$f":"IF(OR(SUM($D$21:P21)=O22,O22=0),0,SUM($D$21:P21))","v":0},{"$f":"IF(OR(SUM($D$21:Q21)=P22,P22=0),0,SUM($D$21:Q21))","v":0},{"$f":"IF(OR(SUM($D$21:R21)=Q22,Q22=0),0,SUM($D$21:R21))","v":0},{"$f":"IF(OR(SUM($D$21:S21)=R22,R22=0),0,SUM($D$21:S21))","v":0},{"$f":"IF(OR(SUM($D$21:T21)=S22,S22=0),0,SUM($D$21:T21))","v":0},{"$f":"IF(OR(SUM($D$21:U21)=T22,T22=0),0,SUM($D$21:U21))","v":0},{"$f":"IF(OR(SUM($D$21:V21)=U22,U22=0),0,SUM($D$21:V21))","v":0},{"$f":"IF(OR(SUM($D$21:W21)=V22,V22=0),0,SUM($D$21:W21))","v":0},{"$f":"IF(OR(SUM($D$21:X21)=W22,W22=0),0,SUM($D$21:X21))","v":0},{"$f":"IF(OR(SUM($D$21:Y21)=X22,X22=0),0,SUM($D$21:Y21))","v":0},{"$f":"IF(OR(SUM($D$21:Z21)=Y22,Y22=0),0,SUM($D$21:Z21))","v":0},{"$f":"IF(OR(SUM($D$21:AA21)=Z22,Z22=0),0,SUM($D$21:AA21))","v":0},{"$f":"IF(OR(SUM($D$21:AB21)=AA22,AA22=0),0,SUM($D$21:AB21))","v":0},{"$f":"IF(OR(SUM($D$21:AC21)=AB22,AB22=0),0,SUM($D$21:AC21))","v":0},{"$f":"IF(OR(SUM($D$21:AD21)=AC22,AC22=0),0,SUM($D$21:AD21))","v":0},{"$f":"IF(OR(SUM($D$21:AE21)=AD22,AD22=0),0,SUM($D$21:AE21))","v":0},{"$f":"IF(OR(SUM($D$21:AF21)=AE22,AE22=0),0,SUM($D$21:AF21))","v":0},{"$f":"IF(OR(SUM($D$21:AG21)=AF22,AF22=0),0,SUM($D$21:AG21))","v":0},{"$f":"IF(OR(SUM($D$21:AH21)=AG22,AG22=0),0,SUM($D$21:AH21))","v":0},{"$f":"IF(OR(SUM($D$21:AI21)=AH22,AH22=0),0,SUM($D$21:AI21))","v":0},{"$f":"IF(OR(SUM($D$21:AJ21)=AI22,AI22=0),0,SUM($D$21:AJ21))","v":0},{"$f":"IF(OR(SUM($D$21:AK21)=AJ22,AJ22=0),0,SUM($D$21:AK21))","v":0},{"$f":"IF(OR(SUM($D$21:AL21)=AK22,AK22=0),0,SUM($D$21:AL21))","v":0},{"$f":"IF(OR(SUM($D$21:AM21)=AL22,AL22=0),0,SUM($D$21:AM21))","v":0},{"$f":"IF(OR(SUM($D$21:AN21)=AM22,AM22=0),0,SUM($D$21:AN21))","v":0},{"$f":"IF(OR(SUM($D$21:AO21)=AN22,AN22=0),0,SUM($D$21:AO21))","v":0},{"$f":"IF(OR(SUM($D$21:AP21)=AO22,AO22=0),0,SUM($D$21:AP21))","v":0},{"$f":"IF(OR(SUM($D$21:AQ21)=AP22,AP22=0),0,SUM($D$21:AQ21))","v":0},{"$f":"IF(OR(SUM($D$21:AR21)=AQ22,AQ22=0),0,SUM($D$21:AR21))","v":0},{"$f":"IF(OR(SUM($D$21:AS21)=AR22,AR22=0),0,SUM($D$21:AS21))","v":0},{"$f":"IF(OR(SUM($D$21:AT21)=AS22,AS22=0),0,SUM($D$21:AT21))","v":0},{"$f":"IF(OR(SUM($D$21:AU21)=AT22,AT22=0),0,SUM($D$21:AU21))","v":0},{"$f":"IF(OR(SUM($D$21:AV21)=AU22,AU22=0),0,SUM($D$21:AV21))","v":0},{"$f":"IF(OR(SUM($D$21:AW21)=AV22,AV22=0),0,SUM($D$21:AW21))","v":0},{"$f":"IF(OR(SUM($D$21:AX21)=AW22,AW22=0),0,SUM($D$21:AX21))","v":0},{"$f":"IF(OR(SUM($D$21:AY21)=AX22,AX22=0),0,SUM($D$21:AY21))","v":0},{"$f":"IF(OR(SUM($D$21:AZ21)=AY22,AY22=0),0,SUM($D$21:AZ21))","v":0},{"$f":"IF(OR(SUM($D$21:BA21)=AZ22,AZ22=0),0,SUM($D$21:BA21))","v":0}]
[null,null,"FIXED",{"$f":"'Horizontal Labels'!E$34","v":0},{"$f":"'Horizontal Labels'!F$34","v":0},{"$f":"'Horizontal Labels'!G$34","v":0},{"$f":"'Horizontal Labels'!H$34","v":0},{"$f":"'Horizontal Labels'!I$34","v":0},{"$f":"'Horizontal Labels'!J$34","v":0},{"$f":"'Horizontal Labels'!K$34","v":0},{"$f":"'Horizontal Labels'!L$34","v":0},{"$f":"'Horizontal Labels'!M$34","v":0},{"$f":"'Horizontal Labels'!N$34","v":0},{"$f":"'Horizontal Labels'!O$34","v":0},{"$f":"'Horizontal Labels'!P$34","v":0},{"$f":"'Horizontal Labels'!Q$34","v":0},{"$f":"'Horizontal Labels'!R$34","v":0},{"$f":"'Horizontal Labels'!S$34","v":0},{"$f":"'Horizontal Labels'!T$34","v":0},{"$f":"'Horizontal Labels'!U$34","v":0},{"$f":"'Horizontal Labels'!V$34","v":0},{"$f":"'Horizontal Labels'!W$34","v":0},{"$f":"'Horizontal Labels'!X$34","v":0},{"$f":"'Horizontal Labels'!Y$34","v":0},{"$f":"'Horizontal Labels'!Z$34","v":0},{"$f":"'Horizontal Labels'!AA$34","v":0},{"$f":"'Horizontal Labels'!AB$34","v":0},{"$f":"'Horizontal Labels'!AC$34","v":0},{"$f":"'Horizontal Labels'!AD$34","v":0},{"$f":"'Horizontal Labels'!AE$34","v":0},{"$f":"'Horizontal Labels'!AF$34","v":0},{"$f":"'Horizontal Labels'!AG$34","v":0},{"$f":"'Horizontal Labels'!AH$34","v":0},{"$f":"'Horizontal Labels'!AI$34","v":0},{"$f":"'Horizontal Labels'!AJ$34","v":0},{"$f":"'Horizontal Labels'!AK$34","v":0},{"$f":"'Horizontal Labels'!AL$34","v":0},{"$f":"'Horizontal Labels'!AM$34","v":0},{"$f":"'Horizontal Labels'!AN$34","v":0},{"$f":"'Horizontal Labels'!AO$34","v":0},{"$f":"'Horizontal Labels'!AP$34","v":0},{"$f":"'Horizontal Labels'!AQ$34","v":0},{"$f":"'Horizontal Labels'!AR$34","v":0},{"$f":"'Horizontal Labels'!AS$34","v":0},{"$f":"'Horizontal Labels'!AT$34","v":0},{"$f":"'Horizontal Labels'!AU$34","v":0},{"$f":"'Horizontal Labels'!AV$34","v":0},{"$f":"'Horizontal Labels'!AW$34","v":0},{"$f":"'Horizontal Labels'!AX$34","v":0},{"$f":"'Horizontal Labels'!AY$34","v":0},{"$f":"'Horizontal Labels'!AZ$34","v":0},{"$f":"'Horizontal Labels'!BA$34","v":0},{"$f":"'Horizontal Labels'!BB$34","v":0}]
[null,null,"RELATIVE",{"$f":"D23","v":0},{"$f":"IF(E23-D23<1,0,E23-D23)","v":0},{"$f":"IF(F23-E23<1,0,F23-E23)","v":0},0,0,{"$f":"IF(I23-H23<1,0,I23-H23)","v":0},{"$f":"IF(J23-I23<1,0,J23-I23)","v":0},0,{"$f":"IF(L23-K23<1,0,L23-K23)","v":0},{"$f":"IF(M23-L23<1,0,M23-L23)","v":0},0,{"$f":"IF(O23-N23<1,0,O23-N23)","v":0},{"$f":"IF(P23-O23<1,0,P23-O23)","v":0},0,{"$f":"IF(R23-Q23<1,0,R23-Q23)","v":0},{"$f":"IF(S23-R23<1,0,S23-R23)","v":0},0,{"$f":"IF(U23-T23<1,0,U23-T23)","v":0},{"$f":"IF(V23-U23<1,0,V23-U23)","v":0},0,{"$f":"IF(X23-W23<1,0,X23-W23)","v":0},{"$f":"IF(Y23-X23<1,0,Y23-X23)","v":0},0,{"$f":"IF(AA23-Z23<1,0,AA23-Z23)","v":0},{"$f":"IF(AB23-AA23<1,0,AB23-AA23)","v":0},0,{"$f":"IF(AD23-AC23<1,0,AD23-AC23)","v":0},{"$f":"IF(AE23-AD23<1,0,AE23-AD23)","v":0},0,{"$f":"IF(AG23-AF23<1,0,AG23-AF23)","v":0},{"$f":"IF(AH23-AG23<1,0,AH23-AG23)","v":0},0,{"$f":"IF(AJ23-AI23<1,0,AJ23-AI23)","v":0},{"$f":"IF(AK23-AJ23<1,0,AK23-AJ23)","v":0},0,{"$f":"IF(AM23-AL23<1,0,AM23-AL23)","v":0},{"$f":"IF(AN23-AM23<1,0,AN23-AM23)","v":0},0,{"$f":"IF(AP23-AO23<1,0,AP23-AO23)","v":0},{"$f":"IF(AQ23-AP23<1,0,AQ23-AP23)","v":0},0,{"$f":"IF(AS23-AR23<1,0,AS23-AR23)","v":0},{"$f":"IF(AT23-AS23<1,0,AT23-AS23)","v":0},0,{"$f":"IF(AV23-AU23<1,0,AV23-AU23)","v":0},{"$f":"IF(AW23-AV23<1,0,AW23-AV23)","v":0},0,{"$f":"IF(AY23-AX23<1,0,AY23-AX23)","v":0},{"$f":"IF(AZ23-AY23<1,0,AZ23-AY23)","v":0},0]
[null,null,"BLOCKS",{"$f":"'Horizontal Labels'!E$34","v":0},{"$f":"'Horizontal Labels'!F$34","v":0},{"$f":"'Horizontal Labels'!G$34","v":0},{"$f":"'Horizontal Labels'!H$34","v":0},{"$f":"'Horizontal Labels'!I$34","v":0},{"$f":"'Horizontal Labels'!J$34","v":0},{"$f":"'Horizontal Labels'!K$34","v":0},{"$f":"'Horizontal Labels'!L$34","v":0},{"$f":"'Horizontal Labels'!M$34","v":0},{"$f":"'Horizontal Labels'!N$34","v":0},{"$f":"'Horizontal Labels'!O$34","v":0},{"$f":"'Horizontal Labels'!P$34","v":0},{"$f":"'Horizontal Labels'!Q$34","v":0},{"$f":"'Horizontal Labels'!R$34","v":0},{"$f":"'Horizontal Labels'!S$34","v":0},{"$f":"'Horizontal Labels'!T$34","v":0},{"$f":"'Horizontal Labels'!U$34","v":0},{"$f":"'Horizontal Labels'!V$34","v":0},{"$f":"'Horizontal Labels'!W$34","v":0},{"$f":"'Horizontal Labels'!X$34","v":0},{"$f":"'Horizontal Labels'!Y$34","v":0},{"$f":"'Horizontal Labels'!Z$34","v":0},{"$f":"'Horizontal Labels'!AA$34","v":0},{"$f":"'Horizontal Labels'!AB$34","v":0},{"$f":"'Horizontal Labels'!AC$34","v":0},{"$f":"'Horizontal Labels'!AD$34","v":0},{"$f":"'Horizontal Labels'!AE$34","v":0},{"$f":"'Horizontal Labels'!AF$34","v":0},{"$f":"'Horizontal Labels'!AG$34","v":0},{"$f":"'Horizontal Labels'!AH$34","v":0},{"$f":"'Horizontal Labels'!AI$34","v":0},{"$f":"'Horizontal Labels'!AJ$34","v":0},{"$f":"'Horizontal Labels'!AK$34","v":0},{"$f":"'Horizontal Labels'!AL$34","v":0},{"$f":"'Horizontal Labels'!AM$34","v":0},{"$f":"'Horizontal Labels'!AN$34","v":0},{"$f":"'Horizontal Labels'!AO$34","v":0},{"$f":"'Horizontal Labels'!AP$34","v":0},{"$f":"'Horizontal Labels'!AQ$34","v":0},{"$f":"'Horizontal Labels'!AR$34","v":0},{"$f":"'Horizontal Labels'!AS$34","v":0},{"$f":"'Horizontal Labels'!AT$34","v":0},{"$f":"'Horizontal Labels'!AU$34","v":0},{"$f":"'Horizontal Labels'!AV$34","v":0},{"$f":"'Horizontal Labels'!AW$34","v":0},{"$f":"'Horizontal Labels'!AX$34","v":0},{"$f":"'Horizontal Labels'!AY$34","v":0},{"$f":"'Horizontal Labels'!AZ$34","v":0},{"$f":"'Horizontal Labels'!BA$34","v":0},{"$f":"'Horizontal Labels'!BB$34","v":0}]
[null,null,"FIXED",{"$f":"D27","v":0},{"$f":"IF(OR(SUM($D$27:E27)=D26,D26=0),0,SUM($D$27:E27))","v":0},{"$f":"IF(OR(SUM($D$27:F27)=E26,E26=0),0,SUM($D$27:F27))","v":0},{"$f":"IF(OR(SUM($D$27:G27)=F26,F26=0),0,SUM($D$27:G27))","v":0},{"$f":"IF(OR(SUM($D$27:H27)=G26,G26=0),0,SUM($D$27:H27))","v":0},{"$f":"IF(OR(SUM($D$27:I27)=H26,H26=0),0,SUM($D$27:I27))","v":0},{"$f":"IF(OR(SUM($D$27:J27)=I26,I26=0),0,SUM($D$27:J27))","v":0},{"$f":"IF(OR(SUM($D$27:K27)=J26,J26=0),0,SUM($D$27:K27))","v":0},{"$f":"IF(OR(SUM($D$27:L27)=K26,K26=0),0,SUM($D$27:L27))","v":0},{"$f":"IF(OR(SUM($D$27:M27)=L26,L26=0),0,SUM($D$27:M27))","v":0},{"$f":"IF(OR(SUM($D$27:N27)=M26,M26=0),0,SUM($D$27:N27))","v":0},{"$f":"IF(OR(SUM($D$27:O27)=N26,N26=0),0,SUM($D$27:O27))","v":0},{"$f":"IF(OR(SUM($D$27:P27)=O26,O26=0),0,SUM($D$27:P27))","v":0},{"$f":"IF(OR(SUM($D$27:Q27)=P26,P26=0),0,SUM($D$27:Q27))","v":0},{"$f":"IF(OR(SUM($D$27:R27)=Q26,Q26=0),0,SUM($D$27:R27))","v":0},{"$f":"IF(OR(SUM($D$27:S27)=R26,R26=0),0,SUM($D$27:S27))","v":0},{"$f":"IF(OR(SUM($D$27:T27)=S26,S26=0),0,SUM($D$27:T27))","v":0},{"$f":"IF(OR(SUM($D$27:U27)=T26,T26=0),0,SUM($D$27:U27))","v":0},{"$f":"IF(OR(SUM($D$27:V27)=U26,U26=0),0,SUM($D$27:V27))","v":0},{"$f":"IF(OR(SUM($D$27:W27)=V26,V26=0),0,SUM($D$27:W27))","v":0},{"$f":"IF(OR(SUM($D$27:X27)=W26,W26=0),0,SUM($D$27:X27))","v":0},{"$f":"IF(OR(SUM($D$27:Y27)=X26,X26=0),0,SUM($D$27:Y27))","v":0},{"$f":"IF(OR(SUM($D$27:Z27)=Y26,Y26=0),0,SUM($D$27:Z27))","v":0},{"$f":"IF(OR(SUM($D$27:AA27)=Z26,Z26=0),0,SUM($D$27:AA27))","v":0},{"$f":"IF(OR(SUM($D$27:AB27)=AA26,AA26=0),0,SUM($D$27:AB27))","v":0},{"$f":"IF(OR(SUM($D$27:AC27)=AB26,AB26=0),0,SUM($D$27:AC27))","v":0},{"$f":"IF(OR(SUM($D$27:AD27)=AC26,AC26=0),0,SUM($D$27:AD27))","v":0},{"$f":"IF(OR(SUM($D$27:AE27)=AD26,AD26=0),0,SUM($D$27:AE27))","v":0},{"$f":"IF(OR(SUM($D$27:AF27)=AE26,AE26=0),0,SUM($D$27:AF27))","v":0},{"$f":"IF(OR(SUM($D$27:AG27)=AF26,AF26=0),0,SUM($D$27:AG27))","v":0},{"$f":"IF(OR(SUM($D$27:AH27)=AG26,AG26=0),0,SUM($D$27:AH27))","v":0},{"$f":"IF(OR(SUM($D$27:AI27)=AH26,AH26=0),0,SUM($D$27:AI27))","v":0},{"$f":"IF(OR(SUM($D$27:AJ27)=AI26,AI26=0),0,SUM($D$27:AJ27))","v":0},{"$f":"IF(OR(SUM($D$27:AK27)=AJ26,AJ26=0),0,SUM($D$27:AK27))","v":0},{"$f":"IF(OR(SUM($D$27:AL27)=AK26,AK26=0),0,SUM($D$27:AL27))","v":0},{"$f":"IF(OR(SUM($D$27:AM27)=AL26,AL26=0),0,SUM($D$27:AM27))","v":0},{"$f":"IF(OR(SUM($D$27:AN27)=AM26,AM26=0),0,SUM($D$27:AN27))","v":0},{"$f":"IF(OR(SUM($D$27:AO27)=AN26,AN26=0),0,SUM($D$27:AO27))","v":0},{"$f":"IF(OR(SUM($D$27:AP27)=AO26,AO26=0),0,SUM($D$27:AP27))","v":0},{"$f":"IF(OR(SUM($D$27:AQ27)=AP26,AP26=0),0,SUM($D$27:AQ27))","v":0},{"$f":"IF(OR(SUM($D$27:AR27)=AQ26,AQ26=0),0,SUM($D$27:AR27))","v":0},{"$f":"IF(OR(SUM($D$27:AS27)=AR26,AR26=0),0,SUM($D$27:AS27))","v":0},{"$f":"IF(OR(SUM($D$27:AT27)=AS26,AS26=0),0,SUM($D$27:AT27))","v":0},{"$f":"IF(OR(SUM($D$27:AU27)=AT26,AT26=0),0,SUM($D$27:AU27))","v":0},{"$f":"IF(OR(SUM($D$27:AV27)=AU26,AU26=0),0,SUM($D$27:AV27))","v":0},{"$f":"IF(OR(SUM($D$27:AW27)=AV26,AV26=0),0,SUM($D$27:AW27))","v":0},{"$f":"IF(OR(SUM($D$27:AX27)=AW26,AW26=0),0,SUM($D$27:AX27))","v":0},{"$f":"IF(OR(SUM($D$27:AY27)=AX26,AX26=0),0,SUM($D$27:AY27))","v":0},{"$f":"IF(OR(SUM($D$27:AZ27)=AY26,AY26=0),0,SUM($D$27:AZ27))","v":0},{"$f":"IF(OR(SUM($D$27:BA27)=AZ26,AZ26=0),0,SUM($D$27:BA27))","v":0}]
[null,null,"RELATIVE",{"$f":"D25/2","v":0},{"$f":"(D25/2)+(E25/2)","v":0},{"$f":"(E25/2)+(F25/2)","v":0},{"$f":"(F25/2)+(G25/2)","v":0},0,0,0,0,0,0,0,0,0,0,0,0,0,0,0,0,0,0,0,0,0,0,0,0,0,0,0,0,0,0,0,0,0,0,0,0,0,0,0,0,0,0,0,0,0,0]
[]
[{"$nulls":3},1,2,3,4,5,6,7,8,9,10,11,12,13,14,15,16,17,18,19,20,21,22,23,24,25,26,27,28,29,30,31,32,33,34,35,36,37,38,39,40,41,42,43,44,45,46,47,48,49,50]
[null,"LABEL 4","RELATIVE",{"$f":"'Horizontal Labels'!E$45","v":0},{"$f":"'Horizontal Labels'!F$45","v":0},{"$f":"'Horizontal Labels'!G$45","v":0},{"$f":"'Horizontal Labels'!H$45","v":0},{"$f":"'Horizontal Labels'!I$45","v":0},{"$f":"'Horizontal Labels'!J$45","v":0},{"$f":"'Horizontal Labels'!K$45","v":0},{"$f":"'Horizontal Labels'!L$45","v":0},{"$f":"'Horizontal Labels'!M$45","v":0},{"$f":"'Horizontal Labels'!N$45","v":0},{"$f":"'Horizontal Labels'!O$45","v":0},{"$f":"'Horizontal Labels'!P$45","v":0},{"$f":"'Horizontal Labels'!Q$45","v":0},{"$f":"'Horizontal Labels'!R$45","v":0},{"$f":"'Horizontal Labels'!S$45","v":0},{"$f":"'Horizontal Labels'!T$45","v":0},{"$f":"'Horizontal Labels'!U$45","v":0},{"$f":"'Horizontal Labels'!V$45","v":0},{"$f":"'Horizontal Labels'!W$45","v":0},{"$f":"'Horizontal Labels'!X$45","v":0},{"$f":"'Horizontal Labels'!Y$45","v":0},{"$f":"'Horizontal Labels'!Z$45","v":0},{"$f":"'Horizontal Labels'!AA$45","v":0},{"$f":"'Horizontal Labels'!AB$45","v":0},{"$f":"'Horizontal Labels'!AC$45","v":0},{"$f":"'Horizontal Labels'!AD$45","v":0},{"$f":"'Horizontal Labels'!AE$45","v":0},{"$f":"'Horizontal Labels'!AF$45","v":0},{"$f":"'Horizontal Labels'!AG$45","v":0},{"$f":"'Horizontal Labels'!AH$45","v":0},{"$f":"'Horizontal Labels'!AI$45","v":0},{"$f":"'Horizontal Labels'!AJ$45","v":0},{"$f":"'Horizontal Labels'!AK$45","v":0},{"$f":"'Horizontal Labels'!AL$45","v":0},{"$f":"'Horizontal Labels'!AM$45","v":0},{"$f":"'Horizontal Labels'!AN$45","v":0},{"$f":"'Horizontal Labels'!AO$45","v":0},{"$f":"'Horizontal Labels'!AP$45","v":0},{"$f":"'Horizontal Labels'!AQ$45","v":0},{"$f":"'Horizontal Labels'!AR$45","v":0},{"$f":"'Horizontal Labels'!AS$45","v":0},{"$f":"'Horizontal Labels'!AT$45","v":0},{"$f":"'Horizontal Labels'!AU$45","v":0},{"$f":"'Horizontal Labels'!AV$45","v":0},{"$f":"'Horizontal Labels'!AW$45","v":0},{"$f":"'Horizontal Labels'!AX$45","v":0},{"$f":"'Horizontal Labels'!AY$45","v":0},{"$f":"'Horizontal Labels'!AZ$45","v":0},{"$f":"'Horizontal Labels'!BA$45","v":0},{"$f":"'Horizontal Labels'!BB$45","v":0}]
[null,null,"FIXED",{"$f":"SUM($D$30:D30)","v":0},{"$f":"IF(OR(SUM($D$30:E30)=D31,D31=0),0,SUM($D$30:E30))","v":0},{"$f":"IF(OR(SUM($D$30:F30)=E31,E31=0),0,SUM($D$30:F30))","v":0},{"$f":"IF(OR(SUM($D$30:G30)=F31,F31=0),0,SUM($D$30:G30))","v":0},{"$f":"IF(OR(SUM($D$30:H30)=G31,G31=0),0,SUM($D$30:H30))","v":0},{"$f":"IF(OR(SUM($D$30:I30)=H31,H31=0),0,SUM($D$30:I30))","v":0},{"$f":"IF(OR(SUM($D$30:J30)=I31,I31=0),0,SUM($D$30:J30))","v":0},{"$f":"IF(OR(SUM($D$30:K30)=J31,J31=0),0,SUM($D$30:K30))","v":0},{"$f":"IF(OR(SUM($D$30:L30)=K31,K31=0),0,SUM($D$30:L30))","v":0},{"$f":"IF(OR(SUM($D$30:M30)=L31,L31=0),0,SUM($D$30:M30))","v":0},{"$f":"IF(OR(SUM($D$30:N30)=M31,M31=0),0,SUM($D$30:N30))","v":0},{"$f":"IF(OR(SUM($D$30:O30)=N31,N31=0),0,SUM($D$30:O30))","v":0},{"$f":"IF(OR(SUM($D$30:P30)=O31,O31=0),0,SUM($D$30:P30))","v":0},{"$f":"IF(OR(SUM($D$30:Q30)=P31,P31=0),0,SUM($D$30:Q30))","v":0},{"$f":"IF(OR(SUM($D$30:R30)=Q31,Q31=0),0,SUM($D$30:R30))","v":0},{"$f":"IF(OR(SUM($D$30:S30)=R31,R31=0),0,SUM($D$30:S30))","v":0},{"$f":"IF(OR(SUM($D$30:T30)=S31,S31=0),0,SUM($D$30:T30))","v":0},{"$f":"IF(OR(SUM($D$30:U30)=T31,T31=0),0,SUM($D$30:U30))","v":0},{"$f":"IF(OR(SUM($D$30:V30)=U31,U31=0),0,SUM($D$30:V30))","v":0},{"$f":"IF(OR(SUM($D$30:W30)=V31,V31=0),0,SUM($D$30:W30))","v":0},{"$f":"IF(OR(SUM($D$30:X30)=W31,W31=0),0,SUM($D$30:X30))","v":0},{"$f":"IF(OR(SUM($D$30:Y30)=X31,X31=0),0,SUM($D$30:Y30))","v":0},{"$f":"IF(OR(SUM($D$30:Z30)=Y31,Y31=0),0,SUM($D$30:Z30))","v":0},{"$f":"IF(OR(SUM($D$30:AA30)=Z31,Z31=0),0,SUM($D$30:AA30))","v":0},{"$f":"IF(OR(SUM($D$30:AB30)=AA31,AA31=0),0,SUM($D$30:AB30))","v":0},{"$f":"IF(OR(SUM($D$30:AC30)=AB31,AB31=0),0,SUM($D$30:AC30))","v":0},{"$f":"IF(OR(SUM($D$30:AD30)=AC31,AC31=0),0,SUM($D$30:AD30))","v":0},{"$f":"IF(OR(SUM($D$30:AE30)=AD31,AD31=0),0,SUM($D$30:AE30))","v":0},{"$f":"IF(OR(SUM($D$30:AF30)=AE31,AE31=0),0,SUM($D$30:AF30))","v":0},{"$f":"IF(OR(SUM($D$30:AG30)=AF31,AF31=0),0,SUM($D$30:AG30))","v":0},{"$f":"IF(OR(SUM($D$30:AH30)=AG31,AG31=0),0,SUM($D$30:AH30))","v":0},{"$f":"IF(OR(SUM($D$30:AI30)=AH31,AH31=0),0,SUM($D$30:AI30))","v":0},{"$f":"IF(OR(SUM($D$30:AJ30)=AI31,AI31=0),0,SUM($D$30:AJ30))","v":0},{"$f":"IF(OR(SUM($D$30:AK30)=AJ31,AJ31=0),0,SUM($D$30:AK30))","v":0},{"$f":"IF(OR(SUM($D$30:AL30)=AK31,AK31=0),0,SUM($D$30:AL30))","v":0},{"$f":"IF(OR(SUM($D$30:AM30)=AL31,AL31=0),0,SUM($D$30:AM30))","v":0},{"$f":"IF(OR(SUM($D$30:AN30)=AM31,AM31=0),0,SUM($D$30:AN30))","v":0},{"$f":"IF(OR(SUM($D$30:AO30)=AN31,AN31=0),0,SUM($D$30:AO30))","v":0},{"$f":"IF(OR(SUM($D$30:AP30)=AO31,AO31=0),0,SUM($D$30:AP30))","v":0},{"$f":"IF(OR(SUM($D$30:AQ30)=AP31,AP31=0),0,SUM($D$30:AQ30))","v":0},{"$f":"IF(OR(SUM($D$30:AR30)=AQ31,AQ31=0),0,SUM($D$30:AR30))","v":0},{"$f":"IF(OR(SUM($D$30:AS30)=AR31,AR31=0),0,SUM($D$30:AS30))","v":0},{"$f":"IF(OR(SUM($D$30:AT30)=AS31,AS31=0),0,SUM($D$30:AT30))","v":0},{"$f":"IF(OR(SUM($D$30:AU30)=AT31,AT31=0),0,SUM($D$30:AU30))","v":0},{"$f":"IF(OR(SUM($D$30:AV30)=AU31,AU31=0),0,SUM($D$30:AV30))","v":0},{"$f":"IF(OR(SUM($D$30:AW30)=AV31,AV31=0),0,SUM($D$30:AW30))","v":0},{"$f":"IF(OR(SUM($D$30:AX30)=AW31,AW31=0),0,SUM($D$30:AX30))","v":0},{"$f":"IF(OR(SUM($D$30:AY30)=AX31,AX31=0),0,SUM($D$30:AY30))","v":0},{"$f":"IF(OR(SUM($D$30:AZ30)=AY31,AY31=0),0,SUM($D$30:AZ30))","v":0},{"$f":"IF(OR(SUM($D$30:BA30)=AZ31,AZ31=0),0,SUM($D$30:BA30))","v":0}]
[null,null,"FIXED",{"$f":"'Horizontal Labels'!E$45","v":0},{"$f":"'Horizontal Labels'!F$45","v":0},{"$f":"'Horizontal Labels'!G$45","v":0},{"$f":"'Horizontal Labels'!H$45","v":0},{"$f":"'Horizontal Labels'!I$45","v":0},{"$f":"'Horizontal Labels'!J$45","v":0},{"$f":"'Horizontal Labels'!K$45","v":0},{"$f":"'Horizontal Labels'!L$45","v":0},{"$f":"'Horizontal Labels'!M$45","v":0},{"$f":"'Horizontal Labels'!N$45","v":0},{"$f":"'Horizontal Labels'!O$45","v":0},{"$f":"'Horizontal Labels'!P$45","v":0},{"$f":"'Horizontal Labels'!Q$45","v":0},{"$f":"'Horizontal Labels'!R$45","v":0},{"$f":"'Horizontal Labels'!S$45","v":0},{"$f":"'Horizontal Labels'!T$45","v":0},{"$f":"'Horizontal Labels'!U$45","v":0},{"$f":"'Horizontal Labels'!V$45","v":0},{"$f":"'Horizontal Labels'!W$45","v":0},{"$f":"'Horizontal Labels'!X$45","v":0},{"$f":"'Horizontal Labels'!Y$45","v":0},{"$f":"'Horizontal Labels'!Z$45","v":0},{"$f":"'Horizontal Labels'!AA$45","v":0},{"$f":"'Horizontal Labels'!AB$45","v":0},{"$f":"'Horizontal Labels'!AC$45","v":0},{"$f":"'Horizontal Labels'!AD$45","v":0},{"$f":"'Horizontal Labels'!AE$45","v":0},{"$f":"'Horizontal Labels'!AF$45","v":0},{"$f":"'Horizontal Labels'!AG$45","v":0},{"$f":"'Horizontal Labels'!AH$45","v":0},{"$f":"'Horizontal Labels'!AI$45","v":0},{"$f":"'Horizontal Labels'!AJ$45","v":0},{"$f":"'Horizontal Labels'!AK$45","v":0},{"$f":"'Horizontal Labels'!AL$45","v":0},{"$f":"'Horizontal Labels'!AM$45","v":0},{"$f":"'Horizontal Labels'!AN$45","v":0},{"$f":"'Horizontal Labels'!AO$45","v":0},{"$f":"'Horizontal Labels'!AP$45","v":0},{"$f":"'Horizontal Labels'!AQ$45","v":0},{"$f":"'Horizontal Labels'!AR$45","v":0},{"$f":"'Horizontal Labels'!AS$45","v":0},{"$f":"'Horizontal Labels'!AT$45","v":0},{"$f":"'Horizontal Labels'!AU$45","v":0},{"$f":"'Horizontal Labels'!AV$45","v":0},{"$f":"'Horizontal Labels'!AW$45","v":0},{"$f":"'Horizontal Labels'!AX$45","v":0},{"$f":"'Horizontal Labels'!AY$45","v":0},{"$f":"'Horizontal Labels'!AZ$45","v":0},{"$f":"'Horizontal Labels'!BA$45","v":0},{"$f":"'Horizontal Labels'!BB$45","v":0}]
[null,null,"RELATIVE",{"$f":"D32","v":0},{"$f":"IF(E32-D32<1,0,E32-D32)","v":0},{"$f":"IF(F32-E32<1,0,F32-E32)","v":0},0,0,0,0,0,0,0,0,0,0,0,0,0,0,0,0,0,0,0,0,0,0,0,0,0,0,0,0,0,0,0,0,0,0,0,0,0,0,0,0,0,0,0,0,0,0,0]
[null,null,"BLOCKS",{"$f":"'Horizontal Labels'!E$45","v":0},{"$f":"'Horizontal Labels'!F$45","v":0},{"$f":"'Horizontal Labels'!G$45","v":0},{"$f":"'Horizontal Labels'!H$45","v":0},{"$f":"'Horizontal Labels'!I$45","v":0},{"$f":"'Horizontal Labels'!J$45","v":0},{"$f":"'Horizontal Labels'!K$45","v":0},{"$f":"'Horizontal Labels'!L$45","v":0},{"$f":"'Horizontal Labels'!M$45","v":0},{"$f":"'Horizontal Labels'!N$45","v":0},{"$f":"'Horizontal Labels'!O$45","v":0},{"$f":"'Horizontal Labels'!P$45","v":0},{"$f":"'Horizontal Labels'!Q$45","v":0},{"$f":"'Horizontal Labels'!R$45","v":0},{"$f":"'Horizontal Labels'!S$45","v":0},{"$f":"'Horizontal Labels'!T$45","v":0},{"$f":"'Horizontal Labels'!U$45","v":0},{"$f":"'Horizontal Labels'!V$45","v":0},{"$f":"'Horizontal Labels'!W$45","v":0},{"$f":"'Horizontal Labels'!X$45","v":0},{"$f":"'Horizontal Labels'!Y$45","v":0},{"$f":"'Horizontal Labels'!Z$45","v":0},{"$f":"'Horizontal Labels'!AA$45","v":0},{"$f":"'Horizontal Labels'!AB$45","v":0},{"$f":"'Horizontal Labels'!AC$45","v":0},{"$f":"'Horizontal Labels'!AD$45","v":0},{"$f":"'Horizontal Labels'!AE$45","v":0},{"$f":"'Horizontal Labels'!AF$45","v":0},{"$f":"'Horizontal Labels'!AG$45","v":0},{"$f":"'Horizontal Labels'!AH$45","v":0},{"$f":"'Horizontal Labels'!AI$45","v":0},{"$f":"'Horizontal Labels'!AJ$45","v":0},{"$f":"'Horizontal Labels'!AK$45","v":0},{"$f":"'Horizontal Labels'!AL$45","v":0},{"$f":"'Horizontal Labels'!AM$45","v":0},{"$f":"'Horizontal Labels'!AN$45","v":0},{"$f":"'Horizontal Labels'!AO$45","v":0},{"$f":"'Horizontal Labels'!AP$45","v":0},{"$f":"'Horizontal Labels'!AQ$45","v":0},{"$f":"'Horizontal Labels'!AR$45","v":0},{"$f":"'Horizontal Labels'!AS$45","v":0},{"$f":"'Horizontal Labels'!AT$45","v":0},{"$f":"'Horizontal Labels'!AU$45","v":0},{"$f":"'Horizontal Labels'!AV$45","v":0},{"$f":"'Horizontal Labels'!AW$45","v":0},{"$f":"'Horizontal Labels'!AX$45","v":0},{"$f":"'Horizontal Labels'!AY$45","v":0},{"$f":"'Horizontal Labels'!AZ$45","v":0},{"$f":"'Horizontal Labels'!BA$45","v":0},{"$f":"'Horizontal Labels'!BB$45","v":0}]
[null,null,"FIXED",{"$f":"D36","v":0},{"$f":"IF(OR(SUM($D$36:E36)=D35,D35=0),0,SUM($D$36:E36))","v":0},{"$f":"IF(OR(SUM($D$36:F36)=E35,E35=0),0,SUM($D$36:F36))","v":0},{"$f":"IF(OR(SUM($D$36:G36)=F35,F35=0),0,SUM($D$36:G36))","v":0},{"$f":"IF(OR(SUM($D$36:H36)=G35,G35=0),0,SUM($D$36:H36))","v":0},{"$f":"IF(OR(SUM($D$36:I36)=H35,H35=0),0,SUM($D$36:I36))","v":0},{"$f":"IF(OR(SUM($D$36:J36)=I35,I35=0),0,SUM($D$36:J36))","v":0},{"$f":"IF(OR(SUM($D$36:K36)=J35,J35=0),0,SUM($D$36:K36))","v":0},{"$f":"IF(OR(SUM($D$36:L36)=K35,K35=0),0,SUM($D$36:L36))","v":0},{"$f":"IF(OR(SUM($D$36:M36)=L35,L35=0),0,SUM($D$36:M36))","v":0},{"$f":"IF(OR(SUM($D$36:N36)=M35,M35=0),0,SUM($D$36:N36))","v":0},{"$f":"IF(OR(SUM($D$36:O36)=N35,N35=0),0,SUM($D$36:O36))","v":0},{"$f":"IF(OR(SUM($D$36:P36)=O35,O35=0),0,SUM($D$36:P36))","v":0},{"$f":"IF(OR(SUM($D$36:Q36)=P35,P35=0),0,SUM($D$36:Q36))","v":0},{"$f":"IF(OR(SUM($D$36:R36)=Q35,Q35=0),0,SUM($D$36:R36))","v":0},{"$f":"IF(OR(SUM($D$36:S36)=R35,R35=0),0,SUM($D$36:S36))","v":0},{"$f":"IF(OR(SUM($D$36:T36)=S35,S35=0),0,SUM($D$36:T36))","v":0},{"$f":"IF(OR(SUM($D$36:U36)=T35,T35=0),0,SUM($D$36:U36))","v":0},{"$f":"IF(OR(SUM($D$36:V36)=U35,U35=0),0,SUM($D$36:V36))","v":0},{"$f":"IF(OR(SUM($D$36:W36)=V35,V35=0),0,SUM($D$36:W36))","v":0},{"$f":"IF(OR(SUM($D$36:X36)=W35,W35=0),0,SUM($D$36:X36))","v":0},{"$f":"IF(OR(SUM($D$36:Y36)=X35,X35=0),0,SUM($D$36:Y36))","v":0},{"$f":"IF(OR(SUM($D$36:Z36)=Y35,Y35=0),0,SUM($D$36:Z36))","v":0},{"$f":"IF(OR(SUM($D$36:AA36)=Z35,Z35=0),0,SUM($D$36:AA36))","v":0},{"$f":"IF(OR(SUM($D$36:AB36)=AA35,AA35=0),0,SUM($D$36:AB36))","v":0},{"$f":"IF(OR(SUM($D$36:AC36)=AB35,AB35=0),0,SUM($D$36:AC36))","v":0},{"$f":"IF(OR(SUM($D$36:AD36)=AC35,AC35=0),0,SUM($D$36:AD36))","v":0},{"$f":"IF(OR(SUM($D$36:AE36)=AD35,AD35=0),0,SUM($D$36:AE36))","v":0},{"$f":"IF(OR(SUM($D$36:AF36)=AE35,AE35=0),0,SUM($D$36:AF36))","v":0},{"$f":"IF(OR(SUM($D$36:AG36)=AF35,AF35=0),0,SUM($D$36:AG36))","v":0},{"$f":"IF(OR(SUM($D$36:AH36)=AG35,AG35=0),0,SUM($D$36:AH36))","v":0},{"$f":"IF(OR(SUM($D$36:AI36)=AH35,AH35=0),0,SUM($D$36:AI36))","v":0},{"$f":"IF(OR(SUM($D$36:AJ36)=AI35,AI35=0),0,SUM($D$36:AJ36))","v":0},{"$f":"IF(OR(SUM($D$36:AK36)=AJ35,AJ35=0),0,SUM($D$36:AK36))","v":0},{"$f":"IF(OR(SUM($D$36:AL36)=AK35,AK35=0),0,SUM($D$36:AL36))","v":0},{"$f":"IF(OR(SUM($D$36:AM36)=AL35,AL35=0),0,SUM($D$36:AM36))","v":0},{"$f":"IF(OR(SUM($D$36:AN36)=AM35,AM35=0),0,SUM($D$36:AN36))","v":0},{"$f":"IF(OR(SUM($D$36:AO36)=AN35,AN35=0),0,SUM($D$36:AO36))","v":0},{"$f":"IF(OR(SUM($D$36:AP36)=AO35,AO35=0),0,SUM($D$36:AP36))","v":0},{"$f":"IF(OR(SUM($D$36:AQ36)=AP35,AP35=0),0,SUM($D$36:AQ36))","v":0},{"$f":"IF(OR(SUM($D$36:AR36)=AQ35,AQ35=0),0,SUM($D$36:AR36))","v":0},{"$f":"IF(OR(SUM($D$36:AS36)=AR35,AR35=0),0,SUM($D$36:AS36))","v":0},{"$f":"IF(OR(SUM($D$36:AT36)=AS35,AS35=0),0,SUM($D$36:AT36))","v":0},{"$f":"IF(OR(SUM($D$36:AU36)=AT35,AT35=0),0,SUM($D$36:AU36))","v":0},{"$f":"IF(OR(SUM($D$36:AV36)=AU35,AU35=0),0,SUM($D$36:AV36))","v":0},{"$f":"IF(OR(SUM($D$36:AW36)=AV35,AV35=0),0,SUM($D$36:AW36))","v":0},{"$f":"IF(OR(SUM($D$36:AX36)=AW35,AW35=0),0,SUM($D$36:AX36))","v":0},{"$f":"IF(OR(SUM($D$36:AY36)=AX35,AX35=0),0,SUM($D$36:AY36))","v":0},{"$f":"IF(OR(SUM($D$36:AZ36)=AY35,AY35=0),0,SUM($D$36:AZ36))","v":0},{"$f":"IF(OR(SUM($D$36:BA36)=AZ35,AZ35=0),0,SUM($D$36:BA36))","v":0}]
[null,null,"RELATIVE",{"$f":"D34/2","v":0},{"$f":"(D34/2)+(E34/2)","v":0},{"$f":"(E34/2)+(F34/2)","v":0},{"$f":"(F34/2)+(G34/2)","v":0},0,0,0,0,0,0,0,0,0,0,0,0,0,0,0,0,0,0,0,0,0,0,0,0,0,0,0,0,0,0,0,0,0,0,0,0,0,0,0,0,0,0,0,0,0,0]
[]
[{"$nulls":3},1,2,3,4,5,6,7,8,9,10,11,12,13,14,15,16,17,18,19,20,21,22,23,24,25,26,27,28,29,30,31,32,33,34,35,36,37,38,39,40,41,42,43,44,45,46,47,48,49,50]
[null,"LABEL 5","RELATIVE",{"$f":"'Horizontal Labels'!E$56","v":0},{"$f":"'Horizontal Labels'!F$56","v":0},{"$f":"'Horizontal Labels'!G$56","v":0},{"$f":"'Horizontal Labels'!H$56","v":0},{"$f":"'Horizontal Labels'!I$56","v":0},{"$f":"'Horizontal Labels'!J$56","v":0},{"$f":"'Horizontal Labels'!K$56","v":0},{"$f":"'Horizontal Labels'!L$56","v":0},{"$f":"'Horizontal Labels'!M$56","v":0},{"$f":"'Horizontal Labels'!N$56","v":0},{"$f":"'Horizontal Labels'!O$56","v":0},{"$f":"'Horizontal Labels'!P$56","v":0},{"$f":"'Horizontal Labels'!Q$56","v":0},{"$f":"'Horizontal Labels'!R$56","v":0},{"$f":"'Horizontal Labels'!S$56","v":0},{"$f":"'Horizontal Labels'!T$56","v":0},{"$f":"'Horizontal Labels'!U$56","v":0},{"$f":"'Horizontal Labels'!V$56","v":0},{"$f":"'Horizontal Labels'!W$56","v":0},{"$f":"'Horizontal Labels'!X$56","v":0},{"$f":"'Horizontal Labels'!Y$56","v":0},{"$f":"'Horizontal Labels'!Z$56","v":0},{"$f":"'Horizontal Labels'!AA$56","v":0},{"$f":"'Horizontal Labels'!AB$56","v":0},{"$f":"'Horizontal Labels'!AC$56","v":0},{"$f":"'Horizontal Labels'!AD$56","v":0},{"$f":"'Horizontal Labels'!AE$56","v":0},{"$f":"'Horizontal Labels'!AF$56","v":0},{"$f":"'Horizontal Labels'!AG$56","v":0},{"$f":"'Horizontal Labels'!AH$56","v":0},{"$f":"'Horizontal Labels'!AI$56","v":0},{"$f":"'Horizontal Labels'!AJ$56","v":0},{"$f":"'Horizontal Labels'!AK$56","v":0},{"$f":"'Horizontal Labels'!AL$56","v":0},{"$f":"'Horizontal Labels'!AM$56","v":0},{"$f":"'Horizontal Labels'!AN$56","v":0},{"$f":"'Horizontal Labels'!AO$56","v":0},{"$f":"'Horizontal Labels'!AP$56","v":0},{"$f":"'Horizontal Labels'!AQ$56","v":0},{"$f":"'Horizontal Labels'!AR$56","v":0},{"$f":"'Horizontal Labels'!AS$56","v":0},{"$f":"'Horizontal Labels'!AT$56","v":0},{"$f":"'Horizontal Labels'!AU$56","v":0},{"$f":"'Horizontal Labels'!AV$56","v":0},{"$f":"'Horizontal Labels'!AW$56","v":0},{"$f":"'Horizontal Labels'!AX$56","v":0},{"$f":"'Horizontal Labels'!AY$56","v":0},{"$f":"'Horizontal Labels'!AZ$56","v":0},{"$f":"'Horizontal Labels'!BA$56","v":0},{"$f":"'Horizontal Labels'!BB$56","v":0}]
[null,null,"FIXED",{"$f":"SUM($D$39:D39)","v":0},{"$f":"IF(OR(SUM($D$39:E39)=D40,D40=0),0,SUM($D$39:E39))","v":0},{"$f":"IF(OR(SUM($D$39:F39)=E40,E40=0),0,SUM($D$39:F39))","v":0},{"$f":"IF(OR(SUM($D$39:G39)=F40,F40=0),0,SUM($D$39:G39))","v":0},{"$f":"IF(OR(SUM($D$39:H39)=G40,G40=0),0,SUM($D$39:H39))","v":0},{"$f":"IF(OR(SUM($D$39:I39)=H40,H40=0),0,SUM($D$39:I39))","v":0},{"$f":"IF(OR(SUM($D$39:J39)=I40,I40=0),0,SUM($D$39:J39))","v":0},{"$f":"IF(OR(SUM($D$39:K39)=J40,J40=0),0,SUM($D$39:K39))","v":0},{"$f":"IF(OR(SUM($D$39:L39)=K40,K40=0),0,SUM($D$39:L39))","v":0},{"$f":"IF(OR(SUM($D$39:M39)=L40,L40=0),0,SUM($D$39:M39))","v":0},{"$f":"IF(OR(SUM($D$39:N39)=M40,M40=0),0,SUM($D$39:N39))","v":0},{"$f":"IF(OR(SUM($D$39:O39)=N40,N40=0),0,SUM($D$39:O39))","v":0},{"$f":"IF(OR(SUM($D$39:P39)=O40,O40=0),0,SUM($D$39:P39))","v":0},{"$f":"IF(OR(SUM($D$39:Q39)=P40,P40=0),0,SUM($D$39:Q39))","v":0},{"$f":"IF(OR(SUM($D$39:R39)=Q40,Q40=0),0,SUM($D$39:R39))","v":0},{"$f":"IF(OR(SUM($D$39:S39)=R40,R40=0),0,SUM($D$39:S39))","v":0},{"$f":"IF(OR(SUM($D$39:T39)=S40,S40=0),0,SUM($D$39:T39))","v":0},{"$f":"IF(OR(SUM($D$39:U39)=T40,T40=0),0,SUM($D$39:U39))","v":0},{"$f":"IF(OR(SUM($D$39:V39)=U40,U40=0),0,SUM($D$39:V39))","v":0},{"$f":"IF(OR(SUM($D$39:W39)=V40,V40=0),0,SUM($D$39:W39))","v":0},{"$f":"IF(OR(SUM($D$39:X39)=W40,W40=0),0,SUM($D$39:X39))","v":0},{"$f":"IF(OR(SUM($D$39:Y39)=X40,X40=0),0,SUM($D$39:Y39))","v":0},{"$f":"IF(OR(SUM($D$39:Z39)=Y40,Y40=0),0,SUM($D$39:Z39))","v":0},{"$f":"IF(OR(SUM($D$39:AA39)=Z40,Z40=0),0,SUM($D$39:AA39))","v":0},{"$f":"IF(OR(SUM($D$39:AB39)=AA40,AA40=0),0,SUM($D$39:AB39))","v":0},{"$f":"IF(OR(SUM($D$39:AC39)=AB40,AB40=0),0,SUM($D$39:AC39))","v":0},{"$f":"IF(OR(SUM($D$39:AD39)=AC40,AC40=0),0,SUM($D$39:AD39))","v":0},{"$f":"IF(OR(SUM($D$39:AE39)=AD40,AD40=0),0,SUM($D$39:AE39))","v":0},{"$f":"IF(OR(SUM($D$39:AF39)=AE40,AE40=0),0,SUM($D$39:AF39))","v":0},{"$f":"IF(OR(SUM($D$39:AG39)=AF40,AF40=0),0,SUM($D$39:AG39))","v":0},{"$f":"IF(OR(SUM($D$39:AH39)=AG40,AG40=0),0,SUM($D$39:AH39))","v":0},{"$f":"IF(OR(SUM($D$39:AI39)=AH40,AH40=0),0,SUM($D$39:AI39))","v":0},{"$f":"IF(OR(SUM($D$39:AJ39)=AI40,AI40=0),0,SUM($D$39:AJ39))","v":0},{"$f":"IF(OR(SUM($D$39:AK39)=AJ40,AJ40=0),0,SUM($D$39:AK39))","v":0},{"$f":"IF(OR(SUM($D$39:AL39)=AK40,AK40=0),0,SUM($D$39:AL39))","v":0},{"$f":"IF(OR(SUM($D$39:AM39)=AL40,AL40=0),0,SUM($D$39:AM39))","v":0},{"$f":"IF(OR(SUM($D$39:AN39)=AM40,AM40=0),0,SUM($D$39:AN39))","v":0},{"$f":"IF(OR(SUM($D$39:AO39)=AN40,AN40=0),0,SUM($D$39:AO39))","v":0},{"$f":"IF(OR(SUM($D$39:AP39)=AO40,AO40=0),0,SUM($D$39:AP39))","v":0},{"$f":"IF(OR(SUM($D$39:AQ39)=AP40,AP40=0),0,SUM($D$39:AQ39))","v":0},{"$f":"IF(OR(SUM($D$39:AR39)=AQ40,AQ40=0),0,SUM($D$39:AR39))","v":0},{"$f":"IF(OR(SUM($D$39:AS39)=AR40,AR40=0),0,SUM($D$39:AS39))","v":0},{"$f":"IF(OR(SUM($D$39:AT39)=AS40,AS40=0),0,SUM($D$39:AT39))","v":0},{"$f":"IF(OR(SUM($D$39:AU39)=AT40,AT40=0),0,SUM($D$39:AU39))","v":0},{"$f":"IF(OR(SUM($D$39:AV39)=AU40,AU40=0),0,SUM($D$39:AV39))","v":0},{"$f":"IF(OR(SUM($D$39:AW39)=AV40,AV40=0),0,SUM($D$39:AW39))","v":0},{"$f":"IF(OR(SUM($D$39:AX39)=AW40,AW40=0),0,SUM($D$39:AX39))","v":0},{"$f":"IF(OR(SUM($D$39:AY39)=AX40,AX40=0),0,SUM($D$39:AY39))","v":0},{"$f":"IF(OR(SUM($D$39:AZ39)=AY40,AY40=0),0,SUM($D$39:AZ39))","v":0},{"$f":"IF(OR(SUM($D$39:BA39)=AZ40,AZ40=0),0,SUM($D$39:BA39))","v":0}]
[null,null,"FIXED",{"$f":"'Horizontal Labels'!E$56","v":0},{"$f":"'Horizontal Labels'!F$56","v":0},{"$f":"'Horizontal Labels'!G$56","v":0},{"$f":"'Horizontal Labels'!H$56","v":0},{"$f":"'Horizontal Labels'!I$56","v":0},{"$f":"'Horizontal Labels'!J$56","v":0},{"$f":"'Horizontal Labels'!K$56","v":0},{"$f":"'Horizontal Labels'!L$56","v":0},{"$f":"'Horizontal Labels'!M$56","v":0},{"$f":"'Horizontal Labels'!N$56","v":0},{"$f":"'Horizontal Labels'!O$56","v":0},{"$f":"'Horizontal Labels'!P$56","v":0},{"$f":"'Horizontal Labels'!Q$56","v":0},{"$f":"'Horizontal Labels'!R$56","v":0},{"$f":"'Horizontal Labels'!S$56","v":0},{"$f":"'Horizontal Labels'!T$56","v":0},{"$f":"'Horizontal Labels'!U$56","v":0},{"$f":"'Horizontal Labels'!V$56","v":0},{"$f":"'Horizontal Labels'!W$56","v":0},{"$f":"'Horizontal Labels'!X$56","v":0},{"$f":"'Horizontal Labels'!Y$56","v":0},{"$f":"'Horizontal Labels'!Z$56","v":0},{"$f":"'Horizontal Labels'!AA$56","v":0},{"$f":"'Horizontal Labels'!AB$56","v":0},{"$f":"'Horizontal Labels'!AC$56","v":0},{"$f":"'Horizontal Labels'!AD$56","v":0},{"$f":"'Horizontal Labels'!AE$56","v":0},{"$f":"'Horizontal Labels'!AF$56","v":0},{"$f":"'Horizontal Labels'!AG$56","v":0},{"$f":"'Horizontal Labels'!AH$56","v":0},{"$f":"'Horizontal Labels'!AI$56","v":0},{"$f":"'Horizontal Labels'!AJ$56","v":0},{"$f":"'Horizontal Labels'!AK$56","v":0},{"$f":"'Horizontal Labels'!AL$56","v":0},{"$f":"'Horizontal Labels'!AM$56","v":0},{"$f":"'Horizontal Labels'!AN$56","v":0},{"$f":"'Horizontal Labels'!AO$56","v":0},{"$f":"'Horizontal Labels'!AP$56","v":0},{"$f":"'Horizontal Labels'!AQ$56","v":0},{"$f":"'Horizontal Labels'!AR$56","v":0},{"$f":"'Horizontal Labels'!AS$56","v":0},{"$f":"'Horizontal Labels'!AT$56","v":0},{"$f":"'Horizontal Labels'!AU$56","v":0},{"$f":"'Horizontal Labels'!AV$56","v":0},{"$f":"'Horizontal Labels'!AW$56","v":0},{"$f":"'Horizontal Labels'!AX$56","v":0},{"$f":"'Horizontal Labels'!AY$56","v":0},{"$f":"'Horizontal Labels'!AZ$56","v":0},{"$f":"'Horizontal Labels'!BA$56","v":0},{"$f":"'Horizontal Labels'!BB$56","v":0}]
[null,null,"RELATIVE",{"$f":"D41","v":0},{"$f":"IF(E41-D41<1,0,E41-D41)","v":0},{"$f":"IF(F41-E41<1,0,F41-E41)","v":0},{"$f":"IF(G41-F41<1,0,G41-F41)","v":0},0,0,0,0,0,0,0,0,0,0,0,0,0,0,0,0,0,0,0,0,0,0,0,0,0,0,0,0,0,0,0,0,0,0,0,0,0,0,0,0,0,0,0,0,0,0]
[null,null,"BLOCKS",{"$f":"'Horizontal Labels'!E$56","v":0},{"$f":"'Horizontal Labels'!F$56","v":0},{"$f":"'Horizontal Labels'!G$56","v":0},{"$f":"'Horizontal Labels'!H$56","v":0},{"$f":"'Horizontal Labels'!I$56","v":0},{"$f":"'Horizontal Labels'!J$56","v":0},{"$f":"'Horizontal Labels'!K$56","v":0},{"$f":"'Horizontal Labels'!L$56","v":0},{"$f":"'Horizontal Labels'!M$56","v":0},{"$f":"'Horizontal Labels'!N$56","v":0},{"$f":"'Horizontal Labels'!O$56","v":0},{"$f":"'Horizontal Labels'!P$56","v":0},{"$f":"'Horizontal Labels'!Q$56","v":0},{"$f":"'Horizontal Labels'!R$56","v":0},{"$f":"'Horizontal Labels'!S$56","v":0},{"$f":"'Horizontal Labels'!T$56","v":0},{"$f":"'Horizontal Labels'!U$56","v":0},{"$f":"'Horizontal Labels'!V$56","v":0},{"$f":"'Horizontal Labels'!W$56","v":0},{"$f":"'Horizontal Labels'!X$56","v":0},{"$f":"'Horizontal Labels'!Y$56","v":0},{"$f":"'Horizontal Labels'!Z$56","v":0},{"$f":"'Horizontal Labels'!AA$56","v":0},{"$f":"'Horizontal Labels'!AB$56","v":0},{"$f":"'Horizontal Labels'!AC$56","v":0},{"$f":"'Horizontal Labels'!AD$56","v":0},{"$f":"'Horizontal Labels'!AE$56","v":0},{"$f":"'Horizontal Labels'!AF$56","v":0},{"$f":"'Horizontal Labels'!AG$56","v":0},{"$f":"'Horizontal Labels'!AH$56","v":0},{"$f":"'Horizontal Labels'!AI$56","v":0},{"$f":"'Horizontal Labels'!AJ$56","v":0},{"$f":"'Horizontal Labels'!AK$56","v":0},{"$f":"'Horizontal Labels'!AL$56","v":0},{"$f":"'Horizontal Labels'!AM$56","v":0},{"$f":"'Horizontal Labels'!AN$56","v":0},{"$f":"'Horizontal Labels'!AO$56","v":0},{"$f":"'Horizontal Labels'!AP$56","v":0},{"$f":"'Horizontal Labels'!AQ$56","v":0},{"$f":"'Horizontal Labels'!AR$56","v":0},{"$f":"'Horizontal Labels'!AS$56","v":0},{"$f":"'Horizontal Labels'!AT$56","v":0},{"$f":"'Horizontal Labels'!AU$56","v":0},{"$f":"'Horizontal Labels'!AV$56","v":0},{"$f":"'Horizontal Labels'!AW$56","v":0},{"$f":"'Horizontal Labels'!AX$56","v":0},{"$f":"'Horizontal Labels'!AY$56","v":0},{"$f":"'Horizontal Labels'!AZ$56","v":0},{"$f":"'Horizontal Labels'!BA$56","v":0},{"$f":"'Horizontal Labels'!BB$56","v":0}]
[null,null,"FIXED",{"$f":"D45","v":0},{"$f":"IF(OR(SUM($D$45:E45)=D44,D44=0),0,SUM($D$45:E45))","v":0},{"$f":"IF(OR(SUM($D$45:F45)=E44,E44=0),0,SUM($D$45:F45))","v":0},{"$f":"IF(OR(SUM($D$45:G45)=F44,F44=0),0,SUM($D$45:G45))","v":0},{"$f":"IF(OR(SUM($D$45:H45)=G44,G44=0),0,SUM($D$45:H45))","v":0},{"$f":"IF(OR(SUM($D$45:I45)=H44,H44=0),0,SUM($D$45:I45))","v":0},{"$f":"IF(OR(SUM($D$45:J45)=I44,I44=0),0,SUM($D$45:J45))","v":0},{"$f":"IF(OR(SUM($D$45:K45)=J44,J44=0),0,SUM($D$45:K45))","v":0},{"$f":"IF(OR(SUM($D$45:L45)=K44,K44=0),0,SUM($D$45:L45))","v":0},{"$f":"IF(OR(SUM($D$45:M45)=L44,L44=0),0,SUM($D$45:M45))","v":0},{"$f":"IF(OR(SUM($D$45:N45)=M44,M44=0),0,SUM($D$45:N45))","v":0},{"$f":"IF(OR(SUM($D$45:O45)=N44,N44=0),0,SUM($D$45:O45))","v":0},{"$f":"IF(OR(SUM($D$45:P45)=O44,O44=0),0,SUM($D$45:P45))","v":0},{"$f":"IF(OR(SUM($D$45:Q45)=P44,P44=0),0,SUM($D$45:Q45))","v":0},{"$f":"IF(OR(SUM($D$45:R45)=Q44,Q44=0),0,SUM($D$45:R45))","v":0},{"$f":"IF(OR(SUM($D$45:S45)=R44,R44=0),0,SUM($D$45:S45))","v":0},{"$f":"IF(OR(SUM($D$45:T45)=S44,S44=0),0,SUM($D$45:T45))","v":0},{"$f":"IF(OR(SUM($D$45:U45)=T44,T44=0),0,SUM($D$45:U45))","v":0},{"$f":"IF(OR(SUM($D$45:V45)=U44,U44=0),0,SUM($D$45:V45))","v":0},{"$f":"IF(OR(SUM($D$45:W45)=V44,V44=0),0,SUM($D$45:W45))","v":0},{"$f":"IF(OR(SUM($D$45:X45)=W44,W44=0),0,SUM($D$45:X45))","v":0},{"$f":"IF(OR(SUM($D$45:Y45)=X44,X44=0),0,SUM($D$45:Y45))","v":0},{"$f":"IF(OR(SUM($D$45:Z45)=Y44,Y44=0),0,SUM($D$45:Z45))","v":0},{"$f":"IF(OR(SUM($D$45:AA45)=Z44,Z44=0),0,SUM($D$45:AA45))","v":0},{"$f":"IF(OR(SUM($D$45:AB45)=AA44,AA44=0),0,SUM($D$45:AB45))","v":0},{"$f":"IF(OR(SUM($D$45:AC45)=AB44,AB44=0),0,SUM($D$45:AC45))","v":0},{"$f":"IF(OR(SUM($D$45:AD45)=AC44,AC44=0),0,SUM($D$45:AD45))","v":0},{"$f":"IF(OR(SUM($D$45:AE45)=AD44,AD44=0),0,SUM($D$45:AE45))","v":0},{"$f":"IF(OR(SUM($D$45:AF45)=AE44,AE44=0),0,SUM($D$45:AF45))","v":0},{"$f":"IF(OR(SUM($D$45:AG45)=AF44,AF44=0),0,SUM($D$45:AG45))","v":0},{"$f":"IF(OR(SUM($D$45:AH45)=AG44,AG44=0),0,SUM($D$45:AH45))","v":0},{"$f":"IF(OR(SUM($D$45:AI45)=AH44,AH44=0),0,SUM($D$45:AI45))","v":0},{"$f":"IF(OR(SUM($D$45:AJ45)=AI44,AI44=0),0,SUM($D$45:AJ45))","v":0},{"$f":"IF(OR(SUM($D$45:AK45)=AJ44,AJ44=0),0,SUM($D$45:AK45))","v":0},{"$f":"IF(OR(SUM($D$45:AL45)=AK44,AK44=0),0,SUM($D$45:AL45))","v":0},{"$f":"IF(OR(SUM($D$45:AM45)=AL44,AL44=0),0,SUM($D$45:AM45))","v":0},{"$f":"IF(OR(SUM($D$45:AN45)=AM44,AM44=0),0,SUM($D$45:AN45))","v":0},{"$f":"IF(OR(SUM($D$45:AO45)=AN44,AN44=0),0,SUM($D$45:AO45))","v":0},{"$f":"IF(OR(SUM($D$45:AP45)=AO44,AO44=0),0,SUM($D$45:AP45))","v":0},{"$f":"IF(OR(SUM($D$45:AQ45)=AP44,AP44=0),0,SUM($D$45:AQ45))","v":0},{"$f":"IF(OR(SUM($D$45:AR45)=AQ44,AQ44=0),0,SUM($D$45:AR45))","v":0},{"$f":"IF(OR(SUM($D$45:AS45)=AR44,AR44=0),0,SUM($D$45:AS45))","v":0},{"$f":"IF(OR(SUM($D$45:AT45)=AS44,AS44=0),0,SUM($D$45:AT45))","v":0},{"$f":"IF(OR(SUM($D$45:AU45)=AT44,AT44=0),0,SUM($D$45:AU45))","v":0},{"$f":"IF(OR(SUM($D$45:AV45)=AU44,AU44=0),0,SUM($D$45:AV45))","v":0},{"$f":"IF(OR(SUM($D$45:AW45)=AV44,AV44=0),0,SUM($D$45:AW45))","v":0},{"$f":"IF(OR(SUM($D$45:AX45)=AW44,AW44=0),0,SUM($D$45:AX45))","v":0},{"$f":"IF(OR(SUM($D$45:AY45)=AX44,AX44=0),0,SUM($D$45:AY45))","v":0},{"$f":"IF(OR(SUM($D$45:AZ45)=AY44,AY44=0),0,SUM($D$45:AZ45))","v":0},{"$f":"IF(OR(SUM($D$45:BA45)=AZ44,AZ44=0),0,SUM($D$45:BA45))","v":0}]
[null,null,"RELATIVE",{"$f":"D43/2","v":0},{"$f":"(D43/2)+(E43/2)","v":0},{"$f":"(E43/2)+(F43/2)","v":0},0,0,0,0,0,0,0,0,0,0,0,0,0,0,0,0,0,0,0,0,0,0,0,0,0,0,0,0,0,0,0,0,0,0,0,0,0,0,0,0,0,0,0,0,0,0,0]
[]
[{"$nulls":3},1,2,3,4,5,6,7,8,9,10,11,12,13,14,15,16,17,18,19,20,21,22,23,24,25,26,27,28,29,30,31,32,33,34,35,36,37,38,39,40,41,42,43,44,45,46,47,48,49,50]
[null,"LABEL 6","RELATIVE",{"$f":"'Horizontal Labels'!E$67","v":0},{"$f":"'Horizontal Labels'!F$67","v":0},{"$f":"'Horizontal Labels'!G$67","v":0},{"$f":"'Horizontal Labels'!H$67","v":0},{"$f":"'Horizontal Labels'!I$67","v":0},{"$f":"'Horizontal Labels'!J$67","v":0},{"$f":"'Horizontal Labels'!K$67","v":0},{"$f":"'Horizontal Labels'!L$67","v":0},{"$f":"'Horizontal Labels'!M$67","v":0},{"$f":"'Horizontal Labels'!N$67","v":0},{"$f":"'Horizontal Labels'!O$67","v":0},{"$f":"'Horizontal Labels'!P$67","v":0},{"$f":"'Horizontal Labels'!Q$67","v":0},{"$f":"'Horizontal Labels'!R$67","v":0},{"$f":"'Horizontal Labels'!S$67","v":0},{"$f":"'Horizontal Labels'!T$67","v":0},{"$f":"'Horizontal Labels'!U$67","v":0},{"$f":"'Horizontal Labels'!V$67","v":0},{"$f":"'Horizontal Labels'!W$67","v":0},{"$f":"'Horizontal Labels'!X$67","v":0},{"$f":"'Horizontal Labels'!Y$67","v":0},{"$f":"'Horizontal Labels'!Z$67","v":0},{"$f":"'Horizontal Labels'!AA$67","v":0},{"$f":"'Horizontal Labels'!AB$67","v":0},{"$f":"'Horizontal Labels'!AC$67","v":0},{"$f":"'Horizontal Labels'!AD$67","v":0},{"$f":"'Horizontal Labels'!AE$67","v":0},{"$f":"'Horizontal Labels'!AF$67","v":0},{"$f":"'Horizontal Labels'!AG$67","v":0},{"$f":"'Horizontal Labels'!AH$67","v":0},{"$f":"'Horizontal Labels'!AI$67","v":0},{"$f":"'Horizontal Labels'!AJ$67","v":0},{"$f":"'Horizontal Labels'!AK$67","v":0},{"$f":"'Horizontal Labels'!AL$67","v":0},{"$f":"'Horizontal Labels'!AM$67","v":0},{"$f":"'Horizontal Labels'!AN$67","v":0},{"$f":"'Horizontal Labels'!AO$67","v":0},{"$f":"'Horizontal Labels'!AP$67","v":0},{"$f":"'Horizontal Labels'!AQ$67","v":0},{"$f":"'Horizontal Labels'!AR$67","v":0},{"$f":"'Horizontal Labels'!AS$67","v":0},{"$f":"'Horizontal Labels'!AT$67","v":0},{"$f":"'Horizontal Labels'!AU$67","v":0},{"$f":"'Horizontal Labels'!AV$67","v":0},{"$f":"'Horizontal Labels'!AW$67","v":0},{"$f":"'Horizontal Labels'!AX$67","v":0},{"$f":"'Horizontal Labels'!AY$67","v":0},{"$f":"'Horizontal Labels'!AZ$67","v":0},{"$f":"'Horizontal Labels'!BA$67","v":0},{"$f":"'Horizontal Labels'!BB$67","v":0}]
[null,null,"FIXED",{"$f":"SUM($D$48:D48)","v":0},{"$f":"IF(OR(SUM($D$48:E48)=D49,D49=0),0,SUM($D$48:E48))","v":0},{"$f":"IF(OR(SUM($D$48:F48)=E49,E49=0),0,SUM($D$48:F48))","v":0},{"$f":"IF(OR(SUM($D$48:G48)=F49,F49=0),0,SUM($D$48:G48))","v":0},{"$f":"IF(OR(SUM($D$48:H48)=G49,G49=0),0,SUM($D$48:H48))","v":0},{"$f":"IF(OR(SUM($D$48:I48)=H49,H49=0),0,SUM($D$48:I48))","v":0},{"$f":"IF(OR(SUM($D$48:J48)=I49,I49=0),0,SUM($D$48:J48))","v":0},{"$f":"IF(OR(SUM($D$48:K48)=J49,J49=0),0,SUM($D$48:K48))","v":0},{"$f":"IF(OR(SUM($D$48:L48)=K49,K49=0),0,SUM($D$48:L48))","v":0},{"$f":"IF(OR(SUM($D$48:M48)=L49,L49=0),0,SUM($D$48:M48))","v":0},{"$f":"IF(OR(SUM($D$48:N48)=M49,M49=0),0,SUM($D$48:N48))","v":0},{"$f":"IF(OR(SUM($D$48:O48)=N49,N49=0),0,SUM($D$48:O48))","v":0},{"$f":"IF(OR(SUM($D$48:P48)=O49,O49=0),0,SUM($D$48:P48))","v":0},{"$f":"IF(OR(SUM($D$48:Q48)=P49,P49=0),0,SUM($D$48:Q48))","v":0},{"$f":"IF(OR(SUM($D$48:R48)=Q49,Q49=0),0,SUM($D$48:R48))","v":0},{"$f":"IF(OR(SUM($D$48:S48)=R49,R49=0),0,SUM($D$48:S48))","v":0},{"$f":"IF(OR(SUM($D$48:T48)=S49,S49=0),0,SUM($D$48:T48))","v":0},{"$f":"IF(OR(SUM($D$48:U48)=T49,T49=0),0,SUM($D$48:U48))","v":0},{"$f":"IF(OR(SUM($D$48:V48)=U49,U49=0),0,SUM($D$48:V48))","v":0},{"$f":"IF(OR(SUM($D$48:W48)=V49,V49=0),0,SUM($D$48:W48))","v":0},{"$f":"IF(OR(SUM($D$48:X48)=W49,W49=0),0,SUM($D$48:X48))","v":0},{"$f":"IF(OR(SUM($D$48:Y48)=X49,X49=0),0,SUM($D$48:Y48))","v":0},{"$f":"IF(OR(SUM($D$48:Z48)=Y49,Y49=0),0,SUM($D$48:Z48))","v":0},{"$f":"IF(OR(SUM($D$48:AA48)=Z49,Z49=0),0,SUM($D$48:AA48))","v":0},{"$f":"IF(OR(SUM($D$48:AB48)=AA49,AA49=0),0,SUM($D$48:AB48))","v":0},{"$f":"IF(OR(SUM($D$48:AC48)=AB49,AB49=0),0,SUM($D$48:AC48))","v":0},{"$f":"IF(OR(SUM($D$48:AD48)=AC49,AC49=0),0,SUM($D$48:AD48))","v":0},{"$f":"IF(OR(SUM($D$48:AE48)=AD49,AD49=0),0,SUM($D$48:AE48))","v":0},{"$f":"IF(OR(SUM($D$48:AF48)=AE49,AE49=0),0,SUM($D$48:AF48))","v":0},{"$f":"IF(OR(SUM($D$48:AG48)=AF49,AF49=0),0,SUM($D$48:AG48))","v":0},{"$f":"IF(OR(SUM($D$48:AH48)=AG49,AG49=0),0,SUM($D$48:AH48))","v":0},{"$f":"IF(OR(SUM($D$48:AI48)=AH49,AH49=0),0,SUM($D$48:AI48))","v":0},{"$f":"IF(OR(SUM($D$48:AJ48)=AI49,AI49=0),0,SUM($D$48:AJ48))","v":0},{"$f":"IF(OR(SUM($D$48:AK48)=AJ49,AJ49=0),0,SUM($D$48:AK48))","v":0},{"$f":"IF(OR(SUM($D$48:AL48)=AK49,AK49=0),0,SUM($D$48:AL48))","v":0},{"$f":"IF(OR(SUM($D$48:AM48)=AL49,AL49=0),0,SUM($D$48:AM48))","v":0},{"$f":"IF(OR(SUM($D$48:AN48)=AM49,AM49=0),0,SUM($D$48:AN48))","v":0},{"$f":"IF(OR(SUM($D$48:AO48)=AN49,AN49=0),0,SUM($D$48:AO48))","v":0},{"$f":"IF(OR(SUM($D$48:AP48)=AO49,AO49=0),0,SUM($D$48:AP48))","v":0},{"$f":"IF(OR(SUM($D$48:AQ48)=AP49,AP49=0),0,SUM($D$48:AQ48))","v":0},{"$f":"IF(OR(SUM($D$48:AR48)=AQ49,AQ49=0),0,SUM($D$48:AR48))","v":0},{"$f":"IF(OR(SUM($D$48:AS48)=AR49,AR49=0),0,SUM($D$48:AS48))","v":0},{"$f":"IF(OR(SUM($D$48:AT48)=AS49,AS49=0),0,SUM($D$48:AT48))","v":0},{"$f":"IF(OR(SUM($D$48:AU48)=AT49,AT49=0),0,SUM($D$48:AU48))","v":0},{"$f":"IF(OR(SUM($D$48:AV48)=AU49,AU49=0),0,SUM($D$48:AV48))","v":0},{"$f":"IF(OR(SUM($D$48:AW48)=AV49,AV49=0),0,SUM($D$48:AW48))","v":0},{"$f":"IF(OR(SUM($D$48:AX48)=AW49,AW49=0),0,SUM($D$48:AX48))","v":0},{"$f":"IF(OR(SUM($D$48:AY48)=AX49,AX49=0),0,SUM($D$48:AY48))","v":0},{"$f":"IF(OR(SUM($D$48:AZ48)=AY49,AY49=0),0,SUM($D$48:AZ48))","v":0},{"$f":"IF(OR(SUM($D$48:BA48)=AZ49,AZ49=0),0,SUM($D$48:BA48))","v":0}]
[null,null,"FIXED",{"$f":"'Horizontal Labels'!E$67","v":0},{"$f":"'Horizontal Labels'!F$67","v":0},{"$f":"'Horizontal Labels'!G$67","v":0},{"$f":"'Horizontal Labels'!H$67","v":0},{"$f":"'Horizontal Labels'!I$67","v":0},{"$f":"'Horizontal Labels'!J$67","v":0},{"$f":"'Horizontal Labels'!K$67","v":0},{"$f":"'Horizontal Labels'!L$67","v":0},{"$f":"'Horizontal Labels'!M$67","v":0},{"$f":"'Horizontal Labels'!N$67","v":0},{"$f":"'Horizontal Labels'!O$67","v":0},{"$f":"'Horizontal Labels'!P$67","v":0},{"$f":"'Horizontal Labels'!Q$67","v":0},{"$f":"'Horizontal Labels'!R$67","v":0},{"$f":"'Horizontal Labels'!S$67","v":0},{"$f":"'Horizontal Labels'!T$67","v":0},{"$f":"'Horizontal Labels'!U$67","v":0},{"$f":"'Horizontal Labels'!V$67","v":0},{"$f":"'Horizontal Labels'!W$67","v":0},{"$f":"'Horizontal Labels'!X$67","v":0},{"$f":"'Horizontal Labels'!Y$67","v":0},{"$f":"'Horizontal Labels'!Z$67","v":0},{"$f":"'Horizontal Labels'!AA$67","v":0},{"$f":"'Horizontal Labels'!AB$67","v":0},{"$f":"'Horizontal Labels'!AC$67","v":0},{"$f":"'Horizontal Labels'!AD$67","v":0},{"$f":"'Horizontal Labels'!AE$67","v":0},{"$f":"'Horizontal Labels'!AF$67","v":0},{"$f":"'Horizontal Labels'!AG$67","v":0},{"$f":"'Horizontal Labels'!AH$67","v":0},{"$f":"'Horizontal Labels'!AI$67","v":0},{"$f":"'Horizontal Labels'!AJ$67","v":0},{"$f":"'Horizontal Labels'!AK$67","v":0},{"$f":"'Horizontal Labels'!AL$67","v":0},{"$f":"'Horizontal Labels'!AM$67","v":0},{"$f":"'Horizontal Labels'!AN$67","v":0},{"$f":"'Horizontal Labels'!AO$67","v":0},{"$f":"'Horizontal Labels'!AP$67","v":0},{"$f":"'Horizontal Labels'!AQ$67","v":0},{"$f":"'Horizontal Labels'!AR$67","v":0},{"$f":"'Horizontal Labels'!AS$67","v":0},{"$f":"'Horizontal Labels'!AT$67","v":0},{"$f":"'Horizontal Labels'!AU$67","v":0},{"$f":"'Horizontal Labels'!AV$67","v":0},{"$f":"'Horizontal Labels'!AW$67","v":0},{"$f":"'Horizontal Labels'!AX$67","v":0},{"$f":"'Horizontal Labels'!AY$67","v":0},{"$f":"'Horizontal Labels'!AZ$67","v":0},{"$f":"'Horizontal Labels'!BA$67","v":0},{"$f":"'Horizontal Labels'!BB$67","v":0}]
[null,null,"RELATIVE",{"$f":"D50","v":0},{"$f":"IF(E50-D50<1,0,E50-D50)","v":0},{"$f":"IF(F50-E50<1,0,F50-E50)","v":0},0,0,0,0,{"$f":"IF(K50-J50<1,0,K50-J50)","v":0},{"$f":"IF(L50-K50<1,0,L50-K50)","v":0},{"$f":"IF(M50-L50<1,0,M50-L50)","v":0},{"$f":"IF(N50-M50<1,0,N50-M50)","v":0},0,{"$f":"IF(P50-O50<1,0,P50-O50)","v":0},{"$f":"IF(Q50-P50<1,0,Q50-P50)","v":0},{"$f":"IF(R50-Q50<1,0,R50-Q50)","v":0},{"$f":"IF(S50-R50<1,0,S50-R50)","v":0},0,{"$f":"IF(U50-T50<1,0,U50-T50)","v":0},{"$f":"IF(V50-U50<1,0,V50-U50)","v":0},{"$f":"IF(W50-V50<1,0,W50-V50)","v":0},{"$f":"IF(X50-W50<1,0,X50-W50)","v":0},0,{"$f":"IF(Z50-Y50<1,0,Z50-Y50)","v":0},{"$f":"IF(AA50-Z50<1,0,AA50-Z50)","v":0},{"$f":"IF(AB50-AA50<1,0,AB50-AA50)","v":0},{"$f":"IF(AC50-AB50<1,0,AC50-AB50)","v":0},0,{"$f":"IF(AE50-AD50<1,0,AE50-AD50)","v":0},{"$f":"IF(AF50-AE50<1,0,AF50-AE50)","v":0},{"$f":"IF(AG50-AF50<1,0,AG50-AF50)","v":0},{"$f":"IF(AH50-AG50<1,0,AH50-AG50)","v":0},0,{"$f":"IF(AJ50-AI50<1,0,AJ50-AI50)","v":0},{"$f":"IF(AK50-AJ50<1,0,AK50-AJ50)","v":0},{"$f":"IF(AL50-AK50<1,0,AL50-AK50)","v":0},{"$f":"IF(AM50-AL50<1,0,AM50-AL50)","v":0},0,{"$f":"IF(AO50-AN50<1,0,AO50-AN50)","v":0},{"$f":"IF(AP50-AO50<1,0,AP50-AO50)","v":0},{"$f":"IF(AQ50-AP50<1,0,AQ50-AP50)","v":0},{"$f":"IF(AR50-AQ50<1,0,AR50-AQ50)","v":0},0,{"$f":"IF(AT50-AS50<1,0,AT50-AS50)","v":0},{"$f":"IF(AU50-AT50<1,0,AU50-AT50)","v":0},{"$f":"IF(AV50-AU50<1,0,AV50-AU50)","v":0},{"$f":"IF(AW50-AV50<1,0,AW50-AV50)","v":0},0,{"$f":"IF(AY50-AX50<1,0,AY50-AX50)","v":0},{"$f":"IF(AZ50-AY50<1,0,AZ50-AY50)","v":0},{"$f":"IF(BA50-AZ50<1,0,BA50-AZ50)","v":0}]
[null,null,"BLOCKS",{"$f":"'Horizontal Labels'!E$67","v":0},{"$f":"'Horizontal Labels'!F$67","v":0},{"$f":"'Horizontal Labels'!G$67","v":0},{"$f":"'Horizontal Labels'!H$67","v":0},{"$f":"'Horizontal Labels'!I$67","v":0},{"$f":"'Horizontal Labels'!J$67","v":0},{"$f":"'Horizontal Labels'!K$67","v":0},{"$f":"'Horizontal Labels'!L$67","v":0},{"$f":"'Horizontal Labels'!M$67","v":0},{"$f":"'Horizontal Labels'!N$67","v":0},{"$f":"'Horizontal Labels'!O$67","v":0},{"$f":"'Horizontal Labels'!P$67","v":0},{"$f":"'Horizontal Labels'!Q$67","v":0},{"$f":"'Horizontal Labels'!R$67","v":0},{"$f":"'Horizontal Labels'!S$67","v":0},{"$f":"'Horizontal Labels'!T$67","v":0},{"$f":"'Horizontal Labels'!U$67","v":0},{"$f":"'Horizontal Labels'!V$67","v":0},{"$f":"'Horizontal Labels'!W$67","v":0},{"$f":"'Horizontal Labels'!X$67","v":0},{"$f":"'Horizontal Labels'!Y$67","v":0},{"$f":"'Horizontal Labels'!Z$67","v":0},{"$f":"'Horizontal Labels'!AA$67","v":0},{"$f":"'Horizontal Labels'!AB$67","v":0},{"$f":"'Horizontal Labels'!AC$67","v":0},{"$f":"'Horizontal Labels'!AD$67","v":0},{"$f":"'Horizontal Labels'!AE$67","v":0},{"$f":"'Horizontal Labels'!AF$67","v":0},{"$f":"'Horizontal Labels'!AG$67","v":0},{"$f":"'Horizontal Labels'!AH$67","v":0},{"$f":"'Horizontal Labels'!AI$67","v":0},{"$f":"'Horizontal Labels'!AJ$67","v":0},{"$f":"'Horizontal Labels'!AK$67","v":0},{"$f":"'Horizontal Labels'!AL$67","v":0},{"$f":"'Horizontal Labels'!AM$67","v":0},{"$f":"'Horizontal Labels'!AN$67","v":0},{"$f":"'Horizontal Labels'!AO$67","v":0},{"$f":"'Horizontal Labels'!AP$67","v":0},{"$f":"'Horizontal Labels'!AQ$67","v":0},{"$f":"'Horizontal Labels'!AR$67","v":0},{"$f":"'Horizontal Labels'!AS$67","v":0},{"$f":"'Horizontal Labels'!AT$67","v":0},{"$f":"'Horizontal Labels'!AU$67","v":0},{"$f":"'Horizontal Labels'!AV$67","v":0},{"$f":"'Horizontal Labels'!AW$67","v":0},{"$f":"'Horizontal Labels'!AX$67","v":0},{"$f":"'Horizontal Labels'!AY$67","v":0},{"$f":"'Horizontal Labels'!AZ$67","v":0},{"$f":"'Horizontal Labels'!BA$67","v":0},{"$f":"'Horizontal Labels'!BB$67","v":0}]
[null,null,"FIXED",{"$f":"D54","v":0},{"$f":"IF(OR(SUM($D$54:E54)=D53,D53=0),0,SUM($D$54:E54))","v":0},{"$f":"IF(OR(SUM($D$54:F54)=E53,E53=0),0,SUM($D$54:F54))","v":0},{"$f":"IF(OR(SUM($D$54:G54)=F53,F53=0),0,SUM($D$54:G54))","v":0},{"$f":"IF(OR(SUM($D$54:H54)=G53,G53=0),0,SUM($D$54:H54))","v":0},{"$f":"IF(OR(SUM($D$54:I54)=H53,H53=0),0,SUM($D$54:I54))","v":0},{"$f":"IF(OR(SUM($D$54:J54)=I53,I53=0),0,SUM($D$54:J54))","v":0},{"$f":"IF(OR(SUM($D$54:K54)=J53,J53=0),0,SUM($D$54:K54))","v":0},{"$f":"IF(OR(SUM($D$54:L54)=K53,K53=0),0,SUM($D$54:L54))","v":0},{"$f":"IF(OR(SUM($D$54:M54)=L53,L53=0),0,SUM($D$54:M54))","v":0},{"$f":"IF(OR(SUM($D$54:N54)=M53,M53=0),0,SUM($D$54:N54))","v":0},{"$f":"IF(OR(SUM($D$54:O54)=N53,N53=0),0,SUM($D$54:O54))","v":0},{"$f":"IF(OR(SUM($D$54:P54)=O53,O53=0),0,SUM($D$54:P54))","v":0},{"$f":"IF(OR(SUM($D$54:Q54)=P53,P53=0),0,SUM($D$54:Q54))","v":0},{"$f":"IF(OR(SUM($D$54:R54)=Q53,Q53=0),0,SUM($D$54:R54))","v":0},{"$f":"IF(OR(SUM($D$54:S54)=R53,R53=0),0,SUM($D$54:S54))","v":0},{"$f":"IF(OR(SUM($D$54:T54)=S53,S53=0),0,SUM($D$54:T54))","v":0},{"$f":"IF(OR(SUM($D$54:U54)=T53,T53=0),0,SUM($D$54:U54))","v":0},{"$f":"IF(OR(SUM($D$54:V54)=U53,U53=0),0,SUM($D$54:V54))","v":0},{"$f":"IF(OR(SUM($D$54:W54)=V53,V53=0),0,SUM($D$54:W54))","v":0},{"$f":"IF(OR(SUM($D$54:X54)=W53,W53=0),0,SUM($D$54:X54))","v":0},{"$f":"IF(OR(SUM($D$54:Y54)=X53,X53=0),0,SUM($D$54:Y54))","v":0},{"$f":"IF(OR(SUM($D$54:Z54)=Y53,Y53=0),0,SUM($D$54:Z54))","v":0},{"$f":"IF(OR(SUM($D$54:AA54)=Z53,Z53=0),0,SUM($D$54:AA54))","v":0},{"$f":"IF(OR(SUM($D$54:AB54)=AA53,AA53=0),0,SUM($D$54:AB54))","v":0},{"$f":"IF(OR(SUM($D$54:AC54)=AB53,AB53=0),0,SUM($D$54:AC54))","v":0},{"$f":"IF(OR(SUM($D$54:AD54)=AC53,AC53=0),0,SUM($D$54:AD54))","v":0},{"$f":"IF(OR(SUM($D$54:AE54)=AD53,AD53=0),0,SUM($D$54:AE54))","v":0},{"$f":"IF(OR(SUM($D$54:AF54)=AE53,AE53=0),0,SUM($D$54:AF54))","v":0},{"$f":"IF(OR(SUM($D$54:AG54)=AF53,AF53=0),0,SUM($D$54:AG54))","v":0},{"$f":"IF(OR(SUM($D$54:AH54)=AG53,AG53=0),0,SUM($D$54:AH54))","v":0},{"$f":"IF(OR(SUM($D$54:AI54)=AH53,AH53=0),0,SUM($D$54:AI54))","v":0},{"$f":"IF(OR(SUM($D$54:AJ54)=AI53,AI53=0),0,SUM($D$54:AJ54))","v":0},{"$f":"IF(OR(SUM($D$54:AK54)=AJ53,AJ53=0),0,SUM($D$54:AK54))","v":0},{"$f":"IF(OR(SUM($D$54:AL54)=AK53,AK53=0),0,SUM($D$54:AL54))","v":0},{"$f":"IF(OR(SUM($D$54:AM54)=AL53,AL53=0),0,SUM($D$54:AM54))","v":0},{"$f":"IF(OR(SUM($D$54:AN54)=AM53,AM53=0),0,SUM($D$54:AN54))","v":0},{"$f":"IF(OR(SUM($D$54:AO54)=AN53,AN53=0),0,SUM($D$54:AO54))","v":0},{"$f":"IF(OR(SUM($D$54:AP54)=AO53,AO53=0),0,SUM($D$54:AP54))","v":0},{"$f":"IF(OR(SUM($D$54:AQ54)=AP53,AP53=0),0,SUM($D$54:AQ54))","v":0},{"$f":"IF(OR(SUM($D$54:AR54)=AQ53,AQ53=0),0,SUM($D$54:AR54))","v":0},{"$f":"IF(OR(SUM($D$54:AS54)=AR53,AR53=0),0,SUM($D$54:AS54))","v":0},{"$f":"IF(OR(SUM($D$54:AT54)=AS53,AS53=0),0,SUM($D$54:AT54))","v":0},{"$f":"IF(OR(SUM($D$54:AU54)=AT53,AT53=0),0,SUM($D$54:AU54))","v":0},{"$f":"IF(OR(SUM($D$54:AV54)=AU53,AU53=0),0,SUM($D$54:AV54))","v":0},{"$f":"IF(OR(SUM($D$54:AW54)=AV53,AV53=0),0,SUM($D$54:AW54))","v":0},{"$f":"IF(OR(SUM($D$54:AX54)=AW53,AW53=0),0,SUM($D$54:AX54))","v":0},{"$f":"IF(OR(SUM($D$54:AY54)=AX53,AX53=0),0,SUM($D$54:AY54))","v":0},{"$f":"IF(OR(SUM($D$54:AZ54)=AY53,AY53=0),0,SUM($D$54:AZ54))","v":0},{"$f":"IF(OR(SUM($D$54:BA54)=AZ53,AZ53=0),0,SUM($D$54:BA54))","v":0}]
[null,null,"RELATIVE",{"$f":"D52/2","v":0},{"$f":"(D52/2)+(E52/2)","v":0},{"$f":"(E52/2)+(F52/2)","v":0},0,0,0,0,0,0,0,0,0,0,0,0,0,0,0,0,0,0,0,0,0,0,0,0,0,0,0,0,0,0,0,0,0,0,0,0,0,0,0,0,0,0,0,0,0,0,0]
[]
[{"$nulls":3},1,2,3,4,5,6,7,8,9,10,11,12,13,14,15,16,17,18,19,20,21,22,23,24,25,26,27,28,29,30,31,32,33,34,35,36,37,38,39,40,41,42,43,44,45,46,47,48,49,50]
[null,"LABEL 7","RELATIVE",{"$f":"'Horizontal Labels'!E$78","v":0},{"$f":"'Horizontal Labels'!F$78","v":0},{"$f":"'Horizontal Labels'!G$78","v":0},{"$f":"'Horizontal Labels'!H$78","v":0},{"$f":"'Horizontal Labels'!I$78","v":0},{"$f":"'Horizontal Labels'!J$78","v":0},{"$f":"'Horizontal Labels'!K$78","v":0},{"$f":"'Horizontal Labels'!L$78","v":0},{"$f":"'Horizontal Labels'!M$78","v":0},{"$f":"'Horizontal Labels'!N$78","v":0},{"$f":"'Horizontal Labels'!O$78","v":0},{"$f":"'Horizontal Labels'!P$78","v":0},{"$f":"'Horizontal Labels'!Q$78","v":0},{"$f":"'Horizontal Labels'!R$78","v":0},{"$f":"'Horizontal Labels'!S$78","v":0},{"$f":"'Horizontal Labels'!T$78","v":0},{"$f":"'Horizontal Labels'!U$78","v":0},{"$f":"'Horizontal Labels'!V$78","v":0},{"$f":"'Horizontal Labels'!W$78","v":0},{"$f":"'Horizontal Labels'!X$78","v":0},{"$f":"'Horizontal Labels'!Y$78","v":0},{"$f":"'Horizontal Labels'!Z$78","v":0},{"$f":"'Horizontal Labels'!AA$78","v":0},{"$f":"'Horizontal Labels'!AB$78","v":0},{"$f":"'Horizontal Labels'!AC$78","v":0},{"$f":"'Horizontal Labels'!AD$78","v":0},{"$f":"'Horizontal Labels'!AE$78","v":0},{"$f":"'Horizontal Labels'!AF$78","v":0},{"$f":"'Horizontal Labels'!AG$78","v":0},{"$f":"'Horizontal Labels'!AH$78","v":0},{"$f":"'Horizontal Labels'!AI$78","v":0},{"$f":"'Horizontal Labels'!AJ$78","v":0},{"$f":"'Horizontal Labels'!AK$78","v":0},{"$f":"'Horizontal Labels'!AL$78","v":0},{"$f":"'Horizontal Labels'!AM$78","v":0},{"$f":"'Horizontal Labels'!AN$78","v":0},{"$f":"'Horizontal Labels'!AO$78","v":0},{"$f":"'Horizontal Labels'!AP$78","v":0},{"$f":"'Horizontal Labels'!AQ$78","v":0},{"$f":"'Horizontal Labels'!AR$78","v":0},{"$f":"'Horizontal Labels'!AS$78","v":0},{"$f":"'Horizontal Labels'!AT$78","v":0},{"$f":"'Horizontal Labels'!AU$78","v":0},{"$f":"'Horizontal Labels'!AV$78","v":0},{"$f":"'Horizontal Labels'!AW$78","v":0},{"$f":"'Horizontal Labels'!AX$78","v":0},{"$f":"'Horizontal Labels'!AY$78","v":0},{"$f":"'Horizontal Labels'!AZ$78","v":0},{"$f":"'Horizontal Labels'!BA$78","v":0},{"$f":"'Horizontal Labels'!BB$78","v":0}]
[null,null,"FIXED",{"$f":"SUM($D$57:D57)","v":0},{"$f":"IF(OR(SUM($D$57:E57)=D58,D58=0),0,SUM($D$57:E57))","v":0},{"$f":"IF(OR(SUM($D$57:F57)=E58,E58=0),0,SUM($D$57:F57))","v":0},{"$f":"IF(OR(SUM($D$57:G57)=F58,F58=0),0,SUM($D$57:G57))","v":0},{"$f":"IF(OR(SUM($D$57:H57)=G58,G58=0),0,SUM($D$57:H57))","v":0},{"$f":"IF(OR(SUM($D$57:I57)=H58,H58=0),0,SUM($D$57:I57))","v":0},{"$f":"IF(OR(SUM($D$57:J57)=I58,I58=0),0,SUM($D$57:J57))","v":0},{"$f":"IF(OR(SUM($D$57:K57)=J58,J58=0),0,SUM($D$57:K57))","v":0},{"$f":"IF(OR(SUM($D$57:L57)=K58,K58=0),0,SUM($D$57:L57))","v":0},{"$f":"IF(OR(SUM($D$57:M57)=L58,L58=0),0,SUM($D$57:M57))","v":0},{"$f":"IF(OR(SUM($D$57:N57)=M58,M58=0),0,SUM($D$57:N57))","v":0},{"$f":"IF(OR(SUM($D$57:O57)=N58,N58=0),0,SUM($D$57:O57))","v":0},{"$f":"IF(OR(SUM($D$57:P57)=O58,O58=0),0,SUM($D$57:P57))","v":0},{"$f":"IF(OR(SUM($D$57:Q57)=P58,P58=0),0,SUM($D$57:Q57))","v":0},{"$f":"IF(OR(SUM($D$57:R57)=Q58,Q58=0),0,SUM($D$57:R57))","v":0},{"$f":"IF(OR(SUM($D$57:S57)=R58,R58=0),0,SUM($D$57:S57))","v":0},{"$f":"IF(OR(SUM($D$57:T57)=S58,S58=0),0,SUM($D$57:T57))","v":0},{"$f":"IF(OR(SUM($D$57:U57)=T58,T58=0),0,SUM($D$57:U57))","v":0},{"$f":"IF(OR(SUM($D$57:V57)=U58,U58=0),0,SUM($D$57:V57))","v":0},{"$f":"IF(OR(SUM($D$57:W57)=V58,V58=0),0,SUM($D$57:W57))","v":0},{"$f":"IF(OR(SUM($D$57:X57)=W58,W58=0),0,SUM($D$57:X57))","v":0},{"$f":"IF(OR(SUM($D$57:Y57)=X58,X58=0),0,SUM($D$57:Y57))","v":0},{"$f":"IF(OR(SUM($D$57:Z57)=Y58,Y58=0),0,SUM($D$57:Z57))","v":0},{"$f":"IF(OR(SUM($D$57:AA57)=Z58,Z58=0),0,SUM($D$57:AA57))","v":0},{"$f":"IF(OR(SUM($D$57:AB57)=AA58,AA58=0),0,SUM($D$57:AB57))","v":0},{"$f":"IF(OR(SUM($D$57:AC57)=AB58,AB58=0),0,SUM($D$57:AC57))","v":0},{"$f":"IF(OR(SUM($D$57:AD57)=AC58,AC58=0),0,SUM($D$57:AD57))","v":0},{"$f":"IF(OR(SUM($D$57:AE57)=AD58,AD58=0),0,SUM($D$57:AE57))","v":0},{"$f":"IF(OR(SUM($D$57:AF57)=AE58,AE58=0),0,SUM($D$57:AF57))","v":0},{"$f":"IF(OR(SUM($D$57:AG57)=AF58,AF58=0),0,SUM($D$57:AG57))","v":0},{"$f":"IF(OR(SUM($D$57:AH57)=AG58,AG58=0),0,SUM($D$57:AH57))","v":0},{"$f":"IF(OR(SUM($D$57:AI57)=AH58,AH58=0),0,SUM($D$57:AI57))","v":0},{"$f":"IF(OR(SUM($D$57:AJ57)=AI58,AI58=0),0,SUM($D$57:AJ57))","v":0},{"$f":"IF(OR(SUM($D$57:AK57)=AJ58,AJ58=0),0,SUM($D$57:AK57))","v":0},{"$f":"IF(OR(SUM($D$57:AL57)=AK58,AK58=0),0,SUM($D$57:AL57))","v":0},{"$f":"IF(OR(SUM($D$57:AM57)=AL58,AL58=0),0,SUM($D$57:AM57))","v":0},{"$f":"IF(OR(SUM($D$57:AN57)=AM58,AM58=0),0,SUM($D$57:AN57))","v":0},{"$f":"IF(OR(SUM($D$57:AO57)=AN58,AN58=0),0,SUM($D$57:AO57))","v":0},{"$f":"IF(OR(SUM($D$57:AP57)=AO58,AO58=0),0,SUM($D$57:AP57))","v":0},{"$f":"IF(OR(SUM($D$57:AQ57)=AP58,AP58=0),0,SUM($D$57:AQ57))","v":0},{"$f":"IF(OR(SUM($D$57:AR57)=AQ58,AQ58=0),0,SUM($D$57:AR57))","v":0},{"$f":"IF(OR(SUM($D$57:AS57)=AR58,AR58=0),0,SUM($D$57:AS57))","v":0},{"$f":"IF(OR(SUM($D$57:AT57)=AS58,AS58=0),0,SUM($D$57:AT57))","v":0},{"$f":"IF(OR(SUM($D$57:AU57)=AT58,AT58=0),0,SUM($D$57:AU57))","v":0},{"$f":"IF(OR(SUM($D$57:AV57)=AU58,AU58=0),0,SUM($D$57:AV57))","v":0},{"$f":"IF(OR(SUM($D$57:AW57)=AV58,AV58=0),0,SUM($D$57:AW57))","v":0},{"$f":"IF(OR(SUM($D$57:AX57)=AW58,AW58=0),0,SUM($D$57:AX57))","v":0},{"$f":"IF(OR(SUM($D$57:AY57)=AX58,AX58=0),0,SUM($D$57:AY57))","v":0},{"$f":"IF(OR(SUM($D$57:AZ57)=AY58,AY58=0),0,SUM($D$57:AZ57))","v":0},{"$f":"IF(OR(SUM($D$57:BA57)=AZ58,AZ58=0),0,SUM($D$57:BA57))","v":0}]
[null,null,"FIXED",{"$f":"'Horizontal Labels'!E$78","v":0},{"$f":"'Horizontal Labels'!F$78","v":0},{"$f":"'Horizontal Labels'!G$78","v":0},{"$f":"'Horizontal Labels'!H$78","v":0},{"$f":"'Horizontal Labels'!I$78","v":0},{"$f":"'Horizontal Labels'!J$78","v":0},{"$f":"'Horizontal Labels'!K$78","v":0},{"$f":"'Horizontal Labels'!L$78","v":0},{"$f":"'Horizontal Labels'!M$78","v":0},{"$f":"'Horizontal Labels'!N$78","v":0},{"$f":"'Horizontal Labels'!O$78","v":0},{"$f":"'Horizontal Labels'!P$78","v":0},{"$f":"'Horizontal Labels'!Q$78","v":0},{"$f":"'Horizontal Labels'!R$78","v":0},{"$f":"'Horizontal Labels'!S$78","v":0},{"$f":"'Horizontal Labels'!T$78","v":0},{"$f":"'Horizontal Labels'!U$78","v":0},{"$f":"'Horizontal Labels'!V$78","v":0},{"$f":"'Horizontal Labels'!W$78","v":0},{"$f":"'Horizontal Labels'!X$78","v":0},{"$f":"'Horizontal Labels'!Y$78","v":0},{"$f":"'Horizontal Labels'!Z$78","v":0},{"$f":"'Horizontal Labels'!AA$78","v":0},{"$f":"'Horizontal Labels'!AB$78","v":0},{"$f":"'Horizontal Labels'!AC$78","v":0},{"$f":"'Horizontal Labels'!AD$78","v":0},{"$f":"'Horizontal Labels'!AE$78","v":0},{"$f":"'Horizontal Labels'!AF$78","v":0},{"$f":"'Horizontal Labels'!AG$78","v":0},{"$f":"'Horizontal Labels'!AH$78","v":0},{"$f":"'Horizontal Labels'!AI$78","v":0},{"$f":"'Horizontal Labels'!AJ$78","v":0},{"$f":"'Horizontal Labels'!AK$78","v":0},{"$f":"'Horizontal Labels'!AL$78","v":0},{"$f":"'Horizontal Labels'!AM$78","v":0},{"$f":"'Horizontal Labels'!AN$78","v":0},{"$f":"'Horizontal Labels'!AO$78","v":0},{"$f":"'Horizontal Labels'!AP$78","v":0},{"$f":"'Horizontal Labels'!AQ$78","v":0},{"$f":"'Horizontal Labels'!AR$78","v":0},{"$f":"'Horizontal Labels'!AS$78","v":0},{"$f":"'Horizontal Labels'!AT$78","v":0},{"$f":"'Horizontal Labels'!AU$78","v":0},{"$f":"'Horizontal Labels'!AV$78","v":0},{"$f":"'Horizontal Labels'!AW$78","v":0},{"$f":"'Horizontal Labels'!AX$78","v":0},{"$f":"'Horizontal Labels'!AY$78","v":0},{"$f":"'Horizontal Labels'!AZ$78","v":0},{"$f":"'Horizontal Labels'!BA$78","v":0},{"$f":"'Horizontal Labels'!BB$78","v":0}]
[null,null,"RELATIVE",{"$f":"D59","v":0},{"$f":"IF(E59-D59<1,0,E59-D59)","v":0},{"$f":"IF(F59-E59<1,0,F59-E59)","v":0},0,0,0,0,0,0,0,0,0,0,0,0,0,0,0,0,0,0,0,0,0,0,0,0,0,0,0,0,0,0,0,0,0,0,0,0,0,0,0,0,0,0,0,0,0,0,0]
[null,null,"BLOCKS",{"$f":"'Horizontal Labels'!E$78","v":0},{"$f":"'Horizontal Labels'!F$78","v":0},{"$f":"'Horizontal Labels'!G$78","v":0},{"$f":"'Horizontal Labels'!H$78","v":0},{"$f":"'Horizontal Labels'!I$78","v":0},{"$f":"'Horizontal Labels'!J$78","v":0},{"$f":"'Horizontal Labels'!K$78","v":0},{"$f":"'Horizontal Labels'!L$78","v":0},{"$f":"'Horizontal Labels'!M$78","v":0},{"$f":"'Horizontal Labels'!N$78","v":0},{"$f":"'Horizontal Labels'!O$78","v":0},{"$f":"'Horizontal Labels'!P$78","v":0},{"$f":"'Horizontal Labels'!Q$78","v":0},{"$f":"'Horizontal Labels'!R$78","v":0},{"$f":"'Horizontal Labels'!S$78","v":0},{"$f":"'Horizontal Labels'!T$78","v":0},{"$f":"'Horizontal Labels'!U$78","v":0},{"$f":"'Horizontal Labels'!V$78","v":0},{"$f":"'Horizontal Labels'!W$78","v":0},{"$f":"'Horizontal Labels'!X$78","v":0},{"$f":"'Horizontal Labels'!Y$78","v":0},{"$f":"'Horizontal Labels'!Z$78","v":0},{"$f":"'Horizontal Labels'!AA$78","v":0},{"$f":"'Horizontal Labels'!AB$78","v":0},{"$f":"'Horizontal Labels'!AC$78","v":0},{"$f":"'Horizontal Labels'!AD$78","v":0},{"$f":"'Horizontal Labels'!AE$78","v":0},{"$f":"'Horizontal Labels'!AF$78","v":0},{"$f":"'Horizontal Labels'!AG$78","v":0},{"$f":"'Horizontal Labels'!AH$78","v":0},{"$f":"'Horizontal Labels'!AI$78","v":0},{"$f":"'Horizontal Labels'!AJ$78","v":0},{"$f":"'Horizontal Labels'!AK$78","v":0},{"$f":"'Horizontal Labels'!AL$78","v":0},{"$f":"'Horizontal Labels'!AM$78","v":0},{"$f":"'Horizontal Labels'!AN$78","v":0},{"$f":"'Horizontal Labels'!AO$78","v":0},{"$f":"'Horizontal Labels'!AP$78","v":0},{"$f":"'Horizontal Labels'!AQ$78","v":0},{"$f":"'Horizontal Labels'!AR$78","v":0},{"$f":"'Horizontal Labels'!AS$78","v":0},{"$f":"'Horizontal Labels'!AT$78","v":0},{"$f":"'Horizontal Labels'!AU$78","v":0},{"$f":"'Horizontal Labels'!AV$78","v":0},{"$f":"'Horizontal Labels'!AW$78","v":0},{"$f":"'Horizontal Labels'!AX$78","v":0},{"$f":"'Horizontal Labels'!AY$78","v":0},{"$f":"'Horizontal Labels'!AZ$78","v":0},{"$f":"'Horizontal Labels'!BA$78","v":0},{"$f":"'Horizontal Labels'!BB$78","v":0}]
[null,null,"FIXED",{"$f":"D63","v":0},{"$f":"IF(OR(SUM($D$63:E63)=D62,D62=0),0,SUM($D$63:E63))","v":0},{"$f":"IF(OR(SUM($D$63:F63)=E62,E62=0),0,SUM($D$63:F63))","v":0},{"$f":"IF(OR(SUM($D$63:G63)=F62,F62=0),0,SUM($D$63:G63))","v":0},{"$f":"IF(OR(SUM($D$63:H63)=G62,G62=0),0,SUM($D$63:H63))","v":0},{"$f":"IF(OR(SUM($D$63:I63)=H62,H62=0),0,SUM($D$63:I63))","v":0},{"$f":"IF(OR(SUM($D$63:J63)=I62,I62=0),0,SUM($D$63:J63))","v":0},{"$f":"IF(OR(SUM($D$63:K63)=J62,J62=0),0,SUM($D$63:K63))","v":0},{"$f":"IF(OR(SUM($D$63:L63)=K62,K62=0),0,SUM($D$63:L63))","v":0},{"$f":"IF(OR(SUM($D$63:M63)=L62,L62=0),0,SUM($D$63:M63))","v":0},{"$f":"IF(OR(SUM($D$63:N63)=M62,M62=0),0,SUM($D$63:N63))","v":0},{"$f":"IF(OR(SUM($D$63:O63)=N62,N62=0),0,SUM($D$63:O63))","v":0},{"$f":"IF(OR(SUM($D$63:P63)=O62,O62=0),0,SUM($D$63:P63))","v":0},{"$f":"IF(OR(SUM($D$63:Q63)=P62,P62=0),0,SUM($D$63:Q63))","v":0},{"$f":"IF(OR(SUM($D$63:R63)=Q62,Q62=0),0,SUM($D$63:R63))","v":0},{"$f":"IF(OR(SUM($D$63:S63)=R62,R62=0),0,SUM($D$63:S63))","v":0},{"$f":"IF(OR(SUM($D$63:T63)=S62,S62=0),0,SUM($D$63:T63))","v":0},{"$f":"IF(OR(SUM($D$63:U63)=T62,T62=0),0,SUM($D$63:U63))","v":0},{"$f":"IF(OR(SUM($D$63:V63)=U62,U62=0),0,SUM($D$63:V63))","v":0},{"$f":"IF(OR(SUM($D$63:W63)=V62,V62=0),0,SUM($D$63:W63))","v":0},{"$f":"IF(OR(SUM($D$63:X63)=W62,W62=0),0,SUM($D$63:X63))","v":0},{"$f":"IF(OR(SUM($D$63:Y63)=X62,X62=0),0,SUM($D$63:Y63))","v":0},{"$f":"IF(OR(SUM($D$63:Z63)=Y62,Y62=0),0,SUM($D$63:Z63))","v":0},{"$f":"IF(OR(SUM($D$63:AA63)=Z62,Z62=0),0,SUM($D$63:AA63))","v":0},{"$f":"IF(OR(SUM($D$63:AB63)=AA62,AA62=0),0,SUM($D$63:AB63))","v":0},{"$f":"IF(OR(SUM($D$63:AC63)=AB62,AB62=0),0,SUM($D$63:AC63))","v":0},{"$f":"IF(OR(SUM($D$63:AD63)=AC62,AC62=0),0,SUM($D$63:AD63))","v":0},{"$f":"IF(OR(SUM($D$63:AE63)=AD62,AD62=0),0,SUM($D$63:AE63))","v":0},{"$f":"IF(OR(SUM($D$63:AF63)=AE62,AE62=0),0,SUM($D$63:AF63))","v":0},{"$f":"IF(OR(SUM($D$63:AG63)=AF62,AF62=0),0,SUM($D$63:AG63))","v":0},{"$f":"IF(OR(SUM($D$63:AH63)=AG62,AG62=0),0,SUM($D$63:AH63))","v":0},{"$f":"IF(OR(SUM($D$63:AI63)=AH62,AH62=0),0,SUM($D$63:AI63))","v":0},{"$f":"IF(OR(SUM($D$63:AJ63)=AI62,AI62=0),0,SUM($D$63:AJ63))","v":0},{"$f":"IF(OR(SUM($D$63:AK63)=AJ62,AJ62=0),0,SUM($D$63:AK63))","v":0},{"$f":"IF(OR(SUM($D$63:AL63)=AK62,AK62=0),0,SUM($D$63:AL63))","v":0},{"$f":"IF(OR(SUM($D$63:AM63)=AL62,AL62=0),0,SUM($D$63:AM63))","v":0},{"$f":"IF(OR(SUM($D$63:AN63)=AM62,AM62=0),0,SUM($D$63:AN63))","v":0},{"$f":"IF(OR(SUM($D$63:AO63)=AN62,AN62=0),0,SUM($D$63:AO63))","v":0},{"$f":"IF(OR(SUM($D$63:AP63)=AO62,AO62=0),0,SUM($D$63:AP63))","v":0},{"$f":"IF(OR(SUM($D$63:AQ63)=AP62,AP62=0),0,SUM($D$63:AQ63))","v":0},{"$f":"IF(OR(SUM($D$63:AR63)=AQ62,AQ62=0),0,SUM($D$63:AR63))","v":0},{"$f":"IF(OR(SUM($D$63:AS63)=AR62,AR62=0),0,SUM($D$63:AS63))","v":0},{"$f":"IF(OR(SUM($D$63:AT63)=AS62,AS62=0),0,SUM($D$63:AT63))","v":0},{"$f":"IF(OR(SUM($D$63:AU63)=AT62,AT62=0),0,SUM($D$63:AU63))","v":0},{"$f":"IF(OR(SUM($D$63:AV63)=AU62,AU62=0),0,SUM($D$63:AV63))","v":0},{"$f":"IF(OR(SUM($D$63:AW63)=AV62,AV62=0),0,SUM($D$63:AW63))","v":0},{"$f":"IF(OR(SUM($D$63:AX63)=AW62,AW62=0),0,SUM($D$63:AX63))","v":0},{"$f":"IF(OR(SUM($D$63:AY63)=AX62,AX62=0),0,SUM($D$63:AY63))","v":0},{"$f":"IF(OR(SUM($D$63:AZ63)=AY62,AY62=0),0,SUM($D$63:AZ63))","v":0},{"$f":"IF(OR(SUM($D$63:BA63)=AZ62,AZ62=0),0,SUM($D$63:BA63))","v":0}]
[null,null,"RELATIVE",{"$f":"D61/2","v":0},{"$f":"(D61/2)+(E61/2)","v":0},{"$f":"(E61/2)+(F61/2)","v":0},0,0,0,0,0,0,0,0,0,0,0,0,0,0,0,0,0,0,0,0,0,0,0,0,0,0,0,0,0,0,0,0,0,0,0,0,0,0,0,0,0,0,0,0,0,0,0]
[]
[{"$nulls":3},1,2,3,4,5,6,7,8,9,10,11,12,13,14,15,16,17,18,19,20,21,22,23,24,25,26,27,28,29,30,31,32,33,34,35,36,37,38,39,40,41,42,43,44,45,46,47,48,49,50]
[null,"LABEL 8","RELATIVE",{"$f":"'Horizontal Labels'!E$89","v":0},{"$f":"'Horizontal Labels'!F$89","v":0},{"$f":"'Horizontal Labels'!G$89","v":0},{"$f":"'Horizontal Labels'!H$89","v":0},{"$f":"'Horizontal Labels'!I$89","v":0},{"$f":"'Horizontal Labels'!J$89","v":0},{"$f":"'Horizontal Labels'!K$89","v":0},{"$f":"'Horizontal Labels'!L$89","v":0},{"$f":"'Horizontal Labels'!M$89","v":0},{"$f":"'Horizontal Labels'!N$89","v":0},{"$f":"'Horizontal Labels'!O$89","v":0},{"$f":"'Horizontal Labels'!P$89","v":0},{"$f":"'Horizontal Labels'!Q$89","v":0},{"$f":"'Horizontal Labels'!R$89","v":0},{"$f":"'Horizontal Labels'!S$89","v":0},{"$f":"'Horizontal Labels'!T$89","v":0},{"$f":"'Horizontal Labels'!U$89","v":0},{"$f":"'Horizontal Labels'!V$89","v":0},{"$f":"'Horizontal Labels'!W$89","v":0},{"$f":"'Horizontal Labels'!X$89","v":0},{"$f":"'Horizontal Labels'!Y$89","v":0},{"$f":"'Horizontal Labels'!Z$89","v":0},{"$f":"'Horizontal Labels'!AA$89","v":0},{"$f":"'Horizontal Labels'!AB$89","v":0},{"$f":"'Horizontal Labels'!AC$89","v":0},{"$f":"'Horizontal Labels'!AD$89","v":0},{"$f":"'Horizontal Labels'!AE$89","v":0},{"$f":"'Horizontal Labels'!AF$89","v":0},{"$f":"'Horizontal Labels'!AG$89","v":0},{"$f":"'Horizontal Labels'!AH$89","v":0},{"$f":"'Horizontal Labels'!AI$89","v":0},{"$f":"'Horizontal Labels'!AJ$89","v":0},{"$f":"'Horizontal Labels'!AK$89","v":0},{"$f":"'Horizontal Labels'!AL$89","v":0},{"$f":"'Horizontal Labels'!AM$89","v":0},{"$f":"'Horizontal Labels'!AN$89","v":0},{"$f":"'Horizontal Labels'!AO$89","v":0},{"$f":"'Horizontal Labels'!AP$89","v":0},{"$f":"'Horizontal Labels'!AQ$89","v":0},{"$f":"'Horizontal Labels'!AR$89","v":0},{"$f":"'Horizontal Labels'!AS$89","v":0},{"$f":"'Horizontal Labels'!AT$89","v":0},{"$f":"'Horizontal Labels'!AU$89","v":0},{"$f":"'Horizontal Labels'!AV$89","v":0},{"$f":"'Horizontal Labels'!AW$89","v":0},{"$f":"'Horizontal Labels'!AX$89","v":0},{"$f":"'Horizontal Labels'!AY$89","v":0},{"$f":"'Horizontal Labels'!AZ$89","v":0},{"$f":"'Horizontal Labels'!BA$89","v":0},{"$f":"'Horizontal Labels'!BB$89","v":0}]
[null,null,"FIXED",{"$f":"SUM($D$66:D66)","v":0},{"$f":"IF(OR(SUM($D$66:E66)=D67,D67=0),0,SUM($D$66:E66))","v":0},{"$f":"IF(OR(SUM($D$66:F66)=E67,E67=0),0,SUM($D$66:F66))","v":0},{"$f":"IF(OR(SUM($D$66:G66)=F67,F67=0),0,SUM($D$66:G66))","v":0},{"$f":"IF(OR(SUM($D$66:H66)=G67,G67=0),0,SUM($D$66:H66))","v":0},{"$f":"IF(OR(SUM($D$66:I66)=H67,H67=0),0,SUM($D$66:I66))","v":0},{"$f":"IF(OR(SUM($D$66:J66)=I67,I67=0),0,SUM($D$66:J66))","v":0},{"$f":"IF(OR(SUM($D$66:K66)=J67,J67=0),0,SUM($D$66:K66))","v":0},{"$f":"IF(OR(SUM($D$66:L66)=K67,K67=0),0,SUM($D$66:L66))","v":0},{"$f":"IF(OR(SUM($D$66:M66)=L67,L67=0),0,SUM($D$66:M66))","v":0},{"$f":"IF(OR(SUM($D$66:N66)=M67,M67=0),0,SUM($D$66:N66))","v":0},{"$f":"IF(OR(SUM($D$66:O66)=N67,N67=0),0,SUM($D$66:O66))","v":0},{"$f":"IF(OR(SUM($D$66:P66)=O67,O67=0),0,SUM($D$66:P66))","v":0},{"$f":"IF(OR(SUM($D$66:Q66)=P67,P67=0),0,SUM($D$66:Q66))","v":0},{"$f":"IF(OR(SUM($D$66:R66)=Q67,Q67=0),0,SUM($D$66:R66))","v":0},{"$f":"IF(OR(SUM($D$66:S66)=R67,R67=0),0,SUM($D$66:S66))","v":0},{"$f":"IF(OR(SUM($D$66:T66)=S67,S67=0),0,SUM($D$66:T66))","v":0},{"$f":"IF(OR(SUM($D$66:U66)=T67,T67=0),0,SUM($D$66:U66))","v":0},{"$f":"IF(OR(SUM($D$66:V66)=U67,U67=0),0,SUM($D$66:V66))","v":0},{"$f":"IF(OR(SUM($D$66:W66)=V67,V67=0),0,SUM($D$66:W66))","v":0},{"$f":"IF(OR(SUM($D$66:X66)=W67,W67=0),0,SUM($D$66:X66))","v":0},{"$f":"IF(OR(SUM($D$66:Y66)=X67,X67=0),0,SUM($D$66:Y66))","v":0},{"$f":"IF(OR(SUM($D$66:Z66)=Y67,Y67=0),0,SUM($D$66:Z66))","v":0},{"$f":"IF(OR(SUM($D$66:AA66)=Z67,Z67=0),0,SUM($D$66:AA66))","v":0},{"$f":"IF(OR(SUM($D$66:AB66)=AA67,AA67=0),0,SUM($D$66:AB66))","v":0},{"$f":"IF(OR(SUM($D$66:AC66)=AB67,AB67=0),0,SUM($D$66:AC66))","v":0},{"$f":"IF(OR(SUM($D$66:AD66)=AC67,AC67=0),0,SUM($D$66:AD66))","v":0},{"$f":"IF(OR(SUM($D$66:AE66)=AD67,AD67=0),0,SUM($D$66:AE66))","v":0},{"$f":"IF(OR(SUM($D$66:AF66)=AE67,AE67=0),0,SUM($D$66:AF66))","v":0},{"$f":"IF(OR(SUM($D$66:AG66)=AF67,AF67=0),0,SUM($D$66:AG66))","v":0},{"$f":"IF(OR(SUM($D$66:AH66)=AG67,AG67=0),0,SUM($D$66:AH66))","v":0},{"$f":"IF(OR(SUM($D$66:AI66)=AH67,AH67=0),0,SUM($D$66:AI66))","v":0},{"$f":"IF(OR(SUM($D$66:AJ66)=AI67,AI67=0),0,SUM($D$66:AJ66))","v":0},{"$f":"IF(OR(SUM($D$66:AK66)=AJ67,AJ67=0),0,SUM($D$66:AK66))","v":0},{"$f":"IF(OR(SUM($D$66:AL66)=AK67,AK67=0),0,SUM($D$66:AL66))","v":0},{"$f":"IF(OR(SUM($D$66:AM66)=AL67,AL67=0),0,SUM($D$66:AM66))","v":0},{"$f":"IF(OR(SUM($D$66:AN66)=AM67,AM67=0),0,SUM($D$66:AN66))","v":0},{"$f":"IF(OR(SUM($D$66:AO66)=AN67,AN67=0),0,SUM($D$66:AO66))","v":0},{"$f":"IF(OR(SUM($D$66:AP66)=AO67,AO67=0),0,SUM($D$66:AP66))","v":0},{"$f":"IF(OR(SUM($D$66:AQ66)=AP67,AP67=0),0,SUM($D$66:AQ66))","v":0},{"$f":"IF(OR(SUM($D$66:AR66)=AQ67,AQ67=0),0,SUM($D$66:AR66))","v":0},{"$f":"IF(OR(SUM($D$66:AS66)=AR67,AR67=0),0,SUM($D$66:AS66))","v":0},{"$f":"IF(OR(SUM($D$66:AT66)=AS67,AS67=0),0,SUM($D$66:AT66))","v":0},{"$f":"IF(OR(SUM($D$66:AU66)=AT67,AT67=0),0,SUM($D$66:AU66))","v":0},{"$f":"IF(OR(SUM($D$66:AV66)=AU67,AU67=0),0,SUM($D$66:AV66))","v":0},{"$f":"IF(OR(SUM($D$66:AW66)=AV67,AV67=0),0,SUM($D$66:AW66))","v":0},{"$f":"IF(OR(SUM($D$66:AX66)=AW67,AW67=0),0,SUM($D$66:AX66))","v":0},{"$f":"IF(OR(SUM($D$66:AY66)=AX67,AX67=0),0,SUM($D$66:AY66))","v":0},{"$f":"IF(OR(SUM($D$66:AZ66)=AY67,AY67=0),0,SUM($D$66:AZ66))","v":0},{"$f":"IF(OR(SUM($D$66:BA66)=AZ67,AZ67=0),0,SUM($D$66:BA66))","v":0}]
[null,null,"FIXED",{"$f":"'Horizontal Labels'!E$89","v":0},{"$f":"'Horizontal Labels'!F$89","v":0},{"$f":"'Horizontal Labels'!G$89","v":0},{"$f":"'Horizontal Labels'!H$89","v":0},{"$f":"'Horizontal Labels'!I$89","v":0},{"$f":"'Horizontal Labels'!J$89","v":0},{"$f":"'Horizontal Labels'!K$89","v":0},{"$f":"'Horizontal Labels'!L$89","v":0},{"$f":"'Horizontal Labels'!M$89","v":0},{"$f":"'Horizontal Labels'!N$89","v":0},{"$f":"'Horizontal Labels'!O$89","v":0},{"$f":"'Horizontal Labels'!P$89","v":0},{"$f":"'Horizontal Labels'!Q$89","v":0},{"$f":"'Horizontal Labels'!R$89","v":0},{"$f":"'Horizontal Labels'!S$89","v":0},{"$f":"'Horizontal Labels'!T$89","v":0},{"$f":"'Horizontal Labels'!U$89","v":0},{"$f":"'Horizontal Labels'!V$89","v":0},{"$f":"'Horizontal Labels'!W$89","v":0},{"$f":"'Horizontal Labels'!X$89","v":0},{"$f":"'Horizontal Labels'!Y$89","v":0},{"$f":"'Horizontal Labels'!Z$89","v":0},{"$f":"'Horizontal Labels'!AA$89","v":0},{"$f":"'Horizontal Labels'!AB$89","v":0},{"$f":"'Horizontal Labels'!AC$89","v":0},{"$f":"'Horizontal Labels'!AD$89","v":0},{"$f":"'Horizontal Labels'!AE$89","v":0},{"$f":"'Horizontal Labels'!AF$89","v":0},{"$f":"'Horizontal Labels'!AG$89","v":0},{"$f":"'Horizontal Labels'!AH$89","v":0},{"$f":"'Horizontal Labels'!AI$89","v":0},{"$f":"'Horizontal Labels'!AJ$89","v":0},{"$f":"'Horizontal Labels'!AK$89","v":0},{"$f":"'Horizontal Labels'!AL$89","v":0},{"$f":"'Horizontal Labels'!AM$89","v":0},{"$f":"'Horizontal Labels'!AN$89","v":0},{"$f":"'Horizontal Labels'!AO$89","v":0},{"$f":"'Horizontal Labels'!AP$89","v":0},{"$f":"'Horizontal Labels'!AQ$89","v":0},{"$f":"'Horizontal Labels'!AR$89","v":0},{"$f":"'Horizontal Labels'!AS$89","v":0},{"$f":"'Horizontal Labels'!AT$89","v":0},{"$f":"'Horizontal Labels'!AU$89","v":0},{"$f":"'Horizontal Labels'!AV$89","v":0},{"$f":"'Horizontal Labels'!AW$89","v":0},{"$f":"'Horizontal Labels'!AX$89","v":0},{"$f":"'Horizontal Labels'!AY$89","v":0},{"$f":"'Horizontal Labels'!AZ$89","v":0},{"$f":"'Horizontal Labels'!BA$89","v":0},{"$f":"'Horizontal Labels'!BB$89","v":0}]
[null,null,"RELATIVE",{"$f":"D68","v":0},{"$f":"IF(E68-D68<1,0,E68-D68)","v":0},{"$f":"IF(F68-E68<1,0,F68-E68)","v":0},0,0,0,0,0,0,0,0,0,0,0,0,0,0,0,0,0,0,0,0,0,0,0,0,0,0,0,0,0,0,0,0,0,0,0,0,0,0,0,0,0,0,0,0,0,0,0]
[null,null,"BLOCKS",{"$f":"'Horizontal Labels'!E$89","v":0},{"$f":"'Horizontal Labels'!F$89","v":0},{"$f":"'Horizontal Labels'!G$89","v":0},{"$f":"'Horizontal Labels'!H$89","v":0},{"$f":"'Horizontal Labels'!I$89","v":0},{"$f":"'Horizontal Labels'!J$89","v":0},{"$f":"'Horizontal Labels'!K$89","v":0},{"$f":"'Horizontal Labels'!L$89","v":0},{"$f":"'Horizontal Labels'!M$89","v":0},{"$f":"'Horizontal Labels'!N$89","v":0},{"$f":"'Horizontal Labels'!O$89","v":0},{"$f":"'Horizontal Labels'!P$89","v":0},{"$f":"'Horizontal Labels'!Q$89","v":0},{"$f":"'Horizontal Labels'!R$89","v":0},{"$f":"'Horizontal Labels'!S$89","v":0},{"$f":"'Horizontal Labels'!T$89","v":0},{"$f":"'Horizontal Labels'!U$89","v":0},{"$f":"'Horizontal Labels'!V$89","v":0},{"$f":"'Horizontal Labels'!W$89","v":0},{"$f":"'Horizontal Labels'!X$89","v":0},{"$f":"'Horizontal Labels'!Y$89","v":0},{"$f":"'Horizontal Labels'!Z$89","v":0},{"$f":"'Horizontal Labels'!AA$89","v":0},{"$f":"'Horizontal Labels'!AB$89","v":0},{"$f":"'Horizontal Labels'!AC$89","v":0},{"$f":"'Horizontal Labels'!AD$89","v":0},{"$f":"'Horizontal Labels'!AE$89","v":0},{"$f":"'Horizontal Labels'!AF$89","v":0},{"$f":"'Horizontal Labels'!AG$89","v":0},{"$f":"'Horizontal Labels'!AH$89","v":0},{"$f":"'Horizontal Labels'!AI$89","v":0},{"$f":"'Horizontal Labels'!AJ$89","v":0},{"$f":"'Horizontal Labels'!AK$89","v":0},{"$f":"'Horizontal Labels'!AL$89","v":0},{"$f":"'Horizontal Labels'!AM$89","v":0},{"$f":"'Horizontal Labels'!AN$89","v":0},{"$f":"'Horizontal Labels'!AO$89","v":0},{"$f":"'Horizontal Labels'!AP$89","v":0},{"$f":"'Horizontal Labels'!AQ$89","v":0},{"$f":"'Horizontal Labels'!AR$89","v":0},{"$f":"'Horizontal Labels'!AS$89","v":0},{"$f":"'Horizontal Labels'!AT$89","v":0},{"$f":"'Horizontal Labels'!AU$89","v":0},{"$f":"'Horizontal Labels'!AV$89","v":0},{"$f":"'Horizontal Labels'!AW$89","v":0},{"$f":"'Horizontal Labels'!AX$89","v":0},{"$f":"'Horizontal Labels'!AY$89","v":0},{"$f":"'Horizontal Labels'!AZ$89","v":0},{"$f":"'Horizontal Labels'!BA$89","v":0},{"$f":"'Horizontal Labels'!BB$89","v":0}]
[null,null,"FIXED",{"$f":"D72","v":0},{"$f":"IF(OR(SUM($D$72:E72)=D71,D71=0),0,SUM($D$72:E72))","v":0},{"$f":"IF(OR(SUM($D$72:F72)=E71,E71=0),0,SUM($D$72:F72))","v":0},{"$f":"IF(OR(SUM($D$72:G72)=F71,F71=0),0,SUM($D$72:G72))","v":0},{"$f":"IF(OR(SUM($D$72:H72)=G71,G71=0),0,SUM($D$72:H72))","v":0},{"$f":"IF(OR(SUM($D$72:I72)=H71,H71=0),0,SUM($D$72:I72))","v":0},{"$f":"IF(OR(SUM($D$72:J72)=I71,I71=0),0,SUM($D$72:J72))","v":0},{"$f":"IF(OR(SUM($D$72:K72)=J71,J71=0),0,SUM($D$72:K72))","v":0},{"$f":"IF(OR(SUM($D$72:L72)=K71,K71=0),0,SUM($D$72:L72))","v":0},{"$f":"IF(OR(SUM($D$72:M72)=L71,L71=0),0,SUM($D$72:M72))","v":0},{"$f":"IF(OR(SUM($D$72:N72)=M71,M71=0),0,SUM($D$72:N72))","v":0},{"$f":"IF(OR(SUM($D$72:O72)=N71,N71=0),0,SUM($D$72:O72))","v":0},{"$f":"IF(OR(SUM($D$72:P72)=O71,O71=0),0,SUM($D$72:P72))","v":0},{"$f":"IF(OR(SUM($D$72:Q72)=P71,P71=0),0,SUM($D$72:Q72))","v":0},{"$f":"IF(OR(SUM($D$72:R72)=Q71,Q71=0),0,SUM($D$72:R72))","v":0},{"$f":"IF(OR(SUM($D$72:S72)=R71,R71=0),0,SUM($D$72:S72))","v":0},{"$f":"IF(OR(SUM($D$72:T72)=S71,S71=0),0,SUM($D$72:T72))","v":0},{"$f":"IF(OR(SUM($D$72:U72)=T71,T71=0),0,SUM($D$72:U72))","v":0},{"$f":"IF(OR(SUM($D$72:V72)=U71,U71=0),0,SUM($D$72:V72))","v":0},{"$f":"IF(OR(SUM($D$72:W72)=V71,V71=0),0,SUM($D$72:W72))","v":0},{"$f":"IF(OR(SUM($D$72:X72)=W71,W71=0),0,SUM($D$72:X72))","v":0},{"$f":"IF(OR(SUM($D$72:Y72)=X71,X71=0),0,SUM($D$72:Y72))","v":0},{"$f":"IF(OR(SUM($D$72:Z72)=Y71,Y71=0),0,SUM($D$72:Z72))","v":0},{"$f":"IF(OR(SUM($D$72:AA72)=Z71,Z71=0),0,SUM($D$72:AA72))","v":0},{"$f":"IF(OR(SUM($D$72:AB72)=AA71,AA71=0),0,SUM($D$72:AB72))","v":0},{"$f":"IF(OR(SUM($D$72:AC72)=AB71,AB71=0),0,SUM($D$72:AC72))","v":0},{"$f":"IF(OR(SUM($D$72:AD72)=AC71,AC71=0),0,SUM($D$72:AD72))","v":0},{"$f":"IF(OR(SUM($D$72:AE72)=AD71,AD71=0),0,SUM($D$72:AE72))","v":0},{"$f":"IF(OR(SUM($D$72:AF72)=AE71,AE71=0),0,SUM($D$72:AF72))","v":0},{"$f":"IF(OR(SUM($D$72:AG72)=AF71,AF71=0),0,SUM($D$72:AG72))","v":0},{"$f":"IF(OR(SUM($D$72:AH72)=AG71,AG71=0),0,SUM($D$72:AH72))","v":0},{"$f":"IF(OR(SUM($D$72:AI72)=AH71,AH71=0),0,SUM($D$72:AI72))","v":0},{"$f":"IF(OR(SUM($D$72:AJ72)=AI71,AI71=0),0,SUM($D$72:AJ72))","v":0},{"$f":"IF(OR(SUM($D$72:AK72)=AJ71,AJ71=0),0,SUM($D$72:AK72))","v":0},{"$f":"IF(OR(SUM($D$72:AL72)=AK71,AK71=0),0,SUM($D$72:AL72))","v":0},{"$f":"IF(OR(SUM($D$72:AM72)=AL71,AL71=0),0,SUM($D$72:AM72))","v":0},{"$f":"IF(OR(SUM($D$72:AN72)=AM71,AM71=0),0,SUM($D$72:AN72))","v":0},{"$f":"IF(OR(SUM($D$72:AO72)=AN71,AN71=0),0,SUM($D$72:AO72))","v":0},{"$f":"IF(OR(SUM($D$72:AP72)=AO71,AO71=0),0,SUM($D$72:AP72))","v":0},{"$f":"IF(OR(SUM($D$72:AQ72)=AP71,AP71=0),0,SUM($D$72:AQ72))","v":0},{"$f":"IF(OR(SUM($D$72:AR72)=AQ71,AQ71=0),0,SUM($D$72:AR72))","v":0},{"$f":"IF(OR(SUM($D$72:AS72)=AR71,AR71=0),0,SUM($D$72:AS72))","v":0},{"$f":"IF(OR(SUM($D$72:AT72)=AS71,AS71=0),0,SUM($D$72:AT72))","v":0},{"$f":"IF(OR(SUM($D$72:AU72)=AT71,AT71=0),0,SUM($D$72:AU72))","v":0},{"$f":"IF(OR(SUM($D$72:AV72)=AU71,AU71=0),0,SUM($D$72:AV72))","v":0},{"$f":"IF(OR(SUM($D$72:AW72)=AV71,AV71=0),0,SUM($D$72:AW72))","v":0},{"$f":"IF(OR(SUM($D$72:AX72)=AW71,AW71=0),0,SUM($D$72:AX72))","v":0},{"$f":"IF(OR(SUM($D$72:AY72)=AX71,AX71=0),0,SUM($D$72:AY72))","v":0},{"$f":"IF(OR(SUM($D$72:AZ72)=AY71,AY71=0),0,SUM($D$72:AZ72))","v":0},{"$f":"IF(OR(SUM($D$72:BA72)=AZ71,AZ71=0),0,SUM($D$72:BA72))","v":0}]
[null,null,"RELATIVE",{"$f":"D70/2","v":0},{"$f":"(D70/2)+(E70/2)","v":0},{"$f":"(E70/2)+(F70/2)","v":0},0,0,0,0,0,0,0,0,0,0,0,0,0,0,0,0,0,0,0,0,0,0,0,0,0,0,0,0,0,0,0,0,0,0,0,0,0,0,0,0,0,0,0,0,0,0,0]
[]
[{"$nulls":3},1,2,3,4,5,6,7,8,9,10,11,12,13,14,15,16,17,18,19,20,21,22,23,24,25,26,27,28,29,30,31,32,33,34,35,36,37,38,39,40,41,42,43,44,45,46,47,48,49,50]
[null,"LABEL 9","RELATIVE",{"$f":"'Horizontal Labels'!E$100","v":0},{"$f":"'Horizontal Labels'!F$100","v":0},{"$f":"'Horizontal Labels'!G$100","v":0},{"$f":"'Horizontal Labels'!H$100","v":0},{"$f":"'Horizontal Labels'!I$100","v":0},{"$f":"'Horizontal Labels'!J$100","v":0},{"$f":"'Horizontal Labels'!K$100","v":0},{"$f":"'Horizontal Labels'!L$100","v":0},{"$f":"'Horizontal Labels'!M$100","v":0},{"$f":"'Horizontal Labels'!N$100","v":0},{"$f":"'Horizontal Labels'!O$100","v":0},{"$f":"'Horizontal Labels'!P$100","v":0},{"$f":"'Horizontal Labels'!Q$100","v":0},{"$f":"'Horizontal Labels'!R$100","v":0},{"$f":"'Horizontal Labels'!S$100","v":0},{"$f":"'Horizontal Labels'!T$100","v":0},{"$f":"'Horizontal Labels'!U$100","v":0},{"$f":"'Horizontal Labels'!V$100","v":0},{"$f":"'Horizontal Labels'!W$100","v":0},{"$f":"'Horizontal Labels'!X$100","v":0},{"$f":"'Horizontal Labels'!Y$100","v":0},{"$f":"'Horizontal Labels'!Z$100","v":0},{"$f":"'Horizontal Labels'!AA$100","v":0},{"$f":"'Horizontal Labels'!AB$100","v":0},{"$f":"'Horizontal Labels'!AC$100","v":0},{"$f":"'Horizontal Labels'!AD$100","v":0},{"$f":"'Horizontal Labels'!AE$100","v":0},{"$f":"'Horizontal Labels'!AF$100","v":0},{"$f":"'Horizontal Labels'!AG$100","v":0},{"$f":"'Horizontal Labels'!AH$100","v":0},{"$f":"'Horizontal Labels'!AI$100","v":0},{"$f":"'Horizontal Labels'!AJ$100","v":0},{"$f":"'Horizontal Labels'!AK$100","v":0},{"$f":"'Horizontal Labels'!AL$100","v":0},{"$f":"'Horizontal Labels'!AM$100","v":0},{"$f":"'Horizontal Labels'!AN$100","v":0},{"$f":"'Horizontal Labels'!AO$100","v":0},{"$f":"'Horizontal Labels'!AP$100","v":0},{"$f":"'Horizontal Labels'!AQ$100","v":0},{"$f":"'Horizontal Labels'!AR$100","v":0},{"$f":"'Horizontal Labels'!AS$100","v":0},{"$f":"'Horizontal Labels'!AT$100","v":0},{"$f":"'Horizontal Labels'!AU$100","v":0},{"$f":"'Horizontal Labels'!AV$100","v":0},{"$f":"'Horizontal Labels'!AW$100","v":0},{"$f":"'Horizontal Labels'!AX$100","v":0},{"$f":"'Horizontal Labels'!AY$100","v":0},{"$f":"'Horizontal Labels'!AZ$100","v":0},{"$f":"'Horizontal Labels'!BA$100","v":0},{"$f":"'Horizontal Labels'!BB$100","v":0}]
[null,null,"FIXED",{"$f":"SUM($D$75:D75)","v":0},{"$f":"IF(OR(SUM($D$75:E75)=D76,D76=0),0,SUM($D$75:E75))","v":0},{"$f":"IF(OR(SUM($D$75:F75)=E76,E76=0),0,SUM($D$75:F75))","v":0},{"$f":"IF(OR(SUM($D$75:G75)=F76,F76=0),0,SUM($D$75:G75))","v":0},{"$f":"IF(OR(SUM($D$75:H75)=G76,G76=0),0,SUM($D$75:H75))","v":0},{"$f":"IF(OR(SUM($D$75:I75)=H76,H76=0),0,SUM($D$75:I75))","v":0},{"$f":"IF(OR(SUM($D$75:J75)=I76,I76=0),0,SUM($D$75:J75))","v":0},{"$f":"IF(OR(SUM($D$75:K75)=J76,J76=0),0,SUM($D$75:K75))","v":0},{"$f":"IF(OR(SUM($D$75:L75)=K76,K76=0),0,SUM($D$75:L75))","v":0},{"$f":"IF(OR(SUM($D$75:M75)=L76,L76=0),0,SUM($D$75:M75))","v":0},{"$f":"IF(OR(SUM($D$75:N75)=M76,M76=0),0,SUM($D$75:N75))","v":0},{"$f":"IF(OR(SUM($D$75:O75)=N76,N76=0),0,SUM($D$75:O75))","v":0},{"$f":"IF(OR(SUM($D$75:P75)=O76,O76=0),0,SUM($D$75:P75))","v":0},{"$f":"IF(OR(SUM($D$75:Q75)=P76,P76=0),0,SUM($D$75:Q75))","v":0},{"$f":"IF(OR(SUM($D$75:R75)=Q76,Q76=0),0,SUM($D$75:R75))","v":0},{"$f":"IF(OR(SUM($D$75:S75)=R76,R76=0),0,SUM($D$75:S75))","v":0},{"$f":"IF(OR(SUM($D$75:T75)=S76,S76=0),0,SUM($D$75:T75))","v":0},{"$f":"IF(OR(SUM($D$75:U75)=T76,T76=0),0,SUM($D$75:U75))","v":0},{"$f":"IF(OR(SUM($D$75:V75)=U76,U76=0),0,SUM($D$75:V75))","v":0},{"$f":"IF(OR(SUM($D$75:W75)=V76,V76=0),0,SUM($D$75:W75))","v":0},{"$f":"IF(OR(SUM($D$75:X75)=W76,W76=0),0,SUM($D$75:X75))","v":0},{"$f":"IF(OR(SUM($D$75:Y75)=X76,X76=0),0,SUM($D$75:Y75))","v":0},{"$f":"IF(OR(SUM($D$75:Z75)=Y76,Y76=0),0,SUM($D$75:Z75))","v":0},{"$f":"IF(OR(SUM($D$75:AA75)=Z76,Z76=0),0,SUM($D$75:AA75))","v":0},{"$f":"IF(OR(SUM($D$75:AB75)=AA76,AA76=0),0,SUM($D$75:AB75))","v":0},{"$f":"IF(OR(SUM($D$75:AC75)=AB76,AB76=0),0,SUM($D$75:AC75))","v":0},{"$f":"IF(OR(SUM($D$75:AD75)=AC76,AC76=0),0,SUM($D$75:AD75))","v":0},{"$f":"IF(OR(SUM($D$75:AE75)=AD76,AD76=0),0,SUM($D$75:AE75))","v":0},{"$f":"IF(OR(SUM($D$75:AF75)=AE76,AE76=0),0,SUM($D$75:AF75))","v":0},{"$f":"IF(OR(SUM($D$75:AG75)=AF76,AF76=0),0,SUM($D$75:AG75))","v":0},{"$f":"IF(OR(SUM($D$75:AH75)=AG76,AG76=0),0,SUM($D$75:AH75))","v":0},{"$f":"IF(OR(SUM($D$75:AI75)=AH76,AH76=0),0,SUM($D$75:AI75))","v":0},{"$f":"IF(OR(SUM($D$75:AJ75)=AI76,AI76=0),0,SUM($D$75:AJ75))","v":0},{"$f":"IF(OR(SUM($D$75:AK75)=AJ76,AJ76=0),0,SUM($D$75:AK75))","v":0},{"$f":"IF(OR(SUM($D$75:AL75)=AK76,AK76=0),0,SUM($D$75:AL75))","v":0},{"$f":"IF(OR(SUM($D$75:AM75)=AL76,AL76=0),0,SUM($D$75:AM75))","v":0},{"$f":"IF(OR(SUM($D$75:AN75)=AM76,AM76=0),0,SUM($D$75:AN75))","v":0},{"$f":"IF(OR(SUM($D$75:AO75)=AN76,AN76=0),0,SUM($D$75:AO75))","v":0},{"$f":"IF(OR(SUM($D$75:AP75)=AO76,AO76=0),0,SUM($D$75:AP75))","v":0},{"$f":"IF(OR(SUM($D$75:AQ75)=AP76,AP76=0),0,SUM($D$75:AQ75))","v":0},{"$f":"IF(OR(SUM($D$75:AR75)=AQ76,AQ76=0),0,SUM($D$75:AR75))","v":0},{"$f":"IF(OR(SUM($D$75:AS75)=AR76,AR76=0),0,SUM($D$75:AS75))","v":0},{"$f":"IF(OR(SUM($D$75:AT75)=AS76,AS76=0),0,SUM($D$75:AT75))","v":0},{"$f":"IF(OR(SUM($D$75:AU75)=AT76,AT76=0),0,SUM($D$75:AU75))","v":0},{"$f":"IF(OR(SUM($D$75:AV75)=AU76,AU76=0),0,SUM($D$75:AV75))","v":0},{"$f":"IF(OR(SUM($D$75:AW75)=AV76,AV76=0),0,SUM($D$75:AW75))","v":0},{"$f":"IF(OR(SUM($D$75:AX75)=AW76,AW76=0),0,SUM($D$75:AX75))","v":0},{"$f":"IF(OR(SUM($D$75:AY75)=AX76,AX76=0),0,SUM($D$75:AY75))","v":0},{"$f":"IF(OR(SUM($D$75:AZ75)=AY76,AY76=0),0,SUM($D$75:AZ75))","v":0},{"$f":"IF(OR(SUM($D$75:BA75)=AZ76,AZ76=0),0,SUM($D$75:BA75))","v":0}]
[null,null,"FIXED",{"$f":"'Horizontal Labels'!E$100","v":0},{"$f":"'Horizontal Labels'!F$100","v":0},{"$f":"'Horizontal Labels'!G$100","v":0},{"$f":"'Horizontal Labels'!H$100","v":0},{"$f":"'Horizontal Labels'!I$100","v":0},{"$f":"'Horizontal Labels'!J$100","v":0},{"$f":"'Horizontal Labels'!K$100","v":0},{"$f":"'Horizontal Labels'!L$100","v":0},{"$f":"'Horizontal Labels'!M$100","v":0},{"$f":"'Horizontal Labels'!N$100","v":0},{"$f":"'Horizontal Labels'!O$100","v":0},{"$f":"'Horizontal Labels'!P$100","v":0},{"$f":"'Horizontal Labels'!Q$100","v":0},{"$f":"'Horizontal Labels'!R$100","v":0},{"$f":"'Horizontal Labels'!S$100","v":0},{"$f":"'Horizontal Labels'!T$100","v":0},{"$f":"'Horizontal Labels'!U$100","v":0},{"$f":"'Horizontal Labels'!V$100","v":0},{"$f":"'Horizontal Labels'!W$100","v":0},{"$f":"'Horizontal Labels'!X$100","v":0},{"$f":"'Horizontal Labels'!Y$100","v":0},{"$f":"'Horizontal Labels'!Z$100","v":0},{"$f":"'Horizontal Labels'!AA$100","v":0},{"$f":"'Horizontal Labels'!AB$100","v":0},{"$f":"'Horizontal Labels'!AC$100","v":0},{"$f":"'Horizontal Labels'!AD$100","v":0},{"$f":"'Horizontal Labels'!AE$100","v":0},{"$f":"'Horizontal Labels'!AF$100","v":0},{"$f":"'Horizontal Labels'!AG$100","v":0},{"$f":"'Horizontal Labels'!AH$100","v":0},{"$f":"'Horizontal Labels'!AI$100","v":0},{"$f":"'Horizontal Labels'!AJ$100","v":0},{"$f":"'Horizontal Labels'!AK$100","v":0},{"$f":"'Horizontal Labels'!AL$100","v":0},{"$f":"'Horizontal Labels'!AM$100","v":0},{"$f":"'Horizontal Labels'!AN$100","v":0},{"$f":"'Horizontal Labels'!AO$100","v":0},{"$f":"'Horizontal Labels'!AP$100","v":0},{"$f":"'Horizontal Labels'!AQ$100","v":0},{"$f":"'Horizontal Labels'!AR$100","v":0},{"$f":"'Horizontal Labels'!AS$100","v":0},{"$f":"'Horizontal Labels'!AT$100","v":0},{"$f":"'Horizontal Labels'!AU$100","v":0},{"$f":"'Horizontal Labels'!AV$100","v":0},{"$f":"'Horizontal Labels'!AW$100","v":0},{"$f":"'Horizontal Labels'!AX$100","v":0},{"$f":"'Horizontal Labels'!AY$100","v":0},{"$f":"'Horizontal Labels'!AZ$100","v":0},{"$f":"'Horizontal Labels'!BA$100","v":0},{"$f":"'Horizontal Labels'!BB$100","v":0}]
[null,null,"RELATIVE",{"$f":"D77","v":0},{"$f":"IF(E77-D77<1,0,E77-D77)","v":0},{"$f":"IF(F77-E77<1,0,F77-E77)","v":0},0,0,0,0,0,0,0,0,0,0,0,0,0,0,0,0,0,0,0,0,0,0,0,0,0,0,0,0,0,0,0,0,0,0,0,0,0,0,0,0,0,0,0,0,0,0,0]
[null,null,"BLOCKS",{"$f":"'Horizontal Labels'!E$100","v":0},{"$f":"'Horizontal Labels'!F$100","v":0},{"$f":"'Horizontal Labels'!G$100","v":0},{"$f":"'Horizontal Labels'!H$100","v":0},{"$f":"'Horizontal Labels'!I$100","v":0},{"$f":"'Horizontal Labels'!J$100","v":0},{"$f":"'Horizontal Labels'!K$100","v":0},{"$f":"'Horizontal Labels'!L$100","v":0},{"$f":"'Horizontal Labels'!M$100","v":0},{"$f":"'Horizontal Labels'!N$100","v":0},{"$f":"'Horizontal Labels'!O$100","v":0},{"$f":"'Horizontal Labels'!P$100","v":0},{"$f":"'Horizontal Labels'!Q$100","v":0},{"$f":"'Horizontal Labels'!R$100","v":0},{"$f":"'Horizontal Labels'!S$100","v":0},{"$f":"'Horizontal Labels'!T$100","v":0},{"$f":"'Horizontal Labels'!U$100","v":0},{"$f":"'Horizontal Labels'!V$100","v":0},{"$f":"'Horizontal Labels'!W$100","v":0},{"$f":"'Horizontal Labels'!X$100","v":0},{"$f":"'Horizontal Labels'!Y$100","v":0},{"$f":"'Horizontal Labels'!Z$100","v":0},{"$f":"'Horizontal Labels'!AA$100","v":0},{"$f":"'Horizontal Labels'!AB$100","v":0},{"$f":"'Horizontal Labels'!AC$100","v":0},{"$f":"'Horizontal Labels'!AD$100","v":0},{"$f":"'Horizontal Labels'!AE$100","v":0},{"$f":"'Horizontal Labels'!AF$100","v":0},{"$f":"'Horizontal Labels'!AG$100","v":0},{"$f":"'Horizontal Labels'!AH$100","v":0},{"$f":"'Horizontal Labels'!AI$100","v":0},{"$f":"'Horizontal Labels'!AJ$100","v":0},{"$f":"'Horizontal Labels'!AK$100","v":0},{"$f":"'Horizontal Labels'!AL$100","v":0},{"$f":"'Horizontal Labels'!AM$100","v":0},{"$f":"'Horizontal Labels'!AN$100","v":0},{"$f":"'Horizontal Labels'!AO$100","v":0},{"$f":"'Horizontal Labels'!AP$100","v":0},{"$f":"'Horizontal Labels'!AQ$100","v":0},{"$f":"'Horizontal Labels'!AR$100","v":0},{"$f":"'Horizontal Labels'!AS$100","v":0},{"$f":"'Horizontal Labels'!AT$100","v":0},{"$f":"'Horizontal Labels'!AU$100","v":0},{"$f":"'Horizontal Labels'!AV$100","v":0},{"$f":"'Horizontal Labels'!AW$100","v":0},{"$f":"'Horizontal Labels'!AX$100","v":0},{"$f":"'Horizontal Labels'!AY$100","v":0},{"$f":"'Horizontal Labels'!AZ$100","v":0},{"$f":"'Horizontal Labels'!BA$100","v":0},{"$f":"'Horizontal Labels'!BB$100","v":0}]
[null,null,"FIXED",{"$f":"D81","v":0},{"$f":"IF(OR(SUM($D$81:E81)=D80,D80=0),0,SUM($D$81:E81))","v":0},{"$f":"IF(OR(SUM($D$81:F81)=E80,E80=0),0,SUM($D$81:F81))","v":0},{"$f":"IF(OR(SUM($D$81:G81)=F80,F80=0),0,SUM($D$81:G81))","v":0},{"$f":"IF(OR(SUM($D$81:H81)=G80,G80=0),0,SUM($D$81:H81))","v":0},{"$f":"IF(OR(SUM($D$81:I81)=H80,H80=0),0,SUM($D$81:I81))","v":0},{"$f":"IF(OR(SUM($D$81:J81)=I80,I80=0),0,SUM($D$81:J81))","v":0},{"$f":"IF(OR(SUM($D$81:K81)=J80,J80=0),0,SUM($D$81:K81))","v":0},{"$f":"IF(OR(SUM($D$81:L81)=K80,K80=0),0,SUM($D$81:L81))","v":0},{"$f":"IF(OR(SUM($D$81:M81)=L80,L80=0),0,SUM($D$81:M81))","v":0},{"$f":"IF(OR(SUM($D$81:N81)=M80,M80=0),0,SUM($D$81:N81))","v":0},{"$f":"IF(OR(SUM($D$81:O81)=N80,N80=0),0,SUM($D$81:O81))","v":0},{"$f":"IF(OR(SUM($D$81:P81)=O80,O80=0),0,SUM($D$81:P81))","v":0},{"$f":"IF(OR(SUM($D$81:Q81)=P80,P80=0),0,SUM($D$81:Q81))","v":0},{"$f":"IF(OR(SUM($D$81:R81)=Q80,Q80=0),0,SUM($D$81:R81))","v":0},{"$f":"IF(OR(SUM($D$81:S81)=R80,R80=0),0,SUM($D$81:S81))","v":0},{"$f":"IF(OR(SUM($D$81:T81)=S80,S80=0),0,SUM($D$81:T81))","v":0},{"$f":"IF(OR(SUM($D$81:U81)=T80,T80=0),0,SUM($D$81:U81))","v":0},{"$f":"IF(OR(SUM($D$81:V81)=U80,U80=0),0,SUM($D$81:V81))","v":0},{"$f":"IF(OR(SUM($D$81:W81)=V80,V80=0),0,SUM($D$81:W81))","v":0},{"$f":"IF(OR(SUM($D$81:X81)=W80,W80=0),0,SUM($D$81:X81))","v":0},{"$f":"IF(OR(SUM($D$81:Y81)=X80,X80=0),0,SUM($D$81:Y81))","v":0},{"$f":"IF(OR(SUM($D$81:Z81)=Y80,Y80=0),0,SUM($D$81:Z81))","v":0},{"$f":"IF(OR(SUM($D$81:AA81)=Z80,Z80=0),0,SUM($D$81:AA81))","v":0},{"$f":"IF(OR(SUM($D$81:AB81)=AA80,AA80=0),0,SUM($D$81:AB81))","v":0},{"$f":"IF(OR(SUM($D$81:AC81)=AB80,AB80=0),0,SUM($D$81:AC81))","v":0},{"$f":"IF(OR(SUM($D$81:AD81)=AC80,AC80=0),0,SUM($D$81:AD81))","v":0},{"$f":"IF(OR(SUM($D$81:AE81)=AD80,AD80=0),0,SUM($D$81:AE81))","v":0},{"$f":"IF(OR(SUM($D$81:AF81)=AE80,AE80=0),0,SUM($D$81:AF81))","v":0},{"$f":"IF(OR(SUM($D$81:AG81)=AF80,AF80=0),0,SUM($D$81:AG81))","v":0},{"$f":"IF(OR(SUM($D$81:AH81)=AG80,AG80=0),0,SUM($D$81:AH81))","v":0},{"$f":"IF(OR(SUM($D$81:AI81)=AH80,AH80=0),0,SUM($D$81:AI81))","v":0},{"$f":"IF(OR(SUM($D$81:AJ81)=AI80,AI80=0),0,SUM($D$81:AJ81))","v":0},{"$f":"IF(OR(SUM($D$81:AK81)=AJ80,AJ80=0),0,SUM($D$81:AK81))","v":0},{"$f":"IF(OR(SUM($D$81:AL81)=AK80,AK80=0),0,SUM($D$81:AL81))","v":0},{"$f":"IF(OR(SUM($D$81:AM81)=AL80,AL80=0),0,SUM($D$81:AM81))","v":0},{"$f":"IF(OR(SUM($D$81:AN81)=AM80,AM80=0),0,SUM($D$81:AN81))","v":0},{"$f":"IF(OR(SUM($D$81:AO81)=AN80,AN80=0),0,SUM($D$81:AO81))","v":0},{"$f":"IF(OR(SUM($D$81:AP81)=AO80,AO80=0),0,SUM($D$81:AP81))","v":0},{"$f":"IF(OR(SUM($D$81:AQ81)=AP80,AP80=0),0,SUM($D$81:AQ81))","v":0},{"$f":"IF(OR(SUM($D$81:AR81)=AQ80,AQ80=0),0,SUM($D$81:AR81))","v":0},{"$f":"IF(OR(SUM($D$81:AS81)=AR80,AR80=0),0,SUM($D$81:AS81))","v":0},{"$f":"IF(OR(SUM($D$81:AT81)=AS80,AS80=0),0,SUM($D$81:AT81))","v":0},{"$f":"IF(OR(SUM($D$81:AU81)=AT80,AT80=0),0,SUM($D$81:AU81))","v":0},{"$f":"IF(OR(SUM($D$81:AV81)=AU80,AU80=0),0,SUM($D$81:AV81))","v":0},{"$f":"IF(OR(SUM($D$81:AW81)=AV80,AV80=0),0,SUM($D$81:AW81))","v":0},{"$f":"IF(OR(SUM($D$81:AX81)=AW80,AW80=0),0,SUM($D$81:AX81))","v":0},{"$f":"IF(OR(SUM($D$81:AY81)=AX80,AX80=0),0,SUM($D$81:AY81))","v":0},{"$f":"IF(OR(SUM($D$81:AZ81)=AY80,AY80=0),0,SUM($D$81:AZ81))","v":0},{"$f":"IF(OR(SUM($D$81:BA81)=AZ80,AZ80=0),0,SUM($D$81:BA81))","v":0}]
[null,null,"RELATIVE",{"$f":"D79/2","v":0},{"$f":"(D79/2)+(E79/2)","v":0},{"$f":"(E79/2)+(F79/2)","v":0},0,0,0,0,0,0,0,0,0,0,0,0,0,0,0,0,0,0,0,0,0,0,0,0,0,0,0,0,0,0,0,0,0,0,0,0,0,0,0,0,0,0,0,0,0,0,0]
[]
[{"$nulls":3},1,2,3,4,5,6,7,8,9,10,11,12,13,14,15,16,17,18,19,20,21,22,23,24,25,26,27,28,29,30,31,32,33,34,35,36,37,38,39,40,41,42,43,44,45,46,47,48,49,50]
[null,"LABEL 10","RELATIVE",{"$f":"'Horizontal Labels'!E$111","v":0},{"$f":"'Horizontal Labels'!F$111","v":0},{"$f":"'Horizontal Labels'!G$111","v":0},{"$f":"'Horizontal Labels'!H$111","v":0},{"$f":"'Horizontal Labels'!I$111","v":0},{"$f":"'Horizontal Labels'!J$111","v":0},{"$f":"'Horizontal Labels'!K$111","v":0},{"$f":"'Horizontal Labels'!L$111","v":0},{"$f":"'Horizontal Labels'!M$111","v":0},{"$f":"'Horizontal Labels'!N$111","v":0},{"$f":"'Horizontal Labels'!O$111","v":0},{"$f":"'Horizontal Labels'!P$111","v":0},{"$f":"'Horizontal Labels'!Q$111","v":0},{"$f":"'Horizontal Labels'!R$111","v":0},{"$f":"'Horizontal Labels'!S$111","v":0},{"$f":"'Horizontal Labels'!T$111","v":0},{"$f":"'Horizontal Labels'!U$111","v":0},{"$f":"'Horizontal Labels'!V$111","v":0},{"$f":"'Horizontal Labels'!W$111","v":0},{"$f":"'Horizontal Labels'!X$111","v":0},{"$f":"'Horizontal Labels'!Y$111","v":0},{"$f":"'Horizontal Labels'!Z$111","v":0},{"$f":"'Horizontal Labels'!AA$111","v":0},{"$f":"'Horizontal Labels'!AB$111","v":0},{"$f":"'Horizontal Labels'!AC$111","v":0},{"$f":"'Horizontal Labels'!AD$111","v":0},{"$f":"'Horizontal Labels'!AE$111","v":0},{"$f":"'Horizontal Labels'!AF$111","v":0},{"$f":"'Horizontal Labels'!AG$111","v":0},{"$f":"'Horizontal Labels'!AH$111","v":0},{"$f":"'Horizontal Labels'!AI$111","v":0},{"$f":"'Horizontal Labels'!AJ$111","v":0},{"$f":"'Horizontal Labels'!AK$111","v":0},{"$f":"'Horizontal Labels'!AL$111","v":0},{"$f":"'Horizontal Labels'!AM$111","v":0},{"$f":"'Horizontal Labels'!AN$111","v":0},{"$f":"'Horizontal Labels'!AO$111","v":0},{"$f":"'Horizontal Labels'!AP$111","v":0},{"$f":"'Horizontal Labels'!AQ$111","v":0},{"$f":"'Horizontal Labels'!AR$111","v":0},{"$f":"'Horizontal Labels'!AS$111","v":0},{"$f":"'Horizontal Labels'!AT$111","v":0},{"$f":"'Horizontal Labels'!AU$111","v":0},{"$f":"'Horizontal Labels'!AV$111","v":0},{"$f":"'Horizontal Labels'!AW$111","v":0},{"$f":"'Horizontal Labels'!AX$111","v":0},{"$f":"'Horizontal Labels'!AY$111","v":0},{"$f":"'Horizontal Labels'!AZ$111","v":0},{"$f":"'Horizontal Labels'!BA$111","v":0},{"$f":"'Horizontal Labels'!BB$111","v":0}]
[null,null,"FIXED",{"$f":"SUM($D$84:D84)","v":0},{"$f":"IF(OR(SUM($D$84:E84)=D85,D85=0),0,SUM($D$84:E84))","v":0},{"$f":"IF(OR(SUM($D$84:F84)=E85,E85=0),0,SUM($D$84:F84))","v":0},{"$f":"IF(OR(SUM($D$84:G84)=F85,F85=0),0,SUM($D$84:G84))","v":0},{"$f":"IF(OR(SUM($D$84:H84)=G85,G85=0),0,SUM($D$84:H84))","v":0},{"$f":"IF(OR(SUM($D$84:I84)=H85,H85=0),0,SUM($D$84:I84))","v":0},{"$f":"IF(OR(SUM($D$84:J84)=I85,I85=0),0,SUM($D$84:J84))","v":0},{"$f":"IF(OR(SUM($D$84:K84)=J85,J85=0),0,SUM($D$84:K84))","v":0},{"$f":"IF(OR(SUM($D$84:L84)=K85,K85=0),0,SUM($D$84:L84))","v":0},{"$f":"IF(OR(SUM($D$84:M84)=L85,L85=0),0,SUM($D$84:M84))","v":0},{"$f":"IF(OR(SUM($D$84:N84)=M85,M85=0),0,SUM($D$84:N84))","v":0},{"$f":"IF(OR(SUM($D$84:O84)=N85,N85=0),0,SUM($D$84:O84))","v":0},{"$f":"IF(OR(SUM($D$84:P84)=O85,O85=0),0,SUM($D$84:P84))","v":0},{"$f":"IF(OR(SUM($D$84:Q84)=P85,P85=0),0,SUM($D$84:Q84))","v":0},{"$f":"IF(OR(SUM($D$84:R84)=Q85,Q85=0),0,SUM($D$84:R84))","v":0},{"$f":"IF(OR(SUM($D$84:S84)=R85,R85=0),0,SUM($D$84:S84))","v":0},{"$f":"IF(OR(SUM($D$84:T84)=S85,S85=0),0,SUM($D$84:T84))","v":0},{"$f":"IF(OR(SUM($D$84:U84)=T85,T85=0),0,SUM($D$84:U84))","v":0},{"$f":"IF(OR(SUM($D$84:V84)=U85,U85=0),0,SUM($D$84:V84))","v":0},{"$f":"IF(OR(SUM($D$84:W84)=V85,V85=0),0,SUM($D$84:W84))","v":0},{"$f":"IF(OR(SUM($D$84:X84)=W85,W85=0),0,SUM($D$84:X84))","v":0},{"$f":"IF(OR(SUM($D$84:Y84)=X85,X85=0),0,SUM($D$84:Y84))","v":0},{"$f":"IF(OR(SUM($D$84:Z84)=Y85,Y85=0),0,SUM($D$84:Z84))","v":0},{"$f":"IF(OR(SUM($D$84:AA84)=Z85,Z85=0),0,SUM($D$84:AA84))","v":0},{"$f":"IF(OR(SUM($D$84:AB84)=AA85,AA85=0),0,SUM($D$84:AB84))","v":0},{"$f":"IF(OR(SUM($D$84:AC84)=AB85,AB85=0),0,SUM($D$84:AC84))","v":0},{"$f":"IF(OR(SUM($D$84:AD84)=AC85,AC85=0),0,SUM($D$84:AD84))","v":0},{"$f":"IF(OR(SUM($D$84:AE84)=AD85,AD85=0),0,SUM($D$84:AE84))","v":0},{"$f":"IF(OR(SUM($D$84:AF84)=AE85,AE85=0),0,SUM($D$84:AF84))","v":0},{"$f":"IF(OR(SUM($D$84:AG84)=AF85,AF85=0),0,SUM($D$84:AG84))","v":0},{"$f":"IF(OR(SUM($D$84:AH84)=AG85,AG85=0),0,SUM($D$84:AH84))","v":0},{"$f":"IF(OR(SUM($D$84:AI84)=AH85,AH85=0),0,SUM($D$84:AI84))","v":0},{"$f":"IF(OR(SUM($D$84:AJ84)=AI85,AI85=0),0,SUM($D$84:AJ84))","v":0},{"$f":"IF(OR(SUM($D$84:AK84)=AJ85,AJ85=0),0,SUM($D$84:AK84))","v":0},{"$f":"IF(OR(SUM($D$84:AL84)=AK85,AK85=0),0,SUM($D$84:AL84))","v":0},{"$f":"IF(OR(SUM($D$84:AM84)=AL85,AL85=0),0,SUM($D$84:AM84))","v":0},{"$f":"IF(OR(SUM($D$84:AN84)=AM85,AM85=0),0,SUM($D$84:AN84))","v":0},{"$f":"IF(OR(SUM($D$84:AO84)=AN85,AN85=0),0,SUM($D$84:AO84))","v":0},{"$f":"IF(OR(SUM($D$84:AP84)=AO85,AO85=0),0,SUM($D$84:AP84))","v":0},{"$f":"IF(OR(SUM($D$84:AQ84)=AP85,AP85=0),0,SUM($D$84:AQ84))","v":0},{"$f":"IF(OR(SUM($D$84:AR84)=AQ85,AQ85=0),0,SUM($D$84:AR84))","v":0},{"$f":"IF(OR(SUM($D$84:AS84)=AR85,AR85=0),0,SUM($D$84:AS84))","v":0},{"$f":"IF(OR(SUM($D$84:AT84)=AS85,AS85=0),0,SUM($D$84:AT84))","v":0},{"$f":"IF(OR(SUM($D$84:AU84)=AT85,AT85=0),0,SUM($D$84:AU84))","v":0},{"$f":"IF(OR(SUM($D$84:AV84)=AU85,AU85=0),0,SUM($D$84:AV84))","v":0},{"$f":"IF(OR(SUM($D$84:AW84)=AV85,AV85=0),0,SUM($D$84:AW84))","v":0},{"$f":"IF(OR(SUM($D$84:AX84)=AW85,AW85=0),0,SUM($D$84:AX84))","v":0},{"$f":"IF(OR(SUM($D$84:AY84)=AX85,AX85=0),0,SUM($D$84:AY84))","v":0},{"$f":"IF(OR(SUM($D$84:AZ84)=AY85,AY85=0),0,SUM($D$84:AZ84))","v":0},{"$f":"IF(OR(SUM($D$84:BA84)=AZ85,AZ85=0),0,SUM($D$84:BA84))","v":0}]
[null,null,"FIXED",{"$f":"'Horizontal Labels'!E$111","v":0},{"$f":"'Horizontal Labels'!F$111","v":0},{"$f":"'Horizontal Labels'!G$111","v":0},{"$f":"'Horizontal Labels'!H$111","v":0},{"$f":"'Horizontal Labels'!I$111","v":0},{"$f":"'Horizontal Labels'!J$111","v":0},{"$f":"'Horizontal Labels'!K$111","v":0},{"$f":"'Horizontal Labels'!L$111","v":0},{"$f":"'Horizontal Labels'!M$111","v":0},{"$f":"'Horizontal Labels'!N$111","v":0},{"$f":"'Horizontal Labels'!O$111","v":0},{"$f":"'Horizontal Labels'!P$111","v":0},{"$f":"'Horizontal Labels'!Q$111","v":0},{"$f":"'Horizontal Labels'!R$111","v":0},{"$f":"'Horizontal Labels'!S$111","v":0},{"$f":"'Horizontal Labels'!T$111","v":0},{"$f":"'Horizontal Labels'!U$111","v":0},{"$f":"'Horizontal Labels'!V$111","v":0},{"$f":"'Horizontal Labels'!W$111","v":0},{"$f":"'Horizontal Labels'!X$111","v":0},{"$f":"'Horizontal Labels'!Y$111","v":0},{"$f":"'Horizontal Labels'!Z$111","v":0},{"$f":"'Horizontal Labels'!AA$111","v":0},{"$f":"'Horizontal Labels'!AB$111","v":0},{"$f":"'Horizontal Labels'!AC$111","v":0},{"$f":"'Horizontal Labels'!AD$111","v":0},{"$f":"'Horizontal Labels'!AE$111","v":0},{"$f":"'Horizontal Labels'!AF$111","v":0},{"$f":"'Horizontal Labels'!AG$111","v":0},{"$f":"'Horizontal Labels'!AH$111","v":0},{"$f":"'Horizontal Labels'!AI$111","v":0},{"$f":"'Horizontal Labels'!AJ$111","v":0},{"$f":"'Horizontal Labels'!AK$111","v":0},{"$f":"'Horizontal Labels'!AL$111","v":0},{"$f":"'Horizontal Labels'!AM$111","v":0},{"$f":"'Horizontal Labels'!AN$111","v":0},{"$f":"'Horizontal Labels'!AO$111","v":0},{"$f":"'Horizontal Labels'!AP$111","v":0},{"$f":"'Horizontal Labels'!AQ$111","v":0},{"$f":"'Horizontal Labels'!AR$111","v":0},{"$f":"'Horizontal Labels'!AS$111","v":0},{"$f":"'Horizontal Labels'!AT$111","v":0},{"$f":"'Horizontal Labels'!AU$111","v":0},{"$f":"'Horizontal Labels'!AV$111","v":0},{"$f":"'Horizontal Labels'!AW$111","v":0},{"$f":"'Horizontal Labels'!AX$111","v":0},{"$f":"'Horizontal Labels'!AY$111","v":0},{"$f":"'Horizontal Labels'!AZ$111","v":0},{"$f":"'Horizontal Labels'!BA$111","v":0},{"$f":"'Horizontal Labels'!BB$111","v":0}]
[null,null,"RELATIVE",{"$f":"D86","v":0},{"$f":"IF(E86-D86<1,0,E86-D86)","v":0},{"$f":"IF(F86-E86<1,0,F86-E86)","v":0},0,0,0,0,0,0,0,0,0,0,0,0,0,0,0,0,0,0,0,0,0,0,0,0,0,0,0,0,0,0,0,0,0,0,0,0,0,0,0,0,0,0,0,0,0,0,0]
[null,null,"BLOCKS",{"$f":"'Horizontal Labels'!E$111","v":0},{"$f":"'Horizontal Labels'!F$111","v":0},{"$f":"'Horizontal Labels'!G$111","v":0},{"$f":"'Horizontal Labels'!H$111","v":0},{"$f":"'Horizontal Labels'!I$111","v":0},{"$f":"'Horizontal Labels'!J$111","v":0},{"$f":"'Horizontal Labels'!K$111","v":0},{"$f":"'Horizontal Labels'!L$111","v":0},{"$f":"'Horizontal Labels'!M$111","v":0},{"$f":"'Horizontal Labels'!N$111","v":0},{"$f":"'Horizontal Labels'!O$111","v":0},{"$f":"'Horizontal Labels'!P$111","v":0},{"$f":"'Horizontal Labels'!Q$111","v":0},{"$f":"'Horizontal Labels'!R$111","v":0},{"$f":"'Horizontal Labels'!S$111","v":0},{"$f":"'Horizontal Labels'!T$111","v":0},{"$f":"'Horizontal Labels'!U$111","v":0},{"$f":"'Horizontal Labels'!V$111","v":0},{"$f":"'Horizontal Labels'!W$111","v":0},{"$f":"'Horizontal Labels'!X$111","v":0},{"$f":"'Horizontal Labels'!Y$111","v":0},{"$f":"'Horizontal Labels'!Z$111","v":0},{"$f":"'Horizontal Labels'!AA$111","v":0},{"$f":"'Horizontal Labels'!AB$111","v":0},{"$f":"'Horizontal Labels'!AC$111","v":0},{"$f":"'Horizontal Labels'!AD$111","v":0},{"$f":"'Horizontal Labels'!AE$111","v":0},{"$f":"'Horizontal Labels'!AF$111","v":0},{"$f":"'Horizontal Labels'!AG$111","v":0},{"$f":"'Horizontal Labels'!AH$111","v":0},{"$f":"'Horizontal Labels'!AI$111","v":0},{"$f":"'Horizontal Labels'!AJ$111","v":0},{"$f":"'Horizontal Labels'!AK$111","v":0},{"$f":"'Horizontal Labels'!AL$111","v":0},{"$f":"'Horizontal Labels'!AM$111","v":0},{"$f":"'Horizontal Labels'!AN$111","v":0},{"$f":"'Horizontal Labels'!AO$111","v":0},{"$f":"'Horizontal Labels'!AP$111","v":0},{"$f":"'Horizontal Labels'!AQ$111","v":0},{"$f":"'Horizontal Labels'!AR$111","v":0},{"$f":"'Horizontal Labels'!AS$111","v":0},{"$f":"'Horizontal Labels'!AT$111","v":0},{"$f":"'Horizontal Labels'!AU$111","v":0},{"$f":"'Horizontal Labels'!AV$111","v":0},{"$f":"'Horizontal Labels'!AW$111","v":0},{"$f":"'Horizontal Labels'!AX$111","v":0},{"$f":"'Horizontal Labels'!AY$111","v":0},{"$f":"'Horizontal Labels'!AZ$111","v":0},{"$f":"'Horizontal Labels'!BA$111","v":0},{"$f":"'Horizontal Labels'!BB$111","v":0}]
[null,null,"FIXED",{"$f":"D90","v":0},{"$f":"IF(OR(SUM($D$90:E90)=D89,D89=0),0,SUM($D$90:E90))","v":0},{"$f":"IF(OR(SUM($D$90:F90)=E89,E89=0),0,SUM($D$90:F90))","v":0},{"$f":"IF(OR(SUM($D$90:G90)=F89,F89=0),0,SUM($D$90:G90))","v":0},{"$f":"IF(OR(SUM($D$90:H90)=G89,G89=0),0,SUM($D$90:H90))","v":0},{"$f":"IF(OR(SUM($D$90:I90)=H89,H89=0),0,SUM($D$90:I90))","v":0},{"$f":"IF(OR(SUM($D$90:J90)=I89,I89=0),0,SUM($D$90:J90))","v":0},{"$f":"IF(OR(SUM($D$90:K90)=J89,J89=0),0,SUM($D$90:K90))","v":0},{"$f":"IF(OR(SUM($D$90:L90)=K89,K89=0),0,SUM($D$90:L90))","v":0},{"$f":"IF(OR(SUM($D$90:M90)=L89,L89=0),0,SUM($D$90:M90))","v":0},{"$f":"IF(OR(SUM($D$90:N90)=M89,M89=0),0,SUM($D$90:N90))","v":0},{"$f":"IF(OR(SUM($D$90:O90)=N89,N89=0),0,SUM($D$90:O90))","v":0},{"$f":"IF(OR(SUM($D$90:P90)=O89,O89=0),0,SUM($D$90:P90))","v":0},{"$f":"IF(OR(SUM($D$90:Q90)=P89,P89=0),0,SUM($D$90:Q90))","v":0},{"$f":"IF(OR(SUM($D$90:R90)=Q89,Q89=0),0,SUM($D$90:R90))","v":0},{"$f":"IF(OR(SUM($D$90:S90)=R89,R89=0),0,SUM($D$90:S90))","v":0},{"$f":"IF(OR(SUM($D$90:T90)=S89,S89=0),0,SUM($D$90:T90))","v":0},{"$f":"IF(OR(SUM($D$90:U90)=T89,T89=0),0,SUM($D$90:U90))","v":0},{"$f":"IF(OR(SUM($D$90:V90)=U89,U89=0),0,SUM($D$90:V90))","v":0},{"$f":"IF(OR(SUM($D$90:W90)=V89,V89=0),0,SUM($D$90:W90))","v":0},{"$f":"IF(OR(SUM($D$90:X90)=W89,W89=0),0,SUM($D$90:X90))","v":0},{"$f":"IF(OR(SUM($D$90:Y90)=X89,X89=0),0,SUM($D$90:Y90))","v":0},{"$f":"IF(OR(SUM($D$90:Z90)=Y89,Y89=0),0,SUM($D$90:Z90))","v":0},{"$f":"IF(OR(SUM($D$90:AA90)=Z89,Z89=0),0,SUM($D$90:AA90))","v":0},{"$f":"IF(OR(SUM($D$90:AB90)=AA89,AA89=0),0,SUM($D$90:AB90))","v":0},{"$f":"IF(OR(SUM($D$90:AC90)=AB89,AB89=0),0,SUM($D$90:AC90))","v":0},{"$f":"IF(OR(SUM($D$90:AD90)=AC89,AC89=0),0,SUM($D$90:AD90))","v":0},{"$f":"IF(OR(SUM($D$90:AE90)=AD89,AD89=0),0,SUM($D$90:AE90))","v":0},{"$f":"IF(OR(SUM($D$90:AF90)=AE89,AE89=0),0,SUM($D$90:AF90))","v":0},{"$f":"IF(OR(SUM($D$90:AG90)=AF89,AF89=0),0,SUM($D$90:AG90))","v":0},{"$f":"IF(OR(SUM($D$90:AH90)=AG89,AG89=0),0,SUM($D$90:AH90))","v":0},{"$f":"IF(OR(SUM($D$90:AI90)=AH89,AH89=0),0,SUM($D$90:AI90))","v":0},{"$f":"IF(OR(SUM($D$90:AJ90)=AI89,AI89=0),0,SUM($D$90:AJ90))","v":0},{"$f":"IF(OR(SUM($D$90:AK90)=AJ89,AJ89=0),0,SUM($D$90:AK90))","v":0},{"$f":"IF(OR(SUM($D$90:AL90)=AK89,AK89=0),0,SUM($D$90:AL90))","v":0},{"$f":"IF(OR(SUM($D$90:AM90)=AL89,AL89=0),0,SUM($D$90:AM90))","v":0},{"$f":"IF(OR(SUM($D$90:AN90)=AM89,AM89=0),0,SUM($D$90:AN90))","v":0},{"$f":"IF(OR(SUM($D$90:AO90)=AN89,AN89=0),0,SUM($D$90:AO90))","v":0},{"$f":"IF(OR(SUM($D$90:AP90)=AO89,AO89=0),0,SUM($D$90:AP90))","v":0},{"$f":"IF(OR(SUM($D$90:AQ90)=AP89,AP89=0),0,SUM($D$90:AQ90))","v":0},{"$f":"IF(OR(SUM($D$90:AR90)=AQ89,AQ89=0),0,SUM($D$90:AR90))","v":0},{"$f":"IF(OR(SUM($D$90:AS90)=AR89,AR89=0),0,SUM($D$90:AS90))","v":0},{"$f":"IF(OR(SUM($D$90:AT90)=AS89,AS89=0),0,SUM($D$90:AT90))","v":0},{"$f":"IF(OR(SUM($D$90:AU90)=AT89,AT89=0),0,SUM($D$90:AU90))","v":0},{"$f":"IF(OR(SUM($D$90:AV90)=AU89,AU89=0),0,SUM($D$90:AV90))","v":0},{"$f":"IF(OR(SUM($D$90:AW90)=AV89,AV89=0),0,SUM($D$90:AW90))","v":0},{"$f":"IF(OR(SUM($D$90:AX90)=AW89,AW89=0),0,SUM($D$90:AX90))","v":0},{"$f":"IF(OR(SUM($D$90:AY90)=AX89,AX89=0),0,SUM($D$90:AY90))","v":0},{"$f":"IF(OR(SUM($D$90:AZ90)=AY89,AY89=0),0,SUM($D$90:AZ90))","v":0},{"$f":"IF(OR(SUM($D$90:BA90)=AZ89,AZ89=0),0,SUM($D$90:BA90))","v":0}]
[null,null,"RELATIVE",{"$f":"D88/2","v":0},{"$f":"(D88/2)+(E88/2)","v":0},{"$f":"(E88/2)+(F88/2)","v":0},0,0,0,0,0,0,0,0,0,0,0,0,0,0,0,0,0,0,0,0,0,0,0,0,0,0,0,0,0,0,0,0,0,0,0,0,0,0,0,0,0,0,0,0,0,0,0]
[]
[{"$nulls":3},1,2,3,4,5,6,7,8,9,10,11,12,13,14,15,16,17,18,19,20,21,22,23,24,25,26,27,28,29,30,31,32,33,34,35,36,37,38,39,40,41,42,43,44,45,46,47,48,49,50]
[null,"LABEL 11","RELATIVE",{"$f":"'Horizontal Labels'!E$122","v":0},{"$f":"'Horizontal Labels'!F$122","v":0},{"$f":"'Horizontal Labels'!G$122","v":0},{"$f":"'Horizontal Labels'!H$122","v":0},{"$f":"'Horizontal Labels'!I$122","v":0},{"$f":"'Horizontal Labels'!J$122","v":0},{"$f":"'Horizontal Labels'!K$122","v":0},{"$f":"'Horizontal Labels'!L$122","v":0},{"$f":"'Horizontal Labels'!M$122","v":0},{"$f":"'Horizontal Labels'!N$122","v":0},{"$f":"'Horizontal Labels'!O$122","v":0},{"$f":"'Horizontal Labels'!P$122","v":0},{"$f":"'Horizontal Labels'!Q$122","v":0},{"$f":"'Horizontal Labels'!R$122","v":0},{"$f":"'Horizontal Labels'!S$122","v":0},{"$f":"'Horizontal Labels'!T$122","v":0},{"$f":"'Horizontal Labels'!U$122","v":0},{"$f":"'Horizontal Labels'!V$122","v":0},{"$f":"'Horizontal Labels'!W$122","v":0},{"$f":"'Horizontal Labels'!X$122","v":0},{"$f":"'Horizontal Labels'!Y$122","v":0},{"$f":"'Horizontal Labels'!Z$122","v":0},{"$f":"'Horizontal Labels'!AA$122","v":0},{"$f":"'Horizontal Labels'!AB$122","v":0},{"$f":"'Horizontal Labels'!AC$122","v":0},{"$f":"'Horizontal Labels'!AD$122","v":0},{"$f":"'Horizontal Labels'!AE$122","v":0},{"$f":"'Horizontal Labels'!AF$122","v":0},{"$f":"'Horizontal Labels'!AG$122","v":0},{"$f":"'Horizontal Labels'!AH$122","v":0},{"$f":"'Horizontal Labels'!AI$122","v":0},{"$f":"'Horizontal Labels'!AJ$122","v":0},{"$f":"'Horizontal Labels'!AK$122","v":0},{"$f":"'Horizontal Labels'!AL$122","v":0},{"$f":"'Horizontal Labels'!AM$122","v":0},{"$f":"'Horizontal Labels'!AN$122","v":0},{"$f":"'Horizontal Labels'!AO$122","v":0},{"$f":"'Horizontal Labels'!AP$122","v":0},{"$f":"'Horizontal Labels'!AQ$122","v":0},{"$f":"'Horizontal Labels'!AR$122","v":0},{"$f":"'Horizontal Labels'!AS$122","v":0},{"$f":"'Horizontal Labels'!AT$122","v":0},{"$f":"'Horizontal Labels'!AU$122","v":0},{"$f":"'Horizontal Labels'!AV$122","v":0},{"$f":"'Horizontal Labels'!AW$122","v":0},{"$f":"'Horizontal Labels'!AX$122","v":0},{"$f":"'Horizontal Labels'!AY$122","v":0},{"$f":"'Horizontal Labels'!AZ$122","v":0},{"$f":"'Horizontal Labels'!BA$122","v":0},{"$f":"'Horizontal Labels'!BB$122","v":0}]
[null,null,"FIXED",{"$f":"SUM($D$93:D93)","v":0},{"$f":"IF(OR(SUM($D$93:E93)=D94,D94=0),0,SUM($D$93:E93))","v":0},{"$f":"IF(OR(SUM($D$93:F93)=E94,E94=0),0,SUM($D$93:F93))","v":0},{"$f":"IF(OR(SUM($D$93:G93)=F94,F94=0),0,SUM($D$93:G93))","v":0},{"$f":"IF(OR(SUM($D$93:H93)=G94,G94=0),0,SUM($D$93:H93))","v":0},{"$f":"IF(OR(SUM($D$93:I93)=H94,H94=0),0,SUM($D$93:I93))","v":0},{"$f":"IF(OR(SUM($D$93:J93)=I94,I94=0),0,SUM($D$93:J93))","v":0},{"$f":"IF(OR(SUM($D$93:K93)=J94,J94=0),0,SUM($D$93:K93))","v":0},{"$f":"IF(OR(SUM($D$93:L93)=K94,K94=0),0,SUM($D$93:L93))","v":0},{"$f":"IF(OR(SUM($D$93:M93)=L94,L94=0),0,SUM($D$93:M93))","v":0},{"$f":"IF(OR(SUM($D$93:N93)=M94,M94=0),0,SUM($D$93:N93))","v":0},{"$f":"IF(OR(SUM($D$93:O93)=N94,N94=0),0,SUM($D$93:O93))","v":0},{"$f":"IF(OR(SUM($D$93:P93)=O94,O94=0),0,SUM($D$93:P93))","v":0},{"$f":"IF(OR(SUM($D$93:Q93)=P94,P94=0),0,SUM($D$93:Q93))","v":0},{"$f":"IF(OR(SUM($D$93:R93)=Q94,Q94=0),0,SUM($D$93:R93))","v":0},{"$f":"IF(OR(SUM($D$93:S93)=R94,R94=0),0,SUM($D$93:S93))","v":0},{"$f":"IF(OR(SUM($D$93:T93)=S94,S94=0),0,SUM($D$93:T93))","v":0},{"$f":"IF(OR(SUM($D$93:U93)=T94,T94=0),0,SUM($D$93:U93))","v":0},{"$f":"IF(OR(SUM($D$93:V93)=U94,U94=0),0,SUM($D$93:V93))","v":0},{"$f":"IF(OR(SUM($D$93:W93)=V94,V94=0),0,SUM($D$93:W93))","v":0},{"$f":"IF(OR(SUM($D$93:X93)=W94,W94=0),0,SUM($D$93:X93))","v":0},{"$f":"IF(OR(SUM($D$93:Y93)=X94,X94=0),0,SUM($D$93:Y93))","v":0},{"$f":"IF(OR(SUM($D$93:Z93)=Y94,Y94=0),0,SUM($D$93:Z93))","v":0},{"$f":"IF(OR(SUM($D$93:AA93)=Z94,Z94=0),0,SUM($D$93:AA93))","v":0},{"$f":"IF(OR(SUM($D$93:AB93)=AA94,AA94=0),0,SUM($D$93:AB93))","v":0},{"$f":"IF(OR(SUM($D$93:AC93)=AB94,AB94=0),0,SUM($D$93:AC93))","v":0},{"$f":"IF(OR(SUM($D$93:AD93)=AC94,AC94=0),0,SUM($D$93:AD93))","v":0},{"$f":"IF(OR(SUM($D$93:AE93)=AD94,AD94=0),0,SUM($D$93:AE93))","v":0},{"$f":"IF(OR(SUM($D$93:AF93)=AE94,AE94=0),0,SUM($D$93:AF93))","v":0},{"$f":"IF(OR(SUM($D$93:AG93)=AF94,AF94=0),0,SUM($D$93:AG93))","v":0},{"$f":"IF(OR(SUM($D$93:AH93)=AG94,AG94=0),0,SUM($D$93:AH93))","v":0},{"$f":"IF(OR(SUM($D$93:AI93)=AH94,AH94=0),0,SUM($D$93:AI93))","v":0},{"$f":"IF(OR(SUM($D$93:AJ93)=AI94,AI94=0),0,SUM($D$93:AJ93))","v":0},{"$f":"IF(OR(SUM($D$93:AK93)=AJ94,AJ94=0),0,SUM($D$93:AK93))","v":0},{"$f":"IF(OR(SUM($D$93:AL93)=AK94,AK94=0),0,SUM($D$93:AL93))","v":0},{"$f":"IF(OR(SUM($D$93:AM93)=AL94,AL94=0),0,SUM($D$93:AM93))","v":0},{"$f":"IF(OR(SUM($D$93:AN93)=AM94,AM94=0),0,SUM($D$93:AN93))","v":0},{"$f":"IF(OR(SUM($D$93:AO93)=AN94,AN94=0),0,SUM($D$93:AO93))","v":0},{"$f":"IF(OR(SUM($D$93:AP93)=AO94,AO94=0),0,SUM($D$93:AP93))","v":0},{"$f":"IF(OR(SUM($D$93:AQ93)=AP94,AP94=0),0,SUM($D$93:AQ93))","v":0},{"$f":"IF(OR(SUM($D$93:AR93)=AQ94,AQ94=0),0,SUM($D$93:AR93))","v":0},{"$f":"IF(OR(SUM($D$93:AS93)=AR94,AR94=0),0,SUM($D$93:AS93))","v":0},{"$f":"IF(OR(SUM($D$93:AT93)=AS94,AS94=0),0,SUM($D$93:AT93))","v":0},{"$f":"IF(OR(SUM($D$93:AU93)=AT94,AT94=0),0,SUM($D$93:AU93))","v":0},{"$f":"IF(OR(SUM($D$93:AV93)=AU94,AU94=0),0,SUM($D$93:AV93))","v":0},{"$f":"IF(OR(SUM($D$93:AW93)=AV94,AV94=0),0,SUM($D$93:AW93))","v":0},{"$f":"IF(OR(SUM($D$93:AX93)=AW94,AW94=0),0,SUM($D$93:AX93))","v":0},{"$f":"IF(OR(SUM($D$93:AY93)=AX94,AX94=0),0,SUM($D$93:AY93))","v":0},{"$f":"IF(OR(SUM($D$93:AZ93)=AY94,AY94=0),0,SUM($D$93:AZ93))","v":0},{"$f":"IF(OR(SUM($D$93:BA93)=AZ94,AZ94=0),0,SUM($D$93:BA93))","v":0}]
[null,null,"FIXED",{"$f":"'Horizontal Labels'!E$122","v":0},{"$f":"'Horizontal Labels'!F$122","v":0},{"$f":"'Horizontal Labels'!G$122","v":0},{"$f":"'Horizontal Labels'!H$122","v":0},{"$f":"'Horizontal Labels'!I$122","v":0},{"$f":"'Horizontal Labels'!J$122","v":0},{"$f":"'Horizontal Labels'!K$122","v":0},{"$f":"'Horizontal Labels'!L$122","v":0},{"$f":"'Horizontal Labels'!M$122","v":0},{"$f":"'Horizontal Labels'!N$122","v":0},{"$f":"'Horizontal Labels'!O$122","v":0},{"$f":"'Horizontal Labels'!P$122","v":0},{"$f":"'Horizontal Labels'!Q$122","v":0},{"$f":"'Horizontal Labels'!R$122","v":0},{"$f":"'Horizontal Labels'!S$122","v":0},{"$f":"'Horizontal Labels'!T$122","v":0},{"$f":"'Horizontal Labels'!U$122","v":0},{"$f":"'Horizontal Labels'!V$122","v":0},{"$f":"'Horizontal Labels'!W$122","v":0},{"$f":"'Horizontal Labels'!X$122","v":0},{"$f":"'Horizontal Labels'!Y$122","v":0},{"$f":"'Horizontal Labels'!Z$122","v":0},{"$f":"'Horizontal Labels'!AA$122","v":0},{"$f":"'Horizontal Labels'!AB$122","v":0},{"$f":"'Horizontal Labels'!AC$122","v":0},{"$f":"'Horizontal Labels'!AD$122","v":0},{"$f":"'Horizontal Labels'!AE$122","v":0},{"$f":"'Horizontal Labels'!AF$122","v":0},{"$f":"'Horizontal Labels'!AG$122","v":0},{"$f":"'Horizontal Labels'!AH$122","v":0},{"$f":"'Horizontal Labels'!AI$122","v":0},{"$f":"'Horizontal Labels'!AJ$122","v":0},{"$f":"'Horizontal Labels'!AK$122","v":0},{"$f":"'Horizontal Labels'!AL$122","v":0},{"$f":"'Horizontal Labels'!AM$122","v":0},{"$f":"'Horizontal Labels'!AN$122","v":0},{"$f":"'Horizontal Labels'!AO$122","v":0},{"$f":"'Horizontal Labels'!AP$122","v":0},{"$f":"'Horizontal Labels'!AQ$122","v":0},{"$f":"'Horizontal Labels'!AR$122","v":0},{"$f":"'Horizontal Labels'!AS$122","v":0},{"$f":"'Horizontal Labels'!AT$122","v":0},{"$f":"'Horizontal Labels'!AU$122","v":0},{"$f":"'Horizontal Labels'!AV$122","v":0},{"$f":"'Horizontal Labels'!AW$122","v":0},{"$f":"'Horizontal Labels'!AX$122","v":0},{"$f":"'Horizontal Labels'!AY$122","v":0},{"$f":"'Horizontal Labels'!AZ$122","v":0},{"$f":"'Horizontal Labels'!BA$122","v":0},{"$f":"'Horizontal Labels'!BB$122","v":0}]
[null,null,"RELATIVE",{"$f":"D95","v":0},{"$f":"IF(E95-D95<1,0,E95-D95)","v":0},{"$f":"IF(F95-E95<1,0,F95-E95)","v":0},0,0,0,0,0,0,0,0,0,0,0,0,0,0,0,0,0,0,0,0,0,0,0,0,0,0,0,0,0,0,0,0,0,0,0,0,0,0,0,0,0,0,0,0,0,0,0]
[null,null,"BLOCKS",{"$f":"'Horizontal Labels'!E$122","v":0},{"$f":"'Horizontal Labels'!F$122","v":0},{"$f":"'Horizontal Labels'!G$122","v":0},{"$f":"'Horizontal Labels'!H$122","v":0},{"$f":"'Horizontal Labels'!I$122","v":0},{"$f":"'Horizontal Labels'!J$122","v":0},{"$f":"'Horizontal Labels'!K$122","v":0},{"$f":"'Horizontal Labels'!L$122","v":0},{"$f":"'Horizontal Labels'!M$122","v":0},{"$f":"'Horizontal Labels'!N$122","v":0},{"$f":"'Horizontal Labels'!O$122","v":0},{"$f":"'Horizontal Labels'!P$122","v":0},{"$f":"'Horizontal Labels'!Q$122","v":0},{"$f":"'Horizontal Labels'!R$122","v":0},{"$f":"'Horizontal Labels'!S$122","v":0},{"$f":"'Horizontal Labels'!T$122","v":0},{"$f":"'Horizontal Labels'!U$122","v":0},{"$f":"'Horizontal Labels'!V$122","v":0},{"$f":"'Horizontal Labels'!W$122","v":0},{"$f":"'Horizontal Labels'!X$122","v":0},{"$f":"'Horizontal Labels'!Y$122","v":0},{"$f":"'Horizontal Labels'!Z$122","v":0},{"$f":"'Horizontal Labels'!AA$122","v":0},{"$f":"'Horizontal Labels'!AB$122","v":0},{"$f":"'Horizontal Labels'!AC$122","v":0},{"$f":"'Horizontal Labels'!AD$122","v":0},{"$f":"'Horizontal Labels'!AE$122","v":0},{"$f":"'Horizontal Labels'!AF$122","v":0},{"$f":"'Horizontal Labels'!AG$122","v":0},{"$f":"'Horizontal Labels'!AH$122","v":0},{"$f":"'Horizontal Labels'!AI$122","v":0},{"$f":"'Horizontal Labels'!AJ$122","v":0},{"$f":"'Horizontal Labels'!AK$122","v":0},{"$f":"'Horizontal Labels'!AL$122","v":0},{"$f":"'Horizontal Labels'!AM$122","v":0},{"$f":"'Horizontal Labels'!AN$122","v":0},{"$f":"'Horizontal Labels'!AO$122","v":0},{"$f":"'Horizontal Labels'!AP$122","v":0},{"$f":"'Horizontal Labels'!AQ$122","v":0},{"$f":"'Horizontal Labels'!AR$122","v":0},{"$f":"'Horizontal Labels'!AS$122","v":0},{"$f":"'Horizontal Labels'!AT$122","v":0},{"$f":"'Horizontal Labels'!AU$122","v":0},{"$f":"'Horizontal Labels'!AV$122","v":0},{"$f":"'Horizontal Labels'!AW$122","v":0},{"$f":"'Horizontal Labels'!AX$122","v":0},{"$f":"'Horizontal Labels'!AY$122","v":0},{"$f":"'Horizontal Labels'!AZ$122","v":0},{"$f":"'Horizontal Labels'!BA$122","v":0},{"$f":"'Horizontal Labels'!BB$122","v":0}]
[null,null,"FIXED",{"$f":"D99","v":0},{"$f":"IF(OR(SUM($D$99:E99)=D98,D98=0),0,SUM($D$99:E99))","v":0},{"$f":"IF(OR(SUM($D$99:F99)=E98,E98=0),0,SUM($D$99:F99))","v":0},{"$f":"IF(OR(SUM($D$99:G99)=F98,F98=0),0,SUM($D$99:G99))","v":0},{"$f":"IF(OR(SUM($D$99:H99)=G98,G98=0),0,SUM($D$99:H99))","v":0},{"$f":"IF(OR(SUM($D$99:I99)=H98,H98=0),0,SUM($D$99:I99))","v":0},{"$f":"IF(OR(SUM($D$99:J99)=I98,I98=0),0,SUM($D$99:J99))","v":0},{"$f":"IF(OR(SUM($D$99:K99)=J98,J98=0),0,SUM($D$99:K99))","v":0},{"$f":"IF(OR(SUM($D$99:L99)=K98,K98=0),0,SUM($D$99:L99))","v":0},{"$f":"IF(OR(SUM($D$99:M99)=L98,L98=0),0,SUM($D$99:M99))","v":0},{"$f":"IF(OR(SUM($D$99:N99)=M98,M98=0),0,SUM($D$99:N99))","v":0},{"$f":"IF(OR(SUM($D$99:O99)=N98,N98=0),0,SUM($D$99:O99))","v":0},{"$f":"IF(OR(SUM($D$99:P99)=O98,O98=0),0,SUM($D$99:P99))","v":0},{"$f":"IF(OR(SUM($D$99:Q99)=P98,P98=0),0,SUM($D$99:Q99))","v":0},{"$f":"IF(OR(SUM($D$99:R99)=Q98,Q98=0),0,SUM($D$99:R99))","v":0},{"$f":"IF(OR(SUM($D$99:S99)=R98,R98=0),0,SUM($D$99:S99))","v":0},{"$f":"IF(OR(SUM($D$99:T99)=S98,S98=0),0,SUM($D$99:T99))","v":0},{"$f":"IF(OR(SUM($D$99:U99)=T98,T98=0),0,SUM($D$99:U99))","v":0},{"$f":"IF(OR(SUM($D$99:V99)=U98,U98=0),0,SUM($D$99:V99))","v":0},{"$f":"IF(OR(SUM($D$99:W99)=V98,V98=0),0,SUM($D$99:W99))","v":0},{"$f":"IF(OR(SUM($D$99:X99)=W98,W98=0),0,SUM($D$99:X99))","v":0},{"$f":"IF(OR(SUM($D$99:Y99)=X98,X98=0),0,SUM($D$99:Y99))","v":0},{"$f":"IF(OR(SUM($D$99:Z99)=Y98,Y98=0),0,SUM($D$99:Z99))","v":0},{"$f":"IF(OR(SUM($D$99:AA99)=Z98,Z98=0),0,SUM($D$99:AA99))","v":0},{"$f":"IF(OR(SUM($D$99:AB99)=AA98,AA98=0),0,SUM($D$99:AB99))","v":0},{"$f":"IF(OR(SUM($D$99:AC99)=AB98,AB98=0),0,SUM($D$99:AC99))","v":0},{"$f":"IF(OR(SUM($D$99:AD99)=AC98,AC98=0),0,SUM($D$99:AD99))","v":0},{"$f":"IF(OR(SUM($D$99:AE99)=AD98,AD98=0),0,SUM($D$99:AE99))","v":0},{"$f":"IF(OR(SUM($D$99:AF99)=AE98,AE98=0),0,SUM($D$99:AF99))","v":0},{"$f":"IF(OR(SUM($D$99:AG99)=AF98,AF98=0),0,SUM($D$99:AG99))","v":0},{"$f":"IF(OR(SUM($D$99:AH99)=AG98,AG98=0),0,SUM($D$99:AH99))","v":0},{"$f":"IF(OR(SUM($D$99:AI99)=AH98,AH98=0),0,SUM($D$99:AI99))","v":0},{"$f":"IF(OR(SUM($D$99:AJ99)=AI98,AI98=0),0,SUM($D$99:AJ99))","v":0},{"$f":"IF(OR(SUM($D$99:AK99)=AJ98,AJ98=0),0,SUM($D$99:AK99))","v":0},{"$f":"IF(OR(SUM($D$99:AL99)=AK98,AK98=0),0,SUM($D$99:AL99))","v":0},{"$f":"IF(OR(SUM($D$99:AM99)=AL98,AL98=0),0,SUM($D$99:AM99))","v":0},{"$f":"IF(OR(SUM($D$99:AN99)=AM98,AM98=0),0,SUM($D$99:AN99))","v":0},{"$f":"IF(OR(SUM($D$99:AO99)=AN98,AN98=0),0,SUM($D$99:AO99))","v":0},{"$f":"IF(OR(SUM($D$99:AP99)=AO98,AO98=0),0,SUM($D$99:AP99))","v":0},{"$f":"IF(OR(SUM($D$99:AQ99)=AP98,AP98=0),0,SUM($D$99:AQ99))","v":0},{"$f":"IF(OR(SUM($D$99:AR99)=AQ98,AQ98=0),0,SUM($D$99:AR99))","v":0},{"$f":"IF(OR(SUM($D$99:AS99)=AR98,AR98=0),0,SUM($D$99:AS99))","v":0},{"$f":"IF(OR(SUM($D$99:AT99)=AS98,AS98=0),0,SUM($D$99:AT99))","v":0},{"$f":"IF(OR(SUM($D$99:AU99)=AT98,AT98=0),0,SUM($D$99:AU99))","v":0},{"$f":"IF(OR(SUM($D$99:AV99)=AU98,AU98=0),0,SUM($D$99:AV99))","v":0},{"$f":"IF(OR(SUM($D$99:AW99)=AV98,AV98=0),0,SUM($D$99:AW99))","v":0},{"$f":"IF(OR(SUM($D$99:AX99)=AW98,AW98=0),0,SUM($D$99:AX99))","v":0},{"$f":"IF(OR(SUM($D$99:AY99)=AX98,AX98=0),0,SUM($D$99:AY99))","v":0},{"$f":"IF(OR(SUM($D$99:AZ99)=AY98,AY98=0),0,SUM($D$99:AZ99))","v":0},{"$f":"IF(OR(SUM($D$99:BA99)=AZ98,AZ98=0),0,SUM($D$99:BA99))","v":0}]
[null,null,"RELATIVE",{"$f":"D97/2","v":0},{"$f":"(D97/2)+(E97/2)","v":0},{"$f":"(E97/2)+(F97/2)","v":0},0,0,0,0,0,0,0,0,0,0,0,0,0,0,0,0,0,0,0,0,0,0,0,0,0,0,0,0,0,0,0,0,0,0,0,0,0,0,0,0,0,0,0,0,0,0,0]
[]
[{"$nulls":3},1,2,3,4,5,6,7,8,9,10,11,12,13,14,15,16,17,18,19,20,21,22,23,24,25,26,27,28,29,30,31,32,33,34,35,36,37,38,39,40,41,42,43,44,45,46,47,48,49,50]
[null,"LABEL 12","RELATIVE",{"$f":"'Horizontal Labels'!E$133","v":0},{"$f":"'Horizontal Labels'!F$133","v":0},{"$f":"'Horizontal Labels'!G$133","v":0},{"$f":"'Horizontal Labels'!H$133","v":0},{"$f":"'Horizontal Labels'!I$133","v":0},{"$f":"'Horizontal Labels'!J$133","v":0},{"$f":"'Horizontal Labels'!K$133","v":0},{"$f":"'Horizontal Labels'!L$133","v":0},{"$f":"'Horizontal Labels'!M$133","v":0},{"$f":"'Horizontal Labels'!N$133","v":0},{"$f":"'Horizontal Labels'!O$133","v":0},{"$f":"'Horizontal Labels'!P$133","v":0},{"$f":"'Horizontal Labels'!Q$133","v":0},{"$f":"'Horizontal Labels'!R$133","v":0},{"$f":"'Horizontal Labels'!S$133","v":0},{"$f":"'Horizontal Labels'!T$133","v":0},{"$f":"'Horizontal Labels'!U$133","v":0},{"$f":"'Horizontal Labels'!V$133","v":0},{"$f":"'Horizontal Labels'!W$133","v":0},{"$f":"'Horizontal Labels'!X$133","v":0},{"$f":"'Horizontal Labels'!Y$133","v":0},{"$f":"'Horizontal Labels'!Z$133","v":0},{"$f":"'Horizontal Labels'!AA$133","v":0},{"$f":"'Horizontal Labels'!AB$133","v":0},{"$f":"'Horizontal Labels'!AC$133","v":0},{"$f":"'Horizontal Labels'!AD$133","v":0},{"$f":"'Horizontal Labels'!AE$133","v":0},{"$f":"'Horizontal Labels'!AF$133","v":0},{"$f":"'Horizontal Labels'!AG$133","v":0},{"$f":"'Horizontal Labels'!AH$133","v":0},{"$f":"'Horizontal Labels'!AI$133","v":0},{"$f":"'Horizontal Labels'!AJ$133","v":0},{"$f":"'Horizontal Labels'!AK$133","v":0},{"$f":"'Horizontal Labels'!AL$133","v":0},{"$f":"'Horizontal Labels'!AM$133","v":0},{"$f":"'Horizontal Labels'!AN$133","v":0},{"$f":"'Horizontal Labels'!AO$133","v":0},{"$f":"'Horizontal Labels'!AP$133","v":0},{"$f":"'Horizontal Labels'!AQ$133","v":0},{"$f":"'Horizontal Labels'!AR$133","v":0},{"$f":"'Horizontal Labels'!AS$133","v":0},{"$f":"'Horizontal Labels'!AT$133","v":0},{"$f":"'Horizontal Labels'!AU$133","v":0},{"$f":"'Horizontal Labels'!AV$133","v":0},{"$f":"'Horizontal Labels'!AW$133","v":0},{"$f":"'Horizontal Labels'!AX$133","v":0},{"$f":"'Horizontal Labels'!AY$133","v":0},{"$f":"'Horizontal Labels'!AZ$133","v":0},{"$f":"'Horizontal Labels'!BA$133","v":0},{"$f":"'Horizontal Labels'!BB$133","v":0}]
[null,null,"FIXED",{"$f":"SUM($D$102:D102)","v":0},{"$f":"IF(OR(SUM($D$102:E102)=D103,D103=0),0,SUM($D$102:E102))","v":0},{"$f":"IF(OR(SUM($D$102:F102)=E103,E103=0),0,SUM($D$102:F102))","v":0},{"$f":"IF(OR(SUM($D$102:G102)=F103,F103=0),0,SUM($D$102:G102))","v":0},{"$f":"IF(OR(SUM($D$102:H102)=G103,G103=0),0,SUM($D$102:H102))","v":0},{"$f":"IF(OR(SUM($D$102:I102)=H103,H103=0),0,SUM($D$102:I102))","v":0},{"$f":"IF(OR(SUM($D$102:J102)=I103,I103=0),0,SUM($D$102:J102))","v":0},{"$f":"IF(OR(SUM($D$102:K102)=J103,J103=0),0,SUM($D$102:K102))","v":0},{"$f":"IF(OR(SUM($D$102:L102)=K103,K103=0),0,SUM($D$102:L102))","v":0},{"$f":"IF(OR(SUM($D$102:M102)=L103,L103=0),0,SUM($D$102:M102))","v":0},{"$f":"IF(OR(SUM($D$102:N102)=M103,M103=0),0,SUM($D$102:N102))","v":0},{"$f":"IF(OR(SUM($D$102:O102)=N103,N103=0),0,SUM($D$102:O102))","v":0},{"$f":"IF(OR(SUM($D$102:P102)=O103,O103=0),0,SUM($D$102:P102))","v":0},{"$f":"IF(OR(SUM($D$102:Q102)=P103,P103=0),0,SUM($D$102:Q102))","v":0},{"$f":"IF(OR(SUM($D$102:R102)=Q103,Q103=0),0,SUM($D$102:R102))","v":0},{"$f":"IF(OR(SUM($D$102:S102)=R103,R103=0),0,SUM($D$102:S102))","v":0},{"$f":"IF(OR(SUM($D$102:T102)=S103,S103=0),0,SUM($D$102:T102))","v":0},{"$f":"IF(OR(SUM($D$102:U102)=T103,T103=0),0,SUM($D$102:U102))","v":0},{"$f":"IF(OR(SUM($D$102:V102)=U103,U103=0),0,SUM($D$102:V102))","v":0},{"$f":"IF(OR(SUM($D$102:W102)=V103,V103=0),0,SUM($D$102:W102))","v":0},{"$f":"IF(OR(SUM($D$102:X102)=W103,W103=0),0,SUM($D$102:X102))","v":0},{"$f":"IF(OR(SUM($D$102:Y102)=X103,X103=0),0,SUM($D$102:Y102))","v":0},{"$f":"IF(OR(SUM($D$102:Z102)=Y103,Y103=0),0,SUM($D$102:Z102))","v":0},{"$f":"IF(OR(SUM($D$102:AA102)=Z103,Z103=0),0,SUM($D$102:AA102))","v":0},{"$f":"IF(OR(SUM($D$102:AB102)=AA103,AA103=0),0,SUM($D$102:AB102))","v":0},{"$f":"IF(OR(SUM($D$102:AC102)=AB103,AB103=0),0,SUM($D$102:AC102))","v":0},{"$f":"IF(OR(SUM($D$102:AD102)=AC103,AC103=0),0,SUM($D$102:AD102))","v":0},{"$f":"IF(OR(SUM($D$102:AE102)=AD103,AD103=0),0,SUM($D$102:AE102))","v":0},{"$f":"IF(OR(SUM($D$102:AF102)=AE103,AE103=0),0,SUM($D$102:AF102))","v":0},{"$f":"IF(OR(SUM($D$102:AG102)=AF103,AF103=0),0,SUM($D$102:AG102))","v":0},{"$f":"IF(OR(SUM($D$102:AH102)=AG103,AG103=0),0,SUM($D$102:AH102))","v":0},{"$f":"IF(OR(SUM($D$102:AI102)=AH103,AH103=0),0,SUM($D$102:AI102))","v":0},{"$f":"IF(OR(SUM($D$102:AJ102)=AI103,AI103=0),0,SUM($D$102:AJ102))","v":0},{"$f":"IF(OR(SUM($D$102:AK102)=AJ103,AJ103=0),0,SUM($D$102:AK102))","v":0},{"$f":"IF(OR(SUM($D$102:AL102)=AK103,AK103=0),0,SUM($D$102:AL102))","v":0},{"$f":"IF(OR(SUM($D$102:AM102)=AL103,AL103=0),0,SUM($D$102:AM102))","v":0},{"$f":"IF(OR(SUM($D$102:AN102)=AM103,AM103=0),0,SUM($D$102:AN102))","v":0},{"$f":"IF(OR(SUM($D$102:AO102)=AN103,AN103=0),0,SUM($D$102:AO102))","v":0},{"$f":"IF(OR(SUM($D$102:AP102)=AO103,AO103=0),0,SUM($D$102:AP102))","v":0},{"$f":"IF(OR(SUM($D$102:AQ102)=AP103,AP103=0),0,SUM($D$102:AQ102))","v":0},{"$f":"IF(OR(SUM($D$102:AR102)=AQ103,AQ103=0),0,SUM($D$102:AR102))","v":0},{"$f":"IF(OR(SUM($D$102:AS102)=AR103,AR103=0),0,SUM($D$102:AS102))","v":0},{"$f":"IF(OR(SUM($D$102:AT102)=AS103,AS103=0),0,SUM($D$102:AT102))","v":0},{"$f":"IF(OR(SUM($D$102:AU102)=AT103,AT103=0),0,SUM($D$102:AU102))","v":0},{"$f":"IF(OR(SUM($D$102:AV102)=AU103,AU103=0),0,SUM($D$102:AV102))","v":0},{"$f":"IF(OR(SUM($D$102:AW102)=AV103,AV103=0),0,SUM($D$102:AW102))","v":0},{"$f":"IF(OR(SUM($D$102:AX102)=AW103,AW103=0),0,SUM($D$102:AX102))","v":0},{"$f":"IF(OR(SUM($D$102:AY102)=AX103,AX103=0),0,SUM($D$102:AY102))","v":0},{"$f":"IF(OR(SUM($D$102:AZ102)=AY103,AY103=0),0,SUM($D$102:AZ102))","v":0},{"$f":"IF(OR(SUM($D$102:BA102)=AZ103,AZ103=0),0,SUM($D$102:BA102))","v":0}]
[null,null,"FIXED",{"$f":"'Horizontal Labels'!E$133","v":0},{"$f":"'Horizontal Labels'!F$133","v":0},{"$f":"'Horizontal Labels'!G$133","v":0},{"$f":"'Horizontal Labels'!H$133","v":0},{"$f":"'Horizontal Labels'!I$133","v":0},{"$f":"'Horizontal Labels'!J$133","v":0},{"$f":"'Horizontal Labels'!K$133","v":0},{"$f":"'Horizontal Labels'!L$133","v":0},{"$f":"'Horizontal Labels'!M$133","v":0},{"$f":"'Horizontal Labels'!N$133","v":0},{"$f":"'Horizontal Labels'!O$133","v":0},{"$f":"'Horizontal Labels'!P$133","v":0},{"$f":"'Horizontal Labels'!Q$133","v":0},{"$f":"'Horizontal Labels'!R$133","v":0},{"$f":"'Horizontal Labels'!S$133","v":0},{"$f":"'Horizontal Labels'!T$133","v":0},{"$f":"'Horizontal Labels'!U$133","v":0},{"$f":"'Horizontal Labels'!V$133","v":0},{"$f":"'Horizontal Labels'!W$133","v":0},{"$f":"'Horizontal Labels'!X$133","v":0},{"$f":"'Horizontal Labels'!Y$133","v":0},{"$f":"'Horizontal Labels'!Z$133","v":0},{"$f":"'Horizontal Labels'!AA$133","v":0},{"$f":"'Horizontal Labels'!AB$133","v":0},{"$f":"'Horizontal Labels'!AC$133","v":0},{"$f":"'Horizontal Labels'!AD$133","v":0},{"$f":"'Horizontal Labels'!AE$133","v":0},{"$f":"'Horizontal Labels'!AF$133","v":0},{"$f":"'Horizontal Labels'!AG$133","v":0},{"$f":"'Horizontal Labels'!AH$133","v":0},{"$f":"'Horizontal Labels'!AI$133","v":0},{"$f":"'Horizontal Labels'!AJ$133","v":0},{"$f":"'Horizontal Labels'!AK$133","v":0},{"$f":"'Horizontal Labels'!AL$133","v":0},{"$f":"'Horizontal Labels'!AM$133","v":0},{"$f":"'Horizontal Labels'!AN$133","v":0},{"$f":"'Horizontal Labels'!AO$133","v":0},{"$f":"'Horizontal Labels'!AP$133","v":0},{"$f":"'Horizontal Labels'!AQ$133","v":0},{"$f":"'Horizontal Labels'!AR$133","v":0},{"$f":"'Horizontal Labels'!AS$133","v":0},{"$f":"'Horizontal Labels'!AT$133","v":0},{"$f":"'Horizontal Labels'!AU$133","v":0},{"$f":"'Horizontal Labels'!AV$133","v":0},{"$f":"'Horizontal Labels'!AW$133","v":0},{"$f":"'Horizontal Labels'!AX$133","v":0},{"$f":"'Horizontal Labels'!AY$133","v":0},{"$f":"'Horizontal Labels'!AZ$133","v":0},{"$f":"'Horizontal Labels'!BA$133","v":0},{"$f":"'Horizontal Labels'!BB$133","v":0}]
[null,null,"RELATIVE",{"$f":"D104","v":0},{"$f":"IF(E104-D104<1,0,E104-D104)","v":0},{"$f":"IF(F104-E104<1,0,F104-E104)","v":0},0,0,0,0,0,0,0,0,0,0,0,0,0,0,0,0,0,0,0,0,0,0,0,0,0,0,0,0,0,0,0,0,0,0,0,0,0,0,0,0,0,0,0,0,0,0,0]
[null,null,"BLOCKS",{"$f":"'Horizontal Labels'!E$133","v":0},{"$f":"'Horizontal Labels'!F$133","v":0},{"$f":"'Horizontal Labels'!G$133","v":0},{"$f":"'Horizontal Labels'!H$133","v":0},{"$f":"'Horizontal Labels'!I$133","v":0},{"$f":"'Horizontal Labels'!J$133","v":0},{"$f":"'Horizontal Labels'!K$133","v":0},{"$f":"'Horizontal Labels'!L$133","v":0},{"$f":"'Horizontal Labels'!M$133","v":0},{"$f":"'Horizontal Labels'!N$133","v":0},{"$f":"'Horizontal Labels'!O$133","v":0},{"$f":"'Horizontal Labels'!P$133","v":0},{"$f":"'Horizontal Labels'!Q$133","v":0},{"$f":"'Horizontal Labels'!R$133","v":0},{"$f":"'Horizontal Labels'!S$133","v":0},{"$f":"'Horizontal Labels'!T$133","v":0},{"$f":"'Horizontal Labels'!U$133","v":0},{"$f":"'Horizontal Labels'!V$133","v":0},{"$f":"'Horizontal Labels'!W$133","v":0},{"$f":"'Horizontal Labels'!X$133","v":0},{"$f":"'Horizontal Labels'!Y$133","v":0},{"$f":"'Horizontal Labels'!Z$133","v":0},{"$f":"'Horizontal Labels'!AA$133","v":0},{"$f":"'Horizontal Labels'!AB$133","v":0},{"$f":"'Horizontal Labels'!AC$133","v":0},{"$f":"'Horizontal Labels'!AD$133","v":0},{"$f":"'Horizontal Labels'!AE$133","v":0},{"$f":"'Horizontal Labels'!AF$133","v":0},{"$f":"'Horizontal Labels'!AG$133","v":0},{"$f":"'Horizontal Labels'!AH$133","v":0},{"$f":"'Horizontal Labels'!AI$133","v":0},{"$f":"'Horizontal Labels'!AJ$133","v":0},{"$f":"'Horizontal Labels'!AK$133","v":0},{"$f":"'Horizontal Labels'!AL$133","v":0},{"$f":"'Horizontal Labels'!AM$133","v":0},{"$f":"'Horizontal Labels'!AN$133","v":0},{"$f":"'Horizontal Labels'!AO$133","v":0},{"$f":"'Horizontal Labels'!AP$133","v":0},{"$f":"'Horizontal Labels'!AQ$133","v":0},{"$f":"'Horizontal Labels'!AR$133","v":0},{"$f":"'Horizontal Labels'!AS$133","v":0},{"$f":"'Horizontal Labels'!AT$133","v":0},{"$f":"'Horizontal Labels'!AU$133","v":0},{"$f":"'Horizontal Labels'!AV$133","v":0},{"$f":"'Horizontal Labels'!AW$133","v":0},{"$f":"'Horizontal Labels'!AX$133","v":0},{"$f":"'Horizontal Labels'!AY$133","v":0},{"$f":"'Horizontal Labels'!AZ$133","v":0},{"$f":"'Horizontal Labels'!BA$133","v":0},{"$f":"'Horizontal Labels'!BB$133","v":0}]
[null,null,"FIXED",{"$f":"D108","v":0},{"$f":"IF(OR(SUM($D$108:E108)=D107,D107=0),0,SUM($D$108:E108))","v":0},{"$f":"IF(OR(SUM($D$108:F108)=E107,E107=0),0,SUM($D$108:F108))","v":0},{"$f":"IF(OR(SUM($D$108:G108)=F107,F107=0),0,SUM($D$108:G108))","v":0},{"$f":"IF(OR(SUM($D$108:H108)=G107,G107=0),0,SUM($D$108:H108))","v":0},{"$f":"IF(OR(SUM($D$108:I108)=H107,H107=0),0,SUM($D$108:I108))","v":0},{"$f":"IF(OR(SUM($D$108:J108)=I107,I107=0),0,SUM($D$108:J108))","v":0},{"$f":"IF(OR(SUM($D$108:K108)=J107,J107=0),0,SUM($D$108:K108))","v":0},{"$f":"IF(OR(SUM($D$108:L108)=K107,K107=0),0,SUM($D$108:L108))","v":0},{"$f":"IF(OR(SUM($D$108:M108)=L107,L107=0),0,SUM($D$108:M108))","v":0},{"$f":"IF(OR(SUM($D$108:N108)=M107,M107=0),0,SUM($D$108:N108))","v":0},{"$f":"IF(OR(SUM($D$108:O108)=N107,N107=0),0,SUM($D$108:O108))","v":0},{"$f":"IF(OR(SUM($D$108:P108)=O107,O107=0),0,SUM($D$108:P108))","v":0},{"$f":"IF(OR(SUM($D$108:Q108)=P107,P107=0),0,SUM($D$108:Q108))","v":0},{"$f":"IF(OR(SUM($D$108:R108)=Q107,Q107=0),0,SUM($D$108:R108))","v":0},{"$f":"IF(OR(SUM($D$108:S108)=R107,R107=0),0,SUM($D$108:S108))","v":0},{"$f":"IF(OR(SUM($D$108:T108)=S107,S107=0),0,SUM($D$108:T108))","v":0},{"$f":"IF(OR(SUM($D$108:U108)=T107,T107=0),0,SUM($D$108:U108))","v":0},{"$f":"IF(OR(SUM($D$108:V108)=U107,U107=0),0,SUM($D$108:V108))","v":0},{"$f":"IF(OR(SUM($D$108:W108)=V107,V107=0),0,SUM($D$108:W108))","v":0},{"$f":"IF(OR(SUM($D$108:X108)=W107,W107=0),0,SUM($D$108:X108))","v":0},{"$f":"IF(OR(SUM($D$108:Y108)=X107,X107=0),0,SUM($D$108:Y108))","v":0},{"$f":"IF(OR(SUM($D$108:Z108)=Y107,Y107=0),0,SUM($D$108:Z108))","v":0},{"$f":"IF(OR(SUM($D$108:AA108)=Z107,Z107=0),0,SUM($D$108:AA108))","v":0},{"$f":"IF(OR(SUM($D$108:AB108)=AA107,AA107=0),0,SUM($D$108:AB108))","v":0},{"$f":"IF(OR(SUM($D$108:AC108)=AB107,AB107=0),0,SUM($D$108:AC108))","v":0},{"$f":"IF(OR(SUM($D$108:AD108)=AC107,AC107=0),0,SUM($D$108:AD108))","v":0},{"$f":"IF(OR(SUM($D$108:AE108)=AD107,AD107=0),0,SUM($D$108:AE108))","v":0},{"$f":"IF(OR(SUM($D$108:AF108)=AE107,AE107=0),0,SUM($D$108:AF108))","v":0},{"$f":"IF(OR(SUM($D$108:AG108)=AF107,AF107=0),0,SUM($D$108:AG108))","v":0},{"$f":"IF(OR(SUM($D$108:AH108)=AG107,AG107=0),0,SUM($D$108:AH108))","v":0},{"$f":"IF(OR(SUM($D$108:AI108)=AH107,AH107=0),0,SUM($D$108:AI108))","v":0},{"$f":"IF(OR(SUM($D$108:AJ108)=AI107,AI107=0),0,SUM($D$108:AJ108))","v":0},{"$f":"IF(OR(SUM($D$108:AK108)=AJ107,AJ107=0),0,SUM($D$108:AK108))","v":0},{"$f":"IF(OR(SUM($D$108:AL108)=AK107,AK107=0),0,SUM($D$108:AL108))","v":0},{"$f":"IF(OR(SUM($D$108:AM108)=AL107,AL107=0),0,SUM($D$108:AM108))","v":0},{"$f":"IF(OR(SUM($D$108:AN108)=AM107,AM107=0),0,SUM($D$108:AN108))","v":0},{"$f":"IF(OR(SUM($D$108:AO108)=AN107,AN107=0),0,SUM($D$108:AO108))","v":0},{"$f":"IF(OR(SUM($D$108:AP108)=AO107,AO107=0),0,SUM($D$108:AP108))","v":0},{"$f":"IF(OR(SUM($D$108:AQ108)=AP107,AP107=0),0,SUM($D$108:AQ108))","v":0},{"$f":"IF(OR(SUM($D$108:AR108)=AQ107,AQ107=0),0,SUM($D$108:AR108))","v":0},{"$f":"IF(OR(SUM($D$108:AS108)=AR107,AR107=0),0,SUM($D$108:AS108))","v":0},{"$f":"IF(OR(SUM($D$108:AT108)=AS107,AS107=0),0,SUM($D$108:AT108))","v":0},{"$f":"IF(OR(SUM($D$108:AU108)=AT107,AT107=0),0,SUM($D$108:AU108))","v":0},{"$f":"IF(OR(SUM($D$108:AV108)=AU107,AU107=0),0,SUM($D$108:AV108))","v":0},{"$f":"IF(OR(SUM($D$108:AW108)=AV107,AV107=0),0,SUM($D$108:AW108))","v":0},{"$f":"IF(OR(SUM($D$108:AX108)=AW107,AW107=0),0,SUM($D$108:AX108))","v":0},{"$f":"IF(OR(SUM($D$108:AY108)=AX107,AX107=0),0,SUM($D$108:AY108))","v":0},{"$f":"IF(OR(SUM($D$108:AZ108)=AY107,AY107=0),0,SUM($D$108:AZ108))","v":0},{"$f":"IF(OR(SUM($D$108:BA108)=AZ107,AZ107=0),0,SUM($D$108:BA108))","v":0}]
[null,null,"RELATIVE",{"$f":"D106/2","v":0},{"$f":"(D106/2)+(E106/2)","v":0},{"$f":"(E106/2)+(F106/2)","v":0},0,0,0,0,0,0,0,0,0,0,0,0,0,0,0,0,0,0,0,0,0,0,0,0,0,0,0,0,0,0,0,0,0,0,0,0,0,0,0,0,0,0,0,0,0,0,0]
[]
[{"$nulls":3},1,2,3,4,5,6,7,8,9,10,11,12,13,14,15,16,17,18,19,20,21,22,23,24,25,26,27,28,29,30,31,32,33,34,35,36,37,38,39,40,41,42,43,44,45,46,47,48,49,50]
[null,"LABEL 13","RELATIVE",{"$f":"'Horizontal Labels'!E$144","v":0},{"$f":"'Horizontal Labels'!F$144","v":0},{"$f":"'Horizontal Labels'!G$144","v":0},{"$f":"'Horizontal Labels'!H$144","v":0},{"$f":"'Horizontal Labels'!I$144","v":0},{"$f":"'Horizontal Labels'!J$144","v":0},{"$f":"'Horizontal Labels'!K$144","v":0},{"$f":"'Horizontal Labels'!L$144","v":0},{"$f":"'Horizontal Labels'!M$144","v":0},{"$f":"'Horizontal Labels'!N$144","v":0},{"$f":"'Horizontal Labels'!O$144","v":0},{"$f":"'Horizontal Labels'!P$144","v":0},{"$f":"'Horizontal Labels'!Q$144","v":0},{"$f":"'Horizontal Labels'!R$144","v":0},{"$f":"'Horizontal Labels'!S$144","v":0},{"$f":"'Horizontal Labels'!T$144","v":0},{"$f":"'Horizontal Labels'!U$144","v":0},{"$f":"'Horizontal Labels'!V$144","v":0},{"$f":"'Horizontal Labels'!W$144","v":0},{"$f":"'Horizontal Labels'!X$144","v":0},{"$f":"'Horizontal Labels'!Y$144","v":0},{"$f":"'Horizontal Labels'!Z$144","v":0},{"$f":"'Horizontal Labels'!AA$144","v":0},{"$f":"'Horizontal Labels'!AB$144","v":0},{"$f":"'Horizontal Labels'!AC$144","v":0},{"$f":"'Horizontal Labels'!AD$144","v":0},{"$f":"'Horizontal Labels'!AE$144","v":0},{"$f":"'Horizontal Labels'!AF$144","v":0},{"$f":"'Horizontal Labels'!AG$144","v":0},{"$f":"'Horizontal Labels'!AH$144","v":0},{"$f":"'Horizontal Labels'!AI$144","v":0},{"$f":"'Horizontal Labels'!AJ$144","v":0},{"$f":"'Horizontal Labels'!AK$144","v":0},{"$f":"'Horizontal Labels'!AL$144","v":0},{"$f":"'Horizontal Labels'!AM$144","v":0},{"$f":"'Horizontal Labels'!AN$144","v":0},{"$f":"'Horizontal Labels'!AO$144","v":0},{"$f":"'Horizontal Labels'!AP$144","v":0},{"$f":"'Horizontal Labels'!AQ$144","v":0},{"$f":"'Horizontal Labels'!AR$144","v":0},{"$f":"'Horizontal Labels'!AS$144","v":0},{"$f":"'Horizontal Labels'!AT$144","v":0},{"$f":"'Horizontal Labels'!AU$144","v":0},{"$f":"'Horizontal Labels'!AV$144","v":0},{"$f":"'Horizontal Labels'!AW$144","v":0},{"$f":"'Horizontal Labels'!AX$144","v":0},{"$f":"'Horizontal Labels'!AY$144","v":0},{"$f":"'Horizontal Labels'!AZ$144","v":0},{"$f":"'Horizontal Labels'!BA$144","v":0},{"$f":"'Horizontal Labels'!BB$144","v":0}]
[null,null,"FIXED",{"$f":"SUM($D$111:D111)","v":0},{"$f":"IF(OR(SUM($D$111:E111)=D112,D112=0),0,SUM($D$111:E111))","v":0},{"$f":"IF(OR(SUM($D$111:F111)=E112,E112=0),0,SUM($D$111:F111))","v":0},{"$f":"IF(OR(SUM($D$111:G111)=F112,F112=0),0,SUM($D$111:G111))","v":0},{"$f":"IF(OR(SUM($D$111:H111)=G112,G112=0),0,SUM($D$111:H111))","v":0},{"$f":"IF(OR(SUM($D$111:I111)=H112,H112=0),0,SUM($D$111:I111))","v":0},{"$f":"IF(OR(SUM($D$111:J111)=I112,I112=0),0,SUM($D$111:J111))","v":0},{"$f":"IF(OR(SUM($D$111:K111)=J112,J112=0),0,SUM($D$111:K111))","v":0},{"$f":"IF(OR(SUM($D$111:L111)=K112,K112=0),0,SUM($D$111:L111))","v":0},{"$f":"IF(OR(SUM($D$111:M111)=L112,L112=0),0,SUM($D$111:M111))","v":0},{"$f":"IF(OR(SUM($D$111:N111)=M112,M112=0),0,SUM($D$111:N111))","v":0},{"$f":"IF(OR(SUM($D$111:O111)=N112,N112=0),0,SUM($D$111:O111))","v":0},{"$f":"IF(OR(SUM($D$111:P111)=O112,O112=0),0,SUM($D$111:P111))","v":0},{"$f":"IF(OR(SUM($D$111:Q111)=P112,P112=0),0,SUM($D$111:Q111))","v":0},{"$f":"IF(OR(SUM($D$111:R111)=Q112,Q112=0),0,SUM($D$111:R111))","v":0},{"$f":"IF(OR(SUM($D$111:S111)=R112,R112=0),0,SUM($D$111:S111))","v":0},{"$f":"IF(OR(SUM($D$111:T111)=S112,S112=0),0,SUM($D$111:T111))","v":0},{"$f":"IF(OR(SUM($D$111:U111)=T112,T112=0),0,SUM($D$111:U111))","v":0},{"$f":"IF(OR(SUM($D$111:V111)=U112,U112=0),0,SUM($D$111:V111))","v":0},{"$f":"IF(OR(SUM($D$111:W111)=V112,V112=0),0,SUM($D$111:W111))","v":0},{"$f":"IF(OR(SUM($D$111:X111)=W112,W112=0),0,SUM($D$111:X111))","v":0},{"$f":"IF(OR(SUM($D$111:Y111)=X112,X112=0),0,SUM($D$111:Y111))","v":0},{"$f":"IF(OR(SUM($D$111:Z111)=Y112,Y112=0),0,SUM($D$111:Z111))","v":0},{"$f":"IF(OR(SUM($D$111:AA111)=Z112,Z112=0),0,SUM($D$111:AA111))","v":0},{"$f":"IF(OR(SUM($D$111:AB111)=AA112,AA112=0),0,SUM($D$111:AB111))","v":0},{"$f":"IF(OR(SUM($D$111:AC111)=AB112,AB112=0),0,SUM($D$111:AC111))","v":0},{"$f":"IF(OR(SUM($D$111:AD111)=AC112,AC112=0),0,SUM($D$111:AD111))","v":0},{"$f":"IF(OR(SUM($D$111:AE111)=AD112,AD112=0),0,SUM($D$111:AE111))","v":0},{"$f":"IF(OR(SUM($D$111:AF111)=AE112,AE112=0),0,SUM($D$111:AF111))","v":0},{"$f":"IF(OR(SUM($D$111:AG111)=AF112,AF112=0),0,SUM($D$111:AG111))","v":0},{"$f":"IF(OR(SUM($D$111:AH111)=AG112,AG112=0),0,SUM($D$111:AH111))","v":0},{"$f":"IF(OR(SUM($D$111:AI111)=AH112,AH112=0),0,SUM($D$111:AI111))","v":0},{"$f":"IF(OR(SUM($D$111:AJ111)=AI112,AI112=0),0,SUM($D$111:AJ111))","v":0},{"$f":"IF(OR(SUM($D$111:AK111)=AJ112,AJ112=0),0,SUM($D$111:AK111))","v":0},{"$f":"IF(OR(SUM($D$111:AL111)=AK112,AK112=0),0,SUM($D$111:AL111))","v":0},{"$f":"IF(OR(SUM($D$111:AM111)=AL112,AL112=0),0,SUM($D$111:AM111))","v":0},{"$f":"IF(OR(SUM($D$111:AN111)=AM112,AM112=0),0,SUM($D$111:AN111))","v":0},{"$f":"IF(OR(SUM($D$111:AO111)=AN112,AN112=0),0,SUM($D$111:AO111))","v":0},{"$f":"IF(OR(SUM($D$111:AP111)=AO112,AO112=0),0,SUM($D$111:AP111))","v":0},{"$f":"IF(OR(SUM($D$111:AQ111)=AP112,AP112=0),0,SUM($D$111:AQ111))","v":0},{"$f":"IF(OR(SUM($D$111:AR111)=AQ112,AQ112=0),0,SUM($D$111:AR111))","v":0},{"$f":"IF(OR(SUM($D$111:AS111)=AR112,AR112=0),0,SUM($D$111:AS111))","v":0},{"$f":"IF(OR(SUM($D$111:AT111)=AS112,AS112=0),0,SUM($D$111:AT111))","v":0},{"$f":"IF(OR(SUM($D$111:AU111)=AT112,AT112=0),0,SUM($D$111:AU111))","v":0},{"$f":"IF(OR(SUM($D$111:AV111)=AU112,AU112=0),0,SUM($D$111:AV111))","v":0},{"$f":"IF(OR(SUM($D$111:AW111)=AV112,AV112=0),0,SUM($D$111:AW111))","v":0},{"$f":"IF(OR(SUM($D$111:AX111)=AW112,AW112=0),0,SUM($D$111:AX111))","v":0},{"$f":"IF(OR(SUM($D$111:AY111)=AX112,AX112=0),0,SUM($D$111:AY111))","v":0},{"$f":"IF(OR(SUM($D$111:AZ111)=AY112,AY112=0),0,SUM($D$111:AZ111))","v":0},{"$f":"IF(OR(SUM($D$111:BA111)=AZ112,AZ112=0),0,SUM($D$111:BA111))","v":0}]
[null,null,"FIXED",{"$f":"'Horizontal Labels'!E$144","v":0},{"$f":"'Horizontal Labels'!F$144","v":0},{"$f":"'Horizontal Labels'!G$144","v":0},{"$f":"'Horizontal Labels'!H$144","v":0},{"$f":"'Horizontal Labels'!I$144","v":0},{"$f":"'Horizontal Labels'!J$144","v":0},{"$f":"'Horizontal Labels'!K$144","v":0},{"$f":"'Horizontal Labels'!L$144","v":0},{"$f":"'Horizontal Labels'!M$144","v":0},{"$f":"'Horizontal Labels'!N$144","v":0},{"$f":"'Horizontal Labels'!O$144","v":0},{"$f":"'Horizontal Labels'!P$144","v":0},{"$f":"'Horizontal Labels'!Q$144","v":0},{"$f":"'Horizontal Labels'!R$144","v":0},{"$f":"'Horizontal Labels'!S$144","v":0},{"$f":"'Horizontal Labels'!T$144","v":0},{"$f":"'Horizontal Labels'!U$144","v":0},{"$f":"'Horizontal Labels'!V$144","v":0},{"$f":"'Horizontal Labels'!W$144","v":0},{"$f":"'Horizontal Labels'!X$144","v":0},{"$f":"'Horizontal Labels'!Y$144","v":0},{"$f":"'Horizontal Labels'!Z$144","v":0},{"$f":"'Horizontal Labels'!AA$144","v":0},{"$f":"'Horizontal Labels'!AB$144","v":0},{"$f":"'Horizontal Labels'!AC$144","v":0},{"$f":"'Horizontal Labels'!AD$144","v":0},{"$f":"'Horizontal Labels'!AE$144","v":0},{"$f":"'Horizontal Labels'!AF$144","v":0},{"$f":"'Horizontal Labels'!AG$144","v":0},{"$f":"'Horizontal Labels'!AH$144","v":0},{"$f":"'Horizontal Labels'!AI$144","v":0},{"$f":"'Horizontal Labels'!AJ$144","v":0},{"$f":"'Horizontal Labels'!AK$144","v":0},{"$f":"'Horizontal Labels'!AL$144","v":0},{"$f":"'Horizontal Labels'!AM$144","v":0},{"$f":"'Horizontal Labels'!AN$144","v":0},{"$f":"'Horizontal Labels'!AO$144","v":0},{"$f":"'Horizontal Labels'!AP$144","v":0},{"$f":"'Horizontal Labels'!AQ$144","v":0},{"$f":"'Horizontal Labels'!AR$144","v":0},{"$f":"'Horizontal Labels'!AS$144","v":0},{"$f":"'Horizontal Labels'!AT$144","v":0},{"$f":"'Horizontal Labels'!AU$144","v":0},{"$f":"'Horizontal Labels'!AV$144","v":0},{"$f":"'Horizontal Labels'!AW$144","v":0},{"$f":"'Horizontal Labels'!AX$144","v":0},{"$f":"'Horizontal Labels'!AY$144","v":0},{"$f":"'Horizontal Labels'!AZ$144","v":0},{"$f":"'Horizontal Labels'!BA$144","v":0},{"$f":"'Horizontal Labels'!BB$144","v":0}]
[null,null,"RELATIVE",{"$f":"D113","v":0},{"$f":"IF(E113-D113<1,0,E113-D113)","v":0},{"$f":"IF(F113-E113<1,0,F113-E113)","v":0},0,0,0,0,0,0,0,0,0,0,0,0,0,0,0,0,0,0,0,0,0,0,0,0,0,0,0,0,0,0,0,0,0,0,0,0,0,0,0,0,0,0,0,0,0,0,0]
[null,null,"BLOCKS",{"$f":"'Horizontal Labels'!E$144","v":0},{"$f":"'Horizontal Labels'!F$144","v":0},{"$f":"'Horizontal Labels'!G$144","v":0},{"$f":"'Horizontal Labels'!H$144","v":0},{"$f":"'Horizontal Labels'!I$144","v":0},{"$f":"'Horizontal Labels'!J$144","v":0},{"$f":"'Horizontal Labels'!K$144","v":0},{"$f":"'Horizontal Labels'!L$144","v":0},{"$f":"'Horizontal Labels'!M$144","v":0},{"$f":"'Horizontal Labels'!N$144","v":0},{"$f":"'Horizontal Labels'!O$144","v":0},{"$f":"'Horizontal Labels'!P$144","v":0},{"$f":"'Horizontal Labels'!Q$144","v":0},{"$f":"'Horizontal Labels'!R$144","v":0},{"$f":"'Horizontal Labels'!S$144","v":0},{"$f":"'Horizontal Labels'!T$144","v":0},{"$f":"'Horizontal Labels'!U$144","v":0},{"$f":"'Horizontal Labels'!V$144","v":0},{"$f":"'Horizontal Labels'!W$144","v":0},{"$f":"'Horizontal Labels'!X$144","v":0},{"$f":"'Horizontal Labels'!Y$144","v":0},{"$f":"'Horizontal Labels'!Z$144","v":0},{"$f":"'Horizontal Labels'!AA$144","v":0},{"$f":"'Horizontal Labels'!AB$144","v":0},{"$f":"'Horizontal Labels'!AC$144","v":0},{"$f":"'Horizontal Labels'!AD$144","v":0},{"$f":"'Horizontal Labels'!AE$144","v":0},{"$f":"'Horizontal Labels'!AF$144","v":0},{"$f":"'Horizontal Labels'!AG$144","v":0},{"$f":"'Horizontal Labels'!AH$144","v":0},{"$f":"'Horizontal Labels'!AI$144","v":0},{"$f":"'Horizontal Labels'!AJ$144","v":0},{"$f":"'Horizontal Labels'!AK$144","v":0},{"$f":"'Horizontal Labels'!AL$144","v":0},{"$f":"'Horizontal Labels'!AM$144","v":0},{"$f":"'Horizontal Labels'!AN$144","v":0},{"$f":"'Horizontal Labels'!AO$144","v":0},{"$f":"'Horizontal Labels'!AP$144","v":0},{"$f":"'Horizontal Labels'!AQ$144","v":0},{"$f":"'Horizontal Labels'!AR$144","v":0},{"$f":"'Horizontal Labels'!AS$144","v":0},{"$f":"'Horizontal Labels'!AT$144","v":0},{"$f":"'Horizontal Labels'!AU$144","v":0},{"$f":"'Horizontal Labels'!AV$144","v":0},{"$f":"'Horizontal Labels'!AW$144","v":0},{"$f":"'Horizontal Labels'!AX$144","v":0},{"$f":"'Horizontal Labels'!AY$144","v":0},{"$f":"'Horizontal Labels'!AZ$144","v":0},{"$f":"'Horizontal Labels'!BA$144","v":0},{"$f":"'Horizontal Labels'!BB$144","v":0}]
[null,null,"FIXED",{"$f":"D117","v":0},{"$f":"IF(OR(SUM($D$117:E117)=D116,D116=0),0,SUM($D$117:E117))","v":0},{"$f":"IF(OR(SUM($D$117:F117)=E116,E116=0),0,SUM($D$117:F117))","v":0},{"$f":"IF(OR(SUM($D$117:G117)=F116,F116=0),0,SUM($D$117:G117))","v":0},{"$f":"IF(OR(SUM($D$117:H117)=G116,G116=0),0,SUM($D$117:H117))","v":0},{"$f":"IF(OR(SUM($D$117:I117)=H116,H116=0),0,SUM($D$117:I117))","v":0},{"$f":"IF(OR(SUM($D$117:J117)=I116,I116=0),0,SUM($D$117:J117))","v":0},{"$f":"IF(OR(SUM($D$117:K117)=J116,J116=0),0,SUM($D$117:K117))","v":0},{"$f":"IF(OR(SUM($D$117:L117)=K116,K116=0),0,SUM($D$117:L117))","v":0},{"$f":"IF(OR(SUM($D$117:M117)=L116,L116=0),0,SUM($D$117:M117))","v":0},{"$f":"IF(OR(SUM($D$117:N117)=M116,M116=0),0,SUM($D$117:N117))","v":0},{"$f":"IF(OR(SUM($D$117:O117)=N116,N116=0),0,SUM($D$117:O117))","v":0},{"$f":"IF(OR(SUM($D$117:P117)=O116,O116=0),0,SUM($D$117:P117))","v":0},{"$f":"IF(OR(SUM($D$117:Q117)=P116,P116=0),0,SUM($D$117:Q117))","v":0},{"$f":"IF(OR(SUM($D$117:R117)=Q116,Q116=0),0,SUM($D$117:R117))","v":0},{"$f":"IF(OR(SUM($D$117:S117)=R116,R116=0),0,SUM($D$117:S117))","v":0},{"$f":"IF(OR(SUM($D$117:T117)=S116,S116=0),0,SUM($D$117:T117))","v":0},{"$f":"IF(OR(SUM($D$117:U117)=T116,T116=0),0,SUM($D$117:U117))","v":0},{"$f":"IF(OR(SUM($D$117:V117)=U116,U116=0),0,SUM($D$117:V117))","v":0},{"$f":"IF(OR(SUM($D$117:W117)=V116,V116=0),0,SUM($D$117:W117))","v":0},{"$f":"IF(OR(SUM($D$117:X117)=W116,W116=0),0,SUM($D$117:X117))","v":0},{"$f":"IF(OR(SUM($D$117:Y117)=X116,X116=0),0,SUM($D$117:Y117))","v":0},{"$f":"IF(OR(SUM($D$117:Z117)=Y116,Y116=0),0,SUM($D$117:Z117))","v":0},{"$f":"IF(OR(SUM($D$117:AA117)=Z116,Z116=0),0,SUM($D$117:AA117))","v":0},{"$f":"IF(OR(SUM($D$117:AB117)=AA116,AA116=0),0,SUM($D$117:AB117))","v":0},{"$f":"IF(OR(SUM($D$117:AC117)=AB116,AB116=0),0,SUM($D$117:AC117))","v":0},{"$f":"IF(OR(SUM($D$117:AD117)=AC116,AC116=0),0,SUM($D$117:AD117))","v":0},{"$f":"IF(OR(SUM($D$117:AE117)=AD116,AD116=0),0,SUM($D$117:AE117))","v":0},{"$f":"IF(OR(SUM($D$117:AF117)=AE116,AE116=0),0,SUM($D$117:AF117))","v":0},{"$f":"IF(OR(SUM($D$117:AG117)=AF116,AF116=0),0,SUM($D$117:AG117))","v":0},{"$f":"IF(OR(SUM($D$117:AH117)=AG116,AG116=0),0,SUM($D$117:AH117))","v":0},{"$f":"IF(OR(SUM($D$117:AI117)=AH116,AH116=0),0,SUM($D$117:AI117))","v":0},{"$f":"IF(OR(SUM($D$117:AJ117)=AI116,AI116=0),0,SUM($D$117:AJ117))","v":0},{"$f":"IF(OR(SUM($D$117:AK117)=AJ116,AJ116=0),0,SUM($D$117:AK117))","v":0},{"$f":"IF(OR(SUM($D$117:AL117)=AK116,AK116=0),0,SUM($D$117:AL117))","v":0},{"$f":"IF(OR(SUM($D$117:AM117)=AL116,AL116=0),0,SUM($D$117:AM117))","v":0},{"$f":"IF(OR(SUM($D$117:AN117)=AM116,AM116=0),0,SUM($D$117:AN117))","v":0},{"$f":"IF(OR(SUM($D$117:AO117)=AN116,AN116=0),0,SUM($D$117:AO117))","v":0},{"$f":"IF(OR(SUM($D$117:AP117)=AO116,AO116=0),0,SUM($D$117:AP117))","v":0},{"$f":"IF(OR(SUM($D$117:AQ117)=AP116,AP116=0),0,SUM($D$117:AQ117))","v":0},{"$f":"IF(OR(SUM($D$117:AR117)=AQ116,AQ116=0),0,SUM($D$117:AR117))","v":0},{"$f":"IF(OR(SUM($D$117:AS117)=AR116,AR116=0),0,SUM($D$117:AS117))","v":0},{"$f":"IF(OR(SUM($D$117:AT117)=AS116,AS116=0),0,SUM($D$117:AT117))","v":0},{"$f":"IF(OR(SUM($D$117:AU117)=AT116,AT116=0),0,SUM($D$117:AU117))","v":0},{"$f":"IF(OR(SUM($D$117:AV117)=AU116,AU116=0),0,SUM($D$117:AV117))","v":0},{"$f":"IF(OR(SUM($D$117:AW117)=AV116,AV116=0),0,SUM($D$117:AW117))","v":0},{"$f":"IF(OR(SUM($D$117:AX117)=AW116,AW116=0),0,SUM($D$117:AX117))","v":0},{"$f":"IF(OR(SUM($D$117:AY117)=AX116,AX116=0),0,SUM($D$117:AY117))","v":0},{"$f":"IF(OR(SUM($D$117:AZ117)=AY116,AY116=0),0,SUM($D$117:AZ117))","v":0},{"$f":"IF(OR(SUM($D$117:BA117)=AZ116,AZ116=0),0,SUM($D$117:BA117))","v":0}]
[null,null,"RELATIVE",{"$f":"D115/2","v":0},{"$f":"(D115/2)+(E115/2)","v":0},{"$f":"(E115/2)+(F115/2)","v":0},0,0,0,0,0,0,0,0,0,0,0,0,0,0,0,0,0,0,0,0,0,0,0,0,0,0,0,0,0,0,0,0,0,0,0,0,0,0,0,0,0,0,0,0,0,0,0]
[]
[{"$nulls":3},1,2,3,4,5,6,7,8,9,10,11,12,13,14,15,16,17,18,19,20,21,22,23,24,25,26,27,28,29,30,31,32,33,34,35,36,37,38,39,40,41,42,43,44,45,46,47,48,49,50]
[null,"LABEL 14","RELATIVE",{"$f":"'Horizontal Labels'!E$155","v":0},{"$f":"'Horizontal Labels'!F$155","v":0},{"$f":"'Horizontal Labels'!G$155","v":0},{"$f":"'Horizontal Labels'!H$155","v":0},{"$f":"'Horizontal Labels'!I$155","v":0},{"$f":"'Horizontal Labels'!J$155","v":0},{"$f":"'Horizontal Labels'!K$155","v":0},{"$f":"'Horizontal Labels'!L$155","v":0},{"$f":"'Horizontal Labels'!M$155","v":0},{"$f":"'Horizontal Labels'!N$155","v":0},{"$f":"'Horizontal Labels'!O$155","v":0},{"$f":"'Horizontal Labels'!P$155","v":0},{"$f":"'Horizontal Labels'!Q$155","v":0},{"$f":"'Horizontal Labels'!R$155","v":0},{"$f":"'Horizontal Labels'!S$155","v":0},{"$f":"'Horizontal Labels'!T$155","v":0},{"$f":"'Horizontal Labels'!U$155","v":0},{"$f":"'Horizontal Labels'!V$155","v":0},{"$f":"'Horizontal Labels'!W$155","v":0},{"$f":"'Horizontal Labels'!X$155","v":0},{"$f":"'Horizontal Labels'!Y$155","v":0},{"$f":"'Horizontal Labels'!Z$155","v":0},{"$f":"'Horizontal Labels'!AA$155","v":0},{"$f":"'Horizontal Labels'!AB$155","v":0},{"$f":"'Horizontal Labels'!AC$155","v":0},{"$f":"'Horizontal Labels'!AD$155","v":0},{"$f":"'Horizontal Labels'!AE$155","v":0},{"$f":"'Horizontal Labels'!AF$155","v":0},{"$f":"'Horizontal Labels'!AG$155","v":0},{"$f":"'Horizontal Labels'!AH$155","v":0},{"$f":"'Horizontal Labels'!AI$155","v":0},{"$f":"'Horizontal Labels'!AJ$155","v":0},{"$f":"'Horizontal Labels'!AK$155","v":0},{"$f":"'Horizontal Labels'!AL$155","v":0},{"$f":"'Horizontal Labels'!AM$155","v":0},{"$f":"'Horizontal Labels'!AN$155","v":0},{"$f":"'Horizontal Labels'!AO$155","v":0},{"$f":"'Horizontal Labels'!AP$155","v":0},{"$f":"'Horizontal Labels'!AQ$155","v":0},{"$f":"'Horizontal Labels'!AR$155","v":0},{"$f":"'Horizontal Labels'!AS$155","v":0},{"$f":"'Horizontal Labels'!AT$155","v":0},{"$f":"'Horizontal Labels'!AU$155","v":0},{"$f":"'Horizontal Labels'!AV$155","v":0},{"$f":"'Horizontal Labels'!AW$155","v":0},{"$f":"'Horizontal Labels'!AX$155","v":0},{"$f":"'Horizontal Labels'!AY$155","v":0},{"$f":"'Horizontal Labels'!AZ$155","v":0},{"$f":"'Horizontal Labels'!BA$155","v":0},{"$f":"'Horizontal Labels'!BB$155","v":0}]
[null,null,"FIXED",{"$f":"SUM($D$120:D120)","v":0},{"$f":"IF(OR(SUM($D$120:E120)=D121,D121=0),0,SUM($D$120:E120))","v":0},{"$f":"IF(OR(SUM($D$120:F120)=E121,E121=0),0,SUM($D$120:F120))","v":0},{"$f":"IF(OR(SUM($D$120:G120)=F121,F121=0),0,SUM($D$120:G120))","v":0},{"$f":"IF(OR(SUM($D$120:H120)=G121,G121=0),0,SUM($D$120:H120))","v":0},{"$f":"IF(OR(SUM($D$120:I120)=H121,H121=0),0,SUM($D$120:I120))","v":0},{"$f":"IF(OR(SUM($D$120:J120)=I121,I121=0),0,SUM($D$120:J120))","v":0},{"$f":"IF(OR(SUM($D$120:K120)=J121,J121=0),0,SUM($D$120:K120))","v":0},{"$f":"IF(OR(SUM($D$120:L120)=K121,K121=0),0,SUM($D$120:L120))","v":0},{"$f":"IF(OR(SUM($D$120:M120)=L121,L121=0),0,SUM($D$120:M120))","v":0},{"$f":"IF(OR(SUM($D$120:N120)=M121,M121=0),0,SUM($D$120:N120))","v":0},{"$f":"IF(OR(SUM($D$120:O120)=N121,N121=0),0,SUM($D$120:O120))","v":0},{"$f":"IF(OR(SUM($D$120:P120)=O121,O121=0),0,SUM($D$120:P120))","v":0},{"$f":"IF(OR(SUM($D$120:Q120)=P121,P121=0),0,SUM($D$120:Q120))","v":0},{"$f":"IF(OR(SUM($D$120:R120)=Q121,Q121=0),0,SUM($D$120:R120))","v":0},{"$f":"IF(OR(SUM($D$120:S120)=R121,R121=0),0,SUM($D$120:S120))","v":0},{"$f":"IF(OR(SUM($D$120:T120)=S121,S121=0),0,SUM($D$120:T120))","v":0},{"$f":"IF(OR(SUM($D$120:U120)=T121,T121=0),0,SUM($D$120:U120))","v":0},{"$f":"IF(OR(SUM($D$120:V120)=U121,U121=0),0,SUM($D$120:V120))","v":0},{"$f":"IF(OR(SUM($D$120:W120)=V121,V121=0),0,SUM($D$120:W120))","v":0},{"$f":"IF(OR(SUM($D$120:X120)=W121,W121=0),0,SUM($D$120:X120))","v":0},{"$f":"IF(OR(SUM($D$120:Y120)=X121,X121=0),0,SUM($D$120:Y120))","v":0},{"$f":"IF(OR(SUM($D$120:Z120)=Y121,Y121=0),0,SUM($D$120:Z120))","v":0},{"$f":"IF(OR(SUM($D$120:AA120)=Z121,Z121=0),0,SUM($D$120:AA120))","v":0},{"$f":"IF(OR(SUM($D$120:AB120)=AA121,AA121=0),0,SUM($D$120:AB120))","v":0},{"$f":"IF(OR(SUM($D$120:AC120)=AB121,AB121=0),0,SUM($D$120:AC120))","v":0},{"$f":"IF(OR(SUM($D$120:AD120)=AC121,AC121=0),0,SUM($D$120:AD120))","v":0},{"$f":"IF(OR(SUM($D$120:AE120)=AD121,AD121=0),0,SUM($D$120:AE120))","v":0},{"$f":"IF(OR(SUM($D$120:AF120)=AE121,AE121=0),0,SUM($D$120:AF120))","v":0},{"$f":"IF(OR(SUM($D$120:AG120)=AF121,AF121=0),0,SUM($D$120:AG120))","v":0},{"$f":"IF(OR(SUM($D$120:AH120)=AG121,AG121=0),0,SUM($D$120:AH120))","v":0},{"$f":"IF(OR(SUM($D$120:AI120)=AH121,AH121=0),0,SUM($D$120:AI120))","v":0},{"$f":"IF(OR(SUM($D$120:AJ120)=AI121,AI121=0),0,SUM($D$120:AJ120))","v":0},{"$f":"IF(OR(SUM($D$120:AK120)=AJ121,AJ121=0),0,SUM($D$120:AK120))","v":0},{"$f":"IF(OR(SUM($D$120:AL120)=AK121,AK121=0),0,SUM($D$120:AL120))","v":0},{"$f":"IF(OR(SUM($D$120:AM120)=AL121,AL121=0),0,SUM($D$120:AM120))","v":0},{"$f":"IF(OR(SUM($D$120:AN120)=AM121,AM121=0),0,SUM($D$120:AN120))","v":0},{"$f":"IF(OR(SUM($D$120:AO120)=AN121,AN121=0),0,SUM($D$120:AO120))","v":0},{"$f":"IF(OR(SUM($D$120:AP120)=AO121,AO121=0),0,SUM($D$120:AP120))","v":0},{"$f":"IF(OR(SUM($D$120:AQ120)=AP121,AP121=0),0,SUM($D$120:AQ120))","v":0},{"$f":"IF(OR(SUM($D$120:AR120)=AQ121,AQ121=0),0,SUM($D$120:AR120))","v":0},{"$f":"IF(OR(SUM($D$120:AS120)=AR121,AR121=0),0,SUM($D$120:AS120))","v":0},{"$f":"IF(OR(SUM($D$120:AT120)=AS121,AS121=0),0,SUM($D$120:AT120))","v":0},{"$f":"IF(OR(SUM($D$120:AU120)=AT121,AT121=0),0,SUM($D$120:AU120))","v":0},{"$f":"IF(OR(SUM($D$120:AV120)=AU121,AU121=0),0,SUM($D$120:AV120))","v":0},{"$f":"IF(OR(SUM($D$120:AW120)=AV121,AV121=0),0,SUM($D$120:AW120))","v":0},{"$f":"IF(OR(SUM($D$120:AX120)=AW121,AW121=0),0,SUM($D$120:AX120))","v":0},{"$f":"IF(OR(SUM($D$120:AY120)=AX121,AX121=0),0,SUM($D$120:AY120))","v":0},{"$f":"IF(OR(SUM($D$120:AZ120)=AY121,AY121=0),0,SUM($D$120:AZ120))","v":0},{"$f":"IF(OR(SUM($D$120:BA120)=AZ121,AZ121=0),0,SUM($D$120:BA120))","v":0}]
[null,null,"FIXED",{"$f":"'Horizontal Labels'!E$155","v":0},{"$f":"'Horizontal Labels'!F$155","v":0},{"$f":"'Horizontal Labels'!G$155","v":0},{"$f":"'Horizontal Labels'!H$155","v":0},{"$f":"'Horizontal Labels'!I$155","v":0},{"$f":"'Horizontal Labels'!J$155","v":0},{"$f":"'Horizontal Labels'!K$155","v":0},{"$f":"'Horizontal Labels'!L$155","v":0},{"$f":"'Horizontal Labels'!M$155","v":0},{"$f":"'Horizontal Labels'!N$155","v":0},{"$f":"'Horizontal Labels'!O$155","v":0},{"$f":"'Horizontal Labels'!P$155","v":0},{"$f":"'Horizontal Labels'!Q$155","v":0},{"$f":"'Horizontal Labels'!R$155","v":0},{"$f":"'Horizontal Labels'!S$155","v":0},{"$f":"'Horizontal Labels'!T$155","v":0},{"$f":"'Horizontal Labels'!U$155","v":0},{"$f":"'Horizontal Labels'!V$155","v":0},{"$f":"'Horizontal Labels'!W$155","v":0},{"$f":"'Horizontal Labels'!X$155","v":0},{"$f":"'Horizontal Labels'!Y$155","v":0},{"$f":"'Horizontal Labels'!Z$155","v":0},{"$f":"'Horizontal Labels'!AA$155","v":0},{"$f":"'Horizontal Labels'!AB$155","v":0},{"$f":"'Horizontal Labels'!AC$155","v":0},{"$f":"'Horizontal Labels'!AD$155","v":0},{"$f":"'Horizontal Labels'!AE$155","v":0},{"$f":"'Horizontal Labels'!AF$155","v":0},{"$f":"'Horizontal Labels'!AG$155","v":0},{"$f":"'Horizontal Labels'!AH$155","v":0},{"$f":"'Horizontal Labels'!AI$155","v":0},{"$f":"'Horizontal Labels'!AJ$155","v":0},{"$f":"'Horizontal Labels'!AK$155","v":0},{"$f":"'Horizontal Labels'!AL$155","v":0},{"$f":"'Horizontal Labels'!AM$155","v":0},{"$f":"'Horizontal Labels'!AN$155","v":0},{"$f":"'Horizontal Labels'!AO$155","v":0},{"$f":"'Horizontal Labels'!AP$155","v":0},{"$f":"'Horizontal Labels'!AQ$155","v":0},{"$f":"'Horizontal Labels'!AR$155","v":0},{"$f":"'Horizontal Labels'!AS$155","v":0},{"$f":"'Horizontal Labels'!AT$155","v":0},{"$f":"'Horizontal Labels'!AU$155","v":0},{"$f":"'Horizontal Labels'!AV$155","v":0},{"$f":"'Horizontal Labels'!AW$155","v":0},{"$f":"'Horizontal Labels'!AX$155","v":0},{"$f":"'Horizontal Labels'!AY$155","v":0},{"$f":"'Horizontal Labels'!AZ$155","v":0},{"$f":"'Horizontal Labels'!BA$155","v":0},{"$f":"'Horizontal Labels'!BB$155","v":0}]
[null,null,"RELATIVE",{"$f":"D122","v":0},{"$f":"IF(E122-D122<1,0,E122-D122)","v":0},{"$f":"IF(F122-E122<1,0,F122-E122)","v":0},0,0,0,0,0,0,0,0,0,0,0,0,0,0,0,0,0,0,0,0,0,0,0,0,0,0,0,0,0,0,0,0,0,0,0,0,0,0,0,0,0,0,0,0,0,0,0]
[null,null,"BLOCKS",{"$f":"'Horizontal Labels'!E$155","v":0},{"$f":"'Horizontal Labels'!F$155","v":0},{"$f":"'Horizontal Labels'!G$155","v":0},{"$f":"'Horizontal Labels'!H$155","v":0},{"$f":"'Horizontal Labels'!I$155","v":0},{"$f":"'Horizontal Labels'!J$155","v":0},{"$f":"'Horizontal Labels'!K$155","v":0},{"$f":"'Horizontal Labels'!L$155","v":0},{"$f":"'Horizontal Labels'!M$155","v":0},{"$f":"'Horizontal Labels'!N$155","v":0},{"$f":"'Horizontal Labels'!O$155","v":0},{"$f":"'Horizontal Labels'!P$155","v":0},{"$f":"'Horizontal Labels'!Q$155","v":0},{"$f":"'Horizontal Labels'!R$155","v":0},{"$f":"'Horizontal Labels'!S$155","v":0},{"$f":"'Horizontal Labels'!T$155","v":0},{"$f":"'Horizontal Labels'!U$155","v":0},{"$f":"'Horizontal Labels'!V$155","v":0},{"$f":"'Horizontal Labels'!W$155","v":0},{"$f":"'Horizontal Labels'!X$155","v":0},{"$f":"'Horizontal Labels'!Y$155","v":0},{"$f":"'Horizontal Labels'!Z$155","v":0},{"$f":"'Horizontal Labels'!AA$155","v":0},{"$f":"'Horizontal Labels'!AB$155","v":0},{"$f":"'Horizontal Labels'!AC$155","v":0},{"$f":"'Horizontal Labels'!AD$155","v":0},{"$f":"'Horizontal Labels'!AE$155","v":0},{"$f":"'Horizontal Labels'!AF$155","v":0},{"$f":"'Horizontal Labels'!AG$155","v":0},{"$f":"'Horizontal Labels'!AH$155","v":0},{"$f":"'Horizontal Labels'!AI$155","v":0},{"$f":"'Horizontal Labels'!AJ$155","v":0},{"$f":"'Horizontal Labels'!AK$155","v":0},{"$f":"'Horizontal Labels'!AL$155","v":0},{"$f":"'Horizontal Labels'!AM$155","v":0},{"$f":"'Horizontal Labels'!AN$155","v":0},{"$f":"'Horizontal Labels'!AO$155","v":0},{"$f":"'Horizontal Labels'!AP$155","v":0},{"$f":"'Horizontal Labels'!AQ$155","v":0},{"$f":"'Horizontal Labels'!AR$155","v":0},{"$f":"'Horizontal Labels'!AS$155","v":0},{"$f":"'Horizontal Labels'!AT$155","v":0},{"$f":"'Horizontal Labels'!AU$155","v":0},{"$f":"'Horizontal Labels'!AV$155","v":0},{"$f":"'Horizontal Labels'!AW$155","v":0},{"$f":"'Horizontal Labels'!AX$155","v":0},{"$f":"'Horizontal Labels'!AY$155","v":0},{"$f":"'Horizontal Labels'!AZ$155","v":0},{"$f":"'Horizontal Labels'!BA$155","v":0},{"$f":"'Horizontal Labels'!BB$155","v":0}]
[null,null,"FIXED",{"$f":"D126","v":0},{"$f":"IF(OR(SUM($D$126:E126)=D125,D125=0),0,SUM($D$126:E126))","v":0},{"$f":"IF(OR(SUM($D$126:F126)=E125,E125=0),0,SUM($D$126:F126))","v":0},{"$f":"IF(OR(SUM($D$126:G126)=F125,F125=0),0,SUM($D$126:G126))","v":0},{"$f":"IF(OR(SUM($D$126:H126)=G125,G125=0),0,SUM($D$126:H126))","v":0},{"$f":"IF(OR(SUM($D$126:I126)=H125,H125=0),0,SUM($D$126:I126))","v":0},{"$f":"IF(OR(SUM($D$126:J126)=I125,I125=0),0,SUM($D$126:J126))","v":0},{"$f":"IF(OR(SUM($D$126:K126)=J125,J125=0),0,SUM($D$126:K126))","v":0},{"$f":"IF(OR(SUM($D$126:L126)=K125,K125=0),0,SUM($D$126:L126))","v":0},{"$f":"IF(OR(SUM($D$126:M126)=L125,L125=0),0,SUM($D$126:M126))","v":0},{"$f":"IF(OR(SUM($D$126:N126)=M125,M125=0),0,SUM($D$126:N126))","v":0},{"$f":"IF(OR(SUM($D$126:O126)=N125,N125=0),0,SUM($D$126:O126))","v":0},{"$f":"IF(OR(SUM($D$126:P126)=O125,O125=0),0,SUM($D$126:P126))","v":0},{"$f":"IF(OR(SUM($D$126:Q126)=P125,P125=0),0,SUM($D$126:Q126))","v":0},{"$f":"IF(OR(SUM($D$126:R126)=Q125,Q125=0),0,SUM($D$126:R126))","v":0},{"$f":"IF(OR(SUM($D$126:S126)=R125,R125=0),0,SUM($D$126:S126))","v":0},{"$f":"IF(OR(SUM($D$126:T126)=S125,S125=0),0,SUM($D$126:T126))","v":0},{"$f":"IF(OR(SUM($D$126:U126)=T125,T125=0),0,SUM($D$126:U126))","v":0},{"$f":"IF(OR(SUM($D$126:V126)=U125,U125=0),0,SUM($D$126:V126))","v":0},{"$f":"IF(OR(SUM($D$126:W126)=V125,V125=0),0,SUM($D$126:W126))","v":0},{"$f":"IF(OR(SUM($D$126:X126)=W125,W125=0),0,SUM($D$126:X126))","v":0},{"$f":"IF(OR(SUM($D$126:Y126)=X125,X125=0),0,SUM($D$126:Y126))","v":0},{"$f":"IF(OR(SUM($D$126:Z126)=Y125,Y125=0),0,SUM($D$126:Z126))","v":0},{"$f":"IF(OR(SUM($D$126:AA126)=Z125,Z125=0),0,SUM($D$126:AA126))","v":0},{"$f":"IF(OR(SUM($D$126:AB126)=AA125,AA125=0),0,SUM($D$126:AB126))","v":0},{"$f":"IF(OR(SUM($D$126:AC126)=AB125,AB125=0),0,SUM($D$126:AC126))","v":0},{"$f":"IF(OR(SUM($D$126:AD126)=AC125,AC125=0),0,SUM($D$126:AD126))","v":0},{"$f":"IF(OR(SUM($D$126:AE126)=AD125,AD125=0),0,SUM($D$126:AE126))","v":0},{"$f":"IF(OR(SUM($D$126:AF126)=AE125,AE125=0),0,SUM($D$126:AF126))","v":0},{"$f":"IF(OR(SUM($D$126:AG126)=AF125,AF125=0),0,SUM($D$126:AG126))","v":0},{"$f":"IF(OR(SUM($D$126:AH126)=AG125,AG125=0),0,SUM($D$126:AH126))","v":0},{"$f":"IF(OR(SUM($D$126:AI126)=AH125,AH125=0),0,SUM($D$126:AI126))","v":0},{"$f":"IF(OR(SUM($D$126:AJ126)=AI125,AI125=0),0,SUM($D$126:AJ126))","v":0},{"$f":"IF(OR(SUM($D$126:AK126)=AJ125,AJ125=0),0,SUM($D$126:AK126))","v":0},{"$f":"IF(OR(SUM($D$126:AL126)=AK125,AK125=0),0,SUM($D$126:AL126))","v":0},{"$f":"IF(OR(SUM($D$126:AM126)=AL125,AL125=0),0,SUM($D$126:AM126))","v":0},{"$f":"IF(OR(SUM($D$126:AN126)=AM125,AM125=0),0,SUM($D$126:AN126))","v":0},{"$f":"IF(OR(SUM($D$126:AO126)=AN125,AN125=0),0,SUM($D$126:AO126))","v":0},{"$f":"IF(OR(SUM($D$126:AP126)=AO125,AO125=0),0,SUM($D$126:AP126))","v":0},{"$f":"IF(OR(SUM($D$126:AQ126)=AP125,AP125=0),0,SUM($D$126:AQ126))","v":0},{"$f":"IF(OR(SUM($D$126:AR126)=AQ125,AQ125=0),0,SUM($D$126:AR126))","v":0},{"$f":"IF(OR(SUM($D$126:AS126)=AR125,AR125=0),0,SUM($D$126:AS126))","v":0},{"$f":"IF(OR(SUM($D$126:AT126)=AS125,AS125=0),0,SUM($D$126:AT126))","v":0},{"$f":"IF(OR(SUM($D$126:AU126)=AT125,AT125=0),0,SUM($D$126:AU126))","v":0},{"$f":"IF(OR(SUM($D$126:AV126)=AU125,AU125=0),0,SUM($D$126:AV126))","v":0},{"$f":"IF(OR(SUM($D$126:AW126)=AV125,AV125=0),0,SUM($D$126:AW126))","v":0},{"$f":"IF(OR(SUM($D$126:AX126)=AW125,AW125=0),0,SUM($D$126:AX126))","v":0},{"$f":"IF(OR(SUM($D$126:AY126)=AX125,AX125=0),0,SUM($D$126:AY126))","v":0},{"$f":"IF(OR(SUM($D$126:AZ126)=AY125,AY125=0),0,SUM($D$126:AZ126))","v":0},{"$f":"IF(OR(SUM($D$126:BA126)=AZ125,AZ125=0),0,SUM($D$126:BA126))","v":0}]
[null,null,"RELATIVE",{"$f":"D124/2","v":0},{"$f":"(D124/2)+(E124/2)","v":0},{"$f":"(E124/2)+(F124/2)","v":0},0,0,0,0,0,0,0,0,0,0,0,0,0,0,0,0,0,0,0,0,0,0,0,0,0,0,0,0,0,0,0,0,0,0,0,0,0,0,0,0,0,0,0,0,0,0,0]
[]
[{"$nulls":3},1,2,3,4,5,6,7,8,9,10,11,12,13,14,15,16,17,18,19,20,21,22,23,24,25,26,27,28,29,30,31,32,33,34,35,36,37,38,39,40,41,42,43,44,45,46,47,48,49,50]
[null,"LABEL 15","RELATIVE",{"$f":"'Horizontal Labels'!E$166","v":0},{"$f":"'Horizontal Labels'!F$166","v":0},{"$f":"'Horizontal Labels'!G$166","v":0},{"$f":"'Horizontal Labels'!H$166","v":0},{"$f":"'Horizontal Labels'!I$166","v":0},{"$f":"'Horizontal Labels'!J$166","v":0},{"$f":"'Horizontal Labels'!K$166","v":0},{"$f":"'Horizontal Labels'!L$166","v":0},{"$f":"'Horizontal Labels'!M$166","v":0},{"$f":"'Horizontal Labels'!N$166","v":0},{"$f":"'Horizontal Labels'!O$166","v":0},{"$f":"'Horizontal Labels'!P$166","v":0},{"$f":"'Horizontal Labels'!Q$166","v":0},{"$f":"'Horizontal Labels'!R$166","v":0},{"$f":"'Horizontal Labels'!S$166","v":0},{"$f":"'Horizontal Labels'!T$166","v":0},{"$f":"'Horizontal Labels'!U$166","v":0},{"$f":"'Horizontal Labels'!V$166","v":0},{"$f":"'Horizontal Labels'!W$166","v":0},{"$f":"'Horizontal Labels'!X$166","v":0},{"$f":"'Horizontal Labels'!Y$166","v":0},{"$f":"'Horizontal Labels'!Z$166","v":0},{"$f":"'Horizontal Labels'!AA$166","v":0},{"$f":"'Horizontal Labels'!AB$166","v":0},{"$f":"'Horizontal Labels'!AC$166","v":0},{"$f":"'Horizontal Labels'!AD$166","v":0},{"$f":"'Horizontal Labels'!AE$166","v":0},{"$f":"'Horizontal Labels'!AF$166","v":0},{"$f":"'Horizontal Labels'!AG$166","v":0},{"$f":"'Horizontal Labels'!AH$166","v":0},{"$f":"'Horizontal Labels'!AI$166","v":0},{"$f":"'Horizontal Labels'!AJ$166","v":0},{"$f":"'Horizontal Labels'!AK$166","v":0},{"$f":"'Horizontal Labels'!AL$166","v":0},{"$f":"'Horizontal Labels'!AM$166","v":0},{"$f":"'Horizontal Labels'!AN$166","v":0},{"$f":"'Horizontal Labels'!AO$166","v":0},{"$f":"'Horizontal Labels'!AP$166","v":0},{"$f":"'Horizontal Labels'!AQ$166","v":0},{"$f":"'Horizontal Labels'!AR$166","v":0},{"$f":"'Horizontal Labels'!AS$166","v":0},{"$f":"'Horizontal Labels'!AT$166","v":0},{"$f":"'Horizontal Labels'!AU$166","v":0},{"$f":"'Horizontal Labels'!AV$166","v":0},{"$f":"'Horizontal Labels'!AW$166","v":0},{"$f":"'Horizontal Labels'!AX$166","v":0},{"$f":"'Horizontal Labels'!AY$166","v":0},{"$f":"'Horizontal Labels'!AZ$166","v":0},{"$f":"'Horizontal Labels'!BA$166","v":0},{"$f":"'Horizontal Labels'!BB$166","v":0}]
[null,null,"FIXED",{"$f":"SUM($D$129:D129)","v":0},{"$f":"IF(OR(SUM($D$129:E129)=D130,D130=0),0,SUM($D$129:E129))","v":0},{"$f":"IF(OR(SUM($D$129:F129)=E130,E130=0),0,SUM($D$129:F129))","v":0},{"$f":"IF(OR(SUM($D$129:G129)=F130,F130=0),0,SUM($D$129:G129))","v":0},{"$f":"IF(OR(SUM($D$129:H129)=G130,G130=0),0,SUM($D$129:H129))","v":0},{"$f":"IF(OR(SUM($D$129:I129)=H130,H130=0),0,SUM($D$129:I129))","v":0},{"$f":"IF(OR(SUM($D$129:J129)=I130,I130=0),0,SUM($D$129:J129))","v":0},{"$f":"IF(OR(SUM($D$129:K129)=J130,J130=0),0,SUM($D$129:K129))","v":0},{"$f":"IF(OR(SUM($D$129:L129)=K130,K130=0),0,SUM($D$129:L129))","v":0},{"$f":"IF(OR(SUM($D$129:M129)=L130,L130=0),0,SUM($D$129:M129))","v":0},{"$f":"IF(OR(SUM($D$129:N129)=M130,M130=0),0,SUM($D$129:N129))","v":0},{"$f":"IF(OR(SUM($D$129:O129)=N130,N130=0),0,SUM($D$129:O129))","v":0},{"$f":"IF(OR(SUM($D$129:P129)=O130,O130=0),0,SUM($D$129:P129))","v":0},{"$f":"IF(OR(SUM($D$129:Q129)=P130,P130=0),0,SUM($D$129:Q129))","v":0},{"$f":"IF(OR(SUM($D$129:R129)=Q130,Q130=0),0,SUM($D$129:R129))","v":0},{"$f":"IF(OR(SUM($D$129:S129)=R130,R130=0),0,SUM($D$129:S129))","v":0},{"$f":"IF(OR(SUM($D$129:T129)=S130,S130=0),0,SUM($D$129:T129))","v":0},{"$f":"IF(OR(SUM($D$129:U129)=T130,T130=0),0,SUM($D$129:U129))","v":0},{"$f":"IF(OR(SUM($D$129:V129)=U130,U130=0),0,SUM($D$129:V129))","v":0},{"$f":"IF(OR(SUM($D$129:W129)=V130,V130=0),0,SUM($D$129:W129))","v":0},{"$f":"IF(OR(SUM($D$129:X129)=W130,W130=0),0,SUM($D$129:X129))","v":0},{"$f":"IF(OR(SUM($D$129:Y129)=X130,X130=0),0,SUM($D$129:Y129))","v":0},{"$f":"IF(OR(SUM($D$129:Z129)=Y130,Y130=0),0,SUM($D$129:Z129))","v":0},{"$f":"IF(OR(SUM($D$129:AA129)=Z130,Z130=0),0,SUM($D$129:AA129))","v":0},{"$f":"IF(OR(SUM($D$129:AB129)=AA130,AA130=0),0,SUM($D$129:AB129))","v":0},{"$f":"IF(OR(SUM($D$129:AC129)=AB130,AB130=0),0,SUM($D$129:AC129))","v":0},{"$f":"IF(OR(SUM($D$129:AD129)=AC130,AC130=0),0,SUM($D$129:AD129))","v":0},{"$f":"IF(OR(SUM($D$129:AE129)=AD130,AD130=0),0,SUM($D$129:AE129))","v":0},{"$f":"IF(OR(SUM($D$129:AF129)=AE130,AE130=0),0,SUM($D$129:AF129))","v":0},{"$f":"IF(OR(SUM($D$129:AG129)=AF130,AF130=0),0,SUM($D$129:AG129))","v":0},{"$f":"IF(OR(SUM($D$129:AH129)=AG130,AG130=0),0,SUM($D$129:AH129))","v":0},{"$f":"IF(OR(SUM($D$129:AI129)=AH130,AH130=0),0,SUM($D$129:AI129))","v":0},{"$f":"IF(OR(SUM($D$129:AJ129)=AI130,AI130=0),0,SUM($D$129:AJ129))","v":0},{"$f":"IF(OR(SUM($D$129:AK129)=AJ130,AJ130=0),0,SUM($D$129:AK129))","v":0},{"$f":"IF(OR(SUM($D$129:AL129)=AK130,AK130=0),0,SUM($D$129:AL129))","v":0},{"$f":"IF(OR(SUM($D$129:AM129)=AL130,AL130=0),0,SUM($D$129:AM129))","v":0},{"$f":"IF(OR(SUM($D$129:AN129)=AM130,AM130=0),0,SUM($D$129:AN129))","v":0},{"$f":"IF(OR(SUM($D$129:AO129)=AN130,AN130=0),0,SUM($D$129:AO129))","v":0},{"$f":"IF(OR(SUM($D$129:AP129)=AO130,AO130=0),0,SUM($D$129:AP129))","v":0},{"$f":"IF(OR(SUM($D$129:AQ129)=AP130,AP130=0),0,SUM($D$129:AQ129))","v":0},{"$f":"IF(OR(SUM($D$129:AR129)=AQ130,AQ130=0),0,SUM($D$129:AR129))","v":0},{"$f":"IF(OR(SUM($D$129:AS129)=AR130,AR130=0),0,SUM($D$129:AS129))","v":0},{"$f":"IF(OR(SUM($D$129:AT129)=AS130,AS130=0),0,SUM($D$129:AT129))","v":0},{"$f":"IF(OR(SUM($D$129:AU129)=AT130,AT130=0),0,SUM($D$129:AU129))","v":0},{"$f":"IF(OR(SUM($D$129:AV129)=AU130,AU130=0),0,SUM($D$129:AV129))","v":0},{"$f":"IF(OR(SUM($D$129:AW129)=AV130,AV130=0),0,SUM($D$129:AW129))","v":0},{"$f":"IF(OR(SUM($D$129:AX129)=AW130,AW130=0),0,SUM($D$129:AX129))","v":0},{"$f":"IF(OR(SUM($D$129:AY129)=AX130,AX130=0),0,SUM($D$129:AY129))","v":0},{"$f":"IF(OR(SUM($D$129:AZ129)=AY130,AY130=0),0,SUM($D$129:AZ129))","v":0},{"$f":"IF(OR(SUM($D$129:BA129)=AZ130,AZ130=0),0,SUM($D$129:BA129))","v":0}]
[null,null,"FIXED",{"$f":"'Horizontal Labels'!E$166","v":0},{"$f":"'Horizontal Labels'!F$166","v":0},{"$f":"'Horizontal Labels'!G$166","v":0},{"$f":"'Horizontal Labels'!H$166","v":0},{"$f":"'Horizontal Labels'!I$166","v":0},{"$f":"'Horizontal Labels'!J$166","v":0},{"$f":"'Horizontal Labels'!K$166","v":0},{"$f":"'Horizontal Labels'!L$166","v":0},{"$f":"'Horizontal Labels'!M$166","v":0},{"$f":"'Horizontal Labels'!N$166","v":0},{"$f":"'Horizontal Labels'!O$166","v":0},{"$f":"'Horizontal Labels'!P$166","v":0},{"$f":"'Horizontal Labels'!Q$166","v":0},{"$f":"'Horizontal Labels'!R$166","v":0},{"$f":"'Horizontal Labels'!S$166","v":0},{"$f":"'Horizontal Labels'!T$166","v":0},{"$f":"'Horizontal Labels'!U$166","v":0},{"$f":"'Horizontal Labels'!V$166","v":0},{"$f":"'Horizontal Labels'!W$166","v":0},{"$f":"'Horizontal Labels'!X$166","v":0},{"$f":"'Horizontal Labels'!Y$166","v":0},{"$f":"'Horizontal Labels'!Z$166","v":0},{"$f":"'Horizontal Labels'!AA$166","v":0},{"$f":"'Horizontal Labels'!AB$166","v":0},{"$f":"'Horizontal Labels'!AC$166","v":0},{"$f":"'Horizontal Labels'!AD$166","v":0},{"$f":"'Horizontal Labels'!AE$166","v":0},{"$f":"'Horizontal Labels'!AF$166","v":0},{"$f":"'Horizontal Labels'!AG$166","v":0},{"$f":"'Horizontal Labels'!AH$166","v":0},{"$f":"'Horizontal Labels'!AI$166","v":0},{"$f":"'Horizontal Labels'!AJ$166","v":0},{"$f":"'Horizontal Labels'!AK$166","v":0},{"$f":"'Horizontal Labels'!AL$166","v":0},{"$f":"'Horizontal Labels'!AM$166","v":0},{"$f":"'Horizontal Labels'!AN$166","v":0},{"$f":"'Horizontal Labels'!AO$166","v":0},{"$f":"'Horizontal Labels'!AP$166","v":0},{"$f":"'Horizontal Labels'!AQ$166","v":0},{"$f":"'Horizontal Labels'!AR$166","v":0},{"$f":"'Horizontal Labels'!AS$166","v":0},{"$f":"'Horizontal Labels'!AT$166","v":0},{"$f":"'Horizontal Labels'!AU$166","v":0},{"$f":"'Horizontal Labels'!AV$166","v":0},{"$f":"'Horizontal Labels'!AW$166","v":0},{"$f":"'Horizontal Labels'!AX$166","v":0},{"$f":"'Horizontal Labels'!AY$166","v":0},{"$f":"'Horizontal Labels'!AZ$166","v":0},{"$f":"'Horizontal Labels'!BA$166","v":0},{"$f":"'Horizontal Labels'!BB$166","v":0}]
[null,null,"RELATIVE",{"$f":"D131","v":0},{"$f":"IF(E131-D131<1,0,E131-D131)","v":0},{"$f":"IF(F131-E131<1,0,F131-E131)","v":0},0,0,0,0,0,0,0,0,0,0,0,0,0,0,0,0,0,0,0,0,0,0,0,0,0,0,0,0,0,0,0,0,0,0,0,0,0,0,0,0,0,0,0,0,0,0,0]
[null,null,"BLOCKS",{"$f":"'Horizontal Labels'!E$166","v":0},{"$f":"'Horizontal Labels'!F$166","v":0},{"$f":"'Horizontal Labels'!G$166","v":0},{"$f":"'Horizontal Labels'!H$166","v":0},{"$f":"'Horizontal Labels'!I$166","v":0},{"$f":"'Horizontal Labels'!J$166","v":0},{"$f":"'Horizontal Labels'!K$166","v":0},{"$f":"'Horizontal Labels'!L$166","v":0},{"$f":"'Horizontal Labels'!M$166","v":0},{"$f":"'Horizontal Labels'!N$166","v":0},{"$f":"'Horizontal Labels'!O$166","v":0},{"$f":"'Horizontal Labels'!P$166","v":0},{"$f":"'Horizontal Labels'!Q$166","v":0},{"$f":"'Horizontal Labels'!R$166","v":0},{"$f":"'Horizontal Labels'!S$166","v":0},{"$f":"'Horizontal Labels'!T$166","v":0},{"$f":"'Horizontal Labels'!U$166","v":0},{"$f":"'Horizontal Labels'!V$166","v":0},{"$f":"'Horizontal Labels'!W$166","v":0},{"$f":"'Horizontal Labels'!X$166","v":0},{"$f":"'Horizontal Labels'!Y$166","v":0},{"$f":"'Horizontal Labels'!Z$166","v":0},{"$f":"'Horizontal Labels'!AA$166","v":0},{"$f":"'Horizontal Labels'!AB$166","v":0},{"$f":"'Horizontal Labels'!AC$166","v":0},{"$f":"'Horizontal Labels'!AD$166","v":0},{"$f":"'Horizontal Labels'!AE$166","v":0},{"$f":"'Horizontal Labels'!AF$166","v":0},{"$f":"'Horizontal Labels'!AG$166","v":0},{"$f":"'Horizontal Labels'!AH$166","v":0},{"$f":"'Horizontal Labels'!AI$166","v":0},{"$f":"'Horizontal Labels'!AJ$166","v":0},{"$f":"'Horizontal Labels'!AK$166","v":0},{"$f":"'Horizontal Labels'!AL$166","v":0},{"$f":"'Horizontal Labels'!AM$166","v":0},{"$f":"'Horizontal Labels'!AN$166","v":0},{"$f":"'Horizontal Labels'!AO$166","v":0},{"$f":"'Horizontal Labels'!AP$166","v":0},{"$f":"'Horizontal Labels'!AQ$166","v":0},{"$f":"'Horizontal Labels'!AR$166","v":0},{"$f":"'Horizontal Labels'!AS$166","v":0},{"$f":"'Horizontal Labels'!AT$166","v":0},{"$f":"'Horizontal Labels'!AU$166","v":0},{"$f":"'Horizontal Labels'!AV$166","v":0},{"$f":"'Horizontal Labels'!AW$166","v":0},{"$f":"'Horizontal Labels'!AX$166","v":0},{"$f":"'Horizontal Labels'!AY$166","v":0},{"$f":"'Horizontal Labels'!AZ$166","v":0},{"$f":"'Horizontal Labels'!BA$166","v":0},{"$f":"'Horizontal Labels'!BB$166","v":0}]
[null,null,"FIXED",{"$f":"D135","v":0},{"$f":"IF(OR(SUM($D$135:E135)=D134,D134=0),0,SUM($D$135:E135))","v":0},{"$f":"IF(OR(SUM($D$135:F135)=E134,E134=0),0,SUM($D$135:F135))","v":0},{"$f":"IF(OR(SUM($D$135:G135)=F134,F134=0),0,SUM($D$135:G135))","v":0},{"$f":"IF(OR(SUM($D$135:H135)=G134,G134=0),0,SUM($D$135:H135))","v":0},{"$f":"IF(OR(SUM($D$135:I135)=H134,H134=0),0,SUM($D$135:I135))","v":0},{"$f":"IF(OR(SUM($D$135:J135)=I134,I134=0),0,SUM($D$135:J135))","v":0},{"$f":"IF(OR(SUM($D$135:K135)=J134,J134=0),0,SUM($D$135:K135))","v":0},{"$f":"IF(OR(SUM($D$135:L135)=K134,K134=0),0,SUM($D$135:L135))","v":0},{"$f":"IF(OR(SUM($D$135:M135)=L134,L134=0),0,SUM($D$135:M135))","v":0},{"$f":"IF(OR(SUM($D$135:N135)=M134,M134=0),0,SUM($D$135:N135))","v":0},{"$f":"IF(OR(SUM($D$135:O135)=N134,N134=0),0,SUM($D$135:O135))","v":0},{"$f":"IF(OR(SUM($D$135:P135)=O134,O134=0),0,SUM($D$135:P135))","v":0},{"$f":"IF(OR(SUM($D$135:Q135)=P134,P134=0),0,SUM($D$135:Q135))","v":0},{"$f":"IF(OR(SUM($D$135:R135)=Q134,Q134=0),0,SUM($D$135:R135))","v":0},{"$f":"IF(OR(SUM($D$135:S135)=R134,R134=0),0,SUM($D$135:S135))","v":0},{"$f":"IF(OR(SUM($D$135:T135)=S134,S134=0),0,SUM($D$135:T135))","v":0},{"$f":"IF(OR(SUM($D$135:U135)=T134,T134=0),0,SUM($D$135:U135))","v":0},{"$f":"IF(OR(SUM($D$135:V135)=U134,U134=0),0,SUM($D$135:V135))","v":0},{"$f":"IF(OR(SUM($D$135:W135)=V134,V134=0),0,SUM($D$135:W135))","v":0},{"$f":"IF(OR(SUM($D$135:X135)=W134,W134=0),0,SUM($D$135:X135))","v":0},{"$f":"IF(OR(SUM($D$135:Y135)=X134,X134=0),0,SUM($D$135:Y135))","v":0},{"$f":"IF(OR(SUM($D$135:Z135)=Y134,Y134=0),0,SUM($D$135:Z135))","v":0},{"$f":"IF(OR(SUM($D$135:AA135)=Z134,Z134=0),0,SUM($D$135:AA135))","v":0},{"$f":"IF(OR(SUM($D$135:AB135)=AA134,AA134=0),0,SUM($D$135:AB135))","v":0},{"$f":"IF(OR(SUM($D$135:AC135)=AB134,AB134=0),0,SUM($D$135:AC135))","v":0},{"$f":"IF(OR(SUM($D$135:AD135)=AC134,AC134=0),0,SUM($D$135:AD135))","v":0},{"$f":"IF(OR(SUM($D$135:AE135)=AD134,AD134=0),0,SUM($D$135:AE135))","v":0},{"$f":"IF(OR(SUM($D$135:AF135)=AE134,AE134=0),0,SUM($D$135:AF135))","v":0},{"$f":"IF(OR(SUM($D$135:AG135)=AF134,AF134=0),0,SUM($D$135:AG135))","v":0},{"$f":"IF(OR(SUM($D$135:AH135)=AG134,AG134=0),0,SUM($D$135:AH135))","v":0},{"$f":"IF(OR(SUM($D$135:AI135)=AH134,AH134=0),0,SUM($D$135:AI135))","v":0},{"$f":"IF(OR(SUM($D$135:AJ135)=AI134,AI134=0),0,SUM($D$135:AJ135))","v":0},{"$f":"IF(OR(SUM($D$135:AK135)=AJ134,AJ134=0),0,SUM($D$135:AK135))","v":0},{"$f":"IF(OR(SUM($D$135:AL135)=AK134,AK134=0),0,SUM($D$135:AL135))","v":0},{"$f":"IF(OR(SUM($D$135:AM135)=AL134,AL134=0),0,SUM($D$135:AM135))","v":0},{"$f":"IF(OR(SUM($D$135:AN135)=AM134,AM134=0),0,SUM($D$135:AN135))","v":0},{"$f":"IF(OR(SUM($D$135:AO135)=AN134,AN134=0),0,SUM($D$135:AO135))","v":0},{"$f":"IF(OR(SUM($D$135:AP135)=AO134,AO134=0),0,SUM($D$135:AP135))","v":0},{"$f":"IF(OR(SUM($D$135:AQ135)=AP134,AP134=0),0,SUM($D$135:AQ135))","v":0},{"$f":"IF(OR(SUM($D$135:AR135)=AQ134,AQ134=0),0,SUM($D$135:AR135))","v":0},{"$f":"IF(OR(SUM($D$135:AS135)=AR134,AR134=0),0,SUM($D$135:AS135))","v":0},{"$f":"IF(OR(SUM($D$135:AT135)=AS134,AS134=0),0,SUM($D$135:AT135))","v":0},{"$f":"IF(OR(SUM($D$135:AU135)=AT134,AT134=0),0,SUM($D$135:AU135))","v":0},{"$f":"IF(OR(SUM($D$135:AV135)=AU134,AU134=0),0,SUM($D$135:AV135))","v":0},{"$f":"IF(OR(SUM($D$135:AW135)=AV134,AV134=0),0,SUM($D$135:AW135))","v":0},{"$f":"IF(OR(SUM($D$135:AX135)=AW134,AW134=0),0,SUM($D$135:AX135))","v":0},{"$f":"IF(OR(SUM($D$135:AY135)=AX134,AX134=0),0,SUM($D$135:AY135))","v":0},{"$f":"IF(OR(SUM($D$135:AZ135)=AY134,AY134=0),0,SUM($D$135:AZ135))","v":0},{"$f":"IF(OR(SUM($D$135:BA135)=AZ134,AZ134=0),0,SUM($D$135:BA135))","v":0}]
[null,null,"RELATIVE",{"$f":"D133/2","v":0},{"$f":"(D133/2)+(E133/2)","v":0},{"$f":"(E133/2)+(F133/2)","v":0},0,0,0,0,0,0,0,0,0,0,0,0,0,0,0,0,0,0,0,0,0,0,0,0,0,0,0,0,0,0,0,0,0,0,0,0,0,0,0,0,0,0,0,0,0,0,0]
[]
[{"$nulls":3},1,2,3,4,5,6,7,8,9,10,11,12,13,14,15,16,17,18,19,20,21,22,23,24,25,26,27,28,29,30,31,32,33,34,35,36,37,38,39,40,41,42,43,44,45,46,47,48,49,50]
[null,"LABEL 16","RELATIVE",{"$f":"'Horizontal Labels'!E$177","v":0},{"$f":"'Horizontal Labels'!F$177","v":0},{"$f":"'Horizontal Labels'!G$177","v":0},{"$f":"'Horizontal Labels'!H$177","v":0},{"$f":"'Horizontal Labels'!I$177","v":0},{"$f":"'Horizontal Labels'!J$177","v":0},{"$f":"'Horizontal Labels'!K$177","v":0},{"$f":"'Horizontal Labels'!L$177","v":0},{"$f":"'Horizontal Labels'!M$177","v":0},{"$f":"'Horizontal Labels'!N$177","v":0},{"$f":"'Horizontal Labels'!O$177","v":0},{"$f":"'Horizontal Labels'!P$177","v":0},{"$f":"'Horizontal Labels'!Q$177","v":0},{"$f":"'Horizontal Labels'!R$177","v":0},{"$f":"'Horizontal Labels'!S$177","v":0},{"$f":"'Horizontal Labels'!T$177","v":0},{"$f":"'Horizontal Labels'!U$177","v":0},{"$f":"'Horizontal Labels'!V$177","v":0},{"$f":"'Horizontal Labels'!W$177","v":0},{"$f":"'Horizontal Labels'!X$177","v":0},{"$f":"'Horizontal Labels'!Y$177","v":0},{"$f":"'Horizontal Labels'!Z$177","v":0},{"$f":"'Horizontal Labels'!AA$177","v":0},{"$f":"'Horizontal Labels'!AB$177","v":0},{"$f":"'Horizontal Labels'!AC$177","v":0},{"$f":"'Horizontal Labels'!AD$177","v":0},{"$f":"'Horizontal Labels'!AE$177","v":0},{"$f":"'Horizontal Labels'!AF$177","v":0},{"$f":"'Horizontal Labels'!AG$177","v":0},{"$f":"'Horizontal Labels'!AH$177","v":0},{"$f":"'Horizontal Labels'!AI$177","v":0},{"$f":"'Horizontal Labels'!AJ$177","v":0},{"$f":"'Horizontal Labels'!AK$177","v":0},{"$f":"'Horizontal Labels'!AL$177","v":0},{"$f":"'Horizontal Labels'!AM$177","v":0},{"$f":"'Horizontal Labels'!AN$177","v":0},{"$f":"'Horizontal Labels'!AO$177","v":0},{"$f":"'Horizontal Labels'!AP$177","v":0},{"$f":"'Horizontal Labels'!AQ$177","v":0},{"$f":"'Horizontal Labels'!AR$177","v":0},{"$f":"'Horizontal Labels'!AS$177","v":0},{"$f":"'Horizontal Labels'!AT$177","v":0},{"$f":"'Horizontal Labels'!AU$177","v":0},{"$f":"'Horizontal Labels'!AV$177","v":0},{"$f":"'Horizontal Labels'!AW$177","v":0},{"$f":"'Horizontal Labels'!AX$177","v":0},{"$f":"'Horizontal Labels'!AY$177","v":0},{"$f":"'Horizontal Labels'!AZ$177","v":0},{"$f":"'Horizontal Labels'!BA$177","v":0},{"$f":"'Horizontal Labels'!BB$177","v":0}]
[null,null,"FIXED",{"$f":"SUM($D$138:D138)","v":0},{"$f":"IF(OR(SUM($D$138:E138)=D139,D139=0),0,SUM($D$138:E138))","v":0},{"$f":"IF(OR(SUM($D$138:F138)=E139,E139=0),0,SUM($D$138:F138))","v":0},{"$f":"IF(OR(SUM($D$138:G138)=F139,F139=0),0,SUM($D$138:G138))","v":0},{"$f":"IF(OR(SUM($D$138:H138)=G139,G139=0),0,SUM($D$138:H138))","v":0},{"$f":"IF(OR(SUM($D$138:I138)=H139,H139=0),0,SUM($D$138:I138))","v":0},{"$f":"IF(OR(SUM($D$138:J138)=I139,I139=0),0,SUM($D$138:J138))","v":0},{"$f":"IF(OR(SUM($D$138:K138)=J139,J139=0),0,SUM($D$138:K138))","v":0},{"$f":"IF(OR(SUM($D$138:L138)=K139,K139=0),0,SUM($D$138:L138))","v":0},{"$f":"IF(OR(SUM($D$138:M138)=L139,L139=0),0,SUM($D$138:M138))","v":0},{"$f":"IF(OR(SUM($D$138:N138)=M139,M139=0),0,SUM($D$138:N138))","v":0},{"$f":"IF(OR(SUM($D$138:O138)=N139,N139=0),0,SUM($D$138:O138))","v":0},{"$f":"IF(OR(SUM($D$138:P138)=O139,O139=0),0,SUM($D$138:P138))","v":0},{"$f":"IF(OR(SUM($D$138:Q138)=P139,P139=0),0,SUM($D$138:Q138))","v":0},{"$f":"IF(OR(SUM($D$138:R138)=Q139,Q139=0),0,SUM($D$138:R138))","v":0},{"$f":"IF(OR(SUM($D$138:S138)=R139,R139=0),0,SUM($D$138:S138))","v":0},{"$f":"IF(OR(SUM($D$138:T138)=S139,S139=0),0,SUM($D$138:T138))","v":0},{"$f":"IF(OR(SUM($D$138:U138)=T139,T139=0),0,SUM($D$138:U138))","v":0},{"$f":"IF(OR(SUM($D$138:V138)=U139,U139=0),0,SUM($D$138:V138))","v":0},{"$f":"IF(OR(SUM($D$138:W138)=V139,V139=0),0,SUM($D$138:W138))","v":0},{"$f":"IF(OR(SUM($D$138:X138)=W139,W139=0),0,SUM($D$138:X138))","v":0},{"$f":"IF(OR(SUM($D$138:Y138)=X139,X139=0),0,SUM($D$138:Y138))","v":0},{"$f":"IF(OR(SUM($D$138:Z138)=Y139,Y139=0),0,SUM($D$138:Z138))","v":0},{"$f":"IF(OR(SUM($D$138:AA138)=Z139,Z139=0),0,SUM($D$138:AA138))","v":0},{"$f":"IF(OR(SUM($D$138:AB138)=AA139,AA139=0),0,SUM($D$138:AB138))","v":0},{"$f":"IF(OR(SUM($D$138:AC138)=AB139,AB139=0),0,SUM($D$138:AC138))","v":0},{"$f":"IF(OR(SUM($D$138:AD138)=AC139,AC139=0),0,SUM($D$138:AD138))","v":0},{"$f":"IF(OR(SUM($D$138:AE138)=AD139,AD139=0),0,SUM($D$138:AE138))","v":0},{"$f":"IF(OR(SUM($D$138:AF138)=AE139,AE139=0),0,SUM($D$138:AF138))","v":0},{"$f":"IF(OR(SUM($D$138:AG138)=AF139,AF139=0),0,SUM($D$138:AG138))","v":0},{"$f":"IF(OR(SUM($D$138:AH138)=AG139,AG139=0),0,SUM($D$138:AH138))","v":0},{"$f":"IF(OR(SUM($D$138:AI138)=AH139,AH139=0),0,SUM($D$138:AI138))","v":0},{"$f":"IF(OR(SUM($D$138:AJ138)=AI139,AI139=0),0,SUM($D$138:AJ138))","v":0},{"$f":"IF(OR(SUM($D$138:AK138)=AJ139,AJ139=0),0,SUM($D$138:AK138))","v":0},{"$f":"IF(OR(SUM($D$138:AL138)=AK139,AK139=0),0,SUM($D$138:AL138))","v":0},{"$f":"IF(OR(SUM($D$138:AM138)=AL139,AL139=0),0,SUM($D$138:AM138))","v":0},{"$f":"IF(OR(SUM($D$138:AN138)=AM139,AM139=0),0,SUM($D$138:AN138))","v":0},{"$f":"IF(OR(SUM($D$138:AO138)=AN139,AN139=0),0,SUM($D$138:AO138))","v":0},{"$f":"IF(OR(SUM($D$138:AP138)=AO139,AO139=0),0,SUM($D$138:AP138))","v":0},{"$f":"IF(OR(SUM($D$138:AQ138)=AP139,AP139=0),0,SUM($D$138:AQ138))","v":0},{"$f":"IF(OR(SUM($D$138:AR138)=AQ139,AQ139=0),0,SUM($D$138:AR138))","v":0},{"$f":"IF(OR(SUM($D$138:AS138)=AR139,AR139=0),0,SUM($D$138:AS138))","v":0},{"$f":"IF(OR(SUM($D$138:AT138)=AS139,AS139=0),0,SUM($D$138:AT138))","v":0},{"$f":"IF(OR(SUM($D$138:AU138)=AT139,AT139=0),0,SUM($D$138:AU138))","v":0},{"$f":"IF(OR(SUM($D$138:AV138)=AU139,AU139=0),0,SUM($D$138:AV138))","v":0},{"$f":"IF(OR(SUM($D$138:AW138)=AV139,AV139=0),0,SUM($D$138:AW138))","v":0},{"$f":"IF(OR(SUM($D$138:AX138)=AW139,AW139=0),0,SUM($D$138:AX138))","v":0},{"$f":"IF(OR(SUM($D$138:AY138)=AX139,AX139=0),0,SUM($D$138:AY138))","v":0},{"$f":"IF(OR(SUM($D$138:AZ138)=AY139,AY139=0),0,SUM($D$138:AZ138))","v":0},{"$f":"IF(OR(SUM($D$138:BA138)=AZ139,AZ139=0),0,SUM($D$138:BA138))","v":0}]
[null,null,"FIXED",{"$f":"'Horizontal Labels'!E$177","v":0},{"$f":"'Horizontal Labels'!F$177","v":0},{"$f":"'Horizontal Labels'!G$177","v":0},{"$f":"'Horizontal Labels'!H$177","v":0},{"$f":"'Horizontal Labels'!I$177","v":0},{"$f":"'Horizontal Labels'!J$177","v":0},{"$f":"'Horizontal Labels'!K$177","v":0},{"$f":"'Horizontal Labels'!L$177","v":0},{"$f":"'Horizontal Labels'!M$177","v":0},{"$f":"'Horizontal Labels'!N$177","v":0},{"$f":"'Horizontal Labels'!O$177","v":0},{"$f":"'Horizontal Labels'!P$177","v":0},{"$f":"'Horizontal Labels'!Q$177","v":0},{"$f":"'Horizontal Labels'!R$177","v":0},{"$f":"'Horizontal Labels'!S$177","v":0},{"$f":"'Horizontal Labels'!T$177","v":0},{"$f":"'Horizontal Labels'!U$177","v":0},{"$f":"'Horizontal Labels'!V$177","v":0},{"$f":"'Horizontal Labels'!W$177","v":0},{"$f":"'Horizontal Labels'!X$177","v":0},{"$f":"'Horizontal Labels'!Y$177","v":0},{"$f":"'Horizontal Labels'!Z$177","v":0},{"$f":"'Horizontal Labels'!AA$177","v":0},{"$f":"'Horizontal Labels'!AB$177","v":0},{"$f":"'Horizontal Labels'!AC$177","v":0},{"$f":"'Horizontal Labels'!AD$177","v":0},{"$f":"'Horizontal Labels'!AE$177","v":0},{"$f":"'Horizontal Labels'!AF$177","v":0},{"$f":"'Horizontal Labels'!AG$177","v":0},{"$f":"'Horizontal Labels'!AH$177","v":0},{"$f":"'Horizontal Labels'!AI$177","v":0},{"$f":"'Horizontal Labels'!AJ$177","v":0},{"$f":"'Horizontal Labels'!AK$177","v":0},{"$f":"'Horizontal Labels'!AL$177","v":0},{"$f":"'Horizontal Labels'!AM$177","v":0},{"$f":"'Horizontal Labels'!AN$177","v":0},{"$f":"'Horizontal Labels'!AO$177","v":0},{"$f":"'Horizontal Labels'!AP$177","v":0},{"$f":"'Horizontal Labels'!AQ$177","v":0},{"$f":"'Horizontal Labels'!AR$177","v":0},{"$f":"'Horizontal Labels'!AS$177","v":0},{"$f":"'Horizontal Labels'!AT$177","v":0},{"$f":"'Horizontal Labels'!AU$177","v":0},{"$f":"'Horizontal Labels'!AV$177","v":0},{"$f":"'Horizontal Labels'!AW$177","v":0},{"$f":"'Horizontal Labels'!AX$177","v":0},{"$f":"'Horizontal Labels'!AY$177","v":0},{"$f":"'Horizontal Labels'!AZ$177","v":0},{"$f":"'Horizontal Labels'!BA$177","v":0},{"$f":"'Horizontal Labels'!BB$177","v":0}]
[null,null,"RELATIVE",{"$f":"D140","v":0},{"$f":"IF(E140-D140<1,0,E140-D140)","v":0},{"$f":"IF(F140-E140<1,0,F140-E140)","v":0},0,0,0,0,0,0,0,0,0,0,0,0,0,0,0,0,0,0,0,0,0,0,0,0,0,0,0,0,0,0,0,0,0,0,0,0,0,0,0,0,0,0,0,0,0,0,0]
[null,null,"BLOCKS",{"$f":"'Horizontal Labels'!E$177","v":0},{"$f":"'Horizontal Labels'!F$177","v":0},{"$f":"'Horizontal Labels'!G$177","v":0},{"$f":"'Horizontal Labels'!H$177","v":0},{"$f":"'Horizontal Labels'!I$177","v":0},{"$f":"'Horizontal Labels'!J$177","v":0},{"$f":"'Horizontal Labels'!K$177","v":0},{"$f":"'Horizontal Labels'!L$177","v":0},{"$f":"'Horizontal Labels'!M$177","v":0},{"$f":"'Horizontal Labels'!N$177","v":0},{"$f":"'Horizontal Labels'!O$177","v":0},{"$f":"'Horizontal Labels'!P$177","v":0},{"$f":"'Horizontal Labels'!Q$177","v":0},{"$f":"'Horizontal Labels'!R$177","v":0},{"$f":"'Horizontal Labels'!S$177","v":0},{"$f":"'Horizontal Labels'!T$177","v":0},{"$f":"'Horizontal Labels'!U$177","v":0},{"$f":"'Horizontal Labels'!V$177","v":0},{"$f":"'Horizontal Labels'!W$177","v":0},{"$f":"'Horizontal Labels'!X$177","v":0},{"$f":"'Horizontal Labels'!Y$177","v":0},{"$f":"'Horizontal Labels'!Z$177","v":0},{"$f":"'Horizontal Labels'!AA$177","v":0},{"$f":"'Horizontal Labels'!AB$177","v":0},{"$f":"'Horizontal Labels'!AC$177","v":0},{"$f":"'Horizontal Labels'!AD$177","v":0},{"$f":"'Horizontal Labels'!AE$177","v":0},{"$f":"'Horizontal Labels'!AF$177","v":0},{"$f":"'Horizontal Labels'!AG$177","v":0},{"$f":"'Horizontal Labels'!AH$177","v":0},{"$f":"'Horizontal Labels'!AI$177","v":0},{"$f":"'Horizontal Labels'!AJ$177","v":0},{"$f":"'Horizontal Labels'!AK$177","v":0},{"$f":"'Horizontal Labels'!AL$177","v":0},{"$f":"'Horizontal Labels'!AM$177","v":0},{"$f":"'Horizontal Labels'!AN$177","v":0},{"$f":"'Horizontal Labels'!AO$177","v":0},{"$f":"'Horizontal Labels'!AP$177","v":0},{"$f":"'Horizontal Labels'!AQ$177","v":0},{"$f":"'Horizontal Labels'!AR$177","v":0},{"$f":"'Horizontal Labels'!AS$177","v":0},{"$f":"'Horizontal Labels'!AT$177","v":0},{"$f":"'Horizontal Labels'!AU$177","v":0},{"$f":"'Horizontal Labels'!AV$177","v":0},{"$f":"'Horizontal Labels'!AW$177","v":0},{"$f":"'Horizontal Labels'!AX$177","v":0},{"$f":"'Horizontal Labels'!AY$177","v":0},{"$f":"'Horizontal Labels'!AZ$177","v":0},{"$f":"'Horizontal Labels'!BA$177","v":0},{"$f":"'Horizontal Labels'!BB$177","v":0}]
[null,null,"FIXED",{"$f":"D144","v":0},{"$f":"IF(OR(SUM($D$144:E144)=D143,D143=0),0,SUM($D$144:E144))","v":0},{"$f":"IF(OR(SUM($D$144:F144)=E143,E143=0),0,SUM($D$144:F144))","v":0},{"$f":"IF(OR(SUM($D$144:G144)=F143,F143=0),0,SUM($D$144:G144))","v":0},{"$f":"IF(OR(SUM($D$144:H144)=G143,G143=0),0,SUM($D$144:H144))","v":0},{"$f":"IF(OR(SUM($D$144:I144)=H143,H143=0),0,SUM($D$144:I144))","v":0},{"$f":"IF(OR(SUM($D$144:J144)=I143,I143=0),0,SUM($D$144:J144))","v":0},{"$f":"IF(OR(SUM($D$144:K144)=J143,J143=0),0,SUM($D$144:K144))","v":0},{"$f":"IF(OR(SUM($D$144:L144)=K143,K143=0),0,SUM($D$144:L144))","v":0},{"$f":"IF(OR(SUM($D$144:M144)=L143,L143=0),0,SUM($D$144:M144))","v":0},{"$f":"IF(OR(SUM($D$144:N144)=M143,M143=0),0,SUM($D$144:N144))","v":0},{"$f":"IF(OR(SUM($D$144:O144)=N143,N143=0),0,SUM($D$144:O144))","v":0},{"$f":"IF(OR(SUM($D$144:P144)=O143,O143=0),0,SUM($D$144:P144))","v":0},{"$f":"IF(OR(SUM($D$144:Q144)=P143,P143=0),0,SUM($D$144:Q144))","v":0},{"$f":"IF(OR(SUM($D$144:R144)=Q143,Q143=0),0,SUM($D$144:R144))","v":0},{"$f":"IF(OR(SUM($D$144:S144)=R143,R143=0),0,SUM($D$144:S144))","v":0},{"$f":"IF(OR(SUM($D$144:T144)=S143,S143=0),0,SUM($D$144:T144))","v":0},{"$f":"IF(OR(SUM($D$144:U144)=T143,T143=0),0,SUM($D$144:U144))","v":0},{"$f":"IF(OR(SUM($D$144:V144)=U143,U143=0),0,SUM($D$144:V144))","v":0},{"$f":"IF(OR(SUM($D$144:W144)=V143,V143=0),0,SUM($D$144:W144))","v":0},{"$f":"IF(OR(SUM($D$144:X144)=W143,W143=0),0,SUM($D$144:X144))","v":0},{"$f":"IF(OR(SUM($D$144:Y144)=X143,X143=0),0,SUM($D$144:Y144))","v":0},{"$f":"IF(OR(SUM($D$144:Z144)=Y143,Y143=0),0,SUM($D$144:Z144))","v":0},{"$f":"IF(OR(SUM($D$144:AA144)=Z143,Z143=0),0,SUM($D$144:AA144))","v":0},{"$f":"IF(OR(SUM($D$144:AB144)=AA143,AA143=0),0,SUM($D$144:AB144))","v":0},{"$f":"IF(OR(SUM($D$144:AC144)=AB143,AB143=0),0,SUM($D$144:AC144))","v":0},{"$f":"IF(OR(SUM($D$144:AD144)=AC143,AC143=0),0,SUM($D$144:AD144))","v":0},{"$f":"IF(OR(SUM($D$144:AE144)=AD143,AD143=0),0,SUM($D$144:AE144))","v":0},{"$f":"IF(OR(SUM($D$144:AF144)=AE143,AE143=0),0,SUM($D$144:AF144))","v":0},{"$f":"IF(OR(SUM($D$144:AG144)=AF143,AF143=0),0,SUM($D$144:AG144))","v":0},{"$f":"IF(OR(SUM($D$144:AH144)=AG143,AG143=0),0,SUM($D$144:AH144))","v":0},{"$f":"IF(OR(SUM($D$144:AI144)=AH143,AH143=0),0,SUM($D$144:AI144))","v":0},{"$f":"IF(OR(SUM($D$144:AJ144)=AI143,AI143=0),0,SUM($D$144:AJ144))","v":0},{"$f":"IF(OR(SUM($D$144:AK144)=AJ143,AJ143=0),0,SUM($D$144:AK144))","v":0},{"$f":"IF(OR(SUM($D$144:AL144)=AK143,AK143=0),0,SUM($D$144:AL144))","v":0},{"$f":"IF(OR(SUM($D$144:AM144)=AL143,AL143=0),0,SUM($D$144:AM144))","v":0},{"$f":"IF(OR(SUM($D$144:AN144)=AM143,AM143=0),0,SUM($D$144:AN144))","v":0},{"$f":"IF(OR(SUM($D$144:AO144)=AN143,AN143=0),0,SUM($D$144:AO144))","v":0},{"$f":"IF(OR(SUM($D$144:AP144)=AO143,AO143=0),0,SUM($D$144:AP144))","v":0},{"$f":"IF(OR(SUM($D$144:AQ144)=AP143,AP143=0),0,SUM($D$144:AQ144))","v":0},{"$f":"IF(OR(SUM($D$144:AR144)=AQ143,AQ143=0),0,SUM($D$144:AR144))","v":0},{"$f":"IF(OR(SUM($D$144:AS144)=AR143,AR143=0),0,SUM($D$144:AS144))","v":0},{"$f":"IF(OR(SUM($D$144:AT144)=AS143,AS143=0),0,SUM($D$144:AT144))","v":0},{"$f":"IF(OR(SUM($D$144:AU144)=AT143,AT143=0),0,SUM($D$144:AU144))","v":0},{"$f":"IF(OR(SUM($D$144:AV144)=AU143,AU143=0),0,SUM($D$144:AV144))","v":0},{"$f":"IF(OR(SUM($D$144:AW144)=AV143,AV143=0),0,SUM($D$144:AW144))","v":0},{"$f":"IF(OR(SUM($D$144:AX144)=AW143,AW143=0),0,SUM($D$144:AX144))","v":0},{"$f":"IF(OR(SUM($D$144:AY144)=AX143,AX143=0),0,SUM($D$144:AY144))","v":0},{"$f":"IF(OR(SUM($D$144:AZ144)=AY143,AY143=0),0,SUM($D$144:AZ144))","v":0},{"$f":"IF(OR(SUM($D$144:BA144)=AZ143,AZ143=0),0,SUM($D$144:BA144))","v":0}]
[null,null,"RELATIVE",{"$f":"D142/2","v":0},{"$f":"(D142/2)+(E142/2)","v":0},{"$f":"(E142/2)+(F142/2)","v":0},0,0,0,0,0,0,0,0,0,0,0,0,0,0,0,0,0,0,0,0,0,0,0,0,0,0,0,0,0,0,0,0,0,0,0,0,0,0,0,0,0,0,0,0,0,0,0]
[]
[{"$nulls":3},1,2,3,4,5,6,7,8,9,10,11,12,13,14,15,16,17,18,19,20,21,22,23,24,25,26,27,28,29,30,31,32,33,34,35,36,37,38,39,40,41,42,43,44,45,46,47,48,49,50]
[null,"LABEL 17","RELATIVE",{"$f":"'Horizontal Labels'!E$188","v":0},{"$f":"'Horizontal Labels'!F$188","v":0},{"$f":"'Horizontal Labels'!G$188","v":0},{"$f":"'Horizontal Labels'!H$188","v":0},{"$f":"'Horizontal Labels'!I$188","v":0},{"$f":"'Horizontal Labels'!J$188","v":0},{"$f":"'Horizontal Labels'!K$188","v":0},{"$f":"'Horizontal Labels'!L$188","v":0},{"$f":"'Horizontal Labels'!M$188","v":0},{"$f":"'Horizontal Labels'!N$188","v":0},{"$f":"'Horizontal Labels'!O$188","v":0},{"$f":"'Horizontal Labels'!P$188","v":0},{"$f":"'Horizontal Labels'!Q$188","v":0},{"$f":"'Horizontal Labels'!R$188","v":0},{"$f":"'Horizontal Labels'!S$188","v":0},{"$f":"'Horizontal Labels'!T$188","v":0},{"$f":"'Horizontal Labels'!U$188","v":0},{"$f":"'Horizontal Labels'!V$188","v":0},{"$f":"'Horizontal Labels'!W$188","v":0},{"$f":"'Horizontal Labels'!X$188","v":0},{"$f":"'Horizontal Labels'!Y$188","v":0},{"$f":"'Horizontal Labels'!Z$188","v":0},{"$f":"'Horizontal Labels'!AA$188","v":0},{"$f":"'Horizontal Labels'!AB$188","v":0},{"$f":"'Horizontal Labels'!AC$188","v":0},{"$f":"'Horizontal Labels'!AD$188","v":0},{"$f":"'Horizontal Labels'!AE$188","v":0},{"$f":"'Horizontal Labels'!AF$188","v":0},{"$f":"'Horizontal Labels'!AG$188","v":0},{"$f":"'Horizontal Labels'!AH$188","v":0},{"$f":"'Horizontal Labels'!AI$188","v":0},{"$f":"'Horizontal Labels'!AJ$188","v":0},{"$f":"'Horizontal Labels'!AK$188","v":0},{"$f":"'Horizontal Labels'!AL$188","v":0},{"$f":"'Horizontal Labels'!AM$188","v":0},{"$f":"'Horizontal Labels'!AN$188","v":0},{"$f":"'Horizontal Labels'!AO$188","v":0},{"$f":"'Horizontal Labels'!AP$188","v":0},{"$f":"'Horizontal Labels'!AQ$188","v":0},{"$f":"'Horizontal Labels'!AR$188","v":0},{"$f":"'Horizontal Labels'!AS$188","v":0},{"$f":"'Horizontal Labels'!AT$188","v":0},{"$f":"'Horizontal Labels'!AU$188","v":0},{"$f":"'Horizontal Labels'!AV$188","v":0},{"$f":"'Horizontal Labels'!AW$188","v":0},{"$f":"'Horizontal Labels'!AX$188","v":0},{"$f":"'Horizontal Labels'!AY$188","v":0},{"$f":"'Horizontal Labels'!AZ$188","v":0},{"$f":"'Horizontal Labels'!BA$188","v":0},{"$f":"'Horizontal Labels'!BB$188","v":0}]
[null,null,"FIXED",{"$f":"SUM($D$147:D147)","v":0},{"$f":"IF(OR(SUM($D$147:E147)=D148,D148=0),0,SUM($D$147:E147))","v":0},{"$f":"IF(OR(SUM($D$147:F147)=E148,E148=0),0,SUM($D$147:F147))","v":0},{"$f":"IF(OR(SUM($D$147:G147)=F148,F148=0),0,SUM($D$147:G147))","v":0},{"$f":"IF(OR(SUM($D$147:H147)=G148,G148=0),0,SUM($D$147:H147))","v":0},{"$f":"IF(OR(SUM($D$147:I147)=H148,H148=0),0,SUM($D$147:I147))","v":0},{"$f":"IF(OR(SUM($D$147:J147)=I148,I148=0),0,SUM($D$147:J147))","v":0},{"$f":"IF(OR(SUM($D$147:K147)=J148,J148=0),0,SUM($D$147:K147))","v":0},{"$f":"IF(OR(SUM($D$147:L147)=K148,K148=0),0,SUM($D$147:L147))","v":0},{"$f":"IF(OR(SUM($D$147:M147)=L148,L148=0),0,SUM($D$147:M147))","v":0},{"$f":"IF(OR(SUM($D$147:N147)=M148,M148=0),0,SUM($D$147:N147))","v":0},{"$f":"IF(OR(SUM($D$147:O147)=N148,N148=0),0,SUM($D$147:O147))","v":0},{"$f":"IF(OR(SUM($D$147:P147)=O148,O148=0),0,SUM($D$147:P147))","v":0},{"$f":"IF(OR(SUM($D$147:Q147)=P148,P148=0),0,SUM($D$147:Q147))","v":0},{"$f":"IF(OR(SUM($D$147:R147)=Q148,Q148=0),0,SUM($D$147:R147))","v":0},{"$f":"IF(OR(SUM($D$147:S147)=R148,R148=0),0,SUM($D$147:S147))","v":0},{"$f":"IF(OR(SUM($D$147:T147)=S148,S148=0),0,SUM($D$147:T147))","v":0},{"$f":"IF(OR(SUM($D$147:U147)=T148,T148=0),0,SUM($D$147:U147))","v":0},{"$f":"IF(OR(SUM($D$147:V147)=U148,U148=0),0,SUM($D$147:V147))","v":0},{"$f":"IF(OR(SUM($D$147:W147)=V148,V148=0),0,SUM($D$147:W147))","v":0},{"$f":"IF(OR(SUM($D$147:X147)=W148,W148=0),0,SUM($D$147:X147))","v":0},{"$f":"IF(OR(SUM($D$147:Y147)=X148,X148=0),0,SUM($D$147:Y147))","v":0},{"$f":"IF(OR(SUM($D$147:Z147)=Y148,Y148=0),0,SUM($D$147:Z147))","v":0},{"$f":"IF(OR(SUM($D$147:AA147)=Z148,Z148=0),0,SUM($D$147:AA147))","v":0},{"$f":"IF(OR(SUM($D$147:AB147)=AA148,AA148=0),0,SUM($D$147:AB147))","v":0},{"$f":"IF(OR(SUM($D$147:AC147)=AB148,AB148=0),0,SUM($D$147:AC147))","v":0},{"$f":"IF(OR(SUM($D$147:AD147)=AC148,AC148=0),0,SUM($D$147:AD147))","v":0},{"$f":"IF(OR(SUM($D$147:AE147)=AD148,AD148=0),0,SUM($D$147:AE147))","v":0},{"$f":"IF(OR(SUM($D$147:AF147)=AE148,AE148=0),0,SUM($D$147:AF147))","v":0},{"$f":"IF(OR(SUM($D$147:AG147)=AF148,AF148=0),0,SUM($D$147:AG147))","v":0},{"$f":"IF(OR(SUM($D$147:AH147)=AG148,AG148=0),0,SUM($D$147:AH147))","v":0},{"$f":"IF(OR(SUM($D$147:AI147)=AH148,AH148=0),0,SUM($D$147:AI147))","v":0},{"$f":"IF(OR(SUM($D$147:AJ147)=AI148,AI148=0),0,SUM($D$147:AJ147))","v":0},{"$f":"IF(OR(SUM($D$147:AK147)=AJ148,AJ148=0),0,SUM($D$147:AK147))","v":0},{"$f":"IF(OR(SUM($D$147:AL147)=AK148,AK148=0),0,SUM($D$147:AL147))","v":0},{"$f":"IF(OR(SUM($D$147:AM147)=AL148,AL148=0),0,SUM($D$147:AM147))","v":0},{"$f":"IF(OR(SUM($D$147:AN147)=AM148,AM148=0),0,SUM($D$147:AN147))","v":0},{"$f":"IF(OR(SUM($D$147:AO147)=AN148,AN148=0),0,SUM($D$147:AO147))","v":0},{"$f":"IF(OR(SUM($D$147:AP147)=AO148,AO148=0),0,SUM($D$147:AP147))","v":0},{"$f":"IF(OR(SUM($D$147:AQ147)=AP148,AP148=0),0,SUM($D$147:AQ147))","v":0},{"$f":"IF(OR(SUM($D$147:AR147)=AQ148,AQ148=0),0,SUM($D$147:AR147))","v":0},{"$f":"IF(OR(SUM($D$147:AS147)=AR148,AR148=0),0,SUM($D$147:AS147))","v":0},{"$f":"IF(OR(SUM($D$147:AT147)=AS148,AS148=0),0,SUM($D$147:AT147))","v":0},{"$f":"IF(OR(SUM($D$147:AU147)=AT148,AT148=0),0,SUM($D$147:AU147))","v":0},{"$f":"IF(OR(SUM($D$147:AV147)=AU148,AU148=0),0,SUM($D$147:AV147))","v":0},{"$f":"IF(OR(SUM($D$147:AW147)=AV148,AV148=0),0,SUM($D$147:AW147))","v":0},{"$f":"IF(OR(SUM($D$147:AX147)=AW148,AW148=0),0,SUM($D$147:AX147))","v":0},{"$f":"IF(OR(SUM($D$147:AY147)=AX148,AX148=0),0,SUM($D$147:AY147))","v":0},{"$f":"IF(OR(SUM($D$147:AZ147)=AY148,AY148=0),0,SUM($D$147:AZ147))","v":0},{"$f":"IF(OR(SUM($D$147:BA147)=AZ148,AZ148=0),0,SUM($D$147:BA147))","v":0}]
[null,null,"FIXED",{"$f":"'Horizontal Labels'!E$188","v":0},{"$f":"'Horizontal Labels'!F$188","v":0},{"$f":"'Horizontal Labels'!G$188","v":0},{"$f":"'Horizontal Labels'!H$188","v":0},{"$f":"'Horizontal Labels'!I$188","v":0},{"$f":"'Horizontal Labels'!J$188","v":0},{"$f":"'Horizontal Labels'!K$188","v":0},{"$f":"'Horizontal Labels'!L$188","v":0},{"$f":"'Horizontal Labels'!M$188","v":0},{"$f":"'Horizontal Labels'!N$188","v":0},{"$f":"'Horizontal Labels'!O$188","v":0},{"$f":"'Horizontal Labels'!P$188","v":0},{"$f":"'Horizontal Labels'!Q$188","v":0},{"$f":"'Horizontal Labels'!R$188","v":0},{"$f":"'Horizontal Labels'!S$188","v":0},{"$f":"'Horizontal Labels'!T$188","v":0},{"$f":"'Horizontal Labels'!U$188","v":0},{"$f":"'Horizontal Labels'!V$188","v":0},{"$f":"'Horizontal Labels'!W$188","v":0},{"$f":"'Horizontal Labels'!X$188","v":0},{"$f":"'Horizontal Labels'!Y$188","v":0},{"$f":"'Horizontal Labels'!Z$188","v":0},{"$f":"'Horizontal Labels'!AA$188","v":0},{"$f":"'Horizontal Labels'!AB$188","v":0},{"$f":"'Horizontal Labels'!AC$188","v":0},{"$f":"'Horizontal Labels'!AD$188","v":0},{"$f":"'Horizontal Labels'!AE$188","v":0},{"$f":"'Horizontal Labels'!AF$188","v":0},{"$f":"'Horizontal Labels'!AG$188","v":0},{"$f":"'Horizontal Labels'!AH$188","v":0},{"$f":"'Horizontal Labels'!AI$188","v":0},{"$f":"'Horizontal Labels'!AJ$188","v":0},{"$f":"'Horizontal Labels'!AK$188","v":0},{"$f":"'Horizontal Labels'!AL$188","v":0},{"$f":"'Horizontal Labels'!AM$188","v":0},{"$f":"'Horizontal Labels'!AN$188","v":0},{"$f":"'Horizontal Labels'!AO$188","v":0},{"$f":"'Horizontal Labels'!AP$188","v":0},{"$f":"'Horizontal Labels'!AQ$188","v":0},{"$f":"'Horizontal Labels'!AR$188","v":0},{"$f":"'Horizontal Labels'!AS$188","v":0},{"$f":"'Horizontal Labels'!AT$188","v":0},{"$f":"'Horizontal Labels'!AU$188","v":0},{"$f":"'Horizontal Labels'!AV$188","v":0},{"$f":"'Horizontal Labels'!AW$188","v":0},{"$f":"'Horizontal Labels'!AX$188","v":0},{"$f":"'Horizontal Labels'!AY$188","v":0},{"$f":"'Horizontal Labels'!AZ$188","v":0},{"$f":"'Horizontal Labels'!BA$188","v":0},{"$f":"'Horizontal Labels'!BB$188","v":0}]
[null,null,"RELATIVE",{"$f":"D149","v":0},{"$f":"IF(E149-D149<1,0,E149-D149)","v":0},{"$f":"IF(F149-E149<1,0,F149-E149)","v":0},0,0,0,0,0,0,0,0,0,0,0,0,0,0,0,0,0,0,0,0,0,0,0,0,0,0,0,0,0,0,0,0,0,0,0,0,0,0,0,0,0,0,0,0,0,0,0]
[null,null,"BLOCKS",{"$f":"'Horizontal Labels'!E$188","v":0},{"$f":"'Horizontal Labels'!F$188","v":0},{"$f":"'Horizontal Labels'!G$188","v":0},{"$f":"'Horizontal Labels'!H$188","v":0},{"$f":"'Horizontal Labels'!I$188","v":0},{"$f":"'Horizontal Labels'!J$188","v":0},{"$f":"'Horizontal Labels'!K$188","v":0},{"$f":"'Horizontal Labels'!L$188","v":0},{"$f":"'Horizontal Labels'!M$188","v":0},{"$f":"'Horizontal Labels'!N$188","v":0},{"$f":"'Horizontal Labels'!O$188","v":0},{"$f":"'Horizontal Labels'!P$188","v":0},{"$f":"'Horizontal Labels'!Q$188","v":0},{"$f":"'Horizontal Labels'!R$188","v":0},{"$f":"'Horizontal Labels'!S$188","v":0},{"$f":"'Horizontal Labels'!T$188","v":0},{"$f":"'Horizontal Labels'!U$188","v":0},{"$f":"'Horizontal Labels'!V$188","v":0},{"$f":"'Horizontal Labels'!W$188","v":0},{"$f":"'Horizontal Labels'!X$188","v":0},{"$f":"'Horizontal Labels'!Y$188","v":0},{"$f":"'Horizontal Labels'!Z$188","v":0},{"$f":"'Horizontal Labels'!AA$188","v":0},{"$f":"'Horizontal Labels'!AB$188","v":0},{"$f":"'Horizontal Labels'!AC$188","v":0},{"$f":"'Horizontal Labels'!AD$188","v":0},{"$f":"'Horizontal Labels'!AE$188","v":0},{"$f":"'Horizontal Labels'!AF$188","v":0},{"$f":"'Horizontal Labels'!AG$188","v":0},{"$f":"'Horizontal Labels'!AH$188","v":0},{"$f":"'Horizontal Labels'!AI$188","v":0},{"$f":"'Horizontal Labels'!AJ$188","v":0},{"$f":"'Horizontal Labels'!AK$188","v":0},{"$f":"'Horizontal Labels'!AL$188","v":0},{"$f":"'Horizontal Labels'!AM$188","v":0},{"$f":"'Horizontal Labels'!AN$188","v":0},{"$f":"'Horizontal Labels'!AO$188","v":0},{"$f":"'Horizontal Labels'!AP$188","v":0},{"$f":"'Horizontal Labels'!AQ$188","v":0},{"$f":"'Horizontal Labels'!AR$188","v":0},{"$f":"'Horizontal Labels'!AS$188","v":0},{"$f":"'Horizontal Labels'!AT$188","v":0},{"$f":"'Horizontal Labels'!AU$188","v":0},{"$f":"'Horizontal Labels'!AV$188","v":0},{"$f":"'Horizontal Labels'!AW$188","v":0},{"$f":"'Horizontal Labels'!AX$188","v":0},{"$f":"'Horizontal Labels'!AY$188","v":0},{"$f":"'Horizontal Labels'!AZ$188","v":0},{"$f":"'Horizontal Labels'!BA$188","v":0},{"$f":"'Horizontal Labels'!BB$188","v":0}]
[null,null,"FIXED",{"$f":"D153","v":0},{"$f":"IF(OR(SUM($D$153:E153)=D152,D152=0),0,SUM($D$153:E153))","v":0},{"$f":"IF(OR(SUM($D$153:F153)=E152,E152=0),0,SUM($D$153:F153))","v":0},{"$f":"IF(OR(SUM($D$153:G153)=F152,F152=0),0,SUM($D$153:G153))","v":0},{"$f":"IF(OR(SUM($D$153:H153)=G152,G152=0),0,SUM($D$153:H153))","v":0},{"$f":"IF(OR(SUM($D$153:I153)=H152,H152=0),0,SUM($D$153:I153))","v":0},{"$f":"IF(OR(SUM($D$153:J153)=I152,I152=0),0,SUM($D$153:J153))","v":0},{"$f":"IF(OR(SUM($D$153:K153)=J152,J152=0),0,SUM($D$153:K153))","v":0},{"$f":"IF(OR(SUM($D$153:L153)=K152,K152=0),0,SUM($D$153:L153))","v":0},{"$f":"IF(OR(SUM($D$153:M153)=L152,L152=0),0,SUM($D$153:M153))","v":0},{"$f":"IF(OR(SUM($D$153:N153)=M152,M152=0),0,SUM($D$153:N153))","v":0},{"$f":"IF(OR(SUM($D$153:O153)=N152,N152=0),0,SUM($D$153:O153))","v":0},{"$f":"IF(OR(SUM($D$153:P153)=O152,O152=0),0,SUM($D$153:P153))","v":0},{"$f":"IF(OR(SUM($D$153:Q153)=P152,P152=0),0,SUM($D$153:Q153))","v":0},{"$f":"IF(OR(SUM($D$153:R153)=Q152,Q152=0),0,SUM($D$153:R153))","v":0},{"$f":"IF(OR(SUM($D$153:S153)=R152,R152=0),0,SUM($D$153:S153))","v":0},{"$f":"IF(OR(SUM($D$153:T153)=S152,S152=0),0,SUM($D$153:T153))","v":0},{"$f":"IF(OR(SUM($D$153:U153)=T152,T152=0),0,SUM($D$153:U153))","v":0},{"$f":"IF(OR(SUM($D$153:V153)=U152,U152=0),0,SUM($D$153:V153))","v":0},{"$f":"IF(OR(SUM($D$153:W153)=V152,V152=0),0,SUM($D$153:W153))","v":0},{"$f":"IF(OR(SUM($D$153:X153)=W152,W152=0),0,SUM($D$153:X153))","v":0},{"$f":"IF(OR(SUM($D$153:Y153)=X152,X152=0),0,SUM($D$153:Y153))","v":0},{"$f":"IF(OR(SUM($D$153:Z153)=Y152,Y152=0),0,SUM($D$153:Z153))","v":0},{"$f":"IF(OR(SUM($D$153:AA153)=Z152,Z152=0),0,SUM($D$153:AA153))","v":0},{"$f":"IF(OR(SUM($D$153:AB153)=AA152,AA152=0),0,SUM($D$153:AB153))","v":0},{"$f":"IF(OR(SUM($D$153:AC153)=AB152,AB152=0),0,SUM($D$153:AC153))","v":0},{"$f":"IF(OR(SUM($D$153:AD153)=AC152,AC152=0),0,SUM($D$153:AD153))","v":0},{"$f":"IF(OR(SUM($D$153:AE153)=AD152,AD152=0),0,SUM($D$153:AE153))","v":0},{"$f":"IF(OR(SUM($D$153:AF153)=AE152,AE152=0),0,SUM($D$153:AF153))","v":0},{"$f":"IF(OR(SUM($D$153:AG153)=AF152,AF152=0),0,SUM($D$153:AG153))","v":0},{"$f":"IF(OR(SUM($D$153:AH153)=AG152,AG152=0),0,SUM($D$153:AH153))","v":0},{"$f":"IF(OR(SUM($D$153:AI153)=AH152,AH152=0),0,SUM($D$153:AI153))","v":0},{"$f":"IF(OR(SUM($D$153:AJ153)=AI152,AI152=0),0,SUM($D$153:AJ153))","v":0},{"$f":"IF(OR(SUM($D$153:AK153)=AJ152,AJ152=0),0,SUM($D$153:AK153))","v":0},{"$f":"IF(OR(SUM($D$153:AL153)=AK152,AK152=0),0,SUM($D$153:AL153))","v":0},{"$f":"IF(OR(SUM($D$153:AM153)=AL152,AL152=0),0,SUM($D$153:AM153))","v":0},{"$f":"IF(OR(SUM($D$153:AN153)=AM152,AM152=0),0,SUM($D$153:AN153))","v":0},{"$f":"IF(OR(SUM($D$153:AO153)=AN152,AN152=0),0,SUM($D$153:AO153))","v":0},{"$f":"IF(OR(SUM($D$153:AP153)=AO152,AO152=0),0,SUM($D$153:AP153))","v":0},{"$f":"IF(OR(SUM($D$153:AQ153)=AP152,AP152=0),0,SUM($D$153:AQ153))","v":0},{"$f":"IF(OR(SUM($D$153:AR153)=AQ152,AQ152=0),0,SUM($D$153:AR153))","v":0},{"$f":"IF(OR(SUM($D$153:AS153)=AR152,AR152=0),0,SUM($D$153:AS153))","v":0},{"$f":"IF(OR(SUM($D$153:AT153)=AS152,AS152=0),0,SUM($D$153:AT153))","v":0},{"$f":"IF(OR(SUM($D$153:AU153)=AT152,AT152=0),0,SUM($D$153:AU153))","v":0},{"$f":"IF(OR(SUM($D$153:AV153)=AU152,AU152=0),0,SUM($D$153:AV153))","v":0},{"$f":"IF(OR(SUM($D$153:AW153)=AV152,AV152=0),0,SUM($D$153:AW153))","v":0},{"$f":"IF(OR(SUM($D$153:AX153)=AW152,AW152=0),0,SUM($D$153:AX153))","v":0},{"$f":"IF(OR(SUM($D$153:AY153)=AX152,AX152=0),0,SUM($D$153:AY153))","v":0},{"$f":"IF(OR(SUM($D$153:AZ153)=AY152,AY152=0),0,SUM($D$153:AZ153))","v":0},{"$f":"IF(OR(SUM($D$153:BA153)=AZ152,AZ152=0),0,SUM($D$153:BA153))","v":0}]
[null,null,"RELATIVE",{"$f":"D151/2","v":0},{"$f":"(D151/2)+(E151/2)","v":0},{"$f":"(E151/2)+(F151/2)","v":0},0,0,0,0,0,0,0,0,0,0,0,0,0,0,0,0,0,0,0,0,0,0,0,0,0,0,0,0,0,0,0,0,0,0,0,0,0,0,0,0,0,0,0,0,0,0,0]
[]
[{"$nulls":3},1,2,3,4,5,6,7,8,9,10,11,12,13,14,15,16,17,18,19,20,21,22,23,24,25,26,27,28,29,30,31,32,33,34,35,36,37,38,39,40,41,42,43,44,45,46,47,48,49,50]
[null,"LABEL 18","RELATIVE",{"$f":"'Horizontal Labels'!E$199","v":0},{"$f":"'Horizontal Labels'!F$199","v":0},{"$f":"'Horizontal Labels'!G$199","v":0},{"$f":"'Horizontal Labels'!H$199","v":0},{"$f":"'Horizontal Labels'!I$199","v":0},{"$f":"'Horizontal Labels'!J$199","v":0},{"$f":"'Horizontal Labels'!K$199","v":0},{"$f":"'Horizontal Labels'!L$199","v":0},{"$f":"'Horizontal Labels'!M$199","v":0},{"$f":"'Horizontal Labels'!N$199","v":0},{"$f":"'Horizontal Labels'!O$199","v":0},{"$f":"'Horizontal Labels'!P$199","v":0},{"$f":"'Horizontal Labels'!Q$199","v":0},{"$f":"'Horizontal Labels'!R$199","v":0},{"$f":"'Horizontal Labels'!S$199","v":0},{"$f":"'Horizontal Labels'!T$199","v":0},{"$f":"'Horizontal Labels'!U$199","v":0},{"$f":"'Horizontal Labels'!V$199","v":0},{"$f":"'Horizontal Labels'!W$199","v":0},{"$f":"'Horizontal Labels'!X$199","v":0},{"$f":"'Horizontal Labels'!Y$199","v":0},{"$f":"'Horizontal Labels'!Z$199","v":0},{"$f":"'Horizontal Labels'!AA$199","v":0},{"$f":"'Horizontal Labels'!AB$199","v":0},{"$f":"'Horizontal Labels'!AC$199","v":0},{"$f":"'Horizontal Labels'!AD$199","v":0},{"$f":"'Horizontal Labels'!AE$199","v":0},{"$f":"'Horizontal Labels'!AF$199","v":0},{"$f":"'Horizontal Labels'!AG$199","v":0},{"$f":"'Horizontal Labels'!AH$199","v":0},{"$f":"'Horizontal Labels'!AI$199","v":0},{"$f":"'Horizontal Labels'!AJ$199","v":0},{"$f":"'Horizontal Labels'!AK$199","v":0},{"$f":"'Horizontal Labels'!AL$199","v":0},{"$f":"'Horizontal Labels'!AM$199","v":0},{"$f":"'Horizontal Labels'!AN$199","v":0},{"$f":"'Horizontal Labels'!AO$199","v":0},{"$f":"'Horizontal Labels'!AP$199","v":0},{"$f":"'Horizontal Labels'!AQ$199","v":0},{"$f":"'Horizontal Labels'!AR$199","v":0},{"$f":"'Horizontal Labels'!AS$199","v":0},{"$f":"'Horizontal Labels'!AT$199","v":0},{"$f":"'Horizontal Labels'!AU$199","v":0},{"$f":"'Horizontal Labels'!AV$199","v":0},{"$f":"'Horizontal Labels'!AW$199","v":0},{"$f":"'Horizontal Labels'!AX$199","v":0},{"$f":"'Horizontal Labels'!AY$199","v":0},{"$f":"'Horizontal Labels'!AZ$199","v":0},{"$f":"'Horizontal Labels'!BA$199","v":0},{"$f":"'Horizontal Labels'!BB$199","v":0}]
[null,null,"FIXED",{"$f":"SUM($D$156:D156)","v":0},{"$f":"IF(OR(SUM($D$156:E156)=D157,D157=0),0,SUM($D$156:E156))","v":0},{"$f":"IF(OR(SUM($D$156:F156)=E157,E157=0),0,SUM($D$156:F156))","v":0},{"$f":"IF(OR(SUM($D$156:G156)=F157,F157=0),0,SUM($D$156:G156))","v":0},{"$f":"IF(OR(SUM($D$156:H156)=G157,G157=0),0,SUM($D$156:H156))","v":0},{"$f":"IF(OR(SUM($D$156:I156)=H157,H157=0),0,SUM($D$156:I156))","v":0},{"$f":"IF(OR(SUM($D$156:J156)=I157,I157=0),0,SUM($D$156:J156))","v":0},{"$f":"IF(OR(SUM($D$156:K156)=J157,J157=0),0,SUM($D$156:K156))","v":0},{"$f":"IF(OR(SUM($D$156:L156)=K157,K157=0),0,SUM($D$156:L156))","v":0},{"$f":"IF(OR(SUM($D$156:M156)=L157,L157=0),0,SUM($D$156:M156))","v":0},{"$f":"IF(OR(SUM($D$156:N156)=M157,M157=0),0,SUM($D$156:N156))","v":0},{"$f":"IF(OR(SUM($D$156:O156)=N157,N157=0),0,SUM($D$156:O156))","v":0},{"$f":"IF(OR(SUM($D$156:P156)=O157,O157=0),0,SUM($D$156:P156))","v":0},{"$f":"IF(OR(SUM($D$156:Q156)=P157,P157=0),0,SUM($D$156:Q156))","v":0},{"$f":"IF(OR(SUM($D$156:R156)=Q157,Q157=0),0,SUM($D$156:R156))","v":0},{"$f":"IF(OR(SUM($D$156:S156)=R157,R157=0),0,SUM($D$156:S156))","v":0},{"$f":"IF(OR(SUM($D$156:T156)=S157,S157=0),0,SUM($D$156:T156))","v":0},{"$f":"IF(OR(SUM($D$156:U156)=T157,T157=0),0,SUM($D$156:U156))","v":0},{"$f":"IF(OR(SUM($D$156:V156)=U157,U157=0),0,SUM($D$156:V156))","v":0},{"$f":"IF(OR(SUM($D$156:W156)=V157,V157=0),0,SUM($D$156:W156))","v":0},{"$f":"IF(OR(SUM($D$156:X156)=W157,W157=0),0,SUM($D$156:X156))","v":0},{"$f":"IF(OR(SUM($D$156:Y156)=X157,X157=0),0,SUM($D$156:Y156))","v":0},{"$f":"IF(OR(SUM($D$156:Z156)=Y157,Y157=0),0,SUM($D$156:Z156))","v":0},{"$f":"IF(OR(SUM($D$156:AA156)=Z157,Z157=0),0,SUM($D$156:AA156))","v":0},{"$f":"IF(OR(SUM($D$156:AB156)=AA157,AA157=0),0,SUM($D$156:AB156))","v":0},{"$f":"IF(OR(SUM($D$156:AC156)=AB157,AB157=0),0,SUM($D$156:AC156))","v":0},{"$f":"IF(OR(SUM($D$156:AD156)=AC157,AC157=0),0,SUM($D$156:AD156))","v":0},{"$f":"IF(OR(SUM($D$156:AE156)=AD157,AD157=0),0,SUM($D$156:AE156))","v":0},{"$f":"IF(OR(SUM($D$156:AF156)=AE157,AE157=0),0,SUM($D$156:AF156))","v":0},{"$f":"IF(OR(SUM($D$156:AG156)=AF157,AF157=0),0,SUM($D$156:AG156))","v":0},{"$f":"IF(OR(SUM($D$156:AH156)=AG157,AG157=0),0,SUM($D$156:AH156))","v":0},{"$f":"IF(OR(SUM($D$156:AI156)=AH157,AH157=0),0,SUM($D$156:AI156))","v":0},{"$f":"IF(OR(SUM($D$156:AJ156)=AI157,AI157=0),0,SUM($D$156:AJ156))","v":0},{"$f":"IF(OR(SUM($D$156:AK156)=AJ157,AJ157=0),0,SUM($D$156:AK156))","v":0},{"$f":"IF(OR(SUM($D$156:AL156)=AK157,AK157=0),0,SUM($D$156:AL156))","v":0},{"$f":"IF(OR(SUM($D$156:AM156)=AL157,AL157=0),0,SUM($D$156:AM156))","v":0},{"$f":"IF(OR(SUM($D$156:AN156)=AM157,AM157=0),0,SUM($D$156:AN156))","v":0},{"$f":"IF(OR(SUM($D$156:AO156)=AN157,AN157=0),0,SUM($D$156:AO156))","v":0},{"$f":"IF(OR(SUM($D$156:AP156)=AO157,AO157=0),0,SUM($D$156:AP156))","v":0},{"$f":"IF(OR(SUM($D$156:AQ156)=AP157,AP157=0),0,SUM($D$156:AQ156))","v":0},{"$f":"IF(OR(SUM($D$156:AR156)=AQ157,AQ157=0),0,SUM($D$156:AR156))","v":0},{"$f":"IF(OR(SUM($D$156:AS156)=AR157,AR157=0),0,SUM($D$156:AS156))","v":0},{"$f":"IF(OR(SUM($D$156:AT156)=AS157,AS157=0),0,SUM($D$156:AT156))","v":0},{"$f":"IF(OR(SUM($D$156:AU156)=AT157,AT157=0),0,SUM($D$156:AU156))","v":0},{"$f":"IF(OR(SUM($D$156:AV156)=AU157,AU157=0),0,SUM($D$156:AV156))","v":0},{"$f":"IF(OR(SUM($D$156:AW156)=AV157,AV157=0),0,SUM($D$156:AW156))","v":0},{"$f":"IF(OR(SUM($D$156:AX156)=AW157,AW157=0),0,SUM($D$156:AX156))","v":0},{"$f":"IF(OR(SUM($D$156:AY156)=AX157,AX157=0),0,SUM($D$156:AY156))","v":0},{"$f":"IF(OR(SUM($D$156:AZ156)=AY157,AY157=0),0,SUM($D$156:AZ156))","v":0},{"$f":"IF(OR(SUM($D$156:BA156)=AZ157,AZ157=0),0,SUM($D$156:BA156))","v":0}]
[null,null,"FIXED",{"$f":"'Horizontal Labels'!E$199","v":0},{"$f":"'Horizontal Labels'!F$199","v":0},{"$f":"'Horizontal Labels'!G$199","v":0},{"$f":"'Horizontal Labels'!H$199","v":0},{"$f":"'Horizontal Labels'!I$199","v":0},{"$f":"'Horizontal Labels'!J$199","v":0},{"$f":"'Horizontal Labels'!K$199","v":0},{"$f":"'Horizontal Labels'!L$199","v":0},{"$f":"'Horizontal Labels'!M$199","v":0},{"$f":"'Horizontal Labels'!N$199","v":0},{"$f":"'Horizontal Labels'!O$199","v":0},{"$f":"'Horizontal Labels'!P$199","v":0},{"$f":"'Horizontal Labels'!Q$199","v":0},{"$f":"'Horizontal Labels'!R$199","v":0},{"$f":"'Horizontal Labels'!S$199","v":0},{"$f":"'Horizontal Labels'!T$199","v":0},{"$f":"'Horizontal Labels'!U$199","v":0},{"$f":"'Horizontal Labels'!V$199","v":0},{"$f":"'Horizontal Labels'!W$199","v":0},{"$f":"'Horizontal Labels'!X$199","v":0},{"$f":"'Horizontal Labels'!Y$199","v":0},{"$f":"'Horizontal Labels'!Z$199","v":0},{"$f":"'Horizontal Labels'!AA$199","v":0},{"$f":"'Horizontal Labels'!AB$199","v":0},{"$f":"'Horizontal Labels'!AC$199","v":0},{"$f":"'Horizontal Labels'!AD$199","v":0},{"$f":"'Horizontal Labels'!AE$199","v":0},{"$f":"'Horizontal Labels'!AF$199","v":0},{"$f":"'Horizontal Labels'!AG$199","v":0},{"$f":"'Horizontal Labels'!AH$199","v":0},{"$f":"'Horizontal Labels'!AI$199","v":0},{"$f":"'Horizontal Labels'!AJ$199","v":0},{"$f":"'Horizontal Labels'!AK$199","v":0},{"$f":"'Horizontal Labels'!AL$199","v":0},{"$f":"'Horizontal Labels'!AM$199","v":0},{"$f":"'Horizontal Labels'!AN$199","v":0},{"$f":"'Horizontal Labels'!AO$199","v":0},{"$f":"'Horizontal Labels'!AP$199","v":0},{"$f":"'Horizontal Labels'!AQ$199","v":0},{"$f":"'Horizontal Labels'!AR$199","v":0},{"$f":"'Horizontal Labels'!AS$199","v":0},{"$f":"'Horizontal Labels'!AT$199","v":0},{"$f":"'Horizontal Labels'!AU$199","v":0},{"$f":"'Horizontal Labels'!AV$199","v":0},{"$f":"'Horizontal Labels'!AW$199","v":0},{"$f":"'Horizontal Labels'!AX$199","v":0},{"$f":"'Horizontal Labels'!AY$199","v":0},{"$f":"'Horizontal Labels'!AZ$199","v":0},{"$f":"'Horizontal Labels'!BA$199","v":0},{"$f":"'Horizontal Labels'!BB$199","v":0}]
[null,null,"RELATIVE",{"$f":"D158","v":0},{"$f":"IF(E158-D158<1,0,E158-D158)","v":0},{"$f":"IF(F158-E158<1,0,F158-E158)","v":0},0,0,0,0,0,0,0,0,0,0,0,0,0,0,0,0,0,0,0,0,0,0,0,0,0,0,0,0,0,0,0,0,0,0,0,0,0,0,0,0,0,0,0,0,0,0,0]
[null,null,"BLOCKS",{"$f":"'Horizontal Labels'!E$199","v":0},{"$f":"'Horizontal Labels'!F$199","v":0},{"$f":"'Horizontal Labels'!G$199","v":0},{"$f":"'Horizontal Labels'!H$199","v":0},{"$f":"'Horizontal Labels'!I$199","v":0},{"$f":"'Horizontal Labels'!J$199","v":0},{"$f":"'Horizontal Labels'!K$199","v":0},{"$f":"'Horizontal Labels'!L$199","v":0},{"$f":"'Horizontal Labels'!M$199","v":0},{"$f":"'Horizontal Labels'!N$199","v":0},{"$f":"'Horizontal Labels'!O$199","v":0},{"$f":"'Horizontal Labels'!P$199","v":0},{"$f":"'Horizontal Labels'!Q$199","v":0},{"$f":"'Horizontal Labels'!R$199","v":0},{"$f":"'Horizontal Labels'!S$199","v":0},{"$f":"'Horizontal Labels'!T$199","v":0},{"$f":"'Horizontal Labels'!U$199","v":0},{"$f":"'Horizontal Labels'!V$199","v":0},{"$f":"'Horizontal Labels'!W$199","v":0},{"$f":"'Horizontal Labels'!X$199","v":0},{"$f":"'Horizontal Labels'!Y$199","v":0},{"$f":"'Horizontal Labels'!Z$199","v":0},{"$f":"'Horizontal Labels'!AA$199","v":0},{"$f":"'Horizontal Labels'!AB$199","v":0},{"$f":"'Horizontal Labels'!AC$199","v":0},{"$f":"'Horizontal Labels'!AD$199","v":0},{"$f":"'Horizontal Labels'!AE$199","v":0},{"$f":"'Horizontal Labels'!AF$199","v":0},{"$f":"'Horizontal Labels'!AG$199","v":0},{"$f":"'Horizontal Labels'!AH$199","v":0},{"$f":"'Horizontal Labels'!AI$199","v":0},{"$f":"'Horizontal Labels'!AJ$199","v":0},{"$f":"'Horizontal Labels'!AK$199","v":0},{"$f":"'Horizontal Labels'!AL$199","v":0},{"$f":"'Horizontal Labels'!AM$199","v":0},{"$f":"'Horizontal Labels'!AN$199","v":0},{"$f":"'Horizontal Labels'!AO$199","v":0},{"$f":"'Horizontal Labels'!AP$199","v":0},{"$f":"'Horizontal Labels'!AQ$199","v":0},{"$f":"'Horizontal Labels'!AR$199","v":0},{"$f":"'Horizontal Labels'!AS$199","v":0},{"$f":"'Horizontal Labels'!AT$199","v":0},{"$f":"'Horizontal Labels'!AU$199","v":0},{"$f":"'Horizontal Labels'!AV$199","v":0},{"$f":"'Horizontal Labels'!AW$199","v":0},{"$f":"'Horizontal Labels'!AX$199","v":0},{"$f":"'Horizontal Labels'!AY$199","v":0},{"$f":"'Horizontal Labels'!AZ$199","v":0},{"$f":"'Horizontal Labels'!BA$199","v":0},{"$f":"'Horizontal Labels'!BB$199","v":0}]
[null,null,"FIXED",{"$f":"D162","v":0},{"$f":"IF(OR(SUM($D$162:E162)=D161,D161=0),0,SUM($D$162:E162))","v":0},{"$f":"IF(OR(SUM($D$162:F162)=E161,E161=0),0,SUM($D$162:F162))","v":0},{"$f":"IF(OR(SUM($D$162:G162)=F161,F161=0),0,SUM($D$162:G162))","v":0},{"$f":"IF(OR(SUM($D$162:H162)=G161,G161=0),0,SUM($D$162:H162))","v":0},{"$f":"IF(OR(SUM($D$162:I162)=H161,H161=0),0,SUM($D$162:I162))","v":0},{"$f":"IF(OR(SUM($D$162:J162)=I161,I161=0),0,SUM($D$162:J162))","v":0},{"$f":"IF(OR(SUM($D$162:K162)=J161,J161=0),0,SUM($D$162:K162))","v":0},{"$f":"IF(OR(SUM($D$162:L162)=K161,K161=0),0,SUM($D$162:L162))","v":0},{"$f":"IF(OR(SUM($D$162:M162)=L161,L161=0),0,SUM($D$162:M162))","v":0},{"$f":"IF(OR(SUM($D$162:N162)=M161,M161=0),0,SUM($D$162:N162))","v":0},{"$f":"IF(OR(SUM($D$162:O162)=N161,N161=0),0,SUM($D$162:O162))","v":0},{"$f":"IF(OR(SUM($D$162:P162)=O161,O161=0),0,SUM($D$162:P162))","v":0},{"$f":"IF(OR(SUM($D$162:Q162)=P161,P161=0),0,SUM($D$162:Q162))","v":0},{"$f":"IF(OR(SUM($D$162:R162)=Q161,Q161=0),0,SUM($D$162:R162))","v":0},{"$f":"IF(OR(SUM($D$162:S162)=R161,R161=0),0,SUM($D$162:S162))","v":0},{"$f":"IF(OR(SUM($D$162:T162)=S161,S161=0),0,SUM($D$162:T162))","v":0},{"$f":"IF(OR(SUM($D$162:U162)=T161,T161=0),0,SUM($D$162:U162))","v":0},{"$f":"IF(OR(SUM($D$162:V162)=U161,U161=0),0,SUM($D$162:V162))","v":0},{"$f":"IF(OR(SUM($D$162:W162)=V161,V161=0),0,SUM($D$162:W162))","v":0},{"$f":"IF(OR(SUM($D$162:X162)=W161,W161=0),0,SUM($D$162:X162))","v":0},{"$f":"IF(OR(SUM($D$162:Y162)=X161,X161=0),0,SUM($D$162:Y162))","v":0},{"$f":"IF(OR(SUM($D$162:Z162)=Y161,Y161=0),0,SUM($D$162:Z162))","v":0},{"$f":"IF(OR(SUM($D$162:AA162)=Z161,Z161=0),0,SUM($D$162:AA162))","v":0},{"$f":"IF(OR(SUM($D$162:AB162)=AA161,AA161=0),0,SUM($D$162:AB162))","v":0},{"$f":"IF(OR(SUM($D$162:AC162)=AB161,AB161=0),0,SUM($D$162:AC162))","v":0},{"$f":"IF(OR(SUM($D$162:AD162)=AC161,AC161=0),0,SUM($D$162:AD162))","v":0},{"$f":"IF(OR(SUM($D$162:AE162)=AD161,AD161=0),0,SUM($D$162:AE162))","v":0},{"$f":"IF(OR(SUM($D$162:AF162)=AE161,AE161=0),0,SUM($D$162:AF162))","v":0},{"$f":"IF(OR(SUM($D$162:AG162)=AF161,AF161=0),0,SUM($D$162:AG162))","v":0},{"$f":"IF(OR(SUM($D$162:AH162)=AG161,AG161=0),0,SUM($D$162:AH162))","v":0},{"$f":"IF(OR(SUM($D$162:AI162)=AH161,AH161=0),0,SUM($D$162:AI162))","v":0},{"$f":"IF(OR(SUM($D$162:AJ162)=AI161,AI161=0),0,SUM($D$162:AJ162))","v":0},{"$f":"IF(OR(SUM($D$162:AK162)=AJ161,AJ161=0),0,SUM($D$162:AK162))","v":0},{"$f":"IF(OR(SUM($D$162:AL162)=AK161,AK161=0),0,SUM($D$162:AL162))","v":0},{"$f":"IF(OR(SUM($D$162:AM162)=AL161,AL161=0),0,SUM($D$162:AM162))","v":0},{"$f":"IF(OR(SUM($D$162:AN162)=AM161,AM161=0),0,SUM($D$162:AN162))","v":0},{"$f":"IF(OR(SUM($D$162:AO162)=AN161,AN161=0),0,SUM($D$162:AO162))","v":0},{"$f":"IF(OR(SUM($D$162:AP162)=AO161,AO161=0),0,SUM($D$162:AP162))","v":0},{"$f":"IF(OR(SUM($D$162:AQ162)=AP161,AP161=0),0,SUM($D$162:AQ162))","v":0},{"$f":"IF(OR(SUM($D$162:AR162)=AQ161,AQ161=0),0,SUM($D$162:AR162))","v":0},{"$f":"IF(OR(SUM($D$162:AS162)=AR161,AR161=0),0,SUM($D$162:AS162))","v":0},{"$f":"IF(OR(SUM($D$162:AT162)=AS161,AS161=0),0,SUM($D$162:AT162))","v":0},{"$f":"IF(OR(SUM($D$162:AU162)=AT161,AT161=0),0,SUM($D$162:AU162))","v":0},{"$f":"IF(OR(SUM($D$162:AV162)=AU161,AU161=0),0,SUM($D$162:AV162))","v":0},{"$f":"IF(OR(SUM($D$162:AW162)=AV161,AV161=0),0,SUM($D$162:AW162))","v":0},{"$f":"IF(OR(SUM($D$162:AX162)=AW161,AW161=0),0,SUM($D$162:AX162))","v":0},{"$f":"IF(OR(SUM($D$162:AY162)=AX161,AX161=0),0,SUM($D$162:AY162))","v":0},{"$f":"IF(OR(SUM($D$162:AZ162)=AY161,AY161=0),0,SUM($D$162:AZ162))","v":0},{"$f":"IF(OR(SUM($D$162:BA162)=AZ161,AZ161=0),0,SUM($D$162:BA162))","v":0}]
[null,null,"RELATIVE",{"$f":"D160/2","v":0},{"$f":"(D160/2)+(E160/2)","v":0},{"$f":"(E160/2)+(F160/2)","v":0},0,0,0,0,0,0,0,0,0,0,0,0,0,0,0,0,0,0,0,0,0,0,0,0,0,0,0,0,0,0,0,0,0,0,0,0,0,0,0,0,0,0,0,0,0,0,0]
[]
[{"$nulls":3},1,2,3,4,5,6,7,8,9,10,11,12,13,14,15,16,17,18,19,20,21,22,23,24,25,26,27,28,29,30,31,32,33,34,35,36,37,38,39,40,41,42,43,44,45,46,47,48,49,50]
[null,"LABEL 19","RELATIVE",{"$f":"'Horizontal Labels'!E$210","v":0},{"$f":"'Horizontal Labels'!F$210","v":0},{"$f":"'Horizontal Labels'!G$210","v":0},{"$f":"'Horizontal Labels'!H$210","v":0},{"$f":"'Horizontal Labels'!I$210","v":0},{"$f":"'Horizontal Labels'!J$210","v":0},{"$f":"'Horizontal Labels'!K$210","v":0},{"$f":"'Horizontal Labels'!L$210","v":0},{"$f":"'Horizontal Labels'!M$210","v":0},{"$f":"'Horizontal Labels'!N$210","v":0},{"$f":"'Horizontal Labels'!O$210","v":0},{"$f":"'Horizontal Labels'!P$210","v":0},{"$f":"'Horizontal Labels'!Q$210","v":0},{"$f":"'Horizontal Labels'!R$210","v":0},{"$f":"'Horizontal Labels'!S$210","v":0},{"$f":"'Horizontal Labels'!T$210","v":0},{"$f":"'Horizontal Labels'!U$210","v":0},{"$f":"'Horizontal Labels'!V$210","v":0},{"$f":"'Horizontal Labels'!W$210","v":0},{"$f":"'Horizontal Labels'!X$210","v":0},{"$f":"'Horizontal Labels'!Y$210","v":0},{"$f":"'Horizontal Labels'!Z$210","v":0},{"$f":"'Horizontal Labels'!AA$210","v":0},{"$f":"'Horizontal Labels'!AB$210","v":0},{"$f":"'Horizontal Labels'!AC$210","v":0},{"$f":"'Horizontal Labels'!AD$210","v":0},{"$f":"'Horizontal Labels'!AE$210","v":0},{"$f":"'Horizontal Labels'!AF$210","v":0},{"$f":"'Horizontal Labels'!AG$210","v":0},{"$f":"'Horizontal Labels'!AH$210","v":0},{"$f":"'Horizontal Labels'!AI$210","v":0},{"$f":"'Horizontal Labels'!AJ$210","v":0},{"$f":"'Horizontal Labels'!AK$210","v":0},{"$f":"'Horizontal Labels'!AL$210","v":0},{"$f":"'Horizontal Labels'!AM$210","v":0},{"$f":"'Horizontal Labels'!AN$210","v":0},{"$f":"'Horizontal Labels'!AO$210","v":0},{"$f":"'Horizontal Labels'!AP$210","v":0},{"$f":"'Horizontal Labels'!AQ$210","v":0},{"$f":"'Horizontal Labels'!AR$210","v":0},{"$f":"'Horizontal Labels'!AS$210","v":0},{"$f":"'Horizontal Labels'!AT$210","v":0},{"$f":"'Horizontal Labels'!AU$210","v":0},{"$f":"'Horizontal Labels'!AV$210","v":0},{"$f":"'Horizontal Labels'!AW$210","v":0},{"$f":"'Horizontal Labels'!AX$210","v":0},{"$f":"'Horizontal Labels'!AY$210","v":0},{"$f":"'Horizontal Labels'!AZ$210","v":0},{"$f":"'Horizontal Labels'!BA$210","v":0},{"$f":"'Horizontal Labels'!BB$210","v":0}]
[null,null,"FIXED",{"$f":"SUM($D$165:D165)","v":0},{"$f":"IF(OR(SUM($D$165:E165)=D166,D166=0),0,SUM($D$165:E165))","v":0},{"$f":"IF(OR(SUM($D$165:F165)=E166,E166=0),0,SUM($D$165:F165))","v":0},{"$f":"IF(OR(SUM($D$165:G165)=F166,F166=0),0,SUM($D$165:G165))","v":0},{"$f":"IF(OR(SUM($D$165:H165)=G166,G166=0),0,SUM($D$165:H165))","v":0},{"$f":"IF(OR(SUM($D$165:I165)=H166,H166=0),0,SUM($D$165:I165))","v":0},{"$f":"IF(OR(SUM($D$165:J165)=I166,I166=0),0,SUM($D$165:J165))","v":0},{"$f":"IF(OR(SUM($D$165:K165)=J166,J166=0),0,SUM($D$165:K165))","v":0},{"$f":"IF(OR(SUM($D$165:L165)=K166,K166=0),0,SUM($D$165:L165))","v":0},{"$f":"IF(OR(SUM($D$165:M165)=L166,L166=0),0,SUM($D$165:M165))","v":0},{"$f":"IF(OR(SUM($D$165:N165)=M166,M166=0),0,SUM($D$165:N165))","v":0},{"$f":"IF(OR(SUM($D$165:O165)=N166,N166=0),0,SUM($D$165:O165))","v":0},{"$f":"IF(OR(SUM($D$165:P165)=O166,O166=0),0,SUM($D$165:P165))","v":0},{"$f":"IF(OR(SUM($D$165:Q165)=P166,P166=0),0,SUM($D$165:Q165))","v":0},{"$f":"IF(OR(SUM($D$165:R165)=Q166,Q166=0),0,SUM($D$165:R165))","v":0},{"$f":"IF(OR(SUM($D$165:S165)=R166,R166=0),0,SUM($D$165:S165))","v":0},{"$f":"IF(OR(SUM($D$165:T165)=S166,S166=0),0,SUM($D$165:T165))","v":0},{"$f":"IF(OR(SUM($D$165:U165)=T166,T166=0),0,SUM($D$165:U165))","v":0},{"$f":"IF(OR(SUM($D$165:V165)=U166,U166=0),0,SUM($D$165:V165))","v":0},{"$f":"IF(OR(SUM($D$165:W165)=V166,V166=0),0,SUM($D$165:W165))","v":0},{"$f":"IF(OR(SUM($D$165:X165)=W166,W166=0),0,SUM($D$165:X165))","v":0},{"$f":"IF(OR(SUM($D$165:Y165)=X166,X166=0),0,SUM($D$165:Y165))","v":0},{"$f":"IF(OR(SUM($D$165:Z165)=Y166,Y166=0),0,SUM($D$165:Z165))","v":0},{"$f":"IF(OR(SUM($D$165:AA165)=Z166,Z166=0),0,SUM($D$165:AA165))","v":0},{"$f":"IF(OR(SUM($D$165:AB165)=AA166,AA166=0),0,SUM($D$165:AB165))","v":0},{"$f":"IF(OR(SUM($D$165:AC165)=AB166,AB166=0),0,SUM($D$165:AC165))","v":0},{"$f":"IF(OR(SUM($D$165:AD165)=AC166,AC166=0),0,SUM($D$165:AD165))","v":0},{"$f":"IF(OR(SUM($D$165:AE165)=AD166,AD166=0),0,SUM($D$165:AE165))","v":0},{"$f":"IF(OR(SUM($D$165:AF165)=AE166,AE166=0),0,SUM($D$165:AF165))","v":0},{"$f":"IF(OR(SUM($D$165:AG165)=AF166,AF166=0),0,SUM($D$165:AG165))","v":0},{"$f":"IF(OR(SUM($D$165:AH165)=AG166,AG166=0),0,SUM($D$165:AH165))","v":0},{"$f":"IF(OR(SUM($D$165:AI165)=AH166,AH166=0),0,SUM($D$165:AI165))","v":0},{"$f":"IF(OR(SUM($D$165:AJ165)=AI166,AI166=0),0,SUM($D$165:AJ165))","v":0},{"$f":"IF(OR(SUM($D$165:AK165)=AJ166,AJ166=0),0,SUM($D$165:AK165))","v":0},{"$f":"IF(OR(SUM($D$165:AL165)=AK166,AK166=0),0,SUM($D$165:AL165))","v":0},{"$f":"IF(OR(SUM($D$165:AM165)=AL166,AL166=0),0,SUM($D$165:AM165))","v":0},{"$f":"IF(OR(SUM($D$165:AN165)=AM166,AM166=0),0,SUM($D$165:AN165))","v":0},{"$f":"IF(OR(SUM($D$165:AO165)=AN166,AN166=0),0,SUM($D$165:AO165))","v":0},{"$f":"IF(OR(SUM($D$165:AP165)=AO166,AO166=0),0,SUM($D$165:AP165))","v":0},{"$f":"IF(OR(SUM($D$165:AQ165)=AP166,AP166=0),0,SUM($D$165:AQ165))","v":0},{"$f":"IF(OR(SUM($D$165:AR165)=AQ166,AQ166=0),0,SUM($D$165:AR165))","v":0},{"$f":"IF(OR(SUM($D$165:AS165)=AR166,AR166=0),0,SUM($D$165:AS165))","v":0},{"$f":"IF(OR(SUM($D$165:AT165)=AS166,AS166=0),0,SUM($D$165:AT165))","v":0},{"$f":"IF(OR(SUM($D$165:AU165)=AT166,AT166=0),0,SUM($D$165:AU165))","v":0},{"$f":"IF(OR(SUM($D$165:AV165)=AU166,AU166=0),0,SUM($D$165:AV165))","v":0},{"$f":"IF(OR(SUM($D$165:AW165)=AV166,AV166=0),0,SUM($D$165:AW165))","v":0},{"$f":"IF(OR(SUM($D$165:AX165)=AW166,AW166=0),0,SUM($D$165:AX165))","v":0},{"$f":"IF(OR(SUM($D$165:AY165)=AX166,AX166=0),0,SUM($D$165:AY165))","v":0},{"$f":"IF(OR(SUM($D$165:AZ165)=AY166,AY166=0),0,SUM($D$165:AZ165))","v":0},{"$f":"IF(OR(SUM($D$165:BA165)=AZ166,AZ166=0),0,SUM($D$165:BA165))","v":0}]
[null,null,"FIXED",{"$f":"'Horizontal Labels'!E$210","v":0},{"$f":"'Horizontal Labels'!F$210","v":0},{"$f":"'Horizontal Labels'!G$210","v":0},{"$f":"'Horizontal Labels'!H$210","v":0},{"$f":"'Horizontal Labels'!I$210","v":0},{"$f":"'Horizontal Labels'!J$210","v":0},{"$f":"'Horizontal Labels'!K$210","v":0},{"$f":"'Horizontal Labels'!L$210","v":0},{"$f":"'Horizontal Labels'!M$210","v":0},{"$f":"'Horizontal Labels'!N$210","v":0},{"$f":"'Horizontal Labels'!O$210","v":0},{"$f":"'Horizontal Labels'!P$210","v":0},{"$f":"'Horizontal Labels'!Q$210","v":0},{"$f":"'Horizontal Labels'!R$210","v":0},{"$f":"'Horizontal Labels'!S$210","v":0},{"$f":"'Horizontal Labels'!T$210","v":0},{"$f":"'Horizontal Labels'!U$210","v":0},{"$f":"'Horizontal Labels'!V$210","v":0},{"$f":"'Horizontal Labels'!W$210","v":0},{"$f":"'Horizontal Labels'!X$210","v":0},{"$f":"'Horizontal Labels'!Y$210","v":0},{"$f":"'Horizontal Labels'!Z$210","v":0},{"$f":"'Horizontal Labels'!AA$210","v":0},{"$f":"'Horizontal Labels'!AB$210","v":0},{"$f":"'Horizontal Labels'!AC$210","v":0},{"$f":"'Horizontal Labels'!AD$210","v":0},{"$f":"'Horizontal Labels'!AE$210","v":0},{"$f":"'Horizontal Labels'!AF$210","v":0},{"$f":"'Horizontal Labels'!AG$210","v":0},{"$f":"'Horizontal Labels'!AH$210","v":0},{"$f":"'Horizontal Labels'!AI$210","v":0},{"$f":"'Horizontal Labels'!AJ$210","v":0},{"$f":"'Horizontal Labels'!AK$210","v":0},{"$f":"'Horizontal Labels'!AL$210","v":0},{"$f":"'Horizontal Labels'!AM$210","v":0},{"$f":"'Horizontal Labels'!AN$210","v":0},{"$f":"'Horizontal Labels'!AO$210","v":0},{"$f":"'Horizontal Labels'!AP$210","v":0},{"$f":"'Horizontal Labels'!AQ$210","v":0},{"$f":"'Horizontal Labels'!AR$210","v":0},{"$f":"'Horizontal Labels'!AS$210","v":0},{"$f":"'Horizontal Labels'!AT$210","v":0},{"$f":"'Horizontal Labels'!AU$210","v":0},{"$f":"'Horizontal Labels'!AV$210","v":0},{"$f":"'Horizontal Labels'!AW$210","v":0},{"$f":"'Horizontal Labels'!AX$210","v":0},{"$f":"'Horizontal Labels'!AY$210","v":0},{"$f":"'Horizontal Labels'!AZ$210","v":0},{"$f":"'Horizontal Labels'!BA$210","v":0},{"$f":"'Horizontal Labels'!BB$210","v":0}]
[null,null,"RELATIVE",{"$f":"D167","v":0},{"$f":"IF(E167-D167<1,0,E167-D167)","v":0},{"$f":"IF(F167-E167<1,0,F167-E167)","v":0},0,0,0,0,0,0,0,0,0,0,0,0,0,0,0,0,0,0,0,0,0,0,0,0,0,0,0,0,0,0,0,0,0,0,0,0,0,0,0,0,0,0,0,0,0,0,0]
[null,null,"BLOCKS",{"$f":"'Horizontal Labels'!E$210","v":0},{"$f":"'Horizontal Labels'!F$210","v":0},{"$f":"'Horizontal Labels'!G$210","v":0},{"$f":"'Horizontal Labels'!H$210","v":0},{"$f":"'Horizontal Labels'!I$210","v":0},{"$f":"'Horizontal Labels'!J$210","v":0},{"$f":"'Horizontal Labels'!K$210","v":0},{"$f":"'Horizontal Labels'!L$210","v":0},{"$f":"'Horizontal Labels'!M$210","v":0},{"$f":"'Horizontal Labels'!N$210","v":0},{"$f":"'Horizontal Labels'!O$210","v":0},{"$f":"'Horizontal Labels'!P$210","v":0},{"$f":"'Horizontal Labels'!Q$210","v":0},{"$f":"'Horizontal Labels'!R$210","v":0},{"$f":"'Horizontal Labels'!S$210","v":0},{"$f":"'Horizontal Labels'!T$210","v":0},{"$f":"'Horizontal Labels'!U$210","v":0},{"$f":"'Horizontal Labels'!V$210","v":0},{"$f":"'Horizontal Labels'!W$210","v":0},{"$f":"'Horizontal Labels'!X$210","v":0},{"$f":"'Horizontal Labels'!Y$210","v":0},{"$f":"'Horizontal Labels'!Z$210","v":0},{"$f":"'Horizontal Labels'!AA$210","v":0},{"$f":"'Horizontal Labels'!AB$210","v":0},{"$f":"'Horizontal Labels'!AC$210","v":0},{"$f":"'Horizontal Labels'!AD$210","v":0},{"$f":"'Horizontal Labels'!AE$210","v":0},{"$f":"'Horizontal Labels'!AF$210","v":0},{"$f":"'Horizontal Labels'!AG$210","v":0},{"$f":"'Horizontal Labels'!AH$210","v":0},{"$f":"'Horizontal Labels'!AI$210","v":0},{"$f":"'Horizontal Labels'!AJ$210","v":0},{"$f":"'Horizontal Labels'!AK$210","v":0},{"$f":"'Horizontal Labels'!AL$210","v":0},{"$f":"'Horizontal Labels'!AM$210","v":0},{"$f":"'Horizontal Labels'!AN$210","v":0},{"$f":"'Horizontal Labels'!AO$210","v":0},{"$f":"'Horizontal Labels'!AP$210","v":0},{"$f":"'Horizontal Labels'!AQ$210","v":0},{"$f":"'Horizontal Labels'!AR$210","v":0},{"$f":"'Horizontal Labels'!AS$210","v":0},{"$f":"'Horizontal Labels'!AT$210","v":0},{"$f":"'Horizontal Labels'!AU$210","v":0},{"$f":"'Horizontal Labels'!AV$210","v":0},{"$f":"'Horizontal Labels'!AW$210","v":0},{"$f":"'Horizontal Labels'!AX$210","v":0},{"$f":"'Horizontal Labels'!AY$210","v":0},{"$f":"'Horizontal Labels'!AZ$210","v":0},{"$f":"'Horizontal Labels'!BA$210","v":0},{"$f":"'Horizontal Labels'!BB$210","v":0}]
[null,null,"FIXED",{"$f":"D171","v":0},{"$f":"IF(OR(SUM($D$171:E171)=D170,D170=0),0,SUM($D$171:E171))","v":0},{"$f":"IF(OR(SUM($D$171:F171)=E170,E170=0),0,SUM($D$171:F171))","v":0},{"$f":"IF(OR(SUM($D$171:G171)=F170,F170=0),0,SUM($D$171:G171))","v":0},{"$f":"IF(OR(SUM($D$171:H171)=G170,G170=0),0,SUM($D$171:H171))","v":0},{"$f":"IF(OR(SUM($D$171:I171)=H170,H170=0),0,SUM($D$171:I171))","v":0},{"$f":"IF(OR(SUM($D$171:J171)=I170,I170=0),0,SUM($D$171:J171))","v":0},{"$f":"IF(OR(SUM($D$171:K171)=J170,J170=0),0,SUM($D$171:K171))","v":0},{"$f":"IF(OR(SUM($D$171:L171)=K170,K170=0),0,SUM($D$171:L171))","v":0},{"$f":"IF(OR(SUM($D$171:M171)=L170,L170=0),0,SUM($D$171:M171))","v":0},{"$f":"IF(OR(SUM($D$171:N171)=M170,M170=0),0,SUM($D$171:N171))","v":0},{"$f":"IF(OR(SUM($D$171:O171)=N170,N170=0),0,SUM($D$171:O171))","v":0},{"$f":"IF(OR(SUM($D$171:P171)=O170,O170=0),0,SUM($D$171:P171))","v":0},{"$f":"IF(OR(SUM($D$171:Q171)=P170,P170=0),0,SUM($D$171:Q171))","v":0},{"$f":"IF(OR(SUM($D$171:R171)=Q170,Q170=0),0,SUM($D$171:R171))","v":0},{"$f":"IF(OR(SUM($D$171:S171)=R170,R170=0),0,SUM($D$171:S171))","v":0},{"$f":"IF(OR(SUM($D$171:T171)=S170,S170=0),0,SUM($D$171:T171))","v":0},{"$f":"IF(OR(SUM($D$171:U171)=T170,T170=0),0,SUM($D$171:U171))","v":0},{"$f":"IF(OR(SUM($D$171:V171)=U170,U170=0),0,SUM($D$171:V171))","v":0},{"$f":"IF(OR(SUM($D$171:W171)=V170,V170=0),0,SUM($D$171:W171))","v":0},{"$f":"IF(OR(SUM($D$171:X171)=W170,W170=0),0,SUM($D$171:X171))","v":0},{"$f":"IF(OR(SUM($D$171:Y171)=X170,X170=0),0,SUM($D$171:Y171))","v":0},{"$f":"IF(OR(SUM($D$171:Z171)=Y170,Y170=0),0,SUM($D$171:Z171))","v":0},{"$f":"IF(OR(SUM($D$171:AA171)=Z170,Z170=0),0,SUM($D$171:AA171))","v":0},{"$f":"IF(OR(SUM($D$171:AB171)=AA170,AA170=0),0,SUM($D$171:AB171))","v":0},{"$f":"IF(OR(SUM($D$171:AC171)=AB170,AB170=0),0,SUM($D$171:AC171))","v":0},{"$f":"IF(OR(SUM($D$171:AD171)=AC170,AC170=0),0,SUM($D$171:AD171))","v":0},{"$f":"IF(OR(SUM($D$171:AE171)=AD170,AD170=0),0,SUM($D$171:AE171))","v":0},{"$f":"IF(OR(SUM($D$171:AF171)=AE170,AE170=0),0,SUM($D$171:AF171))","v":0},{"$f":"IF(OR(SUM($D$171:AG171)=AF170,AF170=0),0,SUM($D$171:AG171))","v":0},{"$f":"IF(OR(SUM($D$171:AH171)=AG170,AG170=0),0,SUM($D$171:AH171))","v":0},{"$f":"IF(OR(SUM($D$171:AI171)=AH170,AH170=0),0,SUM($D$171:AI171))","v":0},{"$f":"IF(OR(SUM($D$171:AJ171)=AI170,AI170=0),0,SUM($D$171:AJ171))","v":0},{"$f":"IF(OR(SUM($D$171:AK171)=AJ170,AJ170=0),0,SUM($D$171:AK171))","v":0},{"$f":"IF(OR(SUM($D$171:AL171)=AK170,AK170=0),0,SUM($D$171:AL171))","v":0},{"$f":"IF(OR(SUM($D$171:AM171)=AL170,AL170=0),0,SUM($D$171:AM171))","v":0},{"$f":"IF(OR(SUM($D$171:AN171)=AM170,AM170=0),0,SUM($D$171:AN171))","v":0},{"$f":"IF(OR(SUM($D$171:AO171)=AN170,AN170=0),0,SUM($D$171:AO171))","v":0},{"$f":"IF(OR(SUM($D$171:AP171)=AO170,AO170=0),0,SUM($D$171:AP171))","v":0},{"$f":"IF(OR(SUM($D$171:AQ171)=AP170,AP170=0),0,SUM($D$171:AQ171))","v":0},{"$f":"IF(OR(SUM($D$171:AR171)=AQ170,AQ170=0),0,SUM($D$171:AR171))","v":0},{"$f":"IF(OR(SUM($D$171:AS171)=AR170,AR170=0),0,SUM($D$171:AS171))","v":0},{"$f":"IF(OR(SUM($D$171:AT171)=AS170,AS170=0),0,SUM($D$171:AT171))","v":0},{"$f":"IF(OR(SUM($D$171:AU171)=AT170,AT170=0),0,SUM($D$171:AU171))","v":0},{"$f":"IF(OR(SUM($D$171:AV171)=AU170,AU170=0),0,SUM($D$171:AV171))","v":0},{"$f":"IF(OR(SUM($D$171:AW171)=AV170,AV170=0),0,SUM($D$171:AW171))","v":0},{"$f":"IF(OR(SUM($D$171:AX171)=AW170,AW170=0),0,SUM($D$171:AX171))","v":0},{"$f":"IF(OR(SUM($D$171:AY171)=AX170,AX170=0),0,SUM($D$171:AY171))","v":0},{"$f":"IF(OR(SUM($D$171:AZ171)=AY170,AY170=0),0,SUM($D$171:AZ171))","v":0},{"$f":"IF(OR(SUM($D$171:BA171)=AZ170,AZ170=0),0,SUM($D$171:BA171))","v":0}]
[null,null,"RELATIVE",{"$f":"D169/2","v":0},{"$f":"(D169/2)+(E169/2)","v":0},{"$f":"(E169/2)+(F169/2)","v":0},0,0,0,0,0,0,0,0,0,0,0,0,0,0,0,0,0,0,0,0,0,0,0,0,0,0,0,0,0,0,0,0,0,0,0,0,0,0,0,0,0,0,0,0,0,0,0]
[]
[{"$nulls":3},1,2,3,4,5,6,7,8,9,10,11,12,13,14,15,16,17,18,19,20,21,22,23,24,25,26,27,28,29,30,31,32,33,34,35,36,37,38,39,40,41,42,43,44,45,46,47,48,49,50]
[null,"LABEL 20","RELATIVE",{"$f":"'Horizontal Labels'!E$221","v":0},{"$f":"'Horizontal Labels'!F$221","v":0},{"$f":"'Horizontal Labels'!G$221","v":0},{"$f":"'Horizontal Labels'!H$221","v":0},{"$f":"'Horizontal Labels'!I$221","v":0},{"$f":"'Horizontal Labels'!J$221","v":0},{"$f":"'Horizontal Labels'!K$221","v":0},{"$f":"'Horizontal Labels'!L$221","v":0},{"$f":"'Horizontal Labels'!M$221","v":0},{"$f":"'Horizontal Labels'!N$221","v":0},{"$f":"'Horizontal Labels'!O$221","v":0},{"$f":"'Horizontal Labels'!P$221","v":0},{"$f":"'Horizontal Labels'!Q$221","v":0},{"$f":"'Horizontal Labels'!R$221","v":0},{"$f":"'Horizontal Labels'!S$221","v":0},{"$f":"'Horizontal Labels'!T$221","v":0},{"$f":"'Horizontal Labels'!U$221","v":0},{"$f":"'Horizontal Labels'!V$221","v":0},{"$f":"'Horizontal Labels'!W$221","v":0},{"$f":"'Horizontal Labels'!X$221","v":0},{"$f":"'Horizontal Labels'!Y$221","v":0},{"$f":"'Horizontal Labels'!Z$221","v":0},{"$f":"'Horizontal Labels'!AA$221","v":0},{"$f":"'Horizontal Labels'!AB$221","v":0},{"$f":"'Horizontal Labels'!AC$221","v":0},{"$f":"'Horizontal Labels'!AD$221","v":0},{"$f":"'Horizontal Labels'!AE$221","v":0},{"$f":"'Horizontal Labels'!AF$221","v":0},{"$f":"'Horizontal Labels'!AG$221","v":0},{"$f":"'Horizontal Labels'!AH$221","v":0},{"$f":"'Horizontal Labels'!AI$221","v":0},{"$f":"'Horizontal Labels'!AJ$221","v":0},{"$f":"'Horizontal Labels'!AK$221","v":0},{"$f":"'Horizontal Labels'!AL$221","v":0},{"$f":"'Horizontal Labels'!AM$221","v":0},{"$f":"'Horizontal Labels'!AN$221","v":0},{"$f":"'Horizontal Labels'!AO$221","v":0},{"$f":"'Horizontal Labels'!AP$221","v":0},{"$f":"'Horizontal Labels'!AQ$221","v":0},{"$f":"'Horizontal Labels'!AR$221","v":0},{"$f":"'Horizontal Labels'!AS$221","v":0},{"$f":"'Horizontal Labels'!AT$221","v":0},{"$f":"'Horizontal Labels'!AU$221","v":0},{"$f":"'Horizontal Labels'!AV$221","v":0},{"$f":"'Horizontal Labels'!AW$221","v":0},{"$f":"'Horizontal Labels'!AX$221","v":0},{"$f":"'Horizontal Labels'!AY$221","v":0},{"$f":"'Horizontal Labels'!AZ$221","v":0},{"$f":"'Horizontal Labels'!BA$221","v":0},{"$f":"'Horizontal Labels'!BB$221","v":0}]
[null,null,"FIXED",{"$f":"SUM($D$174:D174)","v":0},{"$f":"IF(OR(SUM($D$174:E174)=D175,D175=0),0,SUM($D$174:E174))","v":0},{"$f":"IF(OR(SUM($D$174:F174)=E175,E175=0),0,SUM($D$174:F174))","v":0},{"$f":"IF(OR(SUM($D$174:G174)=F175,F175=0),0,SUM($D$174:G174))","v":0},{"$f":"IF(OR(SUM($D$174:H174)=G175,G175=0),0,SUM($D$174:H174))","v":0},{"$f":"IF(OR(SUM($D$174:I174)=H175,H175=0),0,SUM($D$174:I174))","v":0},{"$f":"IF(OR(SUM($D$174:J174)=I175,I175=0),0,SUM($D$174:J174))","v":0},{"$f":"IF(OR(SUM($D$174:K174)=J175,J175=0),0,SUM($D$174:K174))","v":0},{"$f":"IF(OR(SUM($D$174:L174)=K175,K175=0),0,SUM($D$174:L174))","v":0},{"$f":"IF(OR(SUM($D$174:M174)=L175,L175=0),0,SUM($D$174:M174))","v":0},{"$f":"IF(OR(SUM($D$174:N174)=M175,M175=0),0,SUM($D$174:N174))","v":0},{"$f":"IF(OR(SUM($D$174:O174)=N175,N175=0),0,SUM($D$174:O174))","v":0},{"$f":"IF(OR(SUM($D$174:P174)=O175,O175=0),0,SUM($D$174:P174))","v":0},{"$f":"IF(OR(SUM($D$174:Q174)=P175,P175=0),0,SUM($D$174:Q174))","v":0},{"$f":"IF(OR(SUM($D$174:R174)=Q175,Q175=0),0,SUM($D$174:R174))","v":0},{"$f":"IF(OR(SUM($D$174:S174)=R175,R175=0),0,SUM($D$174:S174))","v":0},{"$f":"IF(OR(SUM($D$174:T174)=S175,S175=0),0,SUM($D$174:T174))","v":0},{"$f":"IF(OR(SUM($D$174:U174)=T175,T175=0),0,SUM($D$174:U174))","v":0},{"$f":"IF(OR(SUM($D$174:V174)=U175,U175=0),0,SUM($D$174:V174))","v":0},{"$f":"IF(OR(SUM($D$174:W174)=V175,V175=0),0,SUM($D$174:W174))","v":0},{"$f":"IF(OR(SUM($D$174:X174)=W175,W175=0),0,SUM($D$174:X174))","v":0},{"$f":"IF(OR(SUM($D$174:Y174)=X175,X175=0),0,SUM($D$174:Y174))","v":0},{"$f":"IF(OR(SUM($D$174:Z174)=Y175,Y175=0),0,SUM($D$174:Z174))","v":0},{"$f":"IF(OR(SUM($D$174:AA174)=Z175,Z175=0),0,SUM($D$174:AA174))","v":0},{"$f":"IF(OR(SUM($D$174:AB174)=AA175,AA175=0),0,SUM($D$174:AB174))","v":0},{"$f":"IF(OR(SUM($D$174:AC174)=AB175,AB175=0),0,SUM($D$174:AC174))","v":0},{"$f":"IF(OR(SUM($D$174:AD174)=AC175,AC175=0),0,SUM($D$174:AD174))","v":0},{"$f":"IF(OR(SUM($D$174:AE174)=AD175,AD175=0),0,SUM($D$174:AE174))","v":0},{"$f":"IF(OR(SUM($D$174:AF174)=AE175,AE175=0),0,SUM($D$174:AF174))","v":0},{"$f":"IF(OR(SUM($D$174:AG174)=AF175,AF175=0),0,SUM($D$174:AG174))","v":0},{"$f":"IF(OR(SUM($D$174:AH174)=AG175,AG175=0),0,SUM($D$174:AH174))","v":0},{"$f":"IF(OR(SUM($D$174:AI174)=AH175,AH175=0),0,SUM($D$174:AI174))","v":0},{"$f":"IF(OR(SUM($D$174:AJ174)=AI175,AI175=0),0,SUM($D$174:AJ174))","v":0},{"$f":"IF(OR(SUM($D$174:AK174)=AJ175,AJ175=0),0,SUM($D$174:AK174))","v":0},{"$f":"IF(OR(SUM($D$174:AL174)=AK175,AK175=0),0,SUM($D$174:AL174))","v":0},{"$f":"IF(OR(SUM($D$174:AM174)=AL175,AL175=0),0,SUM($D$174:AM174))","v":0},{"$f":"IF(OR(SUM($D$174:AN174)=AM175,AM175=0),0,SUM($D$174:AN174))","v":0},{"$f":"IF(OR(SUM($D$174:AO174)=AN175,AN175=0),0,SUM($D$174:AO174))","v":0},{"$f":"IF(OR(SUM($D$174:AP174)=AO175,AO175=0),0,SUM($D$174:AP174))","v":0},{"$f":"IF(OR(SUM($D$174:AQ174)=AP175,AP175=0),0,SUM($D$174:AQ174))","v":0},{"$f":"IF(OR(SUM($D$174:AR174)=AQ175,AQ175=0),0,SUM($D$174:AR174))","v":0},{"$f":"IF(OR(SUM($D$174:AS174)=AR175,AR175=0),0,SUM($D$174:AS174))","v":0},{"$f":"IF(OR(SUM($D$174:AT174)=AS175,AS175=0),0,SUM($D$174:AT174))","v":0},{"$f":"IF(OR(SUM($D$174:AU174)=AT175,AT175=0),0,SUM($D$174:AU174))","v":0},{"$f":"IF(OR(SUM($D$174:AV174)=AU175,AU175=0),0,SUM($D$174:AV174))","v":0},{"$f":"IF(OR(SUM($D$174:AW174)=AV175,AV175=0),0,SUM($D$174:AW174))","v":0},{"$f":"IF(OR(SUM($D$174:AX174)=AW175,AW175=0),0,SUM($D$174:AX174))","v":0},{"$f":"IF(OR(SUM($D$174:AY174)=AX175,AX175=0),0,SUM($D$174:AY174))","v":0},{"$f":"IF(OR(SUM($D$174:AZ174)=AY175,AY175=0),0,SUM($D$174:AZ174))","v":0},{"$f":"IF(OR(SUM($D$174:BA174)=AZ175,AZ175=0),0,SUM($D$174:BA174))","v":0}]
[null,null,"FIXED",{"$f":"'Horizontal Labels'!E$221","v":0},{"$f":"'Horizontal Labels'!F$221","v":0},{"$f":"'Horizontal Labels'!G$221","v":0},{"$f":"'Horizontal Labels'!H$221","v":0},{"$f":"'Horizontal Labels'!I$221","v":0},{"$f":"'Horizontal Labels'!J$221","v":0},{"$f":"'Horizontal Labels'!K$221","v":0},{"$f":"'Horizontal Labels'!L$221","v":0},{"$f":"'Horizontal Labels'!M$221","v":0},{"$f":"'Horizontal Labels'!N$221","v":0},{"$f":"'Horizontal Labels'!O$221","v":0},{"$f":"'Horizontal Labels'!P$221","v":0},{"$f":"'Horizontal Labels'!Q$221","v":0},{"$f":"'Horizontal Labels'!R$221","v":0},{"$f":"'Horizontal Labels'!S$221","v":0},{"$f":"'Horizontal Labels'!T$221","v":0},{"$f":"'Horizontal Labels'!U$221","v":0},{"$f":"'Horizontal Labels'!V$221","v":0},{"$f":"'Horizontal Labels'!W$221","v":0},{"$f":"'Horizontal Labels'!X$221","v":0},{"$f":"'Horizontal Labels'!Y$221","v":0},{"$f":"'Horizontal Labels'!Z$221","v":0},{"$f":"'Horizontal Labels'!AA$221","v":0},{"$f":"'Horizontal Labels'!AB$221","v":0},{"$f":"'Horizontal Labels'!AC$221","v":0},{"$f":"'Horizontal Labels'!AD$221","v":0},{"$f":"'Horizontal Labels'!AE$221","v":0},{"$f":"'Horizontal Labels'!AF$221","v":0},{"$f":"'Horizontal Labels'!AG$221","v":0},{"$f":"'Horizontal Labels'!AH$221","v":0},{"$f":"'Horizontal Labels'!AI$221","v":0},{"$f":"'Horizontal Labels'!AJ$221","v":0},{"$f":"'Horizontal Labels'!AK$221","v":0},{"$f":"'Horizontal Labels'!AL$221","v":0},{"$f":"'Horizontal Labels'!AM$221","v":0},{"$f":"'Horizontal Labels'!AN$221","v":0},{"$f":"'Horizontal Labels'!AO$221","v":0},{"$f":"'Horizontal Labels'!AP$221","v":0},{"$f":"'Horizontal Labels'!AQ$221","v":0},{"$f":"'Horizontal Labels'!AR$221","v":0},{"$f":"'Horizontal Labels'!AS$221","v":0},{"$f":"'Horizontal Labels'!AT$221","v":0},{"$f":"'Horizontal Labels'!AU$221","v":0},{"$f":"'Horizontal Labels'!AV$221","v":0},{"$f":"'Horizontal Labels'!AW$221","v":0},{"$f":"'Horizontal Labels'!AX$221","v":0},{"$f":"'Horizontal Labels'!AY$221","v":0},{"$f":"'Horizontal Labels'!AZ$221","v":0},{"$f":"'Horizontal Labels'!BA$221","v":0},{"$f":"'Horizontal Labels'!BB$221","v":0}]
[null,null,"RELATIVE",{"$f":"D176","v":0},{"$f":"IF(E176-D176<1,0,E176-D176)","v":0},{"$f":"IF(F176-E176<1,0,F176-E176)","v":0},0,0,0,0,0,0,0,0,0,0,0,0,0,0,0,0,0,0,0,0,0,0,0,0,0,0,0,0,0,0,0,0,0,0,0,0,0,0,0,0,0,0,0,0,0,0,0]
[null,null,"BLOCKS",{"$f":"'Horizontal Labels'!E$221","v":0},{"$f":"'Horizontal Labels'!F$221","v":0},{"$f":"'Horizontal Labels'!G$221","v":0},{"$f":"'Horizontal Labels'!H$221","v":0},{"$f":"'Horizontal Labels'!I$221","v":0},{"$f":"'Horizontal Labels'!J$221","v":0},{"$f":"'Horizontal Labels'!K$221","v":0},{"$f":"'Horizontal Labels'!L$221","v":0},{"$f":"'Horizontal Labels'!M$221","v":0},{"$f":"'Horizontal Labels'!N$221","v":0},{"$f":"'Horizontal Labels'!O$221","v":0},{"$f":"'Horizontal Labels'!P$221","v":0},{"$f":"'Horizontal Labels'!Q$221","v":0},{"$f":"'Horizontal Labels'!R$221","v":0},{"$f":"'Horizontal Labels'!S$221","v":0},{"$f":"'Horizontal Labels'!T$221","v":0},{"$f":"'Horizontal Labels'!U$221","v":0},{"$f":"'Horizontal Labels'!V$221","v":0},{"$f":"'Horizontal Labels'!W$221","v":0},{"$f":"'Horizontal Labels'!X$221","v":0},{"$f":"'Horizontal Labels'!Y$221","v":0},{"$f":"'Horizontal Labels'!Z$221","v":0},{"$f":"'Horizontal Labels'!AA$221","v":0},{"$f":"'Horizontal Labels'!AB$221","v":0},{"$f":"'Horizontal Labels'!AC$221","v":0},{"$f":"'Horizontal Labels'!AD$221","v":0},{"$f":"'Horizontal Labels'!AE$221","v":0},{"$f":"'Horizontal Labels'!AF$221","v":0},{"$f":"'Horizontal Labels'!AG$221","v":0},{"$f":"'Horizontal Labels'!AH$221","v":0},{"$f":"'Horizontal Labels'!AI$221","v":0},{"$f":"'Horizontal Labels'!AJ$221","v":0},{"$f":"'Horizontal Labels'!AK$221","v":0},{"$f":"'Horizontal Labels'!AL$221","v":0},{"$f":"'Horizontal Labels'!AM$221","v":0},{"$f":"'Horizontal Labels'!AN$221","v":0},{"$f":"'Horizontal Labels'!AO$221","v":0},{"$f":"'Horizontal Labels'!AP$221","v":0},{"$f":"'Horizontal Labels'!AQ$221","v":0},{"$f":"'Horizontal Labels'!AR$221","v":0},{"$f":"'Horizontal Labels'!AS$221","v":0},{"$f":"'Horizontal Labels'!AT$221","v":0},{"$f":"'Horizontal Labels'!AU$221","v":0},{"$f":"'Horizontal Labels'!AV$221","v":0},{"$f":"'Horizontal Labels'!AW$221","v":0},{"$f":"'Horizontal Labels'!AX$221","v":0},{"$f":"'Horizontal Labels'!AY$221","v":0},{"$f":"'Horizontal Labels'!AZ$221","v":0},{"$f":"'Horizontal Labels'!BA$221","v":0},{"$f":"'Horizontal Labels'!BB$221","v":0}]
[null,null,"FIXED",{"$f":"D180","v":0},{"$f":"IF(OR(SUM($D$180:E180)=D179,D179=0),0,SUM($D$180:E180))","v":0},{"$f":"IF(OR(SUM($D$180:F180)=E179,E179=0),0,SUM($D$180:F180))","v":0},{"$f":"IF(OR(SUM($D$180:G180)=F179,F179=0),0,SUM($D$180:G180))","v":0},{"$f":"IF(OR(SUM($D$180:H180)=G179,G179=0),0,SUM($D$180:H180))","v":0},{"$f":"IF(OR(SUM($D$180:I180)=H179,H179=0),0,SUM($D$180:I180))","v":0},{"$f":"IF(OR(SUM($D$180:J180)=I179,I179=0),0,SUM($D$180:J180))","v":0},{"$f":"IF(OR(SUM($D$180:K180)=J179,J179=0),0,SUM($D$180:K180))","v":0},{"$f":"IF(OR(SUM($D$180:L180)=K179,K179=0),0,SUM($D$180:L180))","v":0},{"$f":"IF(OR(SUM($D$180:M180)=L179,L179=0),0,SUM($D$180:M180))","v":0},{"$f":"IF(OR(SUM($D$180:N180)=M179,M179=0),0,SUM($D$180:N180))","v":0},{"$f":"IF(OR(SUM($D$180:O180)=N179,N179=0),0,SUM($D$180:O180))","v":0},{"$f":"IF(OR(SUM($D$180:P180)=O179,O179=0),0,SUM($D$180:P180))","v":0},{"$f":"IF(OR(SUM($D$180:Q180)=P179,P179=0),0,SUM($D$180:Q180))","v":0},{"$f":"IF(OR(SUM($D$180:R180)=Q179,Q179=0),0,SUM($D$180:R180))","v":0},{"$f":"IF(OR(SUM($D$180:S180)=R179,R179=0),0,SUM($D$180:S180))","v":0},{"$f":"IF(OR(SUM($D$180:T180)=S179,S179=0),0,SUM($D$180:T180))","v":0},{"$f":"IF(OR(SUM($D$180:U180)=T179,T179=0),0,SUM($D$180:U180))","v":0},{"$f":"IF(OR(SUM($D$180:V180)=U179,U179=0),0,SUM($D$180:V180))","v":0},{"$f":"IF(OR(SUM($D$180:W180)=V179,V179=0),0,SUM($D$180:W180))","v":0},{"$f":"IF(OR(SUM($D$180:X180)=W179,W179=0),0,SUM($D$180:X180))","v":0},{"$f":"IF(OR(SUM($D$180:Y180)=X179,X179=0),0,SUM($D$180:Y180))","v":0},{"$f":"IF(OR(SUM($D$180:Z180)=Y179,Y179=0),0,SUM($D$180:Z180))","v":0},{"$f":"IF(OR(SUM($D$180:AA180)=Z179,Z179=0),0,SUM($D$180:AA180))","v":0},{"$f":"IF(OR(SUM($D$180:AB180)=AA179,AA179=0),0,SUM($D$180:AB180))","v":0},{"$f":"IF(OR(SUM($D$180:AC180)=AB179,AB179=0),0,SUM($D$180:AC180))","v":0},{"$f":"IF(OR(SUM($D$180:AD180)=AC179,AC179=0),0,SUM($D$180:AD180))","v":0},{"$f":"IF(OR(SUM($D$180:AE180)=AD179,AD179=0),0,SUM($D$180:AE180))","v":0},{"$f":"IF(OR(SUM($D$180:AF180)=AE179,AE179=0),0,SUM($D$180:AF180))","v":0},{"$f":"IF(OR(SUM($D$180:AG180)=AF179,AF179=0),0,SUM($D$180:AG180))","v":0},{"$f":"IF(OR(SUM($D$180:AH180)=AG179,AG179=0),0,SUM($D$180:AH180))","v":0},{"$f":"IF(OR(SUM($D$180:AI180)=AH179,AH179=0),0,SUM($D$180:AI180))","v":0},{"$f":"IF(OR(SUM($D$180:AJ180)=AI179,AI179=0),0,SUM($D$180:AJ180))","v":0},{"$f":"IF(OR(SUM($D$180:AK180)=AJ179,AJ179=0),0,SUM($D$180:AK180))","v":0},{"$f":"IF(OR(SUM($D$180:AL180)=AK179,AK179=0),0,SUM($D$180:AL180))","v":0},{"$f":"IF(OR(SUM($D$180:AM180)=AL179,AL179=0),0,SUM($D$180:AM180))","v":0},{"$f":"IF(OR(SUM($D$180:AN180)=AM179,AM179=0),0,SUM($D$180:AN180))","v":0},{"$f":"IF(OR(SUM($D$180:AO180)=AN179,AN179=0),0,SUM($D$180:AO180))","v":0},{"$f":"IF(OR(SUM($D$180:AP180)=AO179,AO179=0),0,SUM($D$180:AP180))","v":0},{"$f":"IF(OR(SUM($D$180:AQ180)=AP179,AP179=0),0,SUM($D$180:AQ180))","v":0},{"$f":"IF(OR(SUM($D$180:AR180)=AQ179,AQ179=0),0,SUM($D$180:AR180))","v":0},{"$f":"IF(OR(SUM($D$180:AS180)=AR179,AR179=0),0,SUM($D$180:AS180))","v":0},{"$f":"IF(OR(SUM($D$180:AT180)=AS179,AS179=0),0,SUM($D$180:AT180))","v":0},{"$f":"IF(OR(SUM($D$180:AU180)=AT179,AT179=0),0,SUM($D$180:AU180))","v":0},{"$f":"IF(OR(SUM($D$180:AV180)=AU179,AU179=0),0,SUM($D$180:AV180))","v":0},{"$f":"IF(OR(SUM($D$180:AW180)=AV179,AV179=0),0,SUM($D$180:AW180))","v":0},{"$f":"IF(OR(SUM($D$180:AX180)=AW179,AW179=0),0,SUM($D$180:AX180))","v":0},{"$f":"IF(OR(SUM($D$180:AY180)=AX179,AX179=0),0,SUM($D$180:AY180))","v":0},{"$f":"IF(OR(SUM($D$180:AZ180)=AY179,AY179=0),0,SUM($D$180:AZ180))","v":0},{"$f":"IF(OR(SUM($D$180:BA180)=AZ179,AZ179=0),0,SUM($D$180:BA180))","v":0}]
[null,null,"RELATIVE",{"$f":"D178/2","v":0},{"$f":"(D178/2)+(E178/2)","v":0},{"$f":"(E178/2)+(F178/2)","v":0},0,0,0,0,0,0,0,0,0,0,0,0,0,0,0,0,0,0,0,0,0,0,0,0,0,0,0,0,0,0,0,0,0,0,0,0,0,0,0,0,0,0,0,0,0,0,0]

{"sheet":"Multiplied Copy Sheet","index":7,"n_rows":1001,"n_cols":11,"rows_kept":1001,"hidden":true}
["LINE 1","LINE 2","LINE 3","LINE 4","LINE 5","LINE 6","LINE 7","LINE 8","LINE 9","LINE 10","HELPER 2"]
[{"$f":"VLOOKUP(K2,'Standard Labels'!$A$7:$AC$500,11)","v":0},{"$f":"VLOOKUP(K2,'Standard Labels'!$A$7:$AC$500,13)","v":0},{"$f":"VLOOKUP(K2,'Standard Labels'!$A$7:$AC$500,15)","v":0},{"$f":"VLOOKUP(K2,'Standard Labels'!$A$7:$AC$500,17)","v":0},{"$f":"VLOOKUP(K2,'Standard Labels'!$A$7:$AC$500,19)","v":0},{"$f":"VLOOKUP(K2,'Standard Labels'!$A$7:$AC$500,21)","v":0},{"$f":"VLOOKUP(K2,'Standard Labels'!$A$7:$AC$500,23)","v":0},{"$f":"VLOOKUP(K2,'Standard Labels'!$A$7:$AC$500,25)","v":0},{"$f":"VLOOKUP(K2,'Standard Labels'!$A$7:$AC$500,27)","v":0},{"$f":"VLOOKUP(K2,'Standard Labels'!$A$7:$AC$500,29)","v":0},1]
[{"$f":"VLOOKUP(K3,'Standard Labels'!$A$7:$AC$500,11)","v":0},{"$f":"VLOOKUP(K3,'Standard Labels'!$A$7:$AC$500,13)","v":0},{"$f":"VLOOKUP(K3,'Standard Labels'!$A$7:$AC$500,15)","v":0},{"$f":"VLOOKUP(K3,'Standard Labels'!$A$7:$AC$500,17)","v":0},{"$f":"VLOOKUP(K3,'Standard Labels'!$A$7:$AC$500,19)","v":0},{"$f":"VLOOKUP(K3,'Standard Labels'!$A$7:$AC$500,21)","v":0},{"$f":"VLOOKUP(K3,'Standard Labels'!$A$7:$AC$500,23)","v":0},{"$f":"VLOOKUP(K3,'Standard Labels'!$A$7:$AC$500,25)","v":0},{"$f":"VLOOKUP(K3,'Standard Labels'!$A$7:$AC$500,27)","v":0},{"$f":"VLOOKUP(K3,'Standard Labels'!$A$7:$AC$500,29)","v":0},2]
[{"$f":"VLOOKUP(K4,'Standard Labels'!$A$7:$AC$500,11)","v":0},{"$f":"VLOOKUP(K4,'Standard Labels'!$A$7:$AC$500,13)","v":0},{"$f":"VLOOKUP(K4,'Standard Labels'!$A$7:$AC$500,15)","v":0},{"$f":"VLOOKUP(K4,'Standard Labels'!$A$7:$AC$500,17)","v":0},{"$f":"VLOOKUP(K4,'Standard Labels'!$A$7:$AC$500,19)","v":0},{"$f":"VLOOKUP(K4,'Standard Labels'!$A$7:$AC$500,21)","v":0},{"$f":"VLOOKUP(K4,'Standard Labels'!$A$7:$AC$500,23)","v":0},{"$f":"VLOOKUP(K4,'Standard Labels'!$A$7:$AC$500,25)","v":0},{"$f":"VLOOKUP(K4,'Standard Labels'!$A$7:$AC$500,27)","v":0},{"$f":"VLOOKUP(K4,'Standard Labels'!$A$7:$AC$500,29)","v":0},3]
[{"$f":"VLOOKUP(K5,'Standard Labels'!$A$7:$AC$500,11)","v":0},{"$f":"VLOOKUP(K5,'Standard Labels'!$A$7:$AC$500,13)","v":0},{"$f":"VLOOKUP(K5,'Standard Labels'!$A$7:$AC$500,15)","v":0},{"$f":"VLOOKUP(K5,'Standard Labels'!$A$7:$AC$500,17)","v":0},{"$f":"VLOOKUP(K5,'Standard Labels'!$A$7:$AC$500,19)","v":0},{"$f":"VLOOKUP(K5,'Standard Labels'!$A$7:$AC$500,21)","v":0},{"$f":"VLOOKUP(K5,'Standard Labels'!$A$7:$AC$500,23)","v":0},{"$f":"VLOOKUP(K5,'Standard Labels'!$A$7:$AC$500,25)","v":0},{"$f":"VLOOKUP(K5,'Standard Labels'!$A$7:$AC$500,27)","v":0},{"$f":"VLOOKUP(K5,'Standard Labels'!$A$7:$AC$500,29)","v":0},4]
[{"$f":"VLOOKUP(K6,'Standard Labels'!$A$7:$AC$500,11)","v":0},{"$f":"VLOOKUP(K6,'Standard Labels'!$A$7:$AC$500,13)","v":0},{"$f":"VLOOKUP(K6,'Standard Labels'!$A$7:$AC$500,15)","v":0},{"$f":"VLOOKUP(K6,'Standard Labels'!$A$7:$AC$500,17)","v":0},{"$f":"VLOOKUP(K6,'Standard Labels'!$A$7:$AC$500,19)","v":0},{"$f":"VLOOKUP(K6,'Standard Labels'!$A$7:$AC$500,21)","v":0},{"$f":"VLOOKUP(K6,'Standard Labels'!$A$7:$AC$500,23)","v":0},{"$f":"VLOOKUP(K6,'Standard Labels'!$A$7:$AC$500,25)","v":0},{"$f":"VLOOKUP(K6,'Standard Labels'!$A$7:$AC$500,27)","v":0},{"$f":"VLOOKUP(K6,'Standard Labels'!$A$7:$AC$500,29)","v":0},5]
[{"$f":"VLOOKUP(K7,'Standard Labels'!$A$7:$AC$500,11)","v":0},{"$f":"VLOOKUP(K7,'Standard Labels'!$A$7:$AC$500,13)","v":0},{"$f":"VLOOKUP(K7,'Standard Labels'!$A$7:$AC$500,15)","v":0},{"$f":"VLOOKUP(K7,'Standard Labels'!$A$7:$AC$500,17)","v":0},{"$f":"VLOOKUP(K7,'Standard Labels'!$A$7:$AC$500,19)","v":0},{"$f":"VLOOKUP(K7,'Standard Labels'!$A$7:$AC$500,21)","v":0},{"$f":"VLOOKUP(K7,'Standard Labels'!$A$7:$AC$500,23)","v":0},{"$f":"VLOOKUP(K7,'Standard Labels'!$A$7:$AC$500,25)","v":0},{"$f":"VLOOKUP(K7,'Standard Labels'!$A$7:$AC$500,27)","v":0},{"$f":"VLOOKUP(K7,'Standard Labels'!$A$7:$AC$500,29)","v":0},6]
[{"$f":"VLOOKUP(K8,'Standard Labels'!$A$7:$AC$500,11)","v":0},{"$f":"VLOOKUP(K8,'Standard Labels'!$A$7:$AC$500,13)","v":0},{"$f":"VLOOKUP(K8,'Standard Labels'!$A$7:$AC$500,15)","v":0},{"$f":"VLOOKUP(K8,'Standard Labels'!$A$7:$AC$500,17)","v":0},{"$f":"VLOOKUP(K8,'Standard Labels'!$A$7:$AC$500,19)","v":0},{"$f":"VLOOKUP(K8,'Standard Labels'!$A$7:$AC$500,21)","v":0},{"$f":"VLOOKUP(K8,'Standard Labels'!$A$7:$AC$500,23)","v":0},{"$f":"VLOOKUP(K8,'Standard Labels'!$A$7:$AC$500,25)","v":0},{"$f":"VLOOKUP(K8,'Standard Labels'!$A$7:$AC$500,27)","v":0},{"$f":"VLOOKUP(K8,'Standard Labels'!$A$7:$AC$500,29)","v":0},7]
[{"$f":"VLOOKUP(K9,'Standard Labels'!$A$7:$AC$500,11)","v":0},{"$f":"VLOOKUP(K9,'Standard Labels'!$A$7:$AC$500,13)","v":0},{"$f":"VLOOKUP(K9,'Standard Labels'!$A$7:$AC$500,15)","v":0},{"$f":"VLOOKUP(K9,'Standard Labels'!$A$7:$AC$500,17)","v":0},{"$f":"VLOOKUP(K9,'Standard Labels'!$A$7:$AC$500,19)","v":0},{"$f":"VLOOKUP(K9,'Standard Labels'!$A$7:$AC$500,21)","v":0},{"$f":"VLOOKUP(K9,'Standard Labels'!$A$7:$AC$500,23)","v":0},{"$f":"VLOOKUP(K9,'Standard Labels'!$A$7:$AC$500,25)","v":0},{"$f":"VLOOKUP(K9,'Standard Labels'!$A$7:$AC$500,27)","v":0},{"$f":"VLOOKUP(K9,'Standard Labels'!$A$7:$AC$500,29)","v":0},8]
[{"$f":"VLOOKUP(K10,'Standard Labels'!$A$7:$AC$500,11)","v":0},{"$f":"VLOOKUP(K10,'Standard Labels'!$A$7:$AC$500,13)","v":0},{"$f":"VLOOKUP(K10,'Standard Labels'!$A$7:$AC$500,15)","v":0},{"$f":"VLOOKUP(K10,'Standard Labels'!$A$7:$AC$500,17)","v":0},{"$f":"VLOOKUP(K10,'Standard Labels'!$A$7:$AC$500,19)","v":0},{"$f":"VLOOKUP(K10,'Standard Labels'!$A$7:$AC$500,21)","v":0},{"$f":"VLOOKUP(K10,'Standard Labels'!$A$7:$AC$500,23)","v":0},{"$f":"VLOOKUP(K10,'Standard Labels'!$A$7:$AC$500,25)","v":0},{"$f":"VLOOKUP(K10,'Standard Labels'!$A$7:$AC$500,27)","v":0},{"$f":"VLOOKUP(K10,'Standard Labels'!$A$7:$AC$500,29)","v":0},9]
[{"$f":"VLOOKUP(K11,'Standard Labels'!$A$7:$AC$500,11)","v":0},{"$f":"VLOOKUP(K11,'Standard Labels'!$A$7:$AC$500,13)","v":0},{"$f":"VLOOKUP(K11,'Standard Labels'!$A$7:$AC$500,15)","v":0},{"$f":"VLOOKUP(K11,'Standard Labels'!$A$7:$AC$500,17)","v":0},{"$f":"VLOOKUP(K11,'Standard Labels'!$A$7:$AC$500,19)","v":0},{"$f":"VLOOKUP(K11,'Standard Labels'!$A$7:$AC$500,21)","v":0},{"$f":"VLOOKUP(K11,'Standard Labels'!$A$7:$AC$500,23)","v":0},{"$f":"VLOOKUP(K11,'Standard Labels'!$A$7:$AC$500,25)","v":0},{"$f":"VLOOKUP(K11,'Standard Labels'!$A$7:$AC$500,27)","v":0},{"$f":"VLOOKUP(K11,'Standard Labels'!$A$7:$AC$500,29)","v":0},10]
[{"$f":"VLOOKUP(K12,'Standard Labels'!$A$7:$AC$500,11)","v":0},{"$f":"VLOOKUP(K12,'Standard Labels'!$A$7:$AC$500,13)","v":0},{"$f":"VLOOKUP(K12,'Standard Labels'!$A$7:$AC$500,15)","v":0},{"$f":"VLOOKUP(K12,'Standard Labels'!$A$7:$AC$500,17)","v":0},{"$f":"VLOOKUP(K12,'Standard Labels'!$A$7:$AC$500,19)","v":0},{"$f":"VLOOKUP(K12,'Standard Labels'!$A$7:$AC$500,21)","v":0},{"$f":"VLOOKUP(K12,'Standard Labels'!$A$7:$AC$500,23)","v":0},{"$f":"VLOOKUP(K12,'Standard Labels'!$A$7:$AC$500,25)","v":0},{"$f":"VLOOKUP(K12,'Standard Labels'!$A$7:$AC$500,27)","v":0},{"$f":"VLOOKUP(K12,'Standard Labels'!$A$7:$AC$500,29)","v":0},11]
[{"$f":"VLOOKUP(K13,'Standard Labels'!$A$7:$AC$500,11)","v":0},{"$f":"VLOOKUP(K13,'Standard Labels'!$A$7:$AC$500,13)","v":0},{"$f":"VLOOKUP(K13,'Standard Labels'!$A$7:$AC$500,15)","v":0},{"$f":"VLOOKUP(K13,'Standard Labels'!$A$7:$AC$500,17)","v":0},{"$f":"VLOOKUP(K13,'Standard Labels'!$A$7:$AC$500,19)","v":0},{"$f":"VLOOKUP(K13,'Standard Labels'!$A$7:$AC$500,21)","v":0},{"$f":"VLOOKUP(K13,'Standard Labels'!$A$7:$AC$500,23)","v":0},{"$f":"VLOOKUP(K13,'Standard Labels'!$A$7:$AC$500,25)","v":0},{"$f":"VLOOKUP(K13,'Standard Labels'!$A$7:$AC$500,27)","v":0},{"$f":"VLOOKUP(K13,'Standard Labels'!$A$7:$AC$500,29)","v":0},12]
[{"$f":"VLOOKUP(K14,'Standard Labels'!$A$7:$AC$500,11)","v":0},{"$f":"VLOOKUP(K14,'Standard Labels'!$A$7:$AC$500,13)","v":0},{"$f":"VLOOKUP(K14,'Standard Labels'!$A$7:$AC$500,15)","v":0},{"$f":"VLOOKUP(K14,'Standard Labels'!$A$7:$AC$500,17)","v":0},{"$f":"VLOOKUP(K14,'Standard Labels'!$A$7:$AC$500,19)","v":0},{"$f":"VLOOKUP(K14,'Standard Labels'!$A$7:$AC$500,21)","v":0},{"$f":"VLOOKUP(K14,'Standard Labels'!$A$7:$AC$500,23)","v":0},{"$f":"VLOOKUP(K14,'Standard Labels'!$A$7:$AC$500,25)","v":0},{"$f":"VLOOKUP(K14,'Standard Labels'!$A$7:$AC$500,27)","v":0},{"$f":"VLOOKUP(K14,'Standard Labels'!$A$7:$AC$500,29)","v":0},13]
[{"$f":"VLOOKUP(K15,'Standard Labels'!$A$7:$AC$500,11)","v":0},{"$f":"VLOOKUP(K15,'Standard Labels'!$A$7:$AC$500,13)","v":0},{"$f":"VLOOKUP(K15,'Standard Labels'!$A$7:$AC$500,15)","v":0},{"$f":"VLOOKUP(K15,'Standard Labels'!$A$7:$AC$500,17)","v":0},{"$f":"VLOOKUP(K15,'Standard Labels'!$A$7:$AC$500,19)","v":0},{"$f":"VLOOKUP(K15,'Standard Labels'!$A$7:$AC$500,21)","v":0},{"$f":"VLOOKUP(K15,'Standard Labels'!$A$7:$AC$500,23)","v":0},{"$f":"VLOOKUP(K15,'Standard Labels'!$A$7:$AC$500,25)","v":0},{"$f":"VLOOKUP(K15,'Standard Labels'!$A$7:$AC$500,27)","v":0},{"$f":"VLOOKUP(K15,'Standard Labels'!$A$7:$AC$500,29)","v":0},14]
[{"$f":"VLOOKUP(K16,'Standard Labels'!$A$7:$AC$500,11)","v":0},{"$f":"VLOOKUP(K16,'Standard Labels'!$A$7:$AC$500,13)","v":0},{"$f":"VLOOKUP(K16,'Standard Labels'!$A$7:$AC$500,15)","v":0},{"$f":"VLOOKUP(K16,'Standard Labels'!$A$7:$AC$500,17)","v":0},{"$f":"VLOOKUP(K16,'Standard Labels'!$A$7:$AC$500,19)","v":0},{"$f":"VLOOKUP(K16,'Standard Labels'!$A$7:$AC$500,21)","v":0},{"$f":"VLOOKUP(K16,'Standard Labels'!$A$7:$AC$500,23)","v":0},{"$f":"VLOOKUP(K16,'Standard Labels'!$A$7:$AC$500,25)","v":0},{"$f":"VLOOKUP(K16,'Standard Labels'!$A$7:$AC$500,27)","v":0},{"$f":"VLOOKUP(K16,'Standard Labels'!$A$7:$AC$500,29)","v":0},15]
[{"$f":"VLOOKUP(K17,'Standard Labels'!$A$7:$AC$500,11)","v":0},{"$f":"VLOOKUP(K17,'Standard Labels'!$A$7:$AC$500,13)","v":0},{"$f":"VLOOKUP(K17,'Standard Labels'!$A$7:$AC$500,15)","v":0},{"$f":"VLOOKUP(K17,'Standard Labels'!$A$7:$AC$500,17)","v":0},{"$f":"VLOOKUP(K17,'Standard Labels'!$A$7:$AC$500,19)","v":0},{"$f":"VLOOKUP(K17,'Standard Labels'!$A$7:$AC$500,21)","v":0},{"$f":"VLOOKUP(K17,'Standard Labels'!$A$7:$AC$500,23)","v":0},{"$f":"VLOOKUP(K17,'Standard Labels'!$A$7:$AC$500,25)","v":0},{"$f":"VLOOKUP(K17,'Standard Labels'!$A$7:$AC$500,27)","v":0},{"$f":"VLOOKUP(K17,'Standard Labels'!$A$7:$AC$500,29)","v":0},16]
[{"$f":"VLOOKUP(K18,'Standard Labels'!$A$7:$AC$500,11)","v":0},{"$f":"VLOOKUP(K18,'Standard Labels'!$A$7:$AC$500,13)","v":0},{"$f":"VLOOKUP(K18,'Standard Labels'!$A$7:$AC$500,15)","v":0},{"$f":"VLOOKUP(K18,'Standard Labels'!$A$7:$AC$500,17)","v":0},{"$f":"VLOOKUP(K18,'Standard Labels'!$A$7:$AC$500,19)","v":0},{"$f":"VLOOKUP(K18,'Standard Labels'!$A$7:$AC$500,21)","v":0},{"$f":"VLOOKUP(K18,'Standard Labels'!$A$7:$AC$500,23)","v":0},{"$f":"VLOOKUP(K18,'Standard Labels'!$A$7:$AC$500,25)","v":0},{"$f":"VLOOKUP(K18,'Standard Labels'!$A$7:$AC$500,27)","v":0},{"$f":"VLOOKUP(K18,'Standard Labels'!$A$7:$AC$500,29)","v":0},17]
[{"$f":"VLOOKUP(K19,'Standard Labels'!$A$7:$AC$500,11)","v":0},{"$f":"VLOOKUP(K19,'Standard Labels'!$A$7:$AC$500,13)","v":0},{"$f":"VLOOKUP(K19,'Standard Labels'!$A$7:$AC$500,15)","v":0},{"$f":"VLOOKUP(K19,'Standard Labels'!$A$7:$AC$500,17)","v":0},{"$f":"VLOOKUP(K19,'Standard Labels'!$A$7:$AC$500,19)","v":0},{"$f":"VLOOKUP(K19,'Standard Labels'!$A$7:$AC$500,21)","v":0},{"$f":"VLOOKUP(K19,'Standard Labels'!$A$7:$AC$500,23)","v":0},{"$f":"VLOOKUP(K19,'Standard Labels'!$A$7:$AC$500,25)","v":0},{"$f":"VLOOKUP(K19,'Standard Labels'!$A$7:$AC$500,27)","v":0},{"$f":"VLOOKUP(K19,'Standard Labels'!$A$7:$AC$500,29)","v":0},18]
[{"$f":"VLOOKUP(K20,'Standard Labels'!$A$7:$AC$500,11)","v":0},{"$f":"VLOOKUP(K20,'Standard Labels'!$A$7:$AC$500,13)","v":0},{"$f":"VLOOKUP(K20,'Standard Labels'!$A$7:$AC$500,15)","v":0},{"$f":"VLOOKUP(K20,'Standard Labels'!$A$7:$AC$500,17)","v":0},{"$f":"VLOOKUP(K20,'Standard Labels'!$A$7:$AC$500,19)","v":0},{"$f":"VLOOKUP(K20,'Standard Labels'!$A$7:$AC$500,21)","v":0},{"$f":"VLOOKUP(K20,'Standard Labels'!$A$7:$AC$500,23)","v":0},{"$f":"VLOOKUP(K20,'Standard Labels'!$A$7:$AC$500,25)","v":0},{"$f":"VLOOKUP(K20,'Standard Labels'!$A$7:$AC$500,27)","v":0},{"$f":"VLOOKUP(K20,'Standard Labels'!$A$7:$AC$500,29)","v":0},19]
[{"$f":"VLOOKUP(K21,'Standard Labels'!$A$7:$AC$500,11)","v":0},{"$f":"VLOOKUP(K21,'Standard Labels'!$A$7:$AC$500,13)","v":0},{"$f":"VLOOKUP(K21,'Standard Labels'!$A$7:$AC$500,15)","v":0},{"$f":"VLOOKUP(K21,'Standard Labels'!$A$7:$AC$500,17)","v":0},{"$f":"VLOOKUP(K21,'Standard Labels'!$A$7:$AC$500,19)","v":0},{"$f":"VLOOKUP(K21,'Standard Labels'!$A$7:$AC$500,21)","v":0},{"$f":"VLOOKUP(K21,'Standard Labels'!$A$7:$AC$500,23)","v":0},{"$f":"VLOOKUP(K21,'Standard Labels'!$A$7:$AC$500,25)","v":0},{"$f":"VLOOKUP(K21,'Standard Labels'!$A$7:$AC$500,27)","v":0},{"$f":"VLOOKUP(K21,'Standard Labels'!$A$7:$AC$500,29)","v":0},20]
[{"$f":"VLOOKUP(K22,'Standard Labels'!$A$7:$AC$500,11)","v":0},{"$f":"VLOOKUP(K22,'Standard Labels'!$A$7:$AC$500,13)","v":0},{"$f":"VLOOKUP(K22,'Standard Labels'!$A$7:$AC$500,15)","v":0},{"$f":"VLOOKUP(K22,'Standard Labels'!$A$7:$AC$500,17)","v":0},{"$f":"VLOOKUP(K22,'Standard Labels'!$A$7:$AC$500,19)","v":0},{"$f":"VLOOKUP(K22,'Standard Labels'!$A$7:$AC$500,21)","v":0},{"$f":"VLOOKUP(K22,'Standard Labels'!$A$7:$AC$500,23)","v":0},{"$f":"VLOOKUP(K22,'Standard Labels'!$A$7:$AC$500,25)","v":0},{"$f":"VLOOKUP(K22,'Standard Labels'!$A$7:$AC$500,27)","v":0},{"$f":"VLOOKUP(K22,'Standard Labels'!$A$7:$AC$500,29)","v":0},21]
[{"$f":"VLOOKUP(K23,'Standard Labels'!$A$7:$AC$500,11)","v":0},{"$f":"VLOOKUP(K23,'Standard Labels'!$A$7:$AC$500,13)","v":0},{"$f":"VLOOKUP(K23,'Standard Labels'!$A$7:$AC$500,15)","v":0},{"$f":"VLOOKUP(K23,'Standard Labels'!$A$7:$AC$500,17)","v":0},{"$f":"VLOOKUP(K23,'Standard Labels'!$A$7:$AC$500,19)","v":0},{"$f":"VLOOKUP(K23,'Standard Labels'!$A$7:$AC$500,21)","v":0},{"$f":"VLOOKUP(K23,'Standard Labels'!$A$7:$AC$500,23)","v":0},{"$f":"VLOOKUP(K23,'Standard Labels'!$A$7:$AC$500,25)","v":0},{"$f":"VLOOKUP(K23,'Standard Labels'!$A$7:$AC$500,27)","v":0},{"$f":"VLOOKUP(K23,'Standard Labels'!$A$7:$AC$500,29)","v":0},22]
[{"$f":"VLOOKUP(K24,'Standard Labels'!$A$7:$AC$500,11)","v":0},{"$f":"VLOOKUP(K24,'Standard Labels'!$A$7:$AC$500,13)","v":0},{"$f":"VLOOKUP(K24,'Standard Labels'!$A$7:$AC$500,15)","v":0},{"$f":"VLOOKUP(K24,'Standard Labels'!$A$7:$AC$500,17)","v":0},{"$f":"VLOOKUP(K24,'Standard Labels'!$A$7:$AC$500,19)","v":0},{"$f":"VLOOKUP(K24,'Standard Labels'!$A$7:$AC$500,21)","v":0},{"$f":"VLOOKUP(K24,'Standard Labels'!$A$7:$AC$500,23)","v":0},{"$f":"VLOOKUP(K24,'Standard Labels'!$A$7:$AC$500,25)","v":0},{"$f":"VLOOKUP(K24,'Standard Labels'!$A$7:$AC$500,27)","v":0},{"$f":"VLOOKUP(K24,'Standard Labels'!$A$7:$AC$500,29)","v":0},23]
[{"$f":"VLOOKUP(K25,'Standard Labels'!$A$7:$AC$500,11)","v":0},{"$f":"VLOOKUP(K25,'Standard Labels'!$A$7:$AC$500,13)","v":0},{"$f":"VLOOKUP(K25,'Standard Labels'!$A$7:$AC$500,15)","v":0},{"$f":"VLOOKUP(K25,'Standard Labels'!$A$7:$AC$500,17)","v":0},{"$f":"VLOOKUP(K25,'Standard Labels'!$A$7:$AC$500,19)","v":0},{"$f":"VLOOKUP(K25,'Standard Labels'!$A$7:$AC$500,21)","v":0},{"$f":"VLOOKUP(K25,'Standard Labels'!$A$7:$AC$500,23)","v":0},{"$f":"VLOOKUP(K25,'Standard Labels'!$A$7:$AC$500,25)","v":0},{"$f":"VLOOKUP(K25,'Standard Labels'!$A$7:$AC$500,27)","v":0},{"$f":"VLOOKUP(K25,'Standard Labels'!$A$7:$AC$500,29)","v":0},24]
[{"$f":"VLOOKUP(K26,'Standard Labels'!$A$7:$AC$500,11)","v":0},{"$f":"VLOOKUP(K26,'Standard Labels'!$A$7:$AC$500,13)","v":0},{"$f":"VLOOKUP(K26,'Standard Labels'!$A$7:$AC$500,15)","v":0},{"$f":"VLOOKUP(K26,'Standard Labels'!$A$7:$AC$500,17)","v":0},{"$f":"VLOOKUP(K26,'Standard Labels'!$A$7:$AC$500,19)","v":0},{"$f":"VLOOKUP(K26,'Standard Labels'!$A$7:$AC$500,21)","v":0},{"$f":"VLOOKUP(K26,'Standard Labels'!$A$7:$AC$500,23)","v":0},{"$f":"VLOOKUP(K26,'Standard Labels'!$A$7:$AC$500,25)","v":0},{"$f":"VLOOKUP(K26,'Standard Labels'!$A$7:$AC$500,27)","v":0},{"$f":"VLOOKUP(K26,'Standard Labels'!$A$7:$AC$500,29)","v":0},25]
[{"$f":"VLOOKUP(K27,'Standard Labels'!$A$7:$AC$500,11)","v":0},{"$f":"VLOOKUP(K27,'Standard Labels'!$A$7:$AC$500,13)","v":0},{"$f":"VLOOKUP(K27,'Standard Labels'!$A$7:$AC$500,15)","v":0},{"$f":"VLOOKUP(K27,'Standard Labels'!$A$7:$AC$500,17)","v":0},{"$f":"VLOOKUP(K27,'Standard Labels'!$A$7:$AC$500,19)","v":0},{"$f":"VLOOKUP(K27,'Standard Labels'!$A$7:$AC$500,21)","v":0},{"$f":"VLOOKUP(K27,'Standard Labels'!$A$7:$AC$500,23)","v":0},{"$f":"VLOOKUP(K27,'Standard Labels'!$A$7:$AC$500,25)","v":0},{"$f":"VLOOKUP(K27,'Standard Labels'!$A$7:$AC$500,27)","v":0},{"$f":"VLOOKUP(K27,'Standard Labels'!$A$7:$AC$500,29)","v":0},26]
[{"$f":"VLOOKUP(K28,'Standard Labels'!$A$7:$AC$500,11)","v":0},{"$f":"VLOOKUP(K28,'Standard Labels'!$A$7:$AC$500,13)","v":0},{"$f":"VLOOKUP(K28,'Standard Labels'!$A$7:$AC$500,15)","v":0},{"$f":"VLOOKUP(K28,'Standard Labels'!$A$7:$AC$500,17)","v":0},{"$f":"VLOOKUP(K28,'Standard Labels'!$A$7:$AC$500,19)","v":0},{"$f":"VLOOKUP(K28,'Standard Labels'!$A$7:$AC$500,21)","v":0},{"$f":"VLOOKUP(K28,'Standard Labels'!$A$7:$AC$500,23)","v":0},{"$f":"VLOOKUP(K28,'Standard Labels'!$A$7:$AC$500,25)","v":0},{"$f":"VLOOKUP(K28,'Standard Labels'!$A$7:$AC$500,27)","v":0},{"$f":"VLOOKUP(K28,'Standard Labels'!$A$7:$AC$500,29)","v":0},27]
[{"$f":"VLOOKUP(K29,'Standard Labels'!$A$7:$AC$500,11)","v":0},{"$f":"VLOOKUP(K29,'Standard Labels'!$A$7:$AC$500,13)","v":0},{"$f":"VLOOKUP(K29,'Standard Labels'!$A$7:$AC$500,15)","v":0},{"$f":"VLOOKUP(K29,'Standard Labels'!$A$7:$AC$500,17)","v":0},{"$f":"VLOOKUP(K29,'Standard Labels'!$A$7:$AC$500,19)","v":0},{"$f":"VLOOKUP(K29,'Standard Labels'!$A$7:$AC$500,21)","v":0},{"$f":"VLOOKUP(K29,'Standard Labels'!$A$7:$AC$500,23)","v":0},{"$f":"VLOOKUP(K29,'Standard Labels'!$A$7:$AC$500,25)","v":0},{"$f":"VLOOKUP(K29,'Standard Labels'!$A$7:$AC$500,27)","v":0},{"$f":"VLOOKUP(K29,'Standard Labels'!$A$7:$AC$500,29)","v":0},28]
[{"$f":"VLOOKUP(K30,'Standard Labels'!$A$7:$AC$500,11)","v":0},{"$f":"VLOOKUP(K30,'Standard Labels'!$A$7:$AC$500,13)","v":0},{"$f":"VLOOKUP(K30,'Standard Labels'!$A$7:$AC$500,15)","v":0},{"$f":"VLOOKUP(K30,'Standard Labels'!$A$7:$AC$500,17)","v":0},{"$f":"VLOOKUP(K30,'Standard Labels'!$A$7:$AC$500,19)","v":0},{"$f":"VLOOKUP(K30,'Standard Labels'!$A$7:$AC$500,21)","v":0},{"$f":"VLOOKUP(K30,'Standard Labels'!$A$7:$AC$500,23)","v":0},{"$f":"VLOOKUP(K30,'Standard Labels'!$A$7:$AC$500,25)","v":0},{"$f":"VLOOKUP(K30,'Standard Labels'!$A$7:$AC$500,27)","v":0},{"$f":"VLOOKUP(K30,'Standard Labels'!$A$7:$AC$500,29)","v":0},29]
[{"$f":"VLOOKUP(K31,'Standard Labels'!$A$7:$AC$500,11)","v":0},{"$f":"VLOOKUP(K31,'Standard Labels'!$A$7:$AC$500,13)","v":0},{"$f":"VLOOKUP(K31,'Standard Labels'!$A$7:$AC$500,15)","v":0},{"$f":"VLOOKUP(K31,'Standard Labels'!$A$7:$AC$500,17)","v":0},{"$f":"VLOOKUP(K31,'Standard Labels'!$A$7:$AC$500,19)","v":0},{"$f":"VLOOKUP(K31,'Standard Labels'!$A$7:$AC$500,21)","v":0},{"$f":"VLOOKUP(K31,'Standard Labels'!$A$7:$AC$500,23)","v":0},{"$f":"VLOOKUP(K31,'Standard Labels'!$A$7:$AC$500,25)","v":0},{"$f":"VLOOKUP(K31,'Standard Labels'!$A$7:$AC$500,27)","v":0},{"$f":"VLOOKUP(K31,'Standard Labels'!$A$7:$AC$500,29)","v":0},30]
[{"$f":"VLOOKUP(K32,'Standard Labels'!$A$7:$AC$500,11)","v":0},{"$f":"VLOOKUP(K32,'Standard Labels'!$A$7:$AC$500,13)","v":0},{"$f":"VLOOKUP(K32,'Standard Labels'!$A$7:$AC$500,15)","v":0},{"$f":"VLOOKUP(K32,'Standard Labels'!$A$7:$AC$500,17)","v":0},{"$f":"VLOOKUP(K32,'Standard Labels'!$A$7:$AC$500,19)","v":0},{"$f":"VLOOKUP(K32,'Standard Labels'!$A$7:$AC$500,21)","v":0},{"$f":"VLOOKUP(K32,'Standard Labels'!$A$7:$AC$500,23)","v":0},{"$f":"VLOOKUP(K32,'Standard Labels'!$A$7:$AC$500,25)","v":0},{"$f":"VLOOKUP(K32,'Standard Labels'!$A$7:$AC$500,27)","v":0},{"$f":"VLOOKUP(K32,'Standard Labels'!$A$7:$AC$500,29)","v":0},31]
[{"$f":"VLOOKUP(K33,'Standard Labels'!$A$7:$AC$500,11)","v":0},{"$f":"VLOOKUP(K33,'Standard Labels'!$A$7:$AC$500,13)","v":0},{"$f":"VLOOKUP(K33,'Standard Labels'!$A$7:$AC$500,15)","v":0},{"$f":"VLOOKUP(K33,'Standard Labels'!$A$7:$AC$500,17)","v":0},{"$f":"VLOOKUP(K33,'Standard Labels'!$A$7:$AC$500,19)","v":0},{"$f":"VLOOKUP(K33,'Standard Labels'!$A$7:$AC$500,21)","v":0},{"$f":"VLOOKUP(K33,'Standard Labels'!$A$7:$AC$500,23)","v":0},{"$f":"VLOOKUP(K33,'Standard Labels'!$A$7:$AC$500,25)","v":0},{"$f":"VLOOKUP(K33,'Standard Labels'!$A$7:$AC$500,27)","v":0},{"$f":"VLOOKUP(K33,'Standard Labels'!$A$7:$AC$500,29)","v":0},32]
[{"$f":"VLOOKUP(K34,'Standard Labels'!$A$7:$AC$500,11)","v":0},{"$f":"VLOOKUP(K34,'Standard Labels'!$A$7:$AC$500,13)","v":0},{"$f":"VLOOKUP(K34,'Standard Labels'!$A$7:$AC$500,15)","v":0},{"$f":"VLOOKUP(K34,'Standard Labels'!$A$7:$AC$500,17)","v":0},{"$f":"VLOOKUP(K34,'Standard Labels'!$A$7:$AC$500,19)","v":0},{"$f":"VLOOKUP(K34,'Standard Labels'!$A$7:$AC$500,21)","v":0},{"$f":"VLOOKUP(K34,'Standard Labels'!$A$7:$AC$500,23)","v":0},{"$f":"VLOOKUP(K34,'Standard Labels'!$A$7:$AC$500,25)","v":0},{"$f":"VLOOKUP(K34,'Standard Labels'!$A$7:$AC$500,27)","v":0},{"$f":"VLOOKUP(K34,'Standard Labels'!$A$7:$AC$500,29)","v":0},33]
[{"$f":"VLOOKUP(K35,'Standard Labels'!$A$7:$AC$500,11)","v":0},{"$f":"VLOOKUP(K35,'Standard Labels'!$A$7:$AC$500,13)","v":0},{"$f":"VLOOKUP(K35,'Standard Labels'!$A$7:$AC$500,15)","v":0},{"$f":"VLOOKUP(K35,'Standard Labels'!$A$7:$AC$500,17)","v":0},{"$f":"VLOOKUP(K35,'Standard Labels'!$A$7:$AC$500,19)","v":0},{"$f":"VLOOKUP(K35,'Standard Labels'!$A$7:$AC$500,21)","v":0},{"$f":"VLOOKUP(K35,'Standard Labels'!$A$7:$AC$500,23)","v":0},{"$f":"VLOOKUP(K35,'Standard Labels'!$A$7:$AC$500,25)","v":0},{"$f":"VLOOKUP(K35,'Standard Labels'!$A$7:$AC$500,27)","v":0},{"$f":"VLOOKUP(K35,'Standard Labels'!$A$7:$AC$500,29)","v":0},34]
[{"$f":"VLOOKUP(K36,'Standard Labels'!$A$7:$AC$500,11)","v":0},{"$f":"VLOOKUP(K36,'Standard Labels'!$A$7:$AC$500,13)","v":0},{"$f":"VLOOKUP(K36,'Standard Labels'!$A$7:$AC$500,15)","v":0},{"$f":"VLOOKUP(K36,'Standard Labels'!$A$7:$AC$500,17)","v":0},{"$f":"VLOOKUP(K36,'Standard Labels'!$A$7:$AC$500,19)","v":0},{"$f":"VLOOKUP(K36,'Standard Labels'!$A$7:$AC$500,21)","v":0},{"$f":"VLOOKUP(K36,'Standard Labels'!$A$7:$AC$500,23)","v":0},{"$f":"VLOOKUP(K36,'Standard Labels'!$A$7:$AC$500,25)","v":0},{"$f":"VLOOKUP(K36,'Standard Labels'!$A$7:$AC$500,27)","v":0},{"$f":"VLOOKUP(K36,'Standard Labels'!$A$7:$AC$500,29)","v":0},35]
[{"$f":"VLOOKUP(K37,'Standard Labels'!$A$7:$AC$500,11)","v":0},{"$f":"VLOOKUP(K37,'Standard Labels'!$A$7:$AC$500,13)","v":0},{"$f":"VLOOKUP(K37,'Standard Labels'!$A$7:$AC$500,15)","v":0},{"$f":"VLOOKUP(K37,'Standard Labels'!$A$7:$AC$500,17)","v":0},{"$f":"VLOOKUP(K37,'Standard Labels'!$A$7:$AC$500,19)","v":0},{"$f":"VLOOKUP(K37,'Standard Labels'!$A$7:$AC$500,21)","v":0},{"$f":"VLOOKUP(K37,'Standard Labels'!$A$7:$AC$500,23)","v":0},{"$f":"VLOOKUP(K37,'Standard Labels'!$A$7:$AC$500,25)","v":0},{"$f":"VLOOKUP(K37,'Standard Labels'!$A$7:$AC$500,27)","v":0},{"$f":"VLOOKUP(K37,'Standard Labels'!$A$7:$AC$500,29)","v":0},36]
[{"$f":"VLOOKUP(K38,'Standard Labels'!$A$7:$AC$500,11)","v":0},{"$f":"VLOOKUP(K38,'Standard Labels'!$A$7:$AC$500,13)","v":0},{"$f":"VLOOKUP(K38,'Standard Labels'!$A$7:$AC$500,15)","v":0},{"$f":"VLOOKUP(K38,'Standard Labels'!$A$7:$AC$500,17)","v":0},{"$f":"VLOOKUP(K38,'Standard Labels'!$A$7:$AC$500,19)","v":0},{"$f":"VLOOKUP(K38,'Standard Labels'!$A$7:$AC$500,21)","v":0},{"$f":"VLOOKUP(K38,'Standard Labels'!$A$7:$AC$500,23)","v":0},{"$f":"VLOOKUP(K38,'Standard Labels'!$A$7:$AC$500,25)","v":0},{"$f":"VLOOKUP(K38,'Standard Labels'!$A$7:$AC$500,27)","v":0},{"$f":"VLOOKUP(K38,'Standard Labels'!$A$7:$AC$500,29)","v":0},37]
[{"$f":"VLOOKUP(K39,'Standard Labels'!$A$7:$AC$500,11)","v":0},{"$f":"VLOOKUP(K39,'Standard Labels'!$A$7:$AC$500,13)","v":0},{"$f":"VLOOKUP(K39,'Standard Labels'!$A$7:$AC$500,15)","v":0},{"$f":"VLOOKUP(K39,'Standard Labels'!$A$7:$AC$500,17)","v":0},{"$f":"VLOOKUP(K39,'Standard Labels'!$A$7:$AC$500,19)","v":0},{"$f":"VLOOKUP(K39,'Standard Labels'!$A$7:$AC$500,21)","v":0},{"$f":"VLOOKUP(K39,'Standard Labels'!$A$7:$AC$500,23)","v":0},{"$f":"VLOOKUP(K39,'Standard Labels'!$A$7:$AC$500,25)","v":0},{"$f":"VLOOKUP(K39,'Standard Labels'!$A$7:$AC$500,27)","v":0},{"$f":"VLOOKUP(K39,'Standard Labels'!$A$7:$AC$500,29)","v":0},38]
[{"$f":"VLOOKUP(K40,'Standard Labels'!$A$7:$AC$500,11)","v":0},{"$f":"VLOOKUP(K40,'Standard Labels'!$A$7:$AC$500,13)","v":0},{"$f":"VLOOKUP(K40,'Standard Labels'!$A$7:$AC$500,15)","v":0},{"$f":"VLOOKUP(K40,'Standard Labels'!$A$7:$AC$500,17)","v":0},{"$f":"VLOOKUP(K40,'Standard Labels'!$A$7:$AC$500,19)","v":0},{"$f":"VLOOKUP(K40,'Standard Labels'!$A$7:$AC$500,21)","v":0},{"$f":"VLOOKUP(K40,'Standard Labels'!$A$7:$AC$500,23)","v":0},{"$f":"VLOOKUP(K40,'Standard Labels'!$A$7:$AC$500,25)","v":0},{"$f":"VLOOKUP(K40,'Standard Labels'!$A$7:$AC$500,27)","v":0},{"$f":"VLOOKUP(K40,'Standard Labels'!$A$7:$AC$500,29)","v":0},39]
[{"$f":"VLOOKUP(K41,'Standard Labels'!$A$7:$AC$500,11)","v":0},{"$f":"VLOOKUP(K41,'Standard Labels'!$A$7:$AC$500,13)","v":0},{"$f":"VLOOKUP(K41,'Standard Labels'!$A$7:$AC$500,15)","v":0},{"$f":"VLOOKUP(K41,'Standard Labels'!$A$7:$AC$500,17)","v":0},{"$f":"VLOOKUP(K41,'Standard Labels'!$A$7:$AC$500,19)","v":0},{"$f":"VLOOKUP(K41,'Standard Labels'!$A$7:$AC$500,21)","v":0},{"$f":"VLOOKUP(K41,'Standard Labels'!$A$7:$AC$500,23)","v":0},{"$f":"VLOOKUP(K41,'Standard Labels'!$A$7:$AC$500,25)","v":0},{"$f":"VLOOKUP(K41,'Standard Labels'!$A$7:$AC$500,27)","v":0},{"$f":"VLOOKUP(K41,'Standard Labels'!$A$7:$AC$500,29)","v":0},40]
[{"$f":"VLOOKUP(K42,'Standard Labels'!$A$7:$AC$500,11)","v":0},{"$f":"VLOOKUP(K42,'Standard Labels'!$A$7:$AC$500,13)","v":0},{"$f":"VLOOKUP(K42,'Standard Labels'!$A$7:$AC$500,15)","v":0},{"$f":"VLOOKUP(K42,'Standard Labels'!$A$7:$AC$500,17)","v":0},{"$f":"VLOOKUP(K42,'Standard Labels'!$A$7:$AC$500,19)","v":0},{"$f":"VLOOKUP(K42,'Standard Labels'!$A$7:$AC$500,21)","v":0},{"$f":"VLOOKUP(K42,'Standard Labels'!$A$7:$AC$500,23)","v":0},{"$f":"VLOOKUP(K42,'Standard Labels'!$A$7:$AC$500,25)","v":0},{"$f":"VLOOKUP(K42,'Standard Labels'!$A$7:$AC$500,27)","v":0},{"$f":"VLOOKUP(K42,'Standard Labels'!$A$7:$AC$500,29)","v":0},41]
[{"$f":"VLOOKUP(K43,'Standard Labels'!$A$7:$AC$500,11)","v":0},{"$f":"VLOOKUP(K43,'Standard Labels'!$A$7:$AC$500,13)","v":0},{"$f":"VLOOKUP(K43,'Standard Labels'!$A$7:$AC$500,15)","v":0},{"$f":"VLOOKUP(K43,'Standard Labels'!$A$7:$AC$500,17)","v":0},{"$f":"VLOOKUP(K43,'Standard Labels'!$A$7:$AC$500,19)","v":0},{"$f":"VLOOKUP(K43,'Standard Labels'!$A$7:$AC$500,21)","v":0},{"$f":"VLOOKUP(K43,'Standard Labels'!$A$7:$AC$500,23)","v":0},{"$f":"VLOOKUP(K43,'Standard Labels'!$A$7:$AC$500,25)","v":0},{"$f":"VLOOKUP(K43,'Standard Labels'!$A$7:$AC$500,27)","v":0},{"$f":"VLOOKUP(K43,'Standard Labels'!$A$7:$AC$500,29)","v":0},42]
[{"$f":"VLOOKUP(K44,'Standard Labels'!$A$7:$AC$500,11)","v":0},{"$f":"VLOOKUP(K44,'Standard Labels'!$A$7:$AC$500,13)","v":0},{"$f":"VLOOKUP(K44,'Standard Labels'!$A$7:$AC$500,15)","v":0},{"$f":"VLOOKUP(K44,'Standard Labels'!$A$7:$AC$500,17)","v":0},{"$f":"VLOOKUP(K44,'Standard Labels'!$A$7:$AC$500,19)","v":0},{"$f":"VLOOKUP(K44,'Standard Labels'!$A$7:$AC$500,21)","v":0},{"$f":"VLOOKUP(K44,'Standard Labels'!$A$7:$AC$500,23)","v":0},{"$f":"VLOOKUP(K44,'Standard Labels'!$A$7:$AC$500,25)","v":0},{"$f":"VLOOKUP(K44,'Standard Labels'!$A$7:$AC$500,27)","v":0},{"$f":"VLOOKUP(K44,'Standard Labels'!$A$7:$AC$500,29)","v":0},43]
[{"$f":"VLOOKUP(K45,'Standard Labels'!$A$7:$AC$500,11)","v":0},{"$f":"VLOOKUP(K45,'Standard Labels'!$A$7:$AC$500,13)","v":0},{"$f":"VLOOKUP(K45,'Standard Labels'!$A$7:$AC$500,15)","v":0},{"$f":"VLOOKUP(K45,'Standard Labels'!$A$7:$AC$500,17)","v":0},{"$f":"VLOOKUP(K45,'Standard Labels'!$A$7:$AC$500,19)","v":0},{"$f":"VLOOKUP(K45,'Standard Labels'!$A$7:$AC$500,21)","v":0},{"$f":"VLOOKUP(K45,'Standard Labels'!$A$7:$AC$500,23)","v":0},{"$f":"VLOOKUP(K45,'Standard Labels'!$A$7:$AC$500,25)","v":0},{"$f":"VLOOKUP(K45,'Standard Labels'!$A$7:$AC$500,27)","v":0},{"$f":"VLOOKUP(K45,'Standard Labels'!$A$7:$AC$500,29)","v":0},44]
[{"$f":"VLOOKUP(K46,'Standard Labels'!$A$7:$AC$500,11)","v":0},{"$f":"VLOOKUP(K46,'Standard Labels'!$A$7:$AC$500,13)","v":0},{"$f":"VLOOKUP(K46,'Standard Labels'!$A$7:$AC$500,15)","v":0},{"$f":"VLOOKUP(K46,'Standard Labels'!$A$7:$AC$500,17)","v":0},{"$f":"VLOOKUP(K46,'Standard Labels'!$A$7:$AC$500,19)","v":0},{"$f":"VLOOKUP(K46,'Standard Labels'!$A$7:$AC$500,21)","v":0},{"$f":"VLOOKUP(K46,'Standard Labels'!$A$7:$AC$500,23)","v":0},{"$f":"VLOOKUP(K46,'Standard Labels'!$A$7:$AC$500,25)","v":0},{"$f":"VLOOKUP(K46,'Standard Labels'!$A$7:$AC$500,27)","v":0},{"$f":"VLOOKUP(K46,'Standard Labels'!$A$7:$AC$500,29)","v":0},45]
[{"$f":"VLOOKUP(K47,'Standard Labels'!$A$7:$AC$500,11)","v":0},{"$f":"VLOOKUP(K47,'Standard Labels'!$A$7:$AC$500,13)","v":0},{"$f":"VLOOKUP(K47,'Standard Labels'!$A$7:$AC$500,15)","v":0},{"$f":"VLOOKUP(K47,'Standard Labels'!$A$7:$AC$500,17)","v":0},{"$f":"VLOOKUP(K47,'Standard Labels'!$A$7:$AC$500,19)","v":0},{"$f":"VLOOKUP(K47,'Standard Labels'!$A$7:$AC$500,21)","v":0},{"$f":"VLOOKUP(K47,'Standard Labels'!$A$7:$AC$500,23)","v":0},{"$f":"VLOOKUP(K47,'Standard Labels'!$A$7:$AC$500,25)","v":0},{"$f":"VLOOKUP(K47,'Standard Labels'!$A$7:$AC$500,27)","v":0},{"$f":"VLOOKUP(K47,'Standard Labels'!$A$7:$AC$500,29)","v":0},46]
[{"$f":"VLOOKUP(K48,'Standard Labels'!$A$7:$AC$500,11)","v":0},{"$f":"VLOOKUP(K48,'Standard Labels'!$A$7:$AC$500,13)","v":0},{"$f":"VLOOKUP(K48,'Standard Labels'!$A$7:$AC$500,15)","v":0},{"$f":"VLOOKUP(K48,'Standard Labels'!$A$7:$AC$500,17)","v":0},{"$f":"VLOOKUP(K48,'Standard Labels'!$A$7:$AC$500,19)","v":0},{"$f":"VLOOKUP(K48,'Standard Labels'!$A$7:$AC$500,21)","v":0},{"$f":"VLOOKUP(K48,'Standard Labels'!$A$7:$AC$500,23)","v":0},{"$f":"VLOOKUP(K48,'Standard Labels'!$A$7:$AC$500,25)","v":0},{"$f":"VLOOKUP(K48,'Standard Labels'!$A$7:$AC$500,27)","v":0},{"$f":"VLOOKUP(K48,'Standard Labels'!$A$7:$AC$500,29)","v":0},47]
[{"$f":"VLOOKUP(K49,'Standard Labels'!$A$7:$AC$500,11)","v":0},{"$f":"VLOOKUP(K49,'Standard Labels'!$A$7:$AC$500,13)","v":0},{"$f":"VLOOKUP(K49,'Standard Labels'!$A$7:$AC$500,15)","v":0},{"$f":"VLOOKUP(K49,'Standard Labels'!$A$7:$AC$500,17)","v":0},{"$f":"VLOOKUP(K49,'Standard Labels'!$A$7:$AC$500,19)","v":0},{"$f":"VLOOKUP(K49,'Standard Labels'!$A$7:$AC$500,21)","v":0},{"$f":"VLOOKUP(K49,'Standard Labels'!$A$7:$AC$500,23)","v":0},{"$f":"VLOOKUP(K49,'Standard Labels'!$A$7:$AC$500,25)","v":0},{"$f":"VLOOKUP(K49,'Standard Labels'!$A$7:$AC$500,27)","v":0},{"$f":"VLOOKUP(K49,'Standard Labels'!$A$7:$AC$500,29)","v":0},48]
[{"$f":"VLOOKUP(K50,'Standard Labels'!$A$7:$AC$500,11)","v":0},{"$f":"VLOOKUP(K50,'Standard Labels'!$A$7:$AC$500,13)","v":0},{"$f":"VLOOKUP(K50,'Standard Labels'!$A$7:$AC$500,15)","v":0},{"$f":"VLOOKUP(K50,'Standard Labels'!$A$7:$AC$500,17)","v":0},{"$f":"VLOOKUP(K50,'Standard Labels'!$A$7:$AC$500,19)","v":0},{"$f":"VLOOKUP(K50,'Standard Labels'!$A$7:$AC$500,21)","v":0},{"$f":"VLOOKUP(K50,'Standard Labels'!$A$7:$AC$500,23)","v":0},{"$f":"VLOOKUP(K50,'Standard Labels'!$A$7:$AC$500,25)","v":0},{"$f":"VLOOKUP(K50,'Standard Labels'!$A$7:$AC$500,27)","v":0},{"$f":"VLOOKUP(K50,'Standard Labels'!$A$7:$AC$500,29)","v":0},49]
[{"$f":"VLOOKUP(K51,'Standard Labels'!$A$7:$AC$500,11)","v":0},{"$f":"VLOOKUP(K51,'Standard Labels'!$A$7:$AC$500,13)","v":0},{"$f":"VLOOKUP(K51,'Standard Labels'!$A$7:$AC$500,15)","v":0},{"$f":"VLOOKUP(K51,'Standard Labels'!$A$7:$AC$500,17)","v":0},{"$f":"VLOOKUP(K51,'Standard Labels'!$A$7:$AC$500,19)","v":0},{"$f":"VLOOKUP(K51,'Standard Labels'!$A$7:$AC$500,21)","v":0},{"$f":"VLOOKUP(K51,'Standard Labels'!$A$7:$AC$500,23)","v":0},{"$f":"VLOOKUP(K51,'Standard Labels'!$A$7:$AC$500,25)","v":0},{"$f":"VLOOKUP(K51,'Standard Labels'!$A$7:$AC$500,27)","v":0},{"$f":"VLOOKUP(K51,'Standard Labels'!$A$7:$AC$500,29)","v":0},50]
[{"$f":"VLOOKUP(K52,'Standard Labels'!$A$7:$AC$500,11)","v":0},{"$f":"VLOOKUP(K52,'Standard Labels'!$A$7:$AC$500,13)","v":0},{"$f":"VLOOKUP(K52,'Standard Labels'!$A$7:$AC$500,15)","v":0},{"$f":"VLOOKUP(K52,'Standard Labels'!$A$7:$AC$500,17)","v":0},{"$f":"VLOOKUP(K52,'Standard Labels'!$A$7:$AC$500,19)","v":0},{"$f":"VLOOKUP(K52,'Standard Labels'!$A$7:$AC$500,21)","v":0},{"$f":"VLOOKUP(K52,'Standard Labels'!$A$7:$AC$500,23)","v":0},{"$f":"VLOOKUP(K52,'Standard Labels'!$A$7:$AC$500,25)","v":0},{"$f":"VLOOKUP(K52,'Standard Labels'!$A$7:$AC$500,27)","v":0},{"$f":"VLOOKUP(K52,'Standard Labels'!$A$7:$AC$500,29)","v":0},51]
[{"$f":"VLOOKUP(K53,'Standard Labels'!$A$7:$AC$500,11)","v":0},{"$f":"VLOOKUP(K53,'Standard Labels'!$A$7:$AC$500,13)","v":0},{"$f":"VLOOKUP(K53,'Standard Labels'!$A$7:$AC$500,15)","v":0},{"$f":"VLOOKUP(K53,'Standard Labels'!$A$7:$AC$500,17)","v":0},{"$f":"VLOOKUP(K53,'Standard Labels'!$A$7:$AC$500,19)","v":0},{"$f":"VLOOKUP(K53,'Standard Labels'!$A$7:$AC$500,21)","v":0},{"$f":"VLOOKUP(K53,'Standard Labels'!$A$7:$AC$500,23)","v":0},{"$f":"VLOOKUP(K53,'Standard Labels'!$A$7:$AC$500,25)","v":0},{"$f":"VLOOKUP(K53,'Standard Labels'!$A$7:$AC$500,27)","v":0},{"$f":"VLOOKUP(K53,'Standard Labels'!$A$7:$AC$500,29)","v":0},52]
[{"$f":"VLOOKUP(K54,'Standard Labels'!$A$7:$AC$500,11)","v":0},{"$f":"VLOOKUP(K54,'Standard Labels'!$A$7:$AC$500,13)","v":0},{"$f":"VLOOKUP(K54,'Standard Labels'!$A$7:$AC$500,15)","v":0},{"$f":"VLOOKUP(K54,'Standard Labels'!$A$7:$AC$500,17)","v":0},{"$f":"VLOOKUP(K54,'Standard Labels'!$A$7:$AC$500,19)","v":0},{"$f":"VLOOKUP(K54,'Standard Labels'!$A$7:$AC$500,21)","v":0},{"$f":"VLOOKUP(K54,'Standard Labels'!$A$7:$AC$500,23)","v":0},{"$f":"VLOOKUP(K54,'Standard Labels'!$A$7:$AC$500,25)","v":0},{"$f":"VLOOKUP(K54,'Standard Labels'!$A$7:$AC$500,27)","v":0},{"$f":"VLOOKUP(K54,'Standard Labels'!$A$7:$AC$500,29)","v":0},53]
[{"$f":"VLOOKUP(K55,'Standard Labels'!$A$7:$AC$500,11)","v":0},{"$f":"VLOOKUP(K55,'Standard Labels'!$A$7:$AC$500,13)","v":0},{"$f":"VLOOKUP(K55,'Standard Labels'!$A$7:$AC$500,15)","v":0},{"$f":"VLOOKUP(K55,'Standard Labels'!$A$7:$AC$500,17)","v":0},{"$f":"VLOOKUP(K55,'Standard Labels'!$A$7:$AC$500,19)","v":0},{"$f":"VLOOKUP(K55,'Standard Labels'!$A$7:$AC$500,21)","v":0},{"$f":"VLOOKUP(K55,'Standard Labels'!$A$7:$AC$500,23)","v":0},{"$f":"VLOOKUP(K55,'Standard Labels'!$A$7:$AC$500,25)","v":0},{"$f":"VLOOKUP(K55,'Standard Labels'!$A$7:$AC$500,27)","v":0},{"$f":"VLOOKUP(K55,'Standard Labels'!$A$7:$AC$500,29)","v":0},54]
[{"$f":"VLOOKUP(K56,'Standard Labels'!$A$7:$AC$500,11)","v":0},{"$f":"VLOOKUP(K56,'Standard Labels'!$A$7:$AC$500,13)","v":0},{"$f":"VLOOKUP(K56,'Standard Labels'!$A$7:$AC$500,15)","v":0},{"$f":"VLOOKUP(K56,'Standard Labels'!$A$7:$AC$500,17)","v":0},{"$f":"VLOOKUP(K56,'Standard Labels'!$A$7:$AC$500,19)","v":0},{"$f":"VLOOKUP(K56,'Standard Labels'!$A$7:$AC$500,21)","v":0},{"$f":"VLOOKUP(K56,'Standard Labels'!$A$7:$AC$500,23)","v":0},{"$f":"VLOOKUP(K56,'Standard Labels'!$A$7:$AC$500,25)","v":0},{"$f":"VLOOKUP(K56,'Standard Labels'!$A$7:$AC$500,27)","v":0},{"$f":"VLOOKUP(K56,'Standard Labels'!$A$7:$AC$500,29)","v":0},55]
[{"$f":"VLOOKUP(K57,'Standard Labels'!$A$7:$AC$500,11)","v":0},{"$f":"VLOOKUP(K57,'Standard Labels'!$A$7:$AC$500,13)","v":0},{"$f":"VLOOKUP(K57,'Standard Labels'!$A$7:$AC$500,15)","v":0},{"$f":"VLOOKUP(K57,'Standard Labels'!$A$7:$AC$500,17)","v":0},{"$f":"VLOOKUP(K57,'Standard Labels'!$A$7:$AC$500,19)","v":0},{"$f":"VLOOKUP(K57,'Standard Labels'!$A$7:$AC$500,21)","v":0},{"$f":"VLOOKUP(K57,'Standard Labels'!$A$7:$AC$500,23)","v":0},{"$f":"VLOOKUP(K57,'Standard Labels'!$A$7:$AC$500,25)","v":0},{"$f":"VLOOKUP(K57,'Standard Labels'!$A$7:$AC$500,27)","v":0},{"$f":"VLOOKUP(K57,'Standard Labels'!$A$7:$AC$500,29)","v":0},56]
[{"$f":"VLOOKUP(K58,'Standard Labels'!$A$7:$AC$500,11)","v":0},{"$f":"VLOOKUP(K58,'Standard Labels'!$A$7:$AC$500,13)","v":0},{"$f":"VLOOKUP(K58,'Standard Labels'!$A$7:$AC$500,15)","v":0},{"$f":"VLOOKUP(K58,'Standard Labels'!$A$7:$AC$500,17)","v":0},{"$f":"VLOOKUP(K58,'Standard Labels'!$A$7:$AC$500,19)","v":0},{"$f":"VLOOKUP(K58,'Standard Labels'!$A$7:$AC$500,21)","v":0},{"$f":"VLOOKUP(K58,'Standard Labels'!$A$7:$AC$500,23)","v":0},{"$f":"VLOOKUP(K58,'Standard Labels'!$A$7:$AC$500,25)","v":0},{"$f":"VLOOKUP(K58,'Standard Labels'!$A$7:$AC$500,27)","v":0},{"$f":"VLOOKUP(K58,'Standard Labels'!$A$7:$AC$500,29)","v":0},57]
[{"$f":"VLOOKUP(K59,'Standard Labels'!$A$7:$AC$500,11)","v":0},{"$f":"VLOOKUP(K59,'Standard Labels'!$A$7:$AC$500,13)","v":0},{"$f":"VLOOKUP(K59,'Standard Labels'!$A$7:$AC$500,15)","v":0},{"$f":"VLOOKUP(K59,'Standard Labels'!$A$7:$AC$500,17)","v":0},{"$f":"VLOOKUP(K59,'Standard Labels'!$A$7:$AC$500,19)","v":0},{"$f":"VLOOKUP(K59,'Standard Labels'!$A$7:$AC$500,21)","v":0},{"$f":"VLOOKUP(K59,'Standard Labels'!$A$7:$AC$500,23)","v":0},{"$f":"VLOOKUP(K59,'Standard Labels'!$A$7:$AC$500,25)","v":0},{"$f":"VLOOKUP(K59,'Standard Labels'!$A$7:$AC$500,27)","v":0},{"$f":"VLOOKUP(K59,'Standard Labels'!$A$7:$AC$500,29)","v":0},58]
[{"$f":"VLOOKUP(K60,'Standard Labels'!$A$7:$AC$500,11)","v":0},{"$f":"VLOOKUP(K60,'Standard Labels'!$A$7:$AC$500,13)","v":0},{"$f":"VLOOKUP(K60,'Standard Labels'!$A$7:$AC$500,15)","v":0},{"$f":"VLOOKUP(K60,'Standard Labels'!$A$7:$AC$500,17)","v":0},{"$f":"VLOOKUP(K60,'Standard Labels'!$A$7:$AC$500,19)","v":0},{"$f":"VLOOKUP(K60,'Standard Labels'!$A$7:$AC$500,21)","v":0},{"$f":"VLOOKUP(K60,'Standard Labels'!$A$7:$AC$500,23)","v":0},{"$f":"VLOOKUP(K60,'Standard Labels'!$A$7:$AC$500,25)","v":0},{"$f":"VLOOKUP(K60,'Standard Labels'!$A$7:$AC$500,27)","v":0},{"$f":"VLOOKUP(K60,'Standard Labels'!$A$7:$AC$500,29)","v":0},59]
[{"$f":"VLOOKUP(K61,'Standard Labels'!$A$7:$AC$500,11)","v":0},{"$f":"VLOOKUP(K61,'Standard Labels'!$A$7:$AC$500,13)","v":0},{"$f":"VLOOKUP(K61,'Standard Labels'!$A$7:$AC$500,15)","v":0},{"$f":"VLOOKUP(K61,'Standard Labels'!$A$7:$AC$500,17)","v":0},{"$f":"VLOOKUP(K61,'Standard Labels'!$A$7:$AC$500,19)","v":0},{"$f":"VLOOKUP(K61,'Standard Labels'!$A$7:$AC$500,21)","v":0},{"$f":"VLOOKUP(K61,'Standard Labels'!$A$7:$AC$500,23)","v":0},{"$f":"VLOOKUP(K61,'Standard Labels'!$A$7:$AC$500,25)","v":0},{"$f":"VLOOKUP(K61,'Standard Labels'!$A$7:$AC$500,27)","v":0},{"$f":"VLOOKUP(K61,'Standard Labels'!$A$7:$AC$500,29)","v":0},60]
[{"$f":"VLOOKUP(K62,'Standard Labels'!$A$7:$AC$500,11)","v":0},{"$f":"VLOOKUP(K62,'Standard Labels'!$A$7:$AC$500,13)","v":0},{"$f":"VLOOKUP(K62,'Standard Labels'!$A$7:$AC$500,15)","v":0},{"$f":"VLOOKUP(K62,'Standard Labels'!$A$7:$AC$500,17)","v":0},{"$f":"VLOOKUP(K62,'Standard Labels'!$A$7:$AC$500,19)","v":0},{"$f":"VLOOKUP(K62,'Standard Labels'!$A$7:$AC$500,21)","v":0},{"$f":"VLOOKUP(K62,'Standard Labels'!$A$7:$AC$500,23)","v":0},{"$f":"VLOOKUP(K62,'Standard Labels'!$A$7:$AC$500,25)","v":0},{"$f":"VLOOKUP(K62,'Standard Labels'!$A$7:$AC$500,27)","v":0},{"$f":"VLOOKUP(K62,'Standard Labels'!$A$7:$AC$500,29)","v":0},61]
[{"$f":"VLOOKUP(K63,'Standard Labels'!$A$7:$AC$500,11)","v":0},{"$f":"VLOOKUP(K63,'Standard Labels'!$A$7:$AC$500,13)","v":0},{"$f":"VLOOKUP(K63,'Standard Labels'!$A$7:$AC$500,15)","v":0},{"$f":"VLOOKUP(K63,'Standard Labels'!$A$7:$AC$500,17)","v":0},{"$f":"VLOOKUP(K63,'Standard Labels'!$A$7:$AC$500,19)","v":0},{"$f":"VLOOKUP(K63,'Standard Labels'!$A$7:$AC$500,21)","v":0},{"$f":"VLOOKUP(K63,'Standard Labels'!$A$7:$AC$500,23)","v":0},{"$f":"VLOOKUP(K63,'Standard Labels'!$A$7:$AC$500,25)","v":0},{"$f":"VLOOKUP(K63,'Standard Labels'!$A$7:$AC$500,27)","v":0},{"$f":"VLOOKUP(K63,'Standard Labels'!$A$7:$AC$500,29)","v":0},62]
[{"$f":"VLOOKUP(K64,'Standard Labels'!$A$7:$AC$500,11)","v":0},{"$f":"VLOOKUP(K64,'Standard Labels'!$A$7:$AC$500,13)","v":0},{"$f":"VLOOKUP(K64,'Standard Labels'!$A$7:$AC$500,15)","v":0},{"$f":"VLOOKUP(K64,'Standard Labels'!$A$7:$AC$500,17)","v":0},{"$f":"VLOOKUP(K64,'Standard Labels'!$A$7:$AC$500,19)","v":0},{"$f":"VLOOKUP(K64,'Standard Labels'!$A$7:$AC$500,21)","v":0},{"$f":"VLOOKUP(K64,'Standard Labels'!$A$7:$AC$500,23)","v":0},{"$f":"VLOOKUP(K64,'Standard Labels'!$A$7:$AC$500,25)","v":0},{"$f":"VLOOKUP(K64,'Standard Labels'!$A$7:$AC$500,27)","v":0},{"$f":"VLOOKUP(K64,'Standard Labels'!$A$7:$AC$500,29)","v":0},63]
[{"$f":"VLOOKUP(K65,'Standard Labels'!$A$7:$AC$500,11)","v":0},{"$f":"VLOOKUP(K65,'Standard Labels'!$A$7:$AC$500,13)","v":0},{"$f":"VLOOKUP(K65,'Standard Labels'!$A$7:$AC$500,15)","v":0},{"$f":"VLOOKUP(K65,'Standard Labels'!$A$7:$AC$500,17)","v":0},{"$f":"VLOOKUP(K65,'Standard Labels'!$A$7:$AC$500,19)","v":0},{"$f":"VLOOKUP(K65,'Standard Labels'!$A$7:$AC$500,21)","v":0},{"$f":"VLOOKUP(K65,'Standard Labels'!$A$7:$AC$500,23)","v":0},{"$f":"VLOOKUP(K65,'Standard Labels'!$A$7:$AC$500,25)","v":0},{"$f":"VLOOKUP(K65,'Standard Labels'!$A$7:$AC$500,27)","v":0},{"$f":"VLOOKUP(K65,'Standard Labels'!$A$7:$AC$500,29)","v":0},64]
[{"$f":"VLOOKUP(K66,'Standard Labels'!$A$7:$AC$500,11)","v":0},{"$f":"VLOOKUP(K66,'Standard Labels'!$A$7:$AC$500,13)","v":0},{"$f":"VLOOKUP(K66,'Standard Labels'!$A$7:$AC$500,15)","v":0},{"$f":"VLOOKUP(K66,'Standard Labels'!$A$7:$AC$500,17)","v":0},{"$f":"VLOOKUP(K66,'Standard Labels'!$A$7:$AC$500,19)","v":0},{"$f":"VLOOKUP(K66,'Standard Labels'!$A$7:$AC$500,21)","v":0},{"$f":"VLOOKUP(K66,'Standard Labels'!$A$7:$AC$500,23)","v":0},{"$f":"VLOOKUP(K66,'Standard Labels'!$A$7:$AC$500,25)","v":0},{"$f":"VLOOKUP(K66,'Standard Labels'!$A$7:$AC$500,27)","v":0},{"$f":"VLOOKUP(K66,'Standard Labels'!$A$7:$AC$500,29)","v":0},65]
[{"$f":"VLOOKUP(K67,'Standard Labels'!$A$7:$AC$500,11)","v":0},{"$f":"VLOOKUP(K67,'Standard Labels'!$A$7:$AC$500,13)","v":0},{"$f":"VLOOKUP(K67,'Standard Labels'!$A$7:$AC$500,15)","v":0},{"$f":"VLOOKUP(K67,'Standard Labels'!$A$7:$AC$500,17)","v":0},{"$f":"VLOOKUP(K67,'Standard Labels'!$A$7:$AC$500,19)","v":0},{"$f":"VLOOKUP(K67,'Standard Labels'!$A$7:$AC$500,21)","v":0},{"$f":"VLOOKUP(K67,'Standard Labels'!$A$7:$AC$500,23)","v":0},{"$f":"VLOOKUP(K67,'Standard Labels'!$A$7:$AC$500,25)","v":0},{"$f":"VLOOKUP(K67,'Standard Labels'!$A$7:$AC$500,27)","v":0},{"$f":"VLOOKUP(K67,'Standard Labels'!$A$7:$AC$500,29)","v":0},66]
[{"$f":"VLOOKUP(K68,'Standard Labels'!$A$7:$AC$500,11)","v":0},{"$f":"VLOOKUP(K68,'Standard Labels'!$A$7:$AC$500,13)","v":0},{"$f":"VLOOKUP(K68,'Standard Labels'!$A$7:$AC$500,15)","v":0},{"$f":"VLOOKUP(K68,'Standard Labels'!$A$7:$AC$500,17)","v":0},{"$f":"VLOOKUP(K68,'Standard Labels'!$A$7:$AC$500,19)","v":0},{"$f":"VLOOKUP(K68,'Standard Labels'!$A$7:$AC$500,21)","v":0},{"$f":"VLOOKUP(K68,'Standard Labels'!$A$7:$AC$500,23)","v":0},{"$f":"VLOOKUP(K68,'Standard Labels'!$A$7:$AC$500,25)","v":0},{"$f":"VLOOKUP(K68,'Standard Labels'!$A$7:$AC$500,27)","v":0},{"$f":"VLOOKUP(K68,'Standard Labels'!$A$7:$AC$500,29)","v":0},67]
[{"$f":"VLOOKUP(K69,'Standard Labels'!$A$7:$AC$500,11)","v":0},{"$f":"VLOOKUP(K69,'Standard Labels'!$A$7:$AC$500,13)","v":0},{"$f":"VLOOKUP(K69,'Standard Labels'!$A$7:$AC$500,15)","v":0},{"$f":"VLOOKUP(K69,'Standard Labels'!$A$7:$AC$500,17)","v":0},{"$f":"VLOOKUP(K69,'Standard Labels'!$A$7:$AC$500,19)","v":0},{"$f":"VLOOKUP(K69,'Standard Labels'!$A$7:$AC$500,21)","v":0},{"$f":"VLOOKUP(K69,'Standard Labels'!$A$7:$AC$500,23)","v":0},{"$f":"VLOOKUP(K69,'Standard Labels'!$A$7:$AC$500,25)","v":0},{"$f":"VLOOKUP(K69,'Standard Labels'!$A$7:$AC$500,27)","v":0},{"$f":"VLOOKUP(K69,'Standard Labels'!$A$7:$AC$500,29)","v":0},68]
[{"$f":"VLOOKUP(K70,'Standard Labels'!$A$7:$AC$500,11)","v":0},{"$f":"VLOOKUP(K70,'Standard Labels'!$A$7:$AC$500,13)","v":0},{"$f":"VLOOKUP(K70,'Standard Labels'!$A$7:$AC$500,15)","v":0},{"$f":"VLOOKUP(K70,'Standard Labels'!$A$7:$AC$500,17)","v":0},{"$f":"VLOOKUP(K70,'Standard Labels'!$A$7:$AC$500,19)","v":0},{"$f":"VLOOKUP(K70,'Standard Labels'!$A$7:$AC$500,21)","v":0},{"$f":"VLOOKUP(K70,'Standard Labels'!$A$7:$AC$500,23)","v":0},{"$f":"VLOOKUP(K70,'Standard Labels'!$A$7:$AC$500,25)","v":0},{"$f":"VLOOKUP(K70,'Standard Labels'!$A$7:$AC$500,27)","v":0},{"$f":"VLOOKUP(K70,'Standard Labels'!$A$7:$AC$500,29)","v":0},69]
[{"$f":"VLOOKUP(K71,'Standard Labels'!$A$7:$AC$500,11)","v":0},{"$f":"VLOOKUP(K71,'Standard Labels'!$A$7:$AC$500,13)","v":0},{"$f":"VLOOKUP(K71,'Standard Labels'!$A$7:$AC$500,15)","v":0},{"$f":"VLOOKUP(K71,'Standard Labels'!$A$7:$AC$500,17)","v":0},{"$f":"VLOOKUP(K71,'Standard Labels'!$A$7:$AC$500,19)","v":0},{"$f":"VLOOKUP(K71,'Standard Labels'!$A$7:$AC$500,21)","v":0},{"$f":"VLOOKUP(K71,'Standard Labels'!$A$7:$AC$500,23)","v":0},{"$f":"VLOOKUP(K71,'Standard Labels'!$A$7:$AC$500,25)","v":0},{"$f":"VLOOKUP(K71,'Standard Labels'!$A$7:$AC$500,27)","v":0},{"$f":"VLOOKUP(K71,'Standard Labels'!$A$7:$AC$500,29)","v":0},70]
[{"$f":"VLOOKUP(K72,'Standard Labels'!$A$7:$AC$500,11)","v":0},{"$f":"VLOOKUP(K72,'Standard Labels'!$A$7:$AC$500,13)","v":0},{"$f":"VLOOKUP(K72,'Standard Labels'!$A$7:$AC$500,15)","v":0},{"$f":"VLOOKUP(K72,'Standard Labels'!$A$7:$AC$500,17)","v":0},{"$f":"VLOOKUP(K72,'Standard Labels'!$A$7:$AC$500,19)","v":0},{"$f":"VLOOKUP(K72,'Standard Labels'!$A$7:$AC$500,21)","v":0},{"$f":"VLOOKUP(K72,'Standard Labels'!$A$7:$AC$500,23)","v":0},{"$f":"VLOOKUP(K72,'Standard Labels'!$A$7:$AC$500,25)","v":0},{"$f":"VLOOKUP(K72,'Standard Labels'!$A$7:$AC$500,27)","v":0},{"$f":"VLOOKUP(K72,'Standard Labels'!$A$7:$AC$500,29)","v":0},71]
[{"$f":"VLOOKUP(K73,'Standard Labels'!$A$7:$AC$500,11)","v":0},{"$f":"VLOOKUP(K73,'Standard Labels'!$A$7:$AC$500,13)","v":0},{"$f":"VLOOKUP(K73,'Standard Labels'!$A$7:$AC$500,15)","v":0},{"$f":"VLOOKUP(K73,'Standard Labels'!$A$7:$AC$500,17)","v":0},{"$f":"VLOOKUP(K73,'Standard Labels'!$A$7:$AC$500,19)","v":0},{"$f":"VLOOKUP(K73,'Standard Labels'!$A$7:$AC$500,21)","v":0},{"$f":"VLOOKUP(K73,'Standard Labels'!$A$7:$AC$500,23)","v":0},{"$f":"VLOOKUP(K73,'Standard Labels'!$A$7:$AC$500,25)","v":0},{"$f":"VLOOKUP(K73,'Standard Labels'!$A$7:$AC$500,27)","v":0},{"$f":"VLOOKUP(K73,'Standard Labels'!$A$7:$AC$500,29)","v":0},72]
[{"$f":"VLOOKUP(K74,'Standard Labels'!$A$7:$AC$500,11)","v":0},{"$f":"VLOOKUP(K74,'Standard Labels'!$A$7:$AC$500,13)","v":0},{"$f":"VLOOKUP(K74,'Standard Labels'!$A$7:$AC$500,15)","v":0},{"$f":"VLOOKUP(K74,'Standard Labels'!$A$7:$AC$500,17)","v":0},{"$f":"VLOOKUP(K74,'Standard Labels'!$A$7:$AC$500,19)","v":0},{"$f":"VLOOKUP(K74,'Standard Labels'!$A$7:$AC$500,21)","v":0},{"$f":"VLOOKUP(K74,'Standard Labels'!$A$7:$AC$500,23)","v":0},{"$f":"VLOOKUP(K74,'Standard Labels'!$A$7:$AC$500,25)","v":0},{"$f":"VLOOKUP(K74,'Standard Labels'!$A$7:$AC$500,27)","v":0},{"$f":"VLOOKUP(K74,'Standard Labels'!$A$7:$AC$500,29)","v":0},73]
[{"$f":"VLOOKUP(K75,'Standard Labels'!$A$7:$AC$500,11)","v":0},{"$f":"VLOOKUP(K75,'Standard Labels'!$A$7:$AC$500,13)","v":0},{"$f":"VLOOKUP(K75,'Standard Labels'!$A$7:$AC$500,15)","v":0},{"$f":"VLOOKUP(K75,'Standard Labels'!$A$7:$AC$500,17)","v":0},{"$f":"VLOOKUP(K75,'Standard Labels'!$A$7:$AC$500,19)","v":0},{"$f":"VLOOKUP(K75,'Standard Labels'!$A$7:$AC$500,21)","v":0},{"$f":"VLOOKUP(K75,'Standard Labels'!$A$7:$AC$500,23)","v":0},{"$f":"VLOOKUP(K75,'Standard Labels'!$A$7:$AC$500,25)","v":0},{"$f":"VLOOKUP(K75,'Standard Labels'!$A$7:$AC$500,27)","v":0},{"$f":"VLOOKUP(K75,'Standard Labels'!$A$7:$AC$500,29)","v":0},74]
[{"$f":"VLOOKUP(K76,'Standard Labels'!$A$7:$AC$500,11)","v":0},{"$f":"VLOOKUP(K76,'Standard Labels'!$A$7:$AC$500,13)","v":0},{"$f":"VLOOKUP(K76,'Standard Labels'!$A$7:$AC$500,15)","v":0},{"$f":"VLOOKUP(K76,'Standard Labels'!$A$7:$AC$500,17)","v":0},{"$f":"VLOOKUP(K76,'Standard Labels'!$A$7:$AC$500,19)","v":0},{"$f":"VLOOKUP(K76,'Standard Labels'!$A$7:$AC$500,21)","v":0},{"$f":"VLOOKUP(K76,'Standard Labels'!$A$7:$AC$500,23)","v":0},{"$f":"VLOOKUP(K76,'Standard Labels'!$A$7:$AC$500,25)","v":0},{"$f":"VLOOKUP(K76,'Standard Labels'!$A$7:$AC$500,27)","v":0},{"$f":"VLOOKUP(K76,'Standard Labels'!$A$7:$AC$500,29)","v":0},75]
[{"$f":"VLOOKUP(K77,'Standard Labels'!$A$7:$AC$500,11)","v":0},{"$f":"VLOOKUP(K77,'Standard Labels'!$A$7:$AC$500,13)","v":0},{"$f":"VLOOKUP(K77,'Standard Labels'!$A$7:$AC$500,15)","v":0},{"$f":"VLOOKUP(K77,'Standard Labels'!$A$7:$AC$500,17)","v":0},{"$f":"VLOOKUP(K77,'Standard Labels'!$A$7:$AC$500,19)","v":0},{"$f":"VLOOKUP(K77,'Standard Labels'!$A$7:$AC$500,21)","v":0},{"$f":"VLOOKUP(K77,'Standard Labels'!$A$7:$AC$500,23)","v":0},{"$f":"VLOOKUP(K77,'Standard Labels'!$A$7:$AC$500,25)","v":0},{"$f":"VLOOKUP(K77,'Standard Labels'!$A$7:$AC$500,27)","v":0},{"$f":"VLOOKUP(K77,'Standard Labels'!$A$7:$AC$500,29)","v":0},76]
[{"$f":"VLOOKUP(K78,'Standard Labels'!$A$7:$AC$500,11)","v":0},{"$f":"VLOOKUP(K78,'Standard Labels'!$A$7:$AC$500,13)","v":0},{"$f":"VLOOKUP(K78,'Standard Labels'!$A$7:$AC$500,15)","v":0},{"$f":"VLOOKUP(K78,'Standard Labels'!$A$7:$AC$500,17)","v":0},{"$f":"VLOOKUP(K78,'Standard Labels'!$A$7:$AC$500,19)","v":0},{"$f":"VLOOKUP(K78,'Standard Labels'!$A$7:$AC$500,21)","v":0},{"$f":"VLOOKUP(K78,'Standard Labels'!$A$7:$AC$500,23)","v":0},{"$f":"VLOOKUP(K78,'Standard Labels'!$A$7:$AC$500,25)","v":0},{"$f":"VLOOKUP(K78,'Standard Labels'!$A$7:$AC$500,27)","v":0},{"$f":"VLOOKUP(K78,'Standard Labels'!$A$7:$AC$500,29)","v":0},77]
[{"$f":"VLOOKUP(K79,'Standard Labels'!$A$7:$AC$500,11)","v":0},{"$f":"VLOOKUP(K79,'Standard Labels'!$A$7:$AC$500,13)","v":0},{"$f":"VLOOKUP(K79,'Standard Labels'!$A$7:$AC$500,15)","v":0},{"$f":"VLOOKUP(K79,'Standard Labels'!$A$7:$AC$500,17)","v":0},{"$f":"VLOOKUP(K79,'Standard Labels'!$A$7:$AC$500,19)","v":0},{"$f":"VLOOKUP(K79,'Standard Labels'!$A$7:$AC$500,21)","v":0},{"$f":"VLOOKUP(K79,'Standard Labels'!$A$7:$AC$500,23)","v":0},{"$f":"VLOOKUP(K79,'Standard Labels'!$A$7:$AC$500,25)","v":0},{"$f":"VLOOKUP(K79,'Standard Labels'!$A$7:$AC$500,27)","v":0},{"$f":"VLOOKUP(K79,'Standard Labels'!$A$7:$AC$500,29)","v":0},78]
[{"$f":"VLOOKUP(K80,'Standard Labels'!$A$7:$AC$500,11)","v":0},{"$f":"VLOOKUP(K80,'Standard Labels'!$A$7:$AC$500,13)","v":0},{"$f":"VLOOKUP(K80,'Standard Labels'!$A$7:$AC$500,15)","v":0},{"$f":"VLOOKUP(K80,'Standard Labels'!$A$7:$AC$500,17)","v":0},{"$f":"VLOOKUP(K80,'Standard Labels'!$A$7:$AC$500,19)","v":0},{"$f":"VLOOKUP(K80,'Standard Labels'!$A$7:$AC$500,21)","v":0},{"$f":"VLOOKUP(K80,'Standard Labels'!$A$7:$AC$500,23)","v":0},{"$f":"VLOOKUP(K80,'Standard Labels'!$A$7:$AC$500,25)","v":0},{"$f":"VLOOKUP(K80,'Standard Labels'!$A$7:$AC$500,27)","v":0},{"$f":"VLOOKUP(K80,'Standard Labels'!$A$7:$AC$500,29)","v":0},79]
[{"$f":"VLOOKUP(K81,'Standard Labels'!$A$7:$AC$500,11)","v":0},{"$f":"VLOOKUP(K81,'Standard Labels'!$A$7:$AC$500,13)","v":0},{"$f":"VLOOKUP(K81,'Standard Labels'!$A$7:$AC$500,15)","v":0},{"$f":"VLOOKUP(K81,'Standard Labels'!$A$7:$AC$500,17)","v":0},{"$f":"VLOOKUP(K81,'Standard Labels'!$A$7:$AC$500,19)","v":0},{"$f":"VLOOKUP(K81,'Standard Labels'!$A$7:$AC$500,21)","v":0},{"$f":"VLOOKUP(K81,'Standard Labels'!$A$7:$AC$500,23)","v":0},{"$f":"VLOOKUP(K81,'Standard Labels'!$A$7:$AC$500,25)","v":0},{"$f":"VLOOKUP(K81,'Standard Labels'!$A$7:$AC$500,27)","v":0},{"$f":"VLOOKUP(K81,'Standard Labels'!$A$7:$AC$500,29)","v":0},80]
[{"$f":"VLOOKUP(K82,'Standard Labels'!$A$7:$AC$500,11)","v":0},{"$f":"VLOOKUP(K82,'Standard Labels'!$A$7:$AC$500,13)","v":0},{"$f":"VLOOKUP(K82,'Standard Labels'!$A$7:$AC$500,15)","v":0},{"$f":"VLOOKUP(K82,'Standard Labels'!$A$7:$AC$500,17)","v":0},{"$f":"VLOOKUP(K82,'Standard Labels'!$A$7:$AC$500,19)","v":0},{"$f":"VLOOKUP(K82,'Standard Labels'!$A$7:$AC$500,21)","v":0},{"$f":"VLOOKUP(K82,'Standard Labels'!$A$7:$AC$500,23)","v":0},{"$f":"VLOOKUP(K82,'Standard Labels'!$A$7:$AC$500,25)","v":0},{"$f":"VLOOKUP(K82,'Standard Labels'!$A$7:$AC$500,27)","v":0},{"$f":"VLOOKUP(K82,'Standard Labels'!$A$7:$AC$500,29)","v":0},81]
[{"$f":"VLOOKUP(K83,'Standard Labels'!$A$7:$AC$500,11)","v":0},{"$f":"VLOOKUP(K83,'Standard Labels'!$A$7:$AC$500,13)","v":0},{"$f":"VLOOKUP(K83,'Standard Labels'!$A$7:$AC$500,15)","v":0},{"$f":"VLOOKUP(K83,'Standard Labels'!$A$7:$AC$500,17)","v":0},{"$f":"VLOOKUP(K83,'Standard Labels'!$A$7:$AC$500,19)","v":0},{"$f":"VLOOKUP(K83,'Standard Labels'!$A$7:$AC$500,21)","v":0},{"$f":"VLOOKUP(K83,'Standard Labels'!$A$7:$AC$500,23)","v":0},{"$f":"VLOOKUP(K83,'Standard Labels'!$A$7:$AC$500,25)","v":0},{"$f":"VLOOKUP(K83,'Standard Labels'!$A$7:$AC$500,27)","v":0},{"$f":"VLOOKUP(K83,'Standard Labels'!$A$7:$AC$500,29)","v":0},82]
[{"$f":"VLOOKUP(K84,'Standard Labels'!$A$7:$AC$500,11)","v":0},{"$f":"VLOOKUP(K84,'Standard Labels'!$A$7:$AC$500,13)","v":0},{"$f":"VLOOKUP(K84,'Standard Labels'!$A$7:$AC$500,15)","v":0},{"$f":"VLOOKUP(K84,'Standard Labels'!$A$7:$AC$500,17)","v":0},{"$f":"VLOOKUP(K84,'Standard Labels'!$A$7:$AC$500,19)","v":0},{"$f":"VLOOKUP(K84,'Standard Labels'!$A$7:$AC$500,21)","v":0},{"$f":"VLOOKUP(K84,'Standard Labels'!$A$7:$AC$500,23)","v":0},{"$f":"VLOOKUP(K84,'Standard Labels'!$A$7:$AC$500,25)","v":0},{"$f":"VLOOKUP(K84,'Standard Labels'!$A$7:$AC$500,27)","v":0},{"$f":"VLOOKUP(K84,'Standard Labels'!$A$7:$AC$500,29)","v":0},83]
[{"$f":"VLOOKUP(K85,'Standard Labels'!$A$7:$AC$500,11)","v":0},{"$f":"VLOOKUP(K85,'Standard Labels'!$A$7:$AC$500,13)","v":0},{"$f":"VLOOKUP(K85,'Standard Labels'!$A$7:$AC$500,15)","v":0},{"$f":"VLOOKUP(K85,'Standard Labels'!$A$7:$AC$500,17)","v":0},{"$f":"VLOOKUP(K85,'Standard Labels'!$A$7:$AC$500,19)","v":0},{"$f":"VLOOKUP(K85,'Standard Labels'!$A$7:$AC$500,21)","v":0},{"$f":"VLOOKUP(K85,'Standard Labels'!$A$7:$AC$500,23)","v":0},{"$f":"VLOOKUP(K85,'Standard Labels'!$A$7:$AC$500,25)","v":0},{"$f":"VLOOKUP(K85,'Standard Labels'!$A$7:$AC$500,27)","v":0},{"$f":"VLOOKUP(K85,'Standard Labels'!$A$7:$AC$500,29)","v":0},84]
[{"$f":"VLOOKUP(K86,'Standard Labels'!$A$7:$AC$500,11)","v":0},{"$f":"VLOOKUP(K86,'Standard Labels'!$A$7:$AC$500,13)","v":0},{"$f":"VLOOKUP(K86,'Standard Labels'!$A$7:$AC$500,15)","v":0},{"$f":"VLOOKUP(K86,'Standard Labels'!$A$7:$AC$500,17)","v":0},{"$f":"VLOOKUP(K86,'Standard Labels'!$A$7:$AC$500,19)","v":0},{"$f":"VLOOKUP(K86,'Standard Labels'!$A$7:$AC$500,21)","v":0},{"$f":"VLOOKUP(K86,'Standard Labels'!$A$7:$AC$500,23)","v":0},{"$f":"VLOOKUP(K86,'Standard Labels'!$A$7:$AC$500,25)","v":0},{"$f":"VLOOKUP(K86,'Standard Labels'!$A$7:$AC$500,27)","v":0},{"$f":"VLOOKUP(K86,'Standard Labels'!$A$7:$AC$500,29)","v":0},85]
[{"$f":"VLOOKUP(K87,'Standard Labels'!$A$7:$AC$500,11)","v":0},{"$f":"VLOOKUP(K87,'Standard Labels'!$A$7:$AC$500,13)","v":0},{"$f":"VLOOKUP(K87,'Standard Labels'!$A$7:$AC$500,15)","v":0},{"$f":"VLOOKUP(K87,'Standard Labels'!$A$7:$AC$500,17)","v":0},{"$f":"VLOOKUP(K87,'Standard Labels'!$A$7:$AC$500,19)","v":0},{"$f":"VLOOKUP(K87,'Standard Labels'!$A$7:$AC$500,21)","v":0},{"$f":"VLOOKUP(K87,'Standard Labels'!$A$7:$AC$500,23)","v":0},{"$f":"VLOOKUP(K87,'Standard Labels'!$A$7:$AC$500,25)","v":0},{"$f":"VLOOKUP(K87,'Standard Labels'!$A$7:$AC$500,27)","v":0},{"$f":"VLOOKUP(K87,'Standard Labels'!$A$7:$AC$500,29)","v":0},86]
[{"$f":"VLOOKUP(K88,'Standard Labels'!$A$7:$AC$500,11)","v":0},{"$f":"VLOOKUP(K88,'Standard Labels'!$A$7:$AC$500,13)","v":0},{"$f":"VLOOKUP(K88,'Standard Labels'!$A$7:$AC$500,15)","v":0},{"$f":"VLOOKUP(K88,'Standard Labels'!$A$7:$AC$500,17)","v":0},{"$f":"VLOOKUP(K88,'Standard Labels'!$A$7:$AC$500,19)","v":0},{"$f":"VLOOKUP(K88,'Standard Labels'!$A$7:$AC$500,21)","v":0},{"$f":"VLOOKUP(K88,'Standard Labels'!$A$7:$AC$500,23)","v":0},{"$f":"VLOOKUP(K88,'Standard Labels'!$A$7:$AC$500,25)","v":0},{"$f":"VLOOKUP(K88,'Standard Labels'!$A$7:$AC$500,27)","v":0},{"$f":"VLOOKUP(K88,'Standard Labels'!$A$7:$AC$500,29)","v":0},87]
[{"$f":"VLOOKUP(K89,'Standard Labels'!$A$7:$AC$500,11)","v":0},{"$f":"VLOOKUP(K89,'Standard Labels'!$A$7:$AC$500,13)","v":0},{"$f":"VLOOKUP(K89,'Standard Labels'!$A$7:$AC$500,15)","v":0},{"$f":"VLOOKUP(K89,'Standard Labels'!$A$7:$AC$500,17)","v":0},{"$f":"VLOOKUP(K89,'Standard Labels'!$A$7:$AC$500,19)","v":0},{"$f":"VLOOKUP(K89,'Standard Labels'!$A$7:$AC$500,21)","v":0},{"$f":"VLOOKUP(K89,'Standard Labels'!$A$7:$AC$500,23)","v":0},{"$f":"VLOOKUP(K89,'Standard Labels'!$A$7:$AC$500,25)","v":0},{"$f":"VLOOKUP(K89,'Standard Labels'!$A$7:$AC$500,27)","v":0},{"$f":"VLOOKUP(K89,'Standard Labels'!$A$7:$AC$500,29)","v":0},88]
[{"$f":"VLOOKUP(K90,'Standard Labels'!$A$7:$AC$500,11)","v":0},{"$f":"VLOOKUP(K90,'Standard Labels'!$A$7:$AC$500,13)","v":0},{"$f":"VLOOKUP(K90,'Standard Labels'!$A$7:$AC$500,15)","v":0},{"$f":"VLOOKUP(K90,'Standard Labels'!$A$7:$AC$500,17)","v":0},{"$f":"VLOOKUP(K90,'Standard Labels'!$A$7:$AC$500,19)","v":0},{"$f":"VLOOKUP(K90,'Standard Labels'!$A$7:$AC$500,21)","v":0},{"$f":"VLOOKUP(K90,'Standard Labels'!$A$7:$AC$500,23)","v":0},{"$f":"VLOOKUP(K90,'Standard Labels'!$A$7:$AC$500,25)","v":0},{"$f":"VLOOKUP(K90,'Standard Labels'!$A$7:$AC$500,27)","v":0},{"$f":"VLOOKUP(K90,'Standard Labels'!$A$7:$AC$500,29)","v":0},89]
[{"$f":"VLOOKUP(K91,'Standard Labels'!$A$7:$AC$500,11)","v":0},{"$f":"VLOOKUP(K91,'Standard Labels'!$A$7:$AC$500,13)","v":0},{"$f":"VLOOKUP(K91,'Standard Labels'!$A$7:$AC$500,15)","v":0},{"$f":"VLOOKUP(K91,'Standard Labels'!$A$7:$AC$500,17)","v":0},{"$f":"VLOOKUP(K91,'Standard Labels'!$A$7:$AC$500,19)","v":0},{"$f":"VLOOKUP(K91,'Standard Labels'!$A$7:$AC$500,21)","v":0},{"$f":"VLOOKUP(K91,'Standard Labels'!$A$7:$AC$500,23)","v":0},{"$f":"VLOOKUP(K91,'Standard Labels'!$A$7:$AC$500,25)","v":0},{"$f":"VLOOKUP(K91,'Standard Labels'!$A$7:$AC$500,27)","v":0},{"$f":"VLOOKUP(K91,'Standard Labels'!$A$7:$AC$500,29)","v":0},90]
[{"$f":"VLOOKUP(K92,'Standard Labels'!$A$7:$AC$500,11)","v":0},{"$f":"VLOOKUP(K92,'Standard Labels'!$A$7:$AC$500,13)","v":0},{"$f":"VLOOKUP(K92,'Standard Labels'!$A$7:$AC$500,15)","v":0},{"$f":"VLOOKUP(K92,'Standard Labels'!$A$7:$AC$500,17)","v":0},{"$f":"VLOOKUP(K92,'Standard Labels'!$A$7:$AC$500,19)","v":0},{"$f":"VLOOKUP(K92,'Standard Labels'!$A$7:$AC$500,21)","v":0},{"$f":"VLOOKUP(K92,'Standard Labels'!$A$7:$AC$500,23)","v":0},{"$f":"VLOOKUP(K92,'Standard Labels'!$A$7:$AC$500,25)","v":0},{"$f":"VLOOKUP(K92,'Standard Labels'!$A$7:$AC$500,27)","v":0},{"$f":"VLOOKUP(K92,'Standard Labels'!$A$7:$AC$500,29)","v":0},91]
[{"$f":"VLOOKUP(K93,'Standard Labels'!$A$7:$AC$500,11)","v":0},{"$f":"VLOOKUP(K93,'Standard Labels'!$A$7:$AC$500,13)","v":0},{"$f":"VLOOKUP(K93,'Standard Labels'!$A$7:$AC$500,15)","v":0},{"$f":"VLOOKUP(K93,'Standard Labels'!$A$7:$AC$500,17)","v":0},{"$f":"VLOOKUP(K93,'Standard Labels'!$A$7:$AC$500,19)","v":0},{"$f":"VLOOKUP(K93,'Standard Labels'!$A$7:$AC$500,21)","v":0},{"$f":"VLOOKUP(K93,'Standard Labels'!$A$7:$AC$500,23)","v":0},{"$f":"VLOOKUP(K93,'Standard Labels'!$A$7:$AC$500,25)","v":0},{"$f":"VLOOKUP(K93,'Standard Labels'!$A$7:$AC$500,27)","v":0},{"$f":"VLOOKUP(K93,'Standard Labels'!$A$7:$AC$500,29)","v":0},92]
[{"$f":"VLOOKUP(K94,'Standard Labels'!$A$7:$AC$500,11)","v":0},{"$f":"VLOOKUP(K94,'Standard Labels'!$A$7:$AC$500,13)","v":0},{"$f":"VLOOKUP(K94,'Standard Labels'!$A$7:$AC$500,15)","v":0},{"$f":"VLOOKUP(K94,'Standard Labels'!$A$7:$AC$500,17)","v":0},{"$f":"VLOOKUP(K94,'Standard Labels'!$A$7:$AC$500,19)","v":0},{"$f":"VLOOKUP(K94,'Standard Labels'!$A$7:$AC$500,21)","v":0},{"$f":"VLOOKUP(K94,'Standard Labels'!$A$7:$AC$500,23)","v":0},{"$f":"VLOOKUP(K94,'Standard Labels'!$A$7:$AC$500,25)","v":0},{"$f":"VLOOKUP(K94,'Standard Labels'!$A$7:$AC$500,27)","v":0},{"$f":"VLOOKUP(K94,'Standard Labels'!$A$7:$AC$500,29)","v":0},93]
[{"$f":"VLOOKUP(K95,'Standard Labels'!$A$7:$AC$500,11)","v":0},{"$f":"VLOOKUP(K95,'Standard Labels'!$A$7:$AC$500,13)","v":0},{"$f":"VLOOKUP(K95,'Standard Labels'!$A$7:$AC$500,15)","v":0},{"$f":"VLOOKUP(K95,'Standard Labels'!$A$7:$AC$500,17)","v":0},{"$f":"VLOOKUP(K95,'Standard Labels'!$A$7:$AC$500,19)","v":0},{"$f":"VLOOKUP(K95,'Standard Labels'!$A$7:$AC$500,21)","v":0},{"$f":"VLOOKUP(K95,'Standard Labels'!$A$7:$AC$500,23)","v":0},{"$f":"VLOOKUP(K95,'Standard Labels'!$A$7:$AC$500,25)","v":0},{"$f":"VLOOKUP(K95,'Standard Labels'!$A$7:$AC$500,27)","v":0},{"$f":"VLOOKUP(K95,'Standard Labels'!$A$7:$AC$500,29)","v":0},94]
[{"$f":"VLOOKUP(K96,'Standard Labels'!$A$7:$AC$500,11)","v":0},{"$f":"VLOOKUP(K96,'Standard Labels'!$A$7:$AC$500,13)","v":0},{"$f":"VLOOKUP(K96,'Standard Labels'!$A$7:$AC$500,15)","v":0},{"$f":"VLOOKUP(K96,'Standard Labels'!$A$7:$AC$500,17)","v":0},{"$f":"VLOOKUP(K96,'Standard Labels'!$A$7:$AC$500,19)","v":0},{"$f":"VLOOKUP(K96,'Standard Labels'!$A$7:$AC$500,21)","v":0},{"$f":"VLOOKUP(K96,'Standard Labels'!$A$7:$AC$500,23)","v":0},{"$f":"VLOOKUP(K96,'Standard Labels'!$A$7:$AC$500,25)","v":0},{"$f":"VLOOKUP(K96,'Standard Labels'!$A$7:$AC$500,27)","v":0},{"$f":"VLOOKUP(K96,'Standard Labels'!$A$7:$AC$500,29)","v":0},95]
[{"$f":"VLOOKUP(K97,'Standard Labels'!$A$7:$AC$500,11)","v":0},{"$f":"VLOOKUP(K97,'Standard Labels'!$A$7:$AC$500,13)","v":0},{"$f":"VLOOKUP(K97,'Standard Labels'!$A$7:$AC$500,15)","v":0},{"$f":"VLOOKUP(K97,'Standard Labels'!$A$7:$AC$500,17)","v":0},{"$f":"VLOOKUP(K97,'Standard Labels'!$A$7:$AC$500,19)","v":0},{"$f":"VLOOKUP(K97,'Standard Labels'!$A$7:$AC$500,21)","v":0},{"$f":"VLOOKUP(K97,'Standard Labels'!$A$7:$AC$500,23)","v":0},{"$f":"VLOOKUP(K97,'Standard Labels'!$A$7:$AC$500,25)","v":0},{"$f":"VLOOKUP(K97,'Standard Labels'!$A$7:$AC$500,27)","v":0},{"$f":"VLOOKUP(K97,'Standard Labels'!$A$7:$AC$500,29)","v":0},96]
[{"$f":"VLOOKUP(K98,'Standard Labels'!$A$7:$AC$500,11)","v":0},{"$f":"VLOOKUP(K98,'Standard Labels'!$A$7:$AC$500,13)","v":0},{"$f":"VLOOKUP(K98,'Standard Labels'!$A$7:$AC$500,15)","v":0},{"$f":"VLOOKUP(K98,'Standard Labels'!$A$7:$AC$500,17)","v":0},{"$f":"VLOOKUP(K98,'Standard Labels'!$A$7:$AC$500,19)","v":0},{"$f":"VLOOKUP(K98,'Standard Labels'!$A$7:$AC$500,21)","v":0},{"$f":"VLOOKUP(K98,'Standard Labels'!$A$7:$AC$500,23)","v":0},{"$f":"VLOOKUP(K98,'Standard Labels'!$A$7:$AC$500,25)","v":0},{"$f":"VLOOKUP(K98,'Standard Labels'!$A$7:$AC$500,27)","v":0},{"$f":"VLOOKUP(K98,'Standard Labels'!$A$7:$AC$500,29)","v":0},97]
[{"$f":"VLOOKUP(K99,'Standard Labels'!$A$7:$AC$500,11)","v":0},{"$f":"VLOOKUP(K99,'Standard Labels'!$A$7:$AC$500,13)","v":0},{"$f":"VLOOKUP(K99,'Standard Labels'!$A$7:$AC$500,15)","v":0},{"$f":"VLOOKUP(K99,'Standard Labels'!$A$7:$AC$500,17)","v":0},{"$f":"VLOOKUP(K99,'Standard Labels'!$A$7:$AC$500,19)","v":0},{"$f":"VLOOKUP(K99,'Standard Labels'!$A$7:$AC$500,21)","v":0},{"$f":"VLOOKUP(K99,'Standard Labels'!$A$7:$AC$500,23)","v":0},{"$f":"VLOOKUP(K99,'Standard Labels'!$A$7:$AC$500,25)","v":0},{"$f":"VLOOKUP(K99,'Standard Labels'!$A$7:$AC$500,27)","v":0},{"$f":"VLOOKUP(K99,'Standard Labels'!$A$7:$AC$500,29)","v":0},98]
[{"$f":"VLOOKUP(K100,'Standard Labels'!$A$7:$AC$500,11)","v":0},{"$f":"VLOOKUP(K100,'Standard Labels'!$A$7:$AC$500,13)","v":0},{"$f":"VLOOKUP(K100,'Standard Labels'!$A$7:$AC$500,15)","v":0},{"$f":"VLOOKUP(K100,'Standard Labels'!$A$7:$AC$500,17)","v":0},{"$f":"VLOOKUP(K100,'Standard Labels'!$A$7:$AC$500,19)","v":0},{"$f":"VLOOKUP(K100,'Standard Labels'!$A$7:$AC$500,21)","v":0},{"$f":"VLOOKUP(K100,'Standard Labels'!$A$7:$AC$500,23)","v":0},{"$f":"VLOOKUP(K100,'Standard Labels'!$A$7:$AC$500,25)","v":0},{"$f":"VLOOKUP(K100,'Standard Labels'!$A$7:$AC$500,27)","v":0},{"$f":"VLOOKUP(K100,'Standard Labels'!$A$7:$AC$500,29)","v":0},99]
[{"$f":"VLOOKUP(K101,'Standard Labels'!$A$7:$AC$500,11)","v":0},{"$f":"VLOOKUP(K101,'Standard Labels'!$A$7:$AC$500,13)","v":0},{"$f":"VLOOKUP(K101,'Standard Labels'!$A$7:$AC$500,15)","v":0},{"$f":"VLOOKUP(K101,'Standard Labels'!$A$7:$AC$500,17)","v":0},{"$f":"VLOOKUP(K101,'Standard Labels'!$A$7:$AC$500,19)","v":0},{"$f":"VLOOKUP(K101,'Standard Labels'!$A$7:$AC$500,21)","v":0},{"$f":"VLOOKUP(K101,'Standard Labels'!$A$7:$AC$500,23)","v":0},{"$f":"VLOOKUP(K101,'Standard Labels'!$A$7:$AC$500,25)","v":0},{"$f":"VLOOKUP(K101,'Standard Labels'!$A$7:$AC$500,27)","v":0},{"$f":"VLOOKUP(K101,'Standard Labels'!$A$7:$AC$500,29)","v":0},100]
[{"$f":"VLOOKUP(K102,'Standard Labels'!$A$7:$AC$500,11)","v":0},{"$f":"VLOOKUP(K102,'Standard Labels'!$A$7:$AC$500,13)","v":0},{"$f":"VLOOKUP(K102,'Standard Labels'!$A$7:$AC$500,15)","v":0},{"$f":"VLOOKUP(K102,'Standard Labels'!$A$7:$AC$500,17)","v":0},{"$f":"VLOOKUP(K102,'Standard Labels'!$A$7:$AC$500,19)","v":0},{"$f":"VLOOKUP(K102,'Standard Labels'!$A$7:$AC$500,21)","v":0},{"$f":"VLOOKUP(K102,'Standard Labels'!$A$7:$AC$500,23)","v":0},{"$f":"VLOOKUP(K102,'Standard Labels'!$A$7:$AC$500,25)","v":0},{"$f":"VLOOKUP(K102,'Standard Labels'!$A$7:$AC$500,27)","v":0},{"$f":"VLOOKUP(K102,'Standard Labels'!$A$7:$AC$500,29)","v":0},101]
[{"$f":"VLOOKUP(K103,'Standard Labels'!$A$7:$AC$500,11)","v":0},{"$f":"VLOOKUP(K103,'Standard Labels'!$A$7:$AC$500,13)","v":0},{"$f":"VLOOKUP(K103,'Standard Labels'!$A$7:$AC$500,15)","v":0},{"$f":"VLOOKUP(K103,'Standard Labels'!$A$7:$AC$500,17)","v":0},{"$f":"VLOOKUP(K103,'Standard Labels'!$A$7:$AC$500,19)","v":0},{"$f":"VLOOKUP(K103,'Standard Labels'!$A$7:$AC$500,21)","v":0},{"$f":"VLOOKUP(K103,'Standard Labels'!$A$7:$AC$500,23)","v":0},{"$f":"VLOOKUP(K103,'Standard Labels'!$A$7:$AC$500,25)","v":0},{"$f":"VLOOKUP(K103,'Standard Labels'!$A$7:$AC$500,27)","v":0},{"$f":"VLOOKUP(K103,'Standard Labels'!$A$7:$AC$500,29)","v":0},102]
[{"$f":"VLOOKUP(K104,'Standard Labels'!$A$7:$AC$500,11)","v":0},{"$f":"VLOOKUP(K104,'Standard Labels'!$A$7:$AC$500,13)","v":0},{"$f":"VLOOKUP(K104,'Standard Labels'!$A$7:$AC$500,15)","v":0},{"$f":"VLOOKUP(K104,'Standard Labels'!$A$7:$AC$500,17)","v":0},{"$f":"VLOOKUP(K104,'Standard Labels'!$A$7:$AC$500,19)","v":0},{"$f":"VLOOKUP(K104,'Standard Labels'!$A$7:$AC$500,21)","v":0},{"$f":"VLOOKUP(K104,'Standard Labels'!$A$7:$AC$500,23)","v":0},{"$f":"VLOOKUP(K104,'Standard Labels'!$A$7:$AC$500,25)","v":0},{"$f":"VLOOKUP(K104,'Standard Labels'!$A$7:$AC$500,27)","v":0},{"$f":"VLOOKUP(K104,'Standard Labels'!$A$7:$AC$500,29)","v":0},103]
[{"$f":"VLOOKUP(K105,'Standard Labels'!$A$7:$AC$500,11)","v":0},{"$f":"VLOOKUP(K105,'Standard Labels'!$A$7:$AC$500,13)","v":0},{"$f":"VLOOKUP(K105,'Standard Labels'!$A$7:$AC$500,15)","v":0},{"$f":"VLOOKUP(K105,'Standard Labels'!$A$7:$AC$500,17)","v":0},{"$f":"VLOOKUP(K105,'Standard Labels'!$A$7:$AC$500,19)","v":0},{"$f":"VLOOKUP(K105,'Standard Labels'!$A$7:$AC$500,21)","v":0},{"$f":"VLOOKUP(K105,'Standard Labels'!$A$7:$AC$500,23)","v":0},{"$f":"VLOOKUP(K105,'Standard Labels'!$A$7:$AC$500,25)","v":0},{"$f":"VLOOKUP(K105,'Standard Labels'!$A$7:$AC$500,27)","v":0},{"$f":"VLOOKUP(K105,'Standard Labels'!$A$7:$AC$500,29)","v":0},104]
[{"$f":"VLOOKUP(K106,'Standard Labels'!$A$7:$AC$500,11)","v":0},{"$f":"VLOOKUP(K106,'Standard Labels'!$A$7:$AC$500,13)","v":0},{"$f":"VLOOKUP(K106,'Standard Labels'!$A$7:$AC$500,15)","v":0},{"$f":"VLOOKUP(K106,'Standard Labels'!$A$7:$AC$500,17)","v":0},{"$f":"VLOOKUP(K106,'Standard Labels'!$A$7:$AC$500,19)","v":0},{"$f":"VLOOKUP(K106,'Standard Labels'!$A$7:$AC$500,21)","v":0},{"$f":"VLOOKUP(K106,'Standard Labels'!$A$7:$AC$500,23)","v":0},{"$f":"VLOOKUP(K106,'Standard Labels'!$A$7:$AC$500,25)","v":0},{"$f":"VLOOKUP(K106,'Standard Labels'!$A$7:$AC$500,27)","v":0},{"$f":"VLOOKUP(K106,'Standard Labels'!$A$7:$AC$500,29)","v":0},105]
[{"$f":"VLOOKUP(K107,'Standard Labels'!$A$7:$AC$500,11)","v":0},{"$f":"VLOOKUP(K107,'Standard Labels'!$A$7:$AC$500,13)","v":0},{"$f":"VLOOKUP(K107,'Standard Labels'!$A$7:$AC$500,15)","v":0},{"$f":"VLOOKUP(K107,'Standard Labels'!$A$7:$AC$500,17)","v":0},{"$f":"VLOOKUP(K107,'Standard Labels'!$A$7:$AC$500,19)","v":0},{"$f":"VLOOKUP(K107,'Standard Labels'!$A$7:$AC$500,21)","v":0},{"$f":"VLOOKUP(K107,'Standard Labels'!$A$7:$AC$500,23)","v":0},{"$f":"VLOOKUP(K107,'Standard Labels'!$A$7:$AC$500,25)","v":0},{"$f":"VLOOKUP(K107,'Standard Labels'!$A$7:$AC$500,27)","v":0},{"$f":"VLOOKUP(K107,'Standard Labels'!$A$7:$AC$500,29)","v":0},106]
[{"$f":"VLOOKUP(K108,'Standard Labels'!$A$7:$AC$500,11)","v":0},{"$f":"VLOOKUP(K108,'Standard Labels'!$A$7:$AC$500,13)","v":0},{"$f":"VLOOKUP(K108,'Standard Labels'!$A$7:$AC$500,15)","v":0},{"$f":"VLOOKUP(K108,'Standard Labels'!$A$7:$AC$500,17)","v":0},{"$f":"VLOOKUP(K108,'Standard Labels'!$A$7:$AC$500,19)","v":0},{"$f":"VLOOKUP(K108,'Standard Labels'!$A$7:$AC$500,21)","v":0},{"$f":"VLOOKUP(K108,'Standard Labels'!$A$7:$AC$500,23)","v":0},{"$f":"VLOOKUP(K108,'Standard Labels'!$A$7:$AC$500,25)","v":0},{"$f":"VLOOKUP(K108,'Standard Labels'!$A$7:$AC$500,27)","v":0},{"$f":"VLOOKUP(K108,'Standard Labels'!$A$7:$AC$500,29)","v":0},107]
[{"$f":"VLOOKUP(K109,'Standard Labels'!$A$7:$AC$500,11)","v":0},{"$f":"VLOOKUP(K109,'Standard Labels'!$A$7:$AC$500,13)","v":0},{"$f":"VLOOKUP(K109,'Standard Labels'!$A$7:$AC$500,15)","v":0},{"$f":"VLOOKUP(K109,'Standard Labels'!$A$7:$AC$500,17)","v":0},{"$f":"VLOOKUP(K109,'Standard Labels'!$A$7:$AC$500,19)","v":0},{"$f":"VLOOKUP(K109,'Standard Labels'!$A$7:$AC$500,21)","v":0},{"$f":"VLOOKUP(K109,'Standard Labels'!$A$7:$AC$500,23)","v":0},{"$f":"VLOOKUP(K109,'Standard Labels'!$A$7:$AC$500,25)","v":0},{"$f":"VLOOKUP(K109,'Standard Labels'!$A$7:$AC$500,27)","v":0},{"$f":"VLOOKUP(K109,'Standard Labels'!$A$7:$AC$500,29)","v":0},108]
[{"$f":"VLOOKUP(K110,'Standard Labels'!$A$7:$AC$500,11)","v":0},{"$f":"VLOOKUP(K110,'Standard Labels'!$A$7:$AC$500,13)","v":0},{"$f":"VLOOKUP(K110,'Standard Labels'!$A$7:$AC$500,15)","v":0},{"$f":"VLOOKUP(K110,'Standard Labels'!$A$7:$AC$500,17)","v":0},{"$f":"VLOOKUP(K110,'Standard Labels'!$A$7:$AC$500,19)","v":0},{"$f":"VLOOKUP(K110,'Standard Labels'!$A$7:$AC$500,21)","v":0},{"$f":"VLOOKUP(K110,'Standard Labels'!$A$7:$AC$500,23)","v":0},{"$f":"VLOOKUP(K110,'Standard Labels'!$A$7:$AC$500,25)","v":0},{"$f":"VLOOKUP(K110,'Standard Labels'!$A$7:$AC$500,27)","v":0},{"$f":"VLOOKUP(K110,'Standard Labels'!$A$7:$AC$500,29)","v":0},109]
[{"$f":"VLOOKUP(K111,'Standard Labels'!$A$7:$AC$500,11)","v":0},{"$f":"VLOOKUP(K111,'Standard Labels'!$A$7:$AC$500,13)","v":0},{"$f":"VLOOKUP(K111,'Standard Labels'!$A$7:$AC$500,15)","v":0},{"$f":"VLOOKUP(K111,'Standard Labels'!$A$7:$AC$500,17)","v":0},{"$f":"VLOOKUP(K111,'Standard Labels'!$A$7:$AC$500,19)","v":0},{"$f":"VLOOKUP(K111,'Standard Labels'!$A$7:$AC$500,21)","v":0},{"$f":"VLOOKUP(K111,'Standard Labels'!$A$7:$AC$500,23)","v":0},{"$f":"VLOOKUP(K111,'Standard Labels'!$A$7:$AC$500,25)","v":0},{"$f":"VLOOKUP(K111,'Standard Labels'!$A$7:$AC$500,27)","v":0},{"$f":"VLOOKUP(K111,'Standard Labels'!$A$7:$AC$500,29)","v":0},110]
[{"$f":"VLOOKUP(K112,'Standard Labels'!$A$7:$AC$500,11)","v":0},{"$f":"VLOOKUP(K112,'Standard Labels'!$A$7:$AC$500,13)","v":0},{"$f":"VLOOKUP(K112,'Standard Labels'!$A$7:$AC$500,15)","v":0},{"$f":"VLOOKUP(K112,'Standard Labels'!$A$7:$AC$500,17)","v":0},{"$f":"VLOOKUP(K112,'Standard Labels'!$A$7:$AC$500,19)","v":0},{"$f":"VLOOKUP(K112,'Standard Labels'!$A$7:$AC$500,21)","v":0},{"$f":"VLOOKUP(K112,'Standard Labels'!$A$7:$AC$500,23)","v":0},{"$f":"VLOOKUP(K112,'Standard Labels'!$A$7:$AC$500,25)","v":0},{"$f":"VLOOKUP(K112,'Standard Labels'!$A$7:$AC$500,27)","v":0},{"$f":"VLOOKUP(K112,'Standard Labels'!$A$7:$AC$500,29)","v":0},111]
[{"$f":"VLOOKUP(K113,'Standard Labels'!$A$7:$AC$500,11)","v":0},{"$f":"VLOOKUP(K113,'Standard Labels'!$A$7:$AC$500,13)","v":0},{"$f":"VLOOKUP(K113,'Standard Labels'!$A$7:$AC$500,15)","v":0},{"$f":"VLOOKUP(K113,'Standard Labels'!$A$7:$AC$500,17)","v":0},{"$f":"VLOOKUP(K113,'Standard Labels'!$A$7:$AC$500,19)","v":0},{"$f":"VLOOKUP(K113,'Standard Labels'!$A$7:$AC$500,21)","v":0},{"$f":"VLOOKUP(K113,'Standard Labels'!$A$7:$AC$500,23)","v":0},{"$f":"VLOOKUP(K113,'Standard Labels'!$A$7:$AC$500,25)","v":0},{"$f":"VLOOKUP(K113,'Standard Labels'!$A$7:$AC$500,27)","v":0},{"$f":"VLOOKUP(K113,'Standard Labels'!$A$7:$AC$500,29)","v":0},112]
[{"$f":"VLOOKUP(K114,'Standard Labels'!$A$7:$AC$500,11)","v":0},{"$f":"VLOOKUP(K114,'Standard Labels'!$A$7:$AC$500,13)","v":0},{"$f":"VLOOKUP(K114,'Standard Labels'!$A$7:$AC$500,15)","v":0},{"$f":"VLOOKUP(K114,'Standard Labels'!$A$7:$AC$500,17)","v":0},{"$f":"VLOOKUP(K114,'Standard Labels'!$A$7:$AC$500,19)","v":0},{"$f":"VLOOKUP(K114,'Standard Labels'!$A$7:$AC$500,21)","v":0},{"$f":"VLOOKUP(K114,'Standard Labels'!$A$7:$AC$500,23)","v":0},{"$f":"VLOOKUP(K114,'Standard Labels'!$A$7:$AC$500,25)","v":0},{"$f":"VLOOKUP(K114,'Standard Labels'!$A$7:$AC$500,27)","v":0},{"$f":"VLOOKUP(K114,'Standard Labels'!$A$7:$AC$500,29)","v":0},113]
[{"$f":"VLOOKUP(K115,'Standard Labels'!$A$7:$AC$500,11)","v":0},{"$f":"VLOOKUP(K115,'Standard Labels'!$A$7:$AC$500,13)","v":0},{"$f":"VLOOKUP(K115,'Standard Labels'!$A$7:$AC$500,15)","v":0},{"$f":"VLOOKUP(K115,'Standard Labels'!$A$7:$AC$500,17)","v":0},{"$f":"VLOOKUP(K115,'Standard Labels'!$A$7:$AC$500,19)","v":0},{"$f":"VLOOKUP(K115,'Standard Labels'!$A$7:$AC$500,21)","v":0},{"$f":"VLOOKUP(K115,'Standard Labels'!$A$7:$AC$500,23)","v":0},{"$f":"VLOOKUP(K115,'Standard Labels'!$A$7:$AC$500,25)","v":0},{"$f":"VLOOKUP(K115,'Standard Labels'!$A$7:$AC$500,27)","v":0},{"$f":"VLOOKUP(K115,'Standard Labels'!$A$7:$AC$500,29)","v":0},114]
[{"$f":"VLOOKUP(K116,'Standard Labels'!$A$7:$AC$500,11)","v":0},{"$f":"VLOOKUP(K116,'Standard Labels'!$A$7:$AC$500,13)","v":0},{"$f":"VLOOKUP(K116,'Standard Labels'!$A$7:$AC$500,15)","v":0},{"$f":"VLOOKUP(K116,'Standard Labels'!$A$7:$AC$500,17)","v":0},{"$f":"VLOOKUP(K116,'Standard Labels'!$A$7:$AC$500,19)","v":0},{"$f":"VLOOKUP(K116,'Standard Labels'!$A$7:$AC$500,21)","v":0},{"$f":"VLOOKUP(K116,'Standard Labels'!$A$7:$AC$500,23)","v":0},{"$f":"VLOOKUP(K116,'Standard Labels'!$A$7:$AC$500,25)","v":0},{"$f":"VLOOKUP(K116,'Standard Labels'!$A$7:$AC$500,27)","v":0},{"$f":"VLOOKUP(K116,'Standard Labels'!$A$7:$AC$500,29)","v":0},115]
[{"$f":"VLOOKUP(K117,'Standard Labels'!$A$7:$AC$500,11)","v":0},{"$f":"VLOOKUP(K117,'Standard Labels'!$A$7:$AC$500,13)","v":0},{"$f":"VLOOKUP(K117,'Standard Labels'!$A$7:$AC$500,15)","v":0},{"$f":"VLOOKUP(K117,'Standard Labels'!$A$7:$AC$500,17)","v":0},{"$f":"VLOOKUP(K117,'Standard Labels'!$A$7:$AC$500,19)","v":0},{"$f":"VLOOKUP(K117,'Standard Labels'!$A$7:$AC$500,21)","v":0},{"$f":"VLOOKUP(K117,'Standard Labels'!$A$7:$AC$500,23)","v":0},{"$f":"VLOOKUP(K117,'Standard Labels'!$A$7:$AC$500,25)","v":0},{"$f":"VLOOKUP(K117,'Standard Labels'!$A$7:$AC$500,27)","v":0},{"$f":"VLOOKUP(K117,'Standard Labels'!$A$7:$AC$500,29)","v":0},116]
[{"$f":"VLOOKUP(K118,'Standard Labels'!$A$7:$AC$500,11)","v":0},{"$f":"VLOOKUP(K118,'Standard Labels'!$A$7:$AC$500,13)","v":0},{"$f":"VLOOKUP(K118,'Standard Labels'!$A$7:$AC$500,15)","v":0},{"$f":"VLOOKUP(K118,'Standard Labels'!$A$7:$AC$500,17)","v":0},{"$f":"VLOOKUP(K118,'Standard Labels'!$A$7:$AC$500,19)","v":0},{"$f":"VLOOKUP(K118,'Standard Labels'!$A$7:$AC$500,21)","v":0},{"$f":"VLOOKUP(K118,'Standard Labels'!$A$7:$AC$500,23)","v":0},{"$f":"VLOOKUP(K118,'Standard Labels'!$A$7:$AC$500,25)","v":0},{"$f":"VLOOKUP(K118,'Standard Labels'!$A$7:$AC$500,27)","v":0},{"$f":"VLOOKUP(K118,'Standard Labels'!$A$7:$AC$500,29)","v":0},117]
[{"$f":"VLOOKUP(K119,'Standard Labels'!$A$7:$AC$500,11)","v":0},{"$f":"VLOOKUP(K119,'Standard Labels'!$A$7:$AC$500,13)","v":0},{"$f":"VLOOKUP(K119,'Standard Labels'!$A$7:$AC$500,15)","v":0},{"$f":"VLOOKUP(K119,'Standard Labels'!$A$7:$AC$500,17)","v":0},{"$f":"VLOOKUP(K119,'Standard Labels'!$A$7:$AC$500,19)","v":0},{"$f":"VLOOKUP(K119,'Standard Labels'!$A$7:$AC$500,21)","v":0},{"$f":"VLOOKUP(K119,'Standard Labels'!$A$7:$AC$500,23)","v":0},{"$f":"VLOOKUP(K119,'Standard Labels'!$A$7:$AC$500,25)","v":0},{"$f":"VLOOKUP(K119,'Standard Labels'!$A$7:$AC$500,27)","v":0},{"$f":"VLOOKUP(K119,'Standard Labels'!$A$7:$AC$500,29)","v":0},118]
[{"$f":"VLOOKUP(K120,'Standard Labels'!$A$7:$AC$500,11)","v":0},{"$f":"VLOOKUP(K120,'Standard Labels'!$A$7:$AC$500,13)","v":0},{"$f":"VLOOKUP(K120,'Standard Labels'!$A$7:$AC$500,15)","v":0},{"$f":"VLOOKUP(K120,'Standard Labels'!$A$7:$AC$500,17)","v":0},{"$f":"VLOOKUP(K120,'Standard Labels'!$A$7:$AC$500,19)","v":0},{"$f":"VLOOKUP(K120,'Standard Labels'!$A$7:$AC$500,21)","v":0},{"$f":"VLOOKUP(K120,'Standard Labels'!$A$7:$AC$500,23)","v":0},{"$f":"VLOOKUP(K120,'Standard Labels'!$A$7:$AC$500,25)","v":0},{"$f":"VLOOKUP(K120,'Standard Labels'!$A$7:$AC$500,27)","v":0},{"$f":"VLOOKUP(K120,'Standard Labels'!$A$7:$AC$500,29)","v":0},119]
[{"$f":"VLOOKUP(K121,'Standard Labels'!$A$7:$AC$500,11)","v":0},{"$f":"VLOOKUP(K121,'Standard Labels'!$A$7:$AC$500,13)","v":0},{"$f":"VLOOKUP(K121,'Standard Labels'!$A$7:$AC$500,15)","v":0},{"$f":"VLOOKUP(K121,'Standard Labels'!$A$7:$AC$500,17)","v":0},{"$f":"VLOOKUP(K121,'Standard Labels'!$A$7:$AC$500,19)","v":0},{"$f":"VLOOKUP(K121,'Standard Labels'!$A$7:$AC$500,21)","v":0},{"$f":"VLOOKUP(K121,'Standard Labels'!$A$7:$AC$500,23)","v":0},{"$f":"VLOOKUP(K121,'Standard Labels'!$A$7:$AC$500,25)","v":0},{"$f":"VLOOKUP(K121,'Standard Labels'!$A$7:$AC$500,27)","v":0},{"$f":"VLOOKUP(K121,'Standard Labels'!$A$7:$AC$500,29)","v":0},120]
[{"$f":"VLOOKUP(K122,'Standard Labels'!$A$7:$AC$500,11)","v":0},{"$f":"VLOOKUP(K122,'Standard Labels'!$A$7:$AC$500,13)","v":0},{"$f":"VLOOKUP(K122,'Standard Labels'!$A$7:$AC$500,15)","v":0},{"$f":"VLOOKUP(K122,'Standard Labels'!$A$7:$AC$500,17)","v":0},{"$f":"VLOOKUP(K122,'Standard Labels'!$A$7:$AC$500,19)","v":0},{"$f":"VLOOKUP(K122,'Standard Labels'!$A$7:$AC$500,21)","v":0},{"$f":"VLOOKUP(K122,'Standard Labels'!$A$7:$AC$500,23)","v":0},{"$f":"VLOOKUP(K122,'Standard Labels'!$A$7:$AC$500,25)","v":0},{"$f":"VLOOKUP(K122,'Standard Labels'!$A$7:$AC$500,27)","v":0},{"$f":"VLOOKUP(K122,'Standard Labels'!$A$7:$AC$500,29)","v":0},121]
[{"$f":"VLOOKUP(K123,'Standard Labels'!$A$7:$AC$500,11)","v":0},{"$f":"VLOOKUP(K123,'Standard Labels'!$A$7:$AC$500,13)","v":0},{"$f":"VLOOKUP(K123,'Standard Labels'!$A$7:$AC$500,15)","v":0},{"$f":"VLOOKUP(K123,'Standard Labels'!$A$7:$AC$500,17)","v":0},{"$f":"VLOOKUP(K123,'Standard Labels'!$A$7:$AC$500,19)","v":0},{"$f":"VLOOKUP(K123,'Standard Labels'!$A$7:$AC$500,21)","v":0},{"$f":"VLOOKUP(K123,'Standard Labels'!$A$7:$AC$500,23)","v":0},{"$f":"VLOOKUP(K123,'Standard Labels'!$A$7:$AC$500,25)","v":0},{"$f":"VLOOKUP(K123,'Standard Labels'!$A$7:$AC$500,27)","v":0},{"$f":"VLOOKUP(K123,'Standard Labels'!$A$7:$AC$500,29)","v":0},122]
[{"$f":"VLOOKUP(K124,'Standard Labels'!$A$7:$AC$500,11)","v":0},{"$f":"VLOOKUP(K124,'Standard Labels'!$A$7:$AC$500,13)","v":0},{"$f":"VLOOKUP(K124,'Standard Labels'!$A$7:$AC$500,15)","v":0},{"$f":"VLOOKUP(K124,'Standard Labels'!$A$7:$AC$500,17)","v":0},{"$f":"VLOOKUP(K124,'Standard Labels'!$A$7:$AC$500,19)","v":0},{"$f":"VLOOKUP(K124,'Standard Labels'!$A$7:$AC$500,21)","v":0},{"$f":"VLOOKUP(K124,'Standard Labels'!$A$7:$AC$500,23)","v":0},{"$f":"VLOOKUP(K124,'Standard Labels'!$A$7:$AC$500,25)","v":0},{"$f":"VLOOKUP(K124,'Standard Labels'!$A$7:$AC$500,27)","v":0},{"$f":"VLOOKUP(K124,'Standard Labels'!$A$7:$AC$500,29)","v":0},123]
[{"$f":"VLOOKUP(K125,'Standard Labels'!$A$7:$AC$500,11)","v":0},{"$f":"VLOOKUP(K125,'Standard Labels'!$A$7:$AC$500,13)","v":0},{"$f":"VLOOKUP(K125,'Standard Labels'!$A$7:$AC$500,15)","v":0},{"$f":"VLOOKUP(K125,'Standard Labels'!$A$7:$AC$500,17)","v":0},{"$f":"VLOOKUP(K125,'Standard Labels'!$A$7:$AC$500,19)","v":0},{"$f":"VLOOKUP(K125,'Standard Labels'!$A$7:$AC$500,21)","v":0},{"$f":"VLOOKUP(K125,'Standard Labels'!$A$7:$AC$500,23)","v":0},{"$f":"VLOOKUP(K125,'Standard Labels'!$A$7:$AC$500,25)","v":0},{"$f":"VLOOKUP(K125,'Standard Labels'!$A$7:$AC$500,27)","v":0},{"$f":"VLOOKUP(K125,'Standard Labels'!$A$7:$AC$500,29)","v":0},124]
[{"$f":"VLOOKUP(K126,'Standard Labels'!$A$7:$AC$500,11)","v":0},{"$f":"VLOOKUP(K126,'Standard Labels'!$A$7:$AC$500,13)","v":0},{"$f":"VLOOKUP(K126,'Standard Labels'!$A$7:$AC$500,15)","v":0},{"$f":"VLOOKUP(K126,'Standard Labels'!$A$7:$AC$500,17)","v":0},{"$f":"VLOOKUP(K126,'Standard Labels'!$A$7:$AC$500,19)","v":0},{"$f":"VLOOKUP(K126,'Standard Labels'!$A$7:$AC$500,21)","v":0},{"$f":"VLOOKUP(K126,'Standard Labels'!$A$7:$AC$500,23)","v":0},{"$f":"VLOOKUP(K126,'Standard Labels'!$A$7:$AC$500,25)","v":0},{"$f":"VLOOKUP(K126,'Standard Labels'!$A$7:$AC$500,27)","v":0},{"$f":"VLOOKUP(K126,'Standard Labels'!$A$7:$AC$500,29)","v":0},125]
[{"$f":"VLOOKUP(K127,'Standard Labels'!$A$7:$AC$500,11)","v":0},{"$f":"VLOOKUP(K127,'Standard Labels'!$A$7:$AC$500,13)","v":0},{"$f":"VLOOKUP(K127,'Standard Labels'!$A$7:$AC$500,15)","v":0},{"$f":"VLOOKUP(K127,'Standard Labels'!$A$7:$AC$500,17)","v":0},{"$f":"VLOOKUP(K127,'Standard Labels'!$A$7:$AC$500,19)","v":0},{"$f":"VLOOKUP(K127,'Standard Labels'!$A$7:$AC$500,21)","v":0},{"$f":"VLOOKUP(K127,'Standard Labels'!$A$7:$AC$500,23)","v":0},{"$f":"VLOOKUP(K127,'Standard Labels'!$A$7:$AC$500,25)","v":0},{"$f":"VLOOKUP(K127,'Standard Labels'!$A$7:$AC$500,27)","v":0},{"$f":"VLOOKUP(K127,'Standard Labels'!$A$7:$AC$500,29)","v":0},126]
[{"$f":"VLOOKUP(K128,'Standard Labels'!$A$7:$AC$500,11)","v":0},{"$f":"VLOOKUP(K128,'Standard Labels'!$A$7:$AC$500,13)","v":0},{"$f":"VLOOKUP(K128,'Standard Labels'!$A$7:$AC$500,15)","v":0},{"$f":"VLOOKUP(K128,'Standard Labels'!$A$7:$AC$500,17)","v":0},{"$f":"VLOOKUP(K128,'Standard Labels'!$A$7:$AC$500,19)","v":0},{"$f":"VLOOKUP(K128,'Standard Labels'!$A$7:$AC$500,21)","v":0},{"$f":"VLOOKUP(K128,'Standard Labels'!$A$7:$AC$500,23)","v":0},{"$f":"VLOOKUP(K128,'Standard Labels'!$A$7:$AC$500,25)","v":0},{"$f":"VLOOKUP(K128,'Standard Labels'!$A$7:$AC$500,27)","v":0},{"$f":"VLOOKUP(K128,'Standard Labels'!$A$7:$AC$500,29)","v":0},127]
[{"$f":"VLOOKUP(K129,'Standard Labels'!$A$7:$AC$500,11)","v":0},{"$f":"VLOOKUP(K129,'Standard Labels'!$A$7:$AC$500,13)","v":0},{"$f":"VLOOKUP(K129,'Standard Labels'!$A$7:$AC$500,15)","v":0},{"$f":"VLOOKUP(K129,'Standard Labels'!$A$7:$AC$500,17)","v":0},{"$f":"VLOOKUP(K129,'Standard Labels'!$A$7:$AC$500,19)","v":0},{"$f":"VLOOKUP(K129,'Standard Labels'!$A$7:$AC$500,21)","v":0},{"$f":"VLOOKUP(K129,'Standard Labels'!$A$7:$AC$500,23)","v":0},{"$f":"VLOOKUP(K129,'Standard Labels'!$A$7:$AC$500,25)","v":0},{"$f":"VLOOKUP(K129,'Standard Labels'!$A$7:$AC$500,27)","v":0},{"$f":"VLOOKUP(K129,'Standard Labels'!$A$7:$AC$500,29)","v":0},128]
[{"$f":"VLOOKUP(K130,'Standard Labels'!$A$7:$AC$500,11)","v":0},{"$f":"VLOOKUP(K130,'Standard Labels'!$A$7:$AC$500,13)","v":0},{"$f":"VLOOKUP(K130,'Standard Labels'!$A$7:$AC$500,15)","v":0},{"$f":"VLOOKUP(K130,'Standard Labels'!$A$7:$AC$500,17)","v":0},{"$f":"VLOOKUP(K130,'Standard Labels'!$A$7:$AC$500,19)","v":0},{"$f":"VLOOKUP(K130,'Standard Labels'!$A$7:$AC$500,21)","v":0},{"$f":"VLOOKUP(K130,'Standard Labels'!$A$7:$AC$500,23)","v":0},{"$f":"VLOOKUP(K130,'Standard Labels'!$A$7:$AC$500,25)","v":0},{"$f":"VLOOKUP(K130,'Standard Labels'!$A$7:$AC$500,27)","v":0},{"$f":"VLOOKUP(K130,'Standard Labels'!$A$7:$AC$500,29)","v":0},129]
[{"$f":"VLOOKUP(K131,'Standard Labels'!$A$7:$AC$500,11)","v":0},{"$f":"VLOOKUP(K131,'Standard Labels'!$A$7:$AC$500,13)","v":0},{"$f":"VLOOKUP(K131,'Standard Labels'!$A$7:$AC$500,15)","v":0},{"$f":"VLOOKUP(K131,'Standard Labels'!$A$7:$AC$500,17)","v":0},{"$f":"VLOOKUP(K131,'Standard Labels'!$A$7:$AC$500,19)","v":0},{"$f":"VLOOKUP(K131,'Standard Labels'!$A$7:$AC$500,21)","v":0},{"$f":"VLOOKUP(K131,'Standard Labels'!$A$7:$AC$500,23)","v":0},{"$f":"VLOOKUP(K131,'Standard Labels'!$A$7:$AC$500,25)","v":0},{"$f":"VLOOKUP(K131,'Standard Labels'!$A$7:$AC$500,27)","v":0},{"$f":"VLOOKUP(K131,'Standard Labels'!$A$7:$AC$500,29)","v":0},130]
[{"$f":"VLOOKUP(K132,'Standard Labels'!$A$7:$AC$500,11)","v":0},{"$f":"VLOOKUP(K132,'Standard Labels'!$A$7:$AC$500,13)","v":0},{"$f":"VLOOKUP(K132,'Standard Labels'!$A$7:$AC$500,15)","v":0},{"$f":"VLOOKUP(K132,'Standard Labels'!$A$7:$AC$500,17)","v":0},{"$f":"VLOOKUP(K132,'Standard Labels'!$A$7:$AC$500,19)","v":0},{"$f":"VLOOKUP(K132,'Standard Labels'!$A$7:$AC$500,21)","v":0},{"$f":"VLOOKUP(K132,'Standard Labels'!$A$7:$AC$500,23)","v":0},{"$f":"VLOOKUP(K132,'Standard Labels'!$A$7:$AC$500,25)","v":0},{"$f":"VLOOKUP(K132,'Standard Labels'!$A$7:$AC$500,27)","v":0},{"$f":"VLOOKUP(K132,'Standard Labels'!$A$7:$AC$500,29)","v":0},131]
[{"$f":"VLOOKUP(K133,'Standard Labels'!$A$7:$AC$500,11)","v":0},{"$f":"VLOOKUP(K133,'Standard Labels'!$A$7:$AC$500,13)","v":0},{"$f":"VLOOKUP(K133,'Standard Labels'!$A$7:$AC$500,15)","v":0},{"$f":"VLOOKUP(K133,'Standard Labels'!$A$7:$AC$500,17)","v":0},{"$f":"VLOOKUP(K133,'Standard Labels'!$A$7:$AC$500,19)","v":0},{"$f":"VLOOKUP(K133,'Standard Labels'!$A$7:$AC$500,21)","v":0},{"$f":"VLOOKUP(K133,'Standard Labels'!$A$7:$AC$500,23)","v":0},{"$f":"VLOOKUP(K133,'Standard Labels'!$A$7:$AC$500,25)","v":0},{"$f":"VLOOKUP(K133,'Standard Labels'!$A$7:$AC$500,27)","v":0},{"$f":"VLOOKUP(K133,'Standard Labels'!$A$7:$AC$500,29)","v":0},132]
[{"$f":"VLOOKUP(K134,'Standard Labels'!$A$7:$AC$500,11)","v":0},{"$f":"VLOOKUP(K134,'Standard Labels'!$A$7:$AC$500,13)","v":0},{"$f":"VLOOKUP(K134,'Standard Labels'!$A$7:$AC$500,15)","v":0},{"$f":"VLOOKUP(K134,'Standard Labels'!$A$7:$AC$500,17)","v":0},{"$f":"VLOOKUP(K134,'Standard Labels'!$A$7:$AC$500,19)","v":0},{"$f":"VLOOKUP(K134,'Standard Labels'!$A$7:$AC$500,21)","v":0},{"$f":"VLOOKUP(K134,'Standard Labels'!$A$7:$AC$500,23)","v":0},{"$f":"VLOOKUP(K134,'Standard Labels'!$A$7:$AC$500,25)","v":0},{"$f":"VLOOKUP(K134,'Standard Labels'!$A$7:$AC$500,27)","v":0},{"$f":"VLOOKUP(K134,'Standard Labels'!$A$7:$AC$500,29)","v":0},133]
[{"$f":"VLOOKUP(K135,'Standard Labels'!$A$7:$AC$500,11)","v":0},{"$f":"VLOOKUP(K135,'Standard Labels'!$A$7:$AC$500,13)","v":0},{"$f":"VLOOKUP(K135,'Standard Labels'!$A$7:$AC$500,15)","v":0},{"$f":"VLOOKUP(K135,'Standard Labels'!$A$7:$AC$500,17)","v":0},{"$f":"VLOOKUP(K135,'Standard Labels'!$A$7:$AC$500,19)","v":0},{"$f":"VLOOKUP(K135,'Standard Labels'!$A$7:$AC$500,21)","v":0},{"$f":"VLOOKUP(K135,'Standard Labels'!$A$7:$AC$500,23)","v":0},{"$f":"VLOOKUP(K135,'Standard Labels'!$A$7:$AC$500,25)","v":0},{"$f":"VLOOKUP(K135,'Standard Labels'!$A$7:$AC$500,27)","v":0},{"$f":"VLOOKUP(K135,'Standard Labels'!$A$7:$AC$500,29)","v":0},134]
[{"$f":"VLOOKUP(K136,'Standard Labels'!$A$7:$AC$500,11)","v":0},{"$f":"VLOOKUP(K136,'Standard Labels'!$A$7:$AC$500,13)","v":0},{"$f":"VLOOKUP(K136,'Standard Labels'!$A$7:$AC$500,15)","v":0},{"$f":"VLOOKUP(K136,'Standard Labels'!$A$7:$AC$500,17)","v":0},{"$f":"VLOOKUP(K136,'Standard Labels'!$A$7:$AC$500,19)","v":0},{"$f":"VLOOKUP(K136,'Standard Labels'!$A$7:$AC$500,21)","v":0},{"$f":"VLOOKUP(K136,'Standard Labels'!$A$7:$AC$500,23)","v":0},{"$f":"VLOOKUP(K136,'Standard Labels'!$A$7:$AC$500,25)","v":0},{"$f":"VLOOKUP(K136,'Standard Labels'!$A$7:$AC$500,27)","v":0},{"$f":"VLOOKUP(K136,'Standard Labels'!$A$7:$AC$500,29)","v":0},135]
[{"$f":"VLOOKUP(K137,'Standard Labels'!$A$7:$AC$500,11)","v":0},{"$f":"VLOOKUP(K137,'Standard Labels'!$A$7:$AC$500,13)","v":0},{"$f":"VLOOKUP(K137,'Standard Labels'!$A$7:$AC$500,15)","v":0},{"$f":"VLOOKUP(K137,'Standard Labels'!$A$7:$AC$500,17)","v":0},{"$f":"VLOOKUP(K137,'Standard Labels'!$A$7:$AC$500,19)","v":0},{"$f":"VLOOKUP(K137,'Standard Labels'!$A$7:$AC$500,21)","v":0},{"$f":"VLOOKUP(K137,'Standard Labels'!$A$7:$AC$500,23)","v":0},{"$f":"VLOOKUP(K137,'Standard Labels'!$A$7:$AC$500,25)","v":0},{"$f":"VLOOKUP(K137,'Standard Labels'!$A$7:$AC$500,27)","v":0},{"$f":"VLOOKUP(K137,'Standard Labels'!$A$7:$AC$500,29)","v":0},136]
[{"$f":"VLOOKUP(K138,'Standard Labels'!$A$7:$AC$500,11)","v":0},{"$f":"VLOOKUP(K138,'Standard Labels'!$A$7:$AC$500,13)","v":0},{"$f":"VLOOKUP(K138,'Standard Labels'!$A$7:$AC$500,15)","v":0},{"$f":"VLOOKUP(K138,'Standard Labels'!$A$7:$AC$500,17)","v":0},{"$f":"VLOOKUP(K138,'Standard Labels'!$A$7:$AC$500,19)","v":0},{"$f":"VLOOKUP(K138,'Standard Labels'!$A$7:$AC$500,21)","v":0},{"$f":"VLOOKUP(K138,'Standard Labels'!$A$7:$AC$500,23)","v":0},{"$f":"VLOOKUP(K138,'Standard Labels'!$A$7:$AC$500,25)","v":0},{"$f":"VLOOKUP(K138,'Standard Labels'!$A$7:$AC$500,27)","v":0},{"$f":"VLOOKUP(K138,'Standard Labels'!$A$7:$AC$500,29)","v":0},137]
[{"$f":"VLOOKUP(K139,'Standard Labels'!$A$7:$AC$500,11)","v":0},{"$f":"VLOOKUP(K139,'Standard Labels'!$A$7:$AC$500,13)","v":0},{"$f":"VLOOKUP(K139,'Standard Labels'!$A$7:$AC$500,15)","v":0},{"$f":"VLOOKUP(K139,'Standard Labels'!$A$7:$AC$500,17)","v":0},{"$f":"VLOOKUP(K139,'Standard Labels'!$A$7:$AC$500,19)","v":0},{"$f":"VLOOKUP(K139,'Standard Labels'!$A$7:$AC$500,21)","v":0},{"$f":"VLOOKUP(K139,'Standard Labels'!$A$7:$AC$500,23)","v":0},{"$f":"VLOOKUP(K139,'Standard Labels'!$A$7:$AC$500,25)","v":0},{"$f":"VLOOKUP(K139,'Standard Labels'!$A$7:$AC$500,27)","v":0},{"$f":"VLOOKUP(K139,'Standard Labels'!$A$7:$AC$500,29)","v":0},138]
[{"$f":"VLOOKUP(K140,'Standard Labels'!$A$7:$AC$500,11)","v":0},{"$f":"VLOOKUP(K140,'Standard Labels'!$A$7:$AC$500,13)","v":0},{"$f":"VLOOKUP(K140,'Standard Labels'!$A$7:$AC$500,15)","v":0},{"$f":"VLOOKUP(K140,'Standard Labels'!$A$7:$AC$500,17)","v":0},{"$f":"VLOOKUP(K140,'Standard Labels'!$A$7:$AC$500,19)","v":0},{"$f":"VLOOKUP(K140,'Standard Labels'!$A$7:$AC$500,21)","v":0},{"$f":"VLOOKUP(K140,'Standard Labels'!$A$7:$AC$500,23)","v":0},{"$f":"VLOOKUP(K140,'Standard Labels'!$A$7:$AC$500,25)","v":0},{"$f":"VLOOKUP(K140,'Standard Labels'!$A$7:$AC$500,27)","v":0},{"$f":"VLOOKUP(K140,'Standard Labels'!$A$7:$AC$500,29)","v":0},139]
[{"$f":"VLOOKUP(K141,'Standard Labels'!$A$7:$AC$500,11)","v":0},{"$f":"VLOOKUP(K141,'Standard Labels'!$A$7:$AC$500,13)","v":0},{"$f":"VLOOKUP(K141,'Standard Labels'!$A$7:$AC$500,15)","v":0},{"$f":"VLOOKUP(K141,'Standard Labels'!$A$7:$AC$500,17)","v":0},{"$f":"VLOOKUP(K141,'Standard Labels'!$A$7:$AC$500,19)","v":0},{"$f":"VLOOKUP(K141,'Standard Labels'!$A$7:$AC$500,21)","v":0},{"$f":"VLOOKUP(K141,'Standard Labels'!$A$7:$AC$500,23)","v":0},{"$f":"VLOOKUP(K141,'Standard Labels'!$A$7:$AC$500,25)","v":0},{"$f":"VLOOKUP(K141,'Standard Labels'!$A$7:$AC$500,27)","v":0},{"$f":"VLOOKUP(K141,'Standard Labels'!$A$7:$AC$500,29)","v":0},140]
[{"$f":"VLOOKUP(K142,'Standard Labels'!$A$7:$AC$500,11)","v":0},{"$f":"VLOOKUP(K142,'Standard Labels'!$A$7:$AC$500,13)","v":0},{"$f":"VLOOKUP(K142,'Standard Labels'!$A$7:$AC$500,15)","v":0},{"$f":"VLOOKUP(K142,'Standard Labels'!$A$7:$AC$500,17)","v":0},{"$f":"VLOOKUP(K142,'Standard Labels'!$A$7:$AC$500,19)","v":0},{"$f":"VLOOKUP(K142,'Standard Labels'!$A$7:$AC$500,21)","v":0},{"$f":"VLOOKUP(K142,'Standard Labels'!$A$7:$AC$500,23)","v":0},{"$f":"VLOOKUP(K142,'Standard Labels'!$A$7:$AC$500,25)","v":0},{"$f":"VLOOKUP(K142,'Standard Labels'!$A$7:$AC$500,27)","v":0},{"$f":"VLOOKUP(K142,'Standard Labels'!$A$7:$AC$500,29)","v":0},141]
[{"$f":"VLOOKUP(K143,'Standard Labels'!$A$7:$AC$500,11)","v":0},{"$f":"VLOOKUP(K143,'Standard Labels'!$A$7:$AC$500,13)","v":0},{"$f":"VLOOKUP(K143,'Standard Labels'!$A$7:$AC$500,15)","v":0},{"$f":"VLOOKUP(K143,'Standard Labels'!$A$7:$AC$500,17)","v":0},{"$f":"VLOOKUP(K143,'Standard Labels'!$A$7:$AC$500,19)","v":0},{"$f":"VLOOKUP(K143,'Standard Labels'!$A$7:$AC$500,21)","v":0},{"$f":"VLOOKUP(K143,'Standard Labels'!$A$7:$AC$500,23)","v":0},{"$f":"VLOOKUP(K143,'Standard Labels'!$A$7:$AC$500,25)","v":0},{"$f":"VLOOKUP(K143,'Standard Labels'!$A$7:$AC$500,27)","v":0},{"$f":"VLOOKUP(K143,'Standard Labels'!$A$7:$AC$500,29)","v":0},142]
[{"$f":"VLOOKUP(K144,'Standard Labels'!$A$7:$AC$500,11)","v":0},{"$f":"VLOOKUP(K144,'Standard Labels'!$A$7:$AC$500,13)","v":0},{"$f":"VLOOKUP(K144,'Standard Labels'!$A$7:$AC$500,15)","v":0},{"$f":"VLOOKUP(K144,'Standard Labels'!$A$7:$AC$500,17)","v":0},{"$f":"VLOOKUP(K144,'Standard Labels'!$A$7:$AC$500,19)","v":0},{"$f":"VLOOKUP(K144,'Standard Labels'!$A$7:$AC$500,21)","v":0},{"$f":"VLOOKUP(K144,'Standard Labels'!$A$7:$AC$500,23)","v":0},{"$f":"VLOOKUP(K144,'Standard Labels'!$A$7:$AC$500,25)","v":0},{"$f":"VLOOKUP(K144,'Standard Labels'!$A$7:$AC$500,27)","v":0},{"$f":"VLOOKUP(K144,'Standard Labels'!$A$7:$AC$500,29)","v":0},143]
[{"$f":"VLOOKUP(K145,'Standard Labels'!$A$7:$AC$500,11)","v":0},{"$f":"VLOOKUP(K145,'Standard Labels'!$A$7:$AC$500,13)","v":0},{"$f":"VLOOKUP(K145,'Standard Labels'!$A$7:$AC$500,15)","v":0},{"$f":"VLOOKUP(K145,'Standard Labels'!$A$7:$AC$500,17)","v":0},{"$f":"VLOOKUP(K145,'Standard Labels'!$A$7:$AC$500,19)","v":0},{"$f":"VLOOKUP(K145,'Standard Labels'!$A$7:$AC$500,21)","v":0},{"$f":"VLOOKUP(K145,'Standard Labels'!$A$7:$AC$500,23)","v":0},{"$f":"VLOOKUP(K145,'Standard Labels'!$A$7:$AC$500,25)","v":0},{"$f":"VLOOKUP(K145,'Standard Labels'!$A$7:$AC$500,27)","v":0},{"$f":"VLOOKUP(K145,'Standard Labels'!$A$7:$AC$500,29)","v":0},144]
[{"$f":"VLOOKUP(K146,'Standard Labels'!$A$7:$AC$500,11)","v":0},{"$f":"VLOOKUP(K146,'Standard Labels'!$A$7:$AC$500,13)","v":0},{"$f":"VLOOKUP(K146,'Standard Labels'!$A$7:$AC$500,15)","v":0},{"$f":"VLOOKUP(K146,'Standard Labels'!$A$7:$AC$500,17)","v":0},{"$f":"VLOOKUP(K146,'Standard Labels'!$A$7:$AC$500,19)","v":0},{"$f":"VLOOKUP(K146,'Standard Labels'!$A$7:$AC$500,21)","v":0},{"$f":"VLOOKUP(K146,'Standard Labels'!$A$7:$AC$500,23)","v":0},{"$f":"VLOOKUP(K146,'Standard Labels'!$A$7:$AC$500,25)","v":0},{"$f":"VLOOKUP(K146,'Standard Labels'!$A$7:$AC$500,27)","v":0},{"$f":"VLOOKUP(K146,'Standard Labels'!$A$7:$AC$500,29)","v":0},145]
[{"$f":"VLOOKUP(K147,'Standard Labels'!$A$7:$AC$500,11)","v":0},{"$f":"VLOOKUP(K147,'Standard Labels'!$A$7:$AC$500,13)","v":0},{"$f":"VLOOKUP(K147,'Standard Labels'!$A$7:$AC$500,15)","v":0},{"$f":"VLOOKUP(K147,'Standard Labels'!$A$7:$AC$500,17)","v":0},{"$f":"VLOOKUP(K147,'Standard Labels'!$A$7:$AC$500,19)","v":0},{"$f":"VLOOKUP(K147,'Standard Labels'!$A$7:$AC$500,21)","v":0},{"$f":"VLOOKUP(K147,'Standard Labels'!$A$7:$AC$500,23)","v":0},{"$f":"VLOOKUP(K147,'Standard Labels'!$A$7:$AC$500,25)","v":0},{"$f":"VLOOKUP(K147,'Standard Labels'!$A$7:$AC$500,27)","v":0},{"$f":"VLOOKUP(K147,'Standard Labels'!$A$7:$AC$500,29)","v":0},146]
[{"$f":"VLOOKUP(K148,'Standard Labels'!$A$7:$AC$500,11)","v":0},{"$f":"VLOOKUP(K148,'Standard Labels'!$A$7:$AC$500,13)","v":0},{"$f":"VLOOKUP(K148,'Standard Labels'!$A$7:$AC$500,15)","v":0},{"$f":"VLOOKUP(K148,'Standard Labels'!$A$7:$AC$500,17)","v":0},{"$f":"VLOOKUP(K148,'Standard Labels'!$A$7:$AC$500,19)","v":0},{"$f":"VLOOKUP(K148,'Standard Labels'!$A$7:$AC$500,21)","v":0},{"$f":"VLOOKUP(K148,'Standard Labels'!$A$7:$AC$500,23)","v":0},{"$f":"VLOOKUP(K148,'Standard Labels'!$A$7:$AC$500,25)","v":0},{"$f":"VLOOKUP(K148,'Standard Labels'!$A$7:$AC$500,27)","v":0},{"$f":"VLOOKUP(K148,'Standard Labels'!$A$7:$AC$500,29)","v":0},147]
[{"$f":"VLOOKUP(K149,'Standard Labels'!$A$7:$AC$500,11)","v":0},{"$f":"VLOOKUP(K149,'Standard Labels'!$A$7:$AC$500,13)","v":0},{"$f":"VLOOKUP(K149,'Standard Labels'!$A$7:$AC$500,15)","v":0},{"$f":"VLOOKUP(K149,'Standard Labels'!$A$7:$AC$500,17)","v":0},{"$f":"VLOOKUP(K149,'Standard Labels'!$A$7:$AC$500,19)","v":0},{"$f":"VLOOKUP(K149,'Standard Labels'!$A$7:$AC$500,21)","v":0},{"$f":"VLOOKUP(K149,'Standard Labels'!$A$7:$AC$500,23)","v":0},{"$f":"VLOOKUP(K149,'Standard Labels'!$A$7:$AC$500,25)","v":0},{"$f":"VLOOKUP(K149,'Standard Labels'!$A$7:$AC$500,27)","v":0},{"$f":"VLOOKUP(K149,'Standard Labels'!$A$7:$AC$500,29)","v":0},148]
[{"$f":"VLOOKUP(K150,'Standard Labels'!$A$7:$AC$500,11)","v":0},{"$f":"VLOOKUP(K150,'Standard Labels'!$A$7:$AC$500,13)","v":0},{"$f":"VLOOKUP(K150,'Standard Labels'!$A$7:$AC$500,15)","v":0},{"$f":"VLOOKUP(K150,'Standard Labels'!$A$7:$AC$500,17)","v":0},{"$f":"VLOOKUP(K150,'Standard Labels'!$A$7:$AC$500,19)","v":0},{"$f":"VLOOKUP(K150,'Standard Labels'!$A$7:$AC$500,21)","v":0},{"$f":"VLOOKUP(K150,'Standard Labels'!$A$7:$AC$500,23)","v":0},{"$f":"VLOOKUP(K150,'Standard Labels'!$A$7:$AC$500,25)","v":0},{"$f":"VLOOKUP(K150,'Standard Labels'!$A$7:$AC$500,27)","v":0},{"$f":"VLOOKUP(K150,'Standard Labels'!$A$7:$AC$500,29)","v":0},149]
[{"$f":"VLOOKUP(K151,'Standard Labels'!$A$7:$AC$500,11)","v":0},{"$f":"VLOOKUP(K151,'Standard Labels'!$A$7:$AC$500,13)","v":0},{"$f":"VLOOKUP(K151,'Standard Labels'!$A$7:$AC$500,15)","v":0},{"$f":"VLOOKUP(K151,'Standard Labels'!$A$7:$AC$500,17)","v":0},{"$f":"VLOOKUP(K151,'Standard Labels'!$A$7:$AC$500,19)","v":0},{"$f":"VLOOKUP(K151,'Standard Labels'!$A$7:$AC$500,21)","v":0},{"$f":"VLOOKUP(K151,'Standard Labels'!$A$7:$AC$500,23)","v":0},{"$f":"VLOOKUP(K151,'Standard Labels'!$A$7:$AC$500,25)","v":0},{"$f":"VLOOKUP(K151,'Standard Labels'!$A$7:$AC$500,27)","v":0},{"$f":"VLOOKUP(K151,'Standard Labels'!$A$7:$AC$500,29)","v":0},150]
[{"$f":"VLOOKUP(K152,'Standard Labels'!$A$7:$AC$500,11)","v":0},{"$f":"VLOOKUP(K152,'Standard Labels'!$A$7:$AC$500,13)","v":0},{"$f":"VLOOKUP(K152,'Standard Labels'!$A$7:$AC$500,15)","v":0},{"$f":"VLOOKUP(K152,'Standard Labels'!$A$7:$AC$500,17)","v":0},{"$f":"VLOOKUP(K152,'Standard Labels'!$A$7:$AC$500,19)","v":0},{"$f":"VLOOKUP(K152,'Standard Labels'!$A$7:$AC$500,21)","v":0},{"$f":"VLOOKUP(K152,'Standard Labels'!$A$7:$AC$500,23)","v":0},{"$f":"VLOOKUP(K152,'Standard Labels'!$A$7:$AC$500,25)","v":0},{"$f":"VLOOKUP(K152,'Standard Labels'!$A$7:$AC$500,27)","v":0},{"$f":"VLOOKUP(K152,'Standard Labels'!$A$7:$AC$500,29)","v":0},151]
[{"$f":"VLOOKUP(K153,'Standard Labels'!$A$7:$AC$500,11)","v":0},{"$f":"VLOOKUP(K153,'Standard Labels'!$A$7:$AC$500,13)","v":0},{"$f":"VLOOKUP(K153,'Standard Labels'!$A$7:$AC$500,15)","v":0},{"$f":"VLOOKUP(K153,'Standard Labels'!$A$7:$AC$500,17)","v":0},{"$f":"VLOOKUP(K153,'Standard Labels'!$A$7:$AC$500,19)","v":0},{"$f":"VLOOKUP(K153,'Standard Labels'!$A$7:$AC$500,21)","v":0},{"$f":"VLOOKUP(K153,'Standard Labels'!$A$7:$AC$500,23)","v":0},{"$f":"VLOOKUP(K153,'Standard Labels'!$A$7:$AC$500,25)","v":0},{"$f":"VLOOKUP(K153,'Standard Labels'!$A$7:$AC$500,27)","v":0},{"$f":"VLOOKUP(K153,'Standard Labels'!$A$7:$AC$500,29)","v":0},152]
[{"$f":"VLOOKUP(K154,'Standard Labels'!$A$7:$AC$500,11)","v":0},{"$f":"VLOOKUP(K154,'Standard Labels'!$A$7:$AC$500,13)","v":0},{"$f":"VLOOKUP(K154,'Standard Labels'!$A$7:$AC$500,15)","v":0},{"$f":"VLOOKUP(K154,'Standard Labels'!$A$7:$AC$500,17)","v":0},{"$f":"VLOOKUP(K154,'Standard Labels'!$A$7:$AC$500,19)","v":0},{"$f":"VLOOKUP(K154,'Standard Labels'!$A$7:$AC$500,21)","v":0},{"$f":"VLOOKUP(K154,'Standard Labels'!$A$7:$AC$500,23)","v":0},{"$f":"VLOOKUP(K154,'Standard Labels'!$A$7:$AC$500,25)","v":0},{"$f":"VLOOKUP(K154,'Standard Labels'!$A$7:$AC$500,27)","v":0},{"$f":"VLOOKUP(K154,'Standard Labels'!$A$7:$AC$500,29)","v":0},153]
[{"$f":"VLOOKUP(K155,'Standard Labels'!$A$7:$AC$500,11)","v":0},{"$f":"VLOOKUP(K155,'Standard Labels'!$A$7:$AC$500,13)","v":0},{"$f":"VLOOKUP(K155,'Standard Labels'!$A$7:$AC$500,15)","v":0},{"$f":"VLOOKUP(K155,'Standard Labels'!$A$7:$AC$500,17)","v":0},{"$f":"VLOOKUP(K155,'Standard Labels'!$A$7:$AC$500,19)","v":0},{"$f":"VLOOKUP(K155,'Standard Labels'!$A$7:$AC$500,21)","v":0},{"$f":"VLOOKUP(K155,'Standard Labels'!$A$7:$AC$500,23)","v":0},{"$f":"VLOOKUP(K155,'Standard Labels'!$A$7:$AC$500,25)","v":0},{"$f":"VLOOKUP(K155,'Standard Labels'!$A$7:$AC$500,27)","v":0},{"$f":"VLOOKUP(K155,'Standard Labels'!$A$7:$AC$500,29)","v":0},154]
[{"$f":"VLOOKUP(K156,'Standard Labels'!$A$7:$AC$500,11)","v":0},{"$f":"VLOOKUP(K156,'Standard Labels'!$A$7:$AC$500,13)","v":0},{"$f":"VLOOKUP(K156,'Standard Labels'!$A$7:$AC$500,15)","v":0},{"$f":"VLOOKUP(K156,'Standard Labels'!$A$7:$AC$500,17)","v":0},{"$f":"VLOOKUP(K156,'Standard Labels'!$A$7:$AC$500,19)","v":0},{"$f":"VLOOKUP(K156,'Standard Labels'!$A$7:$AC$500,21)","v":0},{"$f":"VLOOKUP(K156,'Standard Labels'!$A$7:$AC$500,23)","v":0},{"$f":"VLOOKUP(K156,'Standard Labels'!$A$7:$AC$500,25)","v":0},{"$f":"VLOOKUP(K156,'Standard Labels'!$A$7:$AC$500,27)","v":0},{"$f":"VLOOKUP(K156,'Standard Labels'!$A$7:$AC$500,29)","v":0},155]
[{"$f":"VLOOKUP(K157,'Standard Labels'!$A$7:$AC$500,11)","v":0},{"$f":"VLOOKUP(K157,'Standard Labels'!$A$7:$AC$500,13)","v":0},{"$f":"VLOOKUP(K157,'Standard Labels'!$A$7:$AC$500,15)","v":0},{"$f":"VLOOKUP(K157,'Standard Labels'!$A$7:$AC$500,17)","v":0},{"$f":"VLOOKUP(K157,'Standard Labels'!$A$7:$AC$500,19)","v":0},{"$f":"VLOOKUP(K157,'Standard Labels'!$A$7:$AC$500,21)","v":0},{"$f":"VLOOKUP(K157,'Standard Labels'!$A$7:$AC$500,23)","v":0},{"$f":"VLOOKUP(K157,'Standard Labels'!$A$7:$AC$500,25)","v":0},{"$f":"VLOOKUP(K157,'Standard Labels'!$A$7:$AC$500,27)","v":0},{"$f":"VLOOKUP(K157,'Standard Labels'!$A$7:$AC$500,29)","v":0},156]
[{"$f":"VLOOKUP(K158,'Standard Labels'!$A$7:$AC$500,11)","v":0},{"$f":"VLOOKUP(K158,'Standard Labels'!$A$7:$AC$500,13)","v":0},{"$f":"VLOOKUP(K158,'Standard Labels'!$A$7:$AC$500,15)","v":0},{"$f":"VLOOKUP(K158,'Standard Labels'!$A$7:$AC$500,17)","v":0},{"$f":"VLOOKUP(K158,'Standard Labels'!$A$7:$AC$500,19)","v":0},{"$f":"VLOOKUP(K158,'Standard Labels'!$A$7:$AC$500,21)","v":0},{"$f":"VLOOKUP(K158,'Standard Labels'!$A$7:$AC$500,23)","v":0},{"$f":"VLOOKUP(K158,'Standard Labels'!$A$7:$AC$500,25)","v":0},{"$f":"VLOOKUP(K158,'Standard Labels'!$A$7:$AC$500,27)","v":0},{"$f":"VLOOKUP(K158,'Standard Labels'!$A$7:$AC$500,29)","v":0},157]
[{"$f":"VLOOKUP(K159,'Standard Labels'!$A$7:$AC$500,11)","v":0},{"$f":"VLOOKUP(K159,'Standard Labels'!$A$7:$AC$500,13)","v":0},{"$f":"VLOOKUP(K159,'Standard Labels'!$A$7:$AC$500,15)","v":0},{"$f":"VLOOKUP(K159,'Standard Labels'!$A$7:$AC$500,17)","v":0},{"$f":"VLOOKUP(K159,'Standard Labels'!$A$7:$AC$500,19)","v":0},{"$f":"VLOOKUP(K159,'Standard Labels'!$A$7:$AC$500,21)","v":0},{"$f":"VLOOKUP(K159,'Standard Labels'!$A$7:$AC$500,23)","v":0},{"$f":"VLOOKUP(K159,'Standard Labels'!$A$7:$AC$500,25)","v":0},{"$f":"VLOOKUP(K159,'Standard Labels'!$A$7:$AC$500,27)","v":0},{"$f":"VLOOKUP(K159,'Standard Labels'!$A$7:$AC$500,29)","v":0},158]
[{"$f":"VLOOKUP(K160,'Standard Labels'!$A$7:$AC$500,11)","v":0},{"$f":"VLOOKUP(K160,'Standard Labels'!$A$7:$AC$500,13)","v":0},{"$f":"VLOOKUP(K160,'Standard Labels'!$A$7:$AC$500,15)","v":0},{"$f":"VLOOKUP(K160,'Standard Labels'!$A$7:$AC$500,17)","v":0},{"$f":"VLOOKUP(K160,'Standard Labels'!$A$7:$AC$500,19)","v":0},{"$f":"VLOOKUP(K160,'Standard Labels'!$A$7:$AC$500,21)","v":0},{"$f":"VLOOKUP(K160,'Standard Labels'!$A$7:$AC$500,23)","v":0},{"$f":"VLOOKUP(K160,'Standard Labels'!$A$7:$AC$500,25)","v":0},{"$f":"VLOOKUP(K160,'Standard Labels'!$A$7:$AC$500,27)","v":0},{"$f":"VLOOKUP(K160,'Standard Labels'!$A$7:$AC$500,29)","v":0},159]
[{"$f":"VLOOKUP(K161,'Standard Labels'!$A$7:$AC$500,11)","v":0},{"$f":"VLOOKUP(K161,'Standard Labels'!$A$7:$AC$500,13)","v":0},{"$f":"VLOOKUP(K161,'Standard Labels'!$A$7:$AC$500,15)","v":0},{"$f":"VLOOKUP(K161,'Standard Labels'!$A$7:$AC$500,17)","v":0},{"$f":"VLOOKUP(K161,'Standard Labels'!$A$7:$AC$500,19)","v":0},{"$f":"VLOOKUP(K161,'Standard Labels'!$A$7:$AC$500,21)","v":0},{"$f":"VLOOKUP(K161,'Standard Labels'!$A$7:$AC$500,23)","v":0},{"$f":"VLOOKUP(K161,'Standard Labels'!$A$7:$AC$500,25)","v":0},{"$f":"VLOOKUP(K161,'Standard Labels'!$A$7:$AC$500,27)","v":0},{"$f":"VLOOKUP(K161,'Standard Labels'!$A$7:$AC$500,29)","v":0},160]
[{"$f":"VLOOKUP(K162,'Standard Labels'!$A$7:$AC$500,11)","v":0},{"$f":"VLOOKUP(K162,'Standard Labels'!$A$7:$AC$500,13)","v":0},{"$f":"VLOOKUP(K162,'Standard Labels'!$A$7:$AC$500,15)","v":0},{"$f":"VLOOKUP(K162,'Standard Labels'!$A$7:$AC$500,17)","v":0},{"$f":"VLOOKUP(K162,'Standard Labels'!$A$7:$AC$500,19)","v":0},{"$f":"VLOOKUP(K162,'Standard Labels'!$A$7:$AC$500,21)","v":0},{"$f":"VLOOKUP(K162,'Standard Labels'!$A$7:$AC$500,23)","v":0},{"$f":"VLOOKUP(K162,'Standard Labels'!$A$7:$AC$500,25)","v":0},{"$f":"VLOOKUP(K162,'Standard Labels'!$A$7:$AC$500,27)","v":0},{"$f":"VLOOKUP(K162,'Standard Labels'!$A$7:$AC$500,29)","v":0},161]
[{"$f":"VLOOKUP(K163,'Standard Labels'!$A$7:$AC$500,11)","v":0},{"$f":"VLOOKUP(K163,'Standard Labels'!$A$7:$AC$500,13)","v":0},{"$f":"VLOOKUP(K163,'Standard Labels'!$A$7:$AC$500,15)","v":0},{"$f":"VLOOKUP(K163,'Standard Labels'!$A$7:$AC$500,17)","v":0},{"$f":"VLOOKUP(K163,'Standard Labels'!$A$7:$AC$500,19)","v":0},{"$f":"VLOOKUP(K163,'Standard Labels'!$A$7:$AC$500,21)","v":0},{"$f":"VLOOKUP(K163,'Standard Labels'!$A$7:$AC$500,23)","v":0},{"$f":"VLOOKUP(K163,'Standard Labels'!$A$7:$AC$500,25)","v":0},{"$f":"VLOOKUP(K163,'Standard Labels'!$A$7:$AC$500,27)","v":0},{"$f":"VLOOKUP(K163,'Standard Labels'!$A$7:$AC$500,29)","v":0},162]
[{"$f":"VLOOKUP(K164,'Standard Labels'!$A$7:$AC$500,11)","v":0},{"$f":"VLOOKUP(K164,'Standard Labels'!$A$7:$AC$500,13)","v":0},{"$f":"VLOOKUP(K164,'Standard Labels'!$A$7:$AC$500,15)","v":0},{"$f":"VLOOKUP(K164,'Standard Labels'!$A$7:$AC$500,17)","v":0},{"$f":"VLOOKUP(K164,'Standard Labels'!$A$7:$AC$500,19)","v":0},{"$f":"VLOOKUP(K164,'Standard Labels'!$A$7:$AC$500,21)","v":0},{"$f":"VLOOKUP(K164,'Standard Labels'!$A$7:$AC$500,23)","v":0},{"$f":"VLOOKUP(K164,'Standard Labels'!$A$7:$AC$500,25)","v":0},{"$f":"VLOOKUP(K164,'Standard Labels'!$A$7:$AC$500,27)","v":0},{"$f":"VLOOKUP(K164,'Standard Labels'!$A$7:$AC$500,29)","v":0},163]
[{"$f":"VLOOKUP(K165,'Standard Labels'!$A$7:$AC$500,11)","v":0},{"$f":"VLOOKUP(K165,'Standard Labels'!$A$7:$AC$500,13)","v":0},{"$f":"VLOOKUP(K165,'Standard Labels'!$A$7:$AC$500,15)","v":0},{"$f":"VLOOKUP(K165,'Standard Labels'!$A$7:$AC$500,17)","v":0},{"$f":"VLOOKUP(K165,'Standard Labels'!$A$7:$AC$500,19)","v":0},{"$f":"VLOOKUP(K165,'Standard Labels'!$A$7:$AC$500,21)","v":0},{"$f":"VLOOKUP(K165,'Standard Labels'!$A$7:$AC$500,23)","v":0},{"$f":"VLOOKUP(K165,'Standard Labels'!$A$7:$AC$500,25)","v":0},{"$f":"VLOOKUP(K165,'Standard Labels'!$A$7:$AC$500,27)","v":0},{"$f":"VLOOKUP(K165,'Standard Labels'!$A$7:$AC$500,29)","v":0},164]
[{"$f":"VLOOKUP(K166,'Standard Labels'!$A$7:$AC$500,11)","v":0},{"$f":"VLOOKUP(K166,'Standard Labels'!$A$7:$AC$500,13)","v":0},{"$f":"VLOOKUP(K166,'Standard Labels'!$A$7:$AC$500,15)","v":0},{"$f":"VLOOKUP(K166,'Standard Labels'!$A$7:$AC$500,17)","v":0},{"$f":"VLOOKUP(K166,'Standard Labels'!$A$7:$AC$500,19)","v":0},{"$f":"VLOOKUP(K166,'Standard Labels'!$A$7:$AC$500,21)","v":0},{"$f":"VLOOKUP(K166,'Standard Labels'!$A$7:$AC$500,23)","v":0},{"$f":"VLOOKUP(K166,'Standard Labels'!$A$7:$AC$500,25)","v":0},{"$f":"VLOOKUP(K166,'Standard Labels'!$A$7:$AC$500,27)","v":0},{"$f":"VLOOKUP(K166,'Standard Labels'!$A$7:$AC$500,29)","v":0},165]
[{"$f":"VLOOKUP(K167,'Standard Labels'!$A$7:$AC$500,11)","v":0},{"$f":"VLOOKUP(K167,'Standard Labels'!$A$7:$AC$500,13)","v":0},{"$f":"VLOOKUP(K167,'Standard Labels'!$A$7:$AC$500,15)","v":0},{"$f":"VLOOKUP(K167,'Standard Labels'!$A$7:$AC$500,17)","v":0},{"$f":"VLOOKUP(K167,'Standard Labels'!$A$7:$AC$500,19)","v":0},{"$f":"VLOOKUP(K167,'Standard Labels'!$A$7:$AC$500,21)","v":0},{"$f":"VLOOKUP(K167,'Standard Labels'!$A$7:$AC$500,23)","v":0},{"$f":"VLOOKUP(K167,'Standard Labels'!$A$7:$AC$500,25)","v":0},{"$f":"VLOOKUP(K167,'Standard Labels'!$A$7:$AC$500,27)","v":0},{"$f":"VLOOKUP(K167,'Standard Labels'!$A$7:$AC$500,29)","v":0},166]
[{"$f":"VLOOKUP(K168,'Standard Labels'!$A$7:$AC$500,11)","v":0},{"$f":"VLOOKUP(K168,'Standard Labels'!$A$7:$AC$500,13)","v":0},{"$f":"VLOOKUP(K168,'Standard Labels'!$A$7:$AC$500,15)","v":0},{"$f":"VLOOKUP(K168,'Standard Labels'!$A$7:$AC$500,17)","v":0},{"$f":"VLOOKUP(K168,'Standard Labels'!$A$7:$AC$500,19)","v":0},{"$f":"VLOOKUP(K168,'Standard Labels'!$A$7:$AC$500,21)","v":0},{"$f":"VLOOKUP(K168,'Standard Labels'!$A$7:$AC$500,23)","v":0},{"$f":"VLOOKUP(K168,'Standard Labels'!$A$7:$AC$500,25)","v":0},{"$f":"VLOOKUP(K168,'Standard Labels'!$A$7:$AC$500,27)","v":0},{"$f":"VLOOKUP(K168,'Standard Labels'!$A$7:$AC$500,29)","v":0},167]
[{"$f":"VLOOKUP(K169,'Standard Labels'!$A$7:$AC$500,11)","v":0},{"$f":"VLOOKUP(K169,'Standard Labels'!$A$7:$AC$500,13)","v":0},{"$f":"VLOOKUP(K169,'Standard Labels'!$A$7:$AC$500,15)","v":0},{"$f":"VLOOKUP(K169,'Standard Labels'!$A$7:$AC$500,17)","v":0},{"$f":"VLOOKUP(K169,'Standard Labels'!$A$7:$AC$500,19)","v":0},{"$f":"VLOOKUP(K169,'Standard Labels'!$A$7:$AC$500,21)","v":0},{"$f":"VLOOKUP(K169,'Standard Labels'!$A$7:$AC$500,23)","v":0},{"$f":"VLOOKUP(K169,'Standard Labels'!$A$7:$AC$500,25)","v":0},{"$f":"VLOOKUP(K169,'Standard Labels'!$A$7:$AC$500,27)","v":0},{"$f":"VLOOKUP(K169,'Standard Labels'!$A$7:$AC$500,29)","v":0},168]
[{"$f":"VLOOKUP(K170,'Standard Labels'!$A$7:$AC$500,11)","v":0},{"$f":"VLOOKUP(K170,'Standard Labels'!$A$7:$AC$500,13)","v":0},{"$f":"VLOOKUP(K170,'Standard Labels'!$A$7:$AC$500,15)","v":0},{"$f":"VLOOKUP(K170,'Standard Labels'!$A$7:$AC$500,17)","v":0},{"$f":"VLOOKUP(K170,'Standard Labels'!$A$7:$AC$500,19)","v":0},{"$f":"VLOOKUP(K170,'Standard Labels'!$A$7:$AC$500,21)","v":0},{"$f":"VLOOKUP(K170,'Standard Labels'!$A$7:$AC$500,23)","v":0},{"$f":"VLOOKUP(K170,'Standard Labels'!$A$7:$AC$500,25)","v":0},{"$f":"VLOOKUP(K170,'Standard Labels'!$A$7:$AC$500,27)","v":0},{"$f":"VLOOKUP(K170,'Standard Labels'!$A$7:$AC$500,29)","v":0},169]
[{"$f":"VLOOKUP(K171,'Standard Labels'!$A$7:$AC$500,11)","v":0},{"$f":"VLOOKUP(K171,'Standard Labels'!$A$7:$AC$500,13)","v":0},{"$f":"VLOOKUP(K171,'Standard Labels'!$A$7:$AC$500,15)","v":0},{"$f":"VLOOKUP(K171,'Standard Labels'!$A$7:$AC$500,17)","v":0},{"$f":"VLOOKUP(K171,'Standard Labels'!$A$7:$AC$500,19)","v":0},{"$f":"VLOOKUP(K171,'Standard Labels'!$A$7:$AC$500,21)","v":0},{"$f":"VLOOKUP(K171,'Standard Labels'!$A$7:$AC$500,23)","v":0},{"$f":"VLOOKUP(K171,'Standard Labels'!$A$7:$AC$500,25)","v":0},{"$f":"VLOOKUP(K171,'Standard Labels'!$A$7:$AC$500,27)","v":0},{"$f":"VLOOKUP(K171,'Standard Labels'!$A$7:$AC$500,29)","v":0},170]
[{"$f":"VLOOKUP(K172,'Standard Labels'!$A$7:$AC$500,11)","v":0},{"$f":"VLOOKUP(K172,'Standard Labels'!$A$7:$AC$500,13)","v":0},{"$f":"VLOOKUP(K172,'Standard Labels'!$A$7:$AC$500,15)","v":0},{"$f":"VLOOKUP(K172,'Standard Labels'!$A$7:$AC$500,17)","v":0},{"$f":"VLOOKUP(K172,'Standard Labels'!$A$7:$AC$500,19)","v":0},{"$f":"VLOOKUP(K172,'Standard Labels'!$A$7:$AC$500,21)","v":0},{"$f":"VLOOKUP(K172,'Standard Labels'!$A$7:$AC$500,23)","v":0},{"$f":"VLOOKUP(K172,'Standard Labels'!$A$7:$AC$500,25)","v":0},{"$f":"VLOOKUP(K172,'Standard Labels'!$A$7:$AC$500,27)","v":0},{"$f":"VLOOKUP(K172,'Standard Labels'!$A$7:$AC$500,29)","v":0},171]
[{"$f":"VLOOKUP(K173,'Standard Labels'!$A$7:$AC$500,11)","v":0},{"$f":"VLOOKUP(K173,'Standard Labels'!$A$7:$AC$500,13)","v":0},{"$f":"VLOOKUP(K173,'Standard Labels'!$A$7:$AC$500,15)","v":0},{"$f":"VLOOKUP(K173,'Standard Labels'!$A$7:$AC$500,17)","v":0},{"$f":"VLOOKUP(K173,'Standard Labels'!$A$7:$AC$500,19)","v":0},{"$f":"VLOOKUP(K173,'Standard Labels'!$A$7:$AC$500,21)","v":0},{"$f":"VLOOKUP(K173,'Standard Labels'!$A$7:$AC$500,23)","v":0},{"$f":"VLOOKUP(K173,'Standard Labels'!$A$7:$AC$500,25)","v":0},{"$f":"VLOOKUP(K173,'Standard Labels'!$A$7:$AC$500,27)","v":0},{"$f":"VLOOKUP(K173,'Standard Labels'!$A$7:$AC$500,29)","v":0},172]
[{"$f":"VLOOKUP(K174,'Standard Labels'!$A$7:$AC$500,11)","v":0},{"$f":"VLOOKUP(K174,'Standard Labels'!$A$7:$AC$500,13)","v":0},{"$f":"VLOOKUP(K174,'Standard Labels'!$A$7:$AC$500,15)","v":0},{"$f":"VLOOKUP(K174,'Standard Labels'!$A$7:$AC$500,17)","v":0},{"$f":"VLOOKUP(K174,'Standard Labels'!$A$7:$AC$500,19)","v":0},{"$f":"VLOOKUP(K174,'Standard Labels'!$A$7:$AC$500,21)","v":0},{"$f":"VLOOKUP(K174,'Standard Labels'!$A$7:$AC$500,23)","v":0},{"$f":"VLOOKUP(K174,'Standard Labels'!$A$7:$AC$500,25)","v":0},{"$f":"VLOOKUP(K174,'Standard Labels'!$A$7:$AC$500,27)","v":0},{"$f":"VLOOKUP(K174,'Standard Labels'!$A$7:$AC$500,29)","v":0},173]
[{"$f":"VLOOKUP(K175,'Standard Labels'!$A$7:$AC$500,11)","v":0},{"$f":"VLOOKUP(K175,'Standard Labels'!$A$7:$AC$500,13)","v":0},{"$f":"VLOOKUP(K175,'Standard Labels'!$A$7:$AC$500,15)","v":0},{"$f":"VLOOKUP(K175,'Standard Labels'!$A$7:$AC$500,17)","v":0},{"$f":"VLOOKUP(K175,'Standard Labels'!$A$7:$AC$500,19)","v":0},{"$f":"VLOOKUP(K175,'Standard Labels'!$A$7:$AC$500,21)","v":0},{"$f":"VLOOKUP(K175,'Standard Labels'!$A$7:$AC$500,23)","v":0},{"$f":"VLOOKUP(K175,'Standard Labels'!$A$7:$AC$500,25)","v":0},{"$f":"VLOOKUP(K175,'Standard Labels'!$A$7:$AC$500,27)","v":0},{"$f":"VLOOKUP(K175,'Standard Labels'!$A$7:$AC$500,29)","v":0},174]
[{"$f":"VLOOKUP(K176,'Standard Labels'!$A$7:$AC$500,11)","v":0},{"$f":"VLOOKUP(K176,'Standard Labels'!$A$7:$AC$500,13)","v":0},{"$f":"VLOOKUP(K176,'Standard Labels'!$A$7:$AC$500,15)","v":0},{"$f":"VLOOKUP(K176,'Standard Labels'!$A$7:$AC$500,17)","v":0},{"$f":"VLOOKUP(K176,'Standard Labels'!$A$7:$AC$500,19)","v":0},{"$f":"VLOOKUP(K176,'Standard Labels'!$A$7:$AC$500,21)","v":0},{"$f":"VLOOKUP(K176,'Standard Labels'!$A$7:$AC$500,23)","v":0},{"$f":"VLOOKUP(K176,'Standard Labels'!$A$7:$AC$500,25)","v":0},{"$f":"VLOOKUP(K176,'Standard Labels'!$A$7:$AC$500,27)","v":0},{"$f":"VLOOKUP(K176,'Standard Labels'!$A$7:$AC$500,29)","v":0},175]
[{"$f":"VLOOKUP(K177,'Standard Labels'!$A$7:$AC$500,11)","v":0},{"$f":"VLOOKUP(K177,'Standard Labels'!$A$7:$AC$500,13)","v":0},{"$f":"VLOOKUP(K177,'Standard Labels'!$A$7:$AC$500,15)","v":0},{"$f":"VLOOKUP(K177,'Standard Labels'!$A$7:$AC$500,17)","v":0},{"$f":"VLOOKUP(K177,'Standard Labels'!$A$7:$AC$500,19)","v":0},{"$f":"VLOOKUP(K177,'Standard Labels'!$A$7:$AC$500,21)","v":0},{"$f":"VLOOKUP(K177,'Standard Labels'!$A$7:$AC$500,23)","v":0},{"$f":"VLOOKUP(K177,'Standard Labels'!$A$7:$AC$500,25)","v":0},{"$f":"VLOOKUP(K177,'Standard Labels'!$A$7:$AC$500,27)","v":0},{"$f":"VLOOKUP(K177,'Standard Labels'!$A$7:$AC$500,29)","v":0},176]
[{"$f":"VLOOKUP(K178,'Standard Labels'!$A$7:$AC$500,11)","v":0},{"$f":"VLOOKUP(K178,'Standard Labels'!$A$7:$AC$500,13)","v":0},{"$f":"VLOOKUP(K178,'Standard Labels'!$A$7:$AC$500,15)","v":0},{"$f":"VLOOKUP(K178,'Standard Labels'!$A$7:$AC$500,17)","v":0},{"$f":"VLOOKUP(K178,'Standard Labels'!$A$7:$AC$500,19)","v":0},{"$f":"VLOOKUP(K178,'Standard Labels'!$A$7:$AC$500,21)","v":0},{"$f":"VLOOKUP(K178,'Standard Labels'!$A$7:$AC$500,23)","v":0},{"$f":"VLOOKUP(K178,'Standard Labels'!$A$7:$AC$500,25)","v":0},{"$f":"VLOOKUP(K178,'Standard Labels'!$A$7:$AC$500,27)","v":0},{"$f":"VLOOKUP(K178,'Standard Labels'!$A$7:$AC$500,29)","v":0},177]
[{"$f":"VLOOKUP(K179,'Standard Labels'!$A$7:$AC$500,11)","v":0},{"$f":"VLOOKUP(K179,'Standard Labels'!$A$7:$AC$500,13)","v":0},{"$f":"VLOOKUP(K179,'Standard Labels'!$A$7:$AC$500,15)","v":0},{"$f":"VLOOKUP(K179,'Standard Labels'!$A$7:$AC$500,17)","v":0},{"$f":"VLOOKUP(K179,'Standard Labels'!$A$7:$AC$500,19)","v":0},{"$f":"VLOOKUP(K179,'Standard Labels'!$A$7:$AC$500,21)","v":0},{"$f":"VLOOKUP(K179,'Standard Labels'!$A$7:$AC$500,23)","v":0},{"$f":"VLOOKUP(K179,'Standard Labels'!$A$7:$AC$500,25)","v":0},{"$f":"VLOOKUP(K179,'Standard Labels'!$A$7:$AC$500,27)","v":0},{"$f":"VLOOKUP(K179,'Standard Labels'!$A$7:$AC$500,29)","v":0},178]
[{"$f":"VLOOKUP(K180,'Standard Labels'!$A$7:$AC$500,11)","v":0},{"$f":"VLOOKUP(K180,'Standard Labels'!$A$7:$AC$500,13)","v":0},{"$f":"VLOOKUP(K180,'Standard Labels'!$A$7:$AC$500,15)","v":0},{"$f":"VLOOKUP(K180,'Standard Labels'!$A$7:$AC$500,17)","v":0},{"$f":"VLOOKUP(K180,'Standard Labels'!$A$7:$AC$500,19)","v":0},{"$f":"VLOOKUP(K180,'Standard Labels'!$A$7:$AC$500,21)","v":0},{"$f":"VLOOKUP(K180,'Standard Labels'!$A$7:$AC$500,23)","v":0},{"$f":"VLOOKUP(K180,'Standard Labels'!$A$7:$AC$500,25)","v":0},{"$f":"VLOOKUP(K180,'Standard Labels'!$A$7:$AC$500,27)","v":0},{"$f":"VLOOKUP(K180,'Standard Labels'!$A$7:$AC$500,29)","v":0},179]
[{"$f":"VLOOKUP(K181,'Standard Labels'!$A$7:$AC$500,11)","v":0},{"$f":"VLOOKUP(K181,'Standard Labels'!$A$7:$AC$500,13)","v":0},{"$f":"VLOOKUP(K181,'Standard Labels'!$A$7:$AC$500,15)","v":0},{"$f":"VLOOKUP(K181,'Standard Labels'!$A$7:$AC$500,17)","v":0},{"$f":"VLOOKUP(K181,'Standard Labels'!$A$7:$AC$500,19)","v":0},{"$f":"VLOOKUP(K181,'Standard Labels'!$A$7:$AC$500,21)","v":0},{"$f":"VLOOKUP(K181,'Standard Labels'!$A$7:$AC$500,23)","v":0},{"$f":"VLOOKUP(K181,'Standard Labels'!$A$7:$AC$500,25)","v":0},{"$f":"VLOOKUP(K181,'Standard Labels'!$A$7:$AC$500,27)","v":0},{"$f":"VLOOKUP(K181,'Standard Labels'!$A$7:$AC$500,29)","v":0},180]
[{"$f":"VLOOKUP(K182,'Standard Labels'!$A$7:$AC$500,11)","v":0},{"$f":"VLOOKUP(K182,'Standard Labels'!$A$7:$AC$500,13)","v":0},{"$f":"VLOOKUP(K182,'Standard Labels'!$A$7:$AC$500,15)","v":0},{"$f":"VLOOKUP(K182,'Standard Labels'!$A$7:$AC$500,17)","v":0},{"$f":"VLOOKUP(K182,'Standard Labels'!$A$7:$AC$500,19)","v":0},{"$f":"VLOOKUP(K182,'Standard Labels'!$A$7:$AC$500,21)","v":0},{"$f":"VLOOKUP(K182,'Standard Labels'!$A$7:$AC$500,23)","v":0},{"$f":"VLOOKUP(K182,'Standard Labels'!$A$7:$AC$500,25)","v":0},{"$f":"VLOOKUP(K182,'Standard Labels'!$A$7:$AC$500,27)","v":0},{"$f":"VLOOKUP(K182,'Standard Labels'!$A$7:$AC$500,29)","v":0},181]
[{"$f":"VLOOKUP(K183,'Standard Labels'!$A$7:$AC$500,11)","v":0},{"$f":"VLOOKUP(K183,'Standard Labels'!$A$7:$AC$500,13)","v":0},{"$f":"VLOOKUP(K183,'Standard Labels'!$A$7:$AC$500,15)","v":0},{"$f":"VLOOKUP(K183,'Standard Labels'!$A$7:$AC$500,17)","v":0},{"$f":"VLOOKUP(K183,'Standard Labels'!$A$7:$AC$500,19)","v":0},{"$f":"VLOOKUP(K183,'Standard Labels'!$A$7:$AC$500,21)","v":0},{"$f":"VLOOKUP(K183,'Standard Labels'!$A$7:$AC$500,23)","v":0},{"$f":"VLOOKUP(K183,'Standard Labels'!$A$7:$AC$500,25)","v":0},{"$f":"VLOOKUP(K183,'Standard Labels'!$A$7:$AC$500,27)","v":0},{"$f":"VLOOKUP(K183,'Standard Labels'!$A$7:$AC$500,29)","v":0},182]
[{"$f":"VLOOKUP(K184,'Standard Labels'!$A$7:$AC$500,11)","v":0},{"$f":"VLOOKUP(K184,'Standard Labels'!$A$7:$AC$500,13)","v":0},{"$f":"VLOOKUP(K184,'Standard Labels'!$A$7:$AC$500,15)","v":0},{"$f":"VLOOKUP(K184,'Standard Labels'!$A$7:$AC$500,17)","v":0},{"$f":"VLOOKUP(K184,'Standard Labels'!$A$7:$AC$500,19)","v":0},{"$f":"VLOOKUP(K184,'Standard Labels'!$A$7:$AC$500,21)","v":0},{"$f":"VLOOKUP(K184,'Standard Labels'!$A$7:$AC$500,23)","v":0},{"$f":"VLOOKUP(K184,'Standard Labels'!$A$7:$AC$500,25)","v":0},{"$f":"VLOOKUP(K184,'Standard Labels'!$A$7:$AC$500,27)","v":0},{"$f":"VLOOKUP(K184,'Standard Labels'!$A$7:$AC$500,29)","v":0},183]
[{"$f":"VLOOKUP(K185,'Standard Labels'!$A$7:$AC$500,11)","v":0},{"$f":"VLOOKUP(K185,'Standard Labels'!$A$7:$AC$500,13)","v":0},{"$f":"VLOOKUP(K185,'Standard Labels'!$A$7:$AC$500,15)","v":0},{"$f":"VLOOKUP(K185,'Standard Labels'!$A$7:$AC$500,17)","v":0},{"$f":"VLOOKUP(K185,'Standard Labels'!$A$7:$AC$500,19)","v":0},{"$f":"VLOOKUP(K185,'Standard Labels'!$A$7:$AC$500,21)","v":0},{"$f":"VLOOKUP(K185,'Standard Labels'!$A$7:$AC$500,23)","v":0},{"$f":"VLOOKUP(K185,'Standard Labels'!$A$7:$AC$500,25)","v":0},{"$f":"VLOOKUP(K185,'Standard Labels'!$A$7:$AC$500,27)","v":0},{"$f":"VLOOKUP(K185,'Standard Labels'!$A$7:$AC$500,29)","v":0},184]
[{"$f":"VLOOKUP(K186,'Standard Labels'!$A$7:$AC$500,11)","v":0},{"$f":"VLOOKUP(K186,'Standard Labels'!$A$7:$AC$500,13)","v":0},{"$f":"VLOOKUP(K186,'Standard Labels'!$A$7:$AC$500,15)","v":0},{"$f":"VLOOKUP(K186,'Standard Labels'!$A$7:$AC$500,17)","v":0},{"$f":"VLOOKUP(K186,'Standard Labels'!$A$7:$AC$500,19)","v":0},{"$f":"VLOOKUP(K186,'Standard Labels'!$A$7:$AC$500,21)","v":0},{"$f":"VLOOKUP(K186,'Standard Labels'!$A$7:$AC$500,23)","v":0},{"$f":"VLOOKUP(K186,'Standard Labels'!$A$7:$AC$500,25)","v":0},{"$f":"VLOOKUP(K186,'Standard Labels'!$A$7:$AC$500,27)","v":0},{"$f":"VLOOKUP(K186,'Standard Labels'!$A$7:$AC$500,29)","v":0},185]
[{"$f":"VLOOKUP(K187,'Standard Labels'!$A$7:$AC$500,11)","v":0},{"$f":"VLOOKUP(K187,'Standard Labels'!$A$7:$AC$500,13)","v":0},{"$f":"VLOOKUP(K187,'Standard Labels'!$A$7:$AC$500,15)","v":0},{"$f":"VLOOKUP(K187,'Standard Labels'!$A$7:$AC$500,17)","v":0},{"$f":"VLOOKUP(K187,'Standard Labels'!$A$7:$AC$500,19)","v":0},{"$f":"VLOOKUP(K187,'Standard Labels'!$A$7:$AC$500,21)","v":0},{"$f":"VLOOKUP(K187,'Standard Labels'!$A$7:$AC$500,23)","v":0},{"$f":"VLOOKUP(K187,'Standard Labels'!$A$7:$AC$500,25)","v":0},{"$f":"VLOOKUP(K187,'Standard Labels'!$A$7:$AC$500,27)","v":0},{"$f":"VLOOKUP(K187,'Standard Labels'!$A$7:$AC$500,29)","v":0},186]
[{"$f":"VLOOKUP(K188,'Standard Labels'!$A$7:$AC$500,11)","v":0},{"$f":"VLOOKUP(K188,'Standard Labels'!$A$7:$AC$500,13)","v":0},{"$f":"VLOOKUP(K188,'Standard Labels'!$A$7:$AC$500,15)","v":0},{"$f":"VLOOKUP(K188,'Standard Labels'!$A$7:$AC$500,17)","v":0},{"$f":"VLOOKUP(K188,'Standard Labels'!$A$7:$AC$500,19)","v":0},{"$f":"VLOOKUP(K188,'Standard Labels'!$A$7:$AC$500,21)","v":0},{"$f":"VLOOKUP(K188,'Standard Labels'!$A$7:$AC$500,23)","v":0},{"$f":"VLOOKUP(K188,'Standard Labels'!$A$7:$AC$500,25)","v":0},{"$f":"VLOOKUP(K188,'Standard Labels'!$A$7:$AC$500,27)","v":0},{"$f":"VLOOKUP(K188,'Standard Labels'!$A$7:$AC$500,29)","v":0},187]
[{"$f":"VLOOKUP(K189,'Standard Labels'!$A$7:$AC$500,11)","v":0},{"$f":"VLOOKUP(K189,'Standard Labels'!$A$7:$AC$500,13)","v":0},{"$f":"VLOOKUP(K189,'Standard Labels'!$A$7:$AC$500,15)","v":0},{"$f":"VLOOKUP(K189,'Standard Labels'!$A$7:$AC$500,17)","v":0},{"$f":"VLOOKUP(K189,'Standard Labels'!$A$7:$AC$500,19)","v":0},{"$f":"VLOOKUP(K189,'Standard Labels'!$A$7:$AC$500,21)","v":0},{"$f":"VLOOKUP(K189,'Standard Labels'!$A$7:$AC$500,23)","v":0},{"$f":"VLOOKUP(K189,'Standard Labels'!$A$7:$AC$500,25)","v":0},{"$f":"VLOOKUP(K189,'Standard Labels'!$A$7:$AC$500,27)","v":0},{"$f":"VLOOKUP(K189,'Standard Labels'!$A$7:$AC$500,29)","v":0},188]
[{"$f":"VLOOKUP(K190,'Standard Labels'!$A$7:$AC$500,11)","v":0},{"$f":"VLOOKUP(K190,'Standard Labels'!$A$7:$AC$500,13)","v":0},{"$f":"VLOOKUP(K190,'Standard Labels'!$A$7:$AC$500,15)","v":0},{"$f":"VLOOKUP(K190,'Standard Labels'!$A$7:$AC$500,17)","v":0},{"$f":"VLOOKUP(K190,'Standard Labels'!$A$7:$AC$500,19)","v":0},{"$f":"VLOOKUP(K190,'Standard Labels'!$A$7:$AC$500,21)","v":0},{"$f":"VLOOKUP(K190,'Standard Labels'!$A$7:$AC$500,23)","v":0},{"$f":"VLOOKUP(K190,'Standard Labels'!$A$7:$AC$500,25)","v":0},{"$f":"VLOOKUP(K190,'Standard Labels'!$A$7:$AC$500,27)","v":0},{"$f":"VLOOKUP(K190,'Standard Labels'!$A$7:$AC$500,29)","v":0},189]
[{"$f":"VLOOKUP(K191,'Standard Labels'!$A$7:$AC$500,11)","v":0},{"$f":"VLOOKUP(K191,'Standard Labels'!$A$7:$AC$500,13)","v":0},{"$f":"VLOOKUP(K191,'Standard Labels'!$A$7:$AC$500,15)","v":0},{"$f":"VLOOKUP(K191,'Standard Labels'!$A$7:$AC$500,17)","v":0},{"$f":"VLOOKUP(K191,'Standard Labels'!$A$7:$AC$500,19)","v":0},{"$f":"VLOOKUP(K191,'Standard Labels'!$A$7:$AC$500,21)","v":0},{"$f":"VLOOKUP(K191,'Standard Labels'!$A$7:$AC$500,23)","v":0},{"$f":"VLOOKUP(K191,'Standard Labels'!$A$7:$AC$500,25)","v":0},{"$f":"VLOOKUP(K191,'Standard Labels'!$A$7:$AC$500,27)","v":0},{"$f":"VLOOKUP(K191,'Standard Labels'!$A$7:$AC$500,29)","v":0},190]
[{"$f":"VLOOKUP(K192,'Standard Labels'!$A$7:$AC$500,11)","v":0},{"$f":"VLOOKUP(K192,'Standard Labels'!$A$7:$AC$500,13)","v":0},{"$f":"VLOOKUP(K192,'Standard Labels'!$A$7:$AC$500,15)","v":0},{"$f":"VLOOKUP(K192,'Standard Labels'!$A$7:$AC$500,17)","v":0},{"$f":"VLOOKUP(K192,'Standard Labels'!$A$7:$AC$500,19)","v":0},{"$f":"VLOOKUP(K192,'Standard Labels'!$A$7:$AC$500,21)","v":0},{"$f":"VLOOKUP(K192,'Standard Labels'!$A$7:$AC$500,23)","v":0},{"$f":"VLOOKUP(K192,'Standard Labels'!$A$7:$AC$500,25)","v":0},{"$f":"VLOOKUP(K192,'Standard Labels'!$A$7:$AC$500,27)","v":0},{"$f":"VLOOKUP(K192,'Standard Labels'!$A$7:$AC$500,29)","v":0},191]
[{"$f":"VLOOKUP(K193,'Standard Labels'!$A$7:$AC$500,11)","v":0},{"$f":"VLOOKUP(K193,'Standard Labels'!$A$7:$AC$500,13)","v":0},{"$f":"VLOOKUP(K193,'Standard Labels'!$A$7:$AC$500,15)","v":0},{"$f":"VLOOKUP(K193,'Standard Labels'!$A$7:$AC$500,17)","v":0},{"$f":"VLOOKUP(K193,'Standard Labels'!$A$7:$AC$500,19)","v":0},{"$f":"VLOOKUP(K193,'Standard Labels'!$A$7:$AC$500,21)","v":0},{"$f":"VLOOKUP(K193,'Standard Labels'!$A$7:$AC$500,23)","v":0},{"$f":"VLOOKUP(K193,'Standard Labels'!$A$7:$AC$500,25)","v":0},{"$f":"VLOOKUP(K193,'Standard Labels'!$A$7:$AC$500,27)","v":0},{"$f":"VLOOKUP(K193,'Standard Labels'!$A$7:$AC$500,29)","v":0},192]
[{"$f":"VLOOKUP(K194,'Standard Labels'!$A$7:$AC$500,11)","v":0},{"$f":"VLOOKUP(K194,'Standard Labels'!$A$7:$AC$500,13)","v":0},{"$f":"VLOOKUP(K194,'Standard Labels'!$A$7:$AC$500,15)","v":0},{"$f":"VLOOKUP(K194,'Standard Labels'!$A$7:$AC$500,17)","v":0},{"$f":"VLOOKUP(K194,'Standard Labels'!$A$7:$AC$500,19)","v":0},{"$f":"VLOOKUP(K194,'Standard Labels'!$A$7:$AC$500,21)","v":0},{"$f":"VLOOKUP(K194,'Standard Labels'!$A$7:$AC$500,23)","v":0},{"$f":"VLOOKUP(K194,'Standard Labels'!$A$7:$AC$500,25)","v":0},{"$f":"VLOOKUP(K194,'Standard Labels'!$A$7:$AC$500,27)","v":0},{"$f":"VLOOKUP(K194,'Standard Labels'!$A$7:$AC$500,29)","v":0},193]
[{"$f":"VLOOKUP(K195,'Standard Labels'!$A$7:$AC$500,11)","v":0},{"$f":"VLOOKUP(K195,'Standard Labels'!$A$7:$AC$500,13)","v":0},{"$f":"VLOOKUP(K195,'Standard Labels'!$A$7:$AC$500,15)","v":0},{"$f":"VLOOKUP(K195,'Standard Labels'!$A$7:$AC$500,17)","v":0},{"$f":"VLOOKUP(K195,'Standard Labels'!$A$7:$AC$500,19)","v":0},{"$f":"VLOOKUP(K195,'Standard Labels'!$A$7:$AC$500,21)","v":0},{"$f":"VLOOKUP(K195,'Standard Labels'!$A$7:$AC$500,23)","v":0},{"$f":"VLOOKUP(K195,'Standard Labels'!$A$7:$AC$500,25)","v":0},{"$f":"VLOOKUP(K195,'Standard Labels'!$A$7:$AC$500,27)","v":0},{"$f":"VLOOKUP(K195,'Standard Labels'!$A$7:$AC$500,29)","v":0},194]
[{"$f":"VLOOKUP(K196,'Standard Labels'!$A$7:$AC$500,11)","v":0},{"$f":"VLOOKUP(K196,'Standard Labels'!$A$7:$AC$500,13)","v":0},{"$f":"VLOOKUP(K196,'Standard Labels'!$A$7:$AC$500,15)","v":0},{"$f":"VLOOKUP(K196,'Standard Labels'!$A$7:$AC$500,17)","v":0},{"$f":"VLOOKUP(K196,'Standard Labels'!$A$7:$AC$500,19)","v":0},{"$f":"VLOOKUP(K196,'Standard Labels'!$A$7:$AC$500,21)","v":0},{"$f":"VLOOKUP(K196,'Standard Labels'!$A$7:$AC$500,23)","v":0},{"$f":"VLOOKUP(K196,'Standard Labels'!$A$7:$AC$500,25)","v":0},{"$f":"VLOOKUP(K196,'Standard Labels'!$A$7:$AC$500,27)","v":0},{"$f":"VLOOKUP(K196,'Standard Labels'!$A$7:$AC$500,29)","v":0},195]
[{"$f":"VLOOKUP(K197,'Standard Labels'!$A$7:$AC$500,11)","v":0},{"$f":"VLOOKUP(K197,'Standard Labels'!$A$7:$AC$500,13)","v":0},{"$f":"VLOOKUP(K197,'Standard Labels'!$A$7:$AC$500,15)","v":0},{"$f":"VLOOKUP(K197,'Standard Labels'!$A$7:$AC$500,17)","v":0},{"$f":"VLOOKUP(K197,'Standard Labels'!$A$7:$AC$500,19)","v":0},{"$f":"VLOOKUP(K197,'Standard Labels'!$A$7:$AC$500,21)","v":0},{"$f":"VLOOKUP(K197,'Standard Labels'!$A$7:$AC$500,23)","v":0},{"$f":"VLOOKUP(K197,'Standard Labels'!$A$7:$AC$500,25)","v":0},{"$f":"VLOOKUP(K197,'Standard Labels'!$A$7:$AC$500,27)","v":0},{"$f":"VLOOKUP(K197,'Standard Labels'!$A$7:$AC$500,29)","v":0},196]
[{"$f":"VLOOKUP(K198,'Standard Labels'!$A$7:$AC$500,11)","v":0},{"$f":"VLOOKUP(K198,'Standard Labels'!$A$7:$AC$500,13)","v":0},{"$f":"VLOOKUP(K198,'Standard Labels'!$A$7:$AC$500,15)","v":0},{"$f":"VLOOKUP(K198,'Standard Labels'!$A$7:$AC$500,17)","v":0},{"$f":"VLOOKUP(K198,'Standard Labels'!$A$7:$AC$500,19)","v":0},{"$f":"VLOOKUP(K198,'Standard Labels'!$A$7:$AC$500,21)","v":0},{"$f":"VLOOKUP(K198,'Standard Labels'!$A$7:$AC$500,23)","v":0},{"$f":"VLOOKUP(K198,'Standard Labels'!$A$7:$AC$500,25)","v":0},{"$f":"VLOOKUP(K198,'Standard Labels'!$A$7:$AC$500,27)","v":0},{"$f":"VLOOKUP(K198,'Standard Labels'!$A$7:$AC$500,29)","v":0},197]
[{"$f":"VLOOKUP(K199,'Standard Labels'!$A$7:$AC$500,11)","v":0},{"$f":"VLOOKUP(K199,'Standard Labels'!$A$7:$AC$500,13)","v":0},{"$f":"VLOOKUP(K199,'Standard Labels'!$A$7:$AC$500,15)","v":0},{"$f":"VLOOKUP(K199,'Standard Labels'!$A$7:$AC$500,17)","v":0},{"$f":"VLOOKUP(K199,'Standard Labels'!$A$7:$AC$500,19)","v":0},{"$f":"VLOOKUP(K199,'Standard Labels'!$A$7:$AC$500,21)","v":0},{"$f":"VLOOKUP(K199,'Standard Labels'!$A$7:$AC$500,23)","v":0},{"$f":"VLOOKUP(K199,'Standard Labels'!$A$7:$AC$500,25)","v":0},{"$f":"VLOOKUP(K199,'Standard Labels'!$A$7:$AC$500,27)","v":0},{"$f":"VLOOKUP(K199,'Standard Labels'!$A$7:$AC$500,29)","v":0},198]
[{"$f":"VLOOKUP(K200,'Standard Labels'!$A$7:$AC$500,11)","v":0},{"$f":"VLOOKUP(K200,'Standard Labels'!$A$7:$AC$500,13)","v":0},{"$f":"VLOOKUP(K200,'Standard Labels'!$A$7:$AC$500,15)","v":0},{"$f":"VLOOKUP(K200,'Standard Labels'!$A$7:$AC$500,17)","v":0},{"$f":"VLOOKUP(K200,'Standard Labels'!$A$7:$AC$500,19)","v":0},{"$f":"VLOOKUP(K200,'Standard Labels'!$A$7:$AC$500,21)","v":0},{"$f":"VLOOKUP(K200,'Standard Labels'!$A$7:$AC$500,23)","v":0},{"$f":"VLOOKUP(K200,'Standard Labels'!$A$7:$AC$500,25)","v":0},{"$f":"VLOOKUP(K200,'Standard Labels'!$A$7:$AC$500,27)","v":0},{"$f":"VLOOKUP(K200,'Standard Labels'!$A$7:$AC$500,29)","v":0},199]
[{"$f":"VLOOKUP(K201,'Standard Labels'!$A$7:$AC$500,11)","v":0},{"$f":"VLOOKUP(K201,'Standard Labels'!$A$7:$AC$500,13)","v":0},{"$f":"VLOOKUP(K201,'Standard Labels'!$A$7:$AC$500,15)","v":0},{"$f":"VLOOKUP(K201,'Standard Labels'!$A$7:$AC$500,17)","v":0},{"$f":"VLOOKUP(K201,'Standard Labels'!$A$7:$AC$500,19)","v":0},{"$f":"VLOOKUP(K201,'Standard Labels'!$A$7:$AC$500,21)","v":0},{"$f":"VLOOKUP(K201,'Standard Labels'!$A$7:$AC$500,23)","v":0},{"$f":"VLOOKUP(K201,'Standard Labels'!$A$7:$AC$500,25)","v":0},{"$f":"VLOOKUP(K201,'Standard Labels'!$A$7:$AC$500,27)","v":0},{"$f":"VLOOKUP(K201,'Standard Labels'!$A$7:$AC$500,29)","v":0},200]
[{"$f":"VLOOKUP(K202,'Standard Labels'!$A$7:$AC$500,11)","v":0},{"$f":"VLOOKUP(K202,'Standard Labels'!$A$7:$AC$500,13)","v":0},{"$f":"VLOOKUP(K202,'Standard Labels'!$A$7:$AC$500,15)","v":0},{"$f":"VLOOKUP(K202,'Standard Labels'!$A$7:$AC$500,17)","v":0},{"$f":"VLOOKUP(K202,'Standard Labels'!$A$7:$AC$500,19)","v":0},{"$f":"VLOOKUP(K202,'Standard Labels'!$A$7:$AC$500,21)","v":0},{"$f":"VLOOKUP(K202,'Standard Labels'!$A$7:$AC$500,23)","v":0},{"$f":"VLOOKUP(K202,'Standard Labels'!$A$7:$AC$500,25)","v":0},{"$f":"VLOOKUP(K202,'Standard Labels'!$A$7:$AC$500,27)","v":0},{"$f":"VLOOKUP(K202,'Standard Labels'!$A$7:$AC$500,29)","v":0},201]
[{"$f":"VLOOKUP(K203,'Standard Labels'!$A$7:$AC$500,11)","v":0},{"$f":"VLOOKUP(K203,'Standard Labels'!$A$7:$AC$500,13)","v":0},{"$f":"VLOOKUP(K203,'Standard Labels'!$A$7:$AC$500,15)","v":0},{"$f":"VLOOKUP(K203,'Standard Labels'!$A$7:$AC$500,17)","v":0},{"$f":"VLOOKUP(K203,'Standard Labels'!$A$7:$AC$500,19)","v":0},{"$f":"VLOOKUP(K203,'Standard Labels'!$A$7:$AC$500,21)","v":0},{"$f":"VLOOKUP(K203,'Standard Labels'!$A$7:$AC$500,23)","v":0},{"$f":"VLOOKUP(K203,'Standard Labels'!$A$7:$AC$500,25)","v":0},{"$f":"VLOOKUP(K203,'Standard Labels'!$A$7:$AC$500,27)","v":0},{"$f":"VLOOKUP(K203,'Standard Labels'!$A$7:$AC$500,29)","v":0},202]
[{"$f":"VLOOKUP(K204,'Standard Labels'!$A$7:$AC$500,11)","v":0},{"$f":"VLOOKUP(K204,'Standard Labels'!$A$7:$AC$500,13)","v":0},{"$f":"VLOOKUP(K204,'Standard Labels'!$A$7:$AC$500,15)","v":0},{"$f":"VLOOKUP(K204,'Standard Labels'!$A$7:$AC$500,17)","v":0},{"$f":"VLOOKUP(K204,'Standard Labels'!$A$7:$AC$500,19)","v":0},{"$f":"VLOOKUP(K204,'Standard Labels'!$A$7:$AC$500,21)","v":0},{"$f":"VLOOKUP(K204,'Standard Labels'!$A$7:$AC$500,23)","v":0},{"$f":"VLOOKUP(K204,'Standard Labels'!$A$7:$AC$500,25)","v":0},{"$f":"VLOOKUP(K204,'Standard Labels'!$A$7:$AC$500,27)","v":0},{"$f":"VLOOKUP(K204,'Standard Labels'!$A$7:$AC$500,29)","v":0},203]
[{"$f":"VLOOKUP(K205,'Standard Labels'!$A$7:$AC$500,11)","v":0},{"$f":"VLOOKUP(K205,'Standard Labels'!$A$7:$AC$500,13)","v":0},{"$f":"VLOOKUP(K205,'Standard Labels'!$A$7:$AC$500,15)","v":0},{"$f":"VLOOKUP(K205,'Standard Labels'!$A$7:$AC$500,17)","v":0},{"$f":"VLOOKUP(K205,'Standard Labels'!$A$7:$AC$500,19)","v":0},{"$f":"VLOOKUP(K205,'Standard Labels'!$A$7:$AC$500,21)","v":0},{"$f":"VLOOKUP(K205,'Standard Labels'!$A$7:$AC$500,23)","v":0},{"$f":"VLOOKUP(K205,'Standard Labels'!$A$7:$AC$500,25)","v":0},{"$f":"VLOOKUP(K205,'Standard Labels'!$A$7:$AC$500,27)","v":0},{"$f":"VLOOKUP(K205,'Standard Labels'!$A$7:$AC$500,29)","v":0},204]
[{"$f":"VLOOKUP(K206,'Standard Labels'!$A$7:$AC$500,11)","v":0},{"$f":"VLOOKUP(K206,'Standard Labels'!$A$7:$AC$500,13)","v":0},{"$f":"VLOOKUP(K206,'Standard Labels'!$A$7:$AC$500,15)","v":0},{"$f":"VLOOKUP(K206,'Standard Labels'!$A$7:$AC$500,17)","v":0},{"$f":"VLOOKUP(K206,'Standard Labels'!$A$7:$AC$500,19)","v":0},{"$f":"VLOOKUP(K206,'Standard Labels'!$A$7:$AC$500,21)","v":0},{"$f":"VLOOKUP(K206,'Standard Labels'!$A$7:$AC$500,23)","v":0},{"$f":"VLOOKUP(K206,'Standard Labels'!$A$7:$AC$500,25)","v":0},{"$f":"VLOOKUP(K206,'Standard Labels'!$A$7:$AC$500,27)","v":0},{"$f":"VLOOKUP(K206,'Standard Labels'!$A$7:$AC$500,29)","v":0},205]
[{"$f":"VLOOKUP(K207,'Standard Labels'!$A$7:$AC$500,11)","v":0},{"$f":"VLOOKUP(K207,'Standard Labels'!$A$7:$AC$500,13)","v":0},{"$f":"VLOOKUP(K207,'Standard Labels'!$A$7:$AC$500,15)","v":0},{"$f":"VLOOKUP(K207,'Standard Labels'!$A$7:$AC$500,17)","v":0},{"$f":"VLOOKUP(K207,'Standard Labels'!$A$7:$AC$500,19)","v":0},{"$f":"VLOOKUP(K207,'Standard Labels'!$A$7:$AC$500,21)","v":0},{"$f":"VLOOKUP(K207,'Standard Labels'!$A$7:$AC$500,23)","v":0},{"$f":"VLOOKUP(K207,'Standard Labels'!$A$7:$AC$500,25)","v":0},{"$f":"VLOOKUP(K207,'Standard Labels'!$A$7:$AC$500,27)","v":0},{"$f":"VLOOKUP(K207,'Standard Labels'!$A$7:$AC$500,29)","v":0},206]
[{"$f":"VLOOKUP(K208,'Standard Labels'!$A$7:$AC$500,11)","v":0},{"$f":"VLOOKUP(K208,'Standard Labels'!$A$7:$AC$500,13)","v":0},{"$f":"VLOOKUP(K208,'Standard Labels'!$A$7:$AC$500,15)","v":0},{"$f":"VLOOKUP(K208,'Standard Labels'!$A$7:$AC$500,17)","v":0},{"$f":"VLOOKUP(K208,'Standard Labels'!$A$7:$AC$500,19)","v":0},{"$f":"VLOOKUP(K208,'Standard Labels'!$A$7:$AC$500,21)","v":0},{"$f":"VLOOKUP(K208,'Standard Labels'!$A$7:$AC$500,23)","v":0},{"$f":"VLOOKUP(K208,'Standard Labels'!$A$7:$AC$500,25)","v":0},{"$f":"VLOOKUP(K208,'Standard Labels'!$A$7:$AC$500,27)","v":0},{"$f":"VLOOKUP(K208,'Standard Labels'!$A$7:$AC$500,29)","v":0},207]
[{"$f":"VLOOKUP(K209,'Standard Labels'!$A$7:$AC$500,11)","v":0},{"$f":"VLOOKUP(K209,'Standard Labels'!$A$7:$AC$500,13)","v":0},{"$f":"VLOOKUP(K209,'Standard Labels'!$A$7:$AC$500,15)","v":0},{"$f":"VLOOKUP(K209,'Standard Labels'!$A$7:$AC$500,17)","v":0},{"$f":"VLOOKUP(K209,'Standard Labels'!$A$7:$AC$500,19)","v":0},{"$f":"VLOOKUP(K209,'Standard Labels'!$A$7:$AC$500,21)","v":0},{"$f":"VLOOKUP(K209,'Standard Labels'!$A$7:$AC$500,23)","v":0},{"$f":"VLOOKUP(K209,'Standard Labels'!$A$7:$AC$500,25)","v":0},{"$f":"VLOOKUP(K209,'Standard Labels'!$A$7:$AC$500,27)","v":0},{"$f":"VLOOKUP(K209,'Standard Labels'!$A$7:$AC$500,29)","v":0},208]
[{"$f":"VLOOKUP(K210,'Standard Labels'!$A$7:$AC$500,11)","v":0},{"$f":"VLOOKUP(K210,'Standard Labels'!$A$7:$AC$500,13)","v":0},{"$f":"VLOOKUP(K210,'Standard Labels'!$A$7:$AC$500,15)","v":0},{"$f":"VLOOKUP(K210,'Standard Labels'!$A$7:$AC$500,17)","v":0},{"$f":"VLOOKUP(K210,'Standard Labels'!$A$7:$AC$500,19)","v":0},{"$f":"VLOOKUP(K210,'Standard Labels'!$A$7:$AC$500,21)","v":0},{"$f":"VLOOKUP(K210,'Standard Labels'!$A$7:$AC$500,23)","v":0},{"$f":"VLOOKUP(K210,'Standard Labels'!$A$7:$AC$500,25)","v":0},{"$f":"VLOOKUP(K210,'Standard Labels'!$A$7:$AC$500,27)","v":0},{"$f":"VLOOKUP(K210,'Standard Labels'!$A$7:$AC$500,29)","v":0},209]
[{"$f":"VLOOKUP(K211,'Standard Labels'!$A$7:$AC$500,11)","v":0},{"$f":"VLOOKUP(K211,'Standard Labels'!$A$7:$AC$500,13)","v":0},{"$f":"VLOOKUP(K211,'Standard Labels'!$A$7:$AC$500,15)","v":0},{"$f":"VLOOKUP(K211,'Standard Labels'!$A$7:$AC$500,17)","v":0},{"$f":"VLOOKUP(K211,'Standard Labels'!$A$7:$AC$500,19)","v":0},{"$f":"VLOOKUP(K211,'Standard Labels'!$A$7:$AC$500,21)","v":0},{"$f":"VLOOKUP(K211,'Standard Labels'!$A$7:$AC$500,23)","v":0},{"$f":"VLOOKUP(K211,'Standard Labels'!$A$7:$AC$500,25)","v":0},{"$f":"VLOOKUP(K211,'Standard Labels'!$A$7:$AC$500,27)","v":0},{"$f":"VLOOKUP(K211,'Standard Labels'!$A$7:$AC$500,29)","v":0},210]
[{"$f":"VLOOKUP(K212,'Standard Labels'!$A$7:$AC$500,11)","v":0},{"$f":"VLOOKUP(K212,'Standard Labels'!$A$7:$AC$500,13)","v":0},{"$f":"VLOOKUP(K212,'Standard Labels'!$A$7:$AC$500,15)","v":0},{"$f":"VLOOKUP(K212,'Standard Labels'!$A$7:$AC$500,17)","v":0},{"$f":"VLOOKUP(K212,'Standard Labels'!$A$7:$AC$500,19)","v":0},{"$f":"VLOOKUP(K212,'Standard Labels'!$A$7:$AC$500,21)","v":0},{"$f":"VLOOKUP(K212,'Standard Labels'!$A$7:$AC$500,23)","v":0},{"$f":"VLOOKUP(K212,'Standard Labels'!$A$7:$AC$500,25)","v":0},{"$f":"VLOOKUP(K212,'Standard Labels'!$A$7:$AC$500,27)","v":0},{"$f":"VLOOKUP(K212,'Standard Labels'!$A$7:$AC$500,29)","v":0},211]
[{"$f":"VLOOKUP(K213,'Standard Labels'!$A$7:$AC$500,11)","v":0},{"$f":"VLOOKUP(K213,'Standard Labels'!$A$7:$AC$500,13)","v":0},{"$f":"VLOOKUP(K213,'Standard Labels'!$A$7:$AC$500,15)","v":0},{"$f":"VLOOKUP(K213,'Standard Labels'!$A$7:$AC$500,17)","v":0},{"$f":"VLOOKUP(K213,'Standard Labels'!$A$7:$AC$500,19)","v":0},{"$f":"VLOOKUP(K213,'Standard Labels'!$A$7:$AC$500,21)","v":0},{"$f":"VLOOKUP(K213,'Standard Labels'!$A$7:$AC$500,23)","v":0},{"$f":"VLOOKUP(K213,'Standard Labels'!$A$7:$AC$500,25)","v":0},{"$f":"VLOOKUP(K213,'Standard Labels'!$A$7:$AC$500,27)","v":0},{"$f":"VLOOKUP(K213,'Standard Labels'!$A$7:$AC$500,29)","v":0},212]
[{"$f":"VLOOKUP(K214,'Standard Labels'!$A$7:$AC$500,11)","v":0},{"$f":"VLOOKUP(K214,'Standard Labels'!$A$7:$AC$500,13)","v":0},{"$f":"VLOOKUP(K214,'Standard Labels'!$A$7:$AC$500,15)","v":0},{"$f":"VLOOKUP(K214,'Standard Labels'!$A$7:$AC$500,17)","v":0},{"$f":"VLOOKUP(K214,'Standard Labels'!$A$7:$AC$500,19)","v":0},{"$f":"VLOOKUP(K214,'Standard Labels'!$A$7:$AC$500,21)","v":0},{"$f":"VLOOKUP(K214,'Standard Labels'!$A$7:$AC$500,23)","v":0},{"$f":"VLOOKUP(K214,'Standard Labels'!$A$7:$AC$500,25)","v":0},{"$f":"VLOOKUP(K214,'Standard Labels'!$A$7:$AC$500,27)","v":0},{"$f":"VLOOKUP(K214,'Standard Labels'!$A$7:$AC$500,29)","v":0},213]
[{"$f":"VLOOKUP(K215,'Standard Labels'!$A$7:$AC$500,11)","v":0},{"$f":"VLOOKUP(K215,'Standard Labels'!$A$7:$AC$500,13)","v":0},{"$f":"VLOOKUP(K215,'Standard Labels'!$A$7:$AC$500,15)","v":0},{"$f":"VLOOKUP(K215,'Standard Labels'!$A$7:$AC$500,17)","v":0},{"$f":"VLOOKUP(K215,'Standard Labels'!$A$7:$AC$500,19)","v":0},{"$f":"VLOOKUP(K215,'Standard Labels'!$A$7:$AC$500,21)","v":0},{"$f":"VLOOKUP(K215,'Standard Labels'!$A$7:$AC$500,23)","v":0},{"$f":"VLOOKUP(K215,'Standard Labels'!$A$7:$AC$500,25)","v":0},{"$f":"VLOOKUP(K215,'Standard Labels'!$A$7:$AC$500,27)","v":0},{"$f":"VLOOKUP(K215,'Standard Labels'!$A$7:$AC$500,29)","v":0},214]
[{"$f":"VLOOKUP(K216,'Standard Labels'!$A$7:$AC$500,11)","v":0},{"$f":"VLOOKUP(K216,'Standard Labels'!$A$7:$AC$500,13)","v":0},{"$f":"VLOOKUP(K216,'Standard Labels'!$A$7:$AC$500,15)","v":0},{"$f":"VLOOKUP(K216,'Standard Labels'!$A$7:$AC$500,17)","v":0},{"$f":"VLOOKUP(K216,'Standard Labels'!$A$7:$AC$500,19)","v":0},{"$f":"VLOOKUP(K216,'Standard Labels'!$A$7:$AC$500,21)","v":0},{"$f":"VLOOKUP(K216,'Standard Labels'!$A$7:$AC$500,23)","v":0},{"$f":"VLOOKUP(K216,'Standard Labels'!$A$7:$AC$500,25)","v":0},{"$f":"VLOOKUP(K216,'Standard Labels'!$A$7:$AC$500,27)","v":0},{"$f":"VLOOKUP(K216,'Standard Labels'!$A$7:$AC$500,29)","v":0},215]
[{"$f":"VLOOKUP(K217,'Standard Labels'!$A$7:$AC$500,11)","v":0},{"$f":"VLOOKUP(K217,'Standard Labels'!$A$7:$AC$500,13)","v":0},{"$f":"VLOOKUP(K217,'Standard Labels'!$A$7:$AC$500,15)","v":0},{"$f":"VLOOKUP(K217,'Standard Labels'!$A$7:$AC$500,17)","v":0},{"$f":"VLOOKUP(K217,'Standard Labels'!$A$7:$AC$500,19)","v":0},{"$f":"VLOOKUP(K217,'Standard Labels'!$A$7:$AC$500,21)","v":0},{"$f":"VLOOKUP(K217,'Standard Labels'!$A$7:$AC$500,23)","v":0},{"$f":"VLOOKUP(K217,'Standard Labels'!$A$7:$AC$500,25)","v":0},{"$f":"VLOOKUP(K217,'Standard Labels'!$A$7:$AC$500,27)","v":0},{"$f":"VLOOKUP(K217,'Standard Labels'!$A$7:$AC$500,29)","v":0},216]
[{"$f":"VLOOKUP(K218,'Standard Labels'!$A$7:$AC$500,11)","v":0},{"$f":"VLOOKUP(K218,'Standard Labels'!$A$7:$AC$500,13)","v":0},{"$f":"VLOOKUP(K218,'Standard Labels'!$A$7:$AC$500,15)","v":0},{"$f":"VLOOKUP(K218,'Standard Labels'!$A$7:$AC$500,17)","v":0},{"$f":"VLOOKUP(K218,'Standard Labels'!$A$7:$AC$500,19)","v":0},{"$f":"VLOOKUP(K218,'Standard Labels'!$A$7:$AC$500,21)","v":0},{"$f":"VLOOKUP(K218,'Standard Labels'!$A$7:$AC$500,23)","v":0},{"$f":"VLOOKUP(K218,'Standard Labels'!$A$7:$AC$500,25)","v":0},{"$f":"VLOOKUP(K218,'Standard Labels'!$A$7:$AC$500,27)","v":0},{"$f":"VLOOKUP(K218,'Standard Labels'!$A$7:$AC$500,29)","v":0},217]
[{"$f":"VLOOKUP(K219,'Standard Labels'!$A$7:$AC$500,11)","v":0},{"$f":"VLOOKUP(K219,'Standard Labels'!$A$7:$AC$500,13)","v":0},{"$f":"VLOOKUP(K219,'Standard Labels'!$A$7:$AC$500,15)","v":0},{"$f":"VLOOKUP(K219,'Standard Labels'!$A$7:$AC$500,17)","v":0},{"$f":"VLOOKUP(K219,'Standard Labels'!$A$7:$AC$500,19)","v":0},{"$f":"VLOOKUP(K219,'Standard Labels'!$A$7:$AC$500,21)","v":0},{"$f":"VLOOKUP(K219,'Standard Labels'!$A$7:$AC$500,23)","v":0},{"$f":"VLOOKUP(K219,'Standard Labels'!$A$7:$AC$500,25)","v":0},{"$f":"VLOOKUP(K219,'Standard Labels'!$A$7:$AC$500,27)","v":0},{"$f":"VLOOKUP(K219,'Standard Labels'!$A$7:$AC$500,29)","v":0},218]
[{"$f":"VLOOKUP(K220,'Standard Labels'!$A$7:$AC$500,11)","v":0},{"$f":"VLOOKUP(K220,'Standard Labels'!$A$7:$AC$500,13)","v":0},{"$f":"VLOOKUP(K220,'Standard Labels'!$A$7:$AC$500,15)","v":0},{"$f":"VLOOKUP(K220,'Standard Labels'!$A$7:$AC$500,17)","v":0},{"$f":"VLOOKUP(K220,'Standard Labels'!$A$7:$AC$500,19)","v":0},{"$f":"VLOOKUP(K220,'Standard Labels'!$A$7:$AC$500,21)","v":0},{"$f":"VLOOKUP(K220,'Standard Labels'!$A$7:$AC$500,23)","v":0},{"$f":"VLOOKUP(K220,'Standard Labels'!$A$7:$AC$500,25)","v":0},{"$f":"VLOOKUP(K220,'Standard Labels'!$A$7:$AC$500,27)","v":0},{"$f":"VLOOKUP(K220,'Standard Labels'!$A$7:$AC$500,29)","v":0},219]
[{"$f":"VLOOKUP(K221,'Standard Labels'!$A$7:$AC$500,11)","v":0},{"$f":"VLOOKUP(K221,'Standard Labels'!$A$7:$AC$500,13)","v":0},{"$f":"VLOOKUP(K221,'Standard Labels'!$A$7:$AC$500,15)","v":0},{"$f":"VLOOKUP(K221,'Standard Labels'!$A$7:$AC$500,17)","v":0},{"$f":"VLOOKUP(K221,'Standard Labels'!$A$7:$AC$500,19)","v":0},{"$f":"VLOOKUP(K221,'Standard Labels'!$A$7:$AC$500,21)","v":0},{"$f":"VLOOKUP(K221,'Standard Labels'!$A$7:$AC$500,23)","v":0},{"$f":"VLOOKUP(K221,'Standard Labels'!$A$7:$AC$500,25)","v":0},{"$f":"VLOOKUP(K221,'Standard Labels'!$A$7:$AC$500,27)","v":0},{"$f":"VLOOKUP(K221,'Standard Labels'!$A$7:$AC$500,29)","v":0},220]
[{"$f":"VLOOKUP(K222,'Standard Labels'!$A$7:$AC$500,11)","v":0},{"$f":"VLOOKUP(K222,'Standard Labels'!$A$7:$AC$500,13)","v":0},{"$f":"VLOOKUP(K222,'Standard Labels'!$A$7:$AC$500,15)","v":0},{"$f":"VLOOKUP(K222,'Standard Labels'!$A$7:$AC$500,17)","v":0},{"$f":"VLOOKUP(K222,'Standard Labels'!$A$7:$AC$500,19)","v":0},{"$f":"VLOOKUP(K222,'Standard Labels'!$A$7:$AC$500,21)","v":0},{"$f":"VLOOKUP(K222,'Standard Labels'!$A$7:$AC$500,23)","v":0},{"$f":"VLOOKUP(K222,'Standard Labels'!$A$7:$AC$500,25)","v":0},{"$f":"VLOOKUP(K222,'Standard Labels'!$A$7:$AC$500,27)","v":0},{"$f":"VLOOKUP(K222,'Standard Labels'!$A$7:$AC$500,29)","v":0},221]
[{"$f":"VLOOKUP(K223,'Standard Labels'!$A$7:$AC$500,11)","v":0},{"$f":"VLOOKUP(K223,'Standard Labels'!$A$7:$AC$500,13)","v":0},{"$f":"VLOOKUP(K223,'Standard Labels'!$A$7:$AC$500,15)","v":0},{"$f":"VLOOKUP(K223,'Standard Labels'!$A$7:$AC$500,17)","v":0},{"$f":"VLOOKUP(K223,'Standard Labels'!$A$7:$AC$500,19)","v":0},{"$f":"VLOOKUP(K223,'Standard Labels'!$A$7:$AC$500,21)","v":0},{"$f":"VLOOKUP(K223,'Standard Labels'!$A$7:$AC$500,23)","v":0},{"$f":"VLOOKUP(K223,'Standard Labels'!$A$7:$AC$500,25)","v":0},{"$f":"VLOOKUP(K223,'Standard Labels'!$A$7:$AC$500,27)","v":0},{"$f":"VLOOKUP(K223,'Standard Labels'!$A$7:$AC$500,29)","v":0},222]
[{"$f":"VLOOKUP(K224,'Standard Labels'!$A$7:$AC$500,11)","v":0},{"$f":"VLOOKUP(K224,'Standard Labels'!$A$7:$AC$500,13)","v":0},{"$f":"VLOOKUP(K224,'Standard Labels'!$A$7:$AC$500,15)","v":0},{"$f":"VLOOKUP(K224,'Standard Labels'!$A$7:$AC$500,17)","v":0},{"$f":"VLOOKUP(K224,'Standard Labels'!$A$7:$AC$500,19)","v":0},{"$f":"VLOOKUP(K224,'Standard Labels'!$A$7:$AC$500,21)","v":0},{"$f":"VLOOKUP(K224,'Standard Labels'!$A$7:$AC$500,23)","v":0},{"$f":"VLOOKUP(K224,'Standard Labels'!$A$7:$AC$500,25)","v":0},{"$f":"VLOOKUP(K224,'Standard Labels'!$A$7:$AC$500,27)","v":0},{"$f":"VLOOKUP(K224,'Standard Labels'!$A$7:$AC$500,29)","v":0},223]
[{"$f":"VLOOKUP(K225,'Standard Labels'!$A$7:$AC$500,11)","v":0},{"$f":"VLOOKUP(K225,'Standard Labels'!$A$7:$AC$500,13)","v":0},{"$f":"VLOOKUP(K225,'Standard Labels'!$A$7:$AC$500,15)","v":0},{"$f":"VLOOKUP(K225,'Standard Labels'!$A$7:$AC$500,17)","v":0},{"$f":"VLOOKUP(K225,'Standard Labels'!$A$7:$AC$500,19)","v":0},{"$f":"VLOOKUP(K225,'Standard Labels'!$A$7:$AC$500,21)","v":0},{"$f":"VLOOKUP(K225,'Standard Labels'!$A$7:$AC$500,23)","v":0},{"$f":"VLOOKUP(K225,'Standard Labels'!$A$7:$AC$500,25)","v":0},{"$f":"VLOOKUP(K225,'Standard Labels'!$A$7:$AC$500,27)","v":0},{"$f":"VLOOKUP(K225,'Standard Labels'!$A$7:$AC$500,29)","v":0},224]
[{"$f":"VLOOKUP(K226,'Standard Labels'!$A$7:$AC$500,11)","v":0},{"$f":"VLOOKUP(K226,'Standard Labels'!$A$7:$AC$500,13)","v":0},{"$f":"VLOOKUP(K226,'Standard Labels'!$A$7:$AC$500,15)","v":0},{"$f":"VLOOKUP(K226,'Standard Labels'!$A$7:$AC$500,17)","v":0},{"$f":"VLOOKUP(K226,'Standard Labels'!$A$7:$AC$500,19)","v":0},{"$f":"VLOOKUP(K226,'Standard Labels'!$A$7:$AC$500,21)","v":0},{"$f":"VLOOKUP(K226,'Standard Labels'!$A$7:$AC$500,23)","v":0},{"$f":"VLOOKUP(K226,'Standard Labels'!$A$7:$AC$500,25)","v":0},{"$f":"VLOOKUP(K226,'Standard Labels'!$A$7:$AC$500,27)","v":0},{"$f":"VLOOKUP(K226,'Standard Labels'!$A$7:$AC$500,29)","v":0},225]
[{"$f":"VLOOKUP(K227,'Standard Labels'!$A$7:$AC$500,11)","v":0},{"$f":"VLOOKUP(K227,'Standard Labels'!$A$7:$AC$500,13)","v":0},{"$f":"VLOOKUP(K227,'Standard Labels'!$A$7:$AC$500,15)","v":0},{"$f":"VLOOKUP(K227,'Standard Labels'!$A$7:$AC$500,17)","v":0},{"$f":"VLOOKUP(K227,'Standard Labels'!$A$7:$AC$500,19)","v":0},{"$f":"VLOOKUP(K227,'Standard Labels'!$A$7:$AC$500,21)","v":0},{"$f":"VLOOKUP(K227,'Standard Labels'!$A$7:$AC$500,23)","v":0},{"$f":"VLOOKUP(K227,'Standard Labels'!$A$7:$AC$500,25)","v":0},{"$f":"VLOOKUP(K227,'Standard Labels'!$A$7:$AC$500,27)","v":0},{"$f":"VLOOKUP(K227,'Standard Labels'!$A$7:$AC$500,29)","v":0},226]
[{"$f":"VLOOKUP(K228,'Standard Labels'!$A$7:$AC$500,11)","v":0},{"$f":"VLOOKUP(K228,'Standard Labels'!$A$7:$AC$500,13)","v":0},{"$f":"VLOOKUP(K228,'Standard Labels'!$A$7:$AC$500,15)","v":0},{"$f":"VLOOKUP(K228,'Standard Labels'!$A$7:$AC$500,17)","v":0},{"$f":"VLOOKUP(K228,'Standard Labels'!$A$7:$AC$500,19)","v":0},{"$f":"VLOOKUP(K228,'Standard Labels'!$A$7:$AC$500,21)","v":0},{"$f":"VLOOKUP(K228,'Standard Labels'!$A$7:$AC$500,23)","v":0},{"$f":"VLOOKUP(K228,'Standard Labels'!$A$7:$AC$500,25)","v":0},{"$f":"VLOOKUP(K228,'Standard Labels'!$A$7:$AC$500,27)","v":0},{"$f":"VLOOKUP(K228,'Standard Labels'!$A$7:$AC$500,29)","v":0},227]
[{"$f":"VLOOKUP(K229,'Standard Labels'!$A$7:$AC$500,11)","v":0},{"$f":"VLOOKUP(K229,'Standard Labels'!$A$7:$AC$500,13)","v":0},{"$f":"VLOOKUP(K229,'Standard Labels'!$A$7:$AC$500,15)","v":0},{"$f":"VLOOKUP(K229,'Standard Labels'!$A$7:$AC$500,17)","v":0},{"$f":"VLOOKUP(K229,'Standard Labels'!$A$7:$AC$500,19)","v":0},{"$f":"VLOOKUP(K229,'Standard Labels'!$A$7:$AC$500,21)","v":0},{"$f":"VLOOKUP(K229,'Standard Labels'!$A$7:$AC$500,23)","v":0},{"$f":"VLOOKUP(K229,'Standard Labels'!$A$7:$AC$500,25)","v":0},{"$f":"VLOOKUP(K229,'Standard Labels'!$A$7:$AC$500,27)","v":0},{"$f":"VLOOKUP(K229,'Standard Labels'!$A$7:$AC$500,29)","v":0},228]
[{"$f":"VLOOKUP(K230,'Standard Labels'!$A$7:$AC$500,11)","v":0},{"$f":"VLOOKUP(K230,'Standard Labels'!$A$7:$AC$500,13)","v":0},{"$f":"VLOOKUP(K230,'Standard Labels'!$A$7:$AC$500,15)","v":0},{"$f":"VLOOKUP(K230,'Standard Labels'!$A$7:$AC$500,17)","v":0},{"$f":"VLOOKUP(K230,'Standard Labels'!$A$7:$AC$500,19)","v":0},{"$f":"VLOOKUP(K230,'Standard Labels'!$A$7:$AC$500,21)","v":0},{"$f":"VLOOKUP(K230,'Standard Labels'!$A$7:$AC$500,23)","v":0},{"$f":"VLOOKUP(K230,'Standard Labels'!$A$7:$AC$500,25)","v":0},{"$f":"VLOOKUP(K230,'Standard Labels'!$A$7:$AC$500,27)","v":0},{"$f":"VLOOKUP(K230,'Standard Labels'!$A$7:$AC$500,29)","v":0},229]
[{"$f":"VLOOKUP(K231,'Standard Labels'!$A$7:$AC$500,11)","v":0},{"$f":"VLOOKUP(K231,'Standard Labels'!$A$7:$AC$500,13)","v":0},{"$f":"VLOOKUP(K231,'Standard Labels'!$A$7:$AC$500,15)","v":0},{"$f":"VLOOKUP(K231,'Standard Labels'!$A$7:$AC$500,17)","v":0},{"$f":"VLOOKUP(K231,'Standard Labels'!$A$7:$AC$500,19)","v":0},{"$f":"VLOOKUP(K231,'Standard Labels'!$A$7:$AC$500,21)","v":0},{"$f":"VLOOKUP(K231,'Standard Labels'!$A$7:$AC$500,23)","v":0},{"$f":"VLOOKUP(K231,'Standard Labels'!$A$7:$AC$500,25)","v":0},{"$f":"VLOOKUP(K231,'Standard Labels'!$A$7:$AC$500,27)","v":0},{"$f":"VLOOKUP(K231,'Standard Labels'!$A$7:$AC$500,29)","v":0},230]
[{"$f":"VLOOKUP(K232,'Standard Labels'!$A$7:$AC$500,11)","v":0},{"$f":"VLOOKUP(K232,'Standard Labels'!$A$7:$AC$500,13)","v":0},{"$f":"VLOOKUP(K232,'Standard Labels'!$A$7:$AC$500,15)","v":0},{"$f":"VLOOKUP(K232,'Standard Labels'!$A$7:$AC$500,17)","v":0},{"$f":"VLOOKUP(K232,'Standard Labels'!$A$7:$AC$500,19)","v":0},{"$f":"VLOOKUP(K232,'Standard Labels'!$A$7:$AC$500,21)","v":0},{"$f":"VLOOKUP(K232,'Standard Labels'!$A$7:$AC$500,23)","v":0},{"$f":"VLOOKUP(K232,'Standard Labels'!$A$7:$AC$500,25)","v":0},{"$f":"VLOOKUP(K232,'Standard Labels'!$A$7:$AC$500,27)","v":0},{"$f":"VLOOKUP(K232,'Standard Labels'!$A$7:$AC$500,29)","v":0},231]
[{"$f":"VLOOKUP(K233,'Standard Labels'!$A$7:$AC$500,11)","v":0},{"$f":"VLOOKUP(K233,'Standard Labels'!$A$7:$AC$500,13)","v":0},{"$f":"VLOOKUP(K233,'Standard Labels'!$A$7:$AC$500,15)","v":0},{"$f":"VLOOKUP(K233,'Standard Labels'!$A$7:$AC$500,17)","v":0},{"$f":"VLOOKUP(K233,'Standard Labels'!$A$7:$AC$500,19)","v":0},{"$f":"VLOOKUP(K233,'Standard Labels'!$A$7:$AC$500,21)","v":0},{"$f":"VLOOKUP(K233,'Standard Labels'!$A$7:$AC$500,23)","v":0},{"$f":"VLOOKUP(K233,'Standard Labels'!$A$7:$AC$500,25)","v":0},{"$f":"VLOOKUP(K233,'Standard Labels'!$A$7:$AC$500,27)","v":0},{"$f":"VLOOKUP(K233,'Standard Labels'!$A$7:$AC$500,29)","v":0},232]
[{"$f":"VLOOKUP(K234,'Standard Labels'!$A$7:$AC$500,11)","v":0},{"$f":"VLOOKUP(K234,'Standard Labels'!$A$7:$AC$500,13)","v":0},{"$f":"VLOOKUP(K234,'Standard Labels'!$A$7:$AC$500,15)","v":0},{"$f":"VLOOKUP(K234,'Standard Labels'!$A$7:$AC$500,17)","v":0},{"$f":"VLOOKUP(K234,'Standard Labels'!$A$7:$AC$500,19)","v":0},{"$f":"VLOOKUP(K234,'Standard Labels'!$A$7:$AC$500,21)","v":0},{"$f":"VLOOKUP(K234,'Standard Labels'!$A$7:$AC$500,23)","v":0},{"$f":"VLOOKUP(K234,'Standard Labels'!$A$7:$AC$500,25)","v":0},{"$f":"VLOOKUP(K234,'Standard Labels'!$A$7:$AC$500,27)","v":0},{"$f":"VLOOKUP(K234,'Standard Labels'!$A$7:$AC$500,29)","v":0},233]
[{"$f":"VLOOKUP(K235,'Standard Labels'!$A$7:$AC$500,11)","v":0},{"$f":"VLOOKUP(K235,'Standard Labels'!$A$7:$AC$500,13)","v":0},{"$f":"VLOOKUP(K235,'Standard Labels'!$A$7:$AC$500,15)","v":0},{"$f":"VLOOKUP(K235,'Standard Labels'!$A$7:$AC$500,17)","v":0},{"$f":"VLOOKUP(K235,'Standard Labels'!$A$7:$AC$500,19)","v":0},{"$f":"VLOOKUP(K235,'Standard Labels'!$A$7:$AC$500,21)","v":0},{"$f":"VLOOKUP(K235,'Standard Labels'!$A$7:$AC$500,23)","v":0},{"$f":"VLOOKUP(K235,'Standard Labels'!$A$7:$AC$500,25)","v":0},{"$f":"VLOOKUP(K235,'Standard Labels'!$A$7:$AC$500,27)","v":0},{"$f":"VLOOKUP(K235,'Standard Labels'!$A$7:$AC$500,29)","v":0},234]
[{"$f":"VLOOKUP(K236,'Standard Labels'!$A$7:$AC$500,11)","v":0},{"$f":"VLOOKUP(K236,'Standard Labels'!$A$7:$AC$500,13)","v":0},{"$f":"VLOOKUP(K236,'Standard Labels'!$A$7:$AC$500,15)","v":0},{"$f":"VLOOKUP(K236,'Standard Labels'!$A$7:$AC$500,17)","v":0},{"$f":"VLOOKUP(K236,'Standard Labels'!$A$7:$AC$500,19)","v":0},{"$f":"VLOOKUP(K236,'Standard Labels'!$A$7:$AC$500,21)","v":0},{"$f":"VLOOKUP(K236,'Standard Labels'!$A$7:$AC$500,23)","v":0},{"$f":"VLOOKUP(K236,'Standard Labels'!$A$7:$AC$500,25)","v":0},{"$f":"VLOOKUP(K236,'Standard Labels'!$A$7:$AC$500,27)","v":0},{"$f":"VLOOKUP(K236,'Standard Labels'!$A$7:$AC$500,29)","v":0},235]
[{"$f":"VLOOKUP(K237,'Standard Labels'!$A$7:$AC$500,11)","v":0},{"$f":"VLOOKUP(K237,'Standard Labels'!$A$7:$AC$500,13)","v":0},{"$f":"VLOOKUP(K237,'Standard Labels'!$A$7:$AC$500,15)","v":0},{"$f":"VLOOKUP(K237,'Standard Labels'!$A$7:$AC$500,17)","v":0},{"$f":"VLOOKUP(K237,'Standard Labels'!$A$7:$AC$500,19)","v":0},{"$f":"VLOOKUP(K237,'Standard Labels'!$A$7:$AC$500,21)","v":0},{"$f":"VLOOKUP(K237,'Standard Labels'!$A$7:$AC$500,23)","v":0},{"$f":"VLOOKUP(K237,'Standard Labels'!$A$7:$AC$500,25)","v":0},{"$f":"VLOOKUP(K237,'Standard Labels'!$A$7:$AC$500,27)","v":0},{"$f":"VLOOKUP(K237,'Standard Labels'!$A$7:$AC$500,29)","v":0},236]
[{"$f":"VLOOKUP(K238,'Standard Labels'!$A$7:$AC$500,11)","v":0},{"$f":"VLOOKUP(K238,'Standard Labels'!$A$7:$AC$500,13)","v":0},{"$f":"VLOOKUP(K238,'Standard Labels'!$A$7:$AC$500,15)","v":0},{"$f":"VLOOKUP(K238,'Standard Labels'!$A$7:$AC$500,17)","v":0},{"$f":"VLOOKUP(K238,'Standard Labels'!$A$7:$AC$500,19)","v":0},{"$f":"VLOOKUP(K238,'Standard Labels'!$A$7:$AC$500,21)","v":0},{"$f":"VLOOKUP(K238,'Standard Labels'!$A$7:$AC$500,23)","v":0},{"$f":"VLOOKUP(K238,'Standard Labels'!$A$7:$AC$500,25)","v":0},{"$f":"VLOOKUP(K238,'Standard Labels'!$A$7:$AC$500,27)","v":0},{"$f":"VLOOKUP(K238,'Standard Labels'!$A$7:$AC$500,29)","v":0},237]
[{"$f":"VLOOKUP(K239,'Standard Labels'!$A$7:$AC$500,11)","v":0},{"$f":"VLOOKUP(K239,'Standard Labels'!$A$7:$AC$500,13)","v":0},{"$f":"VLOOKUP(K239,'Standard Labels'!$A$7:$AC$500,15)","v":0},{"$f":"VLOOKUP(K239,'Standard Labels'!$A$7:$AC$500,17)","v":0},{"$f":"VLOOKUP(K239,'Standard Labels'!$A$7:$AC$500,19)","v":0},{"$f":"VLOOKUP(K239,'Standard Labels'!$A$7:$AC$500,21)","v":0},{"$f":"VLOOKUP(K239,'Standard Labels'!$A$7:$AC$500,23)","v":0},{"$f":"VLOOKUP(K239,'Standard Labels'!$A$7:$AC$500,25)","v":0},{"$f":"VLOOKUP(K239,'Standard Labels'!$A$7:$AC$500,27)","v":0},{"$f":"VLOOKUP(K239,'Standard Labels'!$A$7:$AC$500,29)","v":0},238]
[{"$f":"VLOOKUP(K240,'Standard Labels'!$A$7:$AC$500,11)","v":0},{"$f":"VLOOKUP(K240,'Standard Labels'!$A$7:$AC$500,13)","v":0},{"$f":"VLOOKUP(K240,'Standard Labels'!$A$7:$AC$500,15)","v":0},{"$f":"VLOOKUP(K240,'Standard Labels'!$A$7:$AC$500,17)","v":0},{"$f":"VLOOKUP(K240,'Standard Labels'!$A$7:$AC$500,19)","v":0},{"$f":"VLOOKUP(K240,'Standard Labels'!$A$7:$AC$500,21)","v":0},{"$f":"VLOOKUP(K240,'Standard Labels'!$A$7:$AC$500,23)","v":0},{"$f":"VLOOKUP(K240,'Standard Labels'!$A$7:$AC$500,25)","v":0},{"$f":"VLOOKUP(K240,'Standard Labels'!$A$7:$AC$500,27)","v":0},{"$f":"VLOOKUP(K240,'Standard Labels'!$A$7:$AC$500,29)","v":0},239]
[{"$f":"VLOOKUP(K241,'Standard Labels'!$A$7:$AC$500,11)","v":0},{"$f":"VLOOKUP(K241,'Standard Labels'!$A$7:$AC$500,13)","v":0},{"$f":"VLOOKUP(K241,'Standard Labels'!$A$7:$AC$500,15)","v":0},{"$f":"VLOOKUP(K241,'Standard Labels'!$A$7:$AC$500,17)","v":0},{"$f":"VLOOKUP(K241,'Standard Labels'!$A$7:$AC$500,19)","v":0},{"$f":"VLOOKUP(K241,'Standard Labels'!$A$7:$AC$500,21)","v":0},{"$f":"VLOOKUP(K241,'Standard Labels'!$A$7:$AC$500,23)","v":0},{"$f":"VLOOKUP(K241,'Standard Labels'!$A$7:$AC$500,25)","v":0},{"$f":"VLOOKUP(K241,'Standard Labels'!$A$7:$AC$500,27)","v":0},{"$f":"VLOOKUP(K241,'Standard Labels'!$A$7:$AC$500,29)","v":0},240]
[{"$f":"VLOOKUP(K242,'Standard Labels'!$A$7:$AC$500,11)","v":0},{"$f":"VLOOKUP(K242,'Standard Labels'!$A$7:$AC$500,13)","v":0},{"$f":"VLOOKUP(K242,'Standard Labels'!$A$7:$AC$500,15)","v":0},{"$f":"VLOOKUP(K242,'Standard Labels'!$A$7:$AC$500,17)","v":0},{"$f":"VLOOKUP(K242,'Standard Labels'!$A$7:$AC$500,19)","v":0},{"$f":"VLOOKUP(K242,'Standard Labels'!$A$7:$AC$500,21)","v":0},{"$f":"VLOOKUP(K242,'Standard Labels'!$A$7:$AC$500,23)","v":0},{"$f":"VLOOKUP(K242,'Standard Labels'!$A$7:$AC$500,25)","v":0},{"$f":"VLOOKUP(K242,'Standard Labels'!$A$7:$AC$500,27)","v":0},{"$f":"VLOOKUP(K242,'Standard Labels'!$A$7:$AC$500,29)","v":0},241]
[{"$f":"VLOOKUP(K243,'Standard Labels'!$A$7:$AC$500,11)","v":0},{"$f":"VLOOKUP(K243,'Standard Labels'!$A$7:$AC$500,13)","v":0},{"$f":"VLOOKUP(K243,'Standard Labels'!$A$7:$AC$500,15)","v":0},{"$f":"VLOOKUP(K243,'Standard Labels'!$A$7:$AC$500,17)","v":0},{"$f":"VLOOKUP(K243,'Standard Labels'!$A$7:$AC$500,19)","v":0},{"$f":"VLOOKUP(K243,'Standard Labels'!$A$7:$AC$500,21)","v":0},{"$f":"VLOOKUP(K243,'Standard Labels'!$A$7:$AC$500,23)","v":0},{"$f":"VLOOKUP(K243,'Standard Labels'!$A$7:$AC$500,25)","v":0},{"$f":"VLOOKUP(K243,'Standard Labels'!$A$7:$AC$500,27)","v":0},{"$f":"VLOOKUP(K243,'Standard Labels'!$A$7:$AC$500,29)","v":0},242]
[{"$f":"VLOOKUP(K244,'Standard Labels'!$A$7:$AC$500,11)","v":0},{"$f":"VLOOKUP(K244,'Standard Labels'!$A$7:$AC$500,13)","v":0},{"$f":"VLOOKUP(K244,'Standard Labels'!$A$7:$AC$500,15)","v":0},{"$f":"VLOOKUP(K244,'Standard Labels'!$A$7:$AC$500,17)","v":0},{"$f":"VLOOKUP(K244,'Standard Labels'!$A$7:$AC$500,19)","v":0},{"$f":"VLOOKUP(K244,'Standard Labels'!$A$7:$AC$500,21)","v":0},{"$f":"VLOOKUP(K244,'Standard Labels'!$A$7:$AC$500,23)","v":0},{"$f":"VLOOKUP(K244,'Standard Labels'!$A$7:$AC$500,25)","v":0},{"$f":"VLOOKUP(K244,'Standard Labels'!$A$7:$AC$500,27)","v":0},{"$f":"VLOOKUP(K244,'Standard Labels'!$A$7:$AC$500,29)","v":0},243]
[{"$f":"VLOOKUP(K245,'Standard Labels'!$A$7:$AC$500,11)","v":0},{"$f":"VLOOKUP(K245,'Standard Labels'!$A$7:$AC$500,13)","v":0},{"$f":"VLOOKUP(K245,'Standard Labels'!$A$7:$AC$500,15)","v":0},{"$f":"VLOOKUP(K245,'Standard Labels'!$A$7:$AC$500,17)","v":0},{"$f":"VLOOKUP(K245,'Standard Labels'!$A$7:$AC$500,19)","v":0},{"$f":"VLOOKUP(K245,'Standard Labels'!$A$7:$AC$500,21)","v":0},{"$f":"VLOOKUP(K245,'Standard Labels'!$A$7:$AC$500,23)","v":0},{"$f":"VLOOKUP(K245,'Standard Labels'!$A$7:$AC$500,25)","v":0},{"$f":"VLOOKUP(K245,'Standard Labels'!$A$7:$AC$500,27)","v":0},{"$f":"VLOOKUP(K245,'Standard Labels'!$A$7:$AC$500,29)","v":0},244]
[{"$f":"VLOOKUP(K246,'Standard Labels'!$A$7:$AC$500,11)","v":0},{"$f":"VLOOKUP(K246,'Standard Labels'!$A$7:$AC$500,13)","v":0},{"$f":"VLOOKUP(K246,'Standard Labels'!$A$7:$AC$500,15)","v":0},{"$f":"VLOOKUP(K246,'Standard Labels'!$A$7:$AC$500,17)","v":0},{"$f":"VLOOKUP(K246,'Standard Labels'!$A$7:$AC$500,19)","v":0},{"$f":"VLOOKUP(K246,'Standard Labels'!$A$7:$AC$500,21)","v":0},{"$f":"VLOOKUP(K246,'Standard Labels'!$A$7:$AC$500,23)","v":0},{"$f":"VLOOKUP(K246,'Standard Labels'!$A$7:$AC$500,25)","v":0},{"$f":"VLOOKUP(K246,'Standard Labels'!$A$7:$AC$500,27)","v":0},{"$f":"VLOOKUP(K246,'Standard Labels'!$A$7:$AC$500,29)","v":0},245]
[{"$f":"VLOOKUP(K247,'Standard Labels'!$A$7:$AC$500,11)","v":0},{"$f":"VLOOKUP(K247,'Standard Labels'!$A$7:$AC$500,13)","v":0},{"$f":"VLOOKUP(K247,'Standard Labels'!$A$7:$AC$500,15)","v":0},{"$f":"VLOOKUP(K247,'Standard Labels'!$A$7:$AC$500,17)","v":0},{"$f":"VLOOKUP(K247,'Standard Labels'!$A$7:$AC$500,19)","v":0},{"$f":"VLOOKUP(K247,'Standard Labels'!$A$7:$AC$500,21)","v":0},{"$f":"VLOOKUP(K247,'Standard Labels'!$A$7:$AC$500,23)","v":0},{"$f":"VLOOKUP(K247,'Standard Labels'!$A$7:$AC$500,25)","v":0},{"$f":"VLOOKUP(K247,'Standard Labels'!$A$7:$AC$500,27)","v":0},{"$f":"VLOOKUP(K247,'Standard Labels'!$A$7:$AC$500,29)","v":0},246]
[{"$f":"VLOOKUP(K248,'Standard Labels'!$A$7:$AC$500,11)","v":0},{"$f":"VLOOKUP(K248,'Standard Labels'!$A$7:$AC$500,13)","v":0},{"$f":"VLOOKUP(K248,'Standard Labels'!$A$7:$AC$500,15)","v":0},{"$f":"VLOOKUP(K248,'Standard Labels'!$A$7:$AC$500,17)","v":0},{"$f":"VLOOKUP(K248,'Standard Labels'!$A$7:$AC$500,19)","v":0},{"$f":"VLOOKUP(K248,'Standard Labels'!$A$7:$AC$500,21)","v":0},{"$f":"VLOOKUP(K248,'Standard Labels'!$A$7:$AC$500,23)","v":0},{"$f":"VLOOKUP(K248,'Standard Labels'!$A$7:$AC$500,25)","v":0},{"$f":"VLOOKUP(K248,'Standard Labels'!$A$7:$AC$500,27)","v":0},{"$f":"VLOOKUP(K248,'Standard Labels'!$A$7:$AC$500,29)","v":0},247]
[{"$f":"VLOOKUP(K249,'Standard Labels'!$A$7:$AC$500,11)","v":0},{"$f":"VLOOKUP(K249,'Standard Labels'!$A$7:$AC$500,13)","v":0},{"$f":"VLOOKUP(K249,'Standard Labels'!$A$7:$AC$500,15)","v":0},{"$f":"VLOOKUP(K249,'Standard Labels'!$A$7:$AC$500,17)","v":0},{"$f":"VLOOKUP(K249,'Standard Labels'!$A$7:$AC$500,19)","v":0},{"$f":"VLOOKUP(K249,'Standard Labels'!$A$7:$AC$500,21)","v":0},{"$f":"VLOOKUP(K249,'Standard Labels'!$A$7:$AC$500,23)","v":0},{"$f":"VLOOKUP(K249,'Standard Labels'!$A$7:$AC$500,25)","v":0},{"$f":"VLOOKUP(K249,'Standard Labels'!$A$7:$AC$500,27)","v":0},{"$f":"VLOOKUP(K249,'Standard Labels'!$A$7:$AC$500,29)","v":0},248]
[{"$f":"VLOOKUP(K250,'Standard Labels'!$A$7:$AC$500,11)","v":0},{"$f":"VLOOKUP(K250,'Standard Labels'!$A$7:$AC$500,13)","v":0},{"$f":"VLOOKUP(K250,'Standard Labels'!$A$7:$AC$500,15)","v":0},{"$f":"VLOOKUP(K250,'Standard Labels'!$A$7:$AC$500,17)","v":0},{"$f":"VLOOKUP(K250,'Standard Labels'!$A$7:$AC$500,19)","v":0},{"$f":"VLOOKUP(K250,'Standard Labels'!$A$7:$AC$500,21)","v":0},{"$f":"VLOOKUP(K250,'Standard Labels'!$A$7:$AC$500,23)","v":0},{"$f":"VLOOKUP(K250,'Standard Labels'!$A$7:$AC$500,25)","v":0},{"$f":"VLOOKUP(K250,'Standard Labels'!$A$7:$AC$500,27)","v":0},{"$f":"VLOOKUP(K250,'Standard Labels'!$A$7:$AC$500,29)","v":0},249]
[{"$f":"VLOOKUP(K251,'Standard Labels'!$A$7:$AC$500,11)","v":0},{"$f":"VLOOKUP(K251,'Standard Labels'!$A$7:$AC$500,13)","v":0},{"$f":"VLOOKUP(K251,'Standard Labels'!$A$7:$AC$500,15)","v":0},{"$f":"VLOOKUP(K251,'Standard Labels'!$A$7:$AC$500,17)","v":0},{"$f":"VLOOKUP(K251,'Standard Labels'!$A$7:$AC$500,19)","v":0},{"$f":"VLOOKUP(K251,'Standard Labels'!$A$7:$AC$500,21)","v":0},{"$f":"VLOOKUP(K251,'Standard Labels'!$A$7:$AC$500,23)","v":0},{"$f":"VLOOKUP(K251,'Standard Labels'!$A$7:$AC$500,25)","v":0},{"$f":"VLOOKUP(K251,'Standard Labels'!$A$7:$AC$500,27)","v":0},{"$f":"VLOOKUP(K251,'Standard Labels'!$A$7:$AC$500,29)","v":0},250]
[{"$f":"VLOOKUP(K252,'Standard Labels'!$A$7:$AC$500,11)","v":0},{"$f":"VLOOKUP(K252,'Standard Labels'!$A$7:$AC$500,13)","v":0},{"$f":"VLOOKUP(K252,'Standard Labels'!$A$7:$AC$500,15)","v":0},{"$f":"VLOOKUP(K252,'Standard Labels'!$A$7:$AC$500,17)","v":0},{"$f":"VLOOKUP(K252,'Standard Labels'!$A$7:$AC$500,19)","v":0},{"$f":"VLOOKUP(K252,'Standard Labels'!$A$7:$AC$500,21)","v":0},{"$f":"VLOOKUP(K252,'Standard Labels'!$A$7:$AC$500,23)","v":0},{"$f":"VLOOKUP(K252,'Standard Labels'!$A$7:$AC$500,25)","v":0},{"$f":"VLOOKUP(K252,'Standard Labels'!$A$7:$AC$500,27)","v":0},{"$f":"VLOOKUP(K252,'Standard Labels'!$A$7:$AC$500,29)","v":0},251]
[{"$f":"VLOOKUP(K253,'Standard Labels'!$A$7:$AC$500,11)","v":0},{"$f":"VLOOKUP(K253,'Standard Labels'!$A$7:$AC$500,13)","v":0},{"$f":"VLOOKUP(K253,'Standard Labels'!$A$7:$AC$500,15)","v":0},{"$f":"VLOOKUP(K253,'Standard Labels'!$A$7:$AC$500,17)","v":0},{"$f":"VLOOKUP(K253,'Standard Labels'!$A$7:$AC$500,19)","v":0},{"$f":"VLOOKUP(K253,'Standard Labels'!$A$7:$AC$500,21)","v":0},{"$f":"VLOOKUP(K253,'Standard Labels'!$A$7:$AC$500,23)","v":0},{"$f":"VLOOKUP(K253,'Standard Labels'!$A$7:$AC$500,25)","v":0},{"$f":"VLOOKUP(K253,'Standard Labels'!$A$7:$AC$500,27)","v":0},{"$f":"VLOOKUP(K253,'Standard Labels'!$A$7:$AC$500,29)","v":0},252]
[{"$f":"VLOOKUP(K254,'Standard Labels'!$A$7:$AC$500,11)","v":0},{"$f":"VLOOKUP(K254,'Standard Labels'!$A$7:$AC$500,13)","v":0},{"$f":"VLOOKUP(K254,'Standard Labels'!$A$7:$AC$500,15)","v":0},{"$f":"VLOOKUP(K254,'Standard Labels'!$A$7:$AC$500,17)","v":0},{"$f":"VLOOKUP(K254,'Standard Labels'!$A$7:$AC$500,19)","v":0},{"$f":"VLOOKUP(K254,'Standard Labels'!$A$7:$AC$500,21)","v":0},{"$f":"VLOOKUP(K254,'Standard Labels'!$A$7:$AC$500,23)","v":0},{"$f":"VLOOKUP(K254,'Standard Labels'!$A$7:$AC$500,25)","v":0},{"$f":"VLOOKUP(K254,'Standard Labels'!$A$7:$AC$500,27)","v":0},{"$f":"VLOOKUP(K254,'Standard Labels'!$A$7:$AC$500,29)","v":0},253]
[{"$f":"VLOOKUP(K255,'Standard Labels'!$A$7:$AC$500,11)","v":0},{"$f":"VLOOKUP(K255,'Standard Labels'!$A$7:$AC$500,13)","v":0},{"$f":"VLOOKUP(K255,'Standard Labels'!$A$7:$AC$500,15)","v":0},{"$f":"VLOOKUP(K255,'Standard Labels'!$A$7:$AC$500,17)","v":0},{"$f":"VLOOKUP(K255,'Standard Labels'!$A$7:$AC$500,19)","v":0},{"$f":"VLOOKUP(K255,'Standard Labels'!$A$7:$AC$500,21)","v":0},{"$f":"VLOOKUP(K255,'Standard Labels'!$A$7:$AC$500,23)","v":0},{"$f":"VLOOKUP(K255,'Standard Labels'!$A$7:$AC$500,25)","v":0},{"$f":"VLOOKUP(K255,'Standard Labels'!$A$7:$AC$500,27)","v":0},{"$f":"VLOOKUP(K255,'Standard Labels'!$A$7:$AC$500,29)","v":0},254]
[{"$f":"VLOOKUP(K256,'Standard Labels'!$A$7:$AC$500,11)","v":0},{"$f":"VLOOKUP(K256,'Standard Labels'!$A$7:$AC$500,13)","v":0},{"$f":"VLOOKUP(K256,'Standard Labels'!$A$7:$AC$500,15)","v":0},{"$f":"VLOOKUP(K256,'Standard Labels'!$A$7:$AC$500,17)","v":0},{"$f":"VLOOKUP(K256,'Standard Labels'!$A$7:$AC$500,19)","v":0},{"$f":"VLOOKUP(K256,'Standard Labels'!$A$7:$AC$500,21)","v":0},{"$f":"VLOOKUP(K256,'Standard Labels'!$A$7:$AC$500,23)","v":0},{"$f":"VLOOKUP(K256,'Standard Labels'!$A$7:$AC$500,25)","v":0},{"$f":"VLOOKUP(K256,'Standard Labels'!$A$7:$AC$500,27)","v":0},{"$f":"VLOOKUP(K256,'Standard Labels'!$A$7:$AC$500,29)","v":0},255]
[{"$f":"VLOOKUP(K257,'Standard Labels'!$A$7:$AC$500,11)","v":0},{"$f":"VLOOKUP(K257,'Standard Labels'!$A$7:$AC$500,13)","v":0},{"$f":"VLOOKUP(K257,'Standard Labels'!$A$7:$AC$500,15)","v":0},{"$f":"VLOOKUP(K257,'Standard Labels'!$A$7:$AC$500,17)","v":0},{"$f":"VLOOKUP(K257,'Standard Labels'!$A$7:$AC$500,19)","v":0},{"$f":"VLOOKUP(K257,'Standard Labels'!$A$7:$AC$500,21)","v":0},{"$f":"VLOOKUP(K257,'Standard Labels'!$A$7:$AC$500,23)","v":0},{"$f":"VLOOKUP(K257,'Standard Labels'!$A$7:$AC$500,25)","v":0},{"$f":"VLOOKUP(K257,'Standard Labels'!$A$7:$AC$500,27)","v":0},{"$f":"VLOOKUP(K257,'Standard Labels'!$A$7:$AC$500,29)","v":0},256]
[{"$f":"VLOOKUP(K258,'Standard Labels'!$A$7:$AC$500,11)","v":0},{"$f":"VLOOKUP(K258,'Standard Labels'!$A$7:$AC$500,13)","v":0},{"$f":"VLOOKUP(K258,'Standard Labels'!$A$7:$AC$500,15)","v":0},{"$f":"VLOOKUP(K258,'Standard Labels'!$A$7:$AC$500,17)","v":0},{"$f":"VLOOKUP(K258,'Standard Labels'!$A$7:$AC$500,19)","v":0},{"$f":"VLOOKUP(K258,'Standard Labels'!$A$7:$AC$500,21)","v":0},{"$f":"VLOOKUP(K258,'Standard Labels'!$A$7:$AC$500,23)","v":0},{"$f":"VLOOKUP(K258,'Standard Labels'!$A$7:$AC$500,25)","v":0},{"$f":"VLOOKUP(K258,'Standard Labels'!$A$7:$AC$500,27)","v":0},{"$f":"VLOOKUP(K258,'Standard Labels'!$A$7:$AC$500,29)","v":0},257]
[{"$f":"VLOOKUP(K259,'Standard Labels'!$A$7:$AC$500,11)","v":0},{"$f":"VLOOKUP(K259,'Standard Labels'!$A$7:$AC$500,13)","v":0},{"$f":"VLOOKUP(K259,'Standard Labels'!$A$7:$AC$500,15)","v":0},{"$f":"VLOOKUP(K259,'Standard Labels'!$A$7:$AC$500,17)","v":0},{"$f":"VLOOKUP(K259,'Standard Labels'!$A$7:$AC$500,19)","v":0},{"$f":"VLOOKUP(K259,'Standard Labels'!$A$7:$AC$500,21)","v":0},{"$f":"VLOOKUP(K259,'Standard Labels'!$A$7:$AC$500,23)","v":0},{"$f":"VLOOKUP(K259,'Standard Labels'!$A$7:$AC$500,25)","v":0},{"$f":"VLOOKUP(K259,'Standard Labels'!$A$7:$AC$500,27)","v":0},{"$f":"VLOOKUP(K259,'Standard Labels'!$A$7:$AC$500,29)","v":0},258]
[{"$f":"VLOOKUP(K260,'Standard Labels'!$A$7:$AC$500,11)","v":0},{"$f":"VLOOKUP(K260,'Standard Labels'!$A$7:$AC$500,13)","v":0},{"$f":"VLOOKUP(K260,'Standard Labels'!$A$7:$AC$500,15)","v":0},{"$f":"VLOOKUP(K260,'Standard Labels'!$A$7:$AC$500,17)","v":0},{"$f":"VLOOKUP(K260,'Standard Labels'!$A$7:$AC$500,19)","v":0},{"$f":"VLOOKUP(K260,'Standard Labels'!$A$7:$AC$500,21)","v":0},{"$f":"VLOOKUP(K260,'Standard Labels'!$A$7:$AC$500,23)","v":0},{"$f":"VLOOKUP(K260,'Standard Labels'!$A$7:$AC$500,25)","v":0},{"$f":"VLOOKUP(K260,'Standard Labels'!$A$7:$AC$500,27)","v":0},{"$f":"VLOOKUP(K260,'Standard Labels'!$A$7:$AC$500,29)","v":0},259]
[{"$f":"VLOOKUP(K261,'Standard Labels'!$A$7:$AC$500,11)","v":0},{"$f":"VLOOKUP(K261,'Standard Labels'!$A$7:$AC$500,13)","v":0},{"$f":"VLOOKUP(K261,'Standard Labels'!$A$7:$AC$500,15)","v":0},{"$f":"VLOOKUP(K261,'Standard Labels'!$A$7:$AC$500,17)","v":0},{"$f":"VLOOKUP(K261,'Standard Labels'!$A$7:$AC$500,19)","v":0},{"$f":"VLOOKUP(K261,'Standard Labels'!$A$7:$AC$500,21)","v":0},{"$f":"VLOOKUP(K261,'Standard Labels'!$A$7:$AC$500,23)","v":0},{"$f":"VLOOKUP(K261,'Standard Labels'!$A$7:$AC$500,25)","v":0},{"$f":"VLOOKUP(K261,'Standard Labels'!$A$7:$AC$500,27)","v":0},{"$f":"VLOOKUP(K261,'Standard Labels'!$A$7:$AC$500,29)","v":0},260]
[{"$f":"VLOOKUP(K262,'Standard Labels'!$A$7:$AC$500,11)","v":0},{"$f":"VLOOKUP(K262,'Standard Labels'!$A$7:$AC$500,13)","v":0},{"$f":"VLOOKUP(K262,'Standard Labels'!$A$7:$AC$500,15)","v":0},{"$f":"VLOOKUP(K262,'Standard Labels'!$A$7:$AC$500,17)","v":0},{"$f":"VLOOKUP(K262,'Standard Labels'!$A$7:$AC$500,19)","v":0},{"$f":"VLOOKUP(K262,'Standard Labels'!$A$7:$AC$500,21)","v":0},{"$f":"VLOOKUP(K262,'Standard Labels'!$A$7:$AC$500,23)","v":0},{"$f":"VLOOKUP(K262,'Standard Labels'!$A$7:$AC$500,25)","v":0},{"$f":"VLOOKUP(K262,'Standard Labels'!$A$7:$AC$500,27)","v":0},{"$f":"VLOOKUP(K262,'Standard Labels'!$A$7:$AC$500,29)","v":0},261]
[{"$f":"VLOOKUP(K263,'Standard Labels'!$A$7:$AC$500,11)","v":0},{"$f":"VLOOKUP(K263,'Standard Labels'!$A$7:$AC$500,13)","v":0},{"$f":"VLOOKUP(K263,'Standard Labels'!$A$7:$AC$500,15)","v":0},{"$f":"VLOOKUP(K263,'Standard Labels'!$A$7:$AC$500,17)","v":0},{"$f":"VLOOKUP(K263,'Standard Labels'!$A$7:$AC$500,19)","v":0},{"$f":"VLOOKUP(K263,'Standard Labels'!$A$7:$AC$500,21)","v":0},{"$f":"VLOOKUP(K263,'Standard Labels'!$A$7:$AC$500,23)","v":0},{"$f":"VLOOKUP(K263,'Standard Labels'!$A$7:$AC$500,25)","v":0},{"$f":"VLOOKUP(K263,'Standard Labels'!$A$7:$AC$500,27)","v":0},{"$f":"VLOOKUP(K263,'Standard Labels'!$A$7:$AC$500,29)","v":0},262]
[{"$f":"VLOOKUP(K264,'Standard Labels'!$A$7:$AC$500,11)","v":0},{"$f":"VLOOKUP(K264,'Standard Labels'!$A$7:$AC$500,13)","v":0},{"$f":"VLOOKUP(K264,'Standard Labels'!$A$7:$AC$500,15)","v":0},{"$f":"VLOOKUP(K264,'Standard Labels'!$A$7:$AC$500,17)","v":0},{"$f":"VLOOKUP(K264,'Standard Labels'!$A$7:$AC$500,19)","v":0},{"$f":"VLOOKUP(K264,'Standard Labels'!$A$7:$AC$500,21)","v":0},{"$f":"VLOOKUP(K264,'Standard Labels'!$A$7:$AC$500,23)","v":0},{"$f":"VLOOKUP(K264,'Standard Labels'!$A$7:$AC$500,25)","v":0},{"$f":"VLOOKUP(K264,'Standard Labels'!$A$7:$AC$500,27)","v":0},{"$f":"VLOOKUP(K264,'Standard Labels'!$A$7:$AC$500,29)","v":0},263]
[{"$f":"VLOOKUP(K265,'Standard Labels'!$A$7:$AC$500,11)","v":0},{"$f":"VLOOKUP(K265,'Standard Labels'!$A$7:$AC$500,13)","v":0},{"$f":"VLOOKUP(K265,'Standard Labels'!$A$7:$AC$500,15)","v":0},{"$f":"VLOOKUP(K265,'Standard Labels'!$A$7:$AC$500,17)","v":0},{"$f":"VLOOKUP(K265,'Standard Labels'!$A$7:$AC$500,19)","v":0},{"$f":"VLOOKUP(K265,'Standard Labels'!$A$7:$AC$500,21)","v":0},{"$f":"VLOOKUP(K265,'Standard Labels'!$A$7:$AC$500,23)","v":0},{"$f":"VLOOKUP(K265,'Standard Labels'!$A$7:$AC$500,25)","v":0},{"$f":"VLOOKUP(K265,'Standard Labels'!$A$7:$AC$500,27)","v":0},{"$f":"VLOOKUP(K265,'Standard Labels'!$A$7:$AC$500,29)","v":0},264]
[{"$f":"VLOOKUP(K266,'Standard Labels'!$A$7:$AC$500,11)","v":0},{"$f":"VLOOKUP(K266,'Standard Labels'!$A$7:$AC$500,13)","v":0},{"$f":"VLOOKUP(K266,'Standard Labels'!$A$7:$AC$500,15)","v":0},{"$f":"VLOOKUP(K266,'Standard Labels'!$A$7:$AC$500,17)","v":0},{"$f":"VLOOKUP(K266,'Standard Labels'!$A$7:$AC$500,19)","v":0},{"$f":"VLOOKUP(K266,'Standard Labels'!$A$7:$AC$500,21)","v":0},{"$f":"VLOOKUP(K266,'Standard Labels'!$A$7:$AC$500,23)","v":0},{"$f":"VLOOKUP(K266,'Standard Labels'!$A$7:$AC$500,25)","v":0},{"$f":"VLOOKUP(K266,'Standard Labels'!$A$7:$AC$500,27)","v":0},{"$f":"VLOOKUP(K266,'Standard Labels'!$A$7:$AC$500,29)","v":0},265]
[{"$f":"VLOOKUP(K267,'Standard Labels'!$A$7:$AC$500,11)","v":0},{"$f":"VLOOKUP(K267,'Standard Labels'!$A$7:$AC$500,13)","v":0},{"$f":"VLOOKUP(K267,'Standard Labels'!$A$7:$AC$500,15)","v":0},{"$f":"VLOOKUP(K267,'Standard Labels'!$A$7:$AC$500,17)","v":0},{"$f":"VLOOKUP(K267,'Standard Labels'!$A$7:$AC$500,19)","v":0},{"$f":"VLOOKUP(K267,'Standard Labels'!$A$7:$AC$500,21)","v":0},{"$f":"VLOOKUP(K267,'Standard Labels'!$A$7:$AC$500,23)","v":0},{"$f":"VLOOKUP(K267,'Standard Labels'!$A$7:$AC$500,25)","v":0},{"$f":"VLOOKUP(K267,'Standard Labels'!$A$7:$AC$500,27)","v":0},{"$f":"VLOOKUP(K267,'Standard Labels'!$A$7:$AC$500,29)","v":0},266]
[{"$f":"VLOOKUP(K268,'Standard Labels'!$A$7:$AC$500,11)","v":0},{"$f":"VLOOKUP(K268,'Standard Labels'!$A$7:$AC$500,13)","v":0},{"$f":"VLOOKUP(K268,'Standard Labels'!$A$7:$AC$500,15)","v":0},{"$f":"VLOOKUP(K268,'Standard Labels'!$A$7:$AC$500,17)","v":0},{"$f":"VLOOKUP(K268,'Standard Labels'!$A$7:$AC$500,19)","v":0},{"$f":"VLOOKUP(K268,'Standard Labels'!$A$7:$AC$500,21)","v":0},{"$f":"VLOOKUP(K268,'Standard Labels'!$A$7:$AC$500,23)","v":0},{"$f":"VLOOKUP(K268,'Standard Labels'!$A$7:$AC$500,25)","v":0},{"$f":"VLOOKUP(K268,'Standard Labels'!$A$7:$AC$500,27)","v":0},{"$f":"VLOOKUP(K268,'Standard Labels'!$A$7:$AC$500,29)","v":0},267]
[{"$f":"VLOOKUP(K269,'Standard Labels'!$A$7:$AC$500,11)","v":0},{"$f":"VLOOKUP(K269,'Standard Labels'!$A$7:$AC$500,13)","v":0},{"$f":"VLOOKUP(K269,'Standard Labels'!$A$7:$AC$500,15)","v":0},{"$f":"VLOOKUP(K269,'Standard Labels'!$A$7:$AC$500,17)","v":0},{"$f":"VLOOKUP(K269,'Standard Labels'!$A$7:$AC$500,19)","v":0},{"$f":"VLOOKUP(K269,'Standard Labels'!$A$7:$AC$500,21)","v":0},{"$f":"VLOOKUP(K269,'Standard Labels'!$A$7:$AC$500,23)","v":0},{"$f":"VLOOKUP(K269,'Standard Labels'!$A$7:$AC$500,25)","v":0},{"$f":"VLOOKUP(K269,'Standard Labels'!$A$7:$AC$500,27)","v":0},{"$f":"VLOOKUP(K269,'Standard Labels'!$A$7:$AC$500,29)","v":0},268]
[{"$f":"VLOOKUP(K270,'Standard Labels'!$A$7:$AC$500,11)","v":0},{"$f":"VLOOKUP(K270,'Standard Labels'!$A$7:$AC$500,13)","v":0},{"$f":"VLOOKUP(K270,'Standard Labels'!$A$7:$AC$500,15)","v":0},{"$f":"VLOOKUP(K270,'Standard Labels'!$A$7:$AC$500,17)","v":0},{"$f":"VLOOKUP(K270,'Standard Labels'!$A$7:$AC$500,19)","v":0},{"$f":"VLOOKUP(K270,'Standard Labels'!$A$7:$AC$500,21)","v":0},{"$f":"VLOOKUP(K270,'Standard Labels'!$A$7:$AC$500,23)","v":0},{"$f":"VLOOKUP(K270,'Standard Labels'!$A$7:$AC$500,25)","v":0},{"$f":"VLOOKUP(K270,'Standard Labels'!$A$7:$AC$500,27)","v":0},{"$f":"VLOOKUP(K270,'Standard Labels'!$A$7:$AC$500,29)","v":0},269]
[{"$f":"VLOOKUP(K271,'Standard Labels'!$A$7:$AC$500,11)","v":0},{"$f":"VLOOKUP(K271,'Standard Labels'!$A$7:$AC$500,13)","v":0},{"$f":"VLOOKUP(K271,'Standard Labels'!$A$7:$AC$500,15)","v":0},{"$f":"VLOOKUP(K271,'Standard Labels'!$A$7:$AC$500,17)","v":0},{"$f":"VLOOKUP(K271,'Standard Labels'!$A$7:$AC$500,19)","v":0},{"$f":"VLOOKUP(K271,'Standard Labels'!$A$7:$AC$500,21)","v":0},{"$f":"VLOOKUP(K271,'Standard Labels'!$A$7:$AC$500,23)","v":0},{"$f":"VLOOKUP(K271,'Standard Labels'!$A$7:$AC$500,25)","v":0},{"$f":"VLOOKUP(K271,'Standard Labels'!$A$7:$AC$500,27)","v":0},{"$f":"VLOOKUP(K271,'Standard Labels'!$A$7:$AC$500,29)","v":0},270]
[{"$f":"VLOOKUP(K272,'Standard Labels'!$A$7:$AC$500,11)","v":0},{"$f":"VLOOKUP(K272,'Standard Labels'!$A$7:$AC$500,13)","v":0},{"$f":"VLOOKUP(K272,'Standard Labels'!$A$7:$AC$500,15)","v":0},{"$f":"VLOOKUP(K272,'Standard Labels'!$A$7:$AC$500,17)","v":0},{"$f":"VLOOKUP(K272,'Standard Labels'!$A$7:$AC$500,19)","v":0},{"$f":"VLOOKUP(K272,'Standard Labels'!$A$7:$AC$500,21)","v":0},{"$f":"VLOOKUP(K272,'Standard Labels'!$A$7:$AC$500,23)","v":0},{"$f":"VLOOKUP(K272,'Standard Labels'!$A$7:$AC$500,25)","v":0},{"$f":"VLOOKUP(K272,'Standard Labels'!$A$7:$AC$500,27)","v":0},{"$f":"VLOOKUP(K272,'Standard Labels'!$A$7:$AC$500,29)","v":0},271]
[{"$f":"VLOOKUP(K273,'Standard Labels'!$A$7:$AC$500,11)","v":0},{"$f":"VLOOKUP(K273,'Standard Labels'!$A$7:$AC$500,13)","v":0},{"$f":"VLOOKUP(K273,'Standard Labels'!$A$7:$AC$500,15)","v":0},{"$f":"VLOOKUP(K273,'Standard Labels'!$A$7:$AC$500,17)","v":0},{"$f":"VLOOKUP(K273,'Standard Labels'!$A$7:$AC$500,19)","v":0},{"$f":"VLOOKUP(K273,'Standard Labels'!$A$7:$AC$500,21)","v":0},{"$f":"VLOOKUP(K273,'Standard Labels'!$A$7:$AC$500,23)","v":0},{"$f":"VLOOKUP(K273,'Standard Labels'!$A$7:$AC$500,25)","v":0},{"$f":"VLOOKUP(K273,'Standard Labels'!$A$7:$AC$500,27)","v":0},{"$f":"VLOOKUP(K273,'Standard Labels'!$A$7:$AC$500,29)","v":0},272]
[{"$f":"VLOOKUP(K274,'Standard Labels'!$A$7:$AC$500,11)","v":0},{"$f":"VLOOKUP(K274,'Standard Labels'!$A$7:$AC$500,13)","v":0},{"$f":"VLOOKUP(K274,'Standard Labels'!$A$7:$AC$500,15)","v":0},{"$f":"VLOOKUP(K274,'Standard Labels'!$A$7:$AC$500,17)","v":0},{"$f":"VLOOKUP(K274,'Standard Labels'!$A$7:$AC$500,19)","v":0},{"$f":"VLOOKUP(K274,'Standard Labels'!$A$7:$AC$500,21)","v":0},{"$f":"VLOOKUP(K274,'Standard Labels'!$A$7:$AC$500,23)","v":0},{"$f":"VLOOKUP(K274,'Standard Labels'!$A$7:$AC$500,25)","v":0},{"$f":"VLOOKUP(K274,'Standard Labels'!$A$7:$AC$500,27)","v":0},{"$f":"VLOOKUP(K274,'Standard Labels'!$A$7:$AC$500,29)","v":0},273]
[{"$f":"VLOOKUP(K275,'Standard Labels'!$A$7:$AC$500,11)","v":0},{"$f":"VLOOKUP(K275,'Standard Labels'!$A$7:$AC$500,13)","v":0},{"$f":"VLOOKUP(K275,'Standard Labels'!$A$7:$AC$500,15)","v":0},{"$f":"VLOOKUP(K275,'Standard Labels'!$A$7:$AC$500,17)","v":0},{"$f":"VLOOKUP(K275,'Standard Labels'!$A$7:$AC$500,19)","v":0},{"$f":"VLOOKUP(K275,'Standard Labels'!$A$7:$AC$500,21)","v":0},{"$f":"VLOOKUP(K275,'Standard Labels'!$A$7:$AC$500,23)","v":0},{"$f":"VLOOKUP(K275,'Standard Labels'!$A$7:$AC$500,25)","v":0},{"$f":"VLOOKUP(K275,'Standard Labels'!$A$7:$AC$500,27)","v":0},{"$f":"VLOOKUP(K275,'Standard Labels'!$A$7:$AC$500,29)","v":0},274]
[{"$f":"VLOOKUP(K276,'Standard Labels'!$A$7:$AC$500,11)","v":0},{"$f":"VLOOKUP(K276,'Standard Labels'!$A$7:$AC$500,13)","v":0},{"$f":"VLOOKUP(K276,'Standard Labels'!$A$7:$AC$500,15)","v":0},{"$f":"VLOOKUP(K276,'Standard Labels'!$A$7:$AC$500,17)","v":0},{"$f":"VLOOKUP(K276,'Standard Labels'!$A$7:$AC$500,19)","v":0},{"$f":"VLOOKUP(K276,'Standard Labels'!$A$7:$AC$500,21)","v":0},{"$f":"VLOOKUP(K276,'Standard Labels'!$A$7:$AC$500,23)","v":0},{"$f":"VLOOKUP(K276,'Standard Labels'!$A$7:$AC$500,25)","v":0},{"$f":"VLOOKUP(K276,'Standard Labels'!$A$7:$AC$500,27)","v":0},{"$f":"VLOOKUP(K276,'Standard Labels'!$A$7:$AC$500,29)","v":0},275]
[{"$f":"VLOOKUP(K277,'Standard Labels'!$A$7:$AC$500,11)","v":0},{"$f":"VLOOKUP(K277,'Standard Labels'!$A$7:$AC$500,13)","v":0},{"$f":"VLOOKUP(K277,'Standard Labels'!$A$7:$AC$500,15)","v":0},{"$f":"VLOOKUP(K277,'Standard Labels'!$A$7:$AC$500,17)","v":0},{"$f":"VLOOKUP(K277,'Standard Labels'!$A$7:$AC$500,19)","v":0},{"$f":"VLOOKUP(K277,'Standard Labels'!$A$7:$AC$500,21)","v":0},{"$f":"VLOOKUP(K277,'Standard Labels'!$A$7:$AC$500,23)","v":0},{"$f":"VLOOKUP(K277,'Standard Labels'!$A$7:$AC$500,25)","v":0},{"$f":"VLOOKUP(K277,'Standard Labels'!$A$7:$AC$500,27)","v":0},{"$f":"VLOOKUP(K277,'Standard Labels'!$A$7:$AC$500,29)","v":0},276]
[{"$f":"VLOOKUP(K278,'Standard Labels'!$A$7:$AC$500,11)","v":0},{"$f":"VLOOKUP(K278,'Standard Labels'!$A$7:$AC$500,13)","v":0},{"$f":"VLOOKUP(K278,'Standard Labels'!$A$7:$AC$500,15)","v":0},{"$f":"VLOOKUP(K278,'Standard Labels'!$A$7:$AC$500,17)","v":0},{"$f":"VLOOKUP(K278,'Standard Labels'!$A$7:$AC$500,19)","v":0},{"$f":"VLOOKUP(K278,'Standard Labels'!$A$7:$AC$500,21)","v":0},{"$f":"VLOOKUP(K278,'Standard Labels'!$A$7:$AC$500,23)","v":0},{"$f":"VLOOKUP(K278,'Standard Labels'!$A$7:$AC$500,25)","v":0},{"$f":"VLOOKUP(K278,'Standard Labels'!$A$7:$AC$500,27)","v":0},{"$f":"VLOOKUP(K278,'Standard Labels'!$A$7:$AC$500,29)","v":0},277]
[{"$f":"VLOOKUP(K279,'Standard Labels'!$A$7:$AC$500,11)","v":0},{"$f":"VLOOKUP(K279,'Standard Labels'!$A$7:$AC$500,13)","v":0},{"$f":"VLOOKUP(K279,'Standard Labels'!$A$7:$AC$500,15)","v":0},{"$f":"VLOOKUP(K279,'Standard Labels'!$A$7:$AC$500,17)","v":0},{"$f":"VLOOKUP(K279,'Standard Labels'!$A$7:$AC$500,19)","v":0},{"$f":"VLOOKUP(K279,'Standard Labels'!$A$7:$AC$500,21)","v":0},{"$f":"VLOOKUP(K279,'Standard Labels'!$A$7:$AC$500,23)","v":0},{"$f":"VLOOKUP(K279,'Standard Labels'!$A$7:$AC$500,25)","v":0},{"$f":"VLOOKUP(K279,'Standard Labels'!$A$7:$AC$500,27)","v":0},{"$f":"VLOOKUP(K279,'Standard Labels'!$A$7:$AC$500,29)","v":0},278]
[{"$f":"VLOOKUP(K280,'Standard Labels'!$A$7:$AC$500,11)","v":0},{"$f":"VLOOKUP(K280,'Standard Labels'!$A$7:$AC$500,13)","v":0},{"$f":"VLOOKUP(K280,'Standard Labels'!$A$7:$AC$500,15)","v":0},{"$f":"VLOOKUP(K280,'Standard Labels'!$A$7:$AC$500,17)","v":0},{"$f":"VLOOKUP(K280,'Standard Labels'!$A$7:$AC$500,19)","v":0},{"$f":"VLOOKUP(K280,'Standard Labels'!$A$7:$AC$500,21)","v":0},{"$f":"VLOOKUP(K280,'Standard Labels'!$A$7:$AC$500,23)","v":0},{"$f":"VLOOKUP(K280,'Standard Labels'!$A$7:$AC$500,25)","v":0},{"$f":"VLOOKUP(K280,'Standard Labels'!$A$7:$AC$500,27)","v":0},{"$f":"VLOOKUP(K280,'Standard Labels'!$A$7:$AC$500,29)","v":0},279]
[{"$f":"VLOOKUP(K281,'Standard Labels'!$A$7:$AC$500,11)","v":0},{"$f":"VLOOKUP(K281,'Standard Labels'!$A$7:$AC$500,13)","v":0},{"$f":"VLOOKUP(K281,'Standard Labels'!$A$7:$AC$500,15)","v":0},{"$f":"VLOOKUP(K281,'Standard Labels'!$A$7:$AC$500,17)","v":0},{"$f":"VLOOKUP(K281,'Standard Labels'!$A$7:$AC$500,19)","v":0},{"$f":"VLOOKUP(K281,'Standard Labels'!$A$7:$AC$500,21)","v":0},{"$f":"VLOOKUP(K281,'Standard Labels'!$A$7:$AC$500,23)","v":0},{"$f":"VLOOKUP(K281,'Standard Labels'!$A$7:$AC$500,25)","v":0},{"$f":"VLOOKUP(K281,'Standard Labels'!$A$7:$AC$500,27)","v":0},{"$f":"VLOOKUP(K281,'Standard Labels'!$A$7:$AC$500,29)","v":0},280]
[{"$f":"VLOOKUP(K282,'Standard Labels'!$A$7:$AC$500,11)","v":0},{"$f":"VLOOKUP(K282,'Standard Labels'!$A$7:$AC$500,13)","v":0},{"$f":"VLOOKUP(K282,'Standard Labels'!$A$7:$AC$500,15)","v":0},{"$f":"VLOOKUP(K282,'Standard Labels'!$A$7:$AC$500,17)","v":0},{"$f":"VLOOKUP(K282,'Standard Labels'!$A$7:$AC$500,19)","v":0},{"$f":"VLOOKUP(K282,'Standard Labels'!$A$7:$AC$500,21)","v":0},{"$f":"VLOOKUP(K282,'Standard Labels'!$A$7:$AC$500,23)","v":0},{"$f":"VLOOKUP(K282,'Standard Labels'!$A$7:$AC$500,25)","v":0},{"$f":"VLOOKUP(K282,'Standard Labels'!$A$7:$AC$500,27)","v":0},{"$f":"VLOOKUP(K282,'Standard Labels'!$A$7:$AC$500,29)","v":0},281]
[{"$f":"VLOOKUP(K283,'Standard Labels'!$A$7:$AC$500,11)","v":0},{"$f":"VLOOKUP(K283,'Standard Labels'!$A$7:$AC$500,13)","v":0},{"$f":"VLOOKUP(K283,'Standard Labels'!$A$7:$AC$500,15)","v":0},{"$f":"VLOOKUP(K283,'Standard Labels'!$A$7:$AC$500,17)","v":0},{"$f":"VLOOKUP(K283,'Standard Labels'!$A$7:$AC$500,19)","v":0},{"$f":"VLOOKUP(K283,'Standard Labels'!$A$7:$AC$500,21)","v":0},{"$f":"VLOOKUP(K283,'Standard Labels'!$A$7:$AC$500,23)","v":0},{"$f":"VLOOKUP(K283,'Standard Labels'!$A$7:$AC$500,25)","v":0},{"$f":"VLOOKUP(K283,'Standard Labels'!$A$7:$AC$500,27)","v":0},{"$f":"VLOOKUP(K283,'Standard Labels'!$A$7:$AC$500,29)","v":0},282]
[{"$f":"VLOOKUP(K284,'Standard Labels'!$A$7:$AC$500,11)","v":0},{"$f":"VLOOKUP(K284,'Standard Labels'!$A$7:$AC$500,13)","v":0},{"$f":"VLOOKUP(K284,'Standard Labels'!$A$7:$AC$500,15)","v":0},{"$f":"VLOOKUP(K284,'Standard Labels'!$A$7:$AC$500,17)","v":0},{"$f":"VLOOKUP(K284,'Standard Labels'!$A$7:$AC$500,19)","v":0},{"$f":"VLOOKUP(K284,'Standard Labels'!$A$7:$AC$500,21)","v":0},{"$f":"VLOOKUP(K284,'Standard Labels'!$A$7:$AC$500,23)","v":0},{"$f":"VLOOKUP(K284,'Standard Labels'!$A$7:$AC$500,25)","v":0},{"$f":"VLOOKUP(K284,'Standard Labels'!$A$7:$AC$500,27)","v":0},{"$f":"VLOOKUP(K284,'Standard Labels'!$A$7:$AC$500,29)","v":0},283]
[{"$f":"VLOOKUP(K285,'Standard Labels'!$A$7:$AC$500,11)","v":0},{"$f":"VLOOKUP(K285,'Standard Labels'!$A$7:$AC$500,13)","v":0},{"$f":"VLOOKUP(K285,'Standard Labels'!$A$7:$AC$500,15)","v":0},{"$f":"VLOOKUP(K285,'Standard Labels'!$A$7:$AC$500,17)","v":0},{"$f":"VLOOKUP(K285,'Standard Labels'!$A$7:$AC$500,19)","v":0},{"$f":"VLOOKUP(K285,'Standard Labels'!$A$7:$AC$500,21)","v":0},{"$f":"VLOOKUP(K285,'Standard Labels'!$A$7:$AC$500,23)","v":0},{"$f":"VLOOKUP(K285,'Standard Labels'!$A$7:$AC$500,25)","v":0},{"$f":"VLOOKUP(K285,'Standard Labels'!$A$7:$AC$500,27)","v":0},{"$f":"VLOOKUP(K285,'Standard Labels'!$A$7:$AC$500,29)","v":0},284]
[{"$f":"VLOOKUP(K286,'Standard Labels'!$A$7:$AC$500,11)","v":0},{"$f":"VLOOKUP(K286,'Standard Labels'!$A$7:$AC$500,13)","v":0},{"$f":"VLOOKUP(K286,'Standard Labels'!$A$7:$AC$500,15)","v":0},{"$f":"VLOOKUP(K286,'Standard Labels'!$A$7:$AC$500,17)","v":0},{"$f":"VLOOKUP(K286,'Standard Labels'!$A$7:$AC$500,19)","v":0},{"$f":"VLOOKUP(K286,'Standard Labels'!$A$7:$AC$500,21)","v":0},{"$f":"VLOOKUP(K286,'Standard Labels'!$A$7:$AC$500,23)","v":0},{"$f":"VLOOKUP(K286,'Standard Labels'!$A$7:$AC$500,25)","v":0},{"$f":"VLOOKUP(K286,'Standard Labels'!$A$7:$AC$500,27)","v":0},{"$f":"VLOOKUP(K286,'Standard Labels'!$A$7:$AC$500,29)","v":0},285]
[{"$f":"VLOOKUP(K287,'Standard Labels'!$A$7:$AC$500,11)","v":0},{"$f":"VLOOKUP(K287,'Standard Labels'!$A$7:$AC$500,13)","v":0},{"$f":"VLOOKUP(K287,'Standard Labels'!$A$7:$AC$500,15)","v":0},{"$f":"VLOOKUP(K287,'Standard Labels'!$A$7:$AC$500,17)","v":0},{"$f":"VLOOKUP(K287,'Standard Labels'!$A$7:$AC$500,19)","v":0},{"$f":"VLOOKUP(K287,'Standard Labels'!$A$7:$AC$500,21)","v":0},{"$f":"VLOOKUP(K287,'Standard Labels'!$A$7:$AC$500,23)","v":0},{"$f":"VLOOKUP(K287,'Standard Labels'!$A$7:$AC$500,25)","v":0},{"$f":"VLOOKUP(K287,'Standard Labels'!$A$7:$AC$500,27)","v":0},{"$f":"VLOOKUP(K287,'Standard Labels'!$A$7:$AC$500,29)","v":0},286]
[{"$f":"VLOOKUP(K288,'Standard Labels'!$A$7:$AC$500,11)","v":0},{"$f":"VLOOKUP(K288,'Standard Labels'!$A$7:$AC$500,13)","v":0},{"$f":"VLOOKUP(K288,'Standard Labels'!$A$7:$AC$500,15)","v":0},{"$f":"VLOOKUP(K288,'Standard Labels'!$A$7:$AC$500,17)","v":0},{"$f":"VLOOKUP(K288,'Standard Labels'!$A$7:$AC$500,19)","v":0},{"$f":"VLOOKUP(K288,'Standard Labels'!$A$7:$AC$500,21)","v":0},{"$f":"VLOOKUP(K288,'Standard Labels'!$A$7:$AC$500,23)","v":0},{"$f":"VLOOKUP(K288,'Standard Labels'!$A$7:$AC$500,25)","v":0},{"$f":"VLOOKUP(K288,'Standard Labels'!$A$7:$AC$500,27)","v":0},{"$f":"VLOOKUP(K288,'Standard Labels'!$A$7:$AC$500,29)","v":0},287]
[{"$f":"VLOOKUP(K289,'Standard Labels'!$A$7:$AC$500,11)","v":0},{"$f":"VLOOKUP(K289,'Standard Labels'!$A$7:$AC$500,13)","v":0},{"$f":"VLOOKUP(K289,'Standard Labels'!$A$7:$AC$500,15)","v":0},{"$f":"VLOOKUP(K289,'Standard Labels'!$A$7:$AC$500,17)","v":0},{"$f":"VLOOKUP(K289,'Standard Labels'!$A$7:$AC$500,19)","v":0},{"$f":"VLOOKUP(K289,'Standard Labels'!$A$7:$AC$500,21)","v":0},{"$f":"VLOOKUP(K289,'Standard Labels'!$A$7:$AC$500,23)","v":0},{"$f":"VLOOKUP(K289,'Standard Labels'!$A$7:$AC$500,25)","v":0},{"$f":"VLOOKUP(K289,'Standard Labels'!$A$7:$AC$500,27)","v":0},{"$f":"VLOOKUP(K289,'Standard Labels'!$A$7:$AC$500,29)","v":0},288]
[{"$f":"VLOOKUP(K290,'Standard Labels'!$A$7:$AC$500,11)","v":0},{"$f":"VLOOKUP(K290,'Standard Labels'!$A$7:$AC$500,13)","v":0},{"$f":"VLOOKUP(K290,'Standard Labels'!$A$7:$AC$500,15)","v":0},{"$f":"VLOOKUP(K290,'Standard Labels'!$A$7:$AC$500,17)","v":0},{"$f":"VLOOKUP(K290,'Standard Labels'!$A$7:$AC$500,19)","v":0},{"$f":"VLOOKUP(K290,'Standard Labels'!$A$7:$AC$500,21)","v":0},{"$f":"VLOOKUP(K290,'Standard Labels'!$A$7:$AC$500,23)","v":0},{"$f":"VLOOKUP(K290,'Standard Labels'!$A$7:$AC$500,25)","v":0},{"$f":"VLOOKUP(K290,'Standard Labels'!$A$7:$AC$500,27)","v":0},{"$f":"VLOOKUP(K290,'Standard Labels'!$A$7:$AC$500,29)","v":0},289]
[{"$f":"VLOOKUP(K291,'Standard Labels'!$A$7:$AC$500,11)","v":0},{"$f":"VLOOKUP(K291,'Standard Labels'!$A$7:$AC$500,13)","v":0},{"$f":"VLOOKUP(K291,'Standard Labels'!$A$7:$AC$500,15)","v":0},{"$f":"VLOOKUP(K291,'Standard Labels'!$A$7:$AC$500,17)","v":0},{"$f":"VLOOKUP(K291,'Standard Labels'!$A$7:$AC$500,19)","v":0},{"$f":"VLOOKUP(K291,'Standard Labels'!$A$7:$AC$500,21)","v":0},{"$f":"VLOOKUP(K291,'Standard Labels'!$A$7:$AC$500,23)","v":0},{"$f":"VLOOKUP(K291,'Standard Labels'!$A$7:$AC$500,25)","v":0},{"$f":"VLOOKUP(K291,'Standard Labels'!$A$7:$AC$500,27)","v":0},{"$f":"VLOOKUP(K291,'Standard Labels'!$A$7:$AC$500,29)","v":0},290]
[{"$f":"VLOOKUP(K292,'Standard Labels'!$A$7:$AC$500,11)","v":0},{"$f":"VLOOKUP(K292,'Standard Labels'!$A$7:$AC$500,13)","v":0},{"$f":"VLOOKUP(K292,'Standard Labels'!$A$7:$AC$500,15)","v":0},{"$f":"VLOOKUP(K292,'Standard Labels'!$A$7:$AC$500,17)","v":0},{"$f":"VLOOKUP(K292,'Standard Labels'!$A$7:$AC$500,19)","v":0},{"$f":"VLOOKUP(K292,'Standard Labels'!$A$7:$AC$500,21)","v":0},{"$f":"VLOOKUP(K292,'Standard Labels'!$A$7:$AC$500,23)","v":0},{"$f":"VLOOKUP(K292,'Standard Labels'!$A$7:$AC$500,25)","v":0},{"$f":"VLOOKUP(K292,'Standard Labels'!$A$7:$AC$500,27)","v":0},{"$f":"VLOOKUP(K292,'Standard Labels'!$A$7:$AC$500,29)","v":0},291]
[{"$f":"VLOOKUP(K293,'Standard Labels'!$A$7:$AC$500,11)","v":0},{"$f":"VLOOKUP(K293,'Standard Labels'!$A$7:$AC$500,13)","v":0},{"$f":"VLOOKUP(K293,'Standard Labels'!$A$7:$AC$500,15)","v":0},{"$f":"VLOOKUP(K293,'Standard Labels'!$A$7:$AC$500,17)","v":0},{"$f":"VLOOKUP(K293,'Standard Labels'!$A$7:$AC$500,19)","v":0},{"$f":"VLOOKUP(K293,'Standard Labels'!$A$7:$AC$500,21)","v":0},{"$f":"VLOOKUP(K293,'Standard Labels'!$A$7:$AC$500,23)","v":0},{"$f":"VLOOKUP(K293,'Standard Labels'!$A$7:$AC$500,25)","v":0},{"$f":"VLOOKUP(K293,'Standard Labels'!$A$7:$AC$500,27)","v":0},{"$f":"VLOOKUP(K293,'Standard Labels'!$A$7:$AC$500,29)","v":0},292]
[{"$f":"VLOOKUP(K294,'Standard Labels'!$A$7:$AC$500,11)","v":0},{"$f":"VLOOKUP(K294,'Standard Labels'!$A$7:$AC$500,13)","v":0},{"$f":"VLOOKUP(K294,'Standard Labels'!$A$7:$AC$500,15)","v":0},{"$f":"VLOOKUP(K294,'Standard Labels'!$A$7:$AC$500,17)","v":0},{"$f":"VLOOKUP(K294,'Standard Labels'!$A$7:$AC$500,19)","v":0},{"$f":"VLOOKUP(K294,'Standard Labels'!$A$7:$AC$500,21)","v":0},{"$f":"VLOOKUP(K294,'Standard Labels'!$A$7:$AC$500,23)","v":0},{"$f":"VLOOKUP(K294,'Standard Labels'!$A$7:$AC$500,25)","v":0},{"$f":"VLOOKUP(K294,'Standard Labels'!$A$7:$AC$500,27)","v":0},{"$f":"VLOOKUP(K294,'Standard Labels'!$A$7:$AC$500,29)","v":0},293]
[{"$f":"VLOOKUP(K295,'Standard Labels'!$A$7:$AC$500,11)","v":0},{"$f":"VLOOKUP(K295,'Standard Labels'!$A$7:$AC$500,13)","v":0},{"$f":"VLOOKUP(K295,'Standard Labels'!$A$7:$AC$500,15)","v":0},{"$f":"VLOOKUP(K295,'Standard Labels'!$A$7:$AC$500,17)","v":0},{"$f":"VLOOKUP(K295,'Standard Labels'!$A$7:$AC$500,19)","v":0},{"$f":"VLOOKUP(K295,'Standard Labels'!$A$7:$AC$500,21)","v":0},{"$f":"VLOOKUP(K295,'Standard Labels'!$A$7:$AC$500,23)","v":0},{"$f":"VLOOKUP(K295,'Standard Labels'!$A$7:$AC$500,25)","v":0},{"$f":"VLOOKUP(K295,'Standard Labels'!$A$7:$AC$500,27)","v":0},{"$f":"VLOOKUP(K295,'Standard Labels'!$A$7:$AC$500,29)","v":0},294]
[{"$f":"VLOOKUP(K296,'Standard Labels'!$A$7:$AC$500,11)","v":0},{"$f":"VLOOKUP(K296,'Standard Labels'!$A$7:$AC$500,13)","v":0},{"$f":"VLOOKUP(K296,'Standard Labels'!$A$7:$AC$500,15)","v":0},{"$f":"VLOOKUP(K296,'Standard Labels'!$A$7:$AC$500,17)","v":0},{"$f":"VLOOKUP(K296,'Standard Labels'!$A$7:$AC$500,19)","v":0},{"$f":"VLOOKUP(K296,'Standard Labels'!$A$7:$AC$500,21)","v":0},{"$f":"VLOOKUP(K296,'Standard Labels'!$A$7:$AC$500,23)","v":0},{"$f":"VLOOKUP(K296,'Standard Labels'!$A$7:$AC$500,25)","v":0},{"$f":"VLOOKUP(K296,'Standard Labels'!$A$7:$AC$500,27)","v":0},{"$f":"VLOOKUP(K296,'Standard Labels'!$A$7:$AC$500,29)","v":0},295]
[{"$f":"VLOOKUP(K297,'Standard Labels'!$A$7:$AC$500,11)","v":0},{"$f":"VLOOKUP(K297,'Standard Labels'!$A$7:$AC$500,13)","v":0},{"$f":"VLOOKUP(K297,'Standard Labels'!$A$7:$AC$500,15)","v":0},{"$f":"VLOOKUP(K297,'Standard Labels'!$A$7:$AC$500,17)","v":0},{"$f":"VLOOKUP(K297,'Standard Labels'!$A$7:$AC$500,19)","v":0},{"$f":"VLOOKUP(K297,'Standard Labels'!$A$7:$AC$500,21)","v":0},{"$f":"VLOOKUP(K297,'Standard Labels'!$A$7:$AC$500,23)","v":0},{"$f":"VLOOKUP(K297,'Standard Labels'!$A$7:$AC$500,25)","v":0},{"$f":"VLOOKUP(K297,'Standard Labels'!$A$7:$AC$500,27)","v":0},{"$f":"VLOOKUP(K297,'Standard Labels'!$A$7:$AC$500,29)","v":0},296]
[{"$f":"VLOOKUP(K298,'Standard Labels'!$A$7:$AC$500,11)","v":0},{"$f":"VLOOKUP(K298,'Standard Labels'!$A$7:$AC$500,13)","v":0},{"$f":"VLOOKUP(K298,'Standard Labels'!$A$7:$AC$500,15)","v":0},{"$f":"VLOOKUP(K298,'Standard Labels'!$A$7:$AC$500,17)","v":0},{"$f":"VLOOKUP(K298,'Standard Labels'!$A$7:$AC$500,19)","v":0},{"$f":"VLOOKUP(K298,'Standard Labels'!$A$7:$AC$500,21)","v":0},{"$f":"VLOOKUP(K298,'Standard Labels'!$A$7:$AC$500,23)","v":0},{"$f":"VLOOKUP(K298,'Standard Labels'!$A$7:$AC$500,25)","v":0},{"$f":"VLOOKUP(K298,'Standard Labels'!$A$7:$AC$500,27)","v":0},{"$f":"VLOOKUP(K298,'Standard Labels'!$A$7:$AC$500,29)","v":0},297]
[{"$f":"VLOOKUP(K299,'Standard Labels'!$A$7:$AC$500,11)","v":0},{"$f":"VLOOKUP(K299,'Standard Labels'!$A$7:$AC$500,13)","v":0},{"$f":"VLOOKUP(K299,'Standard Labels'!$A$7:$AC$500,15)","v":0},{"$f":"VLOOKUP(K299,'Standard Labels'!$A$7:$AC$500,17)","v":0},{"$f":"VLOOKUP(K299,'Standard Labels'!$A$7:$AC$500,19)","v":0},{"$f":"VLOOKUP(K299,'Standard Labels'!$A$7:$AC$500,21)","v":0},{"$f":"VLOOKUP(K299,'Standard Labels'!$A$7:$AC$500,23)","v":0},{"$f":"VLOOKUP(K299,'Standard Labels'!$A$7:$AC$500,25)","v":0},{"$f":"VLOOKUP(K299,'Standard Labels'!$A$7:$AC$500,27)","v":0},{"$f":"VLOOKUP(K299,'Standard Labels'!$A$7:$AC$500,29)","v":0},298]
[{"$f":"VLOOKUP(K300,'Standard Labels'!$A$7:$AC$500,11)","v":0},{"$f":"VLOOKUP(K300,'Standard Labels'!$A$7:$AC$500,13)","v":0},{"$f":"VLOOKUP(K300,'Standard Labels'!$A$7:$AC$500,15)","v":0},{"$f":"VLOOKUP(K300,'Standard Labels'!$A$7:$AC$500,17)","v":0},{"$f":"VLOOKUP(K300,'Standard Labels'!$A$7:$AC$500,19)","v":0},{"$f":"VLOOKUP(K300,'Standard Labels'!$A$7:$AC$500,21)","v":0},{"$f":"VLOOKUP(K300,'Standard Labels'!$A$7:$AC$500,23)","v":0},{"$f":"VLOOKUP(K300,'Standard Labels'!$A$7:$AC$500,25)","v":0},{"$f":"VLOOKUP(K300,'Standard Labels'!$A$7:$AC$500,27)","v":0},{"$f":"VLOOKUP(K300,'Standard Labels'!$A$7:$AC$500,29)","v":0},299]
[{"$f":"VLOOKUP(K301,'Standard Labels'!$A$7:$AC$500,11)","v":0},{"$f":"VLOOKUP(K301,'Standard Labels'!$A$7:$AC$500,13)","v":0},{"$f":"VLOOKUP(K301,'Standard Labels'!$A$7:$AC$500,15)","v":0},{"$f":"VLOOKUP(K301,'Standard Labels'!$A$7:$AC$500,17)","v":0},{"$f":"VLOOKUP(K301,'Standard Labels'!$A$7:$AC$500,19)","v":0},{"$f":"VLOOKUP(K301,'Standard Labels'!$A$7:$AC$500,21)","v":0},{"$f":"VLOOKUP(K301,'Standard Labels'!$A$7:$AC$500,23)","v":0},{"$f":"VLOOKUP(K301,'Standard Labels'!$A$7:$AC$500,25)","v":0},{"$f":"VLOOKUP(K301,'Standard Labels'!$A$7:$AC$500,27)","v":0},{"$f":"VLOOKUP(K301,'Standard Labels'!$A$7:$AC$500,29)","v":0},300]
[{"$f":"VLOOKUP(K302,'Standard Labels'!$A$7:$AC$500,11)","v":0},{"$f":"VLOOKUP(K302,'Standard Labels'!$A$7:$AC$500,13)","v":0},{"$f":"VLOOKUP(K302,'Standard Labels'!$A$7:$AC$500,15)","v":0},{"$f":"VLOOKUP(K302,'Standard Labels'!$A$7:$AC$500,17)","v":0},{"$f":"VLOOKUP(K302,'Standard Labels'!$A$7:$AC$500,19)","v":0},{"$f":"VLOOKUP(K302,'Standard Labels'!$A$7:$AC$500,21)","v":0},{"$f":"VLOOKUP(K302,'Standard Labels'!$A$7:$AC$500,23)","v":0},{"$f":"VLOOKUP(K302,'Standard Labels'!$A$7:$AC$500,25)","v":0},{"$f":"VLOOKUP(K302,'Standard Labels'!$A$7:$AC$500,27)","v":0},{"$f":"VLOOKUP(K302,'Standard Labels'!$A$7:$AC$500,29)","v":0},301]
[{"$f":"VLOOKUP(K303,'Standard Labels'!$A$7:$AC$500,11)","v":0},{"$f":"VLOOKUP(K303,'Standard Labels'!$A$7:$AC$500,13)","v":0},{"$f":"VLOOKUP(K303,'Standard Labels'!$A$7:$AC$500,15)","v":0},{"$f":"VLOOKUP(K303,'Standard Labels'!$A$7:$AC$500,17)","v":0},{"$f":"VLOOKUP(K303,'Standard Labels'!$A$7:$AC$500,19)","v":0},{"$f":"VLOOKUP(K303,'Standard Labels'!$A$7:$AC$500,21)","v":0},{"$f":"VLOOKUP(K303,'Standard Labels'!$A$7:$AC$500,23)","v":0},{"$f":"VLOOKUP(K303,'Standard Labels'!$A$7:$AC$500,25)","v":0},{"$f":"VLOOKUP(K303,'Standard Labels'!$A$7:$AC$500,27)","v":0},{"$f":"VLOOKUP(K303,'Standard Labels'!$A$7:$AC$500,29)","v":0},302]
[{"$f":"VLOOKUP(K304,'Standard Labels'!$A$7:$AC$500,11)","v":0},{"$f":"VLOOKUP(K304,'Standard Labels'!$A$7:$AC$500,13)","v":0},{"$f":"VLOOKUP(K304,'Standard Labels'!$A$7:$AC$500,15)","v":0},{"$f":"VLOOKUP(K304,'Standard Labels'!$A$7:$AC$500,17)","v":0},{"$f":"VLOOKUP(K304,'Standard Labels'!$A$7:$AC$500,19)","v":0},{"$f":"VLOOKUP(K304,'Standard Labels'!$A$7:$AC$500,21)","v":0},{"$f":"VLOOKUP(K304,'Standard Labels'!$A$7:$AC$500,23)","v":0},{"$f":"VLOOKUP(K304,'Standard Labels'!$A$7:$AC$500,25)","v":0},{"$f":"VLOOKUP(K304,'Standard Labels'!$A$7:$AC$500,27)","v":0},{"$f":"VLOOKUP(K304,'Standard Labels'!$A$7:$AC$500,29)","v":0},303]
[{"$f":"VLOOKUP(K305,'Standard Labels'!$A$7:$AC$500,11)","v":0},{"$f":"VLOOKUP(K305,'Standard Labels'!$A$7:$AC$500,13)","v":0},{"$f":"VLOOKUP(K305,'Standard Labels'!$A$7:$AC$500,15)","v":0},{"$f":"VLOOKUP(K305,'Standard Labels'!$A$7:$AC$500,17)","v":0},{"$f":"VLOOKUP(K305,'Standard Labels'!$A$7:$AC$500,19)","v":0},{"$f":"VLOOKUP(K305,'Standard Labels'!$A$7:$AC$500,21)","v":0},{"$f":"VLOOKUP(K305,'Standard Labels'!$A$7:$AC$500,23)","v":0},{"$f":"VLOOKUP(K305,'Standard Labels'!$A$7:$AC$500,25)","v":0},{"$f":"VLOOKUP(K305,'Standard Labels'!$A$7:$AC$500,27)","v":0},{"$f":"VLOOKUP(K305,'Standard Labels'!$A$7:$AC$500,29)","v":0},304]
[{"$f":"VLOOKUP(K306,'Standard Labels'!$A$7:$AC$500,11)","v":0},{"$f":"VLOOKUP(K306,'Standard Labels'!$A$7:$AC$500,13)","v":0},{"$f":"VLOOKUP(K306,'Standard Labels'!$A$7:$AC$500,15)","v":0},{"$f":"VLOOKUP(K306,'Standard Labels'!$A$7:$AC$500,17)","v":0},{"$f":"VLOOKUP(K306,'Standard Labels'!$A$7:$AC$500,19)","v":0},{"$f":"VLOOKUP(K306,'Standard Labels'!$A$7:$AC$500,21)","v":0},{"$f":"VLOOKUP(K306,'Standard Labels'!$A$7:$AC$500,23)","v":0},{"$f":"VLOOKUP(K306,'Standard Labels'!$A$7:$AC$500,25)","v":0},{"$f":"VLOOKUP(K306,'Standard Labels'!$A$7:$AC$500,27)","v":0},{"$f":"VLOOKUP(K306,'Standard Labels'!$A$7:$AC$500,29)","v":0},305]
[{"$f":"VLOOKUP(K307,'Standard Labels'!$A$7:$AC$500,11)","v":0},{"$f":"VLOOKUP(K307,'Standard Labels'!$A$7:$AC$500,13)","v":0},{"$f":"VLOOKUP(K307,'Standard Labels'!$A$7:$AC$500,15)","v":0},{"$f":"VLOOKUP(K307,'Standard Labels'!$A$7:$AC$500,17)","v":0},{"$f":"VLOOKUP(K307,'Standard Labels'!$A$7:$AC$500,19)","v":0},{"$f":"VLOOKUP(K307,'Standard Labels'!$A$7:$AC$500,21)","v":0},{"$f":"VLOOKUP(K307,'Standard Labels'!$A$7:$AC$500,23)","v":0},{"$f":"VLOOKUP(K307,'Standard Labels'!$A$7:$AC$500,25)","v":0},{"$f":"VLOOKUP(K307,'Standard Labels'!$A$7:$AC$500,27)","v":0},{"$f":"VLOOKUP(K307,'Standard Labels'!$A$7:$AC$500,29)","v":0},306]
[{"$f":"VLOOKUP(K308,'Standard Labels'!$A$7:$AC$500,11)","v":0},{"$f":"VLOOKUP(K308,'Standard Labels'!$A$7:$AC$500,13)","v":0},{"$f":"VLOOKUP(K308,'Standard Labels'!$A$7:$AC$500,15)","v":0},{"$f":"VLOOKUP(K308,'Standard Labels'!$A$7:$AC$500,17)","v":0},{"$f":"VLOOKUP(K308,'Standard Labels'!$A$7:$AC$500,19)","v":0},{"$f":"VLOOKUP(K308,'Standard Labels'!$A$7:$AC$500,21)","v":0},{"$f":"VLOOKUP(K308,'Standard Labels'!$A$7:$AC$500,23)","v":0},{"$f":"VLOOKUP(K308,'Standard Labels'!$A$7:$AC$500,25)","v":0},{"$f":"VLOOKUP(K308,'Standard Labels'!$A$7:$AC$500,27)","v":0},{"$f":"VLOOKUP(K308,'Standard Labels'!$A$7:$AC$500,29)","v":0},307]
[{"$f":"VLOOKUP(K309,'Standard Labels'!$A$7:$AC$500,11)","v":0},{"$f":"VLOOKUP(K309,'Standard Labels'!$A$7:$AC$500,13)","v":0},{"$f":"VLOOKUP(K309,'Standard Labels'!$A$7:$AC$500,15)","v":0},{"$f":"VLOOKUP(K309,'Standard Labels'!$A$7:$AC$500,17)","v":0},{"$f":"VLOOKUP(K309,'Standard Labels'!$A$7:$AC$500,19)","v":0},{"$f":"VLOOKUP(K309,'Standard Labels'!$A$7:$AC$500,21)","v":0},{"$f":"VLOOKUP(K309,'Standard Labels'!$A$7:$AC$500,23)","v":0},{"$f":"VLOOKUP(K309,'Standard Labels'!$A$7:$AC$500,25)","v":0},{"$f":"VLOOKUP(K309,'Standard Labels'!$A$7:$AC$500,27)","v":0},{"$f":"VLOOKUP(K309,'Standard Labels'!$A$7:$AC$500,29)","v":0},308]
[{"$f":"VLOOKUP(K310,'Standard Labels'!$A$7:$AC$500,11)","v":0},{"$f":"VLOOKUP(K310,'Standard Labels'!$A$7:$AC$500,13)","v":0},{"$f":"VLOOKUP(K310,'Standard Labels'!$A$7:$AC$500,15)","v":0},{"$f":"VLOOKUP(K310,'Standard Labels'!$A$7:$AC$500,17)","v":0},{"$f":"VLOOKUP(K310,'Standard Labels'!$A$7:$AC$500,19)","v":0},{"$f":"VLOOKUP(K310,'Standard Labels'!$A$7:$AC$500,21)","v":0},{"$f":"VLOOKUP(K310,'Standard Labels'!$A$7:$AC$500,23)","v":0},{"$f":"VLOOKUP(K310,'Standard Labels'!$A$7:$AC$500,25)","v":0},{"$f":"VLOOKUP(K310,'Standard Labels'!$A$7:$AC$500,27)","v":0},{"$f":"VLOOKUP(K310,'Standard Labels'!$A$7:$AC$500,29)","v":0},309]
[{"$f":"VLOOKUP(K311,'Standard Labels'!$A$7:$AC$500,11)","v":0},{"$f":"VLOOKUP(K311,'Standard Labels'!$A$7:$AC$500,13)","v":0},{"$f":"VLOOKUP(K311,'Standard Labels'!$A$7:$AC$500,15)","v":0},{"$f":"VLOOKUP(K311,'Standard Labels'!$A$7:$AC$500,17)","v":0},{"$f":"VLOOKUP(K311,'Standard Labels'!$A$7:$AC$500,19)","v":0},{"$f":"VLOOKUP(K311,'Standard Labels'!$A$7:$AC$500,21)","v":0},{"$f":"VLOOKUP(K311,'Standard Labels'!$A$7:$AC$500,23)","v":0},{"$f":"VLOOKUP(K311,'Standard Labels'!$A$7:$AC$500,25)","v":0},{"$f":"VLOOKUP(K311,'Standard Labels'!$A$7:$AC$500,27)","v":0},{"$f":"VLOOKUP(K311,'Standard Labels'!$A$7:$AC$500,29)","v":0},310]
[{"$f":"VLOOKUP(K312,'Standard Labels'!$A$7:$AC$500,11)","v":0},{"$f":"VLOOKUP(K312,'Standard Labels'!$A$7:$AC$500,13)","v":0},{"$f":"VLOOKUP(K312,'Standard Labels'!$A$7:$AC$500,15)","v":0},{"$f":"VLOOKUP(K312,'Standard Labels'!$A$7:$AC$500,17)","v":0},{"$f":"VLOOKUP(K312,'Standard Labels'!$A$7:$AC$500,19)","v":0},{"$f":"VLOOKUP(K312,'Standard Labels'!$A$7:$AC$500,21)","v":0},{"$f":"VLOOKUP(K312,'Standard Labels'!$A$7:$AC$500,23)","v":0},{"$f":"VLOOKUP(K312,'Standard Labels'!$A$7:$AC$500,25)","v":0},{"$f":"VLOOKUP(K312,'Standard Labels'!$A$7:$AC$500,27)","v":0},{"$f":"VLOOKUP(K312,'Standard Labels'!$A$7:$AC$500,29)","v":0},311]
[{"$f":"VLOOKUP(K313,'Standard Labels'!$A$7:$AC$500,11)","v":0},{"$f":"VLOOKUP(K313,'Standard Labels'!$A$7:$AC$500,13)","v":0},{"$f":"VLOOKUP(K313,'Standard Labels'!$A$7:$AC$500,15)","v":0},{"$f":"VLOOKUP(K313,'Standard Labels'!$A$7:$AC$500,17)","v":0},{"$f":"VLOOKUP(K313,'Standard Labels'!$A$7:$AC$500,19)","v":0},{"$f":"VLOOKUP(K313,'Standard Labels'!$A$7:$AC$500,21)","v":0},{"$f":"VLOOKUP(K313,'Standard Labels'!$A$7:$AC$500,23)","v":0},{"$f":"VLOOKUP(K313,'Standard Labels'!$A$7:$AC$500,25)","v":0},{"$f":"VLOOKUP(K313,'Standard Labels'!$A$7:$AC$500,27)","v":0},{"$f":"VLOOKUP(K313,'Standard Labels'!$A$7:$AC$500,29)","v":0},312]
[{"$f":"VLOOKUP(K314,'Standard Labels'!$A$7:$AC$500,11)","v":0},{"$f":"VLOOKUP(K314,'Standard Labels'!$A$7:$AC$500,13)","v":0},{"$f":"VLOOKUP(K314,'Standard Labels'!$A$7:$AC$500,15)","v":0},{"$f":"VLOOKUP(K314,'Standard Labels'!$A$7:$AC$500,17)","v":0},{"$f":"VLOOKUP(K314,'Standard Labels'!$A$7:$AC$500,19)","v":0},{"$f":"VLOOKUP(K314,'Standard Labels'!$A$7:$AC$500,21)","v":0},{"$f":"VLOOKUP(K314,'Standard Labels'!$A$7:$AC$500,23)","v":0},{"$f":"VLOOKUP(K314,'Standard Labels'!$A$7:$AC$500,25)","v":0},{"$f":"VLOOKUP(K314,'Standard Labels'!$A$7:$AC$500,27)","v":0},{"$f":"VLOOKUP(K314,'Standard Labels'!$A$7:$AC$500,29)","v":0},313]
[{"$f":"VLOOKUP(K315,'Standard Labels'!$A$7:$AC$500,11)","v":0},{"$f":"VLOOKUP(K315,'Standard Labels'!$A$7:$AC$500,13)","v":0},{"$f":"VLOOKUP(K315,'Standard Labels'!$A$7:$AC$500,15)","v":0},{"$f":"VLOOKUP(K315,'Standard Labels'!$A$7:$AC$500,17)","v":0},{"$f":"VLOOKUP(K315,'Standard Labels'!$A$7:$AC$500,19)","v":0},{"$f":"VLOOKUP(K315,'Standard Labels'!$A$7:$AC$500,21)","v":0},{"$f":"VLOOKUP(K315,'Standard Labels'!$A$7:$AC$500,23)","v":0},{"$f":"VLOOKUP(K315,'Standard Labels'!$A$7:$AC$500,25)","v":0},{"$f":"VLOOKUP(K315,'Standard Labels'!$A$7:$AC$500,27)","v":0},{"$f":"VLOOKUP(K315,'Standard Labels'!$A$7:$AC$500,29)","v":0},314]
[{"$f":"VLOOKUP(K316,'Standard Labels'!$A$7:$AC$500,11)","v":0},{"$f":"VLOOKUP(K316,'Standard Labels'!$A$7:$AC$500,13)","v":0},{"$f":"VLOOKUP(K316,'Standard Labels'!$A$7:$AC$500,15)","v":0},{"$f":"VLOOKUP(K316,'Standard Labels'!$A$7:$AC$500,17)","v":0},{"$f":"VLOOKUP(K316,'Standard Labels'!$A$7:$AC$500,19)","v":0},{"$f":"VLOOKUP(K316,'Standard Labels'!$A$7:$AC$500,21)","v":0},{"$f":"VLOOKUP(K316,'Standard Labels'!$A$7:$AC$500,23)","v":0},{"$f":"VLOOKUP(K316,'Standard Labels'!$A$7:$AC$500,25)","v":0},{"$f":"VLOOKUP(K316,'Standard Labels'!$A$7:$AC$500,27)","v":0},{"$f":"VLOOKUP(K316,'Standard Labels'!$A$7:$AC$500,29)","v":0},315]
[{"$f":"VLOOKUP(K317,'Standard Labels'!$A$7:$AC$500,11)","v":0},{"$f":"VLOOKUP(K317,'Standard Labels'!$A$7:$AC$500,13)","v":0},{"$f":"VLOOKUP(K317,'Standard Labels'!$A$7:$AC$500,15)","v":0},{"$f":"VLOOKUP(K317,'Standard Labels'!$A$7:$AC$500,17)","v":0},{"$f":"VLOOKUP(K317,'Standard Labels'!$A$7:$AC$500,19)","v":0},{"$f":"VLOOKUP(K317,'Standard Labels'!$A$7:$AC$500,21)","v":0},{"$f":"VLOOKUP(K317,'Standard Labels'!$A$7:$AC$500,23)","v":0},{"$f":"VLOOKUP(K317,'Standard Labels'!$A$7:$AC$500,25)","v":0},{"$f":"VLOOKUP(K317,'Standard Labels'!$A$7:$AC$500,27)","v":0},{"$f":"VLOOKUP(K317,'Standard Labels'!$A$7:$AC$500,29)","v":0},316]
[{"$f":"VLOOKUP(K318,'Standard Labels'!$A$7:$AC$500,11)","v":0},{"$f":"VLOOKUP(K318,'Standard Labels'!$A$7:$AC$500,13)","v":0},{"$f":"VLOOKUP(K318,'Standard Labels'!$A$7:$AC$500,15)","v":0},{"$f":"VLOOKUP(K318,'Standard Labels'!$A$7:$AC$500,17)","v":0},{"$f":"VLOOKUP(K318,'Standard Labels'!$A$7:$AC$500,19)","v":0},{"$f":"VLOOKUP(K318,'Standard Labels'!$A$7:$AC$500,21)","v":0},{"$f":"VLOOKUP(K318,'Standard Labels'!$A$7:$AC$500,23)","v":0},{"$f":"VLOOKUP(K318,'Standard Labels'!$A$7:$AC$500,25)","v":0},{"$f":"VLOOKUP(K318,'Standard Labels'!$A$7:$AC$500,27)","v":0},{"$f":"VLOOKUP(K318,'Standard Labels'!$A$7:$AC$500,29)","v":0},317]
[{"$f":"VLOOKUP(K319,'Standard Labels'!$A$7:$AC$500,11)","v":0},{"$f":"VLOOKUP(K319,'Standard Labels'!$A$7:$AC$500,13)","v":0},{"$f":"VLOOKUP(K319,'Standard Labels'!$A$7:$AC$500,15)","v":0},{"$f":"VLOOKUP(K319,'Standard Labels'!$A$7:$AC$500,17)","v":0},{"$f":"VLOOKUP(K319,'Standard Labels'!$A$7:$AC$500,19)","v":0},{"$f":"VLOOKUP(K319,'Standard Labels'!$A$7:$AC$500,21)","v":0},{"$f":"VLOOKUP(K319,'Standard Labels'!$A$7:$AC$500,23)","v":0},{"$f":"VLOOKUP(K319,'Standard Labels'!$A$7:$AC$500,25)","v":0},{"$f":"VLOOKUP(K319,'Standard Labels'!$A$7:$AC$500,27)","v":0},{"$f":"VLOOKUP(K319,'Standard Labels'!$A$7:$AC$500,29)","v":0},318]
[{"$f":"VLOOKUP(K320,'Standard Labels'!$A$7:$AC$500,11)","v":0},{"$f":"VLOOKUP(K320,'Standard Labels'!$A$7:$AC$500,13)","v":0},{"$f":"VLOOKUP(K320,'Standard Labels'!$A$7:$AC$500,15)","v":0},{"$f":"VLOOKUP(K320,'Standard Labels'!$A$7:$AC$500,17)","v":0},{"$f":"VLOOKUP(K320,'Standard Labels'!$A$7:$AC$500,19)","v":0},{"$f":"VLOOKUP(K320,'Standard Labels'!$A$7:$AC$500,21)","v":0},{"$f":"VLOOKUP(K320,'Standard Labels'!$A$7:$AC$500,23)","v":0},{"$f":"VLOOKUP(K320,'Standard Labels'!$A$7:$AC$500,25)","v":0},{"$f":"VLOOKUP(K320,'Standard Labels'!$A$7:$AC$500,27)","v":0},{"$f":"VLOOKUP(K320,'Standard Labels'!$A$7:$AC$500,29)","v":0},319]
[{"$f":"VLOOKUP(K321,'Standard Labels'!$A$7:$AC$500,11)","v":0},{"$f":"VLOOKUP(K321,'Standard Labels'!$A$7:$AC$500,13)","v":0},{"$f":"VLOOKUP(K321,'Standard Labels'!$A$7:$AC$500,15)","v":0},{"$f":"VLOOKUP(K321,'Standard Labels'!$A$7:$AC$500,17)","v":0},{"$f":"VLOOKUP(K321,'Standard Labels'!$A$7:$AC$500,19)","v":0},{"$f":"VLOOKUP(K321,'Standard Labels'!$A$7:$AC$500,21)","v":0},{"$f":"VLOOKUP(K321,'Standard Labels'!$A$7:$AC$500,23)","v":0},{"$f":"VLOOKUP(K321,'Standard Labels'!$A$7:$AC$500,25)","v":0},{"$f":"VLOOKUP(K321,'Standard Labels'!$A$7:$AC$500,27)","v":0},{"$f":"VLOOKUP(K321,'Standard Labels'!$A$7:$AC$500,29)","v":0},320]
[{"$f":"VLOOKUP(K322,'Standard Labels'!$A$7:$AC$500,11)","v":0},{"$f":"VLOOKUP(K322,'Standard Labels'!$A$7:$AC$500,13)","v":0},{"$f":"VLOOKUP(K322,'Standard Labels'!$A$7:$AC$500,15)","v":0},{"$f":"VLOOKUP(K322,'Standard Labels'!$A$7:$AC$500,17)","v":0},{"$f":"VLOOKUP(K322,'Standard Labels'!$A$7:$AC$500,19)","v":0},{"$f":"VLOOKUP(K322,'Standard Labels'!$A$7:$AC$500,21)","v":0},{"$f":"VLOOKUP(K322,'Standard Labels'!$A$7:$AC$500,23)","v":0},{"$f":"VLOOKUP(K322,'Standard Labels'!$A$7:$AC$500,25)","v":0},{"$f":"VLOOKUP(K322,'Standard Labels'!$A$7:$AC$500,27)","v":0},{"$f":"VLOOKUP(K322,'Standard Labels'!$A$7:$AC$500,29)","v":0},321]
[{"$f":"VLOOKUP(K323,'Standard Labels'!$A$7:$AC$500,11)","v":0},{"$f":"VLOOKUP(K323,'Standard Labels'!$A$7:$AC$500,13)","v":0},{"$f":"VLOOKUP(K323,'Standard Labels'!$A$7:$AC$500,15)","v":0},{"$f":"VLOOKUP(K323,'Standard Labels'!$A$7:$AC$500,17)","v":0},{"$f":"VLOOKUP(K323,'Standard Labels'!$A$7:$AC$500,19)","v":0},{"$f":"VLOOKUP(K323,'Standard Labels'!$A$7:$AC$500,21)","v":0},{"$f":"VLOOKUP(K323,'Standard Labels'!$A$7:$AC$500,23)","v":0},{"$f":"VLOOKUP(K323,'Standard Labels'!$A$7:$AC$500,25)","v":0},{"$f":"VLOOKUP(K323,'Standard Labels'!$A$7:$AC$500,27)","v":0},{"$f":"VLOOKUP(K323,'Standard Labels'!$A$7:$AC$500,29)","v":0},322]
[{"$f":"VLOOKUP(K324,'Standard Labels'!$A$7:$AC$500,11)","v":0},{"$f":"VLOOKUP(K324,'Standard Labels'!$A$7:$AC$500,13)","v":0},{"$f":"VLOOKUP(K324,'Standard Labels'!$A$7:$AC$500,15)","v":0},{"$f":"VLOOKUP(K324,'Standard Labels'!$A$7:$AC$500,17)","v":0},{"$f":"VLOOKUP(K324,'Standard Labels'!$A$7:$AC$500,19)","v":0},{"$f":"VLOOKUP(K324,'Standard Labels'!$A$7:$AC$500,21)","v":0},{"$f":"VLOOKUP(K324,'Standard Labels'!$A$7:$AC$500,23)","v":0},{"$f":"VLOOKUP(K324,'Standard Labels'!$A$7:$AC$500,25)","v":0},{"$f":"VLOOKUP(K324,'Standard Labels'!$A$7:$AC$500,27)","v":0},{"$f":"VLOOKUP(K324,'Standard Labels'!$A$7:$AC$500,29)","v":0},323]
[{"$f":"VLOOKUP(K325,'Standard Labels'!$A$7:$AC$500,11)","v":0},{"$f":"VLOOKUP(K325,'Standard Labels'!$A$7:$AC$500,13)","v":0},{"$f":"VLOOKUP(K325,'Standard Labels'!$A$7:$AC$500,15)","v":0},{"$f":"VLOOKUP(K325,'Standard Labels'!$A$7:$AC$500,17)","v":0},{"$f":"VLOOKUP(K325,'Standard Labels'!$A$7:$AC$500,19)","v":0},{"$f":"VLOOKUP(K325,'Standard Labels'!$A$7:$AC$500,21)","v":0},{"$f":"VLOOKUP(K325,'Standard Labels'!$A$7:$AC$500,23)","v":0},{"$f":"VLOOKUP(K325,'Standard Labels'!$A$7:$AC$500,25)","v":0},{"$f":"VLOOKUP(K325,'Standard Labels'!$A$7:$AC$500,27)","v":0},{"$f":"VLOOKUP(K325,'Standard Labels'!$A$7:$AC$500,29)","v":0},324]
[{"$f":"VLOOKUP(K326,'Standard Labels'!$A$7:$AC$500,11)","v":0},{"$f":"VLOOKUP(K326,'Standard Labels'!$A$7:$AC$500,13)","v":0},{"$f":"VLOOKUP(K326,'Standard Labels'!$A$7:$AC$500,15)","v":0},{"$f":"VLOOKUP(K326,'Standard Labels'!$A$7:$AC$500,17)","v":0},{"$f":"VLOOKUP(K326,'Standard Labels'!$A$7:$AC$500,19)","v":0},{"$f":"VLOOKUP(K326,'Standard Labels'!$A$7:$AC$500,21)","v":0},{"$f":"VLOOKUP(K326,'Standard Labels'!$A$7:$AC$500,23)","v":0},{"$f":"VLOOKUP(K326,'Standard Labels'!$A$7:$AC$500,25)","v":0},{"$f":"VLOOKUP(K326,'Standard Labels'!$A$7:$AC$500,27)","v":0},{"$f":"VLOOKUP(K326,'Standard Labels'!$A$7:$AC$500,29)","v":0},325]
[{"$f":"VLOOKUP(K327,'Standard Labels'!$A$7:$AC$500,11)","v":0},{"$f":"VLOOKUP(K327,'Standard Labels'!$A$7:$AC$500,13)","v":0},{"$f":"VLOOKUP(K327,'Standard Labels'!$A$7:$AC$500,15)","v":0},{"$f":"VLOOKUP(K327,'Standard Labels'!$A$7:$AC$500,17)","v":0},{"$f":"VLOOKUP(K327,'Standard Labels'!$A$7:$AC$500,19)","v":0},{"$f":"VLOOKUP(K327,'Standard Labels'!$A$7:$AC$500,21)","v":0},{"$f":"VLOOKUP(K327,'Standard Labels'!$A$7:$AC$500,23)","v":0},{"$f":"VLOOKUP(K327,'Standard Labels'!$A$7:$AC$500,25)","v":0},{"$f":"VLOOKUP(K327,'Standard Labels'!$A$7:$AC$500,27)","v":0},{"$f":"VLOOKUP(K327,'Standard Labels'!$A$7:$AC$500,29)","v":0},326]
[{"$f":"VLOOKUP(K328,'Standard Labels'!$A$7:$AC$500,11)","v":0},{"$f":"VLOOKUP(K328,'Standard Labels'!$A$7:$AC$500,13)","v":0},{"$f":"VLOOKUP(K328,'Standard Labels'!$A$7:$AC$500,15)","v":0},{"$f":"VLOOKUP(K328,'Standard Labels'!$A$7:$AC$500,17)","v":0},{"$f":"VLOOKUP(K328,'Standard Labels'!$A$7:$AC$500,19)","v":0},{"$f":"VLOOKUP(K328,'Standard Labels'!$A$7:$AC$500,21)","v":0},{"$f":"VLOOKUP(K328,'Standard Labels'!$A$7:$AC$500,23)","v":0},{"$f":"VLOOKUP(K328,'Standard Labels'!$A$7:$AC$500,25)","v":0},{"$f":"VLOOKUP(K328,'Standard Labels'!$A$7:$AC$500,27)","v":0},{"$f":"VLOOKUP(K328,'Standard Labels'!$A$7:$AC$500,29)","v":0},327]
[{"$f":"VLOOKUP(K329,'Standard Labels'!$A$7:$AC$500,11)","v":0},{"$f":"VLOOKUP(K329,'Standard Labels'!$A$7:$AC$500,13)","v":0},{"$f":"VLOOKUP(K329,'Standard Labels'!$A$7:$AC$500,15)","v":0},{"$f":"VLOOKUP(K329,'Standard Labels'!$A$7:$AC$500,17)","v":0},{"$f":"VLOOKUP(K329,'Standard Labels'!$A$7:$AC$500,19)","v":0},{"$f":"VLOOKUP(K329,'Standard Labels'!$A$7:$AC$500,21)","v":0},{"$f":"VLOOKUP(K329,'Standard Labels'!$A$7:$AC$500,23)","v":0},{"$f":"VLOOKUP(K329,'Standard Labels'!$A$7:$AC$500,25)","v":0},{"$f":"VLOOKUP(K329,'Standard Labels'!$A$7:$AC$500,27)","v":0},{"$f":"VLOOKUP(K329,'Standard Labels'!$A$7:$AC$500,29)","v":0},328]
[{"$f":"VLOOKUP(K330,'Standard Labels'!$A$7:$AC$500,11)","v":0},{"$f":"VLOOKUP(K330,'Standard Labels'!$A$7:$AC$500,13)","v":0},{"$f":"VLOOKUP(K330,'Standard Labels'!$A$7:$AC$500,15)","v":0},{"$f":"VLOOKUP(K330,'Standard Labels'!$A$7:$AC$500,17)","v":0},{"$f":"VLOOKUP(K330,'Standard Labels'!$A$7:$AC$500,19)","v":0},{"$f":"VLOOKUP(K330,'Standard Labels'!$A$7:$AC$500,21)","v":0},{"$f":"VLOOKUP(K330,'Standard Labels'!$A$7:$AC$500,23)","v":0},{"$f":"VLOOKUP(K330,'Standard Labels'!$A$7:$AC$500,25)","v":0},{"$f":"VLOOKUP(K330,'Standard Labels'!$A$7:$AC$500,27)","v":0},{"$f":"VLOOKUP(K330,'Standard Labels'!$A$7:$AC$500,29)","v":0},329]
[{"$f":"VLOOKUP(K331,'Standard Labels'!$A$7:$AC$500,11)","v":0},{"$f":"VLOOKUP(K331,'Standard Labels'!$A$7:$AC$500,13)","v":0},{"$f":"VLOOKUP(K331,'Standard Labels'!$A$7:$AC$500,15)","v":0},{"$f":"VLOOKUP(K331,'Standard Labels'!$A$7:$AC$500,17)","v":0},{"$f":"VLOOKUP(K331,'Standard Labels'!$A$7:$AC$500,19)","v":0},{"$f":"VLOOKUP(K331,'Standard Labels'!$A$7:$AC$500,21)","v":0},{"$f":"VLOOKUP(K331,'Standard Labels'!$A$7:$AC$500,23)","v":0},{"$f":"VLOOKUP(K331,'Standard Labels'!$A$7:$AC$500,25)","v":0},{"$f":"VLOOKUP(K331,'Standard Labels'!$A$7:$AC$500,27)","v":0},{"$f":"VLOOKUP(K331,'Standard Labels'!$A$7:$AC$500,29)","v":0},330]
[{"$f":"VLOOKUP(K332,'Standard Labels'!$A$7:$AC$500,11)","v":0},{"$f":"VLOOKUP(K332,'Standard Labels'!$A$7:$AC$500,13)","v":0},{"$f":"VLOOKUP(K332,'Standard Labels'!$A$7:$AC$500,15)","v":0},{"$f":"VLOOKUP(K332,'Standard Labels'!$A$7:$AC$500,17)","v":0},{"$f":"VLOOKUP(K332,'Standard Labels'!$A$7:$AC$500,19)","v":0},{"$f":"VLOOKUP(K332,'Standard Labels'!$A$7:$AC$500,21)","v":0},{"$f":"VLOOKUP(K332,'Standard Labels'!$A$7:$AC$500,23)","v":0},{"$f":"VLOOKUP(K332,'Standard Labels'!$A$7:$AC$500,25)","v":0},{"$f":"VLOOKUP(K332,'Standard Labels'!$A$7:$AC$500,27)","v":0},{"$f":"VLOOKUP(K332,'Standard Labels'!$A$7:$AC$500,29)","v":0},331]
[{"$f":"VLOOKUP(K333,'Standard Labels'!$A$7:$AC$500,11)","v":0},{"$f":"VLOOKUP(K333,'Standard Labels'!$A$7:$AC$500,13)","v":0},{"$f":"VLOOKUP(K333,'Standard Labels'!$A$7:$AC$500,15)","v":0},{"$f":"VLOOKUP(K333,'Standard Labels'!$A$7:$AC$500,17)","v":0},{"$f":"VLOOKUP(K333,'Standard Labels'!$A$7:$AC$500,19)","v":0},{"$f":"VLOOKUP(K333,'Standard Labels'!$A$7:$AC$500,21)","v":0},{"$f":"VLOOKUP(K333,'Standard Labels'!$A$7:$AC$500,23)","v":0},{"$f":"VLOOKUP(K333,'Standard Labels'!$A$7:$AC$500,25)","v":0},{"$f":"VLOOKUP(K333,'Standard Labels'!$A$7:$AC$500,27)","v":0},{"$f":"VLOOKUP(K333,'Standard Labels'!$A$7:$AC$500,29)","v":0},332]
[{"$f":"VLOOKUP(K334,'Standard Labels'!$A$7:$AC$500,11)","v":0},{"$f":"VLOOKUP(K334,'Standard Labels'!$A$7:$AC$500,13)","v":0},{"$f":"VLOOKUP(K334,'Standard Labels'!$A$7:$AC$500,15)","v":0},{"$f":"VLOOKUP(K334,'Standard Labels'!$A$7:$AC$500,17)","v":0},{"$f":"VLOOKUP(K334,'Standard Labels'!$A$7:$AC$500,19)","v":0},{"$f":"VLOOKUP(K334,'Standard Labels'!$A$7:$AC$500,21)","v":0},{"$f":"VLOOKUP(K334,'Standard Labels'!$A$7:$AC$500,23)","v":0},{"$f":"VLOOKUP(K334,'Standard Labels'!$A$7:$AC$500,25)","v":0},{"$f":"VLOOKUP(K334,'Standard Labels'!$A$7:$AC$500,27)","v":0},{"$f":"VLOOKUP(K334,'Standard Labels'!$A$7:$AC$500,29)","v":0},333]
[{"$f":"VLOOKUP(K335,'Standard Labels'!$A$7:$AC$500,11)","v":0},{"$f":"VLOOKUP(K335,'Standard Labels'!$A$7:$AC$500,13)","v":0},{"$f":"VLOOKUP(K335,'Standard Labels'!$A$7:$AC$500,15)","v":0},{"$f":"VLOOKUP(K335,'Standard Labels'!$A$7:$AC$500,17)","v":0},{"$f":"VLOOKUP(K335,'Standard Labels'!$A$7:$AC$500,19)","v":0},{"$f":"VLOOKUP(K335,'Standard Labels'!$A$7:$AC$500,21)","v":0},{"$f":"VLOOKUP(K335,'Standard Labels'!$A$7:$AC$500,23)","v":0},{"$f":"VLOOKUP(K335,'Standard Labels'!$A$7:$AC$500,25)","v":0},{"$f":"VLOOKUP(K335,'Standard Labels'!$A$7:$AC$500,27)","v":0},{"$f":"VLOOKUP(K335,'Standard Labels'!$A$7:$AC$500,29)","v":0},334]
[{"$f":"VLOOKUP(K336,'Standard Labels'!$A$7:$AC$500,11)","v":0},{"$f":"VLOOKUP(K336,'Standard Labels'!$A$7:$AC$500,13)","v":0},{"$f":"VLOOKUP(K336,'Standard Labels'!$A$7:$AC$500,15)","v":0},{"$f":"VLOOKUP(K336,'Standard Labels'!$A$7:$AC$500,17)","v":0},{"$f":"VLOOKUP(K336,'Standard Labels'!$A$7:$AC$500,19)","v":0},{"$f":"VLOOKUP(K336,'Standard Labels'!$A$7:$AC$500,21)","v":0},{"$f":"VLOOKUP(K336,'Standard Labels'!$A$7:$AC$500,23)","v":0},{"$f":"VLOOKUP(K336,'Standard Labels'!$A$7:$AC$500,25)","v":0},{"$f":"VLOOKUP(K336,'Standard Labels'!$A$7:$AC$500,27)","v":0},{"$f":"VLOOKUP(K336,'Standard Labels'!$A$7:$AC$500,29)","v":0},335]
[{"$f":"VLOOKUP(K337,'Standard Labels'!$A$7:$AC$500,11)","v":0},{"$f":"VLOOKUP(K337,'Standard Labels'!$A$7:$AC$500,13)","v":0},{"$f":"VLOOKUP(K337,'Standard Labels'!$A$7:$AC$500,15)","v":0},{"$f":"VLOOKUP(K337,'Standard Labels'!$A$7:$AC$500,17)","v":0},{"$f":"VLOOKUP(K337,'Standard Labels'!$A$7:$AC$500,19)","v":0},{"$f":"VLOOKUP(K337,'Standard Labels'!$A$7:$AC$500,21)","v":0},{"$f":"VLOOKUP(K337,'Standard Labels'!$A$7:$AC$500,23)","v":0},{"$f":"VLOOKUP(K337,'Standard Labels'!$A$7:$AC$500,25)","v":0},{"$f":"VLOOKUP(K337,'Standard Labels'!$A$7:$AC$500,27)","v":0},{"$f":"VLOOKUP(K337,'Standard Labels'!$A$7:$AC$500,29)","v":0},336]
[{"$f":"VLOOKUP(K338,'Standard Labels'!$A$7:$AC$500,11)","v":0},{"$f":"VLOOKUP(K338,'Standard Labels'!$A$7:$AC$500,13)","v":0},{"$f":"VLOOKUP(K338,'Standard Labels'!$A$7:$AC$500,15)","v":0},{"$f":"VLOOKUP(K338,'Standard Labels'!$A$7:$AC$500,17)","v":0},{"$f":"VLOOKUP(K338,'Standard Labels'!$A$7:$AC$500,19)","v":0},{"$f":"VLOOKUP(K338,'Standard Labels'!$A$7:$AC$500,21)","v":0},{"$f":"VLOOKUP(K338,'Standard Labels'!$A$7:$AC$500,23)","v":0},{"$f":"VLOOKUP(K338,'Standard Labels'!$A$7:$AC$500,25)","v":0},{"$f":"VLOOKUP(K338,'Standard Labels'!$A$7:$AC$500,27)","v":0},{"$f":"VLOOKUP(K338,'Standard Labels'!$A$7:$AC$500,29)","v":0},337]
[{"$f":"VLOOKUP(K339,'Standard Labels'!$A$7:$AC$500,11)","v":0},{"$f":"VLOOKUP(K339,'Standard Labels'!$A$7:$AC$500,13)","v":0},{"$f":"VLOOKUP(K339,'Standard Labels'!$A$7:$AC$500,15)","v":0},{"$f":"VLOOKUP(K339,'Standard Labels'!$A$7:$AC$500,17)","v":0},{"$f":"VLOOKUP(K339,'Standard Labels'!$A$7:$AC$500,19)","v":0},{"$f":"VLOOKUP(K339,'Standard Labels'!$A$7:$AC$500,21)","v":0},{"$f":"VLOOKUP(K339,'Standard Labels'!$A$7:$AC$500,23)","v":0},{"$f":"VLOOKUP(K339,'Standard Labels'!$A$7:$AC$500,25)","v":0},{"$f":"VLOOKUP(K339,'Standard Labels'!$A$7:$AC$500,27)","v":0},{"$f":"VLOOKUP(K339,'Standard Labels'!$A$7:$AC$500,29)","v":0},338]
[{"$f":"VLOOKUP(K340,'Standard Labels'!$A$7:$AC$500,11)","v":0},{"$f":"VLOOKUP(K340,'Standard Labels'!$A$7:$AC$500,13)","v":0},{"$f":"VLOOKUP(K340,'Standard Labels'!$A$7:$AC$500,15)","v":0},{"$f":"VLOOKUP(K340,'Standard Labels'!$A$7:$AC$500,17)","v":0},{"$f":"VLOOKUP(K340,'Standard Labels'!$A$7:$AC$500,19)","v":0},{"$f":"VLOOKUP(K340,'Standard Labels'!$A$7:$AC$500,21)","v":0},{"$f":"VLOOKUP(K340,'Standard Labels'!$A$7:$AC$500,23)","v":0},{"$f":"VLOOKUP(K340,'Standard Labels'!$A$7:$AC$500,25)","v":0},{"$f":"VLOOKUP(K340,'Standard Labels'!$A$7:$AC$500,27)","v":0},{"$f":"VLOOKUP(K340,'Standard Labels'!$A$7:$AC$500,29)","v":0},339]
[{"$f":"VLOOKUP(K341,'Standard Labels'!$A$7:$AC$500,11)","v":0},{"$f":"VLOOKUP(K341,'Standard Labels'!$A$7:$AC$500,13)","v":0},{"$f":"VLOOKUP(K341,'Standard Labels'!$A$7:$AC$500,15)","v":0},{"$f":"VLOOKUP(K341,'Standard Labels'!$A$7:$AC$500,17)","v":0},{"$f":"VLOOKUP(K341,'Standard Labels'!$A$7:$AC$500,19)","v":0},{"$f":"VLOOKUP(K341,'Standard Labels'!$A$7:$AC$500,21)","v":0},{"$f":"VLOOKUP(K341,'Standard Labels'!$A$7:$AC$500,23)","v":0},{"$f":"VLOOKUP(K341,'Standard Labels'!$A$7:$AC$500,25)","v":0},{"$f":"VLOOKUP(K341,'Standard Labels'!$A$7:$AC$500,27)","v":0},{"$f":"VLOOKUP(K341,'Standard Labels'!$A$7:$AC$500,29)","v":0},340]
[{"$f":"VLOOKUP(K342,'Standard Labels'!$A$7:$AC$500,11)","v":0},{"$f":"VLOOKUP(K342,'Standard Labels'!$A$7:$AC$500,13)","v":0},{"$f":"VLOOKUP(K342,'Standard Labels'!$A$7:$AC$500,15)","v":0},{"$f":"VLOOKUP(K342,'Standard Labels'!$A$7:$AC$500,17)","v":0},{"$f":"VLOOKUP(K342,'Standard Labels'!$A$7:$AC$500,19)","v":0},{"$f":"VLOOKUP(K342,'Standard Labels'!$A$7:$AC$500,21)","v":0},{"$f":"VLOOKUP(K342,'Standard Labels'!$A$7:$AC$500,23)","v":0},{"$f":"VLOOKUP(K342,'Standard Labels'!$A$7:$AC$500,25)","v":0},{"$f":"VLOOKUP(K342,'Standard Labels'!$A$7:$AC$500,27)","v":0},{"$f":"VLOOKUP(K342,'Standard Labels'!$A$7:$AC$500,29)","v":0},341]
[{"$f":"VLOOKUP(K343,'Standard Labels'!$A$7:$AC$500,11)","v":0},{"$f":"VLOOKUP(K343,'Standard Labels'!$A$7:$AC$500,13)","v":0},{"$f":"VLOOKUP(K343,'Standard Labels'!$A$7:$AC$500,15)","v":0},{"$f":"VLOOKUP(K343,'Standard Labels'!$A$7:$AC$500,17)","v":0},{"$f":"VLOOKUP(K343,'Standard Labels'!$A$7:$AC$500,19)","v":0},{"$f":"VLOOKUP(K343,'Standard Labels'!$A$7:$AC$500,21)","v":0},{"$f":"VLOOKUP(K343,'Standard Labels'!$A$7:$AC$500,23)","v":0},{"$f":"VLOOKUP(K343,'Standard Labels'!$A$7:$AC$500,25)","v":0},{"$f":"VLOOKUP(K343,'Standard Labels'!$A$7:$AC$500,27)","v":0},{"$f":"VLOOKUP(K343,'Standard Labels'!$A$7:$AC$500,29)","v":0},342]
[{"$f":"VLOOKUP(K344,'Standard Labels'!$A$7:$AC$500,11)","v":0},{"$f":"VLOOKUP(K344,'Standard Labels'!$A$7:$AC$500,13)","v":0},{"$f":"VLOOKUP(K344,'Standard Labels'!$A$7:$AC$500,15)","v":0},{"$f":"VLOOKUP(K344,'Standard Labels'!$A$7:$AC$500,17)","v":0},{"$f":"VLOOKUP(K344,'Standard Labels'!$A$7:$AC$500,19)","v":0},{"$f":"VLOOKUP(K344,'Standard Labels'!$A$7:$AC$500,21)","v":0},{"$f":"VLOOKUP(K344,'Standard Labels'!$A$7:$AC$500,23)","v":0},{"$f":"VLOOKUP(K344,'Standard Labels'!$A$7:$AC$500,25)","v":0},{"$f":"VLOOKUP(K344,'Standard Labels'!$A$7:$AC$500,27)","v":0},{"$f":"VLOOKUP(K344,'Standard Labels'!$A$7:$AC$500,29)","v":0},343]
[{"$f":"VLOOKUP(K345,'Standard Labels'!$A$7:$AC$500,11)","v":0},{"$f":"VLOOKUP(K345,'Standard Labels'!$A$7:$AC$500,13)","v":0},{"$f":"VLOOKUP(K345,'Standard Labels'!$A$7:$AC$500,15)","v":0},{"$f":"VLOOKUP(K345,'Standard Labels'!$A$7:$AC$500,17)","v":0},{"$f":"VLOOKUP(K345,'Standard Labels'!$A$7:$AC$500,19)","v":0},{"$f":"VLOOKUP(K345,'Standard Labels'!$A$7:$AC$500,21)","v":0},{"$f":"VLOOKUP(K345,'Standard Labels'!$A$7:$AC$500,23)","v":0},{"$f":"VLOOKUP(K345,'Standard Labels'!$A$7:$AC$500,25)","v":0},{"$f":"VLOOKUP(K345,'Standard Labels'!$A$7:$AC$500,27)","v":0},{"$f":"VLOOKUP(K345,'Standard Labels'!$A$7:$AC$500,29)","v":0},344]
[{"$f":"VLOOKUP(K346,'Standard Labels'!$A$7:$AC$500,11)","v":0},{"$f":"VLOOKUP(K346,'Standard Labels'!$A$7:$AC$500,13)","v":0},{"$f":"VLOOKUP(K346,'Standard Labels'!$A$7:$AC$500,15)","v":0},{"$f":"VLOOKUP(K346,'Standard Labels'!$A$7:$AC$500,17)","v":0},{"$f":"VLOOKUP(K346,'Standard Labels'!$A$7:$AC$500,19)","v":0},{"$f":"VLOOKUP(K346,'Standard Labels'!$A$7:$AC$500,21)","v":0},{"$f":"VLOOKUP(K346,'Standard Labels'!$A$7:$AC$500,23)","v":0},{"$f":"VLOOKUP(K346,'Standard Labels'!$A$7:$AC$500,25)","v":0},{"$f":"VLOOKUP(K346,'Standard Labels'!$A$7:$AC$500,27)","v":0},{"$f":"VLOOKUP(K346,'Standard Labels'!$A$7:$AC$500,29)","v":0},345]
[{"$f":"VLOOKUP(K347,'Standard Labels'!$A$7:$AC$500,11)","v":0},{"$f":"VLOOKUP(K347,'Standard Labels'!$A$7:$AC$500,13)","v":0},{"$f":"VLOOKUP(K347,'Standard Labels'!$A$7:$AC$500,15)","v":0},{"$f":"VLOOKUP(K347,'Standard Labels'!$A$7:$AC$500,17)","v":0},{"$f":"VLOOKUP(K347,'Standard Labels'!$A$7:$AC$500,19)","v":0},{"$f":"VLOOKUP(K347,'Standard Labels'!$A$7:$AC$500,21)","v":0},{"$f":"VLOOKUP(K347,'Standard Labels'!$A$7:$AC$500,23)","v":0},{"$f":"VLOOKUP(K347,'Standard Labels'!$A$7:$AC$500,25)","v":0},{"$f":"VLOOKUP(K347,'Standard Labels'!$A$7:$AC$500,27)","v":0},{"$f":"VLOOKUP(K347,'Standard Labels'!$A$7:$AC$500,29)","v":0},346]
[{"$f":"VLOOKUP(K348,'Standard Labels'!$A$7:$AC$500,11)","v":0},{"$f":"VLOOKUP(K348,'Standard Labels'!$A$7:$AC$500,13)","v":0},{"$f":"VLOOKUP(K348,'Standard Labels'!$A$7:$AC$500,15)","v":0},{"$f":"VLOOKUP(K348,'Standard Labels'!$A$7:$AC$500,17)","v":0},{"$f":"VLOOKUP(K348,'Standard Labels'!$A$7:$AC$500,19)","v":0},{"$f":"VLOOKUP(K348,'Standard Labels'!$A$7:$AC$500,21)","v":0},{"$f":"VLOOKUP(K348,'Standard Labels'!$A$7:$AC$500,23)","v":0},{"$f":"VLOOKUP(K348,'Standard Labels'!$A$7:$AC$500,25)","v":0},{"$f":"VLOOKUP(K348,'Standard Labels'!$A$7:$AC$500,27)","v":0},{"$f":"VLOOKUP(K348,'Standard Labels'!$A$7:$AC$500,29)","v":0},347]
[{"$f":"VLOOKUP(K349,'Standard Labels'!$A$7:$AC$500,11)","v":0},{"$f":"VLOOKUP(K349,'Standard Labels'!$A$7:$AC$500,13)","v":0},{"$f":"VLOOKUP(K349,'Standard Labels'!$A$7:$AC$500,15)","v":0},{"$f":"VLOOKUP(K349,'Standard Labels'!$A$7:$AC$500,17)","v":0},{"$f":"VLOOKUP(K349,'Standard Labels'!$A$7:$AC$500,19)","v":0},{"$f":"VLOOKUP(K349,'Standard Labels'!$A$7:$AC$500,21)","v":0},{"$f":"VLOOKUP(K349,'Standard Labels'!$A$7:$AC$500,23)","v":0},{"$f":"VLOOKUP(K349,'Standard Labels'!$A$7:$AC$500,25)","v":0},{"$f":"VLOOKUP(K349,'Standard Labels'!$A$7:$AC$500,27)","v":0},{"$f":"VLOOKUP(K349,'Standard Labels'!$A$7:$AC$500,29)","v":0},348]
[{"$f":"VLOOKUP(K350,'Standard Labels'!$A$7:$AC$500,11)","v":0},{"$f":"VLOOKUP(K350,'Standard Labels'!$A$7:$AC$500,13)","v":0},{"$f":"VLOOKUP(K350,'Standard Labels'!$A$7:$AC$500,15)","v":0},{"$f":"VLOOKUP(K350,'Standard Labels'!$A$7:$AC$500,17)","v":0},{"$f":"VLOOKUP(K350,'Standard Labels'!$A$7:$AC$500,19)","v":0},{"$f":"VLOOKUP(K350,'Standard Labels'!$A$7:$AC$500,21)","v":0},{"$f":"VLOOKUP(K350,'Standard Labels'!$A$7:$AC$500,23)","v":0},{"$f":"VLOOKUP(K350,'Standard Labels'!$A$7:$AC$500,25)","v":0},{"$f":"VLOOKUP(K350,'Standard Labels'!$A$7:$AC$500,27)","v":0},{"$f":"VLOOKUP(K350,'Standard Labels'!$A$7:$AC$500,29)","v":0},349]
[{"$f":"VLOOKUP(K351,'Standard Labels'!$A$7:$AC$500,11)","v":0},{"$f":"VLOOKUP(K351,'Standard Labels'!$A$7:$AC$500,13)","v":0},{"$f":"VLOOKUP(K351,'Standard Labels'!$A$7:$AC$500,15)","v":0},{"$f":"VLOOKUP(K351,'Standard Labels'!$A$7:$AC$500,17)","v":0},{"$f":"VLOOKUP(K351,'Standard Labels'!$A$7:$AC$500,19)","v":0},{"$f":"VLOOKUP(K351,'Standard Labels'!$A$7:$AC$500,21)","v":0},{"$f":"VLOOKUP(K351,'Standard Labels'!$A$7:$AC$500,23)","v":0},{"$f":"VLOOKUP(K351,'Standard Labels'!$A$7:$AC$500,25)","v":0},{"$f":"VLOOKUP(K351,'Standard Labels'!$A$7:$AC$500,27)","v":0},{"$f":"VLOOKUP(K351,'Standard Labels'!$A$7:$AC$500,29)","v":0},350]
[{"$f":"VLOOKUP(K352,'Standard Labels'!$A$7:$AC$500,11)","v":0},{"$f":"VLOOKUP(K352,'Standard Labels'!$A$7:$AC$500,13)","v":0},{"$f":"VLOOKUP(K352,'Standard Labels'!$A$7:$AC$500,15)","v":0},{"$f":"VLOOKUP(K352,'Standard Labels'!$A$7:$AC$500,17)","v":0},{"$f":"VLOOKUP(K352,'Standard Labels'!$A$7:$AC$500,19)","v":0},{"$f":"VLOOKUP(K352,'Standard Labels'!$A$7:$AC$500,21)","v":0},{"$f":"VLOOKUP(K352,'Standard Labels'!$A$7:$AC$500,23)","v":0},{"$f":"VLOOKUP(K352,'Standard Labels'!$A$7:$AC$500,25)","v":0},{"$f":"VLOOKUP(K352,'Standard Labels'!$A$7:$AC$500,27)","v":0},{"$f":"VLOOKUP(K352,'Standard Labels'!$A$7:$AC$500,29)","v":0},351]
[{"$f":"VLOOKUP(K353,'Standard Labels'!$A$7:$AC$500,11)","v":0},{"$f":"VLOOKUP(K353,'Standard Labels'!$A$7:$AC$500,13)","v":0},{"$f":"VLOOKUP(K353,'Standard Labels'!$A$7:$AC$500,15)","v":0},{"$f":"VLOOKUP(K353,'Standard Labels'!$A$7:$AC$500,17)","v":0},{"$f":"VLOOKUP(K353,'Standard Labels'!$A$7:$AC$500,19)","v":0},{"$f":"VLOOKUP(K353,'Standard Labels'!$A$7:$AC$500,21)","v":0},{"$f":"VLOOKUP(K353,'Standard Labels'!$A$7:$AC$500,23)","v":0},{"$f":"VLOOKUP(K353,'Standard Labels'!$A$7:$AC$500,25)","v":0},{"$f":"VLOOKUP(K353,'Standard Labels'!$A$7:$AC$500,27)","v":0},{"$f":"VLOOKUP(K353,'Standard Labels'!$A$7:$AC$500,29)","v":0},352]
[{"$f":"VLOOKUP(K354,'Standard Labels'!$A$7:$AC$500,11)","v":0},{"$f":"VLOOKUP(K354,'Standard Labels'!$A$7:$AC$500,13)","v":0},{"$f":"VLOOKUP(K354,'Standard Labels'!$A$7:$AC$500,15)","v":0},{"$f":"VLOOKUP(K354,'Standard Labels'!$A$7:$AC$500,17)","v":0},{"$f":"VLOOKUP(K354,'Standard Labels'!$A$7:$AC$500,19)","v":0},{"$f":"VLOOKUP(K354,'Standard Labels'!$A$7:$AC$500,21)","v":0},{"$f":"VLOOKUP(K354,'Standard Labels'!$A$7:$AC$500,23)","v":0},{"$f":"VLOOKUP(K354,'Standard Labels'!$A$7:$AC$500,25)","v":0},{"$f":"VLOOKUP(K354,'Standard Labels'!$A$7:$AC$500,27)","v":0},{"$f":"VLOOKUP(K354,'Standard Labels'!$A$7:$AC$500,29)","v":0},353]
[{"$f":"VLOOKUP(K355,'Standard Labels'!$A$7:$AC$500,11)","v":0},{"$f":"VLOOKUP(K355,'Standard Labels'!$A$7:$AC$500,13)","v":0},{"$f":"VLOOKUP(K355,'Standard Labels'!$A$7:$AC$500,15)","v":0},{"$f":"VLOOKUP(K355,'Standard Labels'!$A$7:$AC$500,17)","v":0},{"$f":"VLOOKUP(K355,'Standard Labels'!$A$7:$AC$500,19)","v":0},{"$f":"VLOOKUP(K355,'Standard Labels'!$A$7:$AC$500,21)","v":0},{"$f":"VLOOKUP(K355,'Standard Labels'!$A$7:$AC$500,23)","v":0},{"$f":"VLOOKUP(K355,'Standard Labels'!$A$7:$AC$500,25)","v":0},{"$f":"VLOOKUP(K355,'Standard Labels'!$A$7:$AC$500,27)","v":0},{"$f":"VLOOKUP(K355,'Standard Labels'!$A$7:$AC$500,29)","v":0},354]
[{"$f":"VLOOKUP(K356,'Standard Labels'!$A$7:$AC$500,11)","v":0},{"$f":"VLOOKUP(K356,'Standard Labels'!$A$7:$AC$500,13)","v":0},{"$f":"VLOOKUP(K356,'Standard Labels'!$A$7:$AC$500,15)","v":0},{"$f":"VLOOKUP(K356,'Standard Labels'!$A$7:$AC$500,17)","v":0},{"$f":"VLOOKUP(K356,'Standard Labels'!$A$7:$AC$500,19)","v":0},{"$f":"VLOOKUP(K356,'Standard Labels'!$A$7:$AC$500,21)","v":0},{"$f":"VLOOKUP(K356,'Standard Labels'!$A$7:$AC$500,23)","v":0},{"$f":"VLOOKUP(K356,'Standard Labels'!$A$7:$AC$500,25)","v":0},{"$f":"VLOOKUP(K356,'Standard Labels'!$A$7:$AC$500,27)","v":0},{"$f":"VLOOKUP(K356,'Standard Labels'!$A$7:$AC$500,29)","v":0},355]
[{"$f":"VLOOKUP(K357,'Standard Labels'!$A$7:$AC$500,11)","v":0},{"$f":"VLOOKUP(K357,'Standard Labels'!$A$7:$AC$500,13)","v":0},{"$f":"VLOOKUP(K357,'Standard Labels'!$A$7:$AC$500,15)","v":0},{"$f":"VLOOKUP(K357,'Standard Labels'!$A$7:$AC$500,17)","v":0},{"$f":"VLOOKUP(K357,'Standard Labels'!$A$7:$AC$500,19)","v":0},{"$f":"VLOOKUP(K357,'Standard Labels'!$A$7:$AC$500,21)","v":0},{"$f":"VLOOKUP(K357,'Standard Labels'!$A$7:$AC$500,23)","v":0},{"$f":"VLOOKUP(K357,'Standard Labels'!$A$7:$AC$500,25)","v":0},{"$f":"VLOOKUP(K357,'Standard Labels'!$A$7:$AC$500,27)","v":0},{"$f":"VLOOKUP(K357,'Standard Labels'!$A$7:$AC$500,29)","v":0},356]
[{"$f":"VLOOKUP(K358,'Standard Labels'!$A$7:$AC$500,11)","v":0},{"$f":"VLOOKUP(K358,'Standard Labels'!$A$7:$AC$500,13)","v":0},{"$f":"VLOOKUP(K358,'Standard Labels'!$A$7:$AC$500,15)","v":0},{"$f":"VLOOKUP(K358,'Standard Labels'!$A$7:$AC$500,17)","v":0},{"$f":"VLOOKUP(K358,'Standard Labels'!$A$7:$AC$500,19)","v":0},{"$f":"VLOOKUP(K358,'Standard Labels'!$A$7:$AC$500,21)","v":0},{"$f":"VLOOKUP(K358,'Standard Labels'!$A$7:$AC$500,23)","v":0},{"$f":"VLOOKUP(K358,'Standard Labels'!$A$7:$AC$500,25)","v":0},{"$f":"VLOOKUP(K358,'Standard Labels'!$A$7:$AC$500,27)","v":0},{"$f":"VLOOKUP(K358,'Standard Labels'!$A$7:$AC$500,29)","v":0},357]
[{"$f":"VLOOKUP(K359,'Standard Labels'!$A$7:$AC$500,11)","v":0},{"$f":"VLOOKUP(K359,'Standard Labels'!$A$7:$AC$500,13)","v":0},{"$f":"VLOOKUP(K359,'Standard Labels'!$A$7:$AC$500,15)","v":0},{"$f":"VLOOKUP(K359,'Standard Labels'!$A$7:$AC$500,17)","v":0},{"$f":"VLOOKUP(K359,'Standard Labels'!$A$7:$AC$500,19)","v":0},{"$f":"VLOOKUP(K359,'Standard Labels'!$A$7:$AC$500,21)","v":0},{"$f":"VLOOKUP(K359,'Standard Labels'!$A$7:$AC$500,23)","v":0},{"$f":"VLOOKUP(K359,'Standard Labels'!$A$7:$AC$500,25)","v":0},{"$f":"VLOOKUP(K359,'Standard Labels'!$A$7:$AC$500,27)","v":0},{"$f":"VLOOKUP(K359,'Standard Labels'!$A$7:$AC$500,29)","v":0},358]
[{"$f":"VLOOKUP(K360,'Standard Labels'!$A$7:$AC$500,11)","v":0},{"$f":"VLOOKUP(K360,'Standard Labels'!$A$7:$AC$500,13)","v":0},{"$f":"VLOOKUP(K360,'Standard Labels'!$A$7:$AC$500,15)","v":0},{"$f":"VLOOKUP(K360,'Standard Labels'!$A$7:$AC$500,17)","v":0},{"$f":"VLOOKUP(K360,'Standard Labels'!$A$7:$AC$500,19)","v":0},{"$f":"VLOOKUP(K360,'Standard Labels'!$A$7:$AC$500,21)","v":0},{"$f":"VLOOKUP(K360,'Standard Labels'!$A$7:$AC$500,23)","v":0},{"$f":"VLOOKUP(K360,'Standard Labels'!$A$7:$AC$500,25)","v":0},{"$f":"VLOOKUP(K360,'Standard Labels'!$A$7:$AC$500,27)","v":0},{"$f":"VLOOKUP(K360,'Standard Labels'!$A$7:$AC$500,29)","v":0},359]
[{"$f":"VLOOKUP(K361,'Standard Labels'!$A$7:$AC$500,11)","v":0},{"$f":"VLOOKUP(K361,'Standard Labels'!$A$7:$AC$500,13)","v":0},{"$f":"VLOOKUP(K361,'Standard Labels'!$A$7:$AC$500,15)","v":0},{"$f":"VLOOKUP(K361,'Standard Labels'!$A$7:$AC$500,17)","v":0},{"$f":"VLOOKUP(K361,'Standard Labels'!$A$7:$AC$500,19)","v":0},{"$f":"VLOOKUP(K361,'Standard Labels'!$A$7:$AC$500,21)","v":0},{"$f":"VLOOKUP(K361,'Standard Labels'!$A$7:$AC$500,23)","v":0},{"$f":"VLOOKUP(K361,'Standard Labels'!$A$7:$AC$500,25)","v":0},{"$f":"VLOOKUP(K361,'Standard Labels'!$A$7:$AC$500,27)","v":0},{"$f":"VLOOKUP(K361,'Standard Labels'!$A$7:$AC$500,29)","v":0},360]
[{"$f":"VLOOKUP(K362,'Standard Labels'!$A$7:$AC$500,11)","v":0},{"$f":"VLOOKUP(K362,'Standard Labels'!$A$7:$AC$500,13)","v":0},{"$f":"VLOOKUP(K362,'Standard Labels'!$A$7:$AC$500,15)","v":0},{"$f":"VLOOKUP(K362,'Standard Labels'!$A$7:$AC$500,17)","v":0},{"$f":"VLOOKUP(K362,'Standard Labels'!$A$7:$AC$500,19)","v":0},{"$f":"VLOOKUP(K362,'Standard Labels'!$A$7:$AC$500,21)","v":0},{"$f":"VLOOKUP(K362,'Standard Labels'!$A$7:$AC$500,23)","v":0},{"$f":"VLOOKUP(K362,'Standard Labels'!$A$7:$AC$500,25)","v":0},{"$f":"VLOOKUP(K362,'Standard Labels'!$A$7:$AC$500,27)","v":0},{"$f":"VLOOKUP(K362,'Standard Labels'!$A$7:$AC$500,29)","v":0},361]
[{"$f":"VLOOKUP(K363,'Standard Labels'!$A$7:$AC$500,11)","v":0},{"$f":"VLOOKUP(K363,'Standard Labels'!$A$7:$AC$500,13)","v":0},{"$f":"VLOOKUP(K363,'Standard Labels'!$A$7:$AC$500,15)","v":0},{"$f":"VLOOKUP(K363,'Standard Labels'!$A$7:$AC$500,17)","v":0},{"$f":"VLOOKUP(K363,'Standard Labels'!$A$7:$AC$500,19)","v":0},{"$f":"VLOOKUP(K363,'Standard Labels'!$A$7:$AC$500,21)","v":0},{"$f":"VLOOKUP(K363,'Standard Labels'!$A$7:$AC$500,23)","v":0},{"$f":"VLOOKUP(K363,'Standard Labels'!$A$7:$AC$500,25)","v":0},{"$f":"VLOOKUP(K363,'Standard Labels'!$A$7:$AC$500,27)","v":0},{"$f":"VLOOKUP(K363,'Standard Labels'!$A$7:$AC$500,29)","v":0},362]
[{"$f":"VLOOKUP(K364,'Standard Labels'!$A$7:$AC$500,11)","v":0},{"$f":"VLOOKUP(K364,'Standard Labels'!$A$7:$AC$500,13)","v":0},{"$f":"VLOOKUP(K364,'Standard Labels'!$A$7:$AC$500,15)","v":0},{"$f":"VLOOKUP(K364,'Standard Labels'!$A$7:$AC$500,17)","v":0},{"$f":"VLOOKUP(K364,'Standard Labels'!$A$7:$AC$500,19)","v":0},{"$f":"VLOOKUP(K364,'Standard Labels'!$A$7:$AC$500,21)","v":0},{"$f":"VLOOKUP(K364,'Standard Labels'!$A$7:$AC$500,23)","v":0},{"$f":"VLOOKUP(K364,'Standard Labels'!$A$7:$AC$500,25)","v":0},{"$f":"VLOOKUP(K364,'Standard Labels'!$A$7:$AC$500,27)","v":0},{"$f":"VLOOKUP(K364,'Standard Labels'!$A$7:$AC$500,29)","v":0},363]
[{"$f":"VLOOKUP(K365,'Standard Labels'!$A$7:$AC$500,11)","v":0},{"$f":"VLOOKUP(K365,'Standard Labels'!$A$7:$AC$500,13)","v":0},{"$f":"VLOOKUP(K365,'Standard Labels'!$A$7:$AC$500,15)","v":0},{"$f":"VLOOKUP(K365,'Standard Labels'!$A$7:$AC$500,17)","v":0},{"$f":"VLOOKUP(K365,'Standard Labels'!$A$7:$AC$500,19)","v":0},{"$f":"VLOOKUP(K365,'Standard Labels'!$A$7:$AC$500,21)","v":0},{"$f":"VLOOKUP(K365,'Standard Labels'!$A$7:$AC$500,23)","v":0},{"$f":"VLOOKUP(K365,'Standard Labels'!$A$7:$AC$500,25)","v":0},{"$f":"VLOOKUP(K365,'Standard Labels'!$A$7:$AC$500,27)","v":0},{"$f":"VLOOKUP(K365,'Standard Labels'!$A$7:$AC$500,29)","v":0},364]
[{"$f":"VLOOKUP(K366,'Standard Labels'!$A$7:$AC$500,11)","v":0},{"$f":"VLOOKUP(K366,'Standard Labels'!$A$7:$AC$500,13)","v":0},{"$f":"VLOOKUP(K366,'Standard Labels'!$A$7:$AC$500,15)","v":0},{"$f":"VLOOKUP(K366,'Standard Labels'!$A$7:$AC$500,17)","v":0},{"$f":"VLOOKUP(K366,'Standard Labels'!$A$7:$AC$500,19)","v":0},{"$f":"VLOOKUP(K366,'Standard Labels'!$A$7:$AC$500,21)","v":0},{"$f":"VLOOKUP(K366,'Standard Labels'!$A$7:$AC$500,23)","v":0},{"$f":"VLOOKUP(K366,'Standard Labels'!$A$7:$AC$500,25)","v":0},{"$f":"VLOOKUP(K366,'Standard Labels'!$A$7:$AC$500,27)","v":0},{"$f":"VLOOKUP(K366,'Standard Labels'!$A$7:$AC$500,29)","v":0},365]
[{"$f":"VLOOKUP(K367,'Standard Labels'!$A$7:$AC$500,11)","v":0},{"$f":"VLOOKUP(K367,'Standard Labels'!$A$7:$AC$500,13)","v":0},{"$f":"VLOOKUP(K367,'Standard Labels'!$A$7:$AC$500,15)","v":0},{"$f":"VLOOKUP(K367,'Standard Labels'!$A$7:$AC$500,17)","v":0},{"$f":"VLOOKUP(K367,'Standard Labels'!$A$7:$AC$500,19)","v":0},{"$f":"VLOOKUP(K367,'Standard Labels'!$A$7:$AC$500,21)","v":0},{"$f":"VLOOKUP(K367,'Standard Labels'!$A$7:$AC$500,23)","v":0},{"$f":"VLOOKUP(K367,'Standard Labels'!$A$7:$AC$500,25)","v":0},{"$f":"VLOOKUP(K367,'Standard Labels'!$A$7:$AC$500,27)","v":0},{"$f":"VLOOKUP(K367,'Standard Labels'!$A$7:$AC$500,29)","v":0},366]
[{"$f":"VLOOKUP(K368,'Standard Labels'!$A$7:$AC$500,11)","v":0},{"$f":"VLOOKUP(K368,'Standard Labels'!$A$7:$AC$500,13)","v":0},{"$f":"VLOOKUP(K368,'Standard Labels'!$A$7:$AC$500,15)","v":0},{"$f":"VLOOKUP(K368,'Standard Labels'!$A$7:$AC$500,17)","v":0},{"$f":"VLOOKUP(K368,'Standard Labels'!$A$7:$AC$500,19)","v":0},{"$f":"VLOOKUP(K368,'Standard Labels'!$A$7:$AC$500,21)","v":0},{"$f":"VLOOKUP(K368,'Standard Labels'!$A$7:$AC$500,23)","v":0},{"$f":"VLOOKUP(K368,'Standard Labels'!$A$7:$AC$500,25)","v":0},{"$f":"VLOOKUP(K368,'Standard Labels'!$A$7:$AC$500,27)","v":0},{"$f":"VLOOKUP(K368,'Standard Labels'!$A$7:$AC$500,29)","v":0},367]
[{"$f":"VLOOKUP(K369,'Standard Labels'!$A$7:$AC$500,11)","v":0},{"$f":"VLOOKUP(K369,'Standard Labels'!$A$7:$AC$500,13)","v":0},{"$f":"VLOOKUP(K369,'Standard Labels'!$A$7:$AC$500,15)","v":0},{"$f":"VLOOKUP(K369,'Standard Labels'!$A$7:$AC$500,17)","v":0},{"$f":"VLOOKUP(K369,'Standard Labels'!$A$7:$AC$500,19)","v":0},{"$f":"VLOOKUP(K369,'Standard Labels'!$A$7:$AC$500,21)","v":0},{"$f":"VLOOKUP(K369,'Standard Labels'!$A$7:$AC$500,23)","v":0},{"$f":"VLOOKUP(K369,'Standard Labels'!$A$7:$AC$500,25)","v":0},{"$f":"VLOOKUP(K369,'Standard Labels'!$A$7:$AC$500,27)","v":0},{"$f":"VLOOKUP(K369,'Standard Labels'!$A$7:$AC$500,29)","v":0},368]
[{"$f":"VLOOKUP(K370,'Standard Labels'!$A$7:$AC$500,11)","v":0},{"$f":"VLOOKUP(K370,'Standard Labels'!$A$7:$AC$500,13)","v":0},{"$f":"VLOOKUP(K370,'Standard Labels'!$A$7:$AC$500,15)","v":0},{"$f":"VLOOKUP(K370,'Standard Labels'!$A$7:$AC$500,17)","v":0},{"$f":"VLOOKUP(K370,'Standard Labels'!$A$7:$AC$500,19)","v":0},{"$f":"VLOOKUP(K370,'Standard Labels'!$A$7:$AC$500,21)","v":0},{"$f":"VLOOKUP(K370,'Standard Labels'!$A$7:$AC$500,23)","v":0},{"$f":"VLOOKUP(K370,'Standard Labels'!$A$7:$AC$500,25)","v":0},{"$f":"VLOOKUP(K370,'Standard Labels'!$A$7:$AC$500,27)","v":0},{"$f":"VLOOKUP(K370,'Standard Labels'!$A$7:$AC$500,29)","v":0},369]
[{"$f":"VLOOKUP(K371,'Standard Labels'!$A$7:$AC$500,11)","v":0},{"$f":"VLOOKUP(K371,'Standard Labels'!$A$7:$AC$500,13)","v":0},{"$f":"VLOOKUP(K371,'Standard Labels'!$A$7:$AC$500,15)","v":0},{"$f":"VLOOKUP(K371,'Standard Labels'!$A$7:$AC$500,17)","v":0},{"$f":"VLOOKUP(K371,'Standard Labels'!$A$7:$AC$500,19)","v":0},{"$f":"VLOOKUP(K371,'Standard Labels'!$A$7:$AC$500,21)","v":0},{"$f":"VLOOKUP(K371,'Standard Labels'!$A$7:$AC$500,23)","v":0},{"$f":"VLOOKUP(K371,'Standard Labels'!$A$7:$AC$500,25)","v":0},{"$f":"VLOOKUP(K371,'Standard Labels'!$A$7:$AC$500,27)","v":0},{"$f":"VLOOKUP(K371,'Standard Labels'!$A$7:$AC$500,29)","v":0},370]
[{"$f":"VLOOKUP(K372,'Standard Labels'!$A$7:$AC$500,11)","v":0},{"$f":"VLOOKUP(K372,'Standard Labels'!$A$7:$AC$500,13)","v":0},{"$f":"VLOOKUP(K372,'Standard Labels'!$A$7:$AC$500,15)","v":0},{"$f":"VLOOKUP(K372,'Standard Labels'!$A$7:$AC$500,17)","v":0},{"$f":"VLOOKUP(K372,'Standard Labels'!$A$7:$AC$500,19)","v":0},{"$f":"VLOOKUP(K372,'Standard Labels'!$A$7:$AC$500,21)","v":0},{"$f":"VLOOKUP(K372,'Standard Labels'!$A$7:$AC$500,23)","v":0},{"$f":"VLOOKUP(K372,'Standard Labels'!$A$7:$AC$500,25)","v":0},{"$f":"VLOOKUP(K372,'Standard Labels'!$A$7:$AC$500,27)","v":0},{"$f":"VLOOKUP(K372,'Standard Labels'!$A$7:$AC$500,29)","v":0},371]
[{"$f":"VLOOKUP(K373,'Standard Labels'!$A$7:$AC$500,11)","v":0},{"$f":"VLOOKUP(K373,'Standard Labels'!$A$7:$AC$500,13)","v":0},{"$f":"VLOOKUP(K373,'Standard Labels'!$A$7:$AC$500,15)","v":0},{"$f":"VLOOKUP(K373,'Standard Labels'!$A$7:$AC$500,17)","v":0},{"$f":"VLOOKUP(K373,'Standard Labels'!$A$7:$AC$500,19)","v":0},{"$f":"VLOOKUP(K373,'Standard Labels'!$A$7:$AC$500,21)","v":0},{"$f":"VLOOKUP(K373,'Standard Labels'!$A$7:$AC$500,23)","v":0},{"$f":"VLOOKUP(K373,'Standard Labels'!$A$7:$AC$500,25)","v":0},{"$f":"VLOOKUP(K373,'Standard Labels'!$A$7:$AC$500,27)","v":0},{"$f":"VLOOKUP(K373,'Standard Labels'!$A$7:$AC$500,29)","v":0},372]
[{"$f":"VLOOKUP(K374,'Standard Labels'!$A$7:$AC$500,11)","v":0},{"$f":"VLOOKUP(K374,'Standard Labels'!$A$7:$AC$500,13)","v":0},{"$f":"VLOOKUP(K374,'Standard Labels'!$A$7:$AC$500,15)","v":0},{"$f":"VLOOKUP(K374,'Standard Labels'!$A$7:$AC$500,17)","v":0},{"$f":"VLOOKUP(K374,'Standard Labels'!$A$7:$AC$500,19)","v":0},{"$f":"VLOOKUP(K374,'Standard Labels'!$A$7:$AC$500,21)","v":0},{"$f":"VLOOKUP(K374,'Standard Labels'!$A$7:$AC$500,23)","v":0},{"$f":"VLOOKUP(K374,'Standard Labels'!$A$7:$AC$500,25)","v":0},{"$f":"VLOOKUP(K374,'Standard Labels'!$A$7:$AC$500,27)","v":0},{"$f":"VLOOKUP(K374,'Standard Labels'!$A$7:$AC$500,29)","v":0},373]
[{"$f":"VLOOKUP(K375,'Standard Labels'!$A$7:$AC$500,11)","v":0},{"$f":"VLOOKUP(K375,'Standard Labels'!$A$7:$AC$500,13)","v":0},{"$f":"VLOOKUP(K375,'Standard Labels'!$A$7:$AC$500,15)","v":0},{"$f":"VLOOKUP(K375,'Standard Labels'!$A$7:$AC$500,17)","v":0},{"$f":"VLOOKUP(K375,'Standard Labels'!$A$7:$AC$500,19)","v":0},{"$f":"VLOOKUP(K375,'Standard Labels'!$A$7:$AC$500,21)","v":0},{"$f":"VLOOKUP(K375,'Standard Labels'!$A$7:$AC$500,23)","v":0},{"$f":"VLOOKUP(K375,'Standard Labels'!$A$7:$AC$500,25)","v":0},{"$f":"VLOOKUP(K375,'Standard Labels'!$A$7:$AC$500,27)","v":0},{"$f":"VLOOKUP(K375,'Standard Labels'!$A$7:$AC$500,29)","v":0},374]
[{"$f":"VLOOKUP(K376,'Standard Labels'!$A$7:$AC$500,11)","v":0},{"$f":"VLOOKUP(K376,'Standard Labels'!$A$7:$AC$500,13)","v":0},{"$f":"VLOOKUP(K376,'Standard Labels'!$A$7:$AC$500,15)","v":0},{"$f":"VLOOKUP(K376,'Standard Labels'!$A$7:$AC$500,17)","v":0},{"$f":"VLOOKUP(K376,'Standard Labels'!$A$7:$AC$500,19)","v":0},{"$f":"VLOOKUP(K376,'Standard Labels'!$A$7:$AC$500,21)","v":0},{"$f":"VLOOKUP(K376,'Standard Labels'!$A$7:$AC$500,23)","v":0},{"$f":"VLOOKUP(K376,'Standard Labels'!$A$7:$AC$500,25)","v":0},{"$f":"VLOOKUP(K376,'Standard Labels'!$A$7:$AC$500,27)","v":0},{"$f":"VLOOKUP(K376,'Standard Labels'!$A$7:$AC$500,29)","v":0},375]
[{"$f":"VLOOKUP(K377,'Standard Labels'!$A$7:$AC$500,11)","v":0},{"$f":"VLOOKUP(K377,'Standard Labels'!$A$7:$AC$500,13)","v":0},{"$f":"VLOOKUP(K377,'Standard Labels'!$A$7:$AC$500,15)","v":0},{"$f":"VLOOKUP(K377,'Standard Labels'!$A$7:$AC$500,17)","v":0},{"$f":"VLOOKUP(K377,'Standard Labels'!$A$7:$AC$500,19)","v":0},{"$f":"VLOOKUP(K377,'Standard Labels'!$A$7:$AC$500,21)","v":0},{"$f":"VLOOKUP(K377,'Standard Labels'!$A$7:$AC$500,23)","v":0},{"$f":"VLOOKUP(K377,'Standard Labels'!$A$7:$AC$500,25)","v":0},{"$f":"VLOOKUP(K377,'Standard Labels'!$A$7:$AC$500,27)","v":0},{"$f":"VLOOKUP(K377,'Standard Labels'!$A$7:$AC$500,29)","v":0},376]
[{"$f":"VLOOKUP(K378,'Standard Labels'!$A$7:$AC$500,11)","v":0},{"$f":"VLOOKUP(K378,'Standard Labels'!$A$7:$AC$500,13)","v":0},{"$f":"VLOOKUP(K378,'Standard Labels'!$A$7:$AC$500,15)","v":0},{"$f":"VLOOKUP(K378,'Standard Labels'!$A$7:$AC$500,17)","v":0},{"$f":"VLOOKUP(K378,'Standard Labels'!$A$7:$AC$500,19)","v":0},{"$f":"VLOOKUP(K378,'Standard Labels'!$A$7:$AC$500,21)","v":0},{"$f":"VLOOKUP(K378,'Standard Labels'!$A$7:$AC$500,23)","v":0},{"$f":"VLOOKUP(K378,'Standard Labels'!$A$7:$AC$500,25)","v":0},{"$f":"VLOOKUP(K378,'Standard Labels'!$A$7:$AC$500,27)","v":0},{"$f":"VLOOKUP(K378,'Standard Labels'!$A$7:$AC$500,29)","v":0},377]
[{"$f":"VLOOKUP(K379,'Standard Labels'!$A$7:$AC$500,11)","v":0},{"$f":"VLOOKUP(K379,'Standard Labels'!$A$7:$AC$500,13)","v":0},{"$f":"VLOOKUP(K379,'Standard Labels'!$A$7:$AC$500,15)","v":0},{"$f":"VLOOKUP(K379,'Standard Labels'!$A$7:$AC$500,17)","v":0},{"$f":"VLOOKUP(K379,'Standard Labels'!$A$7:$AC$500,19)","v":0},{"$f":"VLOOKUP(K379,'Standard Labels'!$A$7:$AC$500,21)","v":0},{"$f":"VLOOKUP(K379,'Standard Labels'!$A$7:$AC$500,23)","v":0},{"$f":"VLOOKUP(K379,'Standard Labels'!$A$7:$AC$500,25)","v":0},{"$f":"VLOOKUP(K379,'Standard Labels'!$A$7:$AC$500,27)","v":0},{"$f":"VLOOKUP(K379,'Standard Labels'!$A$7:$AC$500,29)","v":0},378]
[{"$f":"VLOOKUP(K380,'Standard Labels'!$A$7:$AC$500,11)","v":0},{"$f":"VLOOKUP(K380,'Standard Labels'!$A$7:$AC$500,13)","v":0},{"$f":"VLOOKUP(K380,'Standard Labels'!$A$7:$AC$500,15)","v":0},{"$f":"VLOOKUP(K380,'Standard Labels'!$A$7:$AC$500,17)","v":0},{"$f":"VLOOKUP(K380,'Standard Labels'!$A$7:$AC$500,19)","v":0},{"$f":"VLOOKUP(K380,'Standard Labels'!$A$7:$AC$500,21)","v":0},{"$f":"VLOOKUP(K380,'Standard Labels'!$A$7:$AC$500,23)","v":0},{"$f":"VLOOKUP(K380,'Standard Labels'!$A$7:$AC$500,25)","v":0},{"$f":"VLOOKUP(K380,'Standard Labels'!$A$7:$AC$500,27)","v":0},{"$f":"VLOOKUP(K380,'Standard Labels'!$A$7:$AC$500,29)","v":0},379]
[{"$f":"VLOOKUP(K381,'Standard Labels'!$A$7:$AC$500,11)","v":0},{"$f":"VLOOKUP(K381,'Standard Labels'!$A$7:$AC$500,13)","v":0},{"$f":"VLOOKUP(K381,'Standard Labels'!$A$7:$AC$500,15)","v":0},{"$f":"VLOOKUP(K381,'Standard Labels'!$A$7:$AC$500,17)","v":0},{"$f":"VLOOKUP(K381,'Standard Labels'!$A$7:$AC$500,19)","v":0},{"$f":"VLOOKUP(K381,'Standard Labels'!$A$7:$AC$500,21)","v":0},{"$f":"VLOOKUP(K381,'Standard Labels'!$A$7:$AC$500,23)","v":0},{"$f":"VLOOKUP(K381,'Standard Labels'!$A$7:$AC$500,25)","v":0},{"$f":"VLOOKUP(K381,'Standard Labels'!$A$7:$AC$500,27)","v":0},{"$f":"VLOOKUP(K381,'Standard Labels'!$A$7:$AC$500,29)","v":0},380]
[{"$f":"VLOOKUP(K382,'Standard Labels'!$A$7:$AC$500,11)","v":0},{"$f":"VLOOKUP(K382,'Standard Labels'!$A$7:$AC$500,13)","v":0},{"$f":"VLOOKUP(K382,'Standard Labels'!$A$7:$AC$500,15)","v":0},{"$f":"VLOOKUP(K382,'Standard Labels'!$A$7:$AC$500,17)","v":0},{"$f":"VLOOKUP(K382,'Standard Labels'!$A$7:$AC$500,19)","v":0},{"$f":"VLOOKUP(K382,'Standard Labels'!$A$7:$AC$500,21)","v":0},{"$f":"VLOOKUP(K382,'Standard Labels'!$A$7:$AC$500,23)","v":0},{"$f":"VLOOKUP(K382,'Standard Labels'!$A$7:$AC$500,25)","v":0},{"$f":"VLOOKUP(K382,'Standard Labels'!$A$7:$AC$500,27)","v":0},{"$f":"VLOOKUP(K382,'Standard Labels'!$A$7:$AC$500,29)","v":0},381]
[{"$f":"VLOOKUP(K383,'Standard Labels'!$A$7:$AC$500,11)","v":0},{"$f":"VLOOKUP(K383,'Standard Labels'!$A$7:$AC$500,13)","v":0},{"$f":"VLOOKUP(K383,'Standard Labels'!$A$7:$AC$500,15)","v":0},{"$f":"VLOOKUP(K383,'Standard Labels'!$A$7:$AC$500,17)","v":0},{"$f":"VLOOKUP(K383,'Standard Labels'!$A$7:$AC$500,19)","v":0},{"$f":"VLOOKUP(K383,'Standard Labels'!$A$7:$AC$500,21)","v":0},{"$f":"VLOOKUP(K383,'Standard Labels'!$A$7:$AC$500,23)","v":0},{"$f":"VLOOKUP(K383,'Standard Labels'!$A$7:$AC$500,25)","v":0},{"$f":"VLOOKUP(K383,'Standard Labels'!$A$7:$AC$500,27)","v":0},{"$f":"VLOOKUP(K383,'Standard Labels'!$A$7:$AC$500,29)","v":0},382]
[{"$f":"VLOOKUP(K384,'Standard Labels'!$A$7:$AC$500,11)","v":0},{"$f":"VLOOKUP(K384,'Standard Labels'!$A$7:$AC$500,13)","v":0},{"$f":"VLOOKUP(K384,'Standard Labels'!$A$7:$AC$500,15)","v":0},{"$f":"VLOOKUP(K384,'Standard Labels'!$A$7:$AC$500,17)","v":0},{"$f":"VLOOKUP(K384,'Standard Labels'!$A$7:$AC$500,19)","v":0},{"$f":"VLOOKUP(K384,'Standard Labels'!$A$7:$AC$500,21)","v":0},{"$f":"VLOOKUP(K384,'Standard Labels'!$A$7:$AC$500,23)","v":0},{"$f":"VLOOKUP(K384,'Standard Labels'!$A$7:$AC$500,25)","v":0},{"$f":"VLOOKUP(K384,'Standard Labels'!$A$7:$AC$500,27)","v":0},{"$f":"VLOOKUP(K384,'Standard Labels'!$A$7:$AC$500,29)","v":0},383]
[{"$f":"VLOOKUP(K385,'Standard Labels'!$A$7:$AC$500,11)","v":0},{"$f":"VLOOKUP(K385,'Standard Labels'!$A$7:$AC$500,13)","v":0},{"$f":"VLOOKUP(K385,'Standard Labels'!$A$7:$AC$500,15)","v":0},{"$f":"VLOOKUP(K385,'Standard Labels'!$A$7:$AC$500,17)","v":0},{"$f":"VLOOKUP(K385,'Standard Labels'!$A$7:$AC$500,19)","v":0},{"$f":"VLOOKUP(K385,'Standard Labels'!$A$7:$AC$500,21)","v":0},{"$f":"VLOOKUP(K385,'Standard Labels'!$A$7:$AC$500,23)","v":0},{"$f":"VLOOKUP(K385,'Standard Labels'!$A$7:$AC$500,25)","v":0},{"$f":"VLOOKUP(K385,'Standard Labels'!$A$7:$AC$500,27)","v":0},{"$f":"VLOOKUP(K385,'Standard Labels'!$A$7:$AC$500,29)","v":0},384]
[{"$f":"VLOOKUP(K386,'Standard Labels'!$A$7:$AC$500,11)","v":0},{"$f":"VLOOKUP(K386,'Standard Labels'!$A$7:$AC$500,13)","v":0},{"$f":"VLOOKUP(K386,'Standard Labels'!$A$7:$AC$500,15)","v":0},{"$f":"VLOOKUP(K386,'Standard Labels'!$A$7:$AC$500,17)","v":0},{"$f":"VLOOKUP(K386,'Standard Labels'!$A$7:$AC$500,19)","v":0},{"$f":"VLOOKUP(K386,'Standard Labels'!$A$7:$AC$500,21)","v":0},{"$f":"VLOOKUP(K386,'Standard Labels'!$A$7:$AC$500,23)","v":0},{"$f":"VLOOKUP(K386,'Standard Labels'!$A$7:$AC$500,25)","v":0},{"$f":"VLOOKUP(K386,'Standard Labels'!$A$7:$AC$500,27)","v":0},{"$f":"VLOOKUP(K386,'Standard Labels'!$A$7:$AC$500,29)","v":0},385]
[{"$f":"VLOOKUP(K387,'Standard Labels'!$A$7:$AC$500,11)","v":0},{"$f":"VLOOKUP(K387,'Standard Labels'!$A$7:$AC$500,13)","v":0},{"$f":"VLOOKUP(K387,'Standard Labels'!$A$7:$AC$500,15)","v":0},{"$f":"VLOOKUP(K387,'Standard Labels'!$A$7:$AC$500,17)","v":0},{"$f":"VLOOKUP(K387,'Standard Labels'!$A$7:$AC$500,19)","v":0},{"$f":"VLOOKUP(K387,'Standard Labels'!$A$7:$AC$500,21)","v":0},{"$f":"VLOOKUP(K387,'Standard Labels'!$A$7:$AC$500,23)","v":0},{"$f":"VLOOKUP(K387,'Standard Labels'!$A$7:$AC$500,25)","v":0},{"$f":"VLOOKUP(K387,'Standard Labels'!$A$7:$AC$500,27)","v":0},{"$f":"VLOOKUP(K387,'Standard Labels'!$A$7:$AC$500,29)","v":0},386]
[{"$f":"VLOOKUP(K388,'Standard Labels'!$A$7:$AC$500,11)","v":0},{"$f":"VLOOKUP(K388,'Standard Labels'!$A$7:$AC$500,13)","v":0},{"$f":"VLOOKUP(K388,'Standard Labels'!$A$7:$AC$500,15)","v":0},{"$f":"VLOOKUP(K388,'Standard Labels'!$A$7:$AC$500,17)","v":0},{"$f":"VLOOKUP(K388,'Standard Labels'!$A$7:$AC$500,19)","v":0},{"$f":"VLOOKUP(K388,'Standard Labels'!$A$7:$AC$500,21)","v":0},{"$f":"VLOOKUP(K388,'Standard Labels'!$A$7:$AC$500,23)","v":0},{"$f":"VLOOKUP(K388,'Standard Labels'!$A$7:$AC$500,25)","v":0},{"$f":"VLOOKUP(K388,'Standard Labels'!$A$7:$AC$500,27)","v":0},{"$f":"VLOOKUP(K388,'Standard Labels'!$A$7:$AC$500,29)","v":0},387]
[{"$f":"VLOOKUP(K389,'Standard Labels'!$A$7:$AC$500,11)","v":0},{"$f":"VLOOKUP(K389,'Standard Labels'!$A$7:$AC$500,13)","v":0},{"$f":"VLOOKUP(K389,'Standard Labels'!$A$7:$AC$500,15)","v":0},{"$f":"VLOOKUP(K389,'Standard Labels'!$A$7:$AC$500,17)","v":0},{"$f":"VLOOKUP(K389,'Standard Labels'!$A$7:$AC$500,19)","v":0},{"$f":"VLOOKUP(K389,'Standard Labels'!$A$7:$AC$500,21)","v":0},{"$f":"VLOOKUP(K389,'Standard Labels'!$A$7:$AC$500,23)","v":0},{"$f":"VLOOKUP(K389,'Standard Labels'!$A$7:$AC$500,25)","v":0},{"$f":"VLOOKUP(K389,'Standard Labels'!$A$7:$AC$500,27)","v":0},{"$f":"VLOOKUP(K389,'Standard Labels'!$A$7:$AC$500,29)","v":0},388]
[{"$f":"VLOOKUP(K390,'Standard Labels'!$A$7:$AC$500,11)","v":0},{"$f":"VLOOKUP(K390,'Standard Labels'!$A$7:$AC$500,13)","v":0},{"$f":"VLOOKUP(K390,'Standard Labels'!$A$7:$AC$500,15)","v":0},{"$f":"VLOOKUP(K390,'Standard Labels'!$A$7:$AC$500,17)","v":0},{"$f":"VLOOKUP(K390,'Standard Labels'!$A$7:$AC$500,19)","v":0},{"$f":"VLOOKUP(K390,'Standard Labels'!$A$7:$AC$500,21)","v":0},{"$f":"VLOOKUP(K390,'Standard Labels'!$A$7:$AC$500,23)","v":0},{"$f":"VLOOKUP(K390,'Standard Labels'!$A$7:$AC$500,25)","v":0},{"$f":"VLOOKUP(K390,'Standard Labels'!$A$7:$AC$500,27)","v":0},{"$f":"VLOOKUP(K390,'Standard Labels'!$A$7:$AC$500,29)","v":0},389]
[{"$f":"VLOOKUP(K391,'Standard Labels'!$A$7:$AC$500,11)","v":0},{"$f":"VLOOKUP(K391,'Standard Labels'!$A$7:$AC$500,13)","v":0},{"$f":"VLOOKUP(K391,'Standard Labels'!$A$7:$AC$500,15)","v":0},{"$f":"VLOOKUP(K391,'Standard Labels'!$A$7:$AC$500,17)","v":0},{"$f":"VLOOKUP(K391,'Standard Labels'!$A$7:$AC$500,19)","v":0},{"$f":"VLOOKUP(K391,'Standard Labels'!$A$7:$AC$500,21)","v":0},{"$f":"VLOOKUP(K391,'Standard Labels'!$A$7:$AC$500,23)","v":0},{"$f":"VLOOKUP(K391,'Standard Labels'!$A$7:$AC$500,25)","v":0},{"$f":"VLOOKUP(K391,'Standard Labels'!$A$7:$AC$500,27)","v":0},{"$f":"VLOOKUP(K391,'Standard Labels'!$A$7:$AC$500,29)","v":0},390]
[{"$f":"VLOOKUP(K392,'Standard Labels'!$A$7:$AC$500,11)","v":0},{"$f":"VLOOKUP(K392,'Standard Labels'!$A$7:$AC$500,13)","v":0},{"$f":"VLOOKUP(K392,'Standard Labels'!$A$7:$AC$500,15)","v":0},{"$f":"VLOOKUP(K392,'Standard Labels'!$A$7:$AC$500,17)","v":0},{"$f":"VLOOKUP(K392,'Standard Labels'!$A$7:$AC$500,19)","v":0},{"$f":"VLOOKUP(K392,'Standard Labels'!$A$7:$AC$500,21)","v":0},{"$f":"VLOOKUP(K392,'Standard Labels'!$A$7:$AC$500,23)","v":0},{"$f":"VLOOKUP(K392,'Standard Labels'!$A$7:$AC$500,25)","v":0},{"$f":"VLOOKUP(K392,'Standard Labels'!$A$7:$AC$500,27)","v":0},{"$f":"VLOOKUP(K392,'Standard Labels'!$A$7:$AC$500,29)","v":0},391]
[{"$f":"VLOOKUP(K393,'Standard Labels'!$A$7:$AC$500,11)","v":0},{"$f":"VLOOKUP(K393,'Standard Labels'!$A$7:$AC$500,13)","v":0},{"$f":"VLOOKUP(K393,'Standard Labels'!$A$7:$AC$500,15)","v":0},{"$f":"VLOOKUP(K393,'Standard Labels'!$A$7:$AC$500,17)","v":0},{"$f":"VLOOKUP(K393,'Standard Labels'!$A$7:$AC$500,19)","v":0},{"$f":"VLOOKUP(K393,'Standard Labels'!$A$7:$AC$500,21)","v":0},{"$f":"VLOOKUP(K393,'Standard Labels'!$A$7:$AC$500,23)","v":0},{"$f":"VLOOKUP(K393,'Standard Labels'!$A$7:$AC$500,25)","v":0},{"$f":"VLOOKUP(K393,'Standard Labels'!$A$7:$AC$500,27)","v":0},{"$f":"VLOOKUP(K393,'Standard Labels'!$A$7:$AC$500,29)","v":0},392]
[{"$f":"VLOOKUP(K394,'Standard Labels'!$A$7:$AC$500,11)","v":0},{"$f":"VLOOKUP(K394,'Standard Labels'!$A$7:$AC$500,13)","v":0},{"$f":"VLOOKUP(K394,'Standard Labels'!$A$7:$AC$500,15)","v":0},{"$f":"VLOOKUP(K394,'Standard Labels'!$A$7:$AC$500,17)","v":0},{"$f":"VLOOKUP(K394,'Standard Labels'!$A$7:$AC$500,19)","v":0},{"$f":"VLOOKUP(K394,'Standard Labels'!$A$7:$AC$500,21)","v":0},{"$f":"VLOOKUP(K394,'Standard Labels'!$A$7:$AC$500,23)","v":0},{"$f":"VLOOKUP(K394,'Standard Labels'!$A$7:$AC$500,25)","v":0},{"$f":"VLOOKUP(K394,'Standard Labels'!$A$7:$AC$500,27)","v":0},{"$f":"VLOOKUP(K394,'Standard Labels'!$A$7:$AC$500,29)","v":0},393]
[{"$f":"VLOOKUP(K395,'Standard Labels'!$A$7:$AC$500,11)","v":0},{"$f":"VLOOKUP(K395,'Standard Labels'!$A$7:$AC$500,13)","v":0},{"$f":"VLOOKUP(K395,'Standard Labels'!$A$7:$AC$500,15)","v":0},{"$f":"VLOOKUP(K395,'Standard Labels'!$A$7:$AC$500,17)","v":0},{"$f":"VLOOKUP(K395,'Standard Labels'!$A$7:$AC$500,19)","v":0},{"$f":"VLOOKUP(K395,'Standard Labels'!$A$7:$AC$500,21)","v":0},{"$f":"VLOOKUP(K395,'Standard Labels'!$A$7:$AC$500,23)","v":0},{"$f":"VLOOKUP(K395,'Standard Labels'!$A$7:$AC$500,25)","v":0},{"$f":"VLOOKUP(K395,'Standard Labels'!$A$7:$AC$500,27)","v":0},{"$f":"VLOOKUP(K395,'Standard Labels'!$A$7:$AC$500,29)","v":0},394]
[{"$f":"VLOOKUP(K396,'Standard Labels'!$A$7:$AC$500,11)","v":0},{"$f":"VLOOKUP(K396,'Standard Labels'!$A$7:$AC$500,13)","v":0},{"$f":"VLOOKUP(K396,'Standard Labels'!$A$7:$AC$500,15)","v":0},{"$f":"VLOOKUP(K396,'Standard Labels'!$A$7:$AC$500,17)","v":0},{"$f":"VLOOKUP(K396,'Standard Labels'!$A$7:$AC$500,19)","v":0},{"$f":"VLOOKUP(K396,'Standard Labels'!$A$7:$AC$500,21)","v":0},{"$f":"VLOOKUP(K396,'Standard Labels'!$A$7:$AC$500,23)","v":0},{"$f":"VLOOKUP(K396,'Standard Labels'!$A$7:$AC$500,25)","v":0},{"$f":"VLOOKUP(K396,'Standard Labels'!$A$7:$AC$500,27)","v":0},{"$f":"VLOOKUP(K396,'Standard Labels'!$A$7:$AC$500,29)","v":0},395]
[{"$f":"VLOOKUP(K397,'Standard Labels'!$A$7:$AC$500,11)","v":0},{"$f":"VLOOKUP(K397,'Standard Labels'!$A$7:$AC$500,13)","v":0},{"$f":"VLOOKUP(K397,'Standard Labels'!$A$7:$AC$500,15)","v":0},{"$f":"VLOOKUP(K397,'Standard Labels'!$A$7:$AC$500,17)","v":0},{"$f":"VLOOKUP(K397,'Standard Labels'!$A$7:$AC$500,19)","v":0},{"$f":"VLOOKUP(K397,'Standard Labels'!$A$7:$AC$500,21)","v":0},{"$f":"VLOOKUP(K397,'Standard Labels'!$A$7:$AC$500,23)","v":0},{"$f":"VLOOKUP(K397,'Standard Labels'!$A$7:$AC$500,25)","v":0},{"$f":"VLOOKUP(K397,'Standard Labels'!$A$7:$AC$500,27)","v":0},{"$f":"VLOOKUP(K397,'Standard Labels'!$A$7:$AC$500,29)","v":0},396]
[{"$f":"VLOOKUP(K398,'Standard Labels'!$A$7:$AC$500,11)","v":0},{"$f":"VLOOKUP(K398,'Standard Labels'!$A$7:$AC$500,13)","v":0},{"$f":"VLOOKUP(K398,'Standard Labels'!$A$7:$AC$500,15)","v":0},{"$f":"VLOOKUP(K398,'Standard Labels'!$A$7:$AC$500,17)","v":0},{"$f":"VLOOKUP(K398,'Standard Labels'!$A$7:$AC$500,19)","v":0},{"$f":"VLOOKUP(K398,'Standard Labels'!$A$7:$AC$500,21)","v":0},{"$f":"VLOOKUP(K398,'Standard Labels'!$A$7:$AC$500,23)","v":0},{"$f":"VLOOKUP(K398,'Standard Labels'!$A$7:$AC$500,25)","v":0},{"$f":"VLOOKUP(K398,'Standard Labels'!$A$7:$AC$500,27)","v":0},{"$f":"VLOOKUP(K398,'Standard Labels'!$A$7:$AC$500,29)","v":0},397]
[{"$f":"VLOOKUP(K399,'Standard Labels'!$A$7:$AC$500,11)","v":0},{"$f":"VLOOKUP(K399,'Standard Labels'!$A$7:$AC$500,13)","v":0},{"$f":"VLOOKUP(K399,'Standard Labels'!$A$7:$AC$500,15)","v":0},{"$f":"VLOOKUP(K399,'Standard Labels'!$A$7:$AC$500,17)","v":0},{"$f":"VLOOKUP(K399,'Standard Labels'!$A$7:$AC$500,19)","v":0},{"$f":"VLOOKUP(K399,'Standard Labels'!$A$7:$AC$500,21)","v":0},{"$f":"VLOOKUP(K399,'Standard Labels'!$A$7:$AC$500,23)","v":0},{"$f":"VLOOKUP(K399,'Standard Labels'!$A$7:$AC$500,25)","v":0},{"$f":"VLOOKUP(K399,'Standard Labels'!$A$7:$AC$500,27)","v":0},{"$f":"VLOOKUP(K399,'Standard Labels'!$A$7:$AC$500,29)","v":0},398]
[{"$f":"VLOOKUP(K400,'Standard Labels'!$A$7:$AC$500,11)","v":0},{"$f":"VLOOKUP(K400,'Standard Labels'!$A$7:$AC$500,13)","v":0},{"$f":"VLOOKUP(K400,'Standard Labels'!$A$7:$AC$500,15)","v":0},{"$f":"VLOOKUP(K400,'Standard Labels'!$A$7:$AC$500,17)","v":0},{"$f":"VLOOKUP(K400,'Standard Labels'!$A$7:$AC$500,19)","v":0},{"$f":"VLOOKUP(K400,'Standard Labels'!$A$7:$AC$500,21)","v":0},{"$f":"VLOOKUP(K400,'Standard Labels'!$A$7:$AC$500,23)","v":0},{"$f":"VLOOKUP(K400,'Standard Labels'!$A$7:$AC$500,25)","v":0},{"$f":"VLOOKUP(K400,'Standard Labels'!$A$7:$AC$500,27)","v":0},{"$f":"VLOOKUP(K400,'Standard Labels'!$A$7:$AC$500,29)","v":0},399]
[{"$f":"VLOOKUP(K401,'Standard Labels'!$A$7:$AC$500,11)","v":0},{"$f":"VLOOKUP(K401,'Standard Labels'!$A$7:$AC$500,13)","v":0},{"$f":"VLOOKUP(K401,'Standard Labels'!$A$7:$AC$500,15)","v":0},{"$f":"VLOOKUP(K401,'Standard Labels'!$A$7:$AC$500,17)","v":0},{"$f":"VLOOKUP(K401,'Standard Labels'!$A$7:$AC$500,19)","v":0},{"$f":"VLOOKUP(K401,'Standard Labels'!$A$7:$AC$500,21)","v":0},{"$f":"VLOOKUP(K401,'Standard Labels'!$A$7:$AC$500,23)","v":0},{"$f":"VLOOKUP(K401,'Standard Labels'!$A$7:$AC$500,25)","v":0},{"$f":"VLOOKUP(K401,'Standard Labels'!$A$7:$AC$500,27)","v":0},{"$f":"VLOOKUP(K401,'Standard Labels'!$A$7:$AC$500,29)","v":0},400]
[{"$f":"VLOOKUP(K402,'Standard Labels'!$A$7:$AC$500,11)","v":0},{"$f":"VLOOKUP(K402,'Standard Labels'!$A$7:$AC$500,13)","v":0},{"$f":"VLOOKUP(K402,'Standard Labels'!$A$7:$AC$500,15)","v":0},{"$f":"VLOOKUP(K402,'Standard Labels'!$A$7:$AC$500,17)","v":0},{"$f":"VLOOKUP(K402,'Standard Labels'!$A$7:$AC$500,19)","v":0},{"$f":"VLOOKUP(K402,'Standard Labels'!$A$7:$AC$500,21)","v":0},{"$f":"VLOOKUP(K402,'Standard Labels'!$A$7:$AC$500,23)","v":0},{"$f":"VLOOKUP(K402,'Standard Labels'!$A$7:$AC$500,25)","v":0},{"$f":"VLOOKUP(K402,'Standard Labels'!$A$7:$AC$500,27)","v":0},{"$f":"VLOOKUP(K402,'Standard Labels'!$A$7:$AC$500,29)","v":0},401]
[{"$f":"VLOOKUP(K403,'Standard Labels'!$A$7:$AC$500,11)","v":0},{"$f":"VLOOKUP(K403,'Standard Labels'!$A$7:$AC$500,13)","v":0},{"$f":"VLOOKUP(K403,'Standard Labels'!$A$7:$AC$500,15)","v":0},{"$f":"VLOOKUP(K403,'Standard Labels'!$A$7:$AC$500,17)","v":0},{"$f":"VLOOKUP(K403,'Standard Labels'!$A$7:$AC$500,19)","v":0},{"$f":"VLOOKUP(K403,'Standard Labels'!$A$7:$AC$500,21)","v":0},{"$f":"VLOOKUP(K403,'Standard Labels'!$A$7:$AC$500,23)","v":0},{"$f":"VLOOKUP(K403,'Standard Labels'!$A$7:$AC$500,25)","v":0},{"$f":"VLOOKUP(K403,'Standard Labels'!$A$7:$AC$500,27)","v":0},{"$f":"VLOOKUP(K403,'Standard Labels'!$A$7:$AC$500,29)","v":0},402]
[{"$f":"VLOOKUP(K404,'Standard Labels'!$A$7:$AC$500,11)","v":0},{"$f":"VLOOKUP(K404,'Standard Labels'!$A$7:$AC$500,13)","v":0},{"$f":"VLOOKUP(K404,'Standard Labels'!$A$7:$AC$500,15)","v":0},{"$f":"VLOOKUP(K404,'Standard Labels'!$A$7:$AC$500,17)","v":0},{"$f":"VLOOKUP(K404,'Standard Labels'!$A$7:$AC$500,19)","v":0},{"$f":"VLOOKUP(K404,'Standard Labels'!$A$7:$AC$500,21)","v":0},{"$f":"VLOOKUP(K404,'Standard Labels'!$A$7:$AC$500,23)","v":0},{"$f":"VLOOKUP(K404,'Standard Labels'!$A$7:$AC$500,25)","v":0},{"$f":"VLOOKUP(K404,'Standard Labels'!$A$7:$AC$500,27)","v":0},{"$f":"VLOOKUP(K404,'Standard Labels'!$A$7:$AC$500,29)","v":0},403]
[{"$f":"VLOOKUP(K405,'Standard Labels'!$A$7:$AC$500,11)","v":0},{"$f":"VLOOKUP(K405,'Standard Labels'!$A$7:$AC$500,13)","v":0},{"$f":"VLOOKUP(K405,'Standard Labels'!$A$7:$AC$500,15)","v":0},{"$f":"VLOOKUP(K405,'Standard Labels'!$A$7:$AC$500,17)","v":0},{"$f":"VLOOKUP(K405,'Standard Labels'!$A$7:$AC$500,19)","v":0},{"$f":"VLOOKUP(K405,'Standard Labels'!$A$7:$AC$500,21)","v":0},{"$f":"VLOOKUP(K405,'Standard Labels'!$A$7:$AC$500,23)","v":0},{"$f":"VLOOKUP(K405,'Standard Labels'!$A$7:$AC$500,25)","v":0},{"$f":"VLOOKUP(K405,'Standard Labels'!$A$7:$AC$500,27)","v":0},{"$f":"VLOOKUP(K405,'Standard Labels'!$A$7:$AC$500,29)","v":0},404]
[{"$f":"VLOOKUP(K406,'Standard Labels'!$A$7:$AC$500,11)","v":0},{"$f":"VLOOKUP(K406,'Standard Labels'!$A$7:$AC$500,13)","v":0},{"$f":"VLOOKUP(K406,'Standard Labels'!$A$7:$AC$500,15)","v":0},{"$f":"VLOOKUP(K406,'Standard Labels'!$A$7:$AC$500,17)","v":0},{"$f":"VLOOKUP(K406,'Standard Labels'!$A$7:$AC$500,19)","v":0},{"$f":"VLOOKUP(K406,'Standard Labels'!$A$7:$AC$500,21)","v":0},{"$f":"VLOOKUP(K406,'Standard Labels'!$A$7:$AC$500,23)","v":0},{"$f":"VLOOKUP(K406,'Standard Labels'!$A$7:$AC$500,25)","v":0},{"$f":"VLOOKUP(K406,'Standard Labels'!$A$7:$AC$500,27)","v":0},{"$f":"VLOOKUP(K406,'Standard Labels'!$A$7:$AC$500,29)","v":0},405]
[{"$f":"VLOOKUP(K407,'Standard Labels'!$A$7:$AC$500,11)","v":0},{"$f":"VLOOKUP(K407,'Standard Labels'!$A$7:$AC$500,13)","v":0},{"$f":"VLOOKUP(K407,'Standard Labels'!$A$7:$AC$500,15)","v":0},{"$f":"VLOOKUP(K407,'Standard Labels'!$A$7:$AC$500,17)","v":0},{"$f":"VLOOKUP(K407,'Standard Labels'!$A$7:$AC$500,19)","v":0},{"$f":"VLOOKUP(K407,'Standard Labels'!$A$7:$AC$500,21)","v":0},{"$f":"VLOOKUP(K407,'Standard Labels'!$A$7:$AC$500,23)","v":0},{"$f":"VLOOKUP(K407,'Standard Labels'!$A$7:$AC$500,25)","v":0},{"$f":"VLOOKUP(K407,'Standard Labels'!$A$7:$AC$500,27)","v":0},{"$f":"VLOOKUP(K407,'Standard Labels'!$A$7:$AC$500,29)","v":0},406]
[{"$f":"VLOOKUP(K408,'Standard Labels'!$A$7:$AC$500,11)","v":0},{"$f":"VLOOKUP(K408,'Standard Labels'!$A$7:$AC$500,13)","v":0},{"$f":"VLOOKUP(K408,'Standard Labels'!$A$7:$AC$500,15)","v":0},{"$f":"VLOOKUP(K408,'Standard Labels'!$A$7:$AC$500,17)","v":0},{"$f":"VLOOKUP(K408,'Standard Labels'!$A$7:$AC$500,19)","v":0},{"$f":"VLOOKUP(K408,'Standard Labels'!$A$7:$AC$500,21)","v":0},{"$f":"VLOOKUP(K408,'Standard Labels'!$A$7:$AC$500,23)","v":0},{"$f":"VLOOKUP(K408,'Standard Labels'!$A$7:$AC$500,25)","v":0},{"$f":"VLOOKUP(K408,'Standard Labels'!$A$7:$AC$500,27)","v":0},{"$f":"VLOOKUP(K408,'Standard Labels'!$A$7:$AC$500,29)","v":0},407]
[{"$f":"VLOOKUP(K409,'Standard Labels'!$A$7:$AC$500,11)","v":0},{"$f":"VLOOKUP(K409,'Standard Labels'!$A$7:$AC$500,13)","v":0},{"$f":"VLOOKUP(K409,'Standard Labels'!$A$7:$AC$500,15)","v":0},{"$f":"VLOOKUP(K409,'Standard Labels'!$A$7:$AC$500,17)","v":0},{"$f":"VLOOKUP(K409,'Standard Labels'!$A$7:$AC$500,19)","v":0},{"$f":"VLOOKUP(K409,'Standard Labels'!$A$7:$AC$500,21)","v":0},{"$f":"VLOOKUP(K409,'Standard Labels'!$A$7:$AC$500,23)","v":0},{"$f":"VLOOKUP(K409,'Standard Labels'!$A$7:$AC$500,25)","v":0},{"$f":"VLOOKUP(K409,'Standard Labels'!$A$7:$AC$500,27)","v":0},{"$f":"VLOOKUP(K409,'Standard Labels'!$A$7:$AC$500,29)","v":0},408]
[{"$f":"VLOOKUP(K410,'Standard Labels'!$A$7:$AC$500,11)","v":0},{"$f":"VLOOKUP(K410,'Standard Labels'!$A$7:$AC$500,13)","v":0},{"$f":"VLOOKUP(K410,'Standard Labels'!$A$7:$AC$500,15)","v":0},{"$f":"VLOOKUP(K410,'Standard Labels'!$A$7:$AC$500,17)","v":0},{"$f":"VLOOKUP(K410,'Standard Labels'!$A$7:$AC$500,19)","v":0},{"$f":"VLOOKUP(K410,'Standard Labels'!$A$7:$AC$500,21)","v":0},{"$f":"VLOOKUP(K410,'Standard Labels'!$A$7:$AC$500,23)","v":0},{"$f":"VLOOKUP(K410,'Standard Labels'!$A$7:$AC$500,25)","v":0},{"$f":"VLOOKUP(K410,'Standard Labels'!$A$7:$AC$500,27)","v":0},{"$f":"VLOOKUP(K410,'Standard Labels'!$A$7:$AC$500,29)","v":0},409]
[{"$f":"VLOOKUP(K411,'Standard Labels'!$A$7:$AC$500,11)","v":0},{"$f":"VLOOKUP(K411,'Standard Labels'!$A$7:$AC$500,13)","v":0},{"$f":"VLOOKUP(K411,'Standard Labels'!$A$7:$AC$500,15)","v":0},{"$f":"VLOOKUP(K411,'Standard Labels'!$A$7:$AC$500,17)","v":0},{"$f":"VLOOKUP(K411,'Standard Labels'!$A$7:$AC$500,19)","v":0},{"$f":"VLOOKUP(K411,'Standard Labels'!$A$7:$AC$500,21)","v":0},{"$f":"VLOOKUP(K411,'Standard Labels'!$A$7:$AC$500,23)","v":0},{"$f":"VLOOKUP(K411,'Standard Labels'!$A$7:$AC$500,25)","v":0},{"$f":"VLOOKUP(K411,'Standard Labels'!$A$7:$AC$500,27)","v":0},{"$f":"VLOOKUP(K411,'Standard Labels'!$A$7:$AC$500,29)","v":0},410]
[{"$f":"VLOOKUP(K412,'Standard Labels'!$A$7:$AC$500,11)","v":0},{"$f":"VLOOKUP(K412,'Standard Labels'!$A$7:$AC$500,13)","v":0},{"$f":"VLOOKUP(K412,'Standard Labels'!$A$7:$AC$500,15)","v":0},{"$f":"VLOOKUP(K412,'Standard Labels'!$A$7:$AC$500,17)","v":0},{"$f":"VLOOKUP(K412,'Standard Labels'!$A$7:$AC$500,19)","v":0},{"$f":"VLOOKUP(K412,'Standard Labels'!$A$7:$AC$500,21)","v":0},{"$f":"VLOOKUP(K412,'Standard Labels'!$A$7:$AC$500,23)","v":0},{"$f":"VLOOKUP(K412,'Standard Labels'!$A$7:$AC$500,25)","v":0},{"$f":"VLOOKUP(K412,'Standard Labels'!$A$7:$AC$500,27)","v":0},{"$f":"VLOOKUP(K412,'Standard Labels'!$A$7:$AC$500,29)","v":0},411]
[{"$f":"VLOOKUP(K413,'Standard Labels'!$A$7:$AC$500,11)","v":0},{"$f":"VLOOKUP(K413,'Standard Labels'!$A$7:$AC$500,13)","v":0},{"$f":"VLOOKUP(K413,'Standard Labels'!$A$7:$AC$500,15)","v":0},{"$f":"VLOOKUP(K413,'Standard Labels'!$A$7:$AC$500,17)","v":0},{"$f":"VLOOKUP(K413,'Standard Labels'!$A$7:$AC$500,19)","v":0},{"$f":"VLOOKUP(K413,'Standard Labels'!$A$7:$AC$500,21)","v":0},{"$f":"VLOOKUP(K413,'Standard Labels'!$A$7:$AC$500,23)","v":0},{"$f":"VLOOKUP(K413,'Standard Labels'!$A$7:$AC$500,25)","v":0},{"$f":"VLOOKUP(K413,'Standard Labels'!$A$7:$AC$500,27)","v":0},{"$f":"VLOOKUP(K413,'Standard Labels'!$A$7:$AC$500,29)","v":0},412]
[{"$f":"VLOOKUP(K414,'Standard Labels'!$A$7:$AC$500,11)","v":0},{"$f":"VLOOKUP(K414,'Standard Labels'!$A$7:$AC$500,13)","v":0},{"$f":"VLOOKUP(K414,'Standard Labels'!$A$7:$AC$500,15)","v":0},{"$f":"VLOOKUP(K414,'Standard Labels'!$A$7:$AC$500,17)","v":0},{"$f":"VLOOKUP(K414,'Standard Labels'!$A$7:$AC$500,19)","v":0},{"$f":"VLOOKUP(K414,'Standard Labels'!$A$7:$AC$500,21)","v":0},{"$f":"VLOOKUP(K414,'Standard Labels'!$A$7:$AC$500,23)","v":0},{"$f":"VLOOKUP(K414,'Standard Labels'!$A$7:$AC$500,25)","v":0},{"$f":"VLOOKUP(K414,'Standard Labels'!$A$7:$AC$500,27)","v":0},{"$f":"VLOOKUP(K414,'Standard Labels'!$A$7:$AC$500,29)","v":0},413]
[{"$f":"VLOOKUP(K415,'Standard Labels'!$A$7:$AC$500,11)","v":0},{"$f":"VLOOKUP(K415,'Standard Labels'!$A$7:$AC$500,13)","v":0},{"$f":"VLOOKUP(K415,'Standard Labels'!$A$7:$AC$500,15)","v":0},{"$f":"VLOOKUP(K415,'Standard Labels'!$A$7:$AC$500,17)","v":0},{"$f":"VLOOKUP(K415,'Standard Labels'!$A$7:$AC$500,19)","v":0},{"$f":"VLOOKUP(K415,'Standard Labels'!$A$7:$AC$500,21)","v":0},{"$f":"VLOOKUP(K415,'Standard Labels'!$A$7:$AC$500,23)","v":0},{"$f":"VLOOKUP(K415,'Standard Labels'!$A$7:$AC$500,25)","v":0},{"$f":"VLOOKUP(K415,'Standard Labels'!$A$7:$AC$500,27)","v":0},{"$f":"VLOOKUP(K415,'Standard Labels'!$A$7:$AC$500,29)","v":0},414]
[{"$f":"VLOOKUP(K416,'Standard Labels'!$A$7:$AC$500,11)","v":0},{"$f":"VLOOKUP(K416,'Standard Labels'!$A$7:$AC$500,13)","v":0},{"$f":"VLOOKUP(K416,'Standard Labels'!$A$7:$AC$500,15)","v":0},{"$f":"VLOOKUP(K416,'Standard Labels'!$A$7:$AC$500,17)","v":0},{"$f":"VLOOKUP(K416,'Standard Labels'!$A$7:$AC$500,19)","v":0},{"$f":"VLOOKUP(K416,'Standard Labels'!$A$7:$AC$500,21)","v":0},{"$f":"VLOOKUP(K416,'Standard Labels'!$A$7:$AC$500,23)","v":0},{"$f":"VLOOKUP(K416,'Standard Labels'!$A$7:$AC$500,25)","v":0},{"$f":"VLOOKUP(K416,'Standard Labels'!$A$7:$AC$500,27)","v":0},{"$f":"VLOOKUP(K416,'Standard Labels'!$A$7:$AC$500,29)","v":0},415]
[{"$f":"VLOOKUP(K417,'Standard Labels'!$A$7:$AC$500,11)","v":0},{"$f":"VLOOKUP(K417,'Standard Labels'!$A$7:$AC$500,13)","v":0},{"$f":"VLOOKUP(K417,'Standard Labels'!$A$7:$AC$500,15)","v":0},{"$f":"VLOOKUP(K417,'Standard Labels'!$A$7:$AC$500,17)","v":0},{"$f":"VLOOKUP(K417,'Standard Labels'!$A$7:$AC$500,19)","v":0},{"$f":"VLOOKUP(K417,'Standard Labels'!$A$7:$AC$500,21)","v":0},{"$f":"VLOOKUP(K417,'Standard Labels'!$A$7:$AC$500,23)","v":0},{"$f":"VLOOKUP(K417,'Standard Labels'!$A$7:$AC$500,25)","v":0},{"$f":"VLOOKUP(K417,'Standard Labels'!$A$7:$AC$500,27)","v":0},{"$f":"VLOOKUP(K417,'Standard Labels'!$A$7:$AC$500,29)","v":0},416]
[{"$f":"VLOOKUP(K418,'Standard Labels'!$A$7:$AC$500,11)","v":0},{"$f":"VLOOKUP(K418,'Standard Labels'!$A$7:$AC$500,13)","v":0},{"$f":"VLOOKUP(K418,'Standard Labels'!$A$7:$AC$500,15)","v":0},{"$f":"VLOOKUP(K418,'Standard Labels'!$A$7:$AC$500,17)","v":0},{"$f":"VLOOKUP(K418,'Standard Labels'!$A$7:$AC$500,19)","v":0},{"$f":"VLOOKUP(K418,'Standard Labels'!$A$7:$AC$500,21)","v":0},{"$f":"VLOOKUP(K418,'Standard Labels'!$A$7:$AC$500,23)","v":0},{"$f":"VLOOKUP(K418,'Standard Labels'!$A$7:$AC$500,25)","v":0},{"$f":"VLOOKUP(K418,'Standard Labels'!$A$7:$AC$500,27)","v":0},{"$f":"VLOOKUP(K418,'Standard Labels'!$A$7:$AC$500,29)","v":0},417]
[{"$f":"VLOOKUP(K419,'Standard Labels'!$A$7:$AC$500,11)","v":0},{"$f":"VLOOKUP(K419,'Standard Labels'!$A$7:$AC$500,13)","v":0},{"$f":"VLOOKUP(K419,'Standard Labels'!$A$7:$AC$500,15)","v":0},{"$f":"VLOOKUP(K419,'Standard Labels'!$A$7:$AC$500,17)","v":0},{"$f":"VLOOKUP(K419,'Standard Labels'!$A$7:$AC$500,19)","v":0},{"$f":"VLOOKUP(K419,'Standard Labels'!$A$7:$AC$500,21)","v":0},{"$f":"VLOOKUP(K419,'Standard Labels'!$A$7:$AC$500,23)","v":0},{"$f":"VLOOKUP(K419,'Standard Labels'!$A$7:$AC$500,25)","v":0},{"$f":"VLOOKUP(K419,'Standard Labels'!$A$7:$AC$500,27)","v":0},{"$f":"VLOOKUP(K419,'Standard Labels'!$A$7:$AC$500,29)","v":0},418]
[{"$f":"VLOOKUP(K420,'Standard Labels'!$A$7:$AC$500,11)","v":0},{"$f":"VLOOKUP(K420,'Standard Labels'!$A$7:$AC$500,13)","v":0},{"$f":"VLOOKUP(K420,'Standard Labels'!$A$7:$AC$500,15)","v":0},{"$f":"VLOOKUP(K420,'Standard Labels'!$A$7:$AC$500,17)","v":0},{"$f":"VLOOKUP(K420,'Standard Labels'!$A$7:$AC$500,19)","v":0},{"$f":"VLOOKUP(K420,'Standard Labels'!$A$7:$AC$500,21)","v":0},{"$f":"VLOOKUP(K420,'Standard Labels'!$A$7:$AC$500,23)","v":0},{"$f":"VLOOKUP(K420,'Standard Labels'!$A$7:$AC$500,25)","v":0},{"$f":"VLOOKUP(K420,'Standard Labels'!$A$7:$AC$500,27)","v":0},{"$f":"VLOOKUP(K420,'Standard Labels'!$A$7:$AC$500,29)","v":0},419]
[{"$f":"VLOOKUP(K421,'Standard Labels'!$A$7:$AC$500,11)","v":0},{"$f":"VLOOKUP(K421,'Standard Labels'!$A$7:$AC$500,13)","v":0},{"$f":"VLOOKUP(K421,'Standard Labels'!$A$7:$AC$500,15)","v":0},{"$f":"VLOOKUP(K421,'Standard Labels'!$A$7:$AC$500,17)","v":0},{"$f":"VLOOKUP(K421,'Standard Labels'!$A$7:$AC$500,19)","v":0},{"$f":"VLOOKUP(K421,'Standard Labels'!$A$7:$AC$500,21)","v":0},{"$f":"VLOOKUP(K421,'Standard Labels'!$A$7:$AC$500,23)","v":0},{"$f":"VLOOKUP(K421,'Standard Labels'!$A$7:$AC$500,25)","v":0},{"$f":"VLOOKUP(K421,'Standard Labels'!$A$7:$AC$500,27)","v":0},{"$f":"VLOOKUP(K421,'Standard Labels'!$A$7:$AC$500,29)","v":0},420]
[{"$f":"VLOOKUP(K422,'Standard Labels'!$A$7:$AC$500,11)","v":0},{"$f":"VLOOKUP(K422,'Standard Labels'!$A$7:$AC$500,13)","v":0},{"$f":"VLOOKUP(K422,'Standard Labels'!$A$7:$AC$500,15)","v":0},{"$f":"VLOOKUP(K422,'Standard Labels'!$A$7:$AC$500,17)","v":0},{"$f":"VLOOKUP(K422,'Standard Labels'!$A$7:$AC$500,19)","v":0},{"$f":"VLOOKUP(K422,'Standard Labels'!$A$7:$AC$500,21)","v":0},{"$f":"VLOOKUP(K422,'Standard Labels'!$A$7:$AC$500,23)","v":0},{"$f":"VLOOKUP(K422,'Standard Labels'!$A$7:$AC$500,25)","v":0},{"$f":"VLOOKUP(K422,'Standard Labels'!$A$7:$AC$500,27)","v":0},{"$f":"VLOOKUP(K422,'Standard Labels'!$A$7:$AC$500,29)","v":0},421]
[{"$f":"VLOOKUP(K423,'Standard Labels'!$A$7:$AC$500,11)","v":0},{"$f":"VLOOKUP(K423,'Standard Labels'!$A$7:$AC$500,13)","v":0},{"$f":"VLOOKUP(K423,'Standard Labels'!$A$7:$AC$500,15)","v":0},{"$f":"VLOOKUP(K423,'Standard Labels'!$A$7:$AC$500,17)","v":0},{"$f":"VLOOKUP(K423,'Standard Labels'!$A$7:$AC$500,19)","v":0},{"$f":"VLOOKUP(K423,'Standard Labels'!$A$7:$AC$500,21)","v":0},{"$f":"VLOOKUP(K423,'Standard Labels'!$A$7:$AC$500,23)","v":0},{"$f":"VLOOKUP(K423,'Standard Labels'!$A$7:$AC$500,25)","v":0},{"$f":"VLOOKUP(K423,'Standard Labels'!$A$7:$AC$500,27)","v":0},{"$f":"VLOOKUP(K423,'Standard Labels'!$A$7:$AC$500,29)","v":0},422]
[{"$f":"VLOOKUP(K424,'Standard Labels'!$A$7:$AC$500,11)","v":0},{"$f":"VLOOKUP(K424,'Standard Labels'!$A$7:$AC$500,13)","v":0},{"$f":"VLOOKUP(K424,'Standard Labels'!$A$7:$AC$500,15)","v":0},{"$f":"VLOOKUP(K424,'Standard Labels'!$A$7:$AC$500,17)","v":0},{"$f":"VLOOKUP(K424,'Standard Labels'!$A$7:$AC$500,19)","v":0},{"$f":"VLOOKUP(K424,'Standard Labels'!$A$7:$AC$500,21)","v":0},{"$f":"VLOOKUP(K424,'Standard Labels'!$A$7:$AC$500,23)","v":0},{"$f":"VLOOKUP(K424,'Standard Labels'!$A$7:$AC$500,25)","v":0},{"$f":"VLOOKUP(K424,'Standard Labels'!$A$7:$AC$500,27)","v":0},{"$f":"VLOOKUP(K424,'Standard Labels'!$A$7:$AC$500,29)","v":0},423]
[{"$f":"VLOOKUP(K425,'Standard Labels'!$A$7:$AC$500,11)","v":0},{"$f":"VLOOKUP(K425,'Standard Labels'!$A$7:$AC$500,13)","v":0},{"$f":"VLOOKUP(K425,'Standard Labels'!$A$7:$AC$500,15)","v":0},{"$f":"VLOOKUP(K425,'Standard Labels'!$A$7:$AC$500,17)","v":0},{"$f":"VLOOKUP(K425,'Standard Labels'!$A$7:$AC$500,19)","v":0},{"$f":"VLOOKUP(K425,'Standard Labels'!$A$7:$AC$500,21)","v":0},{"$f":"VLOOKUP(K425,'Standard Labels'!$A$7:$AC$500,23)","v":0},{"$f":"VLOOKUP(K425,'Standard Labels'!$A$7:$AC$500,25)","v":0},{"$f":"VLOOKUP(K425,'Standard Labels'!$A$7:$AC$500,27)","v":0},{"$f":"VLOOKUP(K425,'Standard Labels'!$A$7:$AC$500,29)","v":0},424]
[{"$f":"VLOOKUP(K426,'Standard Labels'!$A$7:$AC$500,11)","v":0},{"$f":"VLOOKUP(K426,'Standard Labels'!$A$7:$AC$500,13)","v":0},{"$f":"VLOOKUP(K426,'Standard Labels'!$A$7:$AC$500,15)","v":0},{"$f":"VLOOKUP(K426,'Standard Labels'!$A$7:$AC$500,17)","v":0},{"$f":"VLOOKUP(K426,'Standard Labels'!$A$7:$AC$500,19)","v":0},{"$f":"VLOOKUP(K426,'Standard Labels'!$A$7:$AC$500,21)","v":0},{"$f":"VLOOKUP(K426,'Standard Labels'!$A$7:$AC$500,23)","v":0},{"$f":"VLOOKUP(K426,'Standard Labels'!$A$7:$AC$500,25)","v":0},{"$f":"VLOOKUP(K426,'Standard Labels'!$A$7:$AC$500,27)","v":0},{"$f":"VLOOKUP(K426,'Standard Labels'!$A$7:$AC$500,29)","v":0},425]
[{"$f":"VLOOKUP(K427,'Standard Labels'!$A$7:$AC$500,11)","v":0},{"$f":"VLOOKUP(K427,'Standard Labels'!$A$7:$AC$500,13)","v":0},{"$f":"VLOOKUP(K427,'Standard Labels'!$A$7:$AC$500,15)","v":0},{"$f":"VLOOKUP(K427,'Standard Labels'!$A$7:$AC$500,17)","v":0},{"$f":"VLOOKUP(K427,'Standard Labels'!$A$7:$AC$500,19)","v":0},{"$f":"VLOOKUP(K427,'Standard Labels'!$A$7:$AC$500,21)","v":0},{"$f":"VLOOKUP(K427,'Standard Labels'!$A$7:$AC$500,23)","v":0},{"$f":"VLOOKUP(K427,'Standard Labels'!$A$7:$AC$500,25)","v":0},{"$f":"VLOOKUP(K427,'Standard Labels'!$A$7:$AC$500,27)","v":0},{"$f":"VLOOKUP(K427,'Standard Labels'!$A$7:$AC$500,29)","v":0},426]
[{"$f":"VLOOKUP(K428,'Standard Labels'!$A$7:$AC$500,11)","v":0},{"$f":"VLOOKUP(K428,'Standard Labels'!$A$7:$AC$500,13)","v":0},{"$f":"VLOOKUP(K428,'Standard Labels'!$A$7:$AC$500,15)","v":0},{"$f":"VLOOKUP(K428,'Standard Labels'!$A$7:$AC$500,17)","v":0},{"$f":"VLOOKUP(K428,'Standard Labels'!$A$7:$AC$500,19)","v":0},{"$f":"VLOOKUP(K428,'Standard Labels'!$A$7:$AC$500,21)","v":0},{"$f":"VLOOKUP(K428,'Standard Labels'!$A$7:$AC$500,23)","v":0},{"$f":"VLOOKUP(K428,'Standard Labels'!$A$7:$AC$500,25)","v":0},{"$f":"VLOOKUP(K428,'Standard Labels'!$A$7:$AC$500,27)","v":0},{"$f":"VLOOKUP(K428,'Standard Labels'!$A$7:$AC$500,29)","v":0},427]
[{"$f":"VLOOKUP(K429,'Standard Labels'!$A$7:$AC$500,11)","v":0},{"$f":"VLOOKUP(K429,'Standard Labels'!$A$7:$AC$500,13)","v":0},{"$f":"VLOOKUP(K429,'Standard Labels'!$A$7:$AC$500,15)","v":0},{"$f":"VLOOKUP(K429,'Standard Labels'!$A$7:$AC$500,17)","v":0},{"$f":"VLOOKUP(K429,'Standard Labels'!$A$7:$AC$500,19)","v":0},{"$f":"VLOOKUP(K429,'Standard Labels'!$A$7:$AC$500,21)","v":0},{"$f":"VLOOKUP(K429,'Standard Labels'!$A$7:$AC$500,23)","v":0},{"$f":"VLOOKUP(K429,'Standard Labels'!$A$7:$AC$500,25)","v":0},{"$f":"VLOOKUP(K429,'Standard Labels'!$A$7:$AC$500,27)","v":0},{"$f":"VLOOKUP(K429,'Standard Labels'!$A$7:$AC$500,29)","v":0},428]
[{"$f":"VLOOKUP(K430,'Standard Labels'!$A$7:$AC$500,11)","v":0},{"$f":"VLOOKUP(K430,'Standard Labels'!$A$7:$AC$500,13)","v":0},{"$f":"VLOOKUP(K430,'Standard Labels'!$A$7:$AC$500,15)","v":0},{"$f":"VLOOKUP(K430,'Standard Labels'!$A$7:$AC$500,17)","v":0},{"$f":"VLOOKUP(K430,'Standard Labels'!$A$7:$AC$500,19)","v":0},{"$f":"VLOOKUP(K430,'Standard Labels'!$A$7:$AC$500,21)","v":0},{"$f":"VLOOKUP(K430,'Standard Labels'!$A$7:$AC$500,23)","v":0},{"$f":"VLOOKUP(K430,'Standard Labels'!$A$7:$AC$500,25)","v":0},{"$f":"VLOOKUP(K430,'Standard Labels'!$A$7:$AC$500,27)","v":0},{"$f":"VLOOKUP(K430,'Standard Labels'!$A$7:$AC$500,29)","v":0},429]
[{"$f":"VLOOKUP(K431,'Standard Labels'!$A$7:$AC$500,11)","v":0},{"$f":"VLOOKUP(K431,'Standard Labels'!$A$7:$AC$500,13)","v":0},{"$f":"VLOOKUP(K431,'Standard Labels'!$A$7:$AC$500,15)","v":0},{"$f":"VLOOKUP(K431,'Standard Labels'!$A$7:$AC$500,17)","v":0},{"$f":"VLOOKUP(K431,'Standard Labels'!$A$7:$AC$500,19)","v":0},{"$f":"VLOOKUP(K431,'Standard Labels'!$A$7:$AC$500,21)","v":0},{"$f":"VLOOKUP(K431,'Standard Labels'!$A$7:$AC$500,23)","v":0},{"$f":"VLOOKUP(K431,'Standard Labels'!$A$7:$AC$500,25)","v":0},{"$f":"VLOOKUP(K431,'Standard Labels'!$A$7:$AC$500,27)","v":0},{"$f":"VLOOKUP(K431,'Standard Labels'!$A$7:$AC$500,29)","v":0},430]
[{"$f":"VLOOKUP(K432,'Standard Labels'!$A$7:$AC$500,11)","v":0},{"$f":"VLOOKUP(K432,'Standard Labels'!$A$7:$AC$500,13)","v":0},{"$f":"VLOOKUP(K432,'Standard Labels'!$A$7:$AC$500,15)","v":0},{"$f":"VLOOKUP(K432,'Standard Labels'!$A$7:$AC$500,17)","v":0},{"$f":"VLOOKUP(K432,'Standard Labels'!$A$7:$AC$500,19)","v":0},{"$f":"VLOOKUP(K432,'Standard Labels'!$A$7:$AC$500,21)","v":0},{"$f":"VLOOKUP(K432,'Standard Labels'!$A$7:$AC$500,23)","v":0},{"$f":"VLOOKUP(K432,'Standard Labels'!$A$7:$AC$500,25)","v":0},{"$f":"VLOOKUP(K432,'Standard Labels'!$A$7:$AC$500,27)","v":0},{"$f":"VLOOKUP(K432,'Standard Labels'!$A$7:$AC$500,29)","v":0},431]
[{"$f":"VLOOKUP(K433,'Standard Labels'!$A$7:$AC$500,11)","v":0},{"$f":"VLOOKUP(K433,'Standard Labels'!$A$7:$AC$500,13)","v":0},{"$f":"VLOOKUP(K433,'Standard Labels'!$A$7:$AC$500,15)","v":0},{"$f":"VLOOKUP(K433,'Standard Labels'!$A$7:$AC$500,17)","v":0},{"$f":"VLOOKUP(K433,'Standard Labels'!$A$7:$AC$500,19)","v":0},{"$f":"VLOOKUP(K433,'Standard Labels'!$A$7:$AC$500,21)","v":0},{"$f":"VLOOKUP(K433,'Standard Labels'!$A$7:$AC$500,23)","v":0},{"$f":"VLOOKUP(K433,'Standard Labels'!$A$7:$AC$500,25)","v":0},{"$f":"VLOOKUP(K433,'Standard Labels'!$A$7:$AC$500,27)","v":0},{"$f":"VLOOKUP(K433,'Standard Labels'!$A$7:$AC$500,29)","v":0},432]
[{"$f":"VLOOKUP(K434,'Standard Labels'!$A$7:$AC$500,11)","v":0},{"$f":"VLOOKUP(K434,'Standard Labels'!$A$7:$AC$500,13)","v":0},{"$f":"VLOOKUP(K434,'Standard Labels'!$A$7:$AC$500,15)","v":0},{"$f":"VLOOKUP(K434,'Standard Labels'!$A$7:$AC$500,17)","v":0},{"$f":"VLOOKUP(K434,'Standard Labels'!$A$7:$AC$500,19)","v":0},{"$f":"VLOOKUP(K434,'Standard Labels'!$A$7:$AC$500,21)","v":0},{"$f":"VLOOKUP(K434,'Standard Labels'!$A$7:$AC$500,23)","v":0},{"$f":"VLOOKUP(K434,'Standard Labels'!$A$7:$AC$500,25)","v":0},{"$f":"VLOOKUP(K434,'Standard Labels'!$A$7:$AC$500,27)","v":0},{"$f":"VLOOKUP(K434,'Standard Labels'!$A$7:$AC$500,29)","v":0},433]
[{"$f":"VLOOKUP(K435,'Standard Labels'!$A$7:$AC$500,11)","v":0},{"$f":"VLOOKUP(K435,'Standard Labels'!$A$7:$AC$500,13)","v":0},{"$f":"VLOOKUP(K435,'Standard Labels'!$A$7:$AC$500,15)","v":0},{"$f":"VLOOKUP(K435,'Standard Labels'!$A$7:$AC$500,17)","v":0},{"$f":"VLOOKUP(K435,'Standard Labels'!$A$7:$AC$500,19)","v":0},{"$f":"VLOOKUP(K435,'Standard Labels'!$A$7:$AC$500,21)","v":0},{"$f":"VLOOKUP(K435,'Standard Labels'!$A$7:$AC$500,23)","v":0},{"$f":"VLOOKUP(K435,'Standard Labels'!$A$7:$AC$500,25)","v":0},{"$f":"VLOOKUP(K435,'Standard Labels'!$A$7:$AC$500,27)","v":0},{"$f":"VLOOKUP(K435,'Standard Labels'!$A$7:$AC$500,29)","v":0},434]
[{"$f":"VLOOKUP(K436,'Standard Labels'!$A$7:$AC$500,11)","v":0},{"$f":"VLOOKUP(K436,'Standard Labels'!$A$7:$AC$500,13)","v":0},{"$f":"VLOOKUP(K436,'Standard Labels'!$A$7:$AC$500,15)","v":0},{"$f":"VLOOKUP(K436,'Standard Labels'!$A$7:$AC$500,17)","v":0},{"$f":"VLOOKUP(K436,'Standard Labels'!$A$7:$AC$500,19)","v":0},{"$f":"VLOOKUP(K436,'Standard Labels'!$A$7:$AC$500,21)","v":0},{"$f":"VLOOKUP(K436,'Standard Labels'!$A$7:$AC$500,23)","v":0},{"$f":"VLOOKUP(K436,'Standard Labels'!$A$7:$AC$500,25)","v":0},{"$f":"VLOOKUP(K436,'Standard Labels'!$A$7:$AC$500,27)","v":0},{"$f":"VLOOKUP(K436,'Standard Labels'!$A$7:$AC$500,29)","v":0},435]
[{"$f":"VLOOKUP(K437,'Standard Labels'!$A$7:$AC$500,11)","v":0},{"$f":"VLOOKUP(K437,'Standard Labels'!$A$7:$AC$500,13)","v":0},{"$f":"VLOOKUP(K437,'Standard Labels'!$A$7:$AC$500,15)","v":0},{"$f":"VLOOKUP(K437,'Standard Labels'!$A$7:$AC$500,17)","v":0},{"$f":"VLOOKUP(K437,'Standard Labels'!$A$7:$AC$500,19)","v":0},{"$f":"VLOOKUP(K437,'Standard Labels'!$A$7:$AC$500,21)","v":0},{"$f":"VLOOKUP(K437,'Standard Labels'!$A$7:$AC$500,23)","v":0},{"$f":"VLOOKUP(K437,'Standard Labels'!$A$7:$AC$500,25)","v":0},{"$f":"VLOOKUP(K437,'Standard Labels'!$A$7:$AC$500,27)","v":0},{"$f":"VLOOKUP(K437,'Standard Labels'!$A$7:$AC$500,29)","v":0},436]
[{"$f":"VLOOKUP(K438,'Standard Labels'!$A$7:$AC$500,11)","v":0},{"$f":"VLOOKUP(K438,'Standard Labels'!$A$7:$AC$500,13)","v":0},{"$f":"VLOOKUP(K438,'Standard Labels'!$A$7:$AC$500,15)","v":0},{"$f":"VLOOKUP(K438,'Standard Labels'!$A$7:$AC$500,17)","v":0},{"$f":"VLOOKUP(K438,'Standard Labels'!$A$7:$AC$500,19)","v":0},{"$f":"VLOOKUP(K438,'Standard Labels'!$A$7:$AC$500,21)","v":0},{"$f":"VLOOKUP(K438,'Standard Labels'!$A$7:$AC$500,23)","v":0},{"$f":"VLOOKUP(K438,'Standard Labels'!$A$7:$AC$500,25)","v":0},{"$f":"VLOOKUP(K438,'Standard Labels'!$A$7:$AC$500,27)","v":0},{"$f":"VLOOKUP(K438,'Standard Labels'!$A$7:$AC$500,29)","v":0},437]
[{"$f":"VLOOKUP(K439,'Standard Labels'!$A$7:$AC$500,11)","v":0},{"$f":"VLOOKUP(K439,'Standard Labels'!$A$7:$AC$500,13)","v":0},{"$f":"VLOOKUP(K439,'Standard Labels'!$A$7:$AC$500,15)","v":0},{"$f":"VLOOKUP(K439,'Standard Labels'!$A$7:$AC$500,17)","v":0},{"$f":"VLOOKUP(K439,'Standard Labels'!$A$7:$AC$500,19)","v":0},{"$f":"VLOOKUP(K439,'Standard Labels'!$A$7:$AC$500,21)","v":0},{"$f":"VLOOKUP(K439,'Standard Labels'!$A$7:$AC$500,23)","v":0},{"$f":"VLOOKUP(K439,'Standard Labels'!$A$7:$AC$500,25)","v":0},{"$f":"VLOOKUP(K439,'Standard Labels'!$A$7:$AC$500,27)","v":0},{"$f":"VLOOKUP(K439,'Standard Labels'!$A$7:$AC$500,29)","v":0},438]
[{"$f":"VLOOKUP(K440,'Standard Labels'!$A$7:$AC$500,11)","v":0},{"$f":"VLOOKUP(K440,'Standard Labels'!$A$7:$AC$500,13)","v":0},{"$f":"VLOOKUP(K440,'Standard Labels'!$A$7:$AC$500,15)","v":0},{"$f":"VLOOKUP(K440,'Standard Labels'!$A$7:$AC$500,17)","v":0},{"$f":"VLOOKUP(K440,'Standard Labels'!$A$7:$AC$500,19)","v":0},{"$f":"VLOOKUP(K440,'Standard Labels'!$A$7:$AC$500,21)","v":0},{"$f":"VLOOKUP(K440,'Standard Labels'!$A$7:$AC$500,23)","v":0},{"$f":"VLOOKUP(K440,'Standard Labels'!$A$7:$AC$500,25)","v":0},{"$f":"VLOOKUP(K440,'Standard Labels'!$A$7:$AC$500,27)","v":0},{"$f":"VLOOKUP(K440,'Standard Labels'!$A$7:$AC$500,29)","v":0},439]
[{"$f":"VLOOKUP(K441,'Standard Labels'!$A$7:$AC$500,11)","v":0},{"$f":"VLOOKUP(K441,'Standard Labels'!$A$7:$AC$500,13)","v":0},{"$f":"VLOOKUP(K441,'Standard Labels'!$A$7:$AC$500,15)","v":0},{"$f":"VLOOKUP(K441,'Standard Labels'!$A$7:$AC$500,17)","v":0},{"$f":"VLOOKUP(K441,'Standard Labels'!$A$7:$AC$500,19)","v":0},{"$f":"VLOOKUP(K441,'Standard Labels'!$A$7:$AC$500,21)","v":0},{"$f":"VLOOKUP(K441,'Standard Labels'!$A$7:$AC$500,23)","v":0},{"$f":"VLOOKUP(K441,'Standard Labels'!$A$7:$AC$500,25)","v":0},{"$f":"VLOOKUP(K441,'Standard Labels'!$A$7:$AC$500,27)","v":0},{"$f":"VLOOKUP(K441,'Standard Labels'!$A$7:$AC$500,29)","v":0},440]
[{"$f":"VLOOKUP(K442,'Standard Labels'!$A$7:$AC$500,11)","v":0},{"$f":"VLOOKUP(K442,'Standard Labels'!$A$7:$AC$500,13)","v":0},{"$f":"VLOOKUP(K442,'Standard Labels'!$A$7:$AC$500,15)","v":0},{"$f":"VLOOKUP(K442,'Standard Labels'!$A$7:$AC$500,17)","v":0},{"$f":"VLOOKUP(K442,'Standard Labels'!$A$7:$AC$500,19)","v":0},{"$f":"VLOOKUP(K442,'Standard Labels'!$A$7:$AC$500,21)","v":0},{"$f":"VLOOKUP(K442,'Standard Labels'!$A$7:$AC$500,23)","v":0},{"$f":"VLOOKUP(K442,'Standard Labels'!$A$7:$AC$500,25)","v":0},{"$f":"VLOOKUP(K442,'Standard Labels'!$A$7:$AC$500,27)","v":0},{"$f":"VLOOKUP(K442,'Standard Labels'!$A$7:$AC$500,29)","v":0},441]
[{"$f":"VLOOKUP(K443,'Standard Labels'!$A$7:$AC$500,11)","v":0},{"$f":"VLOOKUP(K443,'Standard Labels'!$A$7:$AC$500,13)","v":0},{"$f":"VLOOKUP(K443,'Standard Labels'!$A$7:$AC$500,15)","v":0},{"$f":"VLOOKUP(K443,'Standard Labels'!$A$7:$AC$500,17)","v":0},{"$f":"VLOOKUP(K443,'Standard Labels'!$A$7:$AC$500,19)","v":0},{"$f":"VLOOKUP(K443,'Standard Labels'!$A$7:$AC$500,21)","v":0},{"$f":"VLOOKUP(K443,'Standard Labels'!$A$7:$AC$500,23)","v":0},{"$f":"VLOOKUP(K443,'Standard Labels'!$A$7:$AC$500,25)","v":0},{"$f":"VLOOKUP(K443,'Standard Labels'!$A$7:$AC$500,27)","v":0},{"$f":"VLOOKUP(K443,'Standard Labels'!$A$7:$AC$500,29)","v":0},442]
[{"$f":"VLOOKUP(K444,'Standard Labels'!$A$7:$AC$500,11)","v":0},{"$f":"VLOOKUP(K444,'Standard Labels'!$A$7:$AC$500,13)","v":0},{"$f":"VLOOKUP(K444,'Standard Labels'!$A$7:$AC$500,15)","v":0},{"$f":"VLOOKUP(K444,'Standard Labels'!$A$7:$AC$500,17)","v":0},{"$f":"VLOOKUP(K444,'Standard Labels'!$A$7:$AC$500,19)","v":0},{"$f":"VLOOKUP(K444,'Standard Labels'!$A$7:$AC$500,21)","v":0},{"$f":"VLOOKUP(K444,'Standard Labels'!$A$7:$AC$500,23)","v":0},{"$f":"VLOOKUP(K444,'Standard Labels'!$A$7:$AC$500,25)","v":0},{"$f":"VLOOKUP(K444,'Standard Labels'!$A$7:$AC$500,27)","v":0},{"$f":"VLOOKUP(K444,'Standard Labels'!$A$7:$AC$500,29)","v":0},443]
[{"$f":"VLOOKUP(K445,'Standard Labels'!$A$7:$AC$500,11)","v":0},{"$f":"VLOOKUP(K445,'Standard Labels'!$A$7:$AC$500,13)","v":0},{"$f":"VLOOKUP(K445,'Standard Labels'!$A$7:$AC$500,15)","v":0},{"$f":"VLOOKUP(K445,'Standard Labels'!$A$7:$AC$500,17)","v":0},{"$f":"VLOOKUP(K445,'Standard Labels'!$A$7:$AC$500,19)","v":0},{"$f":"VLOOKUP(K445,'Standard Labels'!$A$7:$AC$500,21)","v":0},{"$f":"VLOOKUP(K445,'Standard Labels'!$A$7:$AC$500,23)","v":0},{"$f":"VLOOKUP(K445,'Standard Labels'!$A$7:$AC$500,25)","v":0},{"$f":"VLOOKUP(K445,'Standard Labels'!$A$7:$AC$500,27)","v":0},{"$f":"VLOOKUP(K445,'Standard Labels'!$A$7:$AC$500,29)","v":0},444]
[{"$f":"VLOOKUP(K446,'Standard Labels'!$A$7:$AC$500,11)","v":0},{"$f":"VLOOKUP(K446,'Standard Labels'!$A$7:$AC$500,13)","v":0},{"$f":"VLOOKUP(K446,'Standard Labels'!$A$7:$AC$500,15)","v":0},{"$f":"VLOOKUP(K446,'Standard Labels'!$A$7:$AC$500,17)","v":0},{"$f":"VLOOKUP(K446,'Standard Labels'!$A$7:$AC$500,19)","v":0},{"$f":"VLOOKUP(K446,'Standard Labels'!$A$7:$AC$500,21)","v":0},{"$f":"VLOOKUP(K446,'Standard Labels'!$A$7:$AC$500,23)","v":0},{"$f":"VLOOKUP(K446,'Standard Labels'!$A$7:$AC$500,25)","v":0},{"$f":"VLOOKUP(K446,'Standard Labels'!$A$7:$AC$500,27)","v":0},{"$f":"VLOOKUP(K446,'Standard Labels'!$A$7:$AC$500,29)","v":0},445]
[{"$f":"VLOOKUP(K447,'Standard Labels'!$A$7:$AC$500,11)","v":0},{"$f":"VLOOKUP(K447,'Standard Labels'!$A$7:$AC$500,13)","v":0},{"$f":"VLOOKUP(K447,'Standard Labels'!$A$7:$AC$500,15)","v":0},{"$f":"VLOOKUP(K447,'Standard Labels'!$A$7:$AC$500,17)","v":0},{"$f":"VLOOKUP(K447,'Standard Labels'!$A$7:$AC$500,19)","v":0},{"$f":"VLOOKUP(K447,'Standard Labels'!$A$7:$AC$500,21)","v":0},{"$f":"VLOOKUP(K447,'Standard Labels'!$A$7:$AC$500,23)","v":0},{"$f":"VLOOKUP(K447,'Standard Labels'!$A$7:$AC$500,25)","v":0},{"$f":"VLOOKUP(K447,'Standard Labels'!$A$7:$AC$500,27)","v":0},{"$f":"VLOOKUP(K447,'Standard Labels'!$A$7:$AC$500,29)","v":0},446]
[{"$f":"VLOOKUP(K448,'Standard Labels'!$A$7:$AC$500,11)","v":0},{"$f":"VLOOKUP(K448,'Standard Labels'!$A$7:$AC$500,13)","v":0},{"$f":"VLOOKUP(K448,'Standard Labels'!$A$7:$AC$500,15)","v":0},{"$f":"VLOOKUP(K448,'Standard Labels'!$A$7:$AC$500,17)","v":0},{"$f":"VLOOKUP(K448,'Standard Labels'!$A$7:$AC$500,19)","v":0},{"$f":"VLOOKUP(K448,'Standard Labels'!$A$7:$AC$500,21)","v":0},{"$f":"VLOOKUP(K448,'Standard Labels'!$A$7:$AC$500,23)","v":0},{"$f":"VLOOKUP(K448,'Standard Labels'!$A$7:$AC$500,25)","v":0},{"$f":"VLOOKUP(K448,'Standard Labels'!$A$7:$AC$500,27)","v":0},{"$f":"VLOOKUP(K448,'Standard Labels'!$A$7:$AC$500,29)","v":0},447]
[{"$f":"VLOOKUP(K449,'Standard Labels'!$A$7:$AC$500,11)","v":0},{"$f":"VLOOKUP(K449,'Standard Labels'!$A$7:$AC$500,13)","v":0},{"$f":"VLOOKUP(K449,'Standard Labels'!$A$7:$AC$500,15)","v":0},{"$f":"VLOOKUP(K449,'Standard Labels'!$A$7:$AC$500,17)","v":0},{"$f":"VLOOKUP(K449,'Standard Labels'!$A$7:$AC$500,19)","v":0},{"$f":"VLOOKUP(K449,'Standard Labels'!$A$7:$AC$500,21)","v":0},{"$f":"VLOOKUP(K449,'Standard Labels'!$A$7:$AC$500,23)","v":0},{"$f":"VLOOKUP(K449,'Standard Labels'!$A$7:$AC$500,25)","v":0},{"$f":"VLOOKUP(K449,'Standard Labels'!$A$7:$AC$500,27)","v":0},{"$f":"VLOOKUP(K449,'Standard Labels'!$A$7:$AC$500,29)","v":0},448]
[{"$f":"VLOOKUP(K450,'Standard Labels'!$A$7:$AC$500,11)","v":0},{"$f":"VLOOKUP(K450,'Standard Labels'!$A$7:$AC$500,13)","v":0},{"$f":"VLOOKUP(K450,'Standard Labels'!$A$7:$AC$500,15)","v":0},{"$f":"VLOOKUP(K450,'Standard Labels'!$A$7:$AC$500,17)","v":0},{"$f":"VLOOKUP(K450,'Standard Labels'!$A$7:$AC$500,19)","v":0},{"$f":"VLOOKUP(K450,'Standard Labels'!$A$7:$AC$500,21)","v":0},{"$f":"VLOOKUP(K450,'Standard Labels'!$A$7:$AC$500,23)","v":0},{"$f":"VLOOKUP(K450,'Standard Labels'!$A$7:$AC$500,25)","v":0},{"$f":"VLOOKUP(K450,'Standard Labels'!$A$7:$AC$500,27)","v":0},{"$f":"VLOOKUP(K450,'Standard Labels'!$A$7:$AC$500,29)","v":0},449]
[{"$f":"VLOOKUP(K451,'Standard Labels'!$A$7:$AC$500,11)","v":0},{"$f":"VLOOKUP(K451,'Standard Labels'!$A$7:$AC$500,13)","v":0},{"$f":"VLOOKUP(K451,'Standard Labels'!$A$7:$AC$500,15)","v":0},{"$f":"VLOOKUP(K451,'Standard Labels'!$A$7:$AC$500,17)","v":0},{"$f":"VLOOKUP(K451,'Standard Labels'!$A$7:$AC$500,19)","v":0},{"$f":"VLOOKUP(K451,'Standard Labels'!$A$7:$AC$500,21)","v":0},{"$f":"VLOOKUP(K451,'Standard Labels'!$A$7:$AC$500,23)","v":0},{"$f":"VLOOKUP(K451,'Standard Labels'!$A$7:$AC$500,25)","v":0},{"$f":"VLOOKUP(K451,'Standard Labels'!$A$7:$AC$500,27)","v":0},{"$f":"VLOOKUP(K451,'Standard Labels'!$A$7:$AC$500,29)","v":0},450]
[{"$f":"VLOOKUP(K452,'Standard Labels'!$A$7:$AC$500,11)","v":0},{"$f":"VLOOKUP(K452,'Standard Labels'!$A$7:$AC$500,13)","v":0},{"$f":"VLOOKUP(K452,'Standard Labels'!$A$7:$AC$500,15)","v":0},{"$f":"VLOOKUP(K452,'Standard Labels'!$A$7:$AC$500,17)","v":0},{"$f":"VLOOKUP(K452,'Standard Labels'!$A$7:$AC$500,19)","v":0},{"$f":"VLOOKUP(K452,'Standard Labels'!$A$7:$AC$500,21)","v":0},{"$f":"VLOOKUP(K452,'Standard Labels'!$A$7:$AC$500,23)","v":0},{"$f":"VLOOKUP(K452,'Standard Labels'!$A$7:$AC$500,25)","v":0},{"$f":"VLOOKUP(K452,'Standard Labels'!$A$7:$AC$500,27)","v":0},{"$f":"VLOOKUP(K452,'Standard Labels'!$A$7:$AC$500,29)","v":0},451]
[{"$f":"VLOOKUP(K453,'Standard Labels'!$A$7:$AC$500,11)","v":0},{"$f":"VLOOKUP(K453,'Standard Labels'!$A$7:$AC$500,13)","v":0},{"$f":"VLOOKUP(K453,'Standard Labels'!$A$7:$AC$500,15)","v":0},{"$f":"VLOOKUP(K453,'Standard Labels'!$A$7:$AC$500,17)","v":0},{"$f":"VLOOKUP(K453,'Standard Labels'!$A$7:$AC$500,19)","v":0},{"$f":"VLOOKUP(K453,'Standard Labels'!$A$7:$AC$500,21)","v":0},{"$f":"VLOOKUP(K453,'Standard Labels'!$A$7:$AC$500,23)","v":0},{"$f":"VLOOKUP(K453,'Standard Labels'!$A$7:$AC$500,25)","v":0},{"$f":"VLOOKUP(K453,'Standard Labels'!$A$7:$AC$500,27)","v":0},{"$f":"VLOOKUP(K453,'Standard Labels'!$A$7:$AC$500,29)","v":0},452]
[{"$f":"VLOOKUP(K454,'Standard Labels'!$A$7:$AC$500,11)","v":0},{"$f":"VLOOKUP(K454,'Standard Labels'!$A$7:$AC$500,13)","v":0},{"$f":"VLOOKUP(K454,'Standard Labels'!$A$7:$AC$500,15)","v":0},{"$f":"VLOOKUP(K454,'Standard Labels'!$A$7:$AC$500,17)","v":0},{"$f":"VLOOKUP(K454,'Standard Labels'!$A$7:$AC$500,19)","v":0},{"$f":"VLOOKUP(K454,'Standard Labels'!$A$7:$AC$500,21)","v":0},{"$f":"VLOOKUP(K454,'Standard Labels'!$A$7:$AC$500,23)","v":0},{"$f":"VLOOKUP(K454,'Standard Labels'!$A$7:$AC$500,25)","v":0},{"$f":"VLOOKUP(K454,'Standard Labels'!$A$7:$AC$500,27)","v":0},{"$f":"VLOOKUP(K454,'Standard Labels'!$A$7:$AC$500,29)","v":0},453]
[{"$f":"VLOOKUP(K455,'Standard Labels'!$A$7:$AC$500,11)","v":0},{"$f":"VLOOKUP(K455,'Standard Labels'!$A$7:$AC$500,13)","v":0},{"$f":"VLOOKUP(K455,'Standard Labels'!$A$7:$AC$500,15)","v":0},{"$f":"VLOOKUP(K455,'Standard Labels'!$A$7:$AC$500,17)","v":0},{"$f":"VLOOKUP(K455,'Standard Labels'!$A$7:$AC$500,19)","v":0},{"$f":"VLOOKUP(K455,'Standard Labels'!$A$7:$AC$500,21)","v":0},{"$f":"VLOOKUP(K455,'Standard Labels'!$A$7:$AC$500,23)","v":0},{"$f":"VLOOKUP(K455,'Standard Labels'!$A$7:$AC$500,25)","v":0},{"$f":"VLOOKUP(K455,'Standard Labels'!$A$7:$AC$500,27)","v":0},{"$f":"VLOOKUP(K455,'Standard Labels'!$A$7:$AC$500,29)","v":0},454]
[{"$f":"VLOOKUP(K456,'Standard Labels'!$A$7:$AC$500,11)","v":0},{"$f":"VLOOKUP(K456,'Standard Labels'!$A$7:$AC$500,13)","v":0},{"$f":"VLOOKUP(K456,'Standard Labels'!$A$7:$AC$500,15)","v":0},{"$f":"VLOOKUP(K456,'Standard Labels'!$A$7:$AC$500,17)","v":0},{"$f":"VLOOKUP(K456,'Standard Labels'!$A$7:$AC$500,19)","v":0},{"$f":"VLOOKUP(K456,'Standard Labels'!$A$7:$AC$500,21)","v":0},{"$f":"VLOOKUP(K456,'Standard Labels'!$A$7:$AC$500,23)","v":0},{"$f":"VLOOKUP(K456,'Standard Labels'!$A$7:$AC$500,25)","v":0},{"$f":"VLOOKUP(K456,'Standard Labels'!$A$7:$AC$500,27)","v":0},{"$f":"VLOOKUP(K456,'Standard Labels'!$A$7:$AC$500,29)","v":0},455]
[{"$f":"VLOOKUP(K457,'Standard Labels'!$A$7:$AC$500,11)","v":0},{"$f":"VLOOKUP(K457,'Standard Labels'!$A$7:$AC$500,13)","v":0},{"$f":"VLOOKUP(K457,'Standard Labels'!$A$7:$AC$500,15)","v":0},{"$f":"VLOOKUP(K457,'Standard Labels'!$A$7:$AC$500,17)","v":0},{"$f":"VLOOKUP(K457,'Standard Labels'!$A$7:$AC$500,19)","v":0},{"$f":"VLOOKUP(K457,'Standard Labels'!$A$7:$AC$500,21)","v":0},{"$f":"VLOOKUP(K457,'Standard Labels'!$A$7:$AC$500,23)","v":0},{"$f":"VLOOKUP(K457,'Standard Labels'!$A$7:$AC$500,25)","v":0},{"$f":"VLOOKUP(K457,'Standard Labels'!$A$7:$AC$500,27)","v":0},{"$f":"VLOOKUP(K457,'Standard Labels'!$A$7:$AC$500,29)","v":0},456]
[{"$f":"VLOOKUP(K458,'Standard Labels'!$A$7:$AC$500,11)","v":0},{"$f":"VLOOKUP(K458,'Standard Labels'!$A$7:$AC$500,13)","v":0},{"$f":"VLOOKUP(K458,'Standard Labels'!$A$7:$AC$500,15)","v":0},{"$f":"VLOOKUP(K458,'Standard Labels'!$A$7:$AC$500,17)","v":0},{"$f":"VLOOKUP(K458,'Standard Labels'!$A$7:$AC$500,19)","v":0},{"$f":"VLOOKUP(K458,'Standard Labels'!$A$7:$AC$500,21)","v":0},{"$f":"VLOOKUP(K458,'Standard Labels'!$A$7:$AC$500,23)","v":0},{"$f":"VLOOKUP(K458,'Standard Labels'!$A$7:$AC$500,25)","v":0},{"$f":"VLOOKUP(K458,'Standard Labels'!$A$7:$AC$500,27)","v":0},{"$f":"VLOOKUP(K458,'Standard Labels'!$A$7:$AC$500,29)","v":0},457]
[{"$f":"VLOOKUP(K459,'Standard Labels'!$A$7:$AC$500,11)","v":0},{"$f":"VLOOKUP(K459,'Standard Labels'!$A$7:$AC$500,13)","v":0},{"$f":"VLOOKUP(K459,'Standard Labels'!$A$7:$AC$500,15)","v":0},{"$f":"VLOOKUP(K459,'Standard Labels'!$A$7:$AC$500,17)","v":0},{"$f":"VLOOKUP(K459,'Standard Labels'!$A$7:$AC$500,19)","v":0},{"$f":"VLOOKUP(K459,'Standard Labels'!$A$7:$AC$500,21)","v":0},{"$f":"VLOOKUP(K459,'Standard Labels'!$A$7:$AC$500,23)","v":0},{"$f":"VLOOKUP(K459,'Standard Labels'!$A$7:$AC$500,25)","v":0},{"$f":"VLOOKUP(K459,'Standard Labels'!$A$7:$AC$500,27)","v":0},{"$f":"VLOOKUP(K459,'Standard Labels'!$A$7:$AC$500,29)","v":0},458]
[{"$f":"VLOOKUP(K460,'Standard Labels'!$A$7:$AC$500,11)","v":0},{"$f":"VLOOKUP(K460,'Standard Labels'!$A$7:$AC$500,13)","v":0},{"$f":"VLOOKUP(K460,'Standard Labels'!$A$7:$AC$500,15)","v":0},{"$f":"VLOOKUP(K460,'Standard Labels'!$A$7:$AC$500,17)","v":0},{"$f":"VLOOKUP(K460,'Standard Labels'!$A$7:$AC$500,19)","v":0},{"$f":"VLOOKUP(K460,'Standard Labels'!$A$7:$AC$500,21)","v":0},{"$f":"VLOOKUP(K460,'Standard Labels'!$A$7:$AC$500,23)","v":0},{"$f":"VLOOKUP(K460,'Standard Labels'!$A$7:$AC$500,25)","v":0},{"$f":"VLOOKUP(K460,'Standard Labels'!$A$7:$AC$500,27)","v":0},{"$f":"VLOOKUP(K460,'Standard Labels'!$A$7:$AC$500,29)","v":0},459]
[{"$f":"VLOOKUP(K461,'Standard Labels'!$A$7:$AC$500,11)","v":0},{"$f":"VLOOKUP(K461,'Standard Labels'!$A$7:$AC$500,13)","v":0},{"$f":"VLOOKUP(K461,'Standard Labels'!$A$7:$AC$500,15)","v":0},{"$f":"VLOOKUP(K461,'Standard Labels'!$A$7:$AC$500,17)","v":0},{"$f":"VLOOKUP(K461,'Standard Labels'!$A$7:$AC$500,19)","v":0},{"$f":"VLOOKUP(K461,'Standard Labels'!$A$7:$AC$500,21)","v":0},{"$f":"VLOOKUP(K461,'Standard Labels'!$A$7:$AC$500,23)","v":0},{"$f":"VLOOKUP(K461,'Standard Labels'!$A$7:$AC$500,25)","v":0},{"$f":"VLOOKUP(K461,'Standard Labels'!$A$7:$AC$500,27)","v":0},{"$f":"VLOOKUP(K461,'Standard Labels'!$A$7:$AC$500,29)","v":0},460]
[{"$f":"VLOOKUP(K462,'Standard Labels'!$A$7:$AC$500,11)","v":0},{"$f":"VLOOKUP(K462,'Standard Labels'!$A$7:$AC$500,13)","v":0},{"$f":"VLOOKUP(K462,'Standard Labels'!$A$7:$AC$500,15)","v":0},{"$f":"VLOOKUP(K462,'Standard Labels'!$A$7:$AC$500,17)","v":0},{"$f":"VLOOKUP(K462,'Standard Labels'!$A$7:$AC$500,19)","v":0},{"$f":"VLOOKUP(K462,'Standard Labels'!$A$7:$AC$500,21)","v":0},{"$f":"VLOOKUP(K462,'Standard Labels'!$A$7:$AC$500,23)","v":0},{"$f":"VLOOKUP(K462,'Standard Labels'!$A$7:$AC$500,25)","v":0},{"$f":"VLOOKUP(K462,'Standard Labels'!$A$7:$AC$500,27)","v":0},{"$f":"VLOOKUP(K462,'Standard Labels'!$A$7:$AC$500,29)","v":0},461]
[{"$f":"VLOOKUP(K463,'Standard Labels'!$A$7:$AC$500,11)","v":0},{"$f":"VLOOKUP(K463,'Standard Labels'!$A$7:$AC$500,13)","v":0},{"$f":"VLOOKUP(K463,'Standard Labels'!$A$7:$AC$500,15)","v":0},{"$f":"VLOOKUP(K463,'Standard Labels'!$A$7:$AC$500,17)","v":0},{"$f":"VLOOKUP(K463,'Standard Labels'!$A$7:$AC$500,19)","v":0},{"$f":"VLOOKUP(K463,'Standard Labels'!$A$7:$AC$500,21)","v":0},{"$f":"VLOOKUP(K463,'Standard Labels'!$A$7:$AC$500,23)","v":0},{"$f":"VLOOKUP(K463,'Standard Labels'!$A$7:$AC$500,25)","v":0},{"$f":"VLOOKUP(K463,'Standard Labels'!$A$7:$AC$500,27)","v":0},{"$f":"VLOOKUP(K463,'Standard Labels'!$A$7:$AC$500,29)","v":0},462]
[{"$f":"VLOOKUP(K464,'Standard Labels'!$A$7:$AC$500,11)","v":0},{"$f":"VLOOKUP(K464,'Standard Labels'!$A$7:$AC$500,13)","v":0},{"$f":"VLOOKUP(K464,'Standard Labels'!$A$7:$AC$500,15)","v":0},{"$f":"VLOOKUP(K464,'Standard Labels'!$A$7:$AC$500,17)","v":0},{"$f":"VLOOKUP(K464,'Standard Labels'!$A$7:$AC$500,19)","v":0},{"$f":"VLOOKUP(K464,'Standard Labels'!$A$7:$AC$500,21)","v":0},{"$f":"VLOOKUP(K464,'Standard Labels'!$A$7:$AC$500,23)","v":0},{"$f":"VLOOKUP(K464,'Standard Labels'!$A$7:$AC$500,25)","v":0},{"$f":"VLOOKUP(K464,'Standard Labels'!$A$7:$AC$500,27)","v":0},{"$f":"VLOOKUP(K464,'Standard Labels'!$A$7:$AC$500,29)","v":0},463]
[{"$f":"VLOOKUP(K465,'Standard Labels'!$A$7:$AC$500,11)","v":0},{"$f":"VLOOKUP(K465,'Standard Labels'!$A$7:$AC$500,13)","v":0},{"$f":"VLOOKUP(K465,'Standard Labels'!$A$7:$AC$500,15)","v":0},{"$f":"VLOOKUP(K465,'Standard Labels'!$A$7:$AC$500,17)","v":0},{"$f":"VLOOKUP(K465,'Standard Labels'!$A$7:$AC$500,19)","v":0},{"$f":"VLOOKUP(K465,'Standard Labels'!$A$7:$AC$500,21)","v":0},{"$f":"VLOOKUP(K465,'Standard Labels'!$A$7:$AC$500,23)","v":0},{"$f":"VLOOKUP(K465,'Standard Labels'!$A$7:$AC$500,25)","v":0},{"$f":"VLOOKUP(K465,'Standard Labels'!$A$7:$AC$500,27)","v":0},{"$f":"VLOOKUP(K465,'Standard Labels'!$A$7:$AC$500,29)","v":0},464]
[{"$f":"VLOOKUP(K466,'Standard Labels'!$A$7:$AC$500,11)","v":0},{"$f":"VLOOKUP(K466,'Standard Labels'!$A$7:$AC$500,13)","v":0},{"$f":"VLOOKUP(K466,'Standard Labels'!$A$7:$AC$500,15)","v":0},{"$f":"VLOOKUP(K466,'Standard Labels'!$A$7:$AC$500,17)","v":0},{"$f":"VLOOKUP(K466,'Standard Labels'!$A$7:$AC$500,19)","v":0},{"$f":"VLOOKUP(K466,'Standard Labels'!$A$7:$AC$500,21)","v":0},{"$f":"VLOOKUP(K466,'Standard Labels'!$A$7:$AC$500,23)","v":0},{"$f":"VLOOKUP(K466,'Standard Labels'!$A$7:$AC$500,25)","v":0},{"$f":"VLOOKUP(K466,'Standard Labels'!$A$7:$AC$500,27)","v":0},{"$f":"VLOOKUP(K466,'Standard Labels'!$A$7:$AC$500,29)","v":0},465]
[{"$f":"VLOOKUP(K467,'Standard Labels'!$A$7:$AC$500,11)","v":0},{"$f":"VLOOKUP(K467,'Standard Labels'!$A$7:$AC$500,13)","v":0},{"$f":"VLOOKUP(K467,'Standard Labels'!$A$7:$AC$500,15)","v":0},{"$f":"VLOOKUP(K467,'Standard Labels'!$A$7:$AC$500,17)","v":0},{"$f":"VLOOKUP(K467,'Standard Labels'!$A$7:$AC$500,19)","v":0},{"$f":"VLOOKUP(K467,'Standard Labels'!$A$7:$AC$500,21)","v":0},{"$f":"VLOOKUP(K467,'Standard Labels'!$A$7:$AC$500,23)","v":0},{"$f":"VLOOKUP(K467,'Standard Labels'!$A$7:$AC$500,25)","v":0},{"$f":"VLOOKUP(K467,'Standard Labels'!$A$7:$AC$500,27)","v":0},{"$f":"VLOOKUP(K467,'Standard Labels'!$A$7:$AC$500,29)","v":0},466]
[{"$f":"VLOOKUP(K468,'Standard Labels'!$A$7:$AC$500,11)","v":0},{"$f":"VLOOKUP(K468,'Standard Labels'!$A$7:$AC$500,13)","v":0},{"$f":"VLOOKUP(K468,'Standard Labels'!$A$7:$AC$500,15)","v":0},{"$f":"VLOOKUP(K468,'Standard Labels'!$A$7:$AC$500,17)","v":0},{"$f":"VLOOKUP(K468,'Standard Labels'!$A$7:$AC$500,19)","v":0},{"$f":"VLOOKUP(K468,'Standard Labels'!$A$7:$AC$500,21)","v":0},{"$f":"VLOOKUP(K468,'Standard Labels'!$A$7:$AC$500,23)","v":0},{"$f":"VLOOKUP(K468,'Standard Labels'!$A$7:$AC$500,25)","v":0},{"$f":"VLOOKUP(K468,'Standard Labels'!$A$7:$AC$500,27)","v":0},{"$f":"VLOOKUP(K468,'Standard Labels'!$A$7:$AC$500,29)","v":0},467]
[{"$f":"VLOOKUP(K469,'Standard Labels'!$A$7:$AC$500,11)","v":0},{"$f":"VLOOKUP(K469,'Standard Labels'!$A$7:$AC$500,13)","v":0},{"$f":"VLOOKUP(K469,'Standard Labels'!$A$7:$AC$500,15)","v":0},{"$f":"VLOOKUP(K469,'Standard Labels'!$A$7:$AC$500,17)","v":0},{"$f":"VLOOKUP(K469,'Standard Labels'!$A$7:$AC$500,19)","v":0},{"$f":"VLOOKUP(K469,'Standard Labels'!$A$7:$AC$500,21)","v":0},{"$f":"VLOOKUP(K469,'Standard Labels'!$A$7:$AC$500,23)","v":0},{"$f":"VLOOKUP(K469,'Standard Labels'!$A$7:$AC$500,25)","v":0},{"$f":"VLOOKUP(K469,'Standard Labels'!$A$7:$AC$500,27)","v":0},{"$f":"VLOOKUP(K469,'Standard Labels'!$A$7:$AC$500,29)","v":0},468]
[{"$f":"VLOOKUP(K470,'Standard Labels'!$A$7:$AC$500,11)","v":0},{"$f":"VLOOKUP(K470,'Standard Labels'!$A$7:$AC$500,13)","v":0},{"$f":"VLOOKUP(K470,'Standard Labels'!$A$7:$AC$500,15)","v":0},{"$f":"VLOOKUP(K470,'Standard Labels'!$A$7:$AC$500,17)","v":0},{"$f":"VLOOKUP(K470,'Standard Labels'!$A$7:$AC$500,19)","v":0},{"$f":"VLOOKUP(K470,'Standard Labels'!$A$7:$AC$500,21)","v":0},{"$f":"VLOOKUP(K470,'Standard Labels'!$A$7:$AC$500,23)","v":0},{"$f":"VLOOKUP(K470,'Standard Labels'!$A$7:$AC$500,25)","v":0},{"$f":"VLOOKUP(K470,'Standard Labels'!$A$7:$AC$500,27)","v":0},{"$f":"VLOOKUP(K470,'Standard Labels'!$A$7:$AC$500,29)","v":0},469]
[{"$f":"VLOOKUP(K471,'Standard Labels'!$A$7:$AC$500,11)","v":0},{"$f":"VLOOKUP(K471,'Standard Labels'!$A$7:$AC$500,13)","v":0},{"$f":"VLOOKUP(K471,'Standard Labels'!$A$7:$AC$500,15)","v":0},{"$f":"VLOOKUP(K471,'Standard Labels'!$A$7:$AC$500,17)","v":0},{"$f":"VLOOKUP(K471,'Standard Labels'!$A$7:$AC$500,19)","v":0},{"$f":"VLOOKUP(K471,'Standard Labels'!$A$7:$AC$500,21)","v":0},{"$f":"VLOOKUP(K471,'Standard Labels'!$A$7:$AC$500,23)","v":0},{"$f":"VLOOKUP(K471,'Standard Labels'!$A$7:$AC$500,25)","v":0},{"$f":"VLOOKUP(K471,'Standard Labels'!$A$7:$AC$500,27)","v":0},{"$f":"VLOOKUP(K471,'Standard Labels'!$A$7:$AC$500,29)","v":0},470]
[{"$f":"VLOOKUP(K472,'Standard Labels'!$A$7:$AC$500,11)","v":0},{"$f":"VLOOKUP(K472,'Standard Labels'!$A$7:$AC$500,13)","v":0},{"$f":"VLOOKUP(K472,'Standard Labels'!$A$7:$AC$500,15)","v":0},{"$f":"VLOOKUP(K472,'Standard Labels'!$A$7:$AC$500,17)","v":0},{"$f":"VLOOKUP(K472,'Standard Labels'!$A$7:$AC$500,19)","v":0},{"$f":"VLOOKUP(K472,'Standard Labels'!$A$7:$AC$500,21)","v":0},{"$f":"VLOOKUP(K472,'Standard Labels'!$A$7:$AC$500,23)","v":0},{"$f":"VLOOKUP(K472,'Standard Labels'!$A$7:$AC$500,25)","v":0},{"$f":"VLOOKUP(K472,'Standard Labels'!$A$7:$AC$500,27)","v":0},{"$f":"VLOOKUP(K472,'Standard Labels'!$A$7:$AC$500,29)","v":0},471]
[{"$f":"VLOOKUP(K473,'Standard Labels'!$A$7:$AC$500,11)","v":0},{"$f":"VLOOKUP(K473,'Standard Labels'!$A$7:$AC$500,13)","v":0},{"$f":"VLOOKUP(K473,'Standard Labels'!$A$7:$AC$500,15)","v":0},{"$f":"VLOOKUP(K473,'Standard Labels'!$A$7:$AC$500,17)","v":0},{"$f":"VLOOKUP(K473,'Standard Labels'!$A$7:$AC$500,19)","v":0},{"$f":"VLOOKUP(K473,'Standard Labels'!$A$7:$AC$500,21)","v":0},{"$f":"VLOOKUP(K473,'Standard Labels'!$A$7:$AC$500,23)","v":0},{"$f":"VLOOKUP(K473,'Standard Labels'!$A$7:$AC$500,25)","v":0},{"$f":"VLOOKUP(K473,'Standard Labels'!$A$7:$AC$500,27)","v":0},{"$f":"VLOOKUP(K473,'Standard Labels'!$A$7:$AC$500,29)","v":0},472]
[{"$f":"VLOOKUP(K474,'Standard Labels'!$A$7:$AC$500,11)","v":0},{"$f":"VLOOKUP(K474,'Standard Labels'!$A$7:$AC$500,13)","v":0},{"$f":"VLOOKUP(K474,'Standard Labels'!$A$7:$AC$500,15)","v":0},{"$f":"VLOOKUP(K474,'Standard Labels'!$A$7:$AC$500,17)","v":0},{"$f":"VLOOKUP(K474,'Standard Labels'!$A$7:$AC$500,19)","v":0},{"$f":"VLOOKUP(K474,'Standard Labels'!$A$7:$AC$500,21)","v":0},{"$f":"VLOOKUP(K474,'Standard Labels'!$A$7:$AC$500,23)","v":0},{"$f":"VLOOKUP(K474,'Standard Labels'!$A$7:$AC$500,25)","v":0},{"$f":"VLOOKUP(K474,'Standard Labels'!$A$7:$AC$500,27)","v":0},{"$f":"VLOOKUP(K474,'Standard Labels'!$A$7:$AC$500,29)","v":0},473]
[{"$f":"VLOOKUP(K475,'Standard Labels'!$A$7:$AC$500,11)","v":0},{"$f":"VLOOKUP(K475,'Standard Labels'!$A$7:$AC$500,13)","v":0},{"$f":"VLOOKUP(K475,'Standard Labels'!$A$7:$AC$500,15)","v":0},{"$f":"VLOOKUP(K475,'Standard Labels'!$A$7:$AC$500,17)","v":0},{"$f":"VLOOKUP(K475,'Standard Labels'!$A$7:$AC$500,19)","v":0},{"$f":"VLOOKUP(K475,'Standard Labels'!$A$7:$AC$500,21)","v":0},{"$f":"VLOOKUP(K475,'Standard Labels'!$A$7:$AC$500,23)","v":0},{"$f":"VLOOKUP(K475,'Standard Labels'!$A$7:$AC$500,25)","v":0},{"$f":"VLOOKUP(K475,'Standard Labels'!$A$7:$AC$500,27)","v":0},{"$f":"VLOOKUP(K475,'Standard Labels'!$A$7:$AC$500,29)","v":0},474]
[{"$f":"VLOOKUP(K476,'Standard Labels'!$A$7:$AC$500,11)","v":0},{"$f":"VLOOKUP(K476,'Standard Labels'!$A$7:$AC$500,13)","v":0},{"$f":"VLOOKUP(K476,'Standard Labels'!$A$7:$AC$500,15)","v":0},{"$f":"VLOOKUP(K476,'Standard Labels'!$A$7:$AC$500,17)","v":0},{"$f":"VLOOKUP(K476,'Standard Labels'!$A$7:$AC$500,19)","v":0},{"$f":"VLOOKUP(K476,'Standard Labels'!$A$7:$AC$500,21)","v":0},{"$f":"VLOOKUP(K476,'Standard Labels'!$A$7:$AC$500,23)","v":0},{"$f":"VLOOKUP(K476,'Standard Labels'!$A$7:$AC$500,25)","v":0},{"$f":"VLOOKUP(K476,'Standard Labels'!$A$7:$AC$500,27)","v":0},{"$f":"VLOOKUP(K476,'Standard Labels'!$A$7:$AC$500,29)","v":0},475]
[{"$f":"VLOOKUP(K477,'Standard Labels'!$A$7:$AC$500,11)","v":0},{"$f":"VLOOKUP(K477,'Standard Labels'!$A$7:$AC$500,13)","v":0},{"$f":"VLOOKUP(K477,'Standard Labels'!$A$7:$AC$500,15)","v":0},{"$f":"VLOOKUP(K477,'Standard Labels'!$A$7:$AC$500,17)","v":0},{"$f":"VLOOKUP(K477,'Standard Labels'!$A$7:$AC$500,19)","v":0},{"$f":"VLOOKUP(K477,'Standard Labels'!$A$7:$AC$500,21)","v":0},{"$f":"VLOOKUP(K477,'Standard Labels'!$A$7:$AC$500,23)","v":0},{"$f":"VLOOKUP(K477,'Standard Labels'!$A$7:$AC$500,25)","v":0},{"$f":"VLOOKUP(K477,'Standard Labels'!$A$7:$AC$500,27)","v":0},{"$f":"VLOOKUP(K477,'Standard Labels'!$A$7:$AC$500,29)","v":0},476]
[{"$f":"VLOOKUP(K478,'Standard Labels'!$A$7:$AC$500,11)","v":0},{"$f":"VLOOKUP(K478,'Standard Labels'!$A$7:$AC$500,13)","v":0},{"$f":"VLOOKUP(K478,'Standard Labels'!$A$7:$AC$500,15)","v":0},{"$f":"VLOOKUP(K478,'Standard Labels'!$A$7:$AC$500,17)","v":0},{"$f":"VLOOKUP(K478,'Standard Labels'!$A$7:$AC$500,19)","v":0},{"$f":"VLOOKUP(K478,'Standard Labels'!$A$7:$AC$500,21)","v":0},{"$f":"VLOOKUP(K478,'Standard Labels'!$A$7:$AC$500,23)","v":0},{"$f":"VLOOKUP(K478,'Standard Labels'!$A$7:$AC$500,25)","v":0},{"$f":"VLOOKUP(K478,'Standard Labels'!$A$7:$AC$500,27)","v":0},{"$f":"VLOOKUP(K478,'Standard Labels'!$A$7:$AC$500,29)","v":0},477]
[{"$f":"VLOOKUP(K479,'Standard Labels'!$A$7:$AC$500,11)","v":0},{"$f":"VLOOKUP(K479,'Standard Labels'!$A$7:$AC$500,13)","v":0},{"$f":"VLOOKUP(K479,'Standard Labels'!$A$7:$AC$500,15)","v":0},{"$f":"VLOOKUP(K479,'Standard Labels'!$A$7:$AC$500,17)","v":0},{"$f":"VLOOKUP(K479,'Standard Labels'!$A$7:$AC$500,19)","v":0},{"$f":"VLOOKUP(K479,'Standard Labels'!$A$7:$AC$500,21)","v":0},{"$f":"VLOOKUP(K479,'Standard Labels'!$A$7:$AC$500,23)","v":0},{"$f":"VLOOKUP(K479,'Standard Labels'!$A$7:$AC$500,25)","v":0},{"$f":"VLOOKUP(K479,'Standard Labels'!$A$7:$AC$500,27)","v":0},{"$f":"VLOOKUP(K479,'Standard Labels'!$A$7:$AC$500,29)","v":0},478]
[{"$f":"VLOOKUP(K480,'Standard Labels'!$A$7:$AC$500,11)","v":0},{"$f":"VLOOKUP(K480,'Standard Labels'!$A$7:$AC$500,13)","v":0},{"$f":"VLOOKUP(K480,'Standard Labels'!$A$7:$AC$500,15)","v":0},{"$f":"VLOOKUP(K480,'Standard Labels'!$A$7:$AC$500,17)","v":0},{"$f":"VLOOKUP(K480,'Standard Labels'!$A$7:$AC$500,19)","v":0},{"$f":"VLOOKUP(K480,'Standard Labels'!$A$7:$AC$500,21)","v":0},{"$f":"VLOOKUP(K480,'Standard Labels'!$A$7:$AC$500,23)","v":0},{"$f":"VLOOKUP(K480,'Standard Labels'!$A$7:$AC$500,25)","v":0},{"$f":"VLOOKUP(K480,'Standard Labels'!$A$7:$AC$500,27)","v":0},{"$f":"VLOOKUP(K480,'Standard Labels'!$A$7:$AC$500,29)","v":0},479]
[{"$f":"VLOOKUP(K481,'Standard Labels'!$A$7:$AC$500,11)","v":0},{"$f":"VLOOKUP(K481,'Standard Labels'!$A$7:$AC$500,13)","v":0},{"$f":"VLOOKUP(K481,'Standard Labels'!$A$7:$AC$500,15)","v":0},{"$f":"VLOOKUP(K481,'Standard Labels'!$A$7:$AC$500,17)","v":0},{"$f":"VLOOKUP(K481,'Standard Labels'!$A$7:$AC$500,19)","v":0},{"$f":"VLOOKUP(K481,'Standard Labels'!$A$7:$AC$500,21)","v":0},{"$f":"VLOOKUP(K481,'Standard Labels'!$A$7:$AC$500,23)","v":0},{"$f":"VLOOKUP(K481,'Standard Labels'!$A$7:$AC$500,25)","v":0},{"$f":"VLOOKUP(K481,'Standard Labels'!$A$7:$AC$500,27)","v":0},{"$f":"VLOOKUP(K481,'Standard Labels'!$A$7:$AC$500,29)","v":0},480]
[{"$f":"VLOOKUP(K482,'Standard Labels'!$A$7:$AC$500,11)","v":0},{"$f":"VLOOKUP(K482,'Standard Labels'!$A$7:$AC$500,13)","v":0},{"$f":"VLOOKUP(K482,'Standard Labels'!$A$7:$AC$500,15)","v":0},{"$f":"VLOOKUP(K482,'Standard Labels'!$A$7:$AC$500,17)","v":0},{"$f":"VLOOKUP(K482,'Standard Labels'!$A$7:$AC$500,19)","v":0},{"$f":"VLOOKUP(K482,'Standard Labels'!$A$7:$AC$500,21)","v":0},{"$f":"VLOOKUP(K482,'Standard Labels'!$A$7:$AC$500,23)","v":0},{"$f":"VLOOKUP(K482,'Standard Labels'!$A$7:$AC$500,25)","v":0},{"$f":"VLOOKUP(K482,'Standard Labels'!$A$7:$AC$500,27)","v":0},{"$f":"VLOOKUP(K482,'Standard Labels'!$A$7:$AC$500,29)","v":0},481]
[{"$f":"VLOOKUP(K483,'Standard Labels'!$A$7:$AC$500,11)","v":0},{"$f":"VLOOKUP(K483,'Standard Labels'!$A$7:$AC$500,13)","v":0},{"$f":"VLOOKUP(K483,'Standard Labels'!$A$7:$AC$500,15)","v":0},{"$f":"VLOOKUP(K483,'Standard Labels'!$A$7:$AC$500,17)","v":0},{"$f":"VLOOKUP(K483,'Standard Labels'!$A$7:$AC$500,19)","v":0},{"$f":"VLOOKUP(K483,'Standard Labels'!$A$7:$AC$500,21)","v":0},{"$f":"VLOOKUP(K483,'Standard Labels'!$A$7:$AC$500,23)","v":0},{"$f":"VLOOKUP(K483,'Standard Labels'!$A$7:$AC$500,25)","v":0},{"$f":"VLOOKUP(K483,'Standard Labels'!$A$7:$AC$500,27)","v":0},{"$f":"VLOOKUP(K483,'Standard Labels'!$A$7:$AC$500,29)","v":0},482]
[{"$f":"VLOOKUP(K484,'Standard Labels'!$A$7:$AC$500,11)","v":0},{"$f":"VLOOKUP(K484,'Standard Labels'!$A$7:$AC$500,13)","v":0},{"$f":"VLOOKUP(K484,'Standard Labels'!$A$7:$AC$500,15)","v":0},{"$f":"VLOOKUP(K484,'Standard Labels'!$A$7:$AC$500,17)","v":0},{"$f":"VLOOKUP(K484,'Standard Labels'!$A$7:$AC$500,19)","v":0},{"$f":"VLOOKUP(K484,'Standard Labels'!$A$7:$AC$500,21)","v":0},{"$f":"VLOOKUP(K484,'Standard Labels'!$A$7:$AC$500,23)","v":0},{"$f":"VLOOKUP(K484,'Standard Labels'!$A$7:$AC$500,25)","v":0},{"$f":"VLOOKUP(K484,'Standard Labels'!$A$7:$AC$500,27)","v":0},{"$f":"VLOOKUP(K484,'Standard Labels'!$A$7:$AC$500,29)","v":0},483]
[{"$f":"VLOOKUP(K485,'Standard Labels'!$A$7:$AC$500,11)","v":0},{"$f":"VLOOKUP(K485,'Standard Labels'!$A$7:$AC$500,13)","v":0},{"$f":"VLOOKUP(K485,'Standard Labels'!$A$7:$AC$500,15)","v":0},{"$f":"VLOOKUP(K485,'Standard Labels'!$A$7:$AC$500,17)","v":0},{"$f":"VLOOKUP(K485,'Standard Labels'!$A$7:$AC$500,19)","v":0},{"$f":"VLOOKUP(K485,'Standard Labels'!$A$7:$AC$500,21)","v":0},{"$f":"VLOOKUP(K485,'Standard Labels'!$A$7:$AC$500,23)","v":0},{"$f":"VLOOKUP(K485,'Standard Labels'!$A$7:$AC$500,25)","v":0},{"$f":"VLOOKUP(K485,'Standard Labels'!$A$7:$AC$500,27)","v":0},{"$f":"VLOOKUP(K485,'Standard Labels'!$A$7:$AC$500,29)","v":0},484]
[{"$f":"VLOOKUP(K486,'Standard Labels'!$A$7:$AC$500,11)","v":0},{"$f":"VLOOKUP(K486,'Standard Labels'!$A$7:$AC$500,13)","v":0},{"$f":"VLOOKUP(K486,'Standard Labels'!$A$7:$AC$500,15)","v":0},{"$f":"VLOOKUP(K486,'Standard Labels'!$A$7:$AC$500,17)","v":0},{"$f":"VLOOKUP(K486,'Standard Labels'!$A$7:$AC$500,19)","v":0},{"$f":"VLOOKUP(K486,'Standard Labels'!$A$7:$AC$500,21)","v":0},{"$f":"VLOOKUP(K486,'Standard Labels'!$A$7:$AC$500,23)","v":0},{"$f":"VLOOKUP(K486,'Standard Labels'!$A$7:$AC$500,25)","v":0},{"$f":"VLOOKUP(K486,'Standard Labels'!$A$7:$AC$500,27)","v":0},{"$f":"VLOOKUP(K486,'Standard Labels'!$A$7:$AC$500,29)","v":0},485]
[{"$f":"VLOOKUP(K487,'Standard Labels'!$A$7:$AC$500,11)","v":0},{"$f":"VLOOKUP(K487,'Standard Labels'!$A$7:$AC$500,13)","v":0},{"$f":"VLOOKUP(K487,'Standard Labels'!$A$7:$AC$500,15)","v":0},{"$f":"VLOOKUP(K487,'Standard Labels'!$A$7:$AC$500,17)","v":0},{"$f":"VLOOKUP(K487,'Standard Labels'!$A$7:$AC$500,19)","v":0},{"$f":"VLOOKUP(K487,'Standard Labels'!$A$7:$AC$500,21)","v":0},{"$f":"VLOOKUP(K487,'Standard Labels'!$A$7:$AC$500,23)","v":0},{"$f":"VLOOKUP(K487,'Standard Labels'!$A$7:$AC$500,25)","v":0},{"$f":"VLOOKUP(K487,'Standard Labels'!$A$7:$AC$500,27)","v":0},{"$f":"VLOOKUP(K487,'Standard Labels'!$A$7:$AC$500,29)","v":0},486]
[{"$f":"VLOOKUP(K488,'Standard Labels'!$A$7:$AC$500,11)","v":0},{"$f":"VLOOKUP(K488,'Standard Labels'!$A$7:$AC$500,13)","v":0},{"$f":"VLOOKUP(K488,'Standard Labels'!$A$7:$AC$500,15)","v":0},{"$f":"VLOOKUP(K488,'Standard Labels'!$A$7:$AC$500,17)","v":0},{"$f":"VLOOKUP(K488,'Standard Labels'!$A$7:$AC$500,19)","v":0},{"$f":"VLOOKUP(K488,'Standard Labels'!$A$7:$AC$500,21)","v":0},{"$f":"VLOOKUP(K488,'Standard Labels'!$A$7:$AC$500,23)","v":0},{"$f":"VLOOKUP(K488,'Standard Labels'!$A$7:$AC$500,25)","v":0},{"$f":"VLOOKUP(K488,'Standard Labels'!$A$7:$AC$500,27)","v":0},{"$f":"VLOOKUP(K488,'Standard Labels'!$A$7:$AC$500,29)","v":0},487]
[{"$f":"VLOOKUP(K489,'Standard Labels'!$A$7:$AC$500,11)","v":0},{"$f":"VLOOKUP(K489,'Standard Labels'!$A$7:$AC$500,13)","v":0},{"$f":"VLOOKUP(K489,'Standard Labels'!$A$7:$AC$500,15)","v":0},{"$f":"VLOOKUP(K489,'Standard Labels'!$A$7:$AC$500,17)","v":0},{"$f":"VLOOKUP(K489,'Standard Labels'!$A$7:$AC$500,19)","v":0},{"$f":"VLOOKUP(K489,'Standard Labels'!$A$7:$AC$500,21)","v":0},{"$f":"VLOOKUP(K489,'Standard Labels'!$A$7:$AC$500,23)","v":0},{"$f":"VLOOKUP(K489,'Standard Labels'!$A$7:$AC$500,25)","v":0},{"$f":"VLOOKUP(K489,'Standard Labels'!$A$7:$AC$500,27)","v":0},{"$f":"VLOOKUP(K489,'Standard Labels'!$A$7:$AC$500,29)","v":0},488]
[{"$f":"VLOOKUP(K490,'Standard Labels'!$A$7:$AC$500,11)","v":0},{"$f":"VLOOKUP(K490,'Standard Labels'!$A$7:$AC$500,13)","v":0},{"$f":"VLOOKUP(K490,'Standard Labels'!$A$7:$AC$500,15)","v":0},{"$f":"VLOOKUP(K490,'Standard Labels'!$A$7:$AC$500,17)","v":0},{"$f":"VLOOKUP(K490,'Standard Labels'!$A$7:$AC$500,19)","v":0},{"$f":"VLOOKUP(K490,'Standard Labels'!$A$7:$AC$500,21)","v":0},{"$f":"VLOOKUP(K490,'Standard Labels'!$A$7:$AC$500,23)","v":0},{"$f":"VLOOKUP(K490,'Standard Labels'!$A$7:$AC$500,25)","v":0},{"$f":"VLOOKUP(K490,'Standard Labels'!$A$7:$AC$500,27)","v":0},{"$f":"VLOOKUP(K490,'Standard Labels'!$A$7:$AC$500,29)","v":0},489]
[{"$f":"VLOOKUP(K491,'Standard Labels'!$A$7:$AC$500,11)","v":0},{"$f":"VLOOKUP(K491,'Standard Labels'!$A$7:$AC$500,13)","v":0},{"$f":"VLOOKUP(K491,'Standard Labels'!$A$7:$AC$500,15)","v":0},{"$f":"VLOOKUP(K491,'Standard Labels'!$A$7:$AC$500,17)","v":0},{"$f":"VLOOKUP(K491,'Standard Labels'!$A$7:$AC$500,19)","v":0},{"$f":"VLOOKUP(K491,'Standard Labels'!$A$7:$AC$500,21)","v":0},{"$f":"VLOOKUP(K491,'Standard Labels'!$A$7:$AC$500,23)","v":0},{"$f":"VLOOKUP(K491,'Standard Labels'!$A$7:$AC$500,25)","v":0},{"$f":"VLOOKUP(K491,'Standard Labels'!$A$7:$AC$500,27)","v":0},{"$f":"VLOOKUP(K491,'Standard Labels'!$A$7:$AC$500,29)","v":0},490]
[{"$f":"VLOOKUP(K492,'Standard Labels'!$A$7:$AC$500,11)","v":0},{"$f":"VLOOKUP(K492,'Standard Labels'!$A$7:$AC$500,13)","v":0},{"$f":"VLOOKUP(K492,'Standard Labels'!$A$7:$AC$500,15)","v":0},{"$f":"VLOOKUP(K492,'Standard Labels'!$A$7:$AC$500,17)","v":0},{"$f":"VLOOKUP(K492,'Standard Labels'!$A$7:$AC$500,19)","v":0},{"$f":"VLOOKUP(K492,'Standard Labels'!$A$7:$AC$500,21)","v":0},{"$f":"VLOOKUP(K492,'Standard Labels'!$A$7:$AC$500,23)","v":0},{"$f":"VLOOKUP(K492,'Standard Labels'!$A$7:$AC$500,25)","v":0},{"$f":"VLOOKUP(K492,'Standard Labels'!$A$7:$AC$500,27)","v":0},{"$f":"VLOOKUP(K492,'Standard Labels'!$A$7:$AC$500,29)","v":0},491]
[{"$f":"VLOOKUP(K493,'Standard Labels'!$A$7:$AC$500,11)","v":0},{"$f":"VLOOKUP(K493,'Standard Labels'!$A$7:$AC$500,13)","v":0},{"$f":"VLOOKUP(K493,'Standard Labels'!$A$7:$AC$500,15)","v":0},{"$f":"VLOOKUP(K493,'Standard Labels'!$A$7:$AC$500,17)","v":0},{"$f":"VLOOKUP(K493,'Standard Labels'!$A$7:$AC$500,19)","v":0},{"$f":"VLOOKUP(K493,'Standard Labels'!$A$7:$AC$500,21)","v":0},{"$f":"VLOOKUP(K493,'Standard Labels'!$A$7:$AC$500,23)","v":0},{"$f":"VLOOKUP(K493,'Standard Labels'!$A$7:$AC$500,25)","v":0},{"$f":"VLOOKUP(K493,'Standard Labels'!$A$7:$AC$500,27)","v":0},{"$f":"VLOOKUP(K493,'Standard Labels'!$A$7:$AC$500,29)","v":0},492]
[{"$f":"VLOOKUP(K494,'Standard Labels'!$A$7:$AC$500,11)","v":0},{"$f":"VLOOKUP(K494,'Standard Labels'!$A$7:$AC$500,13)","v":0},{"$f":"VLOOKUP(K494,'Standard Labels'!$A$7:$AC$500,15)","v":0},{"$f":"VLOOKUP(K494,'Standard Labels'!$A$7:$AC$500,17)","v":0},{"$f":"VLOOKUP(K494,'Standard Labels'!$A$7:$AC$500,19)","v":0},{"$f":"VLOOKUP(K494,'Standard Labels'!$A$7:$AC$500,21)","v":0},{"$f":"VLOOKUP(K494,'Standard Labels'!$A$7:$AC$500,23)","v":0},{"$f":"VLOOKUP(K494,'Standard Labels'!$A$7:$AC$500,25)","v":0},{"$f":"VLOOKUP(K494,'Standard Labels'!$A$7:$AC$500,27)","v":0},{"$f":"VLOOKUP(K494,'Standard Labels'!$A$7:$AC$500,29)","v":0},493]
[{"$f":"VLOOKUP(K495,'Standard Labels'!$A$7:$AC$500,11)","v":0},{"$f":"VLOOKUP(K495,'Standard Labels'!$A$7:$AC$500,13)","v":0},{"$f":"VLOOKUP(K495,'Standard Labels'!$A$7:$AC$500,15)","v":0},{"$f":"VLOOKUP(K495,'Standard Labels'!$A$7:$AC$500,17)","v":0},{"$f":"VLOOKUP(K495,'Standard Labels'!$A$7:$AC$500,19)","v":0},{"$f":"VLOOKUP(K495,'Standard Labels'!$A$7:$AC$500,21)","v":0},{"$f":"VLOOKUP(K495,'Standard Labels'!$A$7:$AC$500,23)","v":0},{"$f":"VLOOKUP(K495,'Standard Labels'!$A$7:$AC$500,25)","v":0},{"$f":"VLOOKUP(K495,'Standard Labels'!$A$7:$AC$500,27)","v":0},{"$f":"VLOOKUP(K495,'Standard Labels'!$A$7:$AC$500,29)","v":0},494]
[{"$f":"VLOOKUP(K496,'Standard Labels'!$A$7:$AC$500,11)","v":0},{"$f":"VLOOKUP(K496,'Standard Labels'!$A$7:$AC$500,13)","v":0},{"$f":"VLOOKUP(K496,'Standard Labels'!$A$7:$AC$500,15)","v":0},{"$f":"VLOOKUP(K496,'Standard Labels'!$A$7:$AC$500,17)","v":0},{"$f":"VLOOKUP(K496,'Standard Labels'!$A$7:$AC$500,19)","v":0},{"$f":"VLOOKUP(K496,'Standard Labels'!$A$7:$AC$500,21)","v":0},{"$f":"VLOOKUP(K496,'Standard Labels'!$A$7:$AC$500,23)","v":0},{"$f":"VLOOKUP(K496,'Standard Labels'!$A$7:$AC$500,25)","v":0},{"$f":"VLOOKUP(K496,'Standard Labels'!$A$7:$AC$500,27)","v":0},{"$f":"VLOOKUP(K496,'Standard Labels'!$A$7:$AC$500,29)","v":0},495]
[{"$f":"VLOOKUP(K497,'Standard Labels'!$A$7:$AC$500,11)","v":0},{"$f":"VLOOKUP(K497,'Standard Labels'!$A$7:$AC$500,13)","v":0},{"$f":"VLOOKUP(K497,'Standard Labels'!$A$7:$AC$500,15)","v":0},{"$f":"VLOOKUP(K497,'Standard Labels'!$A$7:$AC$500,17)","v":0},{"$f":"VLOOKUP(K497,'Standard Labels'!$A$7:$AC$500,19)","v":0},{"$f":"VLOOKUP(K497,'Standard Labels'!$A$7:$AC$500,21)","v":0},{"$f":"VLOOKUP(K497,'Standard Labels'!$A$7:$AC$500,23)","v":0},{"$f":"VLOOKUP(K497,'Standard Labels'!$A$7:$AC$500,25)","v":0},{"$f":"VLOOKUP(K497,'Standard Labels'!$A$7:$AC$500,27)","v":0},{"$f":"VLOOKUP(K497,'Standard Labels'!$A$7:$AC$500,29)","v":0},496]
[{"$f":"VLOOKUP(K498,'Standard Labels'!$A$7:$AC$500,11)","v":0},{"$f":"VLOOKUP(K498,'Standard Labels'!$A$7:$AC$500,13)","v":0},{"$f":"VLOOKUP(K498,'Standard Labels'!$A$7:$AC$500,15)","v":0},{"$f":"VLOOKUP(K498,'Standard Labels'!$A$7:$AC$500,17)","v":0},{"$f":"VLOOKUP(K498,'Standard Labels'!$A$7:$AC$500,19)","v":0},{"$f":"VLOOKUP(K498,'Standard Labels'!$A$7:$AC$500,21)","v":0},{"$f":"VLOOKUP(K498,'Standard Labels'!$A$7:$AC$500,23)","v":0},{"$f":"VLOOKUP(K498,'Standard Labels'!$A$7:$AC$500,25)","v":0},{"$f":"VLOOKUP(K498,'Standard Labels'!$A$7:$AC$500,27)","v":0},{"$f":"VLOOKUP(K498,'Standard Labels'!$A$7:$AC$500,29)","v":0},497]
[{"$f":"VLOOKUP(K499,'Standard Labels'!$A$7:$AC$500,11)","v":0},{"$f":"VLOOKUP(K499,'Standard Labels'!$A$7:$AC$500,13)","v":0},{"$f":"VLOOKUP(K499,'Standard Labels'!$A$7:$AC$500,15)","v":0},{"$f":"VLOOKUP(K499,'Standard Labels'!$A$7:$AC$500,17)","v":0},{"$f":"VLOOKUP(K499,'Standard Labels'!$A$7:$AC$500,19)","v":0},{"$f":"VLOOKUP(K499,'Standard Labels'!$A$7:$AC$500,21)","v":0},{"$f":"VLOOKUP(K499,'Standard Labels'!$A$7:$AC$500,23)","v":0},{"$f":"VLOOKUP(K499,'Standard Labels'!$A$7:$AC$500,25)","v":0},{"$f":"VLOOKUP(K499,'Standard Labels'!$A$7:$AC$500,27)","v":0},{"$f":"VLOOKUP(K499,'Standard Labels'!$A$7:$AC$500,29)","v":0},498]
[{"$f":"VLOOKUP(K500,'Standard Labels'!$A$7:$AC$500,11)","v":0},{"$f":"VLOOKUP(K500,'Standard Labels'!$A$7:$AC$500,13)","v":0},{"$f":"VLOOKUP(K500,'Standard Labels'!$A$7:$AC$500,15)","v":0},{"$f":"VLOOKUP(K500,'Standard Labels'!$A$7:$AC$500,17)","v":0},{"$f":"VLOOKUP(K500,'Standard Labels'!$A$7:$AC$500,19)","v":0},{"$f":"VLOOKUP(K500,'Standard Labels'!$A$7:$AC$500,21)","v":0},{"$f":"VLOOKUP(K500,'Standard Labels'!$A$7:$AC$500,23)","v":0},{"$f":"VLOOKUP(K500,'Standard Labels'!$A$7:$AC$500,25)","v":0},{"$f":"VLOOKUP(K500,'Standard Labels'!$A$7:$AC$500,27)","v":0},{"$f":"VLOOKUP(K500,'Standard Labels'!$A$7:$AC$500,29)","v":0},499]
[{"$f":"VLOOKUP(K501,'Standard Labels'!$A$7:$AC$500,11)","v":0},{"$f":"VLOOKUP(K501,'Standard Labels'!$A$7:$AC$500,13)","v":0},{"$f":"VLOOKUP(K501,'Standard Labels'!$A$7:$AC$500,15)","v":0},{"$f":"VLOOKUP(K501,'Standard Labels'!$A$7:$AC$500,17)","v":0},{"$f":"VLOOKUP(K501,'Standard Labels'!$A$7:$AC$500,19)","v":0},{"$f":"VLOOKUP(K501,'Standard Labels'!$A$7:$AC$500,21)","v":0},{"$f":"VLOOKUP(K501,'Standard Labels'!$A$7:$AC$500,23)","v":0},{"$f":"VLOOKUP(K501,'Standard Labels'!$A$7:$AC$500,25)","v":0},{"$f":"VLOOKUP(K501,'Standard Labels'!$A$7:$AC$500,27)","v":0},{"$f":"VLOOKUP(K501,'Standard Labels'!$A$7:$AC$500,29)","v":0},500]
[{"$f":"VLOOKUP(K502,'Standard Labels'!$A$7:$AC$500,11)","v":0},{"$f":"VLOOKUP(K502,'Standard Labels'!$A$7:$AC$500,13)","v":0},{"$f":"VLOOKUP(K502,'Standard Labels'!$A$7:$AC$500,15)","v":0},{"$f":"VLOOKUP(K502,'Standard Labels'!$A$7:$AC$500,17)","v":0},{"$f":"VLOOKUP(K502,'Standard Labels'!$A$7:$AC$500,19)","v":0},{"$f":"VLOOKUP(K502,'Standard Labels'!$A$7:$AC$500,21)","v":0},{"$f":"VLOOKUP(K502,'Standard Labels'!$A$7:$AC$500,23)","v":0},{"$f":"VLOOKUP(K502,'Standard Labels'!$A$7:$AC$500,25)","v":0},{"$f":"VLOOKUP(K502,'Standard Labels'!$A$7:$AC$500,27)","v":0},{"$f":"VLOOKUP(K502,'Standard Labels'!$A$7:$AC$500,29)","v":0},501]
[{"$f":"VLOOKUP(K503,'Standard Labels'!$A$7:$AC$500,11)","v":0},{"$f":"VLOOKUP(K503,'Standard Labels'!$A$7:$AC$500,13)","v":0},{"$f":"VLOOKUP(K503,'Standard Labels'!$A$7:$AC$500,15)","v":0},{"$f":"VLOOKUP(K503,'Standard Labels'!$A$7:$AC$500,17)","v":0},{"$f":"VLOOKUP(K503,'Standard Labels'!$A$7:$AC$500,19)","v":0},{"$f":"VLOOKUP(K503,'Standard Labels'!$A$7:$AC$500,21)","v":0},{"$f":"VLOOKUP(K503,'Standard Labels'!$A$7:$AC$500,23)","v":0},{"$f":"VLOOKUP(K503,'Standard Labels'!$A$7:$AC$500,25)","v":0},{"$f":"VLOOKUP(K503,'Standard Labels'!$A$7:$AC$500,27)","v":0},{"$f":"VLOOKUP(K503,'Standard Labels'!$A$7:$AC$500,29)","v":0},502]
[{"$f":"VLOOKUP(K504,'Standard Labels'!$A$7:$AC$500,11)","v":0},{"$f":"VLOOKUP(K504,'Standard Labels'!$A$7:$AC$500,13)","v":0},{"$f":"VLOOKUP(K504,'Standard Labels'!$A$7:$AC$500,15)","v":0},{"$f":"VLOOKUP(K504,'Standard Labels'!$A$7:$AC$500,17)","v":0},{"$f":"VLOOKUP(K504,'Standard Labels'!$A$7:$AC$500,19)","v":0},{"$f":"VLOOKUP(K504,'Standard Labels'!$A$7:$AC$500,21)","v":0},{"$f":"VLOOKUP(K504,'Standard Labels'!$A$7:$AC$500,23)","v":0},{"$f":"VLOOKUP(K504,'Standard Labels'!$A$7:$AC$500,25)","v":0},{"$f":"VLOOKUP(K504,'Standard Labels'!$A$7:$AC$500,27)","v":0},{"$f":"VLOOKUP(K504,'Standard Labels'!$A$7:$AC$500,29)","v":0},503]
[{"$f":"VLOOKUP(K505,'Standard Labels'!$A$7:$AC$500,11)","v":0},{"$f":"VLOOKUP(K505,'Standard Labels'!$A$7:$AC$500,13)","v":0},{"$f":"VLOOKUP(K505,'Standard Labels'!$A$7:$AC$500,15)","v":0},{"$f":"VLOOKUP(K505,'Standard Labels'!$A$7:$AC$500,17)","v":0},{"$f":"VLOOKUP(K505,'Standard Labels'!$A$7:$AC$500,19)","v":0},{"$f":"VLOOKUP(K505,'Standard Labels'!$A$7:$AC$500,21)","v":0},{"$f":"VLOOKUP(K505,'Standard Labels'!$A$7:$AC$500,23)","v":0},{"$f":"VLOOKUP(K505,'Standard Labels'!$A$7:$AC$500,25)","v":0},{"$f":"VLOOKUP(K505,'Standard Labels'!$A$7:$AC$500,27)","v":0},{"$f":"VLOOKUP(K505,'Standard Labels'!$A$7:$AC$500,29)","v":0},504]
[{"$f":"VLOOKUP(K506,'Standard Labels'!$A$7:$AC$500,11)","v":0},{"$f":"VLOOKUP(K506,'Standard Labels'!$A$7:$AC$500,13)","v":0},{"$f":"VLOOKUP(K506,'Standard Labels'!$A$7:$AC$500,15)","v":0},{"$f":"VLOOKUP(K506,'Standard Labels'!$A$7:$AC$500,17)","v":0},{"$f":"VLOOKUP(K506,'Standard Labels'!$A$7:$AC$500,19)","v":0},{"$f":"VLOOKUP(K506,'Standard Labels'!$A$7:$AC$500,21)","v":0},{"$f":"VLOOKUP(K506,'Standard Labels'!$A$7:$AC$500,23)","v":0},{"$f":"VLOOKUP(K506,'Standard Labels'!$A$7:$AC$500,25)","v":0},{"$f":"VLOOKUP(K506,'Standard Labels'!$A$7:$AC$500,27)","v":0},{"$f":"VLOOKUP(K506,'Standard Labels'!$A$7:$AC$500,29)","v":0},505]
[{"$f":"VLOOKUP(K507,'Standard Labels'!$A$7:$AC$500,11)","v":0},{"$f":"VLOOKUP(K507,'Standard Labels'!$A$7:$AC$500,13)","v":0},{"$f":"VLOOKUP(K507,'Standard Labels'!$A$7:$AC$500,15)","v":0},{"$f":"VLOOKUP(K507,'Standard Labels'!$A$7:$AC$500,17)","v":0},{"$f":"VLOOKUP(K507,'Standard Labels'!$A$7:$AC$500,19)","v":0},{"$f":"VLOOKUP(K507,'Standard Labels'!$A$7:$AC$500,21)","v":0},{"$f":"VLOOKUP(K507,'Standard Labels'!$A$7:$AC$500,23)","v":0},{"$f":"VLOOKUP(K507,'Standard Labels'!$A$7:$AC$500,25)","v":0},{"$f":"VLOOKUP(K507,'Standard Labels'!$A$7:$AC$500,27)","v":0},{"$f":"VLOOKUP(K507,'Standard Labels'!$A$7:$AC$500,29)","v":0},506]
[{"$f":"VLOOKUP(K508,'Standard Labels'!$A$7:$AC$500,11)","v":0},{"$f":"VLOOKUP(K508,'Standard Labels'!$A$7:$AC$500,13)","v":0},{"$f":"VLOOKUP(K508,'Standard Labels'!$A$7:$AC$500,15)","v":0},{"$f":"VLOOKUP(K508,'Standard Labels'!$A$7:$AC$500,17)","v":0},{"$f":"VLOOKUP(K508,'Standard Labels'!$A$7:$AC$500,19)","v":0},{"$f":"VLOOKUP(K508,'Standard Labels'!$A$7:$AC$500,21)","v":0},{"$f":"VLOOKUP(K508,'Standard Labels'!$A$7:$AC$500,23)","v":0},{"$f":"VLOOKUP(K508,'Standard Labels'!$A$7:$AC$500,25)","v":0},{"$f":"VLOOKUP(K508,'Standard Labels'!$A$7:$AC$500,27)","v":0},{"$f":"VLOOKUP(K508,'Standard Labels'!$A$7:$AC$500,29)","v":0},507]
[{"$f":"VLOOKUP(K509,'Standard Labels'!$A$7:$AC$500,11)","v":0},{"$f":"VLOOKUP(K509,'Standard Labels'!$A$7:$AC$500,13)","v":0},{"$f":"VLOOKUP(K509,'Standard Labels'!$A$7:$AC$500,15)","v":0},{"$f":"VLOOKUP(K509,'Standard Labels'!$A$7:$AC$500,17)","v":0},{"$f":"VLOOKUP(K509,'Standard Labels'!$A$7:$AC$500,19)","v":0},{"$f":"VLOOKUP(K509,'Standard Labels'!$A$7:$AC$500,21)","v":0},{"$f":"VLOOKUP(K509,'Standard Labels'!$A$7:$AC$500,23)","v":0},{"$f":"VLOOKUP(K509,'Standard Labels'!$A$7:$AC$500,25)","v":0},{"$f":"VLOOKUP(K509,'Standard Labels'!$A$7:$AC$500,27)","v":0},{"$f":"VLOOKUP(K509,'Standard Labels'!$A$7:$AC$500,29)","v":0},508]
[{"$f":"VLOOKUP(K510,'Standard Labels'!$A$7:$AC$500,11)","v":0},{"$f":"VLOOKUP(K510,'Standard Labels'!$A$7:$AC$500,13)","v":0},{"$f":"VLOOKUP(K510,'Standard Labels'!$A$7:$AC$500,15)","v":0},{"$f":"VLOOKUP(K510,'Standard Labels'!$A$7:$AC$500,17)","v":0},{"$f":"VLOOKUP(K510,'Standard Labels'!$A$7:$AC$500,19)","v":0},{"$f":"VLOOKUP(K510,'Standard Labels'!$A$7:$AC$500,21)","v":0},{"$f":"VLOOKUP(K510,'Standard Labels'!$A$7:$AC$500,23)","v":0},{"$f":"VLOOKUP(K510,'Standard Labels'!$A$7:$AC$500,25)","v":0},{"$f":"VLOOKUP(K510,'Standard Labels'!$A$7:$AC$500,27)","v":0},{"$f":"VLOOKUP(K510,'Standard Labels'!$A$7:$AC$500,29)","v":0},509]
[{"$f":"VLOOKUP(K511,'Standard Labels'!$A$7:$AC$500,11)","v":0},{"$f":"VLOOKUP(K511,'Standard Labels'!$A$7:$AC$500,13)","v":0},{"$f":"VLOOKUP(K511,'Standard Labels'!$A$7:$AC$500,15)","v":0},{"$f":"VLOOKUP(K511,'Standard Labels'!$A$7:$AC$500,17)","v":0},{"$f":"VLOOKUP(K511,'Standard Labels'!$A$7:$AC$500,19)","v":0},{"$f":"VLOOKUP(K511,'Standard Labels'!$A$7:$AC$500,21)","v":0},{"$f":"VLOOKUP(K511,'Standard Labels'!$A$7:$AC$500,23)","v":0},{"$f":"VLOOKUP(K511,'Standard Labels'!$A$7:$AC$500,25)","v":0},{"$f":"VLOOKUP(K511,'Standard Labels'!$A$7:$AC$500,27)","v":0},{"$f":"VLOOKUP(K511,'Standard Labels'!$A$7:$AC$500,29)","v":0},510]
[{"$f":"VLOOKUP(K512,'Standard Labels'!$A$7:$AC$500,11)","v":0},{"$f":"VLOOKUP(K512,'Standard Labels'!$A$7:$AC$500,13)","v":0},{"$f":"VLOOKUP(K512,'Standard Labels'!$A$7:$AC$500,15)","v":0},{"$f":"VLOOKUP(K512,'Standard Labels'!$A$7:$AC$500,17)","v":0},{"$f":"VLOOKUP(K512,'Standard Labels'!$A$7:$AC$500,19)","v":0},{"$f":"VLOOKUP(K512,'Standard Labels'!$A$7:$AC$500,21)","v":0},{"$f":"VLOOKUP(K512,'Standard Labels'!$A$7:$AC$500,23)","v":0},{"$f":"VLOOKUP(K512,'Standard Labels'!$A$7:$AC$500,25)","v":0},{"$f":"VLOOKUP(K512,'Standard Labels'!$A$7:$AC$500,27)","v":0},{"$f":"VLOOKUP(K512,'Standard Labels'!$A$7:$AC$500,29)","v":0},511]
[{"$f":"VLOOKUP(K513,'Standard Labels'!$A$7:$AC$500,11)","v":0},{"$f":"VLOOKUP(K513,'Standard Labels'!$A$7:$AC$500,13)","v":0},{"$f":"VLOOKUP(K513,'Standard Labels'!$A$7:$AC$500,15)","v":0},{"$f":"VLOOKUP(K513,'Standard Labels'!$A$7:$AC$500,17)","v":0},{"$f":"VLOOKUP(K513,'Standard Labels'!$A$7:$AC$500,19)","v":0},{"$f":"VLOOKUP(K513,'Standard Labels'!$A$7:$AC$500,21)","v":0},{"$f":"VLOOKUP(K513,'Standard Labels'!$A$7:$AC$500,23)","v":0},{"$f":"VLOOKUP(K513,'Standard Labels'!$A$7:$AC$500,25)","v":0},{"$f":"VLOOKUP(K513,'Standard Labels'!$A$7:$AC$500,27)","v":0},{"$f":"VLOOKUP(K513,'Standard Labels'!$A$7:$AC$500,29)","v":0},512]
[{"$f":"VLOOKUP(K514,'Standard Labels'!$A$7:$AC$500,11)","v":0},{"$f":"VLOOKUP(K514,'Standard Labels'!$A$7:$AC$500,13)","v":0},{"$f":"VLOOKUP(K514,'Standard Labels'!$A$7:$AC$500,15)","v":0},{"$f":"VLOOKUP(K514,'Standard Labels'!$A$7:$AC$500,17)","v":0},{"$f":"VLOOKUP(K514,'Standard Labels'!$A$7:$AC$500,19)","v":0},{"$f":"VLOOKUP(K514,'Standard Labels'!$A$7:$AC$500,21)","v":0},{"$f":"VLOOKUP(K514,'Standard Labels'!$A$7:$AC$500,23)","v":0},{"$f":"VLOOKUP(K514,'Standard Labels'!$A$7:$AC$500,25)","v":0},{"$f":"VLOOKUP(K514,'Standard Labels'!$A$7:$AC$500,27)","v":0},{"$f":"VLOOKUP(K514,'Standard Labels'!$A$7:$AC$500,29)","v":0},513]
[{"$f":"VLOOKUP(K515,'Standard Labels'!$A$7:$AC$500,11)","v":0},{"$f":"VLOOKUP(K515,'Standard Labels'!$A$7:$AC$500,13)","v":0},{"$f":"VLOOKUP(K515,'Standard Labels'!$A$7:$AC$500,15)","v":0},{"$f":"VLOOKUP(K515,'Standard Labels'!$A$7:$AC$500,17)","v":0},{"$f":"VLOOKUP(K515,'Standard Labels'!$A$7:$AC$500,19)","v":0},{"$f":"VLOOKUP(K515,'Standard Labels'!$A$7:$AC$500,21)","v":0},{"$f":"VLOOKUP(K515,'Standard Labels'!$A$7:$AC$500,23)","v":0},{"$f":"VLOOKUP(K515,'Standard Labels'!$A$7:$AC$500,25)","v":0},{"$f":"VLOOKUP(K515,'Standard Labels'!$A$7:$AC$500,27)","v":0},{"$f":"VLOOKUP(K515,'Standard Labels'!$A$7:$AC$500,29)","v":0},514]
[{"$f":"VLOOKUP(K516,'Standard Labels'!$A$7:$AC$500,11)","v":0},{"$f":"VLOOKUP(K516,'Standard Labels'!$A$7:$AC$500,13)","v":0},{"$f":"VLOOKUP(K516,'Standard Labels'!$A$7:$AC$500,15)","v":0},{"$f":"VLOOKUP(K516,'Standard Labels'!$A$7:$AC$500,17)","v":0},{"$f":"VLOOKUP(K516,'Standard Labels'!$A$7:$AC$500,19)","v":0},{"$f":"VLOOKUP(K516,'Standard Labels'!$A$7:$AC$500,21)","v":0},{"$f":"VLOOKUP(K516,'Standard Labels'!$A$7:$AC$500,23)","v":0},{"$f":"VLOOKUP(K516,'Standard Labels'!$A$7:$AC$500,25)","v":0},{"$f":"VLOOKUP(K516,'Standard Labels'!$A$7:$AC$500,27)","v":0},{"$f":"VLOOKUP(K516,'Standard Labels'!$A$7:$AC$500,29)","v":0},515]
[{"$f":"VLOOKUP(K517,'Standard Labels'!$A$7:$AC$500,11)","v":0},{"$f":"VLOOKUP(K517,'Standard Labels'!$A$7:$AC$500,13)","v":0},{"$f":"VLOOKUP(K517,'Standard Labels'!$A$7:$AC$500,15)","v":0},{"$f":"VLOOKUP(K517,'Standard Labels'!$A$7:$AC$500,17)","v":0},{"$f":"VLOOKUP(K517,'Standard Labels'!$A$7:$AC$500,19)","v":0},{"$f":"VLOOKUP(K517,'Standard Labels'!$A$7:$AC$500,21)","v":0},{"$f":"VLOOKUP(K517,'Standard Labels'!$A$7:$AC$500,23)","v":0},{"$f":"VLOOKUP(K517,'Standard Labels'!$A$7:$AC$500,25)","v":0},{"$f":"VLOOKUP(K517,'Standard Labels'!$A$7:$AC$500,27)","v":0},{"$f":"VLOOKUP(K517,'Standard Labels'!$A$7:$AC$500,29)","v":0},516]
[{"$f":"VLOOKUP(K518,'Standard Labels'!$A$7:$AC$500,11)","v":0},{"$f":"VLOOKUP(K518,'Standard Labels'!$A$7:$AC$500,13)","v":0},{"$f":"VLOOKUP(K518,'Standard Labels'!$A$7:$AC$500,15)","v":0},{"$f":"VLOOKUP(K518,'Standard Labels'!$A$7:$AC$500,17)","v":0},{"$f":"VLOOKUP(K518,'Standard Labels'!$A$7:$AC$500,19)","v":0},{"$f":"VLOOKUP(K518,'Standard Labels'!$A$7:$AC$500,21)","v":0},{"$f":"VLOOKUP(K518,'Standard Labels'!$A$7:$AC$500,23)","v":0},{"$f":"VLOOKUP(K518,'Standard Labels'!$A$7:$AC$500,25)","v":0},{"$f":"VLOOKUP(K518,'Standard Labels'!$A$7:$AC$500,27)","v":0},{"$f":"VLOOKUP(K518,'Standard Labels'!$A$7:$AC$500,29)","v":0},517]
[{"$f":"VLOOKUP(K519,'Standard Labels'!$A$7:$AC$500,11)","v":0},{"$f":"VLOOKUP(K519,'Standard Labels'!$A$7:$AC$500,13)","v":0},{"$f":"VLOOKUP(K519,'Standard Labels'!$A$7:$AC$500,15)","v":0},{"$f":"VLOOKUP(K519,'Standard Labels'!$A$7:$AC$500,17)","v":0},{"$f":"VLOOKUP(K519,'Standard Labels'!$A$7:$AC$500,19)","v":0},{"$f":"VLOOKUP(K519,'Standard Labels'!$A$7:$AC$500,21)","v":0},{"$f":"VLOOKUP(K519,'Standard Labels'!$A$7:$AC$500,23)","v":0},{"$f":"VLOOKUP(K519,'Standard Labels'!$A$7:$AC$500,25)","v":0},{"$f":"VLOOKUP(K519,'Standard Labels'!$A$7:$AC$500,27)","v":0},{"$f":"VLOOKUP(K519,'Standard Labels'!$A$7:$AC$500,29)","v":0},518]
[{"$f":"VLOOKUP(K520,'Standard Labels'!$A$7:$AC$500,11)","v":0},{"$f":"VLOOKUP(K520,'Standard Labels'!$A$7:$AC$500,13)","v":0},{"$f":"VLOOKUP(K520,'Standard Labels'!$A$7:$AC$500,15)","v":0},{"$f":"VLOOKUP(K520,'Standard Labels'!$A$7:$AC$500,17)","v":0},{"$f":"VLOOKUP(K520,'Standard Labels'!$A$7:$AC$500,19)","v":0},{"$f":"VLOOKUP(K520,'Standard Labels'!$A$7:$AC$500,21)","v":0},{"$f":"VLOOKUP(K520,'Standard Labels'!$A$7:$AC$500,23)","v":0},{"$f":"VLOOKUP(K520,'Standard Labels'!$A$7:$AC$500,25)","v":0},{"$f":"VLOOKUP(K520,'Standard Labels'!$A$7:$AC$500,27)","v":0},{"$f":"VLOOKUP(K520,'Standard Labels'!$A$7:$AC$500,29)","v":0},519]
[{"$f":"VLOOKUP(K521,'Standard Labels'!$A$7:$AC$500,11)","v":0},{"$f":"VLOOKUP(K521,'Standard Labels'!$A$7:$AC$500,13)","v":0},{"$f":"VLOOKUP(K521,'Standard Labels'!$A$7:$AC$500,15)","v":0},{"$f":"VLOOKUP(K521,'Standard Labels'!$A$7:$AC$500,17)","v":0},{"$f":"VLOOKUP(K521,'Standard Labels'!$A$7:$AC$500,19)","v":0},{"$f":"VLOOKUP(K521,'Standard Labels'!$A$7:$AC$500,21)","v":0},{"$f":"VLOOKUP(K521,'Standard Labels'!$A$7:$AC$500,23)","v":0},{"$f":"VLOOKUP(K521,'Standard Labels'!$A$7:$AC$500,25)","v":0},{"$f":"VLOOKUP(K521,'Standard Labels'!$A$7:$AC$500,27)","v":0},{"$f":"VLOOKUP(K521,'Standard Labels'!$A$7:$AC$500,29)","v":0},520]
[{"$f":"VLOOKUP(K522,'Standard Labels'!$A$7:$AC$500,11)","v":0},{"$f":"VLOOKUP(K522,'Standard Labels'!$A$7:$AC$500,13)","v":0},{"$f":"VLOOKUP(K522,'Standard Labels'!$A$7:$AC$500,15)","v":0},{"$f":"VLOOKUP(K522,'Standard Labels'!$A$7:$AC$500,17)","v":0},{"$f":"VLOOKUP(K522,'Standard Labels'!$A$7:$AC$500,19)","v":0},{"$f":"VLOOKUP(K522,'Standard Labels'!$A$7:$AC$500,21)","v":0},{"$f":"VLOOKUP(K522,'Standard Labels'!$A$7:$AC$500,23)","v":0},{"$f":"VLOOKUP(K522,'Standard Labels'!$A$7:$AC$500,25)","v":0},{"$f":"VLOOKUP(K522,'Standard Labels'!$A$7:$AC$500,27)","v":0},{"$f":"VLOOKUP(K522,'Standard Labels'!$A$7:$AC$500,29)","v":0},521]
[{"$f":"VLOOKUP(K523,'Standard Labels'!$A$7:$AC$500,11)","v":0},{"$f":"VLOOKUP(K523,'Standard Labels'!$A$7:$AC$500,13)","v":0},{"$f":"VLOOKUP(K523,'Standard Labels'!$A$7:$AC$500,15)","v":0},{"$f":"VLOOKUP(K523,'Standard Labels'!$A$7:$AC$500,17)","v":0},{"$f":"VLOOKUP(K523,'Standard Labels'!$A$7:$AC$500,19)","v":0},{"$f":"VLOOKUP(K523,'Standard Labels'!$A$7:$AC$500,21)","v":0},{"$f":"VLOOKUP(K523,'Standard Labels'!$A$7:$AC$500,23)","v":0},{"$f":"VLOOKUP(K523,'Standard Labels'!$A$7:$AC$500,25)","v":0},{"$f":"VLOOKUP(K523,'Standard Labels'!$A$7:$AC$500,27)","v":0},{"$f":"VLOOKUP(K523,'Standard Labels'!$A$7:$AC$500,29)","v":0},522]
[{"$f":"VLOOKUP(K524,'Standard Labels'!$A$7:$AC$500,11)","v":0},{"$f":"VLOOKUP(K524,'Standard Labels'!$A$7:$AC$500,13)","v":0},{"$f":"VLOOKUP(K524,'Standard Labels'!$A$7:$AC$500,15)","v":0},{"$f":"VLOOKUP(K524,'Standard Labels'!$A$7:$AC$500,17)","v":0},{"$f":"VLOOKUP(K524,'Standard Labels'!$A$7:$AC$500,19)","v":0},{"$f":"VLOOKUP(K524,'Standard Labels'!$A$7:$AC$500,21)","v":0},{"$f":"VLOOKUP(K524,'Standard Labels'!$A$7:$AC$500,23)","v":0},{"$f":"VLOOKUP(K524,'Standard Labels'!$A$7:$AC$500,25)","v":0},{"$f":"VLOOKUP(K524,'Standard Labels'!$A$7:$AC$500,27)","v":0},{"$f":"VLOOKUP(K524,'Standard Labels'!$A$7:$AC$500,29)","v":0},523]
[{"$f":"VLOOKUP(K525,'Standard Labels'!$A$7:$AC$500,11)","v":0},{"$f":"VLOOKUP(K525,'Standard Labels'!$A$7:$AC$500,13)","v":0},{"$f":"VLOOKUP(K525,'Standard Labels'!$A$7:$AC$500,15)","v":0},{"$f":"VLOOKUP(K525,'Standard Labels'!$A$7:$AC$500,17)","v":0},{"$f":"VLOOKUP(K525,'Standard Labels'!$A$7:$AC$500,19)","v":0},{"$f":"VLOOKUP(K525,'Standard Labels'!$A$7:$AC$500,21)","v":0},{"$f":"VLOOKUP(K525,'Standard Labels'!$A$7:$AC$500,23)","v":0},{"$f":"VLOOKUP(K525,'Standard Labels'!$A$7:$AC$500,25)","v":0},{"$f":"VLOOKUP(K525,'Standard Labels'!$A$7:$AC$500,27)","v":0},{"$f":"VLOOKUP(K525,'Standard Labels'!$A$7:$AC$500,29)","v":0},524]
[{"$f":"VLOOKUP(K526,'Standard Labels'!$A$7:$AC$500,11)","v":0},{"$f":"VLOOKUP(K526,'Standard Labels'!$A$7:$AC$500,13)","v":0},{"$f":"VLOOKUP(K526,'Standard Labels'!$A$7:$AC$500,15)","v":0},{"$f":"VLOOKUP(K526,'Standard Labels'!$A$7:$AC$500,17)","v":0},{"$f":"VLOOKUP(K526,'Standard Labels'!$A$7:$AC$500,19)","v":0},{"$f":"VLOOKUP(K526,'Standard Labels'!$A$7:$AC$500,21)","v":0},{"$f":"VLOOKUP(K526,'Standard Labels'!$A$7:$AC$500,23)","v":0},{"$f":"VLOOKUP(K526,'Standard Labels'!$A$7:$AC$500,25)","v":0},{"$f":"VLOOKUP(K526,'Standard Labels'!$A$7:$AC$500,27)","v":0},{"$f":"VLOOKUP(K526,'Standard Labels'!$A$7:$AC$500,29)","v":0},525]
[{"$f":"VLOOKUP(K527,'Standard Labels'!$A$7:$AC$500,11)","v":0},{"$f":"VLOOKUP(K527,'Standard Labels'!$A$7:$AC$500,13)","v":0},{"$f":"VLOOKUP(K527,'Standard Labels'!$A$7:$AC$500,15)","v":0},{"$f":"VLOOKUP(K527,'Standard Labels'!$A$7:$AC$500,17)","v":0},{"$f":"VLOOKUP(K527,'Standard Labels'!$A$7:$AC$500,19)","v":0},{"$f":"VLOOKUP(K527,'Standard Labels'!$A$7:$AC$500,21)","v":0},{"$f":"VLOOKUP(K527,'Standard Labels'!$A$7:$AC$500,23)","v":0},{"$f":"VLOOKUP(K527,'Standard Labels'!$A$7:$AC$500,25)","v":0},{"$f":"VLOOKUP(K527,'Standard Labels'!$A$7:$AC$500,27)","v":0},{"$f":"VLOOKUP(K527,'Standard Labels'!$A$7:$AC$500,29)","v":0},526]
[{"$f":"VLOOKUP(K528,'Standard Labels'!$A$7:$AC$500,11)","v":0},{"$f":"VLOOKUP(K528,'Standard Labels'!$A$7:$AC$500,13)","v":0},{"$f":"VLOOKUP(K528,'Standard Labels'!$A$7:$AC$500,15)","v":0},{"$f":"VLOOKUP(K528,'Standard Labels'!$A$7:$AC$500,17)","v":0},{"$f":"VLOOKUP(K528,'Standard Labels'!$A$7:$AC$500,19)","v":0},{"$f":"VLOOKUP(K528,'Standard Labels'!$A$7:$AC$500,21)","v":0},{"$f":"VLOOKUP(K528,'Standard Labels'!$A$7:$AC$500,23)","v":0},{"$f":"VLOOKUP(K528,'Standard Labels'!$A$7:$AC$500,25)","v":0},{"$f":"VLOOKUP(K528,'Standard Labels'!$A$7:$AC$500,27)","v":0},{"$f":"VLOOKUP(K528,'Standard Labels'!$A$7:$AC$500,29)","v":0},527]
[{"$f":"VLOOKUP(K529,'Standard Labels'!$A$7:$AC$500,11)","v":0},{"$f":"VLOOKUP(K529,'Standard Labels'!$A$7:$AC$500,13)","v":0},{"$f":"VLOOKUP(K529,'Standard Labels'!$A$7:$AC$500,15)","v":0},{"$f":"VLOOKUP(K529,'Standard Labels'!$A$7:$AC$500,17)","v":0},{"$f":"VLOOKUP(K529,'Standard Labels'!$A$7:$AC$500,19)","v":0},{"$f":"VLOOKUP(K529,'Standard Labels'!$A$7:$AC$500,21)","v":0},{"$f":"VLOOKUP(K529,'Standard Labels'!$A$7:$AC$500,23)","v":0},{"$f":"VLOOKUP(K529,'Standard Labels'!$A$7:$AC$500,25)","v":0},{"$f":"VLOOKUP(K529,'Standard Labels'!$A$7:$AC$500,27)","v":0},{"$f":"VLOOKUP(K529,'Standard Labels'!$A$7:$AC$500,29)","v":0},528]
[{"$f":"VLOOKUP(K530,'Standard Labels'!$A$7:$AC$500,11)","v":0},{"$f":"VLOOKUP(K530,'Standard Labels'!$A$7:$AC$500,13)","v":0},{"$f":"VLOOKUP(K530,'Standard Labels'!$A$7:$AC$500,15)","v":0},{"$f":"VLOOKUP(K530,'Standard Labels'!$A$7:$AC$500,17)","v":0},{"$f":"VLOOKUP(K530,'Standard Labels'!$A$7:$AC$500,19)","v":0},{"$f":"VLOOKUP(K530,'Standard Labels'!$A$7:$AC$500,21)","v":0},{"$f":"VLOOKUP(K530,'Standard Labels'!$A$7:$AC$500,23)","v":0},{"$f":"VLOOKUP(K530,'Standard Labels'!$A$7:$AC$500,25)","v":0},{"$f":"VLOOKUP(K530,'Standard Labels'!$A$7:$AC$500,27)","v":0},{"$f":"VLOOKUP(K530,'Standard Labels'!$A$7:$AC$500,29)","v":0},529]
[{"$f":"VLOOKUP(K531,'Standard Labels'!$A$7:$AC$500,11)","v":0},{"$f":"VLOOKUP(K531,'Standard Labels'!$A$7:$AC$500,13)","v":0},{"$f":"VLOOKUP(K531,'Standard Labels'!$A$7:$AC$500,15)","v":0},{"$f":"VLOOKUP(K531,'Standard Labels'!$A$7:$AC$500,17)","v":0},{"$f":"VLOOKUP(K531,'Standard Labels'!$A$7:$AC$500,19)","v":0},{"$f":"VLOOKUP(K531,'Standard Labels'!$A$7:$AC$500,21)","v":0},{"$f":"VLOOKUP(K531,'Standard Labels'!$A$7:$AC$500,23)","v":0},{"$f":"VLOOKUP(K531,'Standard Labels'!$A$7:$AC$500,25)","v":0},{"$f":"VLOOKUP(K531,'Standard Labels'!$A$7:$AC$500,27)","v":0},{"$f":"VLOOKUP(K531,'Standard Labels'!$A$7:$AC$500,29)","v":0},530]
[{"$f":"VLOOKUP(K532,'Standard Labels'!$A$7:$AC$500,11)","v":0},{"$f":"VLOOKUP(K532,'Standard Labels'!$A$7:$AC$500,13)","v":0},{"$f":"VLOOKUP(K532,'Standard Labels'!$A$7:$AC$500,15)","v":0},{"$f":"VLOOKUP(K532,'Standard Labels'!$A$7:$AC$500,17)","v":0},{"$f":"VLOOKUP(K532,'Standard Labels'!$A$7:$AC$500,19)","v":0},{"$f":"VLOOKUP(K532,'Standard Labels'!$A$7:$AC$500,21)","v":0},{"$f":"VLOOKUP(K532,'Standard Labels'!$A$7:$AC$500,23)","v":0},{"$f":"VLOOKUP(K532,'Standard Labels'!$A$7:$AC$500,25)","v":0},{"$f":"VLOOKUP(K532,'Standard Labels'!$A$7:$AC$500,27)","v":0},{"$f":"VLOOKUP(K532,'Standard Labels'!$A$7:$AC$500,29)","v":0},531]
[{"$f":"VLOOKUP(K533,'Standard Labels'!$A$7:$AC$500,11)","v":0},{"$f":"VLOOKUP(K533,'Standard Labels'!$A$7:$AC$500,13)","v":0},{"$f":"VLOOKUP(K533,'Standard Labels'!$A$7:$AC$500,15)","v":0},{"$f":"VLOOKUP(K533,'Standard Labels'!$A$7:$AC$500,17)","v":0},{"$f":"VLOOKUP(K533,'Standard Labels'!$A$7:$AC$500,19)","v":0},{"$f":"VLOOKUP(K533,'Standard Labels'!$A$7:$AC$500,21)","v":0},{"$f":"VLOOKUP(K533,'Standard Labels'!$A$7:$AC$500,23)","v":0},{"$f":"VLOOKUP(K533,'Standard Labels'!$A$7:$AC$500,25)","v":0},{"$f":"VLOOKUP(K533,'Standard Labels'!$A$7:$AC$500,27)","v":0},{"$f":"VLOOKUP(K533,'Standard Labels'!$A$7:$AC$500,29)","v":0},532]
[{"$f":"VLOOKUP(K534,'Standard Labels'!$A$7:$AC$500,11)","v":0},{"$f":"VLOOKUP(K534,'Standard Labels'!$A$7:$AC$500,13)","v":0},{"$f":"VLOOKUP(K534,'Standard Labels'!$A$7:$AC$500,15)","v":0},{"$f":"VLOOKUP(K534,'Standard Labels'!$A$7:$AC$500,17)","v":0},{"$f":"VLOOKUP(K534,'Standard Labels'!$A$7:$AC$500,19)","v":0},{"$f":"VLOOKUP(K534,'Standard Labels'!$A$7:$AC$500,21)","v":0},{"$f":"VLOOKUP(K534,'Standard Labels'!$A$7:$AC$500,23)","v":0},{"$f":"VLOOKUP(K534,'Standard Labels'!$A$7:$AC$500,25)","v":0},{"$f":"VLOOKUP(K534,'Standard Labels'!$A$7:$AC$500,27)","v":0},{"$f":"VLOOKUP(K534,'Standard Labels'!$A$7:$AC$500,29)","v":0},533]
[{"$f":"VLOOKUP(K535,'Standard Labels'!$A$7:$AC$500,11)","v":0},{"$f":"VLOOKUP(K535,'Standard Labels'!$A$7:$AC$500,13)","v":0},{"$f":"VLOOKUP(K535,'Standard Labels'!$A$7:$AC$500,15)","v":0},{"$f":"VLOOKUP(K535,'Standard Labels'!$A$7:$AC$500,17)","v":0},{"$f":"VLOOKUP(K535,'Standard Labels'!$A$7:$AC$500,19)","v":0},{"$f":"VLOOKUP(K535,'Standard Labels'!$A$7:$AC$500,21)","v":0},{"$f":"VLOOKUP(K535,'Standard Labels'!$A$7:$AC$500,23)","v":0},{"$f":"VLOOKUP(K535,'Standard Labels'!$A$7:$AC$500,25)","v":0},{"$f":"VLOOKUP(K535,'Standard Labels'!$A$7:$AC$500,27)","v":0},{"$f":"VLOOKUP(K535,'Standard Labels'!$A$7:$AC$500,29)","v":0},534]
[{"$f":"VLOOKUP(K536,'Standard Labels'!$A$7:$AC$500,11)","v":0},{"$f":"VLOOKUP(K536,'Standard Labels'!$A$7:$AC$500,13)","v":0},{"$f":"VLOOKUP(K536,'Standard Labels'!$A$7:$AC$500,15)","v":0},{"$f":"VLOOKUP(K536,'Standard Labels'!$A$7:$AC$500,17)","v":0},{"$f":"VLOOKUP(K536,'Standard Labels'!$A$7:$AC$500,19)","v":0},{"$f":"VLOOKUP(K536,'Standard Labels'!$A$7:$AC$500,21)","v":0},{"$f":"VLOOKUP(K536,'Standard Labels'!$A$7:$AC$500,23)","v":0},{"$f":"VLOOKUP(K536,'Standard Labels'!$A$7:$AC$500,25)","v":0},{"$f":"VLOOKUP(K536,'Standard Labels'!$A$7:$AC$500,27)","v":0},{"$f":"VLOOKUP(K536,'Standard Labels'!$A$7:$AC$500,29)","v":0},535]
[{"$f":"VLOOKUP(K537,'Standard Labels'!$A$7:$AC$500,11)","v":0},{"$f":"VLOOKUP(K537,'Standard Labels'!$A$7:$AC$500,13)","v":0},{"$f":"VLOOKUP(K537,'Standard Labels'!$A$7:$AC$500,15)","v":0},{"$f":"VLOOKUP(K537,'Standard Labels'!$A$7:$AC$500,17)","v":0},{"$f":"VLOOKUP(K537,'Standard Labels'!$A$7:$AC$500,19)","v":0},{"$f":"VLOOKUP(K537,'Standard Labels'!$A$7:$AC$500,21)","v":0},{"$f":"VLOOKUP(K537,'Standard Labels'!$A$7:$AC$500,23)","v":0},{"$f":"VLOOKUP(K537,'Standard Labels'!$A$7:$AC$500,25)","v":0},{"$f":"VLOOKUP(K537,'Standard Labels'!$A$7:$AC$500,27)","v":0},{"$f":"VLOOKUP(K537,'Standard Labels'!$A$7:$AC$500,29)","v":0},536]
[{"$f":"VLOOKUP(K538,'Standard Labels'!$A$7:$AC$500,11)","v":0},{"$f":"VLOOKUP(K538,'Standard Labels'!$A$7:$AC$500,13)","v":0},{"$f":"VLOOKUP(K538,'Standard Labels'!$A$7:$AC$500,15)","v":0},{"$f":"VLOOKUP(K538,'Standard Labels'!$A$7:$AC$500,17)","v":0},{"$f":"VLOOKUP(K538,'Standard Labels'!$A$7:$AC$500,19)","v":0},{"$f":"VLOOKUP(K538,'Standard Labels'!$A$7:$AC$500,21)","v":0},{"$f":"VLOOKUP(K538,'Standard Labels'!$A$7:$AC$500,23)","v":0},{"$f":"VLOOKUP(K538,'Standard Labels'!$A$7:$AC$500,25)","v":0},{"$f":"VLOOKUP(K538,'Standard Labels'!$A$7:$AC$500,27)","v":0},{"$f":"VLOOKUP(K538,'Standard Labels'!$A$7:$AC$500,29)","v":0},537]
[{"$f":"VLOOKUP(K539,'Standard Labels'!$A$7:$AC$500,11)","v":0},{"$f":"VLOOKUP(K539,'Standard Labels'!$A$7:$AC$500,13)","v":0},{"$f":"VLOOKUP(K539,'Standard Labels'!$A$7:$AC$500,15)","v":0},{"$f":"VLOOKUP(K539,'Standard Labels'!$A$7:$AC$500,17)","v":0},{"$f":"VLOOKUP(K539,'Standard Labels'!$A$7:$AC$500,19)","v":0},{"$f":"VLOOKUP(K539,'Standard Labels'!$A$7:$AC$500,21)","v":0},{"$f":"VLOOKUP(K539,'Standard Labels'!$A$7:$AC$500,23)","v":0},{"$f":"VLOOKUP(K539,'Standard Labels'!$A$7:$AC$500,25)","v":0},{"$f":"VLOOKUP(K539,'Standard Labels'!$A$7:$AC$500,27)","v":0},{"$f":"VLOOKUP(K539,'Standard Labels'!$A$7:$AC$500,29)","v":0},538]
[{"$f":"VLOOKUP(K540,'Standard Labels'!$A$7:$AC$500,11)","v":0},{"$f":"VLOOKUP(K540,'Standard Labels'!$A$7:$AC$500,13)","v":0},{"$f":"VLOOKUP(K540,'Standard Labels'!$A$7:$AC$500,15)","v":0},{"$f":"VLOOKUP(K540,'Standard Labels'!$A$7:$AC$500,17)","v":0},{"$f":"VLOOKUP(K540,'Standard Labels'!$A$7:$AC$500,19)","v":0},{"$f":"VLOOKUP(K540,'Standard Labels'!$A$7:$AC$500,21)","v":0},{"$f":"VLOOKUP(K540,'Standard Labels'!$A$7:$AC$500,23)","v":0},{"$f":"VLOOKUP(K540,'Standard Labels'!$A$7:$AC$500,25)","v":0},{"$f":"VLOOKUP(K540,'Standard Labels'!$A$7:$AC$500,27)","v":0},{"$f":"VLOOKUP(K540,'Standard Labels'!$A$7:$AC$500,29)","v":0},539]
[{"$f":"VLOOKUP(K541,'Standard Labels'!$A$7:$AC$500,11)","v":0},{"$f":"VLOOKUP(K541,'Standard Labels'!$A$7:$AC$500,13)","v":0},{"$f":"VLOOKUP(K541,'Standard Labels'!$A$7:$AC$500,15)","v":0},{"$f":"VLOOKUP(K541,'Standard Labels'!$A$7:$AC$500,17)","v":0},{"$f":"VLOOKUP(K541,'Standard Labels'!$A$7:$AC$500,19)","v":0},{"$f":"VLOOKUP(K541,'Standard Labels'!$A$7:$AC$500,21)","v":0},{"$f":"VLOOKUP(K541,'Standard Labels'!$A$7:$AC$500,23)","v":0},{"$f":"VLOOKUP(K541,'Standard Labels'!$A$7:$AC$500,25)","v":0},{"$f":"VLOOKUP(K541,'Standard Labels'!$A$7:$AC$500,27)","v":0},{"$f":"VLOOKUP(K541,'Standard Labels'!$A$7:$AC$500,29)","v":0},540]
[{"$f":"VLOOKUP(K542,'Standard Labels'!$A$7:$AC$500,11)","v":0},{"$f":"VLOOKUP(K542,'Standard Labels'!$A$7:$AC$500,13)","v":0},{"$f":"VLOOKUP(K542,'Standard Labels'!$A$7:$AC$500,15)","v":0},{"$f":"VLOOKUP(K542,'Standard Labels'!$A$7:$AC$500,17)","v":0},{"$f":"VLOOKUP(K542,'Standard Labels'!$A$7:$AC$500,19)","v":0},{"$f":"VLOOKUP(K542,'Standard Labels'!$A$7:$AC$500,21)","v":0},{"$f":"VLOOKUP(K542,'Standard Labels'!$A$7:$AC$500,23)","v":0},{"$f":"VLOOKUP(K542,'Standard Labels'!$A$7:$AC$500,25)","v":0},{"$f":"VLOOKUP(K542,'Standard Labels'!$A$7:$AC$500,27)","v":0},{"$f":"VLOOKUP(K542,'Standard Labels'!$A$7:$AC$500,29)","v":0},541]
[{"$f":"VLOOKUP(K543,'Standard Labels'!$A$7:$AC$500,11)","v":0},{"$f":"VLOOKUP(K543,'Standard Labels'!$A$7:$AC$500,13)","v":0},{"$f":"VLOOKUP(K543,'Standard Labels'!$A$7:$AC$500,15)","v":0},{"$f":"VLOOKUP(K543,'Standard Labels'!$A$7:$AC$500,17)","v":0},{"$f":"VLOOKUP(K543,'Standard Labels'!$A$7:$AC$500,19)","v":0},{"$f":"VLOOKUP(K543,'Standard Labels'!$A$7:$AC$500,21)","v":0},{"$f":"VLOOKUP(K543,'Standard Labels'!$A$7:$AC$500,23)","v":0},{"$f":"VLOOKUP(K543,'Standard Labels'!$A$7:$AC$500,25)","v":0},{"$f":"VLOOKUP(K543,'Standard Labels'!$A$7:$AC$500,27)","v":0},{"$f":"VLOOKUP(K543,'Standard Labels'!$A$7:$AC$500,29)","v":0},542]
[{"$f":"VLOOKUP(K544,'Standard Labels'!$A$7:$AC$500,11)","v":0},{"$f":"VLOOKUP(K544,'Standard Labels'!$A$7:$AC$500,13)","v":0},{"$f":"VLOOKUP(K544,'Standard Labels'!$A$7:$AC$500,15)","v":0},{"$f":"VLOOKUP(K544,'Standard Labels'!$A$7:$AC$500,17)","v":0},{"$f":"VLOOKUP(K544,'Standard Labels'!$A$7:$AC$500,19)","v":0},{"$f":"VLOOKUP(K544,'Standard Labels'!$A$7:$AC$500,21)","v":0},{"$f":"VLOOKUP(K544,'Standard Labels'!$A$7:$AC$500,23)","v":0},{"$f":"VLOOKUP(K544,'Standard Labels'!$A$7:$AC$500,25)","v":0},{"$f":"VLOOKUP(K544,'Standard Labels'!$A$7:$AC$500,27)","v":0},{"$f":"VLOOKUP(K544,'Standard Labels'!$A$7:$AC$500,29)","v":0},543]
[{"$f":"VLOOKUP(K545,'Standard Labels'!$A$7:$AC$500,11)","v":0},{"$f":"VLOOKUP(K545,'Standard Labels'!$A$7:$AC$500,13)","v":0},{"$f":"VLOOKUP(K545,'Standard Labels'!$A$7:$AC$500,15)","v":0},{"$f":"VLOOKUP(K545,'Standard Labels'!$A$7:$AC$500,17)","v":0},{"$f":"VLOOKUP(K545,'Standard Labels'!$A$7:$AC$500,19)","v":0},{"$f":"VLOOKUP(K545,'Standard Labels'!$A$7:$AC$500,21)","v":0},{"$f":"VLOOKUP(K545,'Standard Labels'!$A$7:$AC$500,23)","v":0},{"$f":"VLOOKUP(K545,'Standard Labels'!$A$7:$AC$500,25)","v":0},{"$f":"VLOOKUP(K545,'Standard Labels'!$A$7:$AC$500,27)","v":0},{"$f":"VLOOKUP(K545,'Standard Labels'!$A$7:$AC$500,29)","v":0},544]
[{"$f":"VLOOKUP(K546,'Standard Labels'!$A$7:$AC$500,11)","v":0},{"$f":"VLOOKUP(K546,'Standard Labels'!$A$7:$AC$500,13)","v":0},{"$f":"VLOOKUP(K546,'Standard Labels'!$A$7:$AC$500,15)","v":0},{"$f":"VLOOKUP(K546,'Standard Labels'!$A$7:$AC$500,17)","v":0},{"$f":"VLOOKUP(K546,'Standard Labels'!$A$7:$AC$500,19)","v":0},{"$f":"VLOOKUP(K546,'Standard Labels'!$A$7:$AC$500,21)","v":0},{"$f":"VLOOKUP(K546,'Standard Labels'!$A$7:$AC$500,23)","v":0},{"$f":"VLOOKUP(K546,'Standard Labels'!$A$7:$AC$500,25)","v":0},{"$f":"VLOOKUP(K546,'Standard Labels'!$A$7:$AC$500,27)","v":0},{"$f":"VLOOKUP(K546,'Standard Labels'!$A$7:$AC$500,29)","v":0},545]
[{"$f":"VLOOKUP(K547,'Standard Labels'!$A$7:$AC$500,11)","v":0},{"$f":"VLOOKUP(K547,'Standard Labels'!$A$7:$AC$500,13)","v":0},{"$f":"VLOOKUP(K547,'Standard Labels'!$A$7:$AC$500,15)","v":0},{"$f":"VLOOKUP(K547,'Standard Labels'!$A$7:$AC$500,17)","v":0},{"$f":"VLOOKUP(K547,'Standard Labels'!$A$7:$AC$500,19)","v":0},{"$f":"VLOOKUP(K547,'Standard Labels'!$A$7:$AC$500,21)","v":0},{"$f":"VLOOKUP(K547,'Standard Labels'!$A$7:$AC$500,23)","v":0},{"$f":"VLOOKUP(K547,'Standard Labels'!$A$7:$AC$500,25)","v":0},{"$f":"VLOOKUP(K547,'Standard Labels'!$A$7:$AC$500,27)","v":0},{"$f":"VLOOKUP(K547,'Standard Labels'!$A$7:$AC$500,29)","v":0},546]
[{"$f":"VLOOKUP(K548,'Standard Labels'!$A$7:$AC$500,11)","v":0},{"$f":"VLOOKUP(K548,'Standard Labels'!$A$7:$AC$500,13)","v":0},{"$f":"VLOOKUP(K548,'Standard Labels'!$A$7:$AC$500,15)","v":0},{"$f":"VLOOKUP(K548,'Standard Labels'!$A$7:$AC$500,17)","v":0},{"$f":"VLOOKUP(K548,'Standard Labels'!$A$7:$AC$500,19)","v":0},{"$f":"VLOOKUP(K548,'Standard Labels'!$A$7:$AC$500,21)","v":0},{"$f":"VLOOKUP(K548,'Standard Labels'!$A$7:$AC$500,23)","v":0},{"$f":"VLOOKUP(K548,'Standard Labels'!$A$7:$AC$500,25)","v":0},{"$f":"VLOOKUP(K548,'Standard Labels'!$A$7:$AC$500,27)","v":0},{"$f":"VLOOKUP(K548,'Standard Labels'!$A$7:$AC$500,29)","v":0},547]
[{"$f":"VLOOKUP(K549,'Standard Labels'!$A$7:$AC$500,11)","v":0},{"$f":"VLOOKUP(K549,'Standard Labels'!$A$7:$AC$500,13)","v":0},{"$f":"VLOOKUP(K549,'Standard Labels'!$A$7:$AC$500,15)","v":0},{"$f":"VLOOKUP(K549,'Standard Labels'!$A$7:$AC$500,17)","v":0},{"$f":"VLOOKUP(K549,'Standard Labels'!$A$7:$AC$500,19)","v":0},{"$f":"VLOOKUP(K549,'Standard Labels'!$A$7:$AC$500,21)","v":0},{"$f":"VLOOKUP(K549,'Standard Labels'!$A$7:$AC$500,23)","v":0},{"$f":"VLOOKUP(K549,'Standard Labels'!$A$7:$AC$500,25)","v":0},{"$f":"VLOOKUP(K549,'Standard Labels'!$A$7:$AC$500,27)","v":0},{"$f":"VLOOKUP(K549,'Standard Labels'!$A$7:$AC$500,29)","v":0},548]
[{"$f":"VLOOKUP(K550,'Standard Labels'!$A$7:$AC$500,11)","v":0},{"$f":"VLOOKUP(K550,'Standard Labels'!$A$7:$AC$500,13)","v":0},{"$f":"VLOOKUP(K550,'Standard Labels'!$A$7:$AC$500,15)","v":0},{"$f":"VLOOKUP(K550,'Standard Labels'!$A$7:$AC$500,17)","v":0},{"$f":"VLOOKUP(K550,'Standard Labels'!$A$7:$AC$500,19)","v":0},{"$f":"VLOOKUP(K550,'Standard Labels'!$A$7:$AC$500,21)","v":0},{"$f":"VLOOKUP(K550,'Standard Labels'!$A$7:$AC$500,23)","v":0},{"$f":"VLOOKUP(K550,'Standard Labels'!$A$7:$AC$500,25)","v":0},{"$f":"VLOOKUP(K550,'Standard Labels'!$A$7:$AC$500,27)","v":0},{"$f":"VLOOKUP(K550,'Standard Labels'!$A$7:$AC$500,29)","v":0},549]
[{"$f":"VLOOKUP(K551,'Standard Labels'!$A$7:$AC$500,11)","v":0},{"$f":"VLOOKUP(K551,'Standard Labels'!$A$7:$AC$500,13)","v":0},{"$f":"VLOOKUP(K551,'Standard Labels'!$A$7:$AC$500,15)","v":0},{"$f":"VLOOKUP(K551,'Standard Labels'!$A$7:$AC$500,17)","v":0},{"$f":"VLOOKUP(K551,'Standard Labels'!$A$7:$AC$500,19)","v":0},{"$f":"VLOOKUP(K551,'Standard Labels'!$A$7:$AC$500,21)","v":0},{"$f":"VLOOKUP(K551,'Standard Labels'!$A$7:$AC$500,23)","v":0},{"$f":"VLOOKUP(K551,'Standard Labels'!$A$7:$AC$500,25)","v":0},{"$f":"VLOOKUP(K551,'Standard Labels'!$A$7:$AC$500,27)","v":0},{"$f":"VLOOKUP(K551,'Standard Labels'!$A$7:$AC$500,29)","v":0},550]
[{"$f":"VLOOKUP(K552,'Standard Labels'!$A$7:$AC$500,11)","v":0},{"$f":"VLOOKUP(K552,'Standard Labels'!$A$7:$AC$500,13)","v":0},{"$f":"VLOOKUP(K552,'Standard Labels'!$A$7:$AC$500,15)","v":0},{"$f":"VLOOKUP(K552,'Standard Labels'!$A$7:$AC$500,17)","v":0},{"$f":"VLOOKUP(K552,'Standard Labels'!$A$7:$AC$500,19)","v":0},{"$f":"VLOOKUP(K552,'Standard Labels'!$A$7:$AC$500,21)","v":0},{"$f":"VLOOKUP(K552,'Standard Labels'!$A$7:$AC$500,23)","v":0},{"$f":"VLOOKUP(K552,'Standard Labels'!$A$7:$AC$500,25)","v":0},{"$f":"VLOOKUP(K552,'Standard Labels'!$A$7:$AC$500,27)","v":0},{"$f":"VLOOKUP(K552,'Standard Labels'!$A$7:$AC$500,29)","v":0},551]
[{"$f":"VLOOKUP(K553,'Standard Labels'!$A$7:$AC$500,11)","v":0},{"$f":"VLOOKUP(K553,'Standard Labels'!$A$7:$AC$500,13)","v":0},{"$f":"VLOOKUP(K553,'Standard Labels'!$A$7:$AC$500,15)","v":0},{"$f":"VLOOKUP(K553,'Standard Labels'!$A$7:$AC$500,17)","v":0},{"$f":"VLOOKUP(K553,'Standard Labels'!$A$7:$AC$500,19)","v":0},{"$f":"VLOOKUP(K553,'Standard Labels'!$A$7:$AC$500,21)","v":0},{"$f":"VLOOKUP(K553,'Standard Labels'!$A$7:$AC$500,23)","v":0},{"$f":"VLOOKUP(K553,'Standard Labels'!$A$7:$AC$500,25)","v":0},{"$f":"VLOOKUP(K553,'Standard Labels'!$A$7:$AC$500,27)","v":0},{"$f":"VLOOKUP(K553,'Standard Labels'!$A$7:$AC$500,29)","v":0},552]
[{"$f":"VLOOKUP(K554,'Standard Labels'!$A$7:$AC$500,11)","v":0},{"$f":"VLOOKUP(K554,'Standard Labels'!$A$7:$AC$500,13)","v":0},{"$f":"VLOOKUP(K554,'Standard Labels'!$A$7:$AC$500,15)","v":0},{"$f":"VLOOKUP(K554,'Standard Labels'!$A$7:$AC$500,17)","v":0},{"$f":"VLOOKUP(K554,'Standard Labels'!$A$7:$AC$500,19)","v":0},{"$f":"VLOOKUP(K554,'Standard Labels'!$A$7:$AC$500,21)","v":0},{"$f":"VLOOKUP(K554,'Standard Labels'!$A$7:$AC$500,23)","v":0},{"$f":"VLOOKUP(K554,'Standard Labels'!$A$7:$AC$500,25)","v":0},{"$f":"VLOOKUP(K554,'Standard Labels'!$A$7:$AC$500,27)","v":0},{"$f":"VLOOKUP(K554,'Standard Labels'!$A$7:$AC$500,29)","v":0},553]
[{"$f":"VLOOKUP(K555,'Standard Labels'!$A$7:$AC$500,11)","v":0},{"$f":"VLOOKUP(K555,'Standard Labels'!$A$7:$AC$500,13)","v":0},{"$f":"VLOOKUP(K555,'Standard Labels'!$A$7:$AC$500,15)","v":0},{"$f":"VLOOKUP(K555,'Standard Labels'!$A$7:$AC$500,17)","v":0},{"$f":"VLOOKUP(K555,'Standard Labels'!$A$7:$AC$500,19)","v":0},{"$f":"VLOOKUP(K555,'Standard Labels'!$A$7:$AC$500,21)","v":0},{"$f":"VLOOKUP(K555,'Standard Labels'!$A$7:$AC$500,23)","v":0},{"$f":"VLOOKUP(K555,'Standard Labels'!$A$7:$AC$500,25)","v":0},{"$f":"VLOOKUP(K555,'Standard Labels'!$A$7:$AC$500,27)","v":0},{"$f":"VLOOKUP(K555,'Standard Labels'!$A$7:$AC$500,29)","v":0},554]
[{"$f":"VLOOKUP(K556,'Standard Labels'!$A$7:$AC$500,11)","v":0},{"$f":"VLOOKUP(K556,'Standard Labels'!$A$7:$AC$500,13)","v":0},{"$f":"VLOOKUP(K556,'Standard Labels'!$A$7:$AC$500,15)","v":0},{"$f":"VLOOKUP(K556,'Standard Labels'!$A$7:$AC$500,17)","v":0},{"$f":"VLOOKUP(K556,'Standard Labels'!$A$7:$AC$500,19)","v":0},{"$f":"VLOOKUP(K556,'Standard Labels'!$A$7:$AC$500,21)","v":0},{"$f":"VLOOKUP(K556,'Standard Labels'!$A$7:$AC$500,23)","v":0},{"$f":"VLOOKUP(K556,'Standard Labels'!$A$7:$AC$500,25)","v":0},{"$f":"VLOOKUP(K556,'Standard Labels'!$A$7:$AC$500,27)","v":0},{"$f":"VLOOKUP(K556,'Standard Labels'!$A$7:$AC$500,29)","v":0},555]
[{"$f":"VLOOKUP(K557,'Standard Labels'!$A$7:$AC$500,11)","v":0},{"$f":"VLOOKUP(K557,'Standard Labels'!$A$7:$AC$500,13)","v":0},{"$f":"VLOOKUP(K557,'Standard Labels'!$A$7:$AC$500,15)","v":0},{"$f":"VLOOKUP(K557,'Standard Labels'!$A$7:$AC$500,17)","v":0},{"$f":"VLOOKUP(K557,'Standard Labels'!$A$7:$AC$500,19)","v":0},{"$f":"VLOOKUP(K557,'Standard Labels'!$A$7:$AC$500,21)","v":0},{"$f":"VLOOKUP(K557,'Standard Labels'!$A$7:$AC$500,23)","v":0},{"$f":"VLOOKUP(K557,'Standard Labels'!$A$7:$AC$500,25)","v":0},{"$f":"VLOOKUP(K557,'Standard Labels'!$A$7:$AC$500,27)","v":0},{"$f":"VLOOKUP(K557,'Standard Labels'!$A$7:$AC$500,29)","v":0},556]
[{"$f":"VLOOKUP(K558,'Standard Labels'!$A$7:$AC$500,11)","v":0},{"$f":"VLOOKUP(K558,'Standard Labels'!$A$7:$AC$500,13)","v":0},{"$f":"VLOOKUP(K558,'Standard Labels'!$A$7:$AC$500,15)","v":0},{"$f":"VLOOKUP(K558,'Standard Labels'!$A$7:$AC$500,17)","v":0},{"$f":"VLOOKUP(K558,'Standard Labels'!$A$7:$AC$500,19)","v":0},{"$f":"VLOOKUP(K558,'Standard Labels'!$A$7:$AC$500,21)","v":0},{"$f":"VLOOKUP(K558,'Standard Labels'!$A$7:$AC$500,23)","v":0},{"$f":"VLOOKUP(K558,'Standard Labels'!$A$7:$AC$500,25)","v":0},{"$f":"VLOOKUP(K558,'Standard Labels'!$A$7:$AC$500,27)","v":0},{"$f":"VLOOKUP(K558,'Standard Labels'!$A$7:$AC$500,29)","v":0},557]
[{"$f":"VLOOKUP(K559,'Standard Labels'!$A$7:$AC$500,11)","v":0},{"$f":"VLOOKUP(K559,'Standard Labels'!$A$7:$AC$500,13)","v":0},{"$f":"VLOOKUP(K559,'Standard Labels'!$A$7:$AC$500,15)","v":0},{"$f":"VLOOKUP(K559,'Standard Labels'!$A$7:$AC$500,17)","v":0},{"$f":"VLOOKUP(K559,'Standard Labels'!$A$7:$AC$500,19)","v":0},{"$f":"VLOOKUP(K559,'Standard Labels'!$A$7:$AC$500,21)","v":0},{"$f":"VLOOKUP(K559,'Standard Labels'!$A$7:$AC$500,23)","v":0},{"$f":"VLOOKUP(K559,'Standard Labels'!$A$7:$AC$500,25)","v":0},{"$f":"VLOOKUP(K559,'Standard Labels'!$A$7:$AC$500,27)","v":0},{"$f":"VLOOKUP(K559,'Standard Labels'!$A$7:$AC$500,29)","v":0},558]
[{"$f":"VLOOKUP(K560,'Standard Labels'!$A$7:$AC$500,11)","v":0},{"$f":"VLOOKUP(K560,'Standard Labels'!$A$7:$AC$500,13)","v":0},{"$f":"VLOOKUP(K560,'Standard Labels'!$A$7:$AC$500,15)","v":0},{"$f":"VLOOKUP(K560,'Standard Labels'!$A$7:$AC$500,17)","v":0},{"$f":"VLOOKUP(K560,'Standard Labels'!$A$7:$AC$500,19)","v":0},{"$f":"VLOOKUP(K560,'Standard Labels'!$A$7:$AC$500,21)","v":0},{"$f":"VLOOKUP(K560,'Standard Labels'!$A$7:$AC$500,23)","v":0},{"$f":"VLOOKUP(K560,'Standard Labels'!$A$7:$AC$500,25)","v":0},{"$f":"VLOOKUP(K560,'Standard Labels'!$A$7:$AC$500,27)","v":0},{"$f":"VLOOKUP(K560,'Standard Labels'!$A$7:$AC$500,29)","v":0},559]
[{"$f":"VLOOKUP(K561,'Standard Labels'!$A$7:$AC$500,11)","v":0},{"$f":"VLOOKUP(K561,'Standard Labels'!$A$7:$AC$500,13)","v":0},{"$f":"VLOOKUP(K561,'Standard Labels'!$A$7:$AC$500,15)","v":0},{"$f":"VLOOKUP(K561,'Standard Labels'!$A$7:$AC$500,17)","v":0},{"$f":"VLOOKUP(K561,'Standard Labels'!$A$7:$AC$500,19)","v":0},{"$f":"VLOOKUP(K561,'Standard Labels'!$A$7:$AC$500,21)","v":0},{"$f":"VLOOKUP(K561,'Standard Labels'!$A$7:$AC$500,23)","v":0},{"$f":"VLOOKUP(K561,'Standard Labels'!$A$7:$AC$500,25)","v":0},{"$f":"VLOOKUP(K561,'Standard Labels'!$A$7:$AC$500,27)","v":0},{"$f":"VLOOKUP(K561,'Standard Labels'!$A$7:$AC$500,29)","v":0},560]
[{"$f":"VLOOKUP(K562,'Standard Labels'!$A$7:$AC$500,11)","v":0},{"$f":"VLOOKUP(K562,'Standard Labels'!$A$7:$AC$500,13)","v":0},{"$f":"VLOOKUP(K562,'Standard Labels'!$A$7:$AC$500,15)","v":0},{"$f":"VLOOKUP(K562,'Standard Labels'!$A$7:$AC$500,17)","v":0},{"$f":"VLOOKUP(K562,'Standard Labels'!$A$7:$AC$500,19)","v":0},{"$f":"VLOOKUP(K562,'Standard Labels'!$A$7:$AC$500,21)","v":0},{"$f":"VLOOKUP(K562,'Standard Labels'!$A$7:$AC$500,23)","v":0},{"$f":"VLOOKUP(K562,'Standard Labels'!$A$7:$AC$500,25)","v":0},{"$f":"VLOOKUP(K562,'Standard Labels'!$A$7:$AC$500,27)","v":0},{"$f":"VLOOKUP(K562,'Standard Labels'!$A$7:$AC$500,29)","v":0},561]
[{"$f":"VLOOKUP(K563,'Standard Labels'!$A$7:$AC$500,11)","v":0},{"$f":"VLOOKUP(K563,'Standard Labels'!$A$7:$AC$500,13)","v":0},{"$f":"VLOOKUP(K563,'Standard Labels'!$A$7:$AC$500,15)","v":0},{"$f":"VLOOKUP(K563,'Standard Labels'!$A$7:$AC$500,17)","v":0},{"$f":"VLOOKUP(K563,'Standard Labels'!$A$7:$AC$500,19)","v":0},{"$f":"VLOOKUP(K563,'Standard Labels'!$A$7:$AC$500,21)","v":0},{"$f":"VLOOKUP(K563,'Standard Labels'!$A$7:$AC$500,23)","v":0},{"$f":"VLOOKUP(K563,'Standard Labels'!$A$7:$AC$500,25)","v":0},{"$f":"VLOOKUP(K563,'Standard Labels'!$A$7:$AC$500,27)","v":0},{"$f":"VLOOKUP(K563,'Standard Labels'!$A$7:$AC$500,29)","v":0},562]
[{"$f":"VLOOKUP(K564,'Standard Labels'!$A$7:$AC$500,11)","v":0},{"$f":"VLOOKUP(K564,'Standard Labels'!$A$7:$AC$500,13)","v":0},{"$f":"VLOOKUP(K564,'Standard Labels'!$A$7:$AC$500,15)","v":0},{"$f":"VLOOKUP(K564,'Standard Labels'!$A$7:$AC$500,17)","v":0},{"$f":"VLOOKUP(K564,'Standard Labels'!$A$7:$AC$500,19)","v":0},{"$f":"VLOOKUP(K564,'Standard Labels'!$A$7:$AC$500,21)","v":0},{"$f":"VLOOKUP(K564,'Standard Labels'!$A$7:$AC$500,23)","v":0},{"$f":"VLOOKUP(K564,'Standard Labels'!$A$7:$AC$500,25)","v":0},{"$f":"VLOOKUP(K564,'Standard Labels'!$A$7:$AC$500,27)","v":0},{"$f":"VLOOKUP(K564,'Standard Labels'!$A$7:$AC$500,29)","v":0},563]
[{"$f":"VLOOKUP(K565,'Standard Labels'!$A$7:$AC$500,11)","v":0},{"$f":"VLOOKUP(K565,'Standard Labels'!$A$7:$AC$500,13)","v":0},{"$f":"VLOOKUP(K565,'Standard Labels'!$A$7:$AC$500,15)","v":0},{"$f":"VLOOKUP(K565,'Standard Labels'!$A$7:$AC$500,17)","v":0},{"$f":"VLOOKUP(K565,'Standard Labels'!$A$7:$AC$500,19)","v":0},{"$f":"VLOOKUP(K565,'Standard Labels'!$A$7:$AC$500,21)","v":0},{"$f":"VLOOKUP(K565,'Standard Labels'!$A$7:$AC$500,23)","v":0},{"$f":"VLOOKUP(K565,'Standard Labels'!$A$7:$AC$500,25)","v":0},{"$f":"VLOOKUP(K565,'Standard Labels'!$A$7:$AC$500,27)","v":0},{"$f":"VLOOKUP(K565,'Standard Labels'!$A$7:$AC$500,29)","v":0},564]
[{"$f":"VLOOKUP(K566,'Standard Labels'!$A$7:$AC$500,11)","v":0},{"$f":"VLOOKUP(K566,'Standard Labels'!$A$7:$AC$500,13)","v":0},{"$f":"VLOOKUP(K566,'Standard Labels'!$A$7:$AC$500,15)","v":0},{"$f":"VLOOKUP(K566,'Standard Labels'!$A$7:$AC$500,17)","v":0},{"$f":"VLOOKUP(K566,'Standard Labels'!$A$7:$AC$500,19)","v":0},{"$f":"VLOOKUP(K566,'Standard Labels'!$A$7:$AC$500,21)","v":0},{"$f":"VLOOKUP(K566,'Standard Labels'!$A$7:$AC$500,23)","v":0},{"$f":"VLOOKUP(K566,'Standard Labels'!$A$7:$AC$500,25)","v":0},{"$f":"VLOOKUP(K566,'Standard Labels'!$A$7:$AC$500,27)","v":0},{"$f":"VLOOKUP(K566,'Standard Labels'!$A$7:$AC$500,29)","v":0},565]
[{"$f":"VLOOKUP(K567,'Standard Labels'!$A$7:$AC$500,11)","v":0},{"$f":"VLOOKUP(K567,'Standard Labels'!$A$7:$AC$500,13)","v":0},{"$f":"VLOOKUP(K567,'Standard Labels'!$A$7:$AC$500,15)","v":0},{"$f":"VLOOKUP(K567,'Standard Labels'!$A$7:$AC$500,17)","v":0},{"$f":"VLOOKUP(K567,'Standard Labels'!$A$7:$AC$500,19)","v":0},{"$f":"VLOOKUP(K567,'Standard Labels'!$A$7:$AC$500,21)","v":0},{"$f":"VLOOKUP(K567,'Standard Labels'!$A$7:$AC$500,23)","v":0},{"$f":"VLOOKUP(K567,'Standard Labels'!$A$7:$AC$500,25)","v":0},{"$f":"VLOOKUP(K567,'Standard Labels'!$A$7:$AC$500,27)","v":0},{"$f":"VLOOKUP(K567,'Standard Labels'!$A$7:$AC$500,29)","v":0},566]
[{"$f":"VLOOKUP(K568,'Standard Labels'!$A$7:$AC$500,11)","v":0},{"$f":"VLOOKUP(K568,'Standard Labels'!$A$7:$AC$500,13)","v":0},{"$f":"VLOOKUP(K568,'Standard Labels'!$A$7:$AC$500,15)","v":0},{"$f":"VLOOKUP(K568,'Standard Labels'!$A$7:$AC$500,17)","v":0},{"$f":"VLOOKUP(K568,'Standard Labels'!$A$7:$AC$500,19)","v":0},{"$f":"VLOOKUP(K568,'Standard Labels'!$A$7:$AC$500,21)","v":0},{"$f":"VLOOKUP(K568,'Standard Labels'!$A$7:$AC$500,23)","v":0},{"$f":"VLOOKUP(K568,'Standard Labels'!$A$7:$AC$500,25)","v":0},{"$f":"VLOOKUP(K568,'Standard Labels'!$A$7:$AC$500,27)","v":0},{"$f":"VLOOKUP(K568,'Standard Labels'!$A$7:$AC$500,29)","v":0},567]
[{"$f":"VLOOKUP(K569,'Standard Labels'!$A$7:$AC$500,11)","v":0},{"$f":"VLOOKUP(K569,'Standard Labels'!$A$7:$AC$500,13)","v":0},{"$f":"VLOOKUP(K569,'Standard Labels'!$A$7:$AC$500,15)","v":0},{"$f":"VLOOKUP(K569,'Standard Labels'!$A$7:$AC$500,17)","v":0},{"$f":"VLOOKUP(K569,'Standard Labels'!$A$7:$AC$500,19)","v":0},{"$f":"VLOOKUP(K569,'Standard Labels'!$A$7:$AC$500,21)","v":0},{"$f":"VLOOKUP(K569,'Standard Labels'!$A$7:$AC$500,23)","v":0},{"$f":"VLOOKUP(K569,'Standard Labels'!$A$7:$AC$500,25)","v":0},{"$f":"VLOOKUP(K569,'Standard Labels'!$A$7:$AC$500,27)","v":0},{"$f":"VLOOKUP(K569,'Standard Labels'!$A$7:$AC$500,29)","v":0},568]
[{"$f":"VLOOKUP(K570,'Standard Labels'!$A$7:$AC$500,11)","v":0},{"$f":"VLOOKUP(K570,'Standard Labels'!$A$7:$AC$500,13)","v":0},{"$f":"VLOOKUP(K570,'Standard Labels'!$A$7:$AC$500,15)","v":0},{"$f":"VLOOKUP(K570,'Standard Labels'!$A$7:$AC$500,17)","v":0},{"$f":"VLOOKUP(K570,'Standard Labels'!$A$7:$AC$500,19)","v":0},{"$f":"VLOOKUP(K570,'Standard Labels'!$A$7:$AC$500,21)","v":0},{"$f":"VLOOKUP(K570,'Standard Labels'!$A$7:$AC$500,23)","v":0},{"$f":"VLOOKUP(K570,'Standard Labels'!$A$7:$AC$500,25)","v":0},{"$f":"VLOOKUP(K570,'Standard Labels'!$A$7:$AC$500,27)","v":0},{"$f":"VLOOKUP(K570,'Standard Labels'!$A$7:$AC$500,29)","v":0},569]
[{"$f":"VLOOKUP(K571,'Standard Labels'!$A$7:$AC$500,11)","v":0},{"$f":"VLOOKUP(K571,'Standard Labels'!$A$7:$AC$500,13)","v":0},{"$f":"VLOOKUP(K571,'Standard Labels'!$A$7:$AC$500,15)","v":0},{"$f":"VLOOKUP(K571,'Standard Labels'!$A$7:$AC$500,17)","v":0},{"$f":"VLOOKUP(K571,'Standard Labels'!$A$7:$AC$500,19)","v":0},{"$f":"VLOOKUP(K571,'Standard Labels'!$A$7:$AC$500,21)","v":0},{"$f":"VLOOKUP(K571,'Standard Labels'!$A$7:$AC$500,23)","v":0},{"$f":"VLOOKUP(K571,'Standard Labels'!$A$7:$AC$500,25)","v":0},{"$f":"VLOOKUP(K571,'Standard Labels'!$A$7:$AC$500,27)","v":0},{"$f":"VLOOKUP(K571,'Standard Labels'!$A$7:$AC$500,29)","v":0},570]
[{"$f":"VLOOKUP(K572,'Standard Labels'!$A$7:$AC$500,11)","v":0},{"$f":"VLOOKUP(K572,'Standard Labels'!$A$7:$AC$500,13)","v":0},{"$f":"VLOOKUP(K572,'Standard Labels'!$A$7:$AC$500,15)","v":0},{"$f":"VLOOKUP(K572,'Standard Labels'!$A$7:$AC$500,17)","v":0},{"$f":"VLOOKUP(K572,'Standard Labels'!$A$7:$AC$500,19)","v":0},{"$f":"VLOOKUP(K572,'Standard Labels'!$A$7:$AC$500,21)","v":0},{"$f":"VLOOKUP(K572,'Standard Labels'!$A$7:$AC$500,23)","v":0},{"$f":"VLOOKUP(K572,'Standard Labels'!$A$7:$AC$500,25)","v":0},{"$f":"VLOOKUP(K572,'Standard Labels'!$A$7:$AC$500,27)","v":0},{"$f":"VLOOKUP(K572,'Standard Labels'!$A$7:$AC$500,29)","v":0},571]
[{"$f":"VLOOKUP(K573,'Standard Labels'!$A$7:$AC$500,11)","v":0},{"$f":"VLOOKUP(K573,'Standard Labels'!$A$7:$AC$500,13)","v":0},{"$f":"VLOOKUP(K573,'Standard Labels'!$A$7:$AC$500,15)","v":0},{"$f":"VLOOKUP(K573,'Standard Labels'!$A$7:$AC$500,17)","v":0},{"$f":"VLOOKUP(K573,'Standard Labels'!$A$7:$AC$500,19)","v":0},{"$f":"VLOOKUP(K573,'Standard Labels'!$A$7:$AC$500,21)","v":0},{"$f":"VLOOKUP(K573,'Standard Labels'!$A$7:$AC$500,23)","v":0},{"$f":"VLOOKUP(K573,'Standard Labels'!$A$7:$AC$500,25)","v":0},{"$f":"VLOOKUP(K573,'Standard Labels'!$A$7:$AC$500,27)","v":0},{"$f":"VLOOKUP(K573,'Standard Labels'!$A$7:$AC$500,29)","v":0},572]
[{"$f":"VLOOKUP(K574,'Standard Labels'!$A$7:$AC$500,11)","v":0},{"$f":"VLOOKUP(K574,'Standard Labels'!$A$7:$AC$500,13)","v":0},{"$f":"VLOOKUP(K574,'Standard Labels'!$A$7:$AC$500,15)","v":0},{"$f":"VLOOKUP(K574,'Standard Labels'!$A$7:$AC$500,17)","v":0},{"$f":"VLOOKUP(K574,'Standard Labels'!$A$7:$AC$500,19)","v":0},{"$f":"VLOOKUP(K574,'Standard Labels'!$A$7:$AC$500,21)","v":0},{"$f":"VLOOKUP(K574,'Standard Labels'!$A$7:$AC$500,23)","v":0},{"$f":"VLOOKUP(K574,'Standard Labels'!$A$7:$AC$500,25)","v":0},{"$f":"VLOOKUP(K574,'Standard Labels'!$A$7:$AC$500,27)","v":0},{"$f":"VLOOKUP(K574,'Standard Labels'!$A$7:$AC$500,29)","v":0},573]
[{"$f":"VLOOKUP(K575,'Standard Labels'!$A$7:$AC$500,11)","v":0},{"$f":"VLOOKUP(K575,'Standard Labels'!$A$7:$AC$500,13)","v":0},{"$f":"VLOOKUP(K575,'Standard Labels'!$A$7:$AC$500,15)","v":0},{"$f":"VLOOKUP(K575,'Standard Labels'!$A$7:$AC$500,17)","v":0},{"$f":"VLOOKUP(K575,'Standard Labels'!$A$7:$AC$500,19)","v":0},{"$f":"VLOOKUP(K575,'Standard Labels'!$A$7:$AC$500,21)","v":0},{"$f":"VLOOKUP(K575,'Standard Labels'!$A$7:$AC$500,23)","v":0},{"$f":"VLOOKUP(K575,'Standard Labels'!$A$7:$AC$500,25)","v":0},{"$f":"VLOOKUP(K575,'Standard Labels'!$A$7:$AC$500,27)","v":0},{"$f":"VLOOKUP(K575,'Standard Labels'!$A$7:$AC$500,29)","v":0},574]
[{"$f":"VLOOKUP(K576,'Standard Labels'!$A$7:$AC$500,11)","v":0},{"$f":"VLOOKUP(K576,'Standard Labels'!$A$7:$AC$500,13)","v":0},{"$f":"VLOOKUP(K576,'Standard Labels'!$A$7:$AC$500,15)","v":0},{"$f":"VLOOKUP(K576,'Standard Labels'!$A$7:$AC$500,17)","v":0},{"$f":"VLOOKUP(K576,'Standard Labels'!$A$7:$AC$500,19)","v":0},{"$f":"VLOOKUP(K576,'Standard Labels'!$A$7:$AC$500,21)","v":0},{"$f":"VLOOKUP(K576,'Standard Labels'!$A$7:$AC$500,23)","v":0},{"$f":"VLOOKUP(K576,'Standard Labels'!$A$7:$AC$500,25)","v":0},{"$f":"VLOOKUP(K576,'Standard Labels'!$A$7:$AC$500,27)","v":0},{"$f":"VLOOKUP(K576,'Standard Labels'!$A$7:$AC$500,29)","v":0},575]
[{"$f":"VLOOKUP(K577,'Standard Labels'!$A$7:$AC$500,11)","v":0},{"$f":"VLOOKUP(K577,'Standard Labels'!$A$7:$AC$500,13)","v":0},{"$f":"VLOOKUP(K577,'Standard Labels'!$A$7:$AC$500,15)","v":0},{"$f":"VLOOKUP(K577,'Standard Labels'!$A$7:$AC$500,17)","v":0},{"$f":"VLOOKUP(K577,'Standard Labels'!$A$7:$AC$500,19)","v":0},{"$f":"VLOOKUP(K577,'Standard Labels'!$A$7:$AC$500,21)","v":0},{"$f":"VLOOKUP(K577,'Standard Labels'!$A$7:$AC$500,23)","v":0},{"$f":"VLOOKUP(K577,'Standard Labels'!$A$7:$AC$500,25)","v":0},{"$f":"VLOOKUP(K577,'Standard Labels'!$A$7:$AC$500,27)","v":0},{"$f":"VLOOKUP(K577,'Standard Labels'!$A$7:$AC$500,29)","v":0},576]
[{"$f":"VLOOKUP(K578,'Standard Labels'!$A$7:$AC$500,11)","v":0},{"$f":"VLOOKUP(K578,'Standard Labels'!$A$7:$AC$500,13)","v":0},{"$f":"VLOOKUP(K578,'Standard Labels'!$A$7:$AC$500,15)","v":0},{"$f":"VLOOKUP(K578,'Standard Labels'!$A$7:$AC$500,17)","v":0},{"$f":"VLOOKUP(K578,'Standard Labels'!$A$7:$AC$500,19)","v":0},{"$f":"VLOOKUP(K578,'Standard Labels'!$A$7:$AC$500,21)","v":0},{"$f":"VLOOKUP(K578,'Standard Labels'!$A$7:$AC$500,23)","v":0},{"$f":"VLOOKUP(K578,'Standard Labels'!$A$7:$AC$500,25)","v":0},{"$f":"VLOOKUP(K578,'Standard Labels'!$A$7:$AC$500,27)","v":0},{"$f":"VLOOKUP(K578,'Standard Labels'!$A$7:$AC$500,29)","v":0},577]
[{"$f":"VLOOKUP(K579,'Standard Labels'!$A$7:$AC$500,11)","v":0},{"$f":"VLOOKUP(K579,'Standard Labels'!$A$7:$AC$500,13)","v":0},{"$f":"VLOOKUP(K579,'Standard Labels'!$A$7:$AC$500,15)","v":0},{"$f":"VLOOKUP(K579,'Standard Labels'!$A$7:$AC$500,17)","v":0},{"$f":"VLOOKUP(K579,'Standard Labels'!$A$7:$AC$500,19)","v":0},{"$f":"VLOOKUP(K579,'Standard Labels'!$A$7:$AC$500,21)","v":0},{"$f":"VLOOKUP(K579,'Standard Labels'!$A$7:$AC$500,23)","v":0},{"$f":"VLOOKUP(K579,'Standard Labels'!$A$7:$AC$500,25)","v":0},{"$f":"VLOOKUP(K579,'Standard Labels'!$A$7:$AC$500,27)","v":0},{"$f":"VLOOKUP(K579,'Standard Labels'!$A$7:$AC$500,29)","v":0},578]
[{"$f":"VLOOKUP(K580,'Standard Labels'!$A$7:$AC$500,11)","v":0},{"$f":"VLOOKUP(K580,'Standard Labels'!$A$7:$AC$500,13)","v":0},{"$f":"VLOOKUP(K580,'Standard Labels'!$A$7:$AC$500,15)","v":0},{"$f":"VLOOKUP(K580,'Standard Labels'!$A$7:$AC$500,17)","v":0},{"$f":"VLOOKUP(K580,'Standard Labels'!$A$7:$AC$500,19)","v":0},{"$f":"VLOOKUP(K580,'Standard Labels'!$A$7:$AC$500,21)","v":0},{"$f":"VLOOKUP(K580,'Standard Labels'!$A$7:$AC$500,23)","v":0},{"$f":"VLOOKUP(K580,'Standard Labels'!$A$7:$AC$500,25)","v":0},{"$f":"VLOOKUP(K580,'Standard Labels'!$A$7:$AC$500,27)","v":0},{"$f":"VLOOKUP(K580,'Standard Labels'!$A$7:$AC$500,29)","v":0},579]
[{"$f":"VLOOKUP(K581,'Standard Labels'!$A$7:$AC$500,11)","v":0},{"$f":"VLOOKUP(K581,'Standard Labels'!$A$7:$AC$500,13)","v":0},{"$f":"VLOOKUP(K581,'Standard Labels'!$A$7:$AC$500,15)","v":0},{"$f":"VLOOKUP(K581,'Standard Labels'!$A$7:$AC$500,17)","v":0},{"$f":"VLOOKUP(K581,'Standard Labels'!$A$7:$AC$500,19)","v":0},{"$f":"VLOOKUP(K581,'Standard Labels'!$A$7:$AC$500,21)","v":0},{"$f":"VLOOKUP(K581,'Standard Labels'!$A$7:$AC$500,23)","v":0},{"$f":"VLOOKUP(K581,'Standard Labels'!$A$7:$AC$500,25)","v":0},{"$f":"VLOOKUP(K581,'Standard Labels'!$A$7:$AC$500,27)","v":0},{"$f":"VLOOKUP(K581,'Standard Labels'!$A$7:$AC$500,29)","v":0},580]
[{"$f":"VLOOKUP(K582,'Standard Labels'!$A$7:$AC$500,11)","v":0},{"$f":"VLOOKUP(K582,'Standard Labels'!$A$7:$AC$500,13)","v":0},{"$f":"VLOOKUP(K582,'Standard Labels'!$A$7:$AC$500,15)","v":0},{"$f":"VLOOKUP(K582,'Standard Labels'!$A$7:$AC$500,17)","v":0},{"$f":"VLOOKUP(K582,'Standard Labels'!$A$7:$AC$500,19)","v":0},{"$f":"VLOOKUP(K582,'Standard Labels'!$A$7:$AC$500,21)","v":0},{"$f":"VLOOKUP(K582,'Standard Labels'!$A$7:$AC$500,23)","v":0},{"$f":"VLOOKUP(K582,'Standard Labels'!$A$7:$AC$500,25)","v":0},{"$f":"VLOOKUP(K582,'Standard Labels'!$A$7:$AC$500,27)","v":0},{"$f":"VLOOKUP(K582,'Standard Labels'!$A$7:$AC$500,29)","v":0},581]
[{"$f":"VLOOKUP(K583,'Standard Labels'!$A$7:$AC$500,11)","v":0},{"$f":"VLOOKUP(K583,'Standard Labels'!$A$7:$AC$500,13)","v":0},{"$f":"VLOOKUP(K583,'Standard Labels'!$A$7:$AC$500,15)","v":0},{"$f":"VLOOKUP(K583,'Standard Labels'!$A$7:$AC$500,17)","v":0},{"$f":"VLOOKUP(K583,'Standard Labels'!$A$7:$AC$500,19)","v":0},{"$f":"VLOOKUP(K583,'Standard Labels'!$A$7:$AC$500,21)","v":0},{"$f":"VLOOKUP(K583,'Standard Labels'!$A$7:$AC$500,23)","v":0},{"$f":"VLOOKUP(K583,'Standard Labels'!$A$7:$AC$500,25)","v":0},{"$f":"VLOOKUP(K583,'Standard Labels'!$A$7:$AC$500,27)","v":0},{"$f":"VLOOKUP(K583,'Standard Labels'!$A$7:$AC$500,29)","v":0},582]
[{"$f":"VLOOKUP(K584,'Standard Labels'!$A$7:$AC$500,11)","v":0},{"$f":"VLOOKUP(K584,'Standard Labels'!$A$7:$AC$500,13)","v":0},{"$f":"VLOOKUP(K584,'Standard Labels'!$A$7:$AC$500,15)","v":0},{"$f":"VLOOKUP(K584,'Standard Labels'!$A$7:$AC$500,17)","v":0},{"$f":"VLOOKUP(K584,'Standard Labels'!$A$7:$AC$500,19)","v":0},{"$f":"VLOOKUP(K584,'Standard Labels'!$A$7:$AC$500,21)","v":0},{"$f":"VLOOKUP(K584,'Standard Labels'!$A$7:$AC$500,23)","v":0},{"$f":"VLOOKUP(K584,'Standard Labels'!$A$7:$AC$500,25)","v":0},{"$f":"VLOOKUP(K584,'Standard Labels'!$A$7:$AC$500,27)","v":0},{"$f":"VLOOKUP(K584,'Standard Labels'!$A$7:$AC$500,29)","v":0},583]
[{"$f":"VLOOKUP(K585,'Standard Labels'!$A$7:$AC$500,11)","v":0},{"$f":"VLOOKUP(K585,'Standard Labels'!$A$7:$AC$500,13)","v":0},{"$f":"VLOOKUP(K585,'Standard Labels'!$A$7:$AC$500,15)","v":0},{"$f":"VLOOKUP(K585,'Standard Labels'!$A$7:$AC$500,17)","v":0},{"$f":"VLOOKUP(K585,'Standard Labels'!$A$7:$AC$500,19)","v":0},{"$f":"VLOOKUP(K585,'Standard Labels'!$A$7:$AC$500,21)","v":0},{"$f":"VLOOKUP(K585,'Standard Labels'!$A$7:$AC$500,23)","v":0},{"$f":"VLOOKUP(K585,'Standard Labels'!$A$7:$AC$500,25)","v":0},{"$f":"VLOOKUP(K585,'Standard Labels'!$A$7:$AC$500,27)","v":0},{"$f":"VLOOKUP(K585,'Standard Labels'!$A$7:$AC$500,29)","v":0},584]
[{"$f":"VLOOKUP(K586,'Standard Labels'!$A$7:$AC$500,11)","v":0},{"$f":"VLOOKUP(K586,'Standard Labels'!$A$7:$AC$500,13)","v":0},{"$f":"VLOOKUP(K586,'Standard Labels'!$A$7:$AC$500,15)","v":0},{"$f":"VLOOKUP(K586,'Standard Labels'!$A$7:$AC$500,17)","v":0},{"$f":"VLOOKUP(K586,'Standard Labels'!$A$7:$AC$500,19)","v":0},{"$f":"VLOOKUP(K586,'Standard Labels'!$A$7:$AC$500,21)","v":0},{"$f":"VLOOKUP(K586,'Standard Labels'!$A$7:$AC$500,23)","v":0},{"$f":"VLOOKUP(K586,'Standard Labels'!$A$7:$AC$500,25)","v":0},{"$f":"VLOOKUP(K586,'Standard Labels'!$A$7:$AC$500,27)","v":0},{"$f":"VLOOKUP(K586,'Standard Labels'!$A$7:$AC$500,29)","v":0},585]
[{"$f":"VLOOKUP(K587,'Standard Labels'!$A$7:$AC$500,11)","v":0},{"$f":"VLOOKUP(K587,'Standard Labels'!$A$7:$AC$500,13)","v":0},{"$f":"VLOOKUP(K587,'Standard Labels'!$A$7:$AC$500,15)","v":0},{"$f":"VLOOKUP(K587,'Standard Labels'!$A$7:$AC$500,17)","v":0},{"$f":"VLOOKUP(K587,'Standard Labels'!$A$7:$AC$500,19)","v":0},{"$f":"VLOOKUP(K587,'Standard Labels'!$A$7:$AC$500,21)","v":0},{"$f":"VLOOKUP(K587,'Standard Labels'!$A$7:$AC$500,23)","v":0},{"$f":"VLOOKUP(K587,'Standard Labels'!$A$7:$AC$500,25)","v":0},{"$f":"VLOOKUP(K587,'Standard Labels'!$A$7:$AC$500,27)","v":0},{"$f":"VLOOKUP(K587,'Standard Labels'!$A$7:$AC$500,29)","v":0},586]
[{"$f":"VLOOKUP(K588,'Standard Labels'!$A$7:$AC$500,11)","v":0},{"$f":"VLOOKUP(K588,'Standard Labels'!$A$7:$AC$500,13)","v":0},{"$f":"VLOOKUP(K588,'Standard Labels'!$A$7:$AC$500,15)","v":0},{"$f":"VLOOKUP(K588,'Standard Labels'!$A$7:$AC$500,17)","v":0},{"$f":"VLOOKUP(K588,'Standard Labels'!$A$7:$AC$500,19)","v":0},{"$f":"VLOOKUP(K588,'Standard Labels'!$A$7:$AC$500,21)","v":0},{"$f":"VLOOKUP(K588,'Standard Labels'!$A$7:$AC$500,23)","v":0},{"$f":"VLOOKUP(K588,'Standard Labels'!$A$7:$AC$500,25)","v":0},{"$f":"VLOOKUP(K588,'Standard Labels'!$A$7:$AC$500,27)","v":0},{"$f":"VLOOKUP(K588,'Standard Labels'!$A$7:$AC$500,29)","v":0},587]
[{"$f":"VLOOKUP(K589,'Standard Labels'!$A$7:$AC$500,11)","v":0},{"$f":"VLOOKUP(K589,'Standard Labels'!$A$7:$AC$500,13)","v":0},{"$f":"VLOOKUP(K589,'Standard Labels'!$A$7:$AC$500,15)","v":0},{"$f":"VLOOKUP(K589,'Standard Labels'!$A$7:$AC$500,17)","v":0},{"$f":"VLOOKUP(K589,'Standard Labels'!$A$7:$AC$500,19)","v":0},{"$f":"VLOOKUP(K589,'Standard Labels'!$A$7:$AC$500,21)","v":0},{"$f":"VLOOKUP(K589,'Standard Labels'!$A$7:$AC$500,23)","v":0},{"$f":"VLOOKUP(K589,'Standard Labels'!$A$7:$AC$500,25)","v":0},{"$f":"VLOOKUP(K589,'Standard Labels'!$A$7:$AC$500,27)","v":0},{"$f":"VLOOKUP(K589,'Standard Labels'!$A$7:$AC$500,29)","v":0},588]
[{"$f":"VLOOKUP(K590,'Standard Labels'!$A$7:$AC$500,11)","v":0},{"$f":"VLOOKUP(K590,'Standard Labels'!$A$7:$AC$500,13)","v":0},{"$f":"VLOOKUP(K590,'Standard Labels'!$A$7:$AC$500,15)","v":0},{"$f":"VLOOKUP(K590,'Standard Labels'!$A$7:$AC$500,17)","v":0},{"$f":"VLOOKUP(K590,'Standard Labels'!$A$7:$AC$500,19)","v":0},{"$f":"VLOOKUP(K590,'Standard Labels'!$A$7:$AC$500,21)","v":0},{"$f":"VLOOKUP(K590,'Standard Labels'!$A$7:$AC$500,23)","v":0},{"$f":"VLOOKUP(K590,'Standard Labels'!$A$7:$AC$500,25)","v":0},{"$f":"VLOOKUP(K590,'Standard Labels'!$A$7:$AC$500,27)","v":0},{"$f":"VLOOKUP(K590,'Standard Labels'!$A$7:$AC$500,29)","v":0},589]
[{"$f":"VLOOKUP(K591,'Standard Labels'!$A$7:$AC$500,11)","v":0},{"$f":"VLOOKUP(K591,'Standard Labels'!$A$7:$AC$500,13)","v":0},{"$f":"VLOOKUP(K591,'Standard Labels'!$A$7:$AC$500,15)","v":0},{"$f":"VLOOKUP(K591,'Standard Labels'!$A$7:$AC$500,17)","v":0},{"$f":"VLOOKUP(K591,'Standard Labels'!$A$7:$AC$500,19)","v":0},{"$f":"VLOOKUP(K591,'Standard Labels'!$A$7:$AC$500,21)","v":0},{"$f":"VLOOKUP(K591,'Standard Labels'!$A$7:$AC$500,23)","v":0},{"$f":"VLOOKUP(K591,'Standard Labels'!$A$7:$AC$500,25)","v":0},{"$f":"VLOOKUP(K591,'Standard Labels'!$A$7:$AC$500,27)","v":0},{"$f":"VLOOKUP(K591,'Standard Labels'!$A$7:$AC$500,29)","v":0},590]
[{"$f":"VLOOKUP(K592,'Standard Labels'!$A$7:$AC$500,11)","v":0},{"$f":"VLOOKUP(K592,'Standard Labels'!$A$7:$AC$500,13)","v":0},{"$f":"VLOOKUP(K592,'Standard Labels'!$A$7:$AC$500,15)","v":0},{"$f":"VLOOKUP(K592,'Standard Labels'!$A$7:$AC$500,17)","v":0},{"$f":"VLOOKUP(K592,'Standard Labels'!$A$7:$AC$500,19)","v":0},{"$f":"VLOOKUP(K592,'Standard Labels'!$A$7:$AC$500,21)","v":0},{"$f":"VLOOKUP(K592,'Standard Labels'!$A$7:$AC$500,23)","v":0},{"$f":"VLOOKUP(K592,'Standard Labels'!$A$7:$AC$500,25)","v":0},{"$f":"VLOOKUP(K592,'Standard Labels'!$A$7:$AC$500,27)","v":0},{"$f":"VLOOKUP(K592,'Standard Labels'!$A$7:$AC$500,29)","v":0},591]
[{"$f":"VLOOKUP(K593,'Standard Labels'!$A$7:$AC$500,11)","v":0},{"$f":"VLOOKUP(K593,'Standard Labels'!$A$7:$AC$500,13)","v":0},{"$f":"VLOOKUP(K593,'Standard Labels'!$A$7:$AC$500,15)","v":0},{"$f":"VLOOKUP(K593,'Standard Labels'!$A$7:$AC$500,17)","v":0},{"$f":"VLOOKUP(K593,'Standard Labels'!$A$7:$AC$500,19)","v":0},{"$f":"VLOOKUP(K593,'Standard Labels'!$A$7:$AC$500,21)","v":0},{"$f":"VLOOKUP(K593,'Standard Labels'!$A$7:$AC$500,23)","v":0},{"$f":"VLOOKUP(K593,'Standard Labels'!$A$7:$AC$500,25)","v":0},{"$f":"VLOOKUP(K593,'Standard Labels'!$A$7:$AC$500,27)","v":0},{"$f":"VLOOKUP(K593,'Standard Labels'!$A$7:$AC$500,29)","v":0},592]
[{"$f":"VLOOKUP(K594,'Standard Labels'!$A$7:$AC$500,11)","v":0},{"$f":"VLOOKUP(K594,'Standard Labels'!$A$7:$AC$500,13)","v":0},{"$f":"VLOOKUP(K594,'Standard Labels'!$A$7:$AC$500,15)","v":0},{"$f":"VLOOKUP(K594,'Standard Labels'!$A$7:$AC$500,17)","v":0},{"$f":"VLOOKUP(K594,'Standard Labels'!$A$7:$AC$500,19)","v":0},{"$f":"VLOOKUP(K594,'Standard Labels'!$A$7:$AC$500,21)","v":0},{"$f":"VLOOKUP(K594,'Standard Labels'!$A$7:$AC$500,23)","v":0},{"$f":"VLOOKUP(K594,'Standard Labels'!$A$7:$AC$500,25)","v":0},{"$f":"VLOOKUP(K594,'Standard Labels'!$A$7:$AC$500,27)","v":0},{"$f":"VLOOKUP(K594,'Standard Labels'!$A$7:$AC$500,29)","v":0},593]
[{"$f":"VLOOKUP(K595,'Standard Labels'!$A$7:$AC$500,11)","v":0},{"$f":"VLOOKUP(K595,'Standard Labels'!$A$7:$AC$500,13)","v":0},{"$f":"VLOOKUP(K595,'Standard Labels'!$A$7:$AC$500,15)","v":0},{"$f":"VLOOKUP(K595,'Standard Labels'!$A$7:$AC$500,17)","v":0},{"$f":"VLOOKUP(K595,'Standard Labels'!$A$7:$AC$500,19)","v":0},{"$f":"VLOOKUP(K595,'Standard Labels'!$A$7:$AC$500,21)","v":0},{"$f":"VLOOKUP(K595,'Standard Labels'!$A$7:$AC$500,23)","v":0},{"$f":"VLOOKUP(K595,'Standard Labels'!$A$7:$AC$500,25)","v":0},{"$f":"VLOOKUP(K595,'Standard Labels'!$A$7:$AC$500,27)","v":0},{"$f":"VLOOKUP(K595,'Standard Labels'!$A$7:$AC$500,29)","v":0},594]
[{"$f":"VLOOKUP(K596,'Standard Labels'!$A$7:$AC$500,11)","v":0},{"$f":"VLOOKUP(K596,'Standard Labels'!$A$7:$AC$500,13)","v":0},{"$f":"VLOOKUP(K596,'Standard Labels'!$A$7:$AC$500,15)","v":0},{"$f":"VLOOKUP(K596,'Standard Labels'!$A$7:$AC$500,17)","v":0},{"$f":"VLOOKUP(K596,'Standard Labels'!$A$7:$AC$500,19)","v":0},{"$f":"VLOOKUP(K596,'Standard Labels'!$A$7:$AC$500,21)","v":0},{"$f":"VLOOKUP(K596,'Standard Labels'!$A$7:$AC$500,23)","v":0},{"$f":"VLOOKUP(K596,'Standard Labels'!$A$7:$AC$500,25)","v":0},{"$f":"VLOOKUP(K596,'Standard Labels'!$A$7:$AC$500,27)","v":0},{"$f":"VLOOKUP(K596,'Standard Labels'!$A$7:$AC$500,29)","v":0},595]
[{"$f":"VLOOKUP(K597,'Standard Labels'!$A$7:$AC$500,11)","v":0},{"$f":"VLOOKUP(K597,'Standard Labels'!$A$7:$AC$500,13)","v":0},{"$f":"VLOOKUP(K597,'Standard Labels'!$A$7:$AC$500,15)","v":0},{"$f":"VLOOKUP(K597,'Standard Labels'!$A$7:$AC$500,17)","v":0},{"$f":"VLOOKUP(K597,'Standard Labels'!$A$7:$AC$500,19)","v":0},{"$f":"VLOOKUP(K597,'Standard Labels'!$A$7:$AC$500,21)","v":0},{"$f":"VLOOKUP(K597,'Standard Labels'!$A$7:$AC$500,23)","v":0},{"$f":"VLOOKUP(K597,'Standard Labels'!$A$7:$AC$500,25)","v":0},{"$f":"VLOOKUP(K597,'Standard Labels'!$A$7:$AC$500,27)","v":0},{"$f":"VLOOKUP(K597,'Standard Labels'!$A$7:$AC$500,29)","v":0},596]
[{"$f":"VLOOKUP(K598,'Standard Labels'!$A$7:$AC$500,11)","v":0},{"$f":"VLOOKUP(K598,'Standard Labels'!$A$7:$AC$500,13)","v":0},{"$f":"VLOOKUP(K598,'Standard Labels'!$A$7:$AC$500,15)","v":0},{"$f":"VLOOKUP(K598,'Standard Labels'!$A$7:$AC$500,17)","v":0},{"$f":"VLOOKUP(K598,'Standard Labels'!$A$7:$AC$500,19)","v":0},{"$f":"VLOOKUP(K598,'Standard Labels'!$A$7:$AC$500,21)","v":0},{"$f":"VLOOKUP(K598,'Standard Labels'!$A$7:$AC$500,23)","v":0},{"$f":"VLOOKUP(K598,'Standard Labels'!$A$7:$AC$500,25)","v":0},{"$f":"VLOOKUP(K598,'Standard Labels'!$A$7:$AC$500,27)","v":0},{"$f":"VLOOKUP(K598,'Standard Labels'!$A$7:$AC$500,29)","v":0},597]
[{"$f":"VLOOKUP(K599,'Standard Labels'!$A$7:$AC$500,11)","v":0},{"$f":"VLOOKUP(K599,'Standard Labels'!$A$7:$AC$500,13)","v":0},{"$f":"VLOOKUP(K599,'Standard Labels'!$A$7:$AC$500,15)","v":0},{"$f":"VLOOKUP(K599,'Standard Labels'!$A$7:$AC$500,17)","v":0},{"$f":"VLOOKUP(K599,'Standard Labels'!$A$7:$AC$500,19)","v":0},{"$f":"VLOOKUP(K599,'Standard Labels'!$A$7:$AC$500,21)","v":0},{"$f":"VLOOKUP(K599,'Standard Labels'!$A$7:$AC$500,23)","v":0},{"$f":"VLOOKUP(K599,'Standard Labels'!$A$7:$AC$500,25)","v":0},{"$f":"VLOOKUP(K599,'Standard Labels'!$A$7:$AC$500,27)","v":0},{"$f":"VLOOKUP(K599,'Standard Labels'!$A$7:$AC$500,29)","v":0},598]
[{"$f":"VLOOKUP(K600,'Standard Labels'!$A$7:$AC$500,11)","v":0},{"$f":"VLOOKUP(K600,'Standard Labels'!$A$7:$AC$500,13)","v":0},{"$f":"VLOOKUP(K600,'Standard Labels'!$A$7:$AC$500,15)","v":0},{"$f":"VLOOKUP(K600,'Standard Labels'!$A$7:$AC$500,17)","v":0},{"$f":"VLOOKUP(K600,'Standard Labels'!$A$7:$AC$500,19)","v":0},{"$f":"VLOOKUP(K600,'Standard Labels'!$A$7:$AC$500,21)","v":0},{"$f":"VLOOKUP(K600,'Standard Labels'!$A$7:$AC$500,23)","v":0},{"$f":"VLOOKUP(K600,'Standard Labels'!$A$7:$AC$500,25)","v":0},{"$f":"VLOOKUP(K600,'Standard Labels'!$A$7:$AC$500,27)","v":0},{"$f":"VLOOKUP(K600,'Standard Labels'!$A$7:$AC$500,29)","v":0},599]
[{"$f":"VLOOKUP(K601,'Standard Labels'!$A$7:$AC$500,11)","v":0},{"$f":"VLOOKUP(K601,'Standard Labels'!$A$7:$AC$500,13)","v":0},{"$f":"VLOOKUP(K601,'Standard Labels'!$A$7:$AC$500,15)","v":0},{"$f":"VLOOKUP(K601,'Standard Labels'!$A$7:$AC$500,17)","v":0},{"$f":"VLOOKUP(K601,'Standard Labels'!$A$7:$AC$500,19)","v":0},{"$f":"VLOOKUP(K601,'Standard Labels'!$A$7:$AC$500,21)","v":0},{"$f":"VLOOKUP(K601,'Standard Labels'!$A$7:$AC$500,23)","v":0},{"$f":"VLOOKUP(K601,'Standard Labels'!$A$7:$AC$500,25)","v":0},{"$f":"VLOOKUP(K601,'Standard Labels'!$A$7:$AC$500,27)","v":0},{"$f":"VLOOKUP(K601,'Standard Labels'!$A$7:$AC$500,29)","v":0},600]
[{"$f":"VLOOKUP(K602,'Standard Labels'!$A$7:$AC$500,11)","v":0},{"$f":"VLOOKUP(K602,'Standard Labels'!$A$7:$AC$500,13)","v":0},{"$f":"VLOOKUP(K602,'Standard Labels'!$A$7:$AC$500,15)","v":0},{"$f":"VLOOKUP(K602,'Standard Labels'!$A$7:$AC$500,17)","v":0},{"$f":"VLOOKUP(K602,'Standard Labels'!$A$7:$AC$500,19)","v":0},{"$f":"VLOOKUP(K602,'Standard Labels'!$A$7:$AC$500,21)","v":0},{"$f":"VLOOKUP(K602,'Standard Labels'!$A$7:$AC$500,23)","v":0},{"$f":"VLOOKUP(K602,'Standard Labels'!$A$7:$AC$500,25)","v":0},{"$f":"VLOOKUP(K602,'Standard Labels'!$A$7:$AC$500,27)","v":0},{"$f":"VLOOKUP(K602,'Standard Labels'!$A$7:$AC$500,29)","v":0},601]
[{"$f":"VLOOKUP(K603,'Standard Labels'!$A$7:$AC$500,11)","v":0},{"$f":"VLOOKUP(K603,'Standard Labels'!$A$7:$AC$500,13)","v":0},{"$f":"VLOOKUP(K603,'Standard Labels'!$A$7:$AC$500,15)","v":0},{"$f":"VLOOKUP(K603,'Standard Labels'!$A$7:$AC$500,17)","v":0},{"$f":"VLOOKUP(K603,'Standard Labels'!$A$7:$AC$500,19)","v":0},{"$f":"VLOOKUP(K603,'Standard Labels'!$A$7:$AC$500,21)","v":0},{"$f":"VLOOKUP(K603,'Standard Labels'!$A$7:$AC$500,23)","v":0},{"$f":"VLOOKUP(K603,'Standard Labels'!$A$7:$AC$500,25)","v":0},{"$f":"VLOOKUP(K603,'Standard Labels'!$A$7:$AC$500,27)","v":0},{"$f":"VLOOKUP(K603,'Standard Labels'!$A$7:$AC$500,29)","v":0},602]
[{"$f":"VLOOKUP(K604,'Standard Labels'!$A$7:$AC$500,11)","v":0},{"$f":"VLOOKUP(K604,'Standard Labels'!$A$7:$AC$500,13)","v":0},{"$f":"VLOOKUP(K604,'Standard Labels'!$A$7:$AC$500,15)","v":0},{"$f":"VLOOKUP(K604,'Standard Labels'!$A$7:$AC$500,17)","v":0},{"$f":"VLOOKUP(K604,'Standard Labels'!$A$7:$AC$500,19)","v":0},{"$f":"VLOOKUP(K604,'Standard Labels'!$A$7:$AC$500,21)","v":0},{"$f":"VLOOKUP(K604,'Standard Labels'!$A$7:$AC$500,23)","v":0},{"$f":"VLOOKUP(K604,'Standard Labels'!$A$7:$AC$500,25)","v":0},{"$f":"VLOOKUP(K604,'Standard Labels'!$A$7:$AC$500,27)","v":0},{"$f":"VLOOKUP(K604,'Standard Labels'!$A$7:$AC$500,29)","v":0},603]
[{"$f":"VLOOKUP(K605,'Standard Labels'!$A$7:$AC$500,11)","v":0},{"$f":"VLOOKUP(K605,'Standard Labels'!$A$7:$AC$500,13)","v":0},{"$f":"VLOOKUP(K605,'Standard Labels'!$A$7:$AC$500,15)","v":0},{"$f":"VLOOKUP(K605,'Standard Labels'!$A$7:$AC$500,17)","v":0},{"$f":"VLOOKUP(K605,'Standard Labels'!$A$7:$AC$500,19)","v":0},{"$f":"VLOOKUP(K605,'Standard Labels'!$A$7:$AC$500,21)","v":0},{"$f":"VLOOKUP(K605,'Standard Labels'!$A$7:$AC$500,23)","v":0},{"$f":"VLOOKUP(K605,'Standard Labels'!$A$7:$AC$500,25)","v":0},{"$f":"VLOOKUP(K605,'Standard Labels'!$A$7:$AC$500,27)","v":0},{"$f":"VLOOKUP(K605,'Standard Labels'!$A$7:$AC$500,29)","v":0},604]
[{"$f":"VLOOKUP(K606,'Standard Labels'!$A$7:$AC$500,11)","v":0},{"$f":"VLOOKUP(K606,'Standard Labels'!$A$7:$AC$500,13)","v":0},{"$f":"VLOOKUP(K606,'Standard Labels'!$A$7:$AC$500,15)","v":0},{"$f":"VLOOKUP(K606,'Standard Labels'!$A$7:$AC$500,17)","v":0},{"$f":"VLOOKUP(K606,'Standard Labels'!$A$7:$AC$500,19)","v":0},{"$f":"VLOOKUP(K606,'Standard Labels'!$A$7:$AC$500,21)","v":0},{"$f":"VLOOKUP(K606,'Standard Labels'!$A$7:$AC$500,23)","v":0},{"$f":"VLOOKUP(K606,'Standard Labels'!$A$7:$AC$500,25)","v":0},{"$f":"VLOOKUP(K606,'Standard Labels'!$A$7:$AC$500,27)","v":0},{"$f":"VLOOKUP(K606,'Standard Labels'!$A$7:$AC$500,29)","v":0},605]
[{"$f":"VLOOKUP(K607,'Standard Labels'!$A$7:$AC$500,11)","v":0},{"$f":"VLOOKUP(K607,'Standard Labels'!$A$7:$AC$500,13)","v":0},{"$f":"VLOOKUP(K607,'Standard Labels'!$A$7:$AC$500,15)","v":0},{"$f":"VLOOKUP(K607,'Standard Labels'!$A$7:$AC$500,17)","v":0},{"$f":"VLOOKUP(K607,'Standard Labels'!$A$7:$AC$500,19)","v":0},{"$f":"VLOOKUP(K607,'Standard Labels'!$A$7:$AC$500,21)","v":0},{"$f":"VLOOKUP(K607,'Standard Labels'!$A$7:$AC$500,23)","v":0},{"$f":"VLOOKUP(K607,'Standard Labels'!$A$7:$AC$500,25)","v":0},{"$f":"VLOOKUP(K607,'Standard Labels'!$A$7:$AC$500,27)","v":0},{"$f":"VLOOKUP(K607,'Standard Labels'!$A$7:$AC$500,29)","v":0},606]
[{"$f":"VLOOKUP(K608,'Standard Labels'!$A$7:$AC$500,11)","v":0},{"$f":"VLOOKUP(K608,'Standard Labels'!$A$7:$AC$500,13)","v":0},{"$f":"VLOOKUP(K608,'Standard Labels'!$A$7:$AC$500,15)","v":0},{"$f":"VLOOKUP(K608,'Standard Labels'!$A$7:$AC$500,17)","v":0},{"$f":"VLOOKUP(K608,'Standard Labels'!$A$7:$AC$500,19)","v":0},{"$f":"VLOOKUP(K608,'Standard Labels'!$A$7:$AC$500,21)","v":0},{"$f":"VLOOKUP(K608,'Standard Labels'!$A$7:$AC$500,23)","v":0},{"$f":"VLOOKUP(K608,'Standard Labels'!$A$7:$AC$500,25)","v":0},{"$f":"VLOOKUP(K608,'Standard Labels'!$A$7:$AC$500,27)","v":0},{"$f":"VLOOKUP(K608,'Standard Labels'!$A$7:$AC$500,29)","v":0},607]
[{"$f":"VLOOKUP(K609,'Standard Labels'!$A$7:$AC$500,11)","v":0},{"$f":"VLOOKUP(K609,'Standard Labels'!$A$7:$AC$500,13)","v":0},{"$f":"VLOOKUP(K609,'Standard Labels'!$A$7:$AC$500,15)","v":0},{"$f":"VLOOKUP(K609,'Standard Labels'!$A$7:$AC$500,17)","v":0},{"$f":"VLOOKUP(K609,'Standard Labels'!$A$7:$AC$500,19)","v":0},{"$f":"VLOOKUP(K609,'Standard Labels'!$A$7:$AC$500,21)","v":0},{"$f":"VLOOKUP(K609,'Standard Labels'!$A$7:$AC$500,23)","v":0},{"$f":"VLOOKUP(K609,'Standard Labels'!$A$7:$AC$500,25)","v":0},{"$f":"VLOOKUP(K609,'Standard Labels'!$A$7:$AC$500,27)","v":0},{"$f":"VLOOKUP(K609,'Standard Labels'!$A$7:$AC$500,29)","v":0},608]
[{"$f":"VLOOKUP(K610,'Standard Labels'!$A$7:$AC$500,11)","v":0},{"$f":"VLOOKUP(K610,'Standard Labels'!$A$7:$AC$500,13)","v":0},{"$f":"VLOOKUP(K610,'Standard Labels'!$A$7:$AC$500,15)","v":0},{"$f":"VLOOKUP(K610,'Standard Labels'!$A$7:$AC$500,17)","v":0},{"$f":"VLOOKUP(K610,'Standard Labels'!$A$7:$AC$500,19)","v":0},{"$f":"VLOOKUP(K610,'Standard Labels'!$A$7:$AC$500,21)","v":0},{"$f":"VLOOKUP(K610,'Standard Labels'!$A$7:$AC$500,23)","v":0},{"$f":"VLOOKUP(K610,'Standard Labels'!$A$7:$AC$500,25)","v":0},{"$f":"VLOOKUP(K610,'Standard Labels'!$A$7:$AC$500,27)","v":0},{"$f":"VLOOKUP(K610,'Standard Labels'!$A$7:$AC$500,29)","v":0},609]
[{"$f":"VLOOKUP(K611,'Standard Labels'!$A$7:$AC$500,11)","v":0},{"$f":"VLOOKUP(K611,'Standard Labels'!$A$7:$AC$500,13)","v":0},{"$f":"VLOOKUP(K611,'Standard Labels'!$A$7:$AC$500,15)","v":0},{"$f":"VLOOKUP(K611,'Standard Labels'!$A$7:$AC$500,17)","v":0},{"$f":"VLOOKUP(K611,'Standard Labels'!$A$7:$AC$500,19)","v":0},{"$f":"VLOOKUP(K611,'Standard Labels'!$A$7:$AC$500,21)","v":0},{"$f":"VLOOKUP(K611,'Standard Labels'!$A$7:$AC$500,23)","v":0},{"$f":"VLOOKUP(K611,'Standard Labels'!$A$7:$AC$500,25)","v":0},{"$f":"VLOOKUP(K611,'Standard Labels'!$A$7:$AC$500,27)","v":0},{"$f":"VLOOKUP(K611,'Standard Labels'!$A$7:$AC$500,29)","v":0},610]
[{"$f":"VLOOKUP(K612,'Standard Labels'!$A$7:$AC$500,11)","v":0},{"$f":"VLOOKUP(K612,'Standard Labels'!$A$7:$AC$500,13)","v":0},{"$f":"VLOOKUP(K612,'Standard Labels'!$A$7:$AC$500,15)","v":0},{"$f":"VLOOKUP(K612,'Standard Labels'!$A$7:$AC$500,17)","v":0},{"$f":"VLOOKUP(K612,'Standard Labels'!$A$7:$AC$500,19)","v":0},{"$f":"VLOOKUP(K612,'Standard Labels'!$A$7:$AC$500,21)","v":0},{"$f":"VLOOKUP(K612,'Standard Labels'!$A$7:$AC$500,23)","v":0},{"$f":"VLOOKUP(K612,'Standard Labels'!$A$7:$AC$500,25)","v":0},{"$f":"VLOOKUP(K612,'Standard Labels'!$A$7:$AC$500,27)","v":0},{"$f":"VLOOKUP(K612,'Standard Labels'!$A$7:$AC$500,29)","v":0},611]
[{"$f":"VLOOKUP(K613,'Standard Labels'!$A$7:$AC$500,11)","v":0},{"$f":"VLOOKUP(K613,'Standard Labels'!$A$7:$AC$500,13)","v":0},{"$f":"VLOOKUP(K613,'Standard Labels'!$A$7:$AC$500,15)","v":0},{"$f":"VLOOKUP(K613,'Standard Labels'!$A$7:$AC$500,17)","v":0},{"$f":"VLOOKUP(K613,'Standard Labels'!$A$7:$AC$500,19)","v":0},{"$f":"VLOOKUP(K613,'Standard Labels'!$A$7:$AC$500,21)","v":0},{"$f":"VLOOKUP(K613,'Standard Labels'!$A$7:$AC$500,23)","v":0},{"$f":"VLOOKUP(K613,'Standard Labels'!$A$7:$AC$500,25)","v":0},{"$f":"VLOOKUP(K613,'Standard Labels'!$A$7:$AC$500,27)","v":0},{"$f":"VLOOKUP(K613,'Standard Labels'!$A$7:$AC$500,29)","v":0},612]
[{"$f":"VLOOKUP(K614,'Standard Labels'!$A$7:$AC$500,11)","v":0},{"$f":"VLOOKUP(K614,'Standard Labels'!$A$7:$AC$500,13)","v":0},{"$f":"VLOOKUP(K614,'Standard Labels'!$A$7:$AC$500,15)","v":0},{"$f":"VLOOKUP(K614,'Standard Labels'!$A$7:$AC$500,17)","v":0},{"$f":"VLOOKUP(K614,'Standard Labels'!$A$7:$AC$500,19)","v":0},{"$f":"VLOOKUP(K614,'Standard Labels'!$A$7:$AC$500,21)","v":0},{"$f":"VLOOKUP(K614,'Standard Labels'!$A$7:$AC$500,23)","v":0},{"$f":"VLOOKUP(K614,'Standard Labels'!$A$7:$AC$500,25)","v":0},{"$f":"VLOOKUP(K614,'Standard Labels'!$A$7:$AC$500,27)","v":0},{"$f":"VLOOKUP(K614,'Standard Labels'!$A$7:$AC$500,29)","v":0},613]
[{"$f":"VLOOKUP(K615,'Standard Labels'!$A$7:$AC$500,11)","v":0},{"$f":"VLOOKUP(K615,'Standard Labels'!$A$7:$AC$500,13)","v":0},{"$f":"VLOOKUP(K615,'Standard Labels'!$A$7:$AC$500,15)","v":0},{"$f":"VLOOKUP(K615,'Standard Labels'!$A$7:$AC$500,17)","v":0},{"$f":"VLOOKUP(K615,'Standard Labels'!$A$7:$AC$500,19)","v":0},{"$f":"VLOOKUP(K615,'Standard Labels'!$A$7:$AC$500,21)","v":0},{"$f":"VLOOKUP(K615,'Standard Labels'!$A$7:$AC$500,23)","v":0},{"$f":"VLOOKUP(K615,'Standard Labels'!$A$7:$AC$500,25)","v":0},{"$f":"VLOOKUP(K615,'Standard Labels'!$A$7:$AC$500,27)","v":0},{"$f":"VLOOKUP(K615,'Standard Labels'!$A$7:$AC$500,29)","v":0},614]
[{"$f":"VLOOKUP(K616,'Standard Labels'!$A$7:$AC$500,11)","v":0},{"$f":"VLOOKUP(K616,'Standard Labels'!$A$7:$AC$500,13)","v":0},{"$f":"VLOOKUP(K616,'Standard Labels'!$A$7:$AC$500,15)","v":0},{"$f":"VLOOKUP(K616,'Standard Labels'!$A$7:$AC$500,17)","v":0},{"$f":"VLOOKUP(K616,'Standard Labels'!$A$7:$AC$500,19)","v":0},{"$f":"VLOOKUP(K616,'Standard Labels'!$A$7:$AC$500,21)","v":0},{"$f":"VLOOKUP(K616,'Standard Labels'!$A$7:$AC$500,23)","v":0},{"$f":"VLOOKUP(K616,'Standard Labels'!$A$7:$AC$500,25)","v":0},{"$f":"VLOOKUP(K616,'Standard Labels'!$A$7:$AC$500,27)","v":0},{"$f":"VLOOKUP(K616,'Standard Labels'!$A$7:$AC$500,29)","v":0},615]
[{"$f":"VLOOKUP(K617,'Standard Labels'!$A$7:$AC$500,11)","v":0},{"$f":"VLOOKUP(K617,'Standard Labels'!$A$7:$AC$500,13)","v":0},{"$f":"VLOOKUP(K617,'Standard Labels'!$A$7:$AC$500,15)","v":0},{"$f":"VLOOKUP(K617,'Standard Labels'!$A$7:$AC$500,17)","v":0},{"$f":"VLOOKUP(K617,'Standard Labels'!$A$7:$AC$500,19)","v":0},{"$f":"VLOOKUP(K617,'Standard Labels'!$A$7:$AC$500,21)","v":0},{"$f":"VLOOKUP(K617,'Standard Labels'!$A$7:$AC$500,23)","v":0},{"$f":"VLOOKUP(K617,'Standard Labels'!$A$7:$AC$500,25)","v":0},{"$f":"VLOOKUP(K617,'Standard Labels'!$A$7:$AC$500,27)","v":0},{"$f":"VLOOKUP(K617,'Standard Labels'!$A$7:$AC$500,29)","v":0},616]
[{"$f":"VLOOKUP(K618,'Standard Labels'!$A$7:$AC$500,11)","v":0},{"$f":"VLOOKUP(K618,'Standard Labels'!$A$7:$AC$500,13)","v":0},{"$f":"VLOOKUP(K618,'Standard Labels'!$A$7:$AC$500,15)","v":0},{"$f":"VLOOKUP(K618,'Standard Labels'!$A$7:$AC$500,17)","v":0},{"$f":"VLOOKUP(K618,'Standard Labels'!$A$7:$AC$500,19)","v":0},{"$f":"VLOOKUP(K618,'Standard Labels'!$A$7:$AC$500,21)","v":0},{"$f":"VLOOKUP(K618,'Standard Labels'!$A$7:$AC$500,23)","v":0},{"$f":"VLOOKUP(K618,'Standard Labels'!$A$7:$AC$500,25)","v":0},{"$f":"VLOOKUP(K618,'Standard Labels'!$A$7:$AC$500,27)","v":0},{"$f":"VLOOKUP(K618,'Standard Labels'!$A$7:$AC$500,29)","v":0},617]
[{"$f":"VLOOKUP(K619,'Standard Labels'!$A$7:$AC$500,11)","v":0},{"$f":"VLOOKUP(K619,'Standard Labels'!$A$7:$AC$500,13)","v":0},{"$f":"VLOOKUP(K619,'Standard Labels'!$A$7:$AC$500,15)","v":0},{"$f":"VLOOKUP(K619,'Standard Labels'!$A$7:$AC$500,17)","v":0},{"$f":"VLOOKUP(K619,'Standard Labels'!$A$7:$AC$500,19)","v":0},{"$f":"VLOOKUP(K619,'Standard Labels'!$A$7:$AC$500,21)","v":0},{"$f":"VLOOKUP(K619,'Standard Labels'!$A$7:$AC$500,23)","v":0},{"$f":"VLOOKUP(K619,'Standard Labels'!$A$7:$AC$500,25)","v":0},{"$f":"VLOOKUP(K619,'Standard Labels'!$A$7:$AC$500,27)","v":0},{"$f":"VLOOKUP(K619,'Standard Labels'!$A$7:$AC$500,29)","v":0},618]
[{"$f":"VLOOKUP(K620,'Standard Labels'!$A$7:$AC$500,11)","v":0},{"$f":"VLOOKUP(K620,'Standard Labels'!$A$7:$AC$500,13)","v":0},{"$f":"VLOOKUP(K620,'Standard Labels'!$A$7:$AC$500,15)","v":0},{"$f":"VLOOKUP(K620,'Standard Labels'!$A$7:$AC$500,17)","v":0},{"$f":"VLOOKUP(K620,'Standard Labels'!$A$7:$AC$500,19)","v":0},{"$f":"VLOOKUP(K620,'Standard Labels'!$A$7:$AC$500,21)","v":0},{"$f":"VLOOKUP(K620,'Standard Labels'!$A$7:$AC$500,23)","v":0},{"$f":"VLOOKUP(K620,'Standard Labels'!$A$7:$AC$500,25)","v":0},{"$f":"VLOOKUP(K620,'Standard Labels'!$A$7:$AC$500,27)","v":0},{"$f":"VLOOKUP(K620,'Standard Labels'!$A$7:$AC$500,29)","v":0},619]
[{"$f":"VLOOKUP(K621,'Standard Labels'!$A$7:$AC$500,11)","v":0},{"$f":"VLOOKUP(K621,'Standard Labels'!$A$7:$AC$500,13)","v":0},{"$f":"VLOOKUP(K621,'Standard Labels'!$A$7:$AC$500,15)","v":0},{"$f":"VLOOKUP(K621,'Standard Labels'!$A$7:$AC$500,17)","v":0},{"$f":"VLOOKUP(K621,'Standard Labels'!$A$7:$AC$500,19)","v":0},{"$f":"VLOOKUP(K621,'Standard Labels'!$A$7:$AC$500,21)","v":0},{"$f":"VLOOKUP(K621,'Standard Labels'!$A$7:$AC$500,23)","v":0},{"$f":"VLOOKUP(K621,'Standard Labels'!$A$7:$AC$500,25)","v":0},{"$f":"VLOOKUP(K621,'Standard Labels'!$A$7:$AC$500,27)","v":0},{"$f":"VLOOKUP(K621,'Standard Labels'!$A$7:$AC$500,29)","v":0},620]
[{"$f":"VLOOKUP(K622,'Standard Labels'!$A$7:$AC$500,11)","v":0},{"$f":"VLOOKUP(K622,'Standard Labels'!$A$7:$AC$500,13)","v":0},{"$f":"VLOOKUP(K622,'Standard Labels'!$A$7:$AC$500,15)","v":0},{"$f":"VLOOKUP(K622,'Standard Labels'!$A$7:$AC$500,17)","v":0},{"$f":"VLOOKUP(K622,'Standard Labels'!$A$7:$AC$500,19)","v":0},{"$f":"VLOOKUP(K622,'Standard Labels'!$A$7:$AC$500,21)","v":0},{"$f":"VLOOKUP(K622,'Standard Labels'!$A$7:$AC$500,23)","v":0},{"$f":"VLOOKUP(K622,'Standard Labels'!$A$7:$AC$500,25)","v":0},{"$f":"VLOOKUP(K622,'Standard Labels'!$A$7:$AC$500,27)","v":0},{"$f":"VLOOKUP(K622,'Standard Labels'!$A$7:$AC$500,29)","v":0},621]
[{"$f":"VLOOKUP(K623,'Standard Labels'!$A$7:$AC$500,11)","v":0},{"$f":"VLOOKUP(K623,'Standard Labels'!$A$7:$AC$500,13)","v":0},{"$f":"VLOOKUP(K623,'Standard Labels'!$A$7:$AC$500,15)","v":0},{"$f":"VLOOKUP(K623,'Standard Labels'!$A$7:$AC$500,17)","v":0},{"$f":"VLOOKUP(K623,'Standard Labels'!$A$7:$AC$500,19)","v":0},{"$f":"VLOOKUP(K623,'Standard Labels'!$A$7:$AC$500,21)","v":0},{"$f":"VLOOKUP(K623,'Standard Labels'!$A$7:$AC$500,23)","v":0},{"$f":"VLOOKUP(K623,'Standard Labels'!$A$7:$AC$500,25)","v":0},{"$f":"VLOOKUP(K623,'Standard Labels'!$A$7:$AC$500,27)","v":0},{"$f":"VLOOKUP(K623,'Standard Labels'!$A$7:$AC$500,29)","v":0},622]
[{"$f":"VLOOKUP(K624,'Standard Labels'!$A$7:$AC$500,11)","v":0},{"$f":"VLOOKUP(K624,'Standard Labels'!$A$7:$AC$500,13)","v":0},{"$f":"VLOOKUP(K624,'Standard Labels'!$A$7:$AC$500,15)","v":0},{"$f":"VLOOKUP(K624,'Standard Labels'!$A$7:$AC$500,17)","v":0},{"$f":"VLOOKUP(K624,'Standard Labels'!$A$7:$AC$500,19)","v":0},{"$f":"VLOOKUP(K624,'Standard Labels'!$A$7:$AC$500,21)","v":0},{"$f":"VLOOKUP(K624,'Standard Labels'!$A$7:$AC$500,23)","v":0},{"$f":"VLOOKUP(K624,'Standard Labels'!$A$7:$AC$500,25)","v":0},{"$f":"VLOOKUP(K624,'Standard Labels'!$A$7:$AC$500,27)","v":0},{"$f":"VLOOKUP(K624,'Standard Labels'!$A$7:$AC$500,29)","v":0},623]
[{"$f":"VLOOKUP(K625,'Standard Labels'!$A$7:$AC$500,11)","v":0},{"$f":"VLOOKUP(K625,'Standard Labels'!$A$7:$AC$500,13)","v":0},{"$f":"VLOOKUP(K625,'Standard Labels'!$A$7:$AC$500,15)","v":0},{"$f":"VLOOKUP(K625,'Standard Labels'!$A$7:$AC$500,17)","v":0},{"$f":"VLOOKUP(K625,'Standard Labels'!$A$7:$AC$500,19)","v":0},{"$f":"VLOOKUP(K625,'Standard Labels'!$A$7:$AC$500,21)","v":0},{"$f":"VLOOKUP(K625,'Standard Labels'!$A$7:$AC$500,23)","v":0},{"$f":"VLOOKUP(K625,'Standard Labels'!$A$7:$AC$500,25)","v":0},{"$f":"VLOOKUP(K625,'Standard Labels'!$A$7:$AC$500,27)","v":0},{"$f":"VLOOKUP(K625,'Standard Labels'!$A$7:$AC$500,29)","v":0},624]
[{"$f":"VLOOKUP(K626,'Standard Labels'!$A$7:$AC$500,11)","v":0},{"$f":"VLOOKUP(K626,'Standard Labels'!$A$7:$AC$500,13)","v":0},{"$f":"VLOOKUP(K626,'Standard Labels'!$A$7:$AC$500,15)","v":0},{"$f":"VLOOKUP(K626,'Standard Labels'!$A$7:$AC$500,17)","v":0},{"$f":"VLOOKUP(K626,'Standard Labels'!$A$7:$AC$500,19)","v":0},{"$f":"VLOOKUP(K626,'Standard Labels'!$A$7:$AC$500,21)","v":0},{"$f":"VLOOKUP(K626,'Standard Labels'!$A$7:$AC$500,23)","v":0},{"$f":"VLOOKUP(K626,'Standard Labels'!$A$7:$AC$500,25)","v":0},{"$f":"VLOOKUP(K626,'Standard Labels'!$A$7:$AC$500,27)","v":0},{"$f":"VLOOKUP(K626,'Standard Labels'!$A$7:$AC$500,29)","v":0},625]
[{"$f":"VLOOKUP(K627,'Standard Labels'!$A$7:$AC$500,11)","v":0},{"$f":"VLOOKUP(K627,'Standard Labels'!$A$7:$AC$500,13)","v":0},{"$f":"VLOOKUP(K627,'Standard Labels'!$A$7:$AC$500,15)","v":0},{"$f":"VLOOKUP(K627,'Standard Labels'!$A$7:$AC$500,17)","v":0},{"$f":"VLOOKUP(K627,'Standard Labels'!$A$7:$AC$500,19)","v":0},{"$f":"VLOOKUP(K627,'Standard Labels'!$A$7:$AC$500,21)","v":0},{"$f":"VLOOKUP(K627,'Standard Labels'!$A$7:$AC$500,23)","v":0},{"$f":"VLOOKUP(K627,'Standard Labels'!$A$7:$AC$500,25)","v":0},{"$f":"VLOOKUP(K627,'Standard Labels'!$A$7:$AC$500,27)","v":0},{"$f":"VLOOKUP(K627,'Standard Labels'!$A$7:$AC$500,29)","v":0},626]
[{"$f":"VLOOKUP(K628,'Standard Labels'!$A$7:$AC$500,11)","v":0},{"$f":"VLOOKUP(K628,'Standard Labels'!$A$7:$AC$500,13)","v":0},{"$f":"VLOOKUP(K628,'Standard Labels'!$A$7:$AC$500,15)","v":0},{"$f":"VLOOKUP(K628,'Standard Labels'!$A$7:$AC$500,17)","v":0},{"$f":"VLOOKUP(K628,'Standard Labels'!$A$7:$AC$500,19)","v":0},{"$f":"VLOOKUP(K628,'Standard Labels'!$A$7:$AC$500,21)","v":0},{"$f":"VLOOKUP(K628,'Standard Labels'!$A$7:$AC$500,23)","v":0},{"$f":"VLOOKUP(K628,'Standard Labels'!$A$7:$AC$500,25)","v":0},{"$f":"VLOOKUP(K628,'Standard Labels'!$A$7:$AC$500,27)","v":0},{"$f":"VLOOKUP(K628,'Standard Labels'!$A$7:$AC$500,29)","v":0},627]
[{"$f":"VLOOKUP(K629,'Standard Labels'!$A$7:$AC$500,11)","v":0},{"$f":"VLOOKUP(K629,'Standard Labels'!$A$7:$AC$500,13)","v":0},{"$f":"VLOOKUP(K629,'Standard Labels'!$A$7:$AC$500,15)","v":0},{"$f":"VLOOKUP(K629,'Standard Labels'!$A$7:$AC$500,17)","v":0},{"$f":"VLOOKUP(K629,'Standard Labels'!$A$7:$AC$500,19)","v":0},{"$f":"VLOOKUP(K629,'Standard Labels'!$A$7:$AC$500,21)","v":0},{"$f":"VLOOKUP(K629,'Standard Labels'!$A$7:$AC$500,23)","v":0},{"$f":"VLOOKUP(K629,'Standard Labels'!$A$7:$AC$500,25)","v":0},{"$f":"VLOOKUP(K629,'Standard Labels'!$A$7:$AC$500,27)","v":0},{"$f":"VLOOKUP(K629,'Standard Labels'!$A$7:$AC$500,29)","v":0},628]
[{"$f":"VLOOKUP(K630,'Standard Labels'!$A$7:$AC$500,11)","v":0},{"$f":"VLOOKUP(K630,'Standard Labels'!$A$7:$AC$500,13)","v":0},{"$f":"VLOOKUP(K630,'Standard Labels'!$A$7:$AC$500,15)","v":0},{"$f":"VLOOKUP(K630,'Standard Labels'!$A$7:$AC$500,17)","v":0},{"$f":"VLOOKUP(K630,'Standard Labels'!$A$7:$AC$500,19)","v":0},{"$f":"VLOOKUP(K630,'Standard Labels'!$A$7:$AC$500,21)","v":0},{"$f":"VLOOKUP(K630,'Standard Labels'!$A$7:$AC$500,23)","v":0},{"$f":"VLOOKUP(K630,'Standard Labels'!$A$7:$AC$500,25)","v":0},{"$f":"VLOOKUP(K630,'Standard Labels'!$A$7:$AC$500,27)","v":0},{"$f":"VLOOKUP(K630,'Standard Labels'!$A$7:$AC$500,29)","v":0},629]
[{"$f":"VLOOKUP(K631,'Standard Labels'!$A$7:$AC$500,11)","v":0},{"$f":"VLOOKUP(K631,'Standard Labels'!$A$7:$AC$500,13)","v":0},{"$f":"VLOOKUP(K631,'Standard Labels'!$A$7:$AC$500,15)","v":0},{"$f":"VLOOKUP(K631,'Standard Labels'!$A$7:$AC$500,17)","v":0},{"$f":"VLOOKUP(K631,'Standard Labels'!$A$7:$AC$500,19)","v":0},{"$f":"VLOOKUP(K631,'Standard Labels'!$A$7:$AC$500,21)","v":0},{"$f":"VLOOKUP(K631,'Standard Labels'!$A$7:$AC$500,23)","v":0},{"$f":"VLOOKUP(K631,'Standard Labels'!$A$7:$AC$500,25)","v":0},{"$f":"VLOOKUP(K631,'Standard Labels'!$A$7:$AC$500,27)","v":0},{"$f":"VLOOKUP(K631,'Standard Labels'!$A$7:$AC$500,29)","v":0},630]
[{"$f":"VLOOKUP(K632,'Standard Labels'!$A$7:$AC$500,11)","v":0},{"$f":"VLOOKUP(K632,'Standard Labels'!$A$7:$AC$500,13)","v":0},{"$f":"VLOOKUP(K632,'Standard Labels'!$A$7:$AC$500,15)","v":0},{"$f":"VLOOKUP(K632,'Standard Labels'!$A$7:$AC$500,17)","v":0},{"$f":"VLOOKUP(K632,'Standard Labels'!$A$7:$AC$500,19)","v":0},{"$f":"VLOOKUP(K632,'Standard Labels'!$A$7:$AC$500,21)","v":0},{"$f":"VLOOKUP(K632,'Standard Labels'!$A$7:$AC$500,23)","v":0},{"$f":"VLOOKUP(K632,'Standard Labels'!$A$7:$AC$500,25)","v":0},{"$f":"VLOOKUP(K632,'Standard Labels'!$A$7:$AC$500,27)","v":0},{"$f":"VLOOKUP(K632,'Standard Labels'!$A$7:$AC$500,29)","v":0},631]
[{"$f":"VLOOKUP(K633,'Standard Labels'!$A$7:$AC$500,11)","v":0},{"$f":"VLOOKUP(K633,'Standard Labels'!$A$7:$AC$500,13)","v":0},{"$f":"VLOOKUP(K633,'Standard Labels'!$A$7:$AC$500,15)","v":0},{"$f":"VLOOKUP(K633,'Standard Labels'!$A$7:$AC$500,17)","v":0},{"$f":"VLOOKUP(K633,'Standard Labels'!$A$7:$AC$500,19)","v":0},{"$f":"VLOOKUP(K633,'Standard Labels'!$A$7:$AC$500,21)","v":0},{"$f":"VLOOKUP(K633,'Standard Labels'!$A$7:$AC$500,23)","v":0},{"$f":"VLOOKUP(K633,'Standard Labels'!$A$7:$AC$500,25)","v":0},{"$f":"VLOOKUP(K633,'Standard Labels'!$A$7:$AC$500,27)","v":0},{"$f":"VLOOKUP(K633,'Standard Labels'!$A$7:$AC$500,29)","v":0},632]
[{"$f":"VLOOKUP(K634,'Standard Labels'!$A$7:$AC$500,11)","v":0},{"$f":"VLOOKUP(K634,'Standard Labels'!$A$7:$AC$500,13)","v":0},{"$f":"VLOOKUP(K634,'Standard Labels'!$A$7:$AC$500,15)","v":0},{"$f":"VLOOKUP(K634,'Standard Labels'!$A$7:$AC$500,17)","v":0},{"$f":"VLOOKUP(K634,'Standard Labels'!$A$7:$AC$500,19)","v":0},{"$f":"VLOOKUP(K634,'Standard Labels'!$A$7:$AC$500,21)","v":0},{"$f":"VLOOKUP(K634,'Standard Labels'!$A$7:$AC$500,23)","v":0},{"$f":"VLOOKUP(K634,'Standard Labels'!$A$7:$AC$500,25)","v":0},{"$f":"VLOOKUP(K634,'Standard Labels'!$A$7:$AC$500,27)","v":0},{"$f":"VLOOKUP(K634,'Standard Labels'!$A$7:$AC$500,29)","v":0},633]
[{"$f":"VLOOKUP(K635,'Standard Labels'!$A$7:$AC$500,11)","v":0},{"$f":"VLOOKUP(K635,'Standard Labels'!$A$7:$AC$500,13)","v":0},{"$f":"VLOOKUP(K635,'Standard Labels'!$A$7:$AC$500,15)","v":0},{"$f":"VLOOKUP(K635,'Standard Labels'!$A$7:$AC$500,17)","v":0},{"$f":"VLOOKUP(K635,'Standard Labels'!$A$7:$AC$500,19)","v":0},{"$f":"VLOOKUP(K635,'Standard Labels'!$A$7:$AC$500,21)","v":0},{"$f":"VLOOKUP(K635,'Standard Labels'!$A$7:$AC$500,23)","v":0},{"$f":"VLOOKUP(K635,'Standard Labels'!$A$7:$AC$500,25)","v":0},{"$f":"VLOOKUP(K635,'Standard Labels'!$A$7:$AC$500,27)","v":0},{"$f":"VLOOKUP(K635,'Standard Labels'!$A$7:$AC$500,29)","v":0},634]
[{"$f":"VLOOKUP(K636,'Standard Labels'!$A$7:$AC$500,11)","v":0},{"$f":"VLOOKUP(K636,'Standard Labels'!$A$7:$AC$500,13)","v":0},{"$f":"VLOOKUP(K636,'Standard Labels'!$A$7:$AC$500,15)","v":0},{"$f":"VLOOKUP(K636,'Standard Labels'!$A$7:$AC$500,17)","v":0},{"$f":"VLOOKUP(K636,'Standard Labels'!$A$7:$AC$500,19)","v":0},{"$f":"VLOOKUP(K636,'Standard Labels'!$A$7:$AC$500,21)","v":0},{"$f":"VLOOKUP(K636,'Standard Labels'!$A$7:$AC$500,23)","v":0},{"$f":"VLOOKUP(K636,'Standard Labels'!$A$7:$AC$500,25)","v":0},{"$f":"VLOOKUP(K636,'Standard Labels'!$A$7:$AC$500,27)","v":0},{"$f":"VLOOKUP(K636,'Standard Labels'!$A$7:$AC$500,29)","v":0},635]
[{"$f":"VLOOKUP(K637,'Standard Labels'!$A$7:$AC$500,11)","v":0},{"$f":"VLOOKUP(K637,'Standard Labels'!$A$7:$AC$500,13)","v":0},{"$f":"VLOOKUP(K637,'Standard Labels'!$A$7:$AC$500,15)","v":0},{"$f":"VLOOKUP(K637,'Standard Labels'!$A$7:$AC$500,17)","v":0},{"$f":"VLOOKUP(K637,'Standard Labels'!$A$7:$AC$500,19)","v":0},{"$f":"VLOOKUP(K637,'Standard Labels'!$A$7:$AC$500,21)","v":0},{"$f":"VLOOKUP(K637,'Standard Labels'!$A$7:$AC$500,23)","v":0},{"$f":"VLOOKUP(K637,'Standard Labels'!$A$7:$AC$500,25)","v":0},{"$f":"VLOOKUP(K637,'Standard Labels'!$A$7:$AC$500,27)","v":0},{"$f":"VLOOKUP(K637,'Standard Labels'!$A$7:$AC$500,29)","v":0},636]
[{"$f":"VLOOKUP(K638,'Standard Labels'!$A$7:$AC$500,11)","v":0},{"$f":"VLOOKUP(K638,'Standard Labels'!$A$7:$AC$500,13)","v":0},{"$f":"VLOOKUP(K638,'Standard Labels'!$A$7:$AC$500,15)","v":0},{"$f":"VLOOKUP(K638,'Standard Labels'!$A$7:$AC$500,17)","v":0},{"$f":"VLOOKUP(K638,'Standard Labels'!$A$7:$AC$500,19)","v":0},{"$f":"VLOOKUP(K638,'Standard Labels'!$A$7:$AC$500,21)","v":0},{"$f":"VLOOKUP(K638,'Standard Labels'!$A$7:$AC$500,23)","v":0},{"$f":"VLOOKUP(K638,'Standard Labels'!$A$7:$AC$500,25)","v":0},{"$f":"VLOOKUP(K638,'Standard Labels'!$A$7:$AC$500,27)","v":0},{"$f":"VLOOKUP(K638,'Standard Labels'!$A$7:$AC$500,29)","v":0},637]
[{"$f":"VLOOKUP(K639,'Standard Labels'!$A$7:$AC$500,11)","v":0},{"$f":"VLOOKUP(K639,'Standard Labels'!$A$7:$AC$500,13)","v":0},{"$f":"VLOOKUP(K639,'Standard Labels'!$A$7:$AC$500,15)","v":0},{"$f":"VLOOKUP(K639,'Standard Labels'!$A$7:$AC$500,17)","v":0},{"$f":"VLOOKUP(K639,'Standard Labels'!$A$7:$AC$500,19)","v":0},{"$f":"VLOOKUP(K639,'Standard Labels'!$A$7:$AC$500,21)","v":0},{"$f":"VLOOKUP(K639,'Standard Labels'!$A$7:$AC$500,23)","v":0},{"$f":"VLOOKUP(K639,'Standard Labels'!$A$7:$AC$500,25)","v":0},{"$f":"VLOOKUP(K639,'Standard Labels'!$A$7:$AC$500,27)","v":0},{"$f":"VLOOKUP(K639,'Standard Labels'!$A$7:$AC$500,29)","v":0},638]
[{"$f":"VLOOKUP(K640,'Standard Labels'!$A$7:$AC$500,11)","v":0},{"$f":"VLOOKUP(K640,'Standard Labels'!$A$7:$AC$500,13)","v":0},{"$f":"VLOOKUP(K640,'Standard Labels'!$A$7:$AC$500,15)","v":0},{"$f":"VLOOKUP(K640,'Standard Labels'!$A$7:$AC$500,17)","v":0},{"$f":"VLOOKUP(K640,'Standard Labels'!$A$7:$AC$500,19)","v":0},{"$f":"VLOOKUP(K640,'Standard Labels'!$A$7:$AC$500,21)","v":0},{"$f":"VLOOKUP(K640,'Standard Labels'!$A$7:$AC$500,23)","v":0},{"$f":"VLOOKUP(K640,'Standard Labels'!$A$7:$AC$500,25)","v":0},{"$f":"VLOOKUP(K640,'Standard Labels'!$A$7:$AC$500,27)","v":0},{"$f":"VLOOKUP(K640,'Standard Labels'!$A$7:$AC$500,29)","v":0},639]
[{"$f":"VLOOKUP(K641,'Standard Labels'!$A$7:$AC$500,11)","v":0},{"$f":"VLOOKUP(K641,'Standard Labels'!$A$7:$AC$500,13)","v":0},{"$f":"VLOOKUP(K641,'Standard Labels'!$A$7:$AC$500,15)","v":0},{"$f":"VLOOKUP(K641,'Standard Labels'!$A$7:$AC$500,17)","v":0},{"$f":"VLOOKUP(K641,'Standard Labels'!$A$7:$AC$500,19)","v":0},{"$f":"VLOOKUP(K641,'Standard Labels'!$A$7:$AC$500,21)","v":0},{"$f":"VLOOKUP(K641,'Standard Labels'!$A$7:$AC$500,23)","v":0},{"$f":"VLOOKUP(K641,'Standard Labels'!$A$7:$AC$500,25)","v":0},{"$f":"VLOOKUP(K641,'Standard Labels'!$A$7:$AC$500,27)","v":0},{"$f":"VLOOKUP(K641,'Standard Labels'!$A$7:$AC$500,29)","v":0},640]
[{"$f":"VLOOKUP(K642,'Standard Labels'!$A$7:$AC$500,11)","v":0},{"$f":"VLOOKUP(K642,'Standard Labels'!$A$7:$AC$500,13)","v":0},{"$f":"VLOOKUP(K642,'Standard Labels'!$A$7:$AC$500,15)","v":0},{"$f":"VLOOKUP(K642,'Standard Labels'!$A$7:$AC$500,17)","v":0},{"$f":"VLOOKUP(K642,'Standard Labels'!$A$7:$AC$500,19)","v":0},{"$f":"VLOOKUP(K642,'Standard Labels'!$A$7:$AC$500,21)","v":0},{"$f":"VLOOKUP(K642,'Standard Labels'!$A$7:$AC$500,23)","v":0},{"$f":"VLOOKUP(K642,'Standard Labels'!$A$7:$AC$500,25)","v":0},{"$f":"VLOOKUP(K642,'Standard Labels'!$A$7:$AC$500,27)","v":0},{"$f":"VLOOKUP(K642,'Standard Labels'!$A$7:$AC$500,29)","v":0},641]
[{"$f":"VLOOKUP(K643,'Standard Labels'!$A$7:$AC$500,11)","v":0},{"$f":"VLOOKUP(K643,'Standard Labels'!$A$7:$AC$500,13)","v":0},{"$f":"VLOOKUP(K643,'Standard Labels'!$A$7:$AC$500,15)","v":0},{"$f":"VLOOKUP(K643,'Standard Labels'!$A$7:$AC$500,17)","v":0},{"$f":"VLOOKUP(K643,'Standard Labels'!$A$7:$AC$500,19)","v":0},{"$f":"VLOOKUP(K643,'Standard Labels'!$A$7:$AC$500,21)","v":0},{"$f":"VLOOKUP(K643,'Standard Labels'!$A$7:$AC$500,23)","v":0},{"$f":"VLOOKUP(K643,'Standard Labels'!$A$7:$AC$500,25)","v":0},{"$f":"VLOOKUP(K643,'Standard Labels'!$A$7:$AC$500,27)","v":0},{"$f":"VLOOKUP(K643,'Standard Labels'!$A$7:$AC$500,29)","v":0},642]
[{"$f":"VLOOKUP(K644,'Standard Labels'!$A$7:$AC$500,11)","v":0},{"$f":"VLOOKUP(K644,'Standard Labels'!$A$7:$AC$500,13)","v":0},{"$f":"VLOOKUP(K644,'Standard Labels'!$A$7:$AC$500,15)","v":0},{"$f":"VLOOKUP(K644,'Standard Labels'!$A$7:$AC$500,17)","v":0},{"$f":"VLOOKUP(K644,'Standard Labels'!$A$7:$AC$500,19)","v":0},{"$f":"VLOOKUP(K644,'Standard Labels'!$A$7:$AC$500,21)","v":0},{"$f":"VLOOKUP(K644,'Standard Labels'!$A$7:$AC$500,23)","v":0},{"$f":"VLOOKUP(K644,'Standard Labels'!$A$7:$AC$500,25)","v":0},{"$f":"VLOOKUP(K644,'Standard Labels'!$A$7:$AC$500,27)","v":0},{"$f":"VLOOKUP(K644,'Standard Labels'!$A$7:$AC$500,29)","v":0},643]
[{"$f":"VLOOKUP(K645,'Standard Labels'!$A$7:$AC$500,11)","v":0},{"$f":"VLOOKUP(K645,'Standard Labels'!$A$7:$AC$500,13)","v":0},{"$f":"VLOOKUP(K645,'Standard Labels'!$A$7:$AC$500,15)","v":0},{"$f":"VLOOKUP(K645,'Standard Labels'!$A$7:$AC$500,17)","v":0},{"$f":"VLOOKUP(K645,'Standard Labels'!$A$7:$AC$500,19)","v":0},{"$f":"VLOOKUP(K645,'Standard Labels'!$A$7:$AC$500,21)","v":0},{"$f":"VLOOKUP(K645,'Standard Labels'!$A$7:$AC$500,23)","v":0},{"$f":"VLOOKUP(K645,'Standard Labels'!$A$7:$AC$500,25)","v":0},{"$f":"VLOOKUP(K645,'Standard Labels'!$A$7:$AC$500,27)","v":0},{"$f":"VLOOKUP(K645,'Standard Labels'!$A$7:$AC$500,29)","v":0},644]
[{"$f":"VLOOKUP(K646,'Standard Labels'!$A$7:$AC$500,11)","v":0},{"$f":"VLOOKUP(K646,'Standard Labels'!$A$7:$AC$500,13)","v":0},{"$f":"VLOOKUP(K646,'Standard Labels'!$A$7:$AC$500,15)","v":0},{"$f":"VLOOKUP(K646,'Standard Labels'!$A$7:$AC$500,17)","v":0},{"$f":"VLOOKUP(K646,'Standard Labels'!$A$7:$AC$500,19)","v":0},{"$f":"VLOOKUP(K646,'Standard Labels'!$A$7:$AC$500,21)","v":0},{"$f":"VLOOKUP(K646,'Standard Labels'!$A$7:$AC$500,23)","v":0},{"$f":"VLOOKUP(K646,'Standard Labels'!$A$7:$AC$500,25)","v":0},{"$f":"VLOOKUP(K646,'Standard Labels'!$A$7:$AC$500,27)","v":0},{"$f":"VLOOKUP(K646,'Standard Labels'!$A$7:$AC$500,29)","v":0},645]
[{"$f":"VLOOKUP(K647,'Standard Labels'!$A$7:$AC$500,11)","v":0},{"$f":"VLOOKUP(K647,'Standard Labels'!$A$7:$AC$500,13)","v":0},{"$f":"VLOOKUP(K647,'Standard Labels'!$A$7:$AC$500,15)","v":0},{"$f":"VLOOKUP(K647,'Standard Labels'!$A$7:$AC$500,17)","v":0},{"$f":"VLOOKUP(K647,'Standard Labels'!$A$7:$AC$500,19)","v":0},{"$f":"VLOOKUP(K647,'Standard Labels'!$A$7:$AC$500,21)","v":0},{"$f":"VLOOKUP(K647,'Standard Labels'!$A$7:$AC$500,23)","v":0},{"$f":"VLOOKUP(K647,'Standard Labels'!$A$7:$AC$500,25)","v":0},{"$f":"VLOOKUP(K647,'Standard Labels'!$A$7:$AC$500,27)","v":0},{"$f":"VLOOKUP(K647,'Standard Labels'!$A$7:$AC$500,29)","v":0},646]
[{"$f":"VLOOKUP(K648,'Standard Labels'!$A$7:$AC$500,11)","v":0},{"$f":"VLOOKUP(K648,'Standard Labels'!$A$7:$AC$500,13)","v":0},{"$f":"VLOOKUP(K648,'Standard Labels'!$A$7:$AC$500,15)","v":0},{"$f":"VLOOKUP(K648,'Standard Labels'!$A$7:$AC$500,17)","v":0},{"$f":"VLOOKUP(K648,'Standard Labels'!$A$7:$AC$500,19)","v":0},{"$f":"VLOOKUP(K648,'Standard Labels'!$A$7:$AC$500,21)","v":0},{"$f":"VLOOKUP(K648,'Standard Labels'!$A$7:$AC$500,23)","v":0},{"$f":"VLOOKUP(K648,'Standard Labels'!$A$7:$AC$500,25)","v":0},{"$f":"VLOOKUP(K648,'Standard Labels'!$A$7:$AC$500,27)","v":0},{"$f":"VLOOKUP(K648,'Standard Labels'!$A$7:$AC$500,29)","v":0},647]
[{"$f":"VLOOKUP(K649,'Standard Labels'!$A$7:$AC$500,11)","v":0},{"$f":"VLOOKUP(K649,'Standard Labels'!$A$7:$AC$500,13)","v":0},{"$f":"VLOOKUP(K649,'Standard Labels'!$A$7:$AC$500,15)","v":0},{"$f":"VLOOKUP(K649,'Standard Labels'!$A$7:$AC$500,17)","v":0},{"$f":"VLOOKUP(K649,'Standard Labels'!$A$7:$AC$500,19)","v":0},{"$f":"VLOOKUP(K649,'Standard Labels'!$A$7:$AC$500,21)","v":0},{"$f":"VLOOKUP(K649,'Standard Labels'!$A$7:$AC$500,23)","v":0},{"$f":"VLOOKUP(K649,'Standard Labels'!$A$7:$AC$500,25)","v":0},{"$f":"VLOOKUP(K649,'Standard Labels'!$A$7:$AC$500,27)","v":0},{"$f":"VLOOKUP(K649,'Standard Labels'!$A$7:$AC$500,29)","v":0},648]
[{"$f":"VLOOKUP(K650,'Standard Labels'!$A$7:$AC$500,11)","v":0},{"$f":"VLOOKUP(K650,'Standard Labels'!$A$7:$AC$500,13)","v":0},{"$f":"VLOOKUP(K650,'Standard Labels'!$A$7:$AC$500,15)","v":0},{"$f":"VLOOKUP(K650,'Standard Labels'!$A$7:$AC$500,17)","v":0},{"$f":"VLOOKUP(K650,'Standard Labels'!$A$7:$AC$500,19)","v":0},{"$f":"VLOOKUP(K650,'Standard Labels'!$A$7:$AC$500,21)","v":0},{"$f":"VLOOKUP(K650,'Standard Labels'!$A$7:$AC$500,23)","v":0},{"$f":"VLOOKUP(K650,'Standard Labels'!$A$7:$AC$500,25)","v":0},{"$f":"VLOOKUP(K650,'Standard Labels'!$A$7:$AC$500,27)","v":0},{"$f":"VLOOKUP(K650,'Standard Labels'!$A$7:$AC$500,29)","v":0},649]
[{"$f":"VLOOKUP(K651,'Standard Labels'!$A$7:$AC$500,11)","v":0},{"$f":"VLOOKUP(K651,'Standard Labels'!$A$7:$AC$500,13)","v":0},{"$f":"VLOOKUP(K651,'Standard Labels'!$A$7:$AC$500,15)","v":0},{"$f":"VLOOKUP(K651,'Standard Labels'!$A$7:$AC$500,17)","v":0},{"$f":"VLOOKUP(K651,'Standard Labels'!$A$7:$AC$500,19)","v":0},{"$f":"VLOOKUP(K651,'Standard Labels'!$A$7:$AC$500,21)","v":0},{"$f":"VLOOKUP(K651,'Standard Labels'!$A$7:$AC$500,23)","v":0},{"$f":"VLOOKUP(K651,'Standard Labels'!$A$7:$AC$500,25)","v":0},{"$f":"VLOOKUP(K651,'Standard Labels'!$A$7:$AC$500,27)","v":0},{"$f":"VLOOKUP(K651,'Standard Labels'!$A$7:$AC$500,29)","v":0},650]
[{"$f":"VLOOKUP(K652,'Standard Labels'!$A$7:$AC$500,11)","v":0},{"$f":"VLOOKUP(K652,'Standard Labels'!$A$7:$AC$500,13)","v":0},{"$f":"VLOOKUP(K652,'Standard Labels'!$A$7:$AC$500,15)","v":0},{"$f":"VLOOKUP(K652,'Standard Labels'!$A$7:$AC$500,17)","v":0},{"$f":"VLOOKUP(K652,'Standard Labels'!$A$7:$AC$500,19)","v":0},{"$f":"VLOOKUP(K652,'Standard Labels'!$A$7:$AC$500,21)","v":0},{"$f":"VLOOKUP(K652,'Standard Labels'!$A$7:$AC$500,23)","v":0},{"$f":"VLOOKUP(K652,'Standard Labels'!$A$7:$AC$500,25)","v":0},{"$f":"VLOOKUP(K652,'Standard Labels'!$A$7:$AC$500,27)","v":0},{"$f":"VLOOKUP(K652,'Standard Labels'!$A$7:$AC$500,29)","v":0},651]
[{"$f":"VLOOKUP(K653,'Standard Labels'!$A$7:$AC$500,11)","v":0},{"$f":"VLOOKUP(K653,'Standard Labels'!$A$7:$AC$500,13)","v":0},{"$f":"VLOOKUP(K653,'Standard Labels'!$A$7:$AC$500,15)","v":0},{"$f":"VLOOKUP(K653,'Standard Labels'!$A$7:$AC$500,17)","v":0},{"$f":"VLOOKUP(K653,'Standard Labels'!$A$7:$AC$500,19)","v":0},{"$f":"VLOOKUP(K653,'Standard Labels'!$A$7:$AC$500,21)","v":0},{"$f":"VLOOKUP(K653,'Standard Labels'!$A$7:$AC$500,23)","v":0},{"$f":"VLOOKUP(K653,'Standard Labels'!$A$7:$AC$500,25)","v":0},{"$f":"VLOOKUP(K653,'Standard Labels'!$A$7:$AC$500,27)","v":0},{"$f":"VLOOKUP(K653,'Standard Labels'!$A$7:$AC$500,29)","v":0},652]
[{"$f":"VLOOKUP(K654,'Standard Labels'!$A$7:$AC$500,11)","v":0},{"$f":"VLOOKUP(K654,'Standard Labels'!$A$7:$AC$500,13)","v":0},{"$f":"VLOOKUP(K654,'Standard Labels'!$A$7:$AC$500,15)","v":0},{"$f":"VLOOKUP(K654,'Standard Labels'!$A$7:$AC$500,17)","v":0},{"$f":"VLOOKUP(K654,'Standard Labels'!$A$7:$AC$500,19)","v":0},{"$f":"VLOOKUP(K654,'Standard Labels'!$A$7:$AC$500,21)","v":0},{"$f":"VLOOKUP(K654,'Standard Labels'!$A$7:$AC$500,23)","v":0},{"$f":"VLOOKUP(K654,'Standard Labels'!$A$7:$AC$500,25)","v":0},{"$f":"VLOOKUP(K654,'Standard Labels'!$A$7:$AC$500,27)","v":0},{"$f":"VLOOKUP(K654,'Standard Labels'!$A$7:$AC$500,29)","v":0},653]
[{"$f":"VLOOKUP(K655,'Standard Labels'!$A$7:$AC$500,11)","v":0},{"$f":"VLOOKUP(K655,'Standard Labels'!$A$7:$AC$500,13)","v":0},{"$f":"VLOOKUP(K655,'Standard Labels'!$A$7:$AC$500,15)","v":0},{"$f":"VLOOKUP(K655,'Standard Labels'!$A$7:$AC$500,17)","v":0},{"$f":"VLOOKUP(K655,'Standard Labels'!$A$7:$AC$500,19)","v":0},{"$f":"VLOOKUP(K655,'Standard Labels'!$A$7:$AC$500,21)","v":0},{"$f":"VLOOKUP(K655,'Standard Labels'!$A$7:$AC$500,23)","v":0},{"$f":"VLOOKUP(K655,'Standard Labels'!$A$7:$AC$500,25)","v":0},{"$f":"VLOOKUP(K655,'Standard Labels'!$A$7:$AC$500,27)","v":0},{"$f":"VLOOKUP(K655,'Standard Labels'!$A$7:$AC$500,29)","v":0},654]
[{"$f":"VLOOKUP(K656,'Standard Labels'!$A$7:$AC$500,11)","v":0},{"$f":"VLOOKUP(K656,'Standard Labels'!$A$7:$AC$500,13)","v":0},{"$f":"VLOOKUP(K656,'Standard Labels'!$A$7:$AC$500,15)","v":0},{"$f":"VLOOKUP(K656,'Standard Labels'!$A$7:$AC$500,17)","v":0},{"$f":"VLOOKUP(K656,'Standard Labels'!$A$7:$AC$500,19)","v":0},{"$f":"VLOOKUP(K656,'Standard Labels'!$A$7:$AC$500,21)","v":0},{"$f":"VLOOKUP(K656,'Standard Labels'!$A$7:$AC$500,23)","v":0},{"$f":"VLOOKUP(K656,'Standard Labels'!$A$7:$AC$500,25)","v":0},{"$f":"VLOOKUP(K656,'Standard Labels'!$A$7:$AC$500,27)","v":0},{"$f":"VLOOKUP(K656,'Standard Labels'!$A$7:$AC$500,29)","v":0},655]
[{"$f":"VLOOKUP(K657,'Standard Labels'!$A$7:$AC$500,11)","v":0},{"$f":"VLOOKUP(K657,'Standard Labels'!$A$7:$AC$500,13)","v":0},{"$f":"VLOOKUP(K657,'Standard Labels'!$A$7:$AC$500,15)","v":0},{"$f":"VLOOKUP(K657,'Standard Labels'!$A$7:$AC$500,17)","v":0},{"$f":"VLOOKUP(K657,'Standard Labels'!$A$7:$AC$500,19)","v":0},{"$f":"VLOOKUP(K657,'Standard Labels'!$A$7:$AC$500,21)","v":0},{"$f":"VLOOKUP(K657,'Standard Labels'!$A$7:$AC$500,23)","v":0},{"$f":"VLOOKUP(K657,'Standard Labels'!$A$7:$AC$500,25)","v":0},{"$f":"VLOOKUP(K657,'Standard Labels'!$A$7:$AC$500,27)","v":0},{"$f":"VLOOKUP(K657,'Standard Labels'!$A$7:$AC$500,29)","v":0},656]
[{"$f":"VLOOKUP(K658,'Standard Labels'!$A$7:$AC$500,11)","v":0},{"$f":"VLOOKUP(K658,'Standard Labels'!$A$7:$AC$500,13)","v":0},{"$f":"VLOOKUP(K658,'Standard Labels'!$A$7:$AC$500,15)","v":0},{"$f":"VLOOKUP(K658,'Standard Labels'!$A$7:$AC$500,17)","v":0},{"$f":"VLOOKUP(K658,'Standard Labels'!$A$7:$AC$500,19)","v":0},{"$f":"VLOOKUP(K658,'Standard Labels'!$A$7:$AC$500,21)","v":0},{"$f":"VLOOKUP(K658,'Standard Labels'!$A$7:$AC$500,23)","v":0},{"$f":"VLOOKUP(K658,'Standard Labels'!$A$7:$AC$500,25)","v":0},{"$f":"VLOOKUP(K658,'Standard Labels'!$A$7:$AC$500,27)","v":0},{"$f":"VLOOKUP(K658,'Standard Labels'!$A$7:$AC$500,29)","v":0},657]
[{"$f":"VLOOKUP(K659,'Standard Labels'!$A$7:$AC$500,11)","v":0},{"$f":"VLOOKUP(K659,'Standard Labels'!$A$7:$AC$500,13)","v":0},{"$f":"VLOOKUP(K659,'Standard Labels'!$A$7:$AC$500,15)","v":0},{"$f":"VLOOKUP(K659,'Standard Labels'!$A$7:$AC$500,17)","v":0},{"$f":"VLOOKUP(K659,'Standard Labels'!$A$7:$AC$500,19)","v":0},{"$f":"VLOOKUP(K659,'Standard Labels'!$A$7:$AC$500,21)","v":0},{"$f":"VLOOKUP(K659,'Standard Labels'!$A$7:$AC$500,23)","v":0},{"$f":"VLOOKUP(K659,'Standard Labels'!$A$7:$AC$500,25)","v":0},{"$f":"VLOOKUP(K659,'Standard Labels'!$A$7:$AC$500,27)","v":0},{"$f":"VLOOKUP(K659,'Standard Labels'!$A$7:$AC$500,29)","v":0},658]
[{"$f":"VLOOKUP(K660,'Standard Labels'!$A$7:$AC$500,11)","v":0},{"$f":"VLOOKUP(K660,'Standard Labels'!$A$7:$AC$500,13)","v":0},{"$f":"VLOOKUP(K660,'Standard Labels'!$A$7:$AC$500,15)","v":0},{"$f":"VLOOKUP(K660,'Standard Labels'!$A$7:$AC$500,17)","v":0},{"$f":"VLOOKUP(K660,'Standard Labels'!$A$7:$AC$500,19)","v":0},{"$f":"VLOOKUP(K660,'Standard Labels'!$A$7:$AC$500,21)","v":0},{"$f":"VLOOKUP(K660,'Standard Labels'!$A$7:$AC$500,23)","v":0},{"$f":"VLOOKUP(K660,'Standard Labels'!$A$7:$AC$500,25)","v":0},{"$f":"VLOOKUP(K660,'Standard Labels'!$A$7:$AC$500,27)","v":0},{"$f":"VLOOKUP(K660,'Standard Labels'!$A$7:$AC$500,29)","v":0},659]
[{"$f":"VLOOKUP(K661,'Standard Labels'!$A$7:$AC$500,11)","v":0},{"$f":"VLOOKUP(K661,'Standard Labels'!$A$7:$AC$500,13)","v":0},{"$f":"VLOOKUP(K661,'Standard Labels'!$A$7:$AC$500,15)","v":0},{"$f":"VLOOKUP(K661,'Standard Labels'!$A$7:$AC$500,17)","v":0},{"$f":"VLOOKUP(K661,'Standard Labels'!$A$7:$AC$500,19)","v":0},{"$f":"VLOOKUP(K661,'Standard Labels'!$A$7:$AC$500,21)","v":0},{"$f":"VLOOKUP(K661,'Standard Labels'!$A$7:$AC$500,23)","v":0},{"$f":"VLOOKUP(K661,'Standard Labels'!$A$7:$AC$500,25)","v":0},{"$f":"VLOOKUP(K661,'Standard Labels'!$A$7:$AC$500,27)","v":0},{"$f":"VLOOKUP(K661,'Standard Labels'!$A$7:$AC$500,29)","v":0},660]
[{"$f":"VLOOKUP(K662,'Standard Labels'!$A$7:$AC$500,11)","v":0},{"$f":"VLOOKUP(K662,'Standard Labels'!$A$7:$AC$500,13)","v":0},{"$f":"VLOOKUP(K662,'Standard Labels'!$A$7:$AC$500,15)","v":0},{"$f":"VLOOKUP(K662,'Standard Labels'!$A$7:$AC$500,17)","v":0},{"$f":"VLOOKUP(K662,'Standard Labels'!$A$7:$AC$500,19)","v":0},{"$f":"VLOOKUP(K662,'Standard Labels'!$A$7:$AC$500,21)","v":0},{"$f":"VLOOKUP(K662,'Standard Labels'!$A$7:$AC$500,23)","v":0},{"$f":"VLOOKUP(K662,'Standard Labels'!$A$7:$AC$500,25)","v":0},{"$f":"VLOOKUP(K662,'Standard Labels'!$A$7:$AC$500,27)","v":0},{"$f":"VLOOKUP(K662,'Standard Labels'!$A$7:$AC$500,29)","v":0},661]
[{"$f":"VLOOKUP(K663,'Standard Labels'!$A$7:$AC$500,11)","v":0},{"$f":"VLOOKUP(K663,'Standard Labels'!$A$7:$AC$500,13)","v":0},{"$f":"VLOOKUP(K663,'Standard Labels'!$A$7:$AC$500,15)","v":0},{"$f":"VLOOKUP(K663,'Standard Labels'!$A$7:$AC$500,17)","v":0},{"$f":"VLOOKUP(K663,'Standard Labels'!$A$7:$AC$500,19)","v":0},{"$f":"VLOOKUP(K663,'Standard Labels'!$A$7:$AC$500,21)","v":0},{"$f":"VLOOKUP(K663,'Standard Labels'!$A$7:$AC$500,23)","v":0},{"$f":"VLOOKUP(K663,'Standard Labels'!$A$7:$AC$500,25)","v":0},{"$f":"VLOOKUP(K663,'Standard Labels'!$A$7:$AC$500,27)","v":0},{"$f":"VLOOKUP(K663,'Standard Labels'!$A$7:$AC$500,29)","v":0},662]
[{"$f":"VLOOKUP(K664,'Standard Labels'!$A$7:$AC$500,11)","v":0},{"$f":"VLOOKUP(K664,'Standard Labels'!$A$7:$AC$500,13)","v":0},{"$f":"VLOOKUP(K664,'Standard Labels'!$A$7:$AC$500,15)","v":0},{"$f":"VLOOKUP(K664,'Standard Labels'!$A$7:$AC$500,17)","v":0},{"$f":"VLOOKUP(K664,'Standard Labels'!$A$7:$AC$500,19)","v":0},{"$f":"VLOOKUP(K664,'Standard Labels'!$A$7:$AC$500,21)","v":0},{"$f":"VLOOKUP(K664,'Standard Labels'!$A$7:$AC$500,23)","v":0},{"$f":"VLOOKUP(K664,'Standard Labels'!$A$7:$AC$500,25)","v":0},{"$f":"VLOOKUP(K664,'Standard Labels'!$A$7:$AC$500,27)","v":0},{"$f":"VLOOKUP(K664,'Standard Labels'!$A$7:$AC$500,29)","v":0},663]
[{"$f":"VLOOKUP(K665,'Standard Labels'!$A$7:$AC$500,11)","v":0},{"$f":"VLOOKUP(K665,'Standard Labels'!$A$7:$AC$500,13)","v":0},{"$f":"VLOOKUP(K665,'Standard Labels'!$A$7:$AC$500,15)","v":0},{"$f":"VLOOKUP(K665,'Standard Labels'!$A$7:$AC$500,17)","v":0},{"$f":"VLOOKUP(K665,'Standard Labels'!$A$7:$AC$500,19)","v":0},{"$f":"VLOOKUP(K665,'Standard Labels'!$A$7:$AC$500,21)","v":0},{"$f":"VLOOKUP(K665,'Standard Labels'!$A$7:$AC$500,23)","v":0},{"$f":"VLOOKUP(K665,'Standard Labels'!$A$7:$AC$500,25)","v":0},{"$f":"VLOOKUP(K665,'Standard Labels'!$A$7:$AC$500,27)","v":0},{"$f":"VLOOKUP(K665,'Standard Labels'!$A$7:$AC$500,29)","v":0},664]
[{"$f":"VLOOKUP(K666,'Standard Labels'!$A$7:$AC$500,11)","v":0},{"$f":"VLOOKUP(K666,'Standard Labels'!$A$7:$AC$500,13)","v":0},{"$f":"VLOOKUP(K666,'Standard Labels'!$A$7:$AC$500,15)","v":0},{"$f":"VLOOKUP(K666,'Standard Labels'!$A$7:$AC$500,17)","v":0},{"$f":"VLOOKUP(K666,'Standard Labels'!$A$7:$AC$500,19)","v":0},{"$f":"VLOOKUP(K666,'Standard Labels'!$A$7:$AC$500,21)","v":0},{"$f":"VLOOKUP(K666,'Standard Labels'!$A$7:$AC$500,23)","v":0},{"$f":"VLOOKUP(K666,'Standard Labels'!$A$7:$AC$500,25)","v":0},{"$f":"VLOOKUP(K666,'Standard Labels'!$A$7:$AC$500,27)","v":0},{"$f":"VLOOKUP(K666,'Standard Labels'!$A$7:$AC$500,29)","v":0},665]
[{"$f":"VLOOKUP(K667,'Standard Labels'!$A$7:$AC$500,11)","v":0},{"$f":"VLOOKUP(K667,'Standard Labels'!$A$7:$AC$500,13)","v":0},{"$f":"VLOOKUP(K667,'Standard Labels'!$A$7:$AC$500,15)","v":0},{"$f":"VLOOKUP(K667,'Standard Labels'!$A$7:$AC$500,17)","v":0},{"$f":"VLOOKUP(K667,'Standard Labels'!$A$7:$AC$500,19)","v":0},{"$f":"VLOOKUP(K667,'Standard Labels'!$A$7:$AC$500,21)","v":0},{"$f":"VLOOKUP(K667,'Standard Labels'!$A$7:$AC$500,23)","v":0},{"$f":"VLOOKUP(K667,'Standard Labels'!$A$7:$AC$500,25)","v":0},{"$f":"VLOOKUP(K667,'Standard Labels'!$A$7:$AC$500,27)","v":0},{"$f":"VLOOKUP(K667,'Standard Labels'!$A$7:$AC$500,29)","v":0},666]
[{"$f":"VLOOKUP(K668,'Standard Labels'!$A$7:$AC$500,11)","v":0},{"$f":"VLOOKUP(K668,'Standard Labels'!$A$7:$AC$500,13)","v":0},{"$f":"VLOOKUP(K668,'Standard Labels'!$A$7:$AC$500,15)","v":0},{"$f":"VLOOKUP(K668,'Standard Labels'!$A$7:$AC$500,17)","v":0},{"$f":"VLOOKUP(K668,'Standard Labels'!$A$7:$AC$500,19)","v":0},{"$f":"VLOOKUP(K668,'Standard Labels'!$A$7:$AC$500,21)","v":0},{"$f":"VLOOKUP(K668,'Standard Labels'!$A$7:$AC$500,23)","v":0},{"$f":"VLOOKUP(K668,'Standard Labels'!$A$7:$AC$500,25)","v":0},{"$f":"VLOOKUP(K668,'Standard Labels'!$A$7:$AC$500,27)","v":0},{"$f":"VLOOKUP(K668,'Standard Labels'!$A$7:$AC$500,29)","v":0},667]
[{"$f":"VLOOKUP(K669,'Standard Labels'!$A$7:$AC$500,11)","v":0},{"$f":"VLOOKUP(K669,'Standard Labels'!$A$7:$AC$500,13)","v":0},{"$f":"VLOOKUP(K669,'Standard Labels'!$A$7:$AC$500,15)","v":0},{"$f":"VLOOKUP(K669,'Standard Labels'!$A$7:$AC$500,17)","v":0},{"$f":"VLOOKUP(K669,'Standard Labels'!$A$7:$AC$500,19)","v":0},{"$f":"VLOOKUP(K669,'Standard Labels'!$A$7:$AC$500,21)","v":0},{"$f":"VLOOKUP(K669,'Standard Labels'!$A$7:$AC$500,23)","v":0},{"$f":"VLOOKUP(K669,'Standard Labels'!$A$7:$AC$500,25)","v":0},{"$f":"VLOOKUP(K669,'Standard Labels'!$A$7:$AC$500,27)","v":0},{"$f":"VLOOKUP(K669,'Standard Labels'!$A$7:$AC$500,29)","v":0},668]
[{"$f":"VLOOKUP(K670,'Standard Labels'!$A$7:$AC$500,11)","v":0},{"$f":"VLOOKUP(K670,'Standard Labels'!$A$7:$AC$500,13)","v":0},{"$f":"VLOOKUP(K670,'Standard Labels'!$A$7:$AC$500,15)","v":0},{"$f":"VLOOKUP(K670,'Standard Labels'!$A$7:$AC$500,17)","v":0},{"$f":"VLOOKUP(K670,'Standard Labels'!$A$7:$AC$500,19)","v":0},{"$f":"VLOOKUP(K670,'Standard Labels'!$A$7:$AC$500,21)","v":0},{"$f":"VLOOKUP(K670,'Standard Labels'!$A$7:$AC$500,23)","v":0},{"$f":"VLOOKUP(K670,'Standard Labels'!$A$7:$AC$500,25)","v":0},{"$f":"VLOOKUP(K670,'Standard Labels'!$A$7:$AC$500,27)","v":0},{"$f":"VLOOKUP(K670,'Standard Labels'!$A$7:$AC$500,29)","v":0},669]
[{"$f":"VLOOKUP(K671,'Standard Labels'!$A$7:$AC$500,11)","v":0},{"$f":"VLOOKUP(K671,'Standard Labels'!$A$7:$AC$500,13)","v":0},{"$f":"VLOOKUP(K671,'Standard Labels'!$A$7:$AC$500,15)","v":0},{"$f":"VLOOKUP(K671,'Standard Labels'!$A$7:$AC$500,17)","v":0},{"$f":"VLOOKUP(K671,'Standard Labels'!$A$7:$AC$500,19)","v":0},{"$f":"VLOOKUP(K671,'Standard Labels'!$A$7:$AC$500,21)","v":0},{"$f":"VLOOKUP(K671,'Standard Labels'!$A$7:$AC$500,23)","v":0},{"$f":"VLOOKUP(K671,'Standard Labels'!$A$7:$AC$500,25)","v":0},{"$f":"VLOOKUP(K671,'Standard Labels'!$A$7:$AC$500,27)","v":0},{"$f":"VLOOKUP(K671,'Standard Labels'!$A$7:$AC$500,29)","v":0},670]
[{"$f":"VLOOKUP(K672,'Standard Labels'!$A$7:$AC$500,11)","v":0},{"$f":"VLOOKUP(K672,'Standard Labels'!$A$7:$AC$500,13)","v":0},{"$f":"VLOOKUP(K672,'Standard Labels'!$A$7:$AC$500,15)","v":0},{"$f":"VLOOKUP(K672,'Standard Labels'!$A$7:$AC$500,17)","v":0},{"$f":"VLOOKUP(K672,'Standard Labels'!$A$7:$AC$500,19)","v":0},{"$f":"VLOOKUP(K672,'Standard Labels'!$A$7:$AC$500,21)","v":0},{"$f":"VLOOKUP(K672,'Standard Labels'!$A$7:$AC$500,23)","v":0},{"$f":"VLOOKUP(K672,'Standard Labels'!$A$7:$AC$500,25)","v":0},{"$f":"VLOOKUP(K672,'Standard Labels'!$A$7:$AC$500,27)","v":0},{"$f":"VLOOKUP(K672,'Standard Labels'!$A$7:$AC$500,29)","v":0},671]
[{"$f":"VLOOKUP(K673,'Standard Labels'!$A$7:$AC$500,11)","v":0},{"$f":"VLOOKUP(K673,'Standard Labels'!$A$7:$AC$500,13)","v":0},{"$f":"VLOOKUP(K673,'Standard Labels'!$A$7:$AC$500,15)","v":0},{"$f":"VLOOKUP(K673,'Standard Labels'!$A$7:$AC$500,17)","v":0},{"$f":"VLOOKUP(K673,'Standard Labels'!$A$7:$AC$500,19)","v":0},{"$f":"VLOOKUP(K673,'Standard Labels'!$A$7:$AC$500,21)","v":0},{"$f":"VLOOKUP(K673,'Standard Labels'!$A$7:$AC$500,23)","v":0},{"$f":"VLOOKUP(K673,'Standard Labels'!$A$7:$AC$500,25)","v":0},{"$f":"VLOOKUP(K673,'Standard Labels'!$A$7:$AC$500,27)","v":0},{"$f":"VLOOKUP(K673,'Standard Labels'!$A$7:$AC$500,29)","v":0},672]
[{"$f":"VLOOKUP(K674,'Standard Labels'!$A$7:$AC$500,11)","v":0},{"$f":"VLOOKUP(K674,'Standard Labels'!$A$7:$AC$500,13)","v":0},{"$f":"VLOOKUP(K674,'Standard Labels'!$A$7:$AC$500,15)","v":0},{"$f":"VLOOKUP(K674,'Standard Labels'!$A$7:$AC$500,17)","v":0},{"$f":"VLOOKUP(K674,'Standard Labels'!$A$7:$AC$500,19)","v":0},{"$f":"VLOOKUP(K674,'Standard Labels'!$A$7:$AC$500,21)","v":0},{"$f":"VLOOKUP(K674,'Standard Labels'!$A$7:$AC$500,23)","v":0},{"$f":"VLOOKUP(K674,'Standard Labels'!$A$7:$AC$500,25)","v":0},{"$f":"VLOOKUP(K674,'Standard Labels'!$A$7:$AC$500,27)","v":0},{"$f":"VLOOKUP(K674,'Standard Labels'!$A$7:$AC$500,29)","v":0},673]
[{"$f":"VLOOKUP(K675,'Standard Labels'!$A$7:$AC$500,11)","v":0},{"$f":"VLOOKUP(K675,'Standard Labels'!$A$7:$AC$500,13)","v":0},{"$f":"VLOOKUP(K675,'Standard Labels'!$A$7:$AC$500,15)","v":0},{"$f":"VLOOKUP(K675,'Standard Labels'!$A$7:$AC$500,17)","v":0},{"$f":"VLOOKUP(K675,'Standard Labels'!$A$7:$AC$500,19)","v":0},{"$f":"VLOOKUP(K675,'Standard Labels'!$A$7:$AC$500,21)","v":0},{"$f":"VLOOKUP(K675,'Standard Labels'!$A$7:$AC$500,23)","v":0},{"$f":"VLOOKUP(K675,'Standard Labels'!$A$7:$AC$500,25)","v":0},{"$f":"VLOOKUP(K675,'Standard Labels'!$A$7:$AC$500,27)","v":0},{"$f":"VLOOKUP(K675,'Standard Labels'!$A$7:$AC$500,29)","v":0},674]
[{"$f":"VLOOKUP(K676,'Standard Labels'!$A$7:$AC$500,11)","v":0},{"$f":"VLOOKUP(K676,'Standard Labels'!$A$7:$AC$500,13)","v":0},{"$f":"VLOOKUP(K676,'Standard Labels'!$A$7:$AC$500,15)","v":0},{"$f":"VLOOKUP(K676,'Standard Labels'!$A$7:$AC$500,17)","v":0},{"$f":"VLOOKUP(K676,'Standard Labels'!$A$7:$AC$500,19)","v":0},{"$f":"VLOOKUP(K676,'Standard Labels'!$A$7:$AC$500,21)","v":0},{"$f":"VLOOKUP(K676,'Standard Labels'!$A$7:$AC$500,23)","v":0},{"$f":"VLOOKUP(K676,'Standard Labels'!$A$7:$AC$500,25)","v":0},{"$f":"VLOOKUP(K676,'Standard Labels'!$A$7:$AC$500,27)","v":0},{"$f":"VLOOKUP(K676,'Standard Labels'!$A$7:$AC$500,29)","v":0},675]
[{"$f":"VLOOKUP(K677,'Standard Labels'!$A$7:$AC$500,11)","v":0},{"$f":"VLOOKUP(K677,'Standard Labels'!$A$7:$AC$500,13)","v":0},{"$f":"VLOOKUP(K677,'Standard Labels'!$A$7:$AC$500,15)","v":0},{"$f":"VLOOKUP(K677,'Standard Labels'!$A$7:$AC$500,17)","v":0},{"$f":"VLOOKUP(K677,'Standard Labels'!$A$7:$AC$500,19)","v":0},{"$f":"VLOOKUP(K677,'Standard Labels'!$A$7:$AC$500,21)","v":0},{"$f":"VLOOKUP(K677,'Standard Labels'!$A$7:$AC$500,23)","v":0},{"$f":"VLOOKUP(K677,'Standard Labels'!$A$7:$AC$500,25)","v":0},{"$f":"VLOOKUP(K677,'Standard Labels'!$A$7:$AC$500,27)","v":0},{"$f":"VLOOKUP(K677,'Standard Labels'!$A$7:$AC$500,29)","v":0},676]
[{"$f":"VLOOKUP(K678,'Standard Labels'!$A$7:$AC$500,11)","v":0},{"$f":"VLOOKUP(K678,'Standard Labels'!$A$7:$AC$500,13)","v":0},{"$f":"VLOOKUP(K678,'Standard Labels'!$A$7:$AC$500,15)","v":0},{"$f":"VLOOKUP(K678,'Standard Labels'!$A$7:$AC$500,17)","v":0},{"$f":"VLOOKUP(K678,'Standard Labels'!$A$7:$AC$500,19)","v":0},{"$f":"VLOOKUP(K678,'Standard Labels'!$A$7:$AC$500,21)","v":0},{"$f":"VLOOKUP(K678,'Standard Labels'!$A$7:$AC$500,23)","v":0},{"$f":"VLOOKUP(K678,'Standard Labels'!$A$7:$AC$500,25)","v":0},{"$f":"VLOOKUP(K678,'Standard Labels'!$A$7:$AC$500,27)","v":0},{"$f":"VLOOKUP(K678,'Standard Labels'!$A$7:$AC$500,29)","v":0},677]
[{"$f":"VLOOKUP(K679,'Standard Labels'!$A$7:$AC$500,11)","v":0},{"$f":"VLOOKUP(K679,'Standard Labels'!$A$7:$AC$500,13)","v":0},{"$f":"VLOOKUP(K679,'Standard Labels'!$A$7:$AC$500,15)","v":0},{"$f":"VLOOKUP(K679,'Standard Labels'!$A$7:$AC$500,17)","v":0},{"$f":"VLOOKUP(K679,'Standard Labels'!$A$7:$AC$500,19)","v":0},{"$f":"VLOOKUP(K679,'Standard Labels'!$A$7:$AC$500,21)","v":0},{"$f":"VLOOKUP(K679,'Standard Labels'!$A$7:$AC$500,23)","v":0},{"$f":"VLOOKUP(K679,'Standard Labels'!$A$7:$AC$500,25)","v":0},{"$f":"VLOOKUP(K679,'Standard Labels'!$A$7:$AC$500,27)","v":0},{"$f":"VLOOKUP(K679,'Standard Labels'!$A$7:$AC$500,29)","v":0},678]
[{"$f":"VLOOKUP(K680,'Standard Labels'!$A$7:$AC$500,11)","v":0},{"$f":"VLOOKUP(K680,'Standard Labels'!$A$7:$AC$500,13)","v":0},{"$f":"VLOOKUP(K680,'Standard Labels'!$A$7:$AC$500,15)","v":0},{"$f":"VLOOKUP(K680,'Standard Labels'!$A$7:$AC$500,17)","v":0},{"$f":"VLOOKUP(K680,'Standard Labels'!$A$7:$AC$500,19)","v":0},{"$f":"VLOOKUP(K680,'Standard Labels'!$A$7:$AC$500,21)","v":0},{"$f":"VLOOKUP(K680,'Standard Labels'!$A$7:$AC$500,23)","v":0},{"$f":"VLOOKUP(K680,'Standard Labels'!$A$7:$AC$500,25)","v":0},{"$f":"VLOOKUP(K680,'Standard Labels'!$A$7:$AC$500,27)","v":0},{"$f":"VLOOKUP(K680,'Standard Labels'!$A$7:$AC$500,29)","v":0},679]
[{"$f":"VLOOKUP(K681,'Standard Labels'!$A$7:$AC$500,11)","v":0},{"$f":"VLOOKUP(K681,'Standard Labels'!$A$7:$AC$500,13)","v":0},{"$f":"VLOOKUP(K681,'Standard Labels'!$A$7:$AC$500,15)","v":0},{"$f":"VLOOKUP(K681,'Standard Labels'!$A$7:$AC$500,17)","v":0},{"$f":"VLOOKUP(K681,'Standard Labels'!$A$7:$AC$500,19)","v":0},{"$f":"VLOOKUP(K681,'Standard Labels'!$A$7:$AC$500,21)","v":0},{"$f":"VLOOKUP(K681,'Standard Labels'!$A$7:$AC$500,23)","v":0},{"$f":"VLOOKUP(K681,'Standard Labels'!$A$7:$AC$500,25)","v":0},{"$f":"VLOOKUP(K681,'Standard Labels'!$A$7:$AC$500,27)","v":0},{"$f":"VLOOKUP(K681,'Standard Labels'!$A$7:$AC$500,29)","v":0},680]
[{"$f":"VLOOKUP(K682,'Standard Labels'!$A$7:$AC$500,11)","v":0},{"$f":"VLOOKUP(K682,'Standard Labels'!$A$7:$AC$500,13)","v":0},{"$f":"VLOOKUP(K682,'Standard Labels'!$A$7:$AC$500,15)","v":0},{"$f":"VLOOKUP(K682,'Standard Labels'!$A$7:$AC$500,17)","v":0},{"$f":"VLOOKUP(K682,'Standard Labels'!$A$7:$AC$500,19)","v":0},{"$f":"VLOOKUP(K682,'Standard Labels'!$A$7:$AC$500,21)","v":0},{"$f":"VLOOKUP(K682,'Standard Labels'!$A$7:$AC$500,23)","v":0},{"$f":"VLOOKUP(K682,'Standard Labels'!$A$7:$AC$500,25)","v":0},{"$f":"VLOOKUP(K682,'Standard Labels'!$A$7:$AC$500,27)","v":0},{"$f":"VLOOKUP(K682,'Standard Labels'!$A$7:$AC$500,29)","v":0},681]
[{"$f":"VLOOKUP(K683,'Standard Labels'!$A$7:$AC$500,11)","v":0},{"$f":"VLOOKUP(K683,'Standard Labels'!$A$7:$AC$500,13)","v":0},{"$f":"VLOOKUP(K683,'Standard Labels'!$A$7:$AC$500,15)","v":0},{"$f":"VLOOKUP(K683,'Standard Labels'!$A$7:$AC$500,17)","v":0},{"$f":"VLOOKUP(K683,'Standard Labels'!$A$7:$AC$500,19)","v":0},{"$f":"VLOOKUP(K683,'Standard Labels'!$A$7:$AC$500,21)","v":0},{"$f":"VLOOKUP(K683,'Standard Labels'!$A$7:$AC$500,23)","v":0},{"$f":"VLOOKUP(K683,'Standard Labels'!$A$7:$AC$500,25)","v":0},{"$f":"VLOOKUP(K683,'Standard Labels'!$A$7:$AC$500,27)","v":0},{"$f":"VLOOKUP(K683,'Standard Labels'!$A$7:$AC$500,29)","v":0},682]
[{"$f":"VLOOKUP(K684,'Standard Labels'!$A$7:$AC$500,11)","v":0},{"$f":"VLOOKUP(K684,'Standard Labels'!$A$7:$AC$500,13)","v":0},{"$f":"VLOOKUP(K684,'Standard Labels'!$A$7:$AC$500,15)","v":0},{"$f":"VLOOKUP(K684,'Standard Labels'!$A$7:$AC$500,17)","v":0},{"$f":"VLOOKUP(K684,'Standard Labels'!$A$7:$AC$500,19)","v":0},{"$f":"VLOOKUP(K684,'Standard Labels'!$A$7:$AC$500,21)","v":0},{"$f":"VLOOKUP(K684,'Standard Labels'!$A$7:$AC$500,23)","v":0},{"$f":"VLOOKUP(K684,'Standard Labels'!$A$7:$AC$500,25)","v":0},{"$f":"VLOOKUP(K684,'Standard Labels'!$A$7:$AC$500,27)","v":0},{"$f":"VLOOKUP(K684,'Standard Labels'!$A$7:$AC$500,29)","v":0},683]
[{"$f":"VLOOKUP(K685,'Standard Labels'!$A$7:$AC$500,11)","v":0},{"$f":"VLOOKUP(K685,'Standard Labels'!$A$7:$AC$500,13)","v":0},{"$f":"VLOOKUP(K685,'Standard Labels'!$A$7:$AC$500,15)","v":0},{"$f":"VLOOKUP(K685,'Standard Labels'!$A$7:$AC$500,17)","v":0},{"$f":"VLOOKUP(K685,'Standard Labels'!$A$7:$AC$500,19)","v":0},{"$f":"VLOOKUP(K685,'Standard Labels'!$A$7:$AC$500,21)","v":0},{"$f":"VLOOKUP(K685,'Standard Labels'!$A$7:$AC$500,23)","v":0},{"$f":"VLOOKUP(K685,'Standard Labels'!$A$7:$AC$500,25)","v":0},{"$f":"VLOOKUP(K685,'Standard Labels'!$A$7:$AC$500,27)","v":0},{"$f":"VLOOKUP(K685,'Standard Labels'!$A$7:$AC$500,29)","v":0},684]
[{"$f":"VLOOKUP(K686,'Standard Labels'!$A$7:$AC$500,11)","v":0},{"$f":"VLOOKUP(K686,'Standard Labels'!$A$7:$AC$500,13)","v":0},{"$f":"VLOOKUP(K686,'Standard Labels'!$A$7:$AC$500,15)","v":0},{"$f":"VLOOKUP(K686,'Standard Labels'!$A$7:$AC$500,17)","v":0},{"$f":"VLOOKUP(K686,'Standard Labels'!$A$7:$AC$500,19)","v":0},{"$f":"VLOOKUP(K686,'Standard Labels'!$A$7:$AC$500,21)","v":0},{"$f":"VLOOKUP(K686,'Standard Labels'!$A$7:$AC$500,23)","v":0},{"$f":"VLOOKUP(K686,'Standard Labels'!$A$7:$AC$500,25)","v":0},{"$f":"VLOOKUP(K686,'Standard Labels'!$A$7:$AC$500,27)","v":0},{"$f":"VLOOKUP(K686,'Standard Labels'!$A$7:$AC$500,29)","v":0},685]
[{"$f":"VLOOKUP(K687,'Standard Labels'!$A$7:$AC$500,11)","v":0},{"$f":"VLOOKUP(K687,'Standard Labels'!$A$7:$AC$500,13)","v":0},{"$f":"VLOOKUP(K687,'Standard Labels'!$A$7:$AC$500,15)","v":0},{"$f":"VLOOKUP(K687,'Standard Labels'!$A$7:$AC$500,17)","v":0},{"$f":"VLOOKUP(K687,'Standard Labels'!$A$7:$AC$500,19)","v":0},{"$f":"VLOOKUP(K687,'Standard Labels'!$A$7:$AC$500,21)","v":0},{"$f":"VLOOKUP(K687,'Standard Labels'!$A$7:$AC$500,23)","v":0},{"$f":"VLOOKUP(K687,'Standard Labels'!$A$7:$AC$500,25)","v":0},{"$f":"VLOOKUP(K687,'Standard Labels'!$A$7:$AC$500,27)","v":0},{"$f":"VLOOKUP(K687,'Standard Labels'!$A$7:$AC$500,29)","v":0},686]
[{"$f":"VLOOKUP(K688,'Standard Labels'!$A$7:$AC$500,11)","v":0},{"$f":"VLOOKUP(K688,'Standard Labels'!$A$7:$AC$500,13)","v":0},{"$f":"VLOOKUP(K688,'Standard Labels'!$A$7:$AC$500,15)","v":0},{"$f":"VLOOKUP(K688,'Standard Labels'!$A$7:$AC$500,17)","v":0},{"$f":"VLOOKUP(K688,'Standard Labels'!$A$7:$AC$500,19)","v":0},{"$f":"VLOOKUP(K688,'Standard Labels'!$A$7:$AC$500,21)","v":0},{"$f":"VLOOKUP(K688,'Standard Labels'!$A$7:$AC$500,23)","v":0},{"$f":"VLOOKUP(K688,'Standard Labels'!$A$7:$AC$500,25)","v":0},{"$f":"VLOOKUP(K688,'Standard Labels'!$A$7:$AC$500,27)","v":0},{"$f":"VLOOKUP(K688,'Standard Labels'!$A$7:$AC$500,29)","v":0},687]
[{"$f":"VLOOKUP(K689,'Standard Labels'!$A$7:$AC$500,11)","v":0},{"$f":"VLOOKUP(K689,'Standard Labels'!$A$7:$AC$500,13)","v":0},{"$f":"VLOOKUP(K689,'Standard Labels'!$A$7:$AC$500,15)","v":0},{"$f":"VLOOKUP(K689,'Standard Labels'!$A$7:$AC$500,17)","v":0},{"$f":"VLOOKUP(K689,'Standard Labels'!$A$7:$AC$500,19)","v":0},{"$f":"VLOOKUP(K689,'Standard Labels'!$A$7:$AC$500,21)","v":0},{"$f":"VLOOKUP(K689,'Standard Labels'!$A$7:$AC$500,23)","v":0},{"$f":"VLOOKUP(K689,'Standard Labels'!$A$7:$AC$500,25)","v":0},{"$f":"VLOOKUP(K689,'Standard Labels'!$A$7:$AC$500,27)","v":0},{"$f":"VLOOKUP(K689,'Standard Labels'!$A$7:$AC$500,29)","v":0},688]
[{"$f":"VLOOKUP(K690,'Standard Labels'!$A$7:$AC$500,11)","v":0},{"$f":"VLOOKUP(K690,'Standard Labels'!$A$7:$AC$500,13)","v":0},{"$f":"VLOOKUP(K690,'Standard Labels'!$A$7:$AC$500,15)","v":0},{"$f":"VLOOKUP(K690,'Standard Labels'!$A$7:$AC$500,17)","v":0},{"$f":"VLOOKUP(K690,'Standard Labels'!$A$7:$AC$500,19)","v":0},{"$f":"VLOOKUP(K690,'Standard Labels'!$A$7:$AC$500,21)","v":0},{"$f":"VLOOKUP(K690,'Standard Labels'!$A$7:$AC$500,23)","v":0},{"$f":"VLOOKUP(K690,'Standard Labels'!$A$7:$AC$500,25)","v":0},{"$f":"VLOOKUP(K690,'Standard Labels'!$A$7:$AC$500,27)","v":0},{"$f":"VLOOKUP(K690,'Standard Labels'!$A$7:$AC$500,29)","v":0},689]
[{"$f":"VLOOKUP(K691,'Standard Labels'!$A$7:$AC$500,11)","v":0},{"$f":"VLOOKUP(K691,'Standard Labels'!$A$7:$AC$500,13)","v":0},{"$f":"VLOOKUP(K691,'Standard Labels'!$A$7:$AC$500,15)","v":0},{"$f":"VLOOKUP(K691,'Standard Labels'!$A$7:$AC$500,17)","v":0},{"$f":"VLOOKUP(K691,'Standard Labels'!$A$7:$AC$500,19)","v":0},{"$f":"VLOOKUP(K691,'Standard Labels'!$A$7:$AC$500,21)","v":0},{"$f":"VLOOKUP(K691,'Standard Labels'!$A$7:$AC$500,23)","v":0},{"$f":"VLOOKUP(K691,'Standard Labels'!$A$7:$AC$500,25)","v":0},{"$f":"VLOOKUP(K691,'Standard Labels'!$A$7:$AC$500,27)","v":0},{"$f":"VLOOKUP(K691,'Standard Labels'!$A$7:$AC$500,29)","v":0},690]
[{"$f":"VLOOKUP(K692,'Standard Labels'!$A$7:$AC$500,11)","v":0},{"$f":"VLOOKUP(K692,'Standard Labels'!$A$7:$AC$500,13)","v":0},{"$f":"VLOOKUP(K692,'Standard Labels'!$A$7:$AC$500,15)","v":0},{"$f":"VLOOKUP(K692,'Standard Labels'!$A$7:$AC$500,17)","v":0},{"$f":"VLOOKUP(K692,'Standard Labels'!$A$7:$AC$500,19)","v":0},{"$f":"VLOOKUP(K692,'Standard Labels'!$A$7:$AC$500,21)","v":0},{"$f":"VLOOKUP(K692,'Standard Labels'!$A$7:$AC$500,23)","v":0},{"$f":"VLOOKUP(K692,'Standard Labels'!$A$7:$AC$500,25)","v":0},{"$f":"VLOOKUP(K692,'Standard Labels'!$A$7:$AC$500,27)","v":0},{"$f":"VLOOKUP(K692,'Standard Labels'!$A$7:$AC$500,29)","v":0},691]
[{"$f":"VLOOKUP(K693,'Standard Labels'!$A$7:$AC$500,11)","v":0},{"$f":"VLOOKUP(K693,'Standard Labels'!$A$7:$AC$500,13)","v":0},{"$f":"VLOOKUP(K693,'Standard Labels'!$A$7:$AC$500,15)","v":0},{"$f":"VLOOKUP(K693,'Standard Labels'!$A$7:$AC$500,17)","v":0},{"$f":"VLOOKUP(K693,'Standard Labels'!$A$7:$AC$500,19)","v":0},{"$f":"VLOOKUP(K693,'Standard Labels'!$A$7:$AC$500,21)","v":0},{"$f":"VLOOKUP(K693,'Standard Labels'!$A$7:$AC$500,23)","v":0},{"$f":"VLOOKUP(K693,'Standard Labels'!$A$7:$AC$500,25)","v":0},{"$f":"VLOOKUP(K693,'Standard Labels'!$A$7:$AC$500,27)","v":0},{"$f":"VLOOKUP(K693,'Standard Labels'!$A$7:$AC$500,29)","v":0},692]
[{"$f":"VLOOKUP(K694,'Standard Labels'!$A$7:$AC$500,11)","v":0},{"$f":"VLOOKUP(K694,'Standard Labels'!$A$7:$AC$500,13)","v":0},{"$f":"VLOOKUP(K694,'Standard Labels'!$A$7:$AC$500,15)","v":0},{"$f":"VLOOKUP(K694,'Standard Labels'!$A$7:$AC$500,17)","v":0},{"$f":"VLOOKUP(K694,'Standard Labels'!$A$7:$AC$500,19)","v":0},{"$f":"VLOOKUP(K694,'Standard Labels'!$A$7:$AC$500,21)","v":0},{"$f":"VLOOKUP(K694,'Standard Labels'!$A$7:$AC$500,23)","v":0},{"$f":"VLOOKUP(K694,'Standard Labels'!$A$7:$AC$500,25)","v":0},{"$f":"VLOOKUP(K694,'Standard Labels'!$A$7:$AC$500,27)","v":0},{"$f":"VLOOKUP(K694,'Standard Labels'!$A$7:$AC$500,29)","v":0},693]
[{"$f":"VLOOKUP(K695,'Standard Labels'!$A$7:$AC$500,11)","v":0},{"$f":"VLOOKUP(K695,'Standard Labels'!$A$7:$AC$500,13)","v":0},{"$f":"VLOOKUP(K695,'Standard Labels'!$A$7:$AC$500,15)","v":0},{"$f":"VLOOKUP(K695,'Standard Labels'!$A$7:$AC$500,17)","v":0},{"$f":"VLOOKUP(K695,'Standard Labels'!$A$7:$AC$500,19)","v":0},{"$f":"VLOOKUP(K695,'Standard Labels'!$A$7:$AC$500,21)","v":0},{"$f":"VLOOKUP(K695,'Standard Labels'!$A$7:$AC$500,23)","v":0},{"$f":"VLOOKUP(K695,'Standard Labels'!$A$7:$AC$500,25)","v":0},{"$f":"VLOOKUP(K695,'Standard Labels'!$A$7:$AC$500,27)","v":0},{"$f":"VLOOKUP(K695,'Standard Labels'!$A$7:$AC$500,29)","v":0},694]
[{"$f":"VLOOKUP(K696,'Standard Labels'!$A$7:$AC$500,11)","v":0},{"$f":"VLOOKUP(K696,'Standard Labels'!$A$7:$AC$500,13)","v":0},{"$f":"VLOOKUP(K696,'Standard Labels'!$A$7:$AC$500,15)","v":0},{"$f":"VLOOKUP(K696,'Standard Labels'!$A$7:$AC$500,17)","v":0},{"$f":"VLOOKUP(K696,'Standard Labels'!$A$7:$AC$500,19)","v":0},{"$f":"VLOOKUP(K696,'Standard Labels'!$A$7:$AC$500,21)","v":0},{"$f":"VLOOKUP(K696,'Standard Labels'!$A$7:$AC$500,23)","v":0},{"$f":"VLOOKUP(K696,'Standard Labels'!$A$7:$AC$500,25)","v":0},{"$f":"VLOOKUP(K696,'Standard Labels'!$A$7:$AC$500,27)","v":0},{"$f":"VLOOKUP(K696,'Standard Labels'!$A$7:$AC$500,29)","v":0},695]
[{"$f":"VLOOKUP(K697,'Standard Labels'!$A$7:$AC$500,11)","v":0},{"$f":"VLOOKUP(K697,'Standard Labels'!$A$7:$AC$500,13)","v":0},{"$f":"VLOOKUP(K697,'Standard Labels'!$A$7:$AC$500,15)","v":0},{"$f":"VLOOKUP(K697,'Standard Labels'!$A$7:$AC$500,17)","v":0},{"$f":"VLOOKUP(K697,'Standard Labels'!$A$7:$AC$500,19)","v":0},{"$f":"VLOOKUP(K697,'Standard Labels'!$A$7:$AC$500,21)","v":0},{"$f":"VLOOKUP(K697,'Standard Labels'!$A$7:$AC$500,23)","v":0},{"$f":"VLOOKUP(K697,'Standard Labels'!$A$7:$AC$500,25)","v":0},{"$f":"VLOOKUP(K697,'Standard Labels'!$A$7:$AC$500,27)","v":0},{"$f":"VLOOKUP(K697,'Standard Labels'!$A$7:$AC$500,29)","v":0},696]
[{"$f":"VLOOKUP(K698,'Standard Labels'!$A$7:$AC$500,11)","v":0},{"$f":"VLOOKUP(K698,'Standard Labels'!$A$7:$AC$500,13)","v":0},{"$f":"VLOOKUP(K698,'Standard Labels'!$A$7:$AC$500,15)","v":0},{"$f":"VLOOKUP(K698,'Standard Labels'!$A$7:$AC$500,17)","v":0},{"$f":"VLOOKUP(K698,'Standard Labels'!$A$7:$AC$500,19)","v":0},{"$f":"VLOOKUP(K698,'Standard Labels'!$A$7:$AC$500,21)","v":0},{"$f":"VLOOKUP(K698,'Standard Labels'!$A$7:$AC$500,23)","v":0},{"$f":"VLOOKUP(K698,'Standard Labels'!$A$7:$AC$500,25)","v":0},{"$f":"VLOOKUP(K698,'Standard Labels'!$A$7:$AC$500,27)","v":0},{"$f":"VLOOKUP(K698,'Standard Labels'!$A$7:$AC$500,29)","v":0},697]
[{"$f":"VLOOKUP(K699,'Standard Labels'!$A$7:$AC$500,11)","v":0},{"$f":"VLOOKUP(K699,'Standard Labels'!$A$7:$AC$500,13)","v":0},{"$f":"VLOOKUP(K699,'Standard Labels'!$A$7:$AC$500,15)","v":0},{"$f":"VLOOKUP(K699,'Standard Labels'!$A$7:$AC$500,17)","v":0},{"$f":"VLOOKUP(K699,'Standard Labels'!$A$7:$AC$500,19)","v":0},{"$f":"VLOOKUP(K699,'Standard Labels'!$A$7:$AC$500,21)","v":0},{"$f":"VLOOKUP(K699,'Standard Labels'!$A$7:$AC$500,23)","v":0},{"$f":"VLOOKUP(K699,'Standard Labels'!$A$7:$AC$500,25)","v":0},{"$f":"VLOOKUP(K699,'Standard Labels'!$A$7:$AC$500,27)","v":0},{"$f":"VLOOKUP(K699,'Standard Labels'!$A$7:$AC$500,29)","v":0},698]
[{"$f":"VLOOKUP(K700,'Standard Labels'!$A$7:$AC$500,11)","v":0},{"$f":"VLOOKUP(K700,'Standard Labels'!$A$7:$AC$500,13)","v":0},{"$f":"VLOOKUP(K700,'Standard Labels'!$A$7:$AC$500,15)","v":0},{"$f":"VLOOKUP(K700,'Standard Labels'!$A$7:$AC$500,17)","v":0},{"$f":"VLOOKUP(K700,'Standard Labels'!$A$7:$AC$500,19)","v":0},{"$f":"VLOOKUP(K700,'Standard Labels'!$A$7:$AC$500,21)","v":0},{"$f":"VLOOKUP(K700,'Standard Labels'!$A$7:$AC$500,23)","v":0},{"$f":"VLOOKUP(K700,'Standard Labels'!$A$7:$AC$500,25)","v":0},{"$f":"VLOOKUP(K700,'Standard Labels'!$A$7:$AC$500,27)","v":0},{"$f":"VLOOKUP(K700,'Standard Labels'!$A$7:$AC$500,29)","v":0},699]
[{"$f":"VLOOKUP(K701,'Standard Labels'!$A$7:$AC$500,11)","v":0},{"$f":"VLOOKUP(K701,'Standard Labels'!$A$7:$AC$500,13)","v":0},{"$f":"VLOOKUP(K701,'Standard Labels'!$A$7:$AC$500,15)","v":0},{"$f":"VLOOKUP(K701,'Standard Labels'!$A$7:$AC$500,17)","v":0},{"$f":"VLOOKUP(K701,'Standard Labels'!$A$7:$AC$500,19)","v":0},{"$f":"VLOOKUP(K701,'Standard Labels'!$A$7:$AC$500,21)","v":0},{"$f":"VLOOKUP(K701,'Standard Labels'!$A$7:$AC$500,23)","v":0},{"$f":"VLOOKUP(K701,'Standard Labels'!$A$7:$AC$500,25)","v":0},{"$f":"VLOOKUP(K701,'Standard Labels'!$A$7:$AC$500,27)","v":0},{"$f":"VLOOKUP(K701,'Standard Labels'!$A$7:$AC$500,29)","v":0},700]
[{"$f":"VLOOKUP(K702,'Standard Labels'!$A$7:$AC$500,11)","v":0},{"$f":"VLOOKUP(K702,'Standard Labels'!$A$7:$AC$500,13)","v":0},{"$f":"VLOOKUP(K702,'Standard Labels'!$A$7:$AC$500,15)","v":0},{"$f":"VLOOKUP(K702,'Standard Labels'!$A$7:$AC$500,17)","v":0},{"$f":"VLOOKUP(K702,'Standard Labels'!$A$7:$AC$500,19)","v":0},{"$f":"VLOOKUP(K702,'Standard Labels'!$A$7:$AC$500,21)","v":0},{"$f":"VLOOKUP(K702,'Standard Labels'!$A$7:$AC$500,23)","v":0},{"$f":"VLOOKUP(K702,'Standard Labels'!$A$7:$AC$500,25)","v":0},{"$f":"VLOOKUP(K702,'Standard Labels'!$A$7:$AC$500,27)","v":0},{"$f":"VLOOKUP(K702,'Standard Labels'!$A$7:$AC$500,29)","v":0},701]
[{"$f":"VLOOKUP(K703,'Standard Labels'!$A$7:$AC$500,11)","v":0},{"$f":"VLOOKUP(K703,'Standard Labels'!$A$7:$AC$500,13)","v":0},{"$f":"VLOOKUP(K703,'Standard Labels'!$A$7:$AC$500,15)","v":0},{"$f":"VLOOKUP(K703,'Standard Labels'!$A$7:$AC$500,17)","v":0},{"$f":"VLOOKUP(K703,'Standard Labels'!$A$7:$AC$500,19)","v":0},{"$f":"VLOOKUP(K703,'Standard Labels'!$A$7:$AC$500,21)","v":0},{"$f":"VLOOKUP(K703,'Standard Labels'!$A$7:$AC$500,23)","v":0},{"$f":"VLOOKUP(K703,'Standard Labels'!$A$7:$AC$500,25)","v":0},{"$f":"VLOOKUP(K703,'Standard Labels'!$A$7:$AC$500,27)","v":0},{"$f":"VLOOKUP(K703,'Standard Labels'!$A$7:$AC$500,29)","v":0},702]
[{"$f":"VLOOKUP(K704,'Standard Labels'!$A$7:$AC$500,11)","v":0},{"$f":"VLOOKUP(K704,'Standard Labels'!$A$7:$AC$500,13)","v":0},{"$f":"VLOOKUP(K704,'Standard Labels'!$A$7:$AC$500,15)","v":0},{"$f":"VLOOKUP(K704,'Standard Labels'!$A$7:$AC$500,17)","v":0},{"$f":"VLOOKUP(K704,'Standard Labels'!$A$7:$AC$500,19)","v":0},{"$f":"VLOOKUP(K704,'Standard Labels'!$A$7:$AC$500,21)","v":0},{"$f":"VLOOKUP(K704,'Standard Labels'!$A$7:$AC$500,23)","v":0},{"$f":"VLOOKUP(K704,'Standard Labels'!$A$7:$AC$500,25)","v":0},{"$f":"VLOOKUP(K704,'Standard Labels'!$A$7:$AC$500,27)","v":0},{"$f":"VLOOKUP(K704,'Standard Labels'!$A$7:$AC$500,29)","v":0},703]
[{"$f":"VLOOKUP(K705,'Standard Labels'!$A$7:$AC$500,11)","v":0},{"$f":"VLOOKUP(K705,'Standard Labels'!$A$7:$AC$500,13)","v":0},{"$f":"VLOOKUP(K705,'Standard Labels'!$A$7:$AC$500,15)","v":0},{"$f":"VLOOKUP(K705,'Standard Labels'!$A$7:$AC$500,17)","v":0},{"$f":"VLOOKUP(K705,'Standard Labels'!$A$7:$AC$500,19)","v":0},{"$f":"VLOOKUP(K705,'Standard Labels'!$A$7:$AC$500,21)","v":0},{"$f":"VLOOKUP(K705,'Standard Labels'!$A$7:$AC$500,23)","v":0},{"$f":"VLOOKUP(K705,'Standard Labels'!$A$7:$AC$500,25)","v":0},{"$f":"VLOOKUP(K705,'Standard Labels'!$A$7:$AC$500,27)","v":0},{"$f":"VLOOKUP(K705,'Standard Labels'!$A$7:$AC$500,29)","v":0},704]
[{"$f":"VLOOKUP(K706,'Standard Labels'!$A$7:$AC$500,11)","v":0},{"$f":"VLOOKUP(K706,'Standard Labels'!$A$7:$AC$500,13)","v":0},{"$f":"VLOOKUP(K706,'Standard Labels'!$A$7:$AC$500,15)","v":0},{"$f":"VLOOKUP(K706,'Standard Labels'!$A$7:$AC$500,17)","v":0},{"$f":"VLOOKUP(K706,'Standard Labels'!$A$7:$AC$500,19)","v":0},{"$f":"VLOOKUP(K706,'Standard Labels'!$A$7:$AC$500,21)","v":0},{"$f":"VLOOKUP(K706,'Standard Labels'!$A$7:$AC$500,23)","v":0},{"$f":"VLOOKUP(K706,'Standard Labels'!$A$7:$AC$500,25)","v":0},{"$f":"VLOOKUP(K706,'Standard Labels'!$A$7:$AC$500,27)","v":0},{"$f":"VLOOKUP(K706,'Standard Labels'!$A$7:$AC$500,29)","v":0},705]
[{"$f":"VLOOKUP(K707,'Standard Labels'!$A$7:$AC$500,11)","v":0},{"$f":"VLOOKUP(K707,'Standard Labels'!$A$7:$AC$500,13)","v":0},{"$f":"VLOOKUP(K707,'Standard Labels'!$A$7:$AC$500,15)","v":0},{"$f":"VLOOKUP(K707,'Standard Labels'!$A$7:$AC$500,17)","v":0},{"$f":"VLOOKUP(K707,'Standard Labels'!$A$7:$AC$500,19)","v":0},{"$f":"VLOOKUP(K707,'Standard Labels'!$A$7:$AC$500,21)","v":0},{"$f":"VLOOKUP(K707,'Standard Labels'!$A$7:$AC$500,23)","v":0},{"$f":"VLOOKUP(K707,'Standard Labels'!$A$7:$AC$500,25)","v":0},{"$f":"VLOOKUP(K707,'Standard Labels'!$A$7:$AC$500,27)","v":0},{"$f":"VLOOKUP(K707,'Standard Labels'!$A$7:$AC$500,29)","v":0},706]
[{"$f":"VLOOKUP(K708,'Standard Labels'!$A$7:$AC$500,11)","v":0},{"$f":"VLOOKUP(K708,'Standard Labels'!$A$7:$AC$500,13)","v":0},{"$f":"VLOOKUP(K708,'Standard Labels'!$A$7:$AC$500,15)","v":0},{"$f":"VLOOKUP(K708,'Standard Labels'!$A$7:$AC$500,17)","v":0},{"$f":"VLOOKUP(K708,'Standard Labels'!$A$7:$AC$500,19)","v":0},{"$f":"VLOOKUP(K708,'Standard Labels'!$A$7:$AC$500,21)","v":0},{"$f":"VLOOKUP(K708,'Standard Labels'!$A$7:$AC$500,23)","v":0},{"$f":"VLOOKUP(K708,'Standard Labels'!$A$7:$AC$500,25)","v":0},{"$f":"VLOOKUP(K708,'Standard Labels'!$A$7:$AC$500,27)","v":0},{"$f":"VLOOKUP(K708,'Standard Labels'!$A$7:$AC$500,29)","v":0},707]
[{"$f":"VLOOKUP(K709,'Standard Labels'!$A$7:$AC$500,11)","v":0},{"$f":"VLOOKUP(K709,'Standard Labels'!$A$7:$AC$500,13)","v":0},{"$f":"VLOOKUP(K709,'Standard Labels'!$A$7:$AC$500,15)","v":0},{"$f":"VLOOKUP(K709,'Standard Labels'!$A$7:$AC$500,17)","v":0},{"$f":"VLOOKUP(K709,'Standard Labels'!$A$7:$AC$500,19)","v":0},{"$f":"VLOOKUP(K709,'Standard Labels'!$A$7:$AC$500,21)","v":0},{"$f":"VLOOKUP(K709,'Standard Labels'!$A$7:$AC$500,23)","v":0},{"$f":"VLOOKUP(K709,'Standard Labels'!$A$7:$AC$500,25)","v":0},{"$f":"VLOOKUP(K709,'Standard Labels'!$A$7:$AC$500,27)","v":0},{"$f":"VLOOKUP(K709,'Standard Labels'!$A$7:$AC$500,29)","v":0},708]
[{"$f":"VLOOKUP(K710,'Standard Labels'!$A$7:$AC$500,11)","v":0},{"$f":"VLOOKUP(K710,'Standard Labels'!$A$7:$AC$500,13)","v":0},{"$f":"VLOOKUP(K710,'Standard Labels'!$A$7:$AC$500,15)","v":0},{"$f":"VLOOKUP(K710,'Standard Labels'!$A$7:$AC$500,17)","v":0},{"$f":"VLOOKUP(K710,'Standard Labels'!$A$7:$AC$500,19)","v":0},{"$f":"VLOOKUP(K710,'Standard Labels'!$A$7:$AC$500,21)","v":0},{"$f":"VLOOKUP(K710,'Standard Labels'!$A$7:$AC$500,23)","v":0},{"$f":"VLOOKUP(K710,'Standard Labels'!$A$7:$AC$500,25)","v":0},{"$f":"VLOOKUP(K710,'Standard Labels'!$A$7:$AC$500,27)","v":0},{"$f":"VLOOKUP(K710,'Standard Labels'!$A$7:$AC$500,29)","v":0},709]
[{"$f":"VLOOKUP(K711,'Standard Labels'!$A$7:$AC$500,11)","v":0},{"$f":"VLOOKUP(K711,'Standard Labels'!$A$7:$AC$500,13)","v":0},{"$f":"VLOOKUP(K711,'Standard Labels'!$A$7:$AC$500,15)","v":0},{"$f":"VLOOKUP(K711,'Standard Labels'!$A$7:$AC$500,17)","v":0},{"$f":"VLOOKUP(K711,'Standard Labels'!$A$7:$AC$500,19)","v":0},{"$f":"VLOOKUP(K711,'Standard Labels'!$A$7:$AC$500,21)","v":0},{"$f":"VLOOKUP(K711,'Standard Labels'!$A$7:$AC$500,23)","v":0},{"$f":"VLOOKUP(K711,'Standard Labels'!$A$7:$AC$500,25)","v":0},{"$f":"VLOOKUP(K711,'Standard Labels'!$A$7:$AC$500,27)","v":0},{"$f":"VLOOKUP(K711,'Standard Labels'!$A$7:$AC$500,29)","v":0},710]
[{"$f":"VLOOKUP(K712,'Standard Labels'!$A$7:$AC$500,11)","v":0},{"$f":"VLOOKUP(K712,'Standard Labels'!$A$7:$AC$500,13)","v":0},{"$f":"VLOOKUP(K712,'Standard Labels'!$A$7:$AC$500,15)","v":0},{"$f":"VLOOKUP(K712,'Standard Labels'!$A$7:$AC$500,17)","v":0},{"$f":"VLOOKUP(K712,'Standard Labels'!$A$7:$AC$500,19)","v":0},{"$f":"VLOOKUP(K712,'Standard Labels'!$A$7:$AC$500,21)","v":0},{"$f":"VLOOKUP(K712,'Standard Labels'!$A$7:$AC$500,23)","v":0},{"$f":"VLOOKUP(K712,'Standard Labels'!$A$7:$AC$500,25)","v":0},{"$f":"VLOOKUP(K712,'Standard Labels'!$A$7:$AC$500,27)","v":0},{"$f":"VLOOKUP(K712,'Standard Labels'!$A$7:$AC$500,29)","v":0},711]
[{"$f":"VLOOKUP(K713,'Standard Labels'!$A$7:$AC$500,11)","v":0},{"$f":"VLOOKUP(K713,'Standard Labels'!$A$7:$AC$500,13)","v":0},{"$f":"VLOOKUP(K713,'Standard Labels'!$A$7:$AC$500,15)","v":0},{"$f":"VLOOKUP(K713,'Standard Labels'!$A$7:$AC$500,17)","v":0},{"$f":"VLOOKUP(K713,'Standard Labels'!$A$7:$AC$500,19)","v":0},{"$f":"VLOOKUP(K713,'Standard Labels'!$A$7:$AC$500,21)","v":0},{"$f":"VLOOKUP(K713,'Standard Labels'!$A$7:$AC$500,23)","v":0},{"$f":"VLOOKUP(K713,'Standard Labels'!$A$7:$AC$500,25)","v":0},{"$f":"VLOOKUP(K713,'Standard Labels'!$A$7:$AC$500,27)","v":0},{"$f":"VLOOKUP(K713,'Standard Labels'!$A$7:$AC$500,29)","v":0},712]
[{"$f":"VLOOKUP(K714,'Standard Labels'!$A$7:$AC$500,11)","v":0},{"$f":"VLOOKUP(K714,'Standard Labels'!$A$7:$AC$500,13)","v":0},{"$f":"VLOOKUP(K714,'Standard Labels'!$A$7:$AC$500,15)","v":0},{"$f":"VLOOKUP(K714,'Standard Labels'!$A$7:$AC$500,17)","v":0},{"$f":"VLOOKUP(K714,'Standard Labels'!$A$7:$AC$500,19)","v":0},{"$f":"VLOOKUP(K714,'Standard Labels'!$A$7:$AC$500,21)","v":0},{"$f":"VLOOKUP(K714,'Standard Labels'!$A$7:$AC$500,23)","v":0},{"$f":"VLOOKUP(K714,'Standard Labels'!$A$7:$AC$500,25)","v":0},{"$f":"VLOOKUP(K714,'Standard Labels'!$A$7:$AC$500,27)","v":0},{"$f":"VLOOKUP(K714,'Standard Labels'!$A$7:$AC$500,29)","v":0},713]
[{"$f":"VLOOKUP(K715,'Standard Labels'!$A$7:$AC$500,11)","v":0},{"$f":"VLOOKUP(K715,'Standard Labels'!$A$7:$AC$500,13)","v":0},{"$f":"VLOOKUP(K715,'Standard Labels'!$A$7:$AC$500,15)","v":0},{"$f":"VLOOKUP(K715,'Standard Labels'!$A$7:$AC$500,17)","v":0},{"$f":"VLOOKUP(K715,'Standard Labels'!$A$7:$AC$500,19)","v":0},{"$f":"VLOOKUP(K715,'Standard Labels'!$A$7:$AC$500,21)","v":0},{"$f":"VLOOKUP(K715,'Standard Labels'!$A$7:$AC$500,23)","v":0},{"$f":"VLOOKUP(K715,'Standard Labels'!$A$7:$AC$500,25)","v":0},{"$f":"VLOOKUP(K715,'Standard Labels'!$A$7:$AC$500,27)","v":0},{"$f":"VLOOKUP(K715,'Standard Labels'!$A$7:$AC$500,29)","v":0},714]
[{"$f":"VLOOKUP(K716,'Standard Labels'!$A$7:$AC$500,11)","v":0},{"$f":"VLOOKUP(K716,'Standard Labels'!$A$7:$AC$500,13)","v":0},{"$f":"VLOOKUP(K716,'Standard Labels'!$A$7:$AC$500,15)","v":0},{"$f":"VLOOKUP(K716,'Standard Labels'!$A$7:$AC$500,17)","v":0},{"$f":"VLOOKUP(K716,'Standard Labels'!$A$7:$AC$500,19)","v":0},{"$f":"VLOOKUP(K716,'Standard Labels'!$A$7:$AC$500,21)","v":0},{"$f":"VLOOKUP(K716,'Standard Labels'!$A$7:$AC$500,23)","v":0},{"$f":"VLOOKUP(K716,'Standard Labels'!$A$7:$AC$500,25)","v":0},{"$f":"VLOOKUP(K716,'Standard Labels'!$A$7:$AC$500,27)","v":0},{"$f":"VLOOKUP(K716,'Standard Labels'!$A$7:$AC$500,29)","v":0},715]
[{"$f":"VLOOKUP(K717,'Standard Labels'!$A$7:$AC$500,11)","v":0},{"$f":"VLOOKUP(K717,'Standard Labels'!$A$7:$AC$500,13)","v":0},{"$f":"VLOOKUP(K717,'Standard Labels'!$A$7:$AC$500,15)","v":0},{"$f":"VLOOKUP(K717,'Standard Labels'!$A$7:$AC$500,17)","v":0},{"$f":"VLOOKUP(K717,'Standard Labels'!$A$7:$AC$500,19)","v":0},{"$f":"VLOOKUP(K717,'Standard Labels'!$A$7:$AC$500,21)","v":0},{"$f":"VLOOKUP(K717,'Standard Labels'!$A$7:$AC$500,23)","v":0},{"$f":"VLOOKUP(K717,'Standard Labels'!$A$7:$AC$500,25)","v":0},{"$f":"VLOOKUP(K717,'Standard Labels'!$A$7:$AC$500,27)","v":0},{"$f":"VLOOKUP(K717,'Standard Labels'!$A$7:$AC$500,29)","v":0},716]
[{"$f":"VLOOKUP(K718,'Standard Labels'!$A$7:$AC$500,11)","v":0},{"$f":"VLOOKUP(K718,'Standard Labels'!$A$7:$AC$500,13)","v":0},{"$f":"VLOOKUP(K718,'Standard Labels'!$A$7:$AC$500,15)","v":0},{"$f":"VLOOKUP(K718,'Standard Labels'!$A$7:$AC$500,17)","v":0},{"$f":"VLOOKUP(K718,'Standard Labels'!$A$7:$AC$500,19)","v":0},{"$f":"VLOOKUP(K718,'Standard Labels'!$A$7:$AC$500,21)","v":0},{"$f":"VLOOKUP(K718,'Standard Labels'!$A$7:$AC$500,23)","v":0},{"$f":"VLOOKUP(K718,'Standard Labels'!$A$7:$AC$500,25)","v":0},{"$f":"VLOOKUP(K718,'Standard Labels'!$A$7:$AC$500,27)","v":0},{"$f":"VLOOKUP(K718,'Standard Labels'!$A$7:$AC$500,29)","v":0},717]
[{"$f":"VLOOKUP(K719,'Standard Labels'!$A$7:$AC$500,11)","v":0},{"$f":"VLOOKUP(K719,'Standard Labels'!$A$7:$AC$500,13)","v":0},{"$f":"VLOOKUP(K719,'Standard Labels'!$A$7:$AC$500,15)","v":0},{"$f":"VLOOKUP(K719,'Standard Labels'!$A$7:$AC$500,17)","v":0},{"$f":"VLOOKUP(K719,'Standard Labels'!$A$7:$AC$500,19)","v":0},{"$f":"VLOOKUP(K719,'Standard Labels'!$A$7:$AC$500,21)","v":0},{"$f":"VLOOKUP(K719,'Standard Labels'!$A$7:$AC$500,23)","v":0},{"$f":"VLOOKUP(K719,'Standard Labels'!$A$7:$AC$500,25)","v":0},{"$f":"VLOOKUP(K719,'Standard Labels'!$A$7:$AC$500,27)","v":0},{"$f":"VLOOKUP(K719,'Standard Labels'!$A$7:$AC$500,29)","v":0},718]
[{"$f":"VLOOKUP(K720,'Standard Labels'!$A$7:$AC$500,11)","v":0},{"$f":"VLOOKUP(K720,'Standard Labels'!$A$7:$AC$500,13)","v":0},{"$f":"VLOOKUP(K720,'Standard Labels'!$A$7:$AC$500,15)","v":0},{"$f":"VLOOKUP(K720,'Standard Labels'!$A$7:$AC$500,17)","v":0},{"$f":"VLOOKUP(K720,'Standard Labels'!$A$7:$AC$500,19)","v":0},{"$f":"VLOOKUP(K720,'Standard Labels'!$A$7:$AC$500,21)","v":0},{"$f":"VLOOKUP(K720,'Standard Labels'!$A$7:$AC$500,23)","v":0},{"$f":"VLOOKUP(K720,'Standard Labels'!$A$7:$AC$500,25)","v":0},{"$f":"VLOOKUP(K720,'Standard Labels'!$A$7:$AC$500,27)","v":0},{"$f":"VLOOKUP(K720,'Standard Labels'!$A$7:$AC$500,29)","v":0},719]
[{"$f":"VLOOKUP(K721,'Standard Labels'!$A$7:$AC$500,11)","v":0},{"$f":"VLOOKUP(K721,'Standard Labels'!$A$7:$AC$500,13)","v":0},{"$f":"VLOOKUP(K721,'Standard Labels'!$A$7:$AC$500,15)","v":0},{"$f":"VLOOKUP(K721,'Standard Labels'!$A$7:$AC$500,17)","v":0},{"$f":"VLOOKUP(K721,'Standard Labels'!$A$7:$AC$500,19)","v":0},{"$f":"VLOOKUP(K721,'Standard Labels'!$A$7:$AC$500,21)","v":0},{"$f":"VLOOKUP(K721,'Standard Labels'!$A$7:$AC$500,23)","v":0},{"$f":"VLOOKUP(K721,'Standard Labels'!$A$7:$AC$500,25)","v":0},{"$f":"VLOOKUP(K721,'Standard Labels'!$A$7:$AC$500,27)","v":0},{"$f":"VLOOKUP(K721,'Standard Labels'!$A$7:$AC$500,29)","v":0},720]
[{"$f":"VLOOKUP(K722,'Standard Labels'!$A$7:$AC$500,11)","v":0},{"$f":"VLOOKUP(K722,'Standard Labels'!$A$7:$AC$500,13)","v":0},{"$f":"VLOOKUP(K722,'Standard Labels'!$A$7:$AC$500,15)","v":0},{"$f":"VLOOKUP(K722,'Standard Labels'!$A$7:$AC$500,17)","v":0},{"$f":"VLOOKUP(K722,'Standard Labels'!$A$7:$AC$500,19)","v":0},{"$f":"VLOOKUP(K722,'Standard Labels'!$A$7:$AC$500,21)","v":0},{"$f":"VLOOKUP(K722,'Standard Labels'!$A$7:$AC$500,23)","v":0},{"$f":"VLOOKUP(K722,'Standard Labels'!$A$7:$AC$500,25)","v":0},{"$f":"VLOOKUP(K722,'Standard Labels'!$A$7:$AC$500,27)","v":0},{"$f":"VLOOKUP(K722,'Standard Labels'!$A$7:$AC$500,29)","v":0},721]
[{"$f":"VLOOKUP(K723,'Standard Labels'!$A$7:$AC$500,11)","v":0},{"$f":"VLOOKUP(K723,'Standard Labels'!$A$7:$AC$500,13)","v":0},{"$f":"VLOOKUP(K723,'Standard Labels'!$A$7:$AC$500,15)","v":0},{"$f":"VLOOKUP(K723,'Standard Labels'!$A$7:$AC$500,17)","v":0},{"$f":"VLOOKUP(K723,'Standard Labels'!$A$7:$AC$500,19)","v":0},{"$f":"VLOOKUP(K723,'Standard Labels'!$A$7:$AC$500,21)","v":0},{"$f":"VLOOKUP(K723,'Standard Labels'!$A$7:$AC$500,23)","v":0},{"$f":"VLOOKUP(K723,'Standard Labels'!$A$7:$AC$500,25)","v":0},{"$f":"VLOOKUP(K723,'Standard Labels'!$A$7:$AC$500,27)","v":0},{"$f":"VLOOKUP(K723,'Standard Labels'!$A$7:$AC$500,29)","v":0},722]
[{"$f":"VLOOKUP(K724,'Standard Labels'!$A$7:$AC$500,11)","v":0},{"$f":"VLOOKUP(K724,'Standard Labels'!$A$7:$AC$500,13)","v":0},{"$f":"VLOOKUP(K724,'Standard Labels'!$A$7:$AC$500,15)","v":0},{"$f":"VLOOKUP(K724,'Standard Labels'!$A$7:$AC$500,17)","v":0},{"$f":"VLOOKUP(K724,'Standard Labels'!$A$7:$AC$500,19)","v":0},{"$f":"VLOOKUP(K724,'Standard Labels'!$A$7:$AC$500,21)","v":0},{"$f":"VLOOKUP(K724,'Standard Labels'!$A$7:$AC$500,23)","v":0},{"$f":"VLOOKUP(K724,'Standard Labels'!$A$7:$AC$500,25)","v":0},{"$f":"VLOOKUP(K724,'Standard Labels'!$A$7:$AC$500,27)","v":0},{"$f":"VLOOKUP(K724,'Standard Labels'!$A$7:$AC$500,29)","v":0},723]
[{"$f":"VLOOKUP(K725,'Standard Labels'!$A$7:$AC$500,11)","v":0},{"$f":"VLOOKUP(K725,'Standard Labels'!$A$7:$AC$500,13)","v":0},{"$f":"VLOOKUP(K725,'Standard Labels'!$A$7:$AC$500,15)","v":0},{"$f":"VLOOKUP(K725,'Standard Labels'!$A$7:$AC$500,17)","v":0},{"$f":"VLOOKUP(K725,'Standard Labels'!$A$7:$AC$500,19)","v":0},{"$f":"VLOOKUP(K725,'Standard Labels'!$A$7:$AC$500,21)","v":0},{"$f":"VLOOKUP(K725,'Standard Labels'!$A$7:$AC$500,23)","v":0},{"$f":"VLOOKUP(K725,'Standard Labels'!$A$7:$AC$500,25)","v":0},{"$f":"VLOOKUP(K725,'Standard Labels'!$A$7:$AC$500,27)","v":0},{"$f":"VLOOKUP(K725,'Standard Labels'!$A$7:$AC$500,29)","v":0},724]
[{"$f":"VLOOKUP(K726,'Standard Labels'!$A$7:$AC$500,11)","v":0},{"$f":"VLOOKUP(K726,'Standard Labels'!$A$7:$AC$500,13)","v":0},{"$f":"VLOOKUP(K726,'Standard Labels'!$A$7:$AC$500,15)","v":0},{"$f":"VLOOKUP(K726,'Standard Labels'!$A$7:$AC$500,17)","v":0},{"$f":"VLOOKUP(K726,'Standard Labels'!$A$7:$AC$500,19)","v":0},{"$f":"VLOOKUP(K726,'Standard Labels'!$A$7:$AC$500,21)","v":0},{"$f":"VLOOKUP(K726,'Standard Labels'!$A$7:$AC$500,23)","v":0},{"$f":"VLOOKUP(K726,'Standard Labels'!$A$7:$AC$500,25)","v":0},{"$f":"VLOOKUP(K726,'Standard Labels'!$A$7:$AC$500,27)","v":0},{"$f":"VLOOKUP(K726,'Standard Labels'!$A$7:$AC$500,29)","v":0},725]
[{"$f":"VLOOKUP(K727,'Standard Labels'!$A$7:$AC$500,11)","v":0},{"$f":"VLOOKUP(K727,'Standard Labels'!$A$7:$AC$500,13)","v":0},{"$f":"VLOOKUP(K727,'Standard Labels'!$A$7:$AC$500,15)","v":0},{"$f":"VLOOKUP(K727,'Standard Labels'!$A$7:$AC$500,17)","v":0},{"$f":"VLOOKUP(K727,'Standard Labels'!$A$7:$AC$500,19)","v":0},{"$f":"VLOOKUP(K727,'Standard Labels'!$A$7:$AC$500,21)","v":0},{"$f":"VLOOKUP(K727,'Standard Labels'!$A$7:$AC$500,23)","v":0},{"$f":"VLOOKUP(K727,'Standard Labels'!$A$7:$AC$500,25)","v":0},{"$f":"VLOOKUP(K727,'Standard Labels'!$A$7:$AC$500,27)","v":0},{"$f":"VLOOKUP(K727,'Standard Labels'!$A$7:$AC$500,29)","v":0},726]
[{"$f":"VLOOKUP(K728,'Standard Labels'!$A$7:$AC$500,11)","v":0},{"$f":"VLOOKUP(K728,'Standard Labels'!$A$7:$AC$500,13)","v":0},{"$f":"VLOOKUP(K728,'Standard Labels'!$A$7:$AC$500,15)","v":0},{"$f":"VLOOKUP(K728,'Standard Labels'!$A$7:$AC$500,17)","v":0},{"$f":"VLOOKUP(K728,'Standard Labels'!$A$7:$AC$500,19)","v":0},{"$f":"VLOOKUP(K728,'Standard Labels'!$A$7:$AC$500,21)","v":0},{"$f":"VLOOKUP(K728,'Standard Labels'!$A$7:$AC$500,23)","v":0},{"$f":"VLOOKUP(K728,'Standard Labels'!$A$7:$AC$500,25)","v":0},{"$f":"VLOOKUP(K728,'Standard Labels'!$A$7:$AC$500,27)","v":0},{"$f":"VLOOKUP(K728,'Standard Labels'!$A$7:$AC$500,29)","v":0},727]
[{"$f":"VLOOKUP(K729,'Standard Labels'!$A$7:$AC$500,11)","v":0},{"$f":"VLOOKUP(K729,'Standard Labels'!$A$7:$AC$500,13)","v":0},{"$f":"VLOOKUP(K729,'Standard Labels'!$A$7:$AC$500,15)","v":0},{"$f":"VLOOKUP(K729,'Standard Labels'!$A$7:$AC$500,17)","v":0},{"$f":"VLOOKUP(K729,'Standard Labels'!$A$7:$AC$500,19)","v":0},{"$f":"VLOOKUP(K729,'Standard Labels'!$A$7:$AC$500,21)","v":0},{"$f":"VLOOKUP(K729,'Standard Labels'!$A$7:$AC$500,23)","v":0},{"$f":"VLOOKUP(K729,'Standard Labels'!$A$7:$AC$500,25)","v":0},{"$f":"VLOOKUP(K729,'Standard Labels'!$A$7:$AC$500,27)","v":0},{"$f":"VLOOKUP(K729,'Standard Labels'!$A$7:$AC$500,29)","v":0},728]
[{"$f":"VLOOKUP(K730,'Standard Labels'!$A$7:$AC$500,11)","v":0},{"$f":"VLOOKUP(K730,'Standard Labels'!$A$7:$AC$500,13)","v":0},{"$f":"VLOOKUP(K730,'Standard Labels'!$A$7:$AC$500,15)","v":0},{"$f":"VLOOKUP(K730,'Standard Labels'!$A$7:$AC$500,17)","v":0},{"$f":"VLOOKUP(K730,'Standard Labels'!$A$7:$AC$500,19)","v":0},{"$f":"VLOOKUP(K730,'Standard Labels'!$A$7:$AC$500,21)","v":0},{"$f":"VLOOKUP(K730,'Standard Labels'!$A$7:$AC$500,23)","v":0},{"$f":"VLOOKUP(K730,'Standard Labels'!$A$7:$AC$500,25)","v":0},{"$f":"VLOOKUP(K730,'Standard Labels'!$A$7:$AC$500,27)","v":0},{"$f":"VLOOKUP(K730,'Standard Labels'!$A$7:$AC$500,29)","v":0},729]
[{"$f":"VLOOKUP(K731,'Standard Labels'!$A$7:$AC$500,11)","v":0},{"$f":"VLOOKUP(K731,'Standard Labels'!$A$7:$AC$500,13)","v":0},{"$f":"VLOOKUP(K731,'Standard Labels'!$A$7:$AC$500,15)","v":0},{"$f":"VLOOKUP(K731,'Standard Labels'!$A$7:$AC$500,17)","v":0},{"$f":"VLOOKUP(K731,'Standard Labels'!$A$7:$AC$500,19)","v":0},{"$f":"VLOOKUP(K731,'Standard Labels'!$A$7:$AC$500,21)","v":0},{"$f":"VLOOKUP(K731,'Standard Labels'!$A$7:$AC$500,23)","v":0},{"$f":"VLOOKUP(K731,'Standard Labels'!$A$7:$AC$500,25)","v":0},{"$f":"VLOOKUP(K731,'Standard Labels'!$A$7:$AC$500,27)","v":0},{"$f":"VLOOKUP(K731,'Standard Labels'!$A$7:$AC$500,29)","v":0},730]
[{"$f":"VLOOKUP(K732,'Standard Labels'!$A$7:$AC$500,11)","v":0},{"$f":"VLOOKUP(K732,'Standard Labels'!$A$7:$AC$500,13)","v":0},{"$f":"VLOOKUP(K732,'Standard Labels'!$A$7:$AC$500,15)","v":0},{"$f":"VLOOKUP(K732,'Standard Labels'!$A$7:$AC$500,17)","v":0},{"$f":"VLOOKUP(K732,'Standard Labels'!$A$7:$AC$500,19)","v":0},{"$f":"VLOOKUP(K732,'Standard Labels'!$A$7:$AC$500,21)","v":0},{"$f":"VLOOKUP(K732,'Standard Labels'!$A$7:$AC$500,23)","v":0},{"$f":"VLOOKUP(K732,'Standard Labels'!$A$7:$AC$500,25)","v":0},{"$f":"VLOOKUP(K732,'Standard Labels'!$A$7:$AC$500,27)","v":0},{"$f":"VLOOKUP(K732,'Standard Labels'!$A$7:$AC$500,29)","v":0},731]
[{"$f":"VLOOKUP(K733,'Standard Labels'!$A$7:$AC$500,11)","v":0},{"$f":"VLOOKUP(K733,'Standard Labels'!$A$7:$AC$500,13)","v":0},{"$f":"VLOOKUP(K733,'Standard Labels'!$A$7:$AC$500,15)","v":0},{"$f":"VLOOKUP(K733,'Standard Labels'!$A$7:$AC$500,17)","v":0},{"$f":"VLOOKUP(K733,'Standard Labels'!$A$7:$AC$500,19)","v":0},{"$f":"VLOOKUP(K733,'Standard Labels'!$A$7:$AC$500,21)","v":0},{"$f":"VLOOKUP(K733,'Standard Labels'!$A$7:$AC$500,23)","v":0},{"$f":"VLOOKUP(K733,'Standard Labels'!$A$7:$AC$500,25)","v":0},{"$f":"VLOOKUP(K733,'Standard Labels'!$A$7:$AC$500,27)","v":0},{"$f":"VLOOKUP(K733,'Standard Labels'!$A$7:$AC$500,29)","v":0},732]
[{"$f":"VLOOKUP(K734,'Standard Labels'!$A$7:$AC$500,11)","v":0},{"$f":"VLOOKUP(K734,'Standard Labels'!$A$7:$AC$500,13)","v":0},{"$f":"VLOOKUP(K734,'Standard Labels'!$A$7:$AC$500,15)","v":0},{"$f":"VLOOKUP(K734,'Standard Labels'!$A$7:$AC$500,17)","v":0},{"$f":"VLOOKUP(K734,'Standard Labels'!$A$7:$AC$500,19)","v":0},{"$f":"VLOOKUP(K734,'Standard Labels'!$A$7:$AC$500,21)","v":0},{"$f":"VLOOKUP(K734,'Standard Labels'!$A$7:$AC$500,23)","v":0},{"$f":"VLOOKUP(K734,'Standard Labels'!$A$7:$AC$500,25)","v":0},{"$f":"VLOOKUP(K734,'Standard Labels'!$A$7:$AC$500,27)","v":0},{"$f":"VLOOKUP(K734,'Standard Labels'!$A$7:$AC$500,29)","v":0},733]
[{"$f":"VLOOKUP(K735,'Standard Labels'!$A$7:$AC$500,11)","v":0},{"$f":"VLOOKUP(K735,'Standard Labels'!$A$7:$AC$500,13)","v":0},{"$f":"VLOOKUP(K735,'Standard Labels'!$A$7:$AC$500,15)","v":0},{"$f":"VLOOKUP(K735,'Standard Labels'!$A$7:$AC$500,17)","v":0},{"$f":"VLOOKUP(K735,'Standard Labels'!$A$7:$AC$500,19)","v":0},{"$f":"VLOOKUP(K735,'Standard Labels'!$A$7:$AC$500,21)","v":0},{"$f":"VLOOKUP(K735,'Standard Labels'!$A$7:$AC$500,23)","v":0},{"$f":"VLOOKUP(K735,'Standard Labels'!$A$7:$AC$500,25)","v":0},{"$f":"VLOOKUP(K735,'Standard Labels'!$A$7:$AC$500,27)","v":0},{"$f":"VLOOKUP(K735,'Standard Labels'!$A$7:$AC$500,29)","v":0},734]
[{"$f":"VLOOKUP(K736,'Standard Labels'!$A$7:$AC$500,11)","v":0},{"$f":"VLOOKUP(K736,'Standard Labels'!$A$7:$AC$500,13)","v":0},{"$f":"VLOOKUP(K736,'Standard Labels'!$A$7:$AC$500,15)","v":0},{"$f":"VLOOKUP(K736,'Standard Labels'!$A$7:$AC$500,17)","v":0},{"$f":"VLOOKUP(K736,'Standard Labels'!$A$7:$AC$500,19)","v":0},{"$f":"VLOOKUP(K736,'Standard Labels'!$A$7:$AC$500,21)","v":0},{"$f":"VLOOKUP(K736,'Standard Labels'!$A$7:$AC$500,23)","v":0},{"$f":"VLOOKUP(K736,'Standard Labels'!$A$7:$AC$500,25)","v":0},{"$f":"VLOOKUP(K736,'Standard Labels'!$A$7:$AC$500,27)","v":0},{"$f":"VLOOKUP(K736,'Standard Labels'!$A$7:$AC$500,29)","v":0},735]
[{"$f":"VLOOKUP(K737,'Standard Labels'!$A$7:$AC$500,11)","v":0},{"$f":"VLOOKUP(K737,'Standard Labels'!$A$7:$AC$500,13)","v":0},{"$f":"VLOOKUP(K737,'Standard Labels'!$A$7:$AC$500,15)","v":0},{"$f":"VLOOKUP(K737,'Standard Labels'!$A$7:$AC$500,17)","v":0},{"$f":"VLOOKUP(K737,'Standard Labels'!$A$7:$AC$500,19)","v":0},{"$f":"VLOOKUP(K737,'Standard Labels'!$A$7:$AC$500,21)","v":0},{"$f":"VLOOKUP(K737,'Standard Labels'!$A$7:$AC$500,23)","v":0},{"$f":"VLOOKUP(K737,'Standard Labels'!$A$7:$AC$500,25)","v":0},{"$f":"VLOOKUP(K737,'Standard Labels'!$A$7:$AC$500,27)","v":0},{"$f":"VLOOKUP(K737,'Standard Labels'!$A$7:$AC$500,29)","v":0},736]
[{"$f":"VLOOKUP(K738,'Standard Labels'!$A$7:$AC$500,11)","v":0},{"$f":"VLOOKUP(K738,'Standard Labels'!$A$7:$AC$500,13)","v":0},{"$f":"VLOOKUP(K738,'Standard Labels'!$A$7:$AC$500,15)","v":0},{"$f":"VLOOKUP(K738,'Standard Labels'!$A$7:$AC$500,17)","v":0},{"$f":"VLOOKUP(K738,'Standard Labels'!$A$7:$AC$500,19)","v":0},{"$f":"VLOOKUP(K738,'Standard Labels'!$A$7:$AC$500,21)","v":0},{"$f":"VLOOKUP(K738,'Standard Labels'!$A$7:$AC$500,23)","v":0},{"$f":"VLOOKUP(K738,'Standard Labels'!$A$7:$AC$500,25)","v":0},{"$f":"VLOOKUP(K738,'Standard Labels'!$A$7:$AC$500,27)","v":0},{"$f":"VLOOKUP(K738,'Standard Labels'!$A$7:$AC$500,29)","v":0},737]
[{"$f":"VLOOKUP(K739,'Standard Labels'!$A$7:$AC$500,11)","v":0},{"$f":"VLOOKUP(K739,'Standard Labels'!$A$7:$AC$500,13)","v":0},{"$f":"VLOOKUP(K739,'Standard Labels'!$A$7:$AC$500,15)","v":0},{"$f":"VLOOKUP(K739,'Standard Labels'!$A$7:$AC$500,17)","v":0},{"$f":"VLOOKUP(K739,'Standard Labels'!$A$7:$AC$500,19)","v":0},{"$f":"VLOOKUP(K739,'Standard Labels'!$A$7:$AC$500,21)","v":0},{"$f":"VLOOKUP(K739,'Standard Labels'!$A$7:$AC$500,23)","v":0},{"$f":"VLOOKUP(K739,'Standard Labels'!$A$7:$AC$500,25)","v":0},{"$f":"VLOOKUP(K739,'Standard Labels'!$A$7:$AC$500,27)","v":0},{"$f":"VLOOKUP(K739,'Standard Labels'!$A$7:$AC$500,29)","v":0},738]
[{"$f":"VLOOKUP(K740,'Standard Labels'!$A$7:$AC$500,11)","v":0},{"$f":"VLOOKUP(K740,'Standard Labels'!$A$7:$AC$500,13)","v":0},{"$f":"VLOOKUP(K740,'Standard Labels'!$A$7:$AC$500,15)","v":0},{"$f":"VLOOKUP(K740,'Standard Labels'!$A$7:$AC$500,17)","v":0},{"$f":"VLOOKUP(K740,'Standard Labels'!$A$7:$AC$500,19)","v":0},{"$f":"VLOOKUP(K740,'Standard Labels'!$A$7:$AC$500,21)","v":0},{"$f":"VLOOKUP(K740,'Standard Labels'!$A$7:$AC$500,23)","v":0},{"$f":"VLOOKUP(K740,'Standard Labels'!$A$7:$AC$500,25)","v":0},{"$f":"VLOOKUP(K740,'Standard Labels'!$A$7:$AC$500,27)","v":0},{"$f":"VLOOKUP(K740,'Standard Labels'!$A$7:$AC$500,29)","v":0},739]
[{"$f":"VLOOKUP(K741,'Standard Labels'!$A$7:$AC$500,11)","v":0},{"$f":"VLOOKUP(K741,'Standard Labels'!$A$7:$AC$500,13)","v":0},{"$f":"VLOOKUP(K741,'Standard Labels'!$A$7:$AC$500,15)","v":0},{"$f":"VLOOKUP(K741,'Standard Labels'!$A$7:$AC$500,17)","v":0},{"$f":"VLOOKUP(K741,'Standard Labels'!$A$7:$AC$500,19)","v":0},{"$f":"VLOOKUP(K741,'Standard Labels'!$A$7:$AC$500,21)","v":0},{"$f":"VLOOKUP(K741,'Standard Labels'!$A$7:$AC$500,23)","v":0},{"$f":"VLOOKUP(K741,'Standard Labels'!$A$7:$AC$500,25)","v":0},{"$f":"VLOOKUP(K741,'Standard Labels'!$A$7:$AC$500,27)","v":0},{"$f":"VLOOKUP(K741,'Standard Labels'!$A$7:$AC$500,29)","v":0},740]
[{"$f":"VLOOKUP(K742,'Standard Labels'!$A$7:$AC$500,11)","v":0},{"$f":"VLOOKUP(K742,'Standard Labels'!$A$7:$AC$500,13)","v":0},{"$f":"VLOOKUP(K742,'Standard Labels'!$A$7:$AC$500,15)","v":0},{"$f":"VLOOKUP(K742,'Standard Labels'!$A$7:$AC$500,17)","v":0},{"$f":"VLOOKUP(K742,'Standard Labels'!$A$7:$AC$500,19)","v":0},{"$f":"VLOOKUP(K742,'Standard Labels'!$A$7:$AC$500,21)","v":0},{"$f":"VLOOKUP(K742,'Standard Labels'!$A$7:$AC$500,23)","v":0},{"$f":"VLOOKUP(K742,'Standard Labels'!$A$7:$AC$500,25)","v":0},{"$f":"VLOOKUP(K742,'Standard Labels'!$A$7:$AC$500,27)","v":0},{"$f":"VLOOKUP(K742,'Standard Labels'!$A$7:$AC$500,29)","v":0},741]
[{"$f":"VLOOKUP(K743,'Standard Labels'!$A$7:$AC$500,11)","v":0},{"$f":"VLOOKUP(K743,'Standard Labels'!$A$7:$AC$500,13)","v":0},{"$f":"VLOOKUP(K743,'Standard Labels'!$A$7:$AC$500,15)","v":0},{"$f":"VLOOKUP(K743,'Standard Labels'!$A$7:$AC$500,17)","v":0},{"$f":"VLOOKUP(K743,'Standard Labels'!$A$7:$AC$500,19)","v":0},{"$f":"VLOOKUP(K743,'Standard Labels'!$A$7:$AC$500,21)","v":0},{"$f":"VLOOKUP(K743,'Standard Labels'!$A$7:$AC$500,23)","v":0},{"$f":"VLOOKUP(K743,'Standard Labels'!$A$7:$AC$500,25)","v":0},{"$f":"VLOOKUP(K743,'Standard Labels'!$A$7:$AC$500,27)","v":0},{"$f":"VLOOKUP(K743,'Standard Labels'!$A$7:$AC$500,29)","v":0},742]
[{"$f":"VLOOKUP(K744,'Standard Labels'!$A$7:$AC$500,11)","v":0},{"$f":"VLOOKUP(K744,'Standard Labels'!$A$7:$AC$500,13)","v":0},{"$f":"VLOOKUP(K744,'Standard Labels'!$A$7:$AC$500,15)","v":0},{"$f":"VLOOKUP(K744,'Standard Labels'!$A$7:$AC$500,17)","v":0},{"$f":"VLOOKUP(K744,'Standard Labels'!$A$7:$AC$500,19)","v":0},{"$f":"VLOOKUP(K744,'Standard Labels'!$A$7:$AC$500,21)","v":0},{"$f":"VLOOKUP(K744,'Standard Labels'!$A$7:$AC$500,23)","v":0},{"$f":"VLOOKUP(K744,'Standard Labels'!$A$7:$AC$500,25)","v":0},{"$f":"VLOOKUP(K744,'Standard Labels'!$A$7:$AC$500,27)","v":0},{"$f":"VLOOKUP(K744,'Standard Labels'!$A$7:$AC$500,29)","v":0},743]
[{"$f":"VLOOKUP(K745,'Standard Labels'!$A$7:$AC$500,11)","v":0},{"$f":"VLOOKUP(K745,'Standard Labels'!$A$7:$AC$500,13)","v":0},{"$f":"VLOOKUP(K745,'Standard Labels'!$A$7:$AC$500,15)","v":0},{"$f":"VLOOKUP(K745,'Standard Labels'!$A$7:$AC$500,17)","v":0},{"$f":"VLOOKUP(K745,'Standard Labels'!$A$7:$AC$500,19)","v":0},{"$f":"VLOOKUP(K745,'Standard Labels'!$A$7:$AC$500,21)","v":0},{"$f":"VLOOKUP(K745,'Standard Labels'!$A$7:$AC$500,23)","v":0},{"$f":"VLOOKUP(K745,'Standard Labels'!$A$7:$AC$500,25)","v":0},{"$f":"VLOOKUP(K745,'Standard Labels'!$A$7:$AC$500,27)","v":0},{"$f":"VLOOKUP(K745,'Standard Labels'!$A$7:$AC$500,29)","v":0},744]
[{"$f":"VLOOKUP(K746,'Standard Labels'!$A$7:$AC$500,11)","v":0},{"$f":"VLOOKUP(K746,'Standard Labels'!$A$7:$AC$500,13)","v":0},{"$f":"VLOOKUP(K746,'Standard Labels'!$A$7:$AC$500,15)","v":0},{"$f":"VLOOKUP(K746,'Standard Labels'!$A$7:$AC$500,17)","v":0},{"$f":"VLOOKUP(K746,'Standard Labels'!$A$7:$AC$500,19)","v":0},{"$f":"VLOOKUP(K746,'Standard Labels'!$A$7:$AC$500,21)","v":0},{"$f":"VLOOKUP(K746,'Standard Labels'!$A$7:$AC$500,23)","v":0},{"$f":"VLOOKUP(K746,'Standard Labels'!$A$7:$AC$500,25)","v":0},{"$f":"VLOOKUP(K746,'Standard Labels'!$A$7:$AC$500,27)","v":0},{"$f":"VLOOKUP(K746,'Standard Labels'!$A$7:$AC$500,29)","v":0},745]
[{"$f":"VLOOKUP(K747,'Standard Labels'!$A$7:$AC$500,11)","v":0},{"$f":"VLOOKUP(K747,'Standard Labels'!$A$7:$AC$500,13)","v":0},{"$f":"VLOOKUP(K747,'Standard Labels'!$A$7:$AC$500,15)","v":0},{"$f":"VLOOKUP(K747,'Standard Labels'!$A$7:$AC$500,17)","v":0},{"$f":"VLOOKUP(K747,'Standard Labels'!$A$7:$AC$500,19)","v":0},{"$f":"VLOOKUP(K747,'Standard Labels'!$A$7:$AC$500,21)","v":0},{"$f":"VLOOKUP(K747,'Standard Labels'!$A$7:$AC$500,23)","v":0},{"$f":"VLOOKUP(K747,'Standard Labels'!$A$7:$AC$500,25)","v":0},{"$f":"VLOOKUP(K747,'Standard Labels'!$A$7:$AC$500,27)","v":0},{"$f":"VLOOKUP(K747,'Standard Labels'!$A$7:$AC$500,29)","v":0},746]
[{"$f":"VLOOKUP(K748,'Standard Labels'!$A$7:$AC$500,11)","v":0},{"$f":"VLOOKUP(K748,'Standard Labels'!$A$7:$AC$500,13)","v":0},{"$f":"VLOOKUP(K748,'Standard Labels'!$A$7:$AC$500,15)","v":0},{"$f":"VLOOKUP(K748,'Standard Labels'!$A$7:$AC$500,17)","v":0},{"$f":"VLOOKUP(K748,'Standard Labels'!$A$7:$AC$500,19)","v":0},{"$f":"VLOOKUP(K748,'Standard Labels'!$A$7:$AC$500,21)","v":0},{"$f":"VLOOKUP(K748,'Standard Labels'!$A$7:$AC$500,23)","v":0},{"$f":"VLOOKUP(K748,'Standard Labels'!$A$7:$AC$500,25)","v":0},{"$f":"VLOOKUP(K748,'Standard Labels'!$A$7:$AC$500,27)","v":0},{"$f":"VLOOKUP(K748,'Standard Labels'!$A$7:$AC$500,29)","v":0},747]
[{"$f":"VLOOKUP(K749,'Standard Labels'!$A$7:$AC$500,11)","v":0},{"$f":"VLOOKUP(K749,'Standard Labels'!$A$7:$AC$500,13)","v":0},{"$f":"VLOOKUP(K749,'Standard Labels'!$A$7:$AC$500,15)","v":0},{"$f":"VLOOKUP(K749,'Standard Labels'!$A$7:$AC$500,17)","v":0},{"$f":"VLOOKUP(K749,'Standard Labels'!$A$7:$AC$500,19)","v":0},{"$f":"VLOOKUP(K749,'Standard Labels'!$A$7:$AC$500,21)","v":0},{"$f":"VLOOKUP(K749,'Standard Labels'!$A$7:$AC$500,23)","v":0},{"$f":"VLOOKUP(K749,'Standard Labels'!$A$7:$AC$500,25)","v":0},{"$f":"VLOOKUP(K749,'Standard Labels'!$A$7:$AC$500,27)","v":0},{"$f":"VLOOKUP(K749,'Standard Labels'!$A$7:$AC$500,29)","v":0},748]
[{"$f":"VLOOKUP(K750,'Standard Labels'!$A$7:$AC$500,11)","v":0},{"$f":"VLOOKUP(K750,'Standard Labels'!$A$7:$AC$500,13)","v":0},{"$f":"VLOOKUP(K750,'Standard Labels'!$A$7:$AC$500,15)","v":0},{"$f":"VLOOKUP(K750,'Standard Labels'!$A$7:$AC$500,17)","v":0},{"$f":"VLOOKUP(K750,'Standard Labels'!$A$7:$AC$500,19)","v":0},{"$f":"VLOOKUP(K750,'Standard Labels'!$A$7:$AC$500,21)","v":0},{"$f":"VLOOKUP(K750,'Standard Labels'!$A$7:$AC$500,23)","v":0},{"$f":"VLOOKUP(K750,'Standard Labels'!$A$7:$AC$500,25)","v":0},{"$f":"VLOOKUP(K750,'Standard Labels'!$A$7:$AC$500,27)","v":0},{"$f":"VLOOKUP(K750,'Standard Labels'!$A$7:$AC$500,29)","v":0},749]
[{"$f":"VLOOKUP(K751,'Standard Labels'!$A$7:$AC$500,11)","v":0},{"$f":"VLOOKUP(K751,'Standard Labels'!$A$7:$AC$500,13)","v":0},{"$f":"VLOOKUP(K751,'Standard Labels'!$A$7:$AC$500,15)","v":0},{"$f":"VLOOKUP(K751,'Standard Labels'!$A$7:$AC$500,17)","v":0},{"$f":"VLOOKUP(K751,'Standard Labels'!$A$7:$AC$500,19)","v":0},{"$f":"VLOOKUP(K751,'Standard Labels'!$A$7:$AC$500,21)","v":0},{"$f":"VLOOKUP(K751,'Standard Labels'!$A$7:$AC$500,23)","v":0},{"$f":"VLOOKUP(K751,'Standard Labels'!$A$7:$AC$500,25)","v":0},{"$f":"VLOOKUP(K751,'Standard Labels'!$A$7:$AC$500,27)","v":0},{"$f":"VLOOKUP(K751,'Standard Labels'!$A$7:$AC$500,29)","v":0},750]
[{"$f":"VLOOKUP(K752,'Standard Labels'!$A$7:$AC$500,11)","v":0},{"$f":"VLOOKUP(K752,'Standard Labels'!$A$7:$AC$500,13)","v":0},{"$f":"VLOOKUP(K752,'Standard Labels'!$A$7:$AC$500,15)","v":0},{"$f":"VLOOKUP(K752,'Standard Labels'!$A$7:$AC$500,17)","v":0},{"$f":"VLOOKUP(K752,'Standard Labels'!$A$7:$AC$500,19)","v":0},{"$f":"VLOOKUP(K752,'Standard Labels'!$A$7:$AC$500,21)","v":0},{"$f":"VLOOKUP(K752,'Standard Labels'!$A$7:$AC$500,23)","v":0},{"$f":"VLOOKUP(K752,'Standard Labels'!$A$7:$AC$500,25)","v":0},{"$f":"VLOOKUP(K752,'Standard Labels'!$A$7:$AC$500,27)","v":0},{"$f":"VLOOKUP(K752,'Standard Labels'!$A$7:$AC$500,29)","v":0},751]
[{"$f":"VLOOKUP(K753,'Standard Labels'!$A$7:$AC$500,11)","v":0},{"$f":"VLOOKUP(K753,'Standard Labels'!$A$7:$AC$500,13)","v":0},{"$f":"VLOOKUP(K753,'Standard Labels'!$A$7:$AC$500,15)","v":0},{"$f":"VLOOKUP(K753,'Standard Labels'!$A$7:$AC$500,17)","v":0},{"$f":"VLOOKUP(K753,'Standard Labels'!$A$7:$AC$500,19)","v":0},{"$f":"VLOOKUP(K753,'Standard Labels'!$A$7:$AC$500,21)","v":0},{"$f":"VLOOKUP(K753,'Standard Labels'!$A$7:$AC$500,23)","v":0},{"$f":"VLOOKUP(K753,'Standard Labels'!$A$7:$AC$500,25)","v":0},{"$f":"VLOOKUP(K753,'Standard Labels'!$A$7:$AC$500,27)","v":0},{"$f":"VLOOKUP(K753,'Standard Labels'!$A$7:$AC$500,29)","v":0},752]
[{"$f":"VLOOKUP(K754,'Standard Labels'!$A$7:$AC$500,11)","v":0},{"$f":"VLOOKUP(K754,'Standard Labels'!$A$7:$AC$500,13)","v":0},{"$f":"VLOOKUP(K754,'Standard Labels'!$A$7:$AC$500,15)","v":0},{"$f":"VLOOKUP(K754,'Standard Labels'!$A$7:$AC$500,17)","v":0},{"$f":"VLOOKUP(K754,'Standard Labels'!$A$7:$AC$500,19)","v":0},{"$f":"VLOOKUP(K754,'Standard Labels'!$A$7:$AC$500,21)","v":0},{"$f":"VLOOKUP(K754,'Standard Labels'!$A$7:$AC$500,23)","v":0},{"$f":"VLOOKUP(K754,'Standard Labels'!$A$7:$AC$500,25)","v":0},{"$f":"VLOOKUP(K754,'Standard Labels'!$A$7:$AC$500,27)","v":0},{"$f":"VLOOKUP(K754,'Standard Labels'!$A$7:$AC$500,29)","v":0},753]
[{"$f":"VLOOKUP(K755,'Standard Labels'!$A$7:$AC$500,11)","v":0},{"$f":"VLOOKUP(K755,'Standard Labels'!$A$7:$AC$500,13)","v":0},{"$f":"VLOOKUP(K755,'Standard Labels'!$A$7:$AC$500,15)","v":0},{"$f":"VLOOKUP(K755,'Standard Labels'!$A$7:$AC$500,17)","v":0},{"$f":"VLOOKUP(K755,'Standard Labels'!$A$7:$AC$500,19)","v":0},{"$f":"VLOOKUP(K755,'Standard Labels'!$A$7:$AC$500,21)","v":0},{"$f":"VLOOKUP(K755,'Standard Labels'!$A$7:$AC$500,23)","v":0},{"$f":"VLOOKUP(K755,'Standard Labels'!$A$7:$AC$500,25)","v":0},{"$f":"VLOOKUP(K755,'Standard Labels'!$A$7:$AC$500,27)","v":0},{"$f":"VLOOKUP(K755,'Standard Labels'!$A$7:$AC$500,29)","v":0},754]
[{"$f":"VLOOKUP(K756,'Standard Labels'!$A$7:$AC$500,11)","v":0},{"$f":"VLOOKUP(K756,'Standard Labels'!$A$7:$AC$500,13)","v":0},{"$f":"VLOOKUP(K756,'Standard Labels'!$A$7:$AC$500,15)","v":0},{"$f":"VLOOKUP(K756,'Standard Labels'!$A$7:$AC$500,17)","v":0},{"$f":"VLOOKUP(K756,'Standard Labels'!$A$7:$AC$500,19)","v":0},{"$f":"VLOOKUP(K756,'Standard Labels'!$A$7:$AC$500,21)","v":0},{"$f":"VLOOKUP(K756,'Standard Labels'!$A$7:$AC$500,23)","v":0},{"$f":"VLOOKUP(K756,'Standard Labels'!$A$7:$AC$500,25)","v":0},{"$f":"VLOOKUP(K756,'Standard Labels'!$A$7:$AC$500,27)","v":0},{"$f":"VLOOKUP(K756,'Standard Labels'!$A$7:$AC$500,29)","v":0},755]
[{"$f":"VLOOKUP(K757,'Standard Labels'!$A$7:$AC$500,11)","v":0},{"$f":"VLOOKUP(K757,'Standard Labels'!$A$7:$AC$500,13)","v":0},{"$f":"VLOOKUP(K757,'Standard Labels'!$A$7:$AC$500,15)","v":0},{"$f":"VLOOKUP(K757,'Standard Labels'!$A$7:$AC$500,17)","v":0},{"$f":"VLOOKUP(K757,'Standard Labels'!$A$7:$AC$500,19)","v":0},{"$f":"VLOOKUP(K757,'Standard Labels'!$A$7:$AC$500,21)","v":0},{"$f":"VLOOKUP(K757,'Standard Labels'!$A$7:$AC$500,23)","v":0},{"$f":"VLOOKUP(K757,'Standard Labels'!$A$7:$AC$500,25)","v":0},{"$f":"VLOOKUP(K757,'Standard Labels'!$A$7:$AC$500,27)","v":0},{"$f":"VLOOKUP(K757,'Standard Labels'!$A$7:$AC$500,29)","v":0},756]
[{"$f":"VLOOKUP(K758,'Standard Labels'!$A$7:$AC$500,11)","v":0},{"$f":"VLOOKUP(K758,'Standard Labels'!$A$7:$AC$500,13)","v":0},{"$f":"VLOOKUP(K758,'Standard Labels'!$A$7:$AC$500,15)","v":0},{"$f":"VLOOKUP(K758,'Standard Labels'!$A$7:$AC$500,17)","v":0},{"$f":"VLOOKUP(K758,'Standard Labels'!$A$7:$AC$500,19)","v":0},{"$f":"VLOOKUP(K758,'Standard Labels'!$A$7:$AC$500,21)","v":0},{"$f":"VLOOKUP(K758,'Standard Labels'!$A$7:$AC$500,23)","v":0},{"$f":"VLOOKUP(K758,'Standard Labels'!$A$7:$AC$500,25)","v":0},{"$f":"VLOOKUP(K758,'Standard Labels'!$A$7:$AC$500,27)","v":0},{"$f":"VLOOKUP(K758,'Standard Labels'!$A$7:$AC$500,29)","v":0},757]
[{"$f":"VLOOKUP(K759,'Standard Labels'!$A$7:$AC$500,11)","v":0},{"$f":"VLOOKUP(K759,'Standard Labels'!$A$7:$AC$500,13)","v":0},{"$f":"VLOOKUP(K759,'Standard Labels'!$A$7:$AC$500,15)","v":0},{"$f":"VLOOKUP(K759,'Standard Labels'!$A$7:$AC$500,17)","v":0},{"$f":"VLOOKUP(K759,'Standard Labels'!$A$7:$AC$500,19)","v":0},{"$f":"VLOOKUP(K759,'Standard Labels'!$A$7:$AC$500,21)","v":0},{"$f":"VLOOKUP(K759,'Standard Labels'!$A$7:$AC$500,23)","v":0},{"$f":"VLOOKUP(K759,'Standard Labels'!$A$7:$AC$500,25)","v":0},{"$f":"VLOOKUP(K759,'Standard Labels'!$A$7:$AC$500,27)","v":0},{"$f":"VLOOKUP(K759,'Standard Labels'!$A$7:$AC$500,29)","v":0},758]
[{"$f":"VLOOKUP(K760,'Standard Labels'!$A$7:$AC$500,11)","v":0},{"$f":"VLOOKUP(K760,'Standard Labels'!$A$7:$AC$500,13)","v":0},{"$f":"VLOOKUP(K760,'Standard Labels'!$A$7:$AC$500,15)","v":0},{"$f":"VLOOKUP(K760,'Standard Labels'!$A$7:$AC$500,17)","v":0},{"$f":"VLOOKUP(K760,'Standard Labels'!$A$7:$AC$500,19)","v":0},{"$f":"VLOOKUP(K760,'Standard Labels'!$A$7:$AC$500,21)","v":0},{"$f":"VLOOKUP(K760,'Standard Labels'!$A$7:$AC$500,23)","v":0},{"$f":"VLOOKUP(K760,'Standard Labels'!$A$7:$AC$500,25)","v":0},{"$f":"VLOOKUP(K760,'Standard Labels'!$A$7:$AC$500,27)","v":0},{"$f":"VLOOKUP(K760,'Standard Labels'!$A$7:$AC$500,29)","v":0},759]
[{"$f":"VLOOKUP(K761,'Standard Labels'!$A$7:$AC$500,11)","v":0},{"$f":"VLOOKUP(K761,'Standard Labels'!$A$7:$AC$500,13)","v":0},{"$f":"VLOOKUP(K761,'Standard Labels'!$A$7:$AC$500,15)","v":0},{"$f":"VLOOKUP(K761,'Standard Labels'!$A$7:$AC$500,17)","v":0},{"$f":"VLOOKUP(K761,'Standard Labels'!$A$7:$AC$500,19)","v":0},{"$f":"VLOOKUP(K761,'Standard Labels'!$A$7:$AC$500,21)","v":0},{"$f":"VLOOKUP(K761,'Standard Labels'!$A$7:$AC$500,23)","v":0},{"$f":"VLOOKUP(K761,'Standard Labels'!$A$7:$AC$500,25)","v":0},{"$f":"VLOOKUP(K761,'Standard Labels'!$A$7:$AC$500,27)","v":0},{"$f":"VLOOKUP(K761,'Standard Labels'!$A$7:$AC$500,29)","v":0},760]
[{"$f":"VLOOKUP(K762,'Standard Labels'!$A$7:$AC$500,11)","v":0},{"$f":"VLOOKUP(K762,'Standard Labels'!$A$7:$AC$500,13)","v":0},{"$f":"VLOOKUP(K762,'Standard Labels'!$A$7:$AC$500,15)","v":0},{"$f":"VLOOKUP(K762,'Standard Labels'!$A$7:$AC$500,17)","v":0},{"$f":"VLOOKUP(K762,'Standard Labels'!$A$7:$AC$500,19)","v":0},{"$f":"VLOOKUP(K762,'Standard Labels'!$A$7:$AC$500,21)","v":0},{"$f":"VLOOKUP(K762,'Standard Labels'!$A$7:$AC$500,23)","v":0},{"$f":"VLOOKUP(K762,'Standard Labels'!$A$7:$AC$500,25)","v":0},{"$f":"VLOOKUP(K762,'Standard Labels'!$A$7:$AC$500,27)","v":0},{"$f":"VLOOKUP(K762,'Standard Labels'!$A$7:$AC$500,29)","v":0},761]
[{"$f":"VLOOKUP(K763,'Standard Labels'!$A$7:$AC$500,11)","v":0},{"$f":"VLOOKUP(K763,'Standard Labels'!$A$7:$AC$500,13)","v":0},{"$f":"VLOOKUP(K763,'Standard Labels'!$A$7:$AC$500,15)","v":0},{"$f":"VLOOKUP(K763,'Standard Labels'!$A$7:$AC$500,17)","v":0},{"$f":"VLOOKUP(K763,'Standard Labels'!$A$7:$AC$500,19)","v":0},{"$f":"VLOOKUP(K763,'Standard Labels'!$A$7:$AC$500,21)","v":0},{"$f":"VLOOKUP(K763,'Standard Labels'!$A$7:$AC$500,23)","v":0},{"$f":"VLOOKUP(K763,'Standard Labels'!$A$7:$AC$500,25)","v":0},{"$f":"VLOOKUP(K763,'Standard Labels'!$A$7:$AC$500,27)","v":0},{"$f":"VLOOKUP(K763,'Standard Labels'!$A$7:$AC$500,29)","v":0},762]
[{"$f":"VLOOKUP(K764,'Standard Labels'!$A$7:$AC$500,11)","v":0},{"$f":"VLOOKUP(K764,'Standard Labels'!$A$7:$AC$500,13)","v":0},{"$f":"VLOOKUP(K764,'Standard Labels'!$A$7:$AC$500,15)","v":0},{"$f":"VLOOKUP(K764,'Standard Labels'!$A$7:$AC$500,17)","v":0},{"$f":"VLOOKUP(K764,'Standard Labels'!$A$7:$AC$500,19)","v":0},{"$f":"VLOOKUP(K764,'Standard Labels'!$A$7:$AC$500,21)","v":0},{"$f":"VLOOKUP(K764,'Standard Labels'!$A$7:$AC$500,23)","v":0},{"$f":"VLOOKUP(K764,'Standard Labels'!$A$7:$AC$500,25)","v":0},{"$f":"VLOOKUP(K764,'Standard Labels'!$A$7:$AC$500,27)","v":0},{"$f":"VLOOKUP(K764,'Standard Labels'!$A$7:$AC$500,29)","v":0},763]
[{"$f":"VLOOKUP(K765,'Standard Labels'!$A$7:$AC$500,11)","v":0},{"$f":"VLOOKUP(K765,'Standard Labels'!$A$7:$AC$500,13)","v":0},{"$f":"VLOOKUP(K765,'Standard Labels'!$A$7:$AC$500,15)","v":0},{"$f":"VLOOKUP(K765,'Standard Labels'!$A$7:$AC$500,17)","v":0},{"$f":"VLOOKUP(K765,'Standard Labels'!$A$7:$AC$500,19)","v":0},{"$f":"VLOOKUP(K765,'Standard Labels'!$A$7:$AC$500,21)","v":0},{"$f":"VLOOKUP(K765,'Standard Labels'!$A$7:$AC$500,23)","v":0},{"$f":"VLOOKUP(K765,'Standard Labels'!$A$7:$AC$500,25)","v":0},{"$f":"VLOOKUP(K765,'Standard Labels'!$A$7:$AC$500,27)","v":0},{"$f":"VLOOKUP(K765,'Standard Labels'!$A$7:$AC$500,29)","v":0},764]
[{"$f":"VLOOKUP(K766,'Standard Labels'!$A$7:$AC$500,11)","v":0},{"$f":"VLOOKUP(K766,'Standard Labels'!$A$7:$AC$500,13)","v":0},{"$f":"VLOOKUP(K766,'Standard Labels'!$A$7:$AC$500,15)","v":0},{"$f":"VLOOKUP(K766,'Standard Labels'!$A$7:$AC$500,17)","v":0},{"$f":"VLOOKUP(K766,'Standard Labels'!$A$7:$AC$500,19)","v":0},{"$f":"VLOOKUP(K766,'Standard Labels'!$A$7:$AC$500,21)","v":0},{"$f":"VLOOKUP(K766,'Standard Labels'!$A$7:$AC$500,23)","v":0},{"$f":"VLOOKUP(K766,'Standard Labels'!$A$7:$AC$500,25)","v":0},{"$f":"VLOOKUP(K766,'Standard Labels'!$A$7:$AC$500,27)","v":0},{"$f":"VLOOKUP(K766,'Standard Labels'!$A$7:$AC$500,29)","v":0},765]
[{"$f":"VLOOKUP(K767,'Standard Labels'!$A$7:$AC$500,11)","v":0},{"$f":"VLOOKUP(K767,'Standard Labels'!$A$7:$AC$500,13)","v":0},{"$f":"VLOOKUP(K767,'Standard Labels'!$A$7:$AC$500,15)","v":0},{"$f":"VLOOKUP(K767,'Standard Labels'!$A$7:$AC$500,17)","v":0},{"$f":"VLOOKUP(K767,'Standard Labels'!$A$7:$AC$500,19)","v":0},{"$f":"VLOOKUP(K767,'Standard Labels'!$A$7:$AC$500,21)","v":0},{"$f":"VLOOKUP(K767,'Standard Labels'!$A$7:$AC$500,23)","v":0},{"$f":"VLOOKUP(K767,'Standard Labels'!$A$7:$AC$500,25)","v":0},{"$f":"VLOOKUP(K767,'Standard Labels'!$A$7:$AC$500,27)","v":0},{"$f":"VLOOKUP(K767,'Standard Labels'!$A$7:$AC$500,29)","v":0},766]
[{"$f":"VLOOKUP(K768,'Standard Labels'!$A$7:$AC$500,11)","v":0},{"$f":"VLOOKUP(K768,'Standard Labels'!$A$7:$AC$500,13)","v":0},{"$f":"VLOOKUP(K768,'Standard Labels'!$A$7:$AC$500,15)","v":0},{"$f":"VLOOKUP(K768,'Standard Labels'!$A$7:$AC$500,17)","v":0},{"$f":"VLOOKUP(K768,'Standard Labels'!$A$7:$AC$500,19)","v":0},{"$f":"VLOOKUP(K768,'Standard Labels'!$A$7:$AC$500,21)","v":0},{"$f":"VLOOKUP(K768,'Standard Labels'!$A$7:$AC$500,23)","v":0},{"$f":"VLOOKUP(K768,'Standard Labels'!$A$7:$AC$500,25)","v":0},{"$f":"VLOOKUP(K768,'Standard Labels'!$A$7:$AC$500,27)","v":0},{"$f":"VLOOKUP(K768,'Standard Labels'!$A$7:$AC$500,29)","v":0},767]
[{"$f":"VLOOKUP(K769,'Standard Labels'!$A$7:$AC$500,11)","v":0},{"$f":"VLOOKUP(K769,'Standard Labels'!$A$7:$AC$500,13)","v":0},{"$f":"VLOOKUP(K769,'Standard Labels'!$A$7:$AC$500,15)","v":0},{"$f":"VLOOKUP(K769,'Standard Labels'!$A$7:$AC$500,17)","v":0},{"$f":"VLOOKUP(K769,'Standard Labels'!$A$7:$AC$500,19)","v":0},{"$f":"VLOOKUP(K769,'Standard Labels'!$A$7:$AC$500,21)","v":0},{"$f":"VLOOKUP(K769,'Standard Labels'!$A$7:$AC$500,23)","v":0},{"$f":"VLOOKUP(K769,'Standard Labels'!$A$7:$AC$500,25)","v":0},{"$f":"VLOOKUP(K769,'Standard Labels'!$A$7:$AC$500,27)","v":0},{"$f":"VLOOKUP(K769,'Standard Labels'!$A$7:$AC$500,29)","v":0},768]
[{"$f":"VLOOKUP(K770,'Standard Labels'!$A$7:$AC$500,11)","v":0},{"$f":"VLOOKUP(K770,'Standard Labels'!$A$7:$AC$500,13)","v":0},{"$f":"VLOOKUP(K770,'Standard Labels'!$A$7:$AC$500,15)","v":0},{"$f":"VLOOKUP(K770,'Standard Labels'!$A$7:$AC$500,17)","v":0},{"$f":"VLOOKUP(K770,'Standard Labels'!$A$7:$AC$500,19)","v":0},{"$f":"VLOOKUP(K770,'Standard Labels'!$A$7:$AC$500,21)","v":0},{"$f":"VLOOKUP(K770,'Standard Labels'!$A$7:$AC$500,23)","v":0},{"$f":"VLOOKUP(K770,'Standard Labels'!$A$7:$AC$500,25)","v":0},{"$f":"VLOOKUP(K770,'Standard Labels'!$A$7:$AC$500,27)","v":0},{"$f":"VLOOKUP(K770,'Standard Labels'!$A$7:$AC$500,29)","v":0},769]
[{"$f":"VLOOKUP(K771,'Standard Labels'!$A$7:$AC$500,11)","v":0},{"$f":"VLOOKUP(K771,'Standard Labels'!$A$7:$AC$500,13)","v":0},{"$f":"VLOOKUP(K771,'Standard Labels'!$A$7:$AC$500,15)","v":0},{"$f":"VLOOKUP(K771,'Standard Labels'!$A$7:$AC$500,17)","v":0},{"$f":"VLOOKUP(K771,'Standard Labels'!$A$7:$AC$500,19)","v":0},{"$f":"VLOOKUP(K771,'Standard Labels'!$A$7:$AC$500,21)","v":0},{"$f":"VLOOKUP(K771,'Standard Labels'!$A$7:$AC$500,23)","v":0},{"$f":"VLOOKUP(K771,'Standard Labels'!$A$7:$AC$500,25)","v":0},{"$f":"VLOOKUP(K771,'Standard Labels'!$A$7:$AC$500,27)","v":0},{"$f":"VLOOKUP(K771,'Standard Labels'!$A$7:$AC$500,29)","v":0},770]
[{"$f":"VLOOKUP(K772,'Standard Labels'!$A$7:$AC$500,11)","v":0},{"$f":"VLOOKUP(K772,'Standard Labels'!$A$7:$AC$500,13)","v":0},{"$f":"VLOOKUP(K772,'Standard Labels'!$A$7:$AC$500,15)","v":0},{"$f":"VLOOKUP(K772,'Standard Labels'!$A$7:$AC$500,17)","v":0},{"$f":"VLOOKUP(K772,'Standard Labels'!$A$7:$AC$500,19)","v":0},{"$f":"VLOOKUP(K772,'Standard Labels'!$A$7:$AC$500,21)","v":0},{"$f":"VLOOKUP(K772,'Standard Labels'!$A$7:$AC$500,23)","v":0},{"$f":"VLOOKUP(K772,'Standard Labels'!$A$7:$AC$500,25)","v":0},{"$f":"VLOOKUP(K772,'Standard Labels'!$A$7:$AC$500,27)","v":0},{"$f":"VLOOKUP(K772,'Standard Labels'!$A$7:$AC$500,29)","v":0},771]
[{"$f":"VLOOKUP(K773,'Standard Labels'!$A$7:$AC$500,11)","v":0},{"$f":"VLOOKUP(K773,'Standard Labels'!$A$7:$AC$500,13)","v":0},{"$f":"VLOOKUP(K773,'Standard Labels'!$A$7:$AC$500,15)","v":0},{"$f":"VLOOKUP(K773,'Standard Labels'!$A$7:$AC$500,17)","v":0},{"$f":"VLOOKUP(K773,'Standard Labels'!$A$7:$AC$500,19)","v":0},{"$f":"VLOOKUP(K773,'Standard Labels'!$A$7:$AC$500,21)","v":0},{"$f":"VLOOKUP(K773,'Standard Labels'!$A$7:$AC$500,23)","v":0},{"$f":"VLOOKUP(K773,'Standard Labels'!$A$7:$AC$500,25)","v":0},{"$f":"VLOOKUP(K773,'Standard Labels'!$A$7:$AC$500,27)","v":0},{"$f":"VLOOKUP(K773,'Standard Labels'!$A$7:$AC$500,29)","v":0},772]
[{"$f":"VLOOKUP(K774,'Standard Labels'!$A$7:$AC$500,11)","v":0},{"$f":"VLOOKUP(K774,'Standard Labels'!$A$7:$AC$500,13)","v":0},{"$f":"VLOOKUP(K774,'Standard Labels'!$A$7:$AC$500,15)","v":0},{"$f":"VLOOKUP(K774,'Standard Labels'!$A$7:$AC$500,17)","v":0},{"$f":"VLOOKUP(K774,'Standard Labels'!$A$7:$AC$500,19)","v":0},{"$f":"VLOOKUP(K774,'Standard Labels'!$A$7:$AC$500,21)","v":0},{"$f":"VLOOKUP(K774,'Standard Labels'!$A$7:$AC$500,23)","v":0},{"$f":"VLOOKUP(K774,'Standard Labels'!$A$7:$AC$500,25)","v":0},{"$f":"VLOOKUP(K774,'Standard Labels'!$A$7:$AC$500,27)","v":0},{"$f":"VLOOKUP(K774,'Standard Labels'!$A$7:$AC$500,29)","v":0},773]
[{"$f":"VLOOKUP(K775,'Standard Labels'!$A$7:$AC$500,11)","v":0},{"$f":"VLOOKUP(K775,'Standard Labels'!$A$7:$AC$500,13)","v":0},{"$f":"VLOOKUP(K775,'Standard Labels'!$A$7:$AC$500,15)","v":0},{"$f":"VLOOKUP(K775,'Standard Labels'!$A$7:$AC$500,17)","v":0},{"$f":"VLOOKUP(K775,'Standard Labels'!$A$7:$AC$500,19)","v":0},{"$f":"VLOOKUP(K775,'Standard Labels'!$A$7:$AC$500,21)","v":0},{"$f":"VLOOKUP(K775,'Standard Labels'!$A$7:$AC$500,23)","v":0},{"$f":"VLOOKUP(K775,'Standard Labels'!$A$7:$AC$500,25)","v":0},{"$f":"VLOOKUP(K775,'Standard Labels'!$A$7:$AC$500,27)","v":0},{"$f":"VLOOKUP(K775,'Standard Labels'!$A$7:$AC$500,29)","v":0},774]
[{"$f":"VLOOKUP(K776,'Standard Labels'!$A$7:$AC$500,11)","v":0},{"$f":"VLOOKUP(K776,'Standard Labels'!$A$7:$AC$500,13)","v":0},{"$f":"VLOOKUP(K776,'Standard Labels'!$A$7:$AC$500,15)","v":0},{"$f":"VLOOKUP(K776,'Standard Labels'!$A$7:$AC$500,17)","v":0},{"$f":"VLOOKUP(K776,'Standard Labels'!$A$7:$AC$500,19)","v":0},{"$f":"VLOOKUP(K776,'Standard Labels'!$A$7:$AC$500,21)","v":0},{"$f":"VLOOKUP(K776,'Standard Labels'!$A$7:$AC$500,23)","v":0},{"$f":"VLOOKUP(K776,'Standard Labels'!$A$7:$AC$500,25)","v":0},{"$f":"VLOOKUP(K776,'Standard Labels'!$A$7:$AC$500,27)","v":0},{"$f":"VLOOKUP(K776,'Standard Labels'!$A$7:$AC$500,29)","v":0},775]
[{"$f":"VLOOKUP(K777,'Standard Labels'!$A$7:$AC$500,11)","v":0},{"$f":"VLOOKUP(K777,'Standard Labels'!$A$7:$AC$500,13)","v":0},{"$f":"VLOOKUP(K777,'Standard Labels'!$A$7:$AC$500,15)","v":0},{"$f":"VLOOKUP(K777,'Standard Labels'!$A$7:$AC$500,17)","v":0},{"$f":"VLOOKUP(K777,'Standard Labels'!$A$7:$AC$500,19)","v":0},{"$f":"VLOOKUP(K777,'Standard Labels'!$A$7:$AC$500,21)","v":0},{"$f":"VLOOKUP(K777,'Standard Labels'!$A$7:$AC$500,23)","v":0},{"$f":"VLOOKUP(K777,'Standard Labels'!$A$7:$AC$500,25)","v":0},{"$f":"VLOOKUP(K777,'Standard Labels'!$A$7:$AC$500,27)","v":0},{"$f":"VLOOKUP(K777,'Standard Labels'!$A$7:$AC$500,29)","v":0},776]
[{"$f":"VLOOKUP(K778,'Standard Labels'!$A$7:$AC$500,11)","v":0},{"$f":"VLOOKUP(K778,'Standard Labels'!$A$7:$AC$500,13)","v":0},{"$f":"VLOOKUP(K778,'Standard Labels'!$A$7:$AC$500,15)","v":0},{"$f":"VLOOKUP(K778,'Standard Labels'!$A$7:$AC$500,17)","v":0},{"$f":"VLOOKUP(K778,'Standard Labels'!$A$7:$AC$500,19)","v":0},{"$f":"VLOOKUP(K778,'Standard Labels'!$A$7:$AC$500,21)","v":0},{"$f":"VLOOKUP(K778,'Standard Labels'!$A$7:$AC$500,23)","v":0},{"$f":"VLOOKUP(K778,'Standard Labels'!$A$7:$AC$500,25)","v":0},{"$f":"VLOOKUP(K778,'Standard Labels'!$A$7:$AC$500,27)","v":0},{"$f":"VLOOKUP(K778,'Standard Labels'!$A$7:$AC$500,29)","v":0},777]
[{"$f":"VLOOKUP(K779,'Standard Labels'!$A$7:$AC$500,11)","v":0},{"$f":"VLOOKUP(K779,'Standard Labels'!$A$7:$AC$500,13)","v":0},{"$f":"VLOOKUP(K779,'Standard Labels'!$A$7:$AC$500,15)","v":0},{"$f":"VLOOKUP(K779,'Standard Labels'!$A$7:$AC$500,17)","v":0},{"$f":"VLOOKUP(K779,'Standard Labels'!$A$7:$AC$500,19)","v":0},{"$f":"VLOOKUP(K779,'Standard Labels'!$A$7:$AC$500,21)","v":0},{"$f":"VLOOKUP(K779,'Standard Labels'!$A$7:$AC$500,23)","v":0},{"$f":"VLOOKUP(K779,'Standard Labels'!$A$7:$AC$500,25)","v":0},{"$f":"VLOOKUP(K779,'Standard Labels'!$A$7:$AC$500,27)","v":0},{"$f":"VLOOKUP(K779,'Standard Labels'!$A$7:$AC$500,29)","v":0},778]
[{"$f":"VLOOKUP(K780,'Standard Labels'!$A$7:$AC$500,11)","v":0},{"$f":"VLOOKUP(K780,'Standard Labels'!$A$7:$AC$500,13)","v":0},{"$f":"VLOOKUP(K780,'Standard Labels'!$A$7:$AC$500,15)","v":0},{"$f":"VLOOKUP(K780,'Standard Labels'!$A$7:$AC$500,17)","v":0},{"$f":"VLOOKUP(K780,'Standard Labels'!$A$7:$AC$500,19)","v":0},{"$f":"VLOOKUP(K780,'Standard Labels'!$A$7:$AC$500,21)","v":0},{"$f":"VLOOKUP(K780,'Standard Labels'!$A$7:$AC$500,23)","v":0},{"$f":"VLOOKUP(K780,'Standard Labels'!$A$7:$AC$500,25)","v":0},{"$f":"VLOOKUP(K780,'Standard Labels'!$A$7:$AC$500,27)","v":0},{"$f":"VLOOKUP(K780,'Standard Labels'!$A$7:$AC$500,29)","v":0},779]
[{"$f":"VLOOKUP(K781,'Standard Labels'!$A$7:$AC$500,11)","v":0},{"$f":"VLOOKUP(K781,'Standard Labels'!$A$7:$AC$500,13)","v":0},{"$f":"VLOOKUP(K781,'Standard Labels'!$A$7:$AC$500,15)","v":0},{"$f":"VLOOKUP(K781,'Standard Labels'!$A$7:$AC$500,17)","v":0},{"$f":"VLOOKUP(K781,'Standard Labels'!$A$7:$AC$500,19)","v":0},{"$f":"VLOOKUP(K781,'Standard Labels'!$A$7:$AC$500,21)","v":0},{"$f":"VLOOKUP(K781,'Standard Labels'!$A$7:$AC$500,23)","v":0},{"$f":"VLOOKUP(K781,'Standard Labels'!$A$7:$AC$500,25)","v":0},{"$f":"VLOOKUP(K781,'Standard Labels'!$A$7:$AC$500,27)","v":0},{"$f":"VLOOKUP(K781,'Standard Labels'!$A$7:$AC$500,29)","v":0},780]
[{"$f":"VLOOKUP(K782,'Standard Labels'!$A$7:$AC$500,11)","v":0},{"$f":"VLOOKUP(K782,'Standard Labels'!$A$7:$AC$500,13)","v":0},{"$f":"VLOOKUP(K782,'Standard Labels'!$A$7:$AC$500,15)","v":0},{"$f":"VLOOKUP(K782,'Standard Labels'!$A$7:$AC$500,17)","v":0},{"$f":"VLOOKUP(K782,'Standard Labels'!$A$7:$AC$500,19)","v":0},{"$f":"VLOOKUP(K782,'Standard Labels'!$A$7:$AC$500,21)","v":0},{"$f":"VLOOKUP(K782,'Standard Labels'!$A$7:$AC$500,23)","v":0},{"$f":"VLOOKUP(K782,'Standard Labels'!$A$7:$AC$500,25)","v":0},{"$f":"VLOOKUP(K782,'Standard Labels'!$A$7:$AC$500,27)","v":0},{"$f":"VLOOKUP(K782,'Standard Labels'!$A$7:$AC$500,29)","v":0},781]
[{"$f":"VLOOKUP(K783,'Standard Labels'!$A$7:$AC$500,11)","v":0},{"$f":"VLOOKUP(K783,'Standard Labels'!$A$7:$AC$500,13)","v":0},{"$f":"VLOOKUP(K783,'Standard Labels'!$A$7:$AC$500,15)","v":0},{"$f":"VLOOKUP(K783,'Standard Labels'!$A$7:$AC$500,17)","v":0},{"$f":"VLOOKUP(K783,'Standard Labels'!$A$7:$AC$500,19)","v":0},{"$f":"VLOOKUP(K783,'Standard Labels'!$A$7:$AC$500,21)","v":0},{"$f":"VLOOKUP(K783,'Standard Labels'!$A$7:$AC$500,23)","v":0},{"$f":"VLOOKUP(K783,'Standard Labels'!$A$7:$AC$500,25)","v":0},{"$f":"VLOOKUP(K783,'Standard Labels'!$A$7:$AC$500,27)","v":0},{"$f":"VLOOKUP(K783,'Standard Labels'!$A$7:$AC$500,29)","v":0},782]
[{"$f":"VLOOKUP(K784,'Standard Labels'!$A$7:$AC$500,11)","v":0},{"$f":"VLOOKUP(K784,'Standard Labels'!$A$7:$AC$500,13)","v":0},{"$f":"VLOOKUP(K784,'Standard Labels'!$A$7:$AC$500,15)","v":0},{"$f":"VLOOKUP(K784,'Standard Labels'!$A$7:$AC$500,17)","v":0},{"$f":"VLOOKUP(K784,'Standard Labels'!$A$7:$AC$500,19)","v":0},{"$f":"VLOOKUP(K784,'Standard Labels'!$A$7:$AC$500,21)","v":0},{"$f":"VLOOKUP(K784,'Standard Labels'!$A$7:$AC$500,23)","v":0},{"$f":"VLOOKUP(K784,'Standard Labels'!$A$7:$AC$500,25)","v":0},{"$f":"VLOOKUP(K784,'Standard Labels'!$A$7:$AC$500,27)","v":0},{"$f":"VLOOKUP(K784,'Standard Labels'!$A$7:$AC$500,29)","v":0},783]
[{"$f":"VLOOKUP(K785,'Standard Labels'!$A$7:$AC$500,11)","v":0},{"$f":"VLOOKUP(K785,'Standard Labels'!$A$7:$AC$500,13)","v":0},{"$f":"VLOOKUP(K785,'Standard Labels'!$A$7:$AC$500,15)","v":0},{"$f":"VLOOKUP(K785,'Standard Labels'!$A$7:$AC$500,17)","v":0},{"$f":"VLOOKUP(K785,'Standard Labels'!$A$7:$AC$500,19)","v":0},{"$f":"VLOOKUP(K785,'Standard Labels'!$A$7:$AC$500,21)","v":0},{"$f":"VLOOKUP(K785,'Standard Labels'!$A$7:$AC$500,23)","v":0},{"$f":"VLOOKUP(K785,'Standard Labels'!$A$7:$AC$500,25)","v":0},{"$f":"VLOOKUP(K785,'Standard Labels'!$A$7:$AC$500,27)","v":0},{"$f":"VLOOKUP(K785,'Standard Labels'!$A$7:$AC$500,29)","v":0},784]
[{"$f":"VLOOKUP(K786,'Standard Labels'!$A$7:$AC$500,11)","v":0},{"$f":"VLOOKUP(K786,'Standard Labels'!$A$7:$AC$500,13)","v":0},{"$f":"VLOOKUP(K786,'Standard Labels'!$A$7:$AC$500,15)","v":0},{"$f":"VLOOKUP(K786,'Standard Labels'!$A$7:$AC$500,17)","v":0},{"$f":"VLOOKUP(K786,'Standard Labels'!$A$7:$AC$500,19)","v":0},{"$f":"VLOOKUP(K786,'Standard Labels'!$A$7:$AC$500,21)","v":0},{"$f":"VLOOKUP(K786,'Standard Labels'!$A$7:$AC$500,23)","v":0},{"$f":"VLOOKUP(K786,'Standard Labels'!$A$7:$AC$500,25)","v":0},{"$f":"VLOOKUP(K786,'Standard Labels'!$A$7:$AC$500,27)","v":0},{"$f":"VLOOKUP(K786,'Standard Labels'!$A$7:$AC$500,29)","v":0},785]
[{"$f":"VLOOKUP(K787,'Standard Labels'!$A$7:$AC$500,11)","v":0},{"$f":"VLOOKUP(K787,'Standard Labels'!$A$7:$AC$500,13)","v":0},{"$f":"VLOOKUP(K787,'Standard Labels'!$A$7:$AC$500,15)","v":0},{"$f":"VLOOKUP(K787,'Standard Labels'!$A$7:$AC$500,17)","v":0},{"$f":"VLOOKUP(K787,'Standard Labels'!$A$7:$AC$500,19)","v":0},{"$f":"VLOOKUP(K787,'Standard Labels'!$A$7:$AC$500,21)","v":0},{"$f":"VLOOKUP(K787,'Standard Labels'!$A$7:$AC$500,23)","v":0},{"$f":"VLOOKUP(K787,'Standard Labels'!$A$7:$AC$500,25)","v":0},{"$f":"VLOOKUP(K787,'Standard Labels'!$A$7:$AC$500,27)","v":0},{"$f":"VLOOKUP(K787,'Standard Labels'!$A$7:$AC$500,29)","v":0},786]
[{"$f":"VLOOKUP(K788,'Standard Labels'!$A$7:$AC$500,11)","v":0},{"$f":"VLOOKUP(K788,'Standard Labels'!$A$7:$AC$500,13)","v":0},{"$f":"VLOOKUP(K788,'Standard Labels'!$A$7:$AC$500,15)","v":0},{"$f":"VLOOKUP(K788,'Standard Labels'!$A$7:$AC$500,17)","v":0},{"$f":"VLOOKUP(K788,'Standard Labels'!$A$7:$AC$500,19)","v":0},{"$f":"VLOOKUP(K788,'Standard Labels'!$A$7:$AC$500,21)","v":0},{"$f":"VLOOKUP(K788,'Standard Labels'!$A$7:$AC$500,23)","v":0},{"$f":"VLOOKUP(K788,'Standard Labels'!$A$7:$AC$500,25)","v":0},{"$f":"VLOOKUP(K788,'Standard Labels'!$A$7:$AC$500,27)","v":0},{"$f":"VLOOKUP(K788,'Standard Labels'!$A$7:$AC$500,29)","v":0},787]
[{"$f":"VLOOKUP(K789,'Standard Labels'!$A$7:$AC$500,11)","v":0},{"$f":"VLOOKUP(K789,'Standard Labels'!$A$7:$AC$500,13)","v":0},{"$f":"VLOOKUP(K789,'Standard Labels'!$A$7:$AC$500,15)","v":0},{"$f":"VLOOKUP(K789,'Standard Labels'!$A$7:$AC$500,17)","v":0},{"$f":"VLOOKUP(K789,'Standard Labels'!$A$7:$AC$500,19)","v":0},{"$f":"VLOOKUP(K789,'Standard Labels'!$A$7:$AC$500,21)","v":0},{"$f":"VLOOKUP(K789,'Standard Labels'!$A$7:$AC$500,23)","v":0},{"$f":"VLOOKUP(K789,'Standard Labels'!$A$7:$AC$500,25)","v":0},{"$f":"VLOOKUP(K789,'Standard Labels'!$A$7:$AC$500,27)","v":0},{"$f":"VLOOKUP(K789,'Standard Labels'!$A$7:$AC$500,29)","v":0},788]
[{"$f":"VLOOKUP(K790,'Standard Labels'!$A$7:$AC$500,11)","v":0},{"$f":"VLOOKUP(K790,'Standard Labels'!$A$7:$AC$500,13)","v":0},{"$f":"VLOOKUP(K790,'Standard Labels'!$A$7:$AC$500,15)","v":0},{"$f":"VLOOKUP(K790,'Standard Labels'!$A$7:$AC$500,17)","v":0},{"$f":"VLOOKUP(K790,'Standard Labels'!$A$7:$AC$500,19)","v":0},{"$f":"VLOOKUP(K790,'Standard Labels'!$A$7:$AC$500,21)","v":0},{"$f":"VLOOKUP(K790,'Standard Labels'!$A$7:$AC$500,23)","v":0},{"$f":"VLOOKUP(K790,'Standard Labels'!$A$7:$AC$500,25)","v":0},{"$f":"VLOOKUP(K790,'Standard Labels'!$A$7:$AC$500,27)","v":0},{"$f":"VLOOKUP(K790,'Standard Labels'!$A$7:$AC$500,29)","v":0},789]
[{"$f":"VLOOKUP(K791,'Standard Labels'!$A$7:$AC$500,11)","v":0},{"$f":"VLOOKUP(K791,'Standard Labels'!$A$7:$AC$500,13)","v":0},{"$f":"VLOOKUP(K791,'Standard Labels'!$A$7:$AC$500,15)","v":0},{"$f":"VLOOKUP(K791,'Standard Labels'!$A$7:$AC$500,17)","v":0},{"$f":"VLOOKUP(K791,'Standard Labels'!$A$7:$AC$500,19)","v":0},{"$f":"VLOOKUP(K791,'Standard Labels'!$A$7:$AC$500,21)","v":0},{"$f":"VLOOKUP(K791,'Standard Labels'!$A$7:$AC$500,23)","v":0},{"$f":"VLOOKUP(K791,'Standard Labels'!$A$7:$AC$500,25)","v":0},{"$f":"VLOOKUP(K791,'Standard Labels'!$A$7:$AC$500,27)","v":0},{"$f":"VLOOKUP(K791,'Standard Labels'!$A$7:$AC$500,29)","v":0},790]
[{"$f":"VLOOKUP(K792,'Standard Labels'!$A$7:$AC$500,11)","v":0},{"$f":"VLOOKUP(K792,'Standard Labels'!$A$7:$AC$500,13)","v":0},{"$f":"VLOOKUP(K792,'Standard Labels'!$A$7:$AC$500,15)","v":0},{"$f":"VLOOKUP(K792,'Standard Labels'!$A$7:$AC$500,17)","v":0},{"$f":"VLOOKUP(K792,'Standard Labels'!$A$7:$AC$500,19)","v":0},{"$f":"VLOOKUP(K792,'Standard Labels'!$A$7:$AC$500,21)","v":0},{"$f":"VLOOKUP(K792,'Standard Labels'!$A$7:$AC$500,23)","v":0},{"$f":"VLOOKUP(K792,'Standard Labels'!$A$7:$AC$500,25)","v":0},{"$f":"VLOOKUP(K792,'Standard Labels'!$A$7:$AC$500,27)","v":0},{"$f":"VLOOKUP(K792,'Standard Labels'!$A$7:$AC$500,29)","v":0},791]
[{"$f":"VLOOKUP(K793,'Standard Labels'!$A$7:$AC$500,11)","v":0},{"$f":"VLOOKUP(K793,'Standard Labels'!$A$7:$AC$500,13)","v":0},{"$f":"VLOOKUP(K793,'Standard Labels'!$A$7:$AC$500,15)","v":0},{"$f":"VLOOKUP(K793,'Standard Labels'!$A$7:$AC$500,17)","v":0},{"$f":"VLOOKUP(K793,'Standard Labels'!$A$7:$AC$500,19)","v":0},{"$f":"VLOOKUP(K793,'Standard Labels'!$A$7:$AC$500,21)","v":0},{"$f":"VLOOKUP(K793,'Standard Labels'!$A$7:$AC$500,23)","v":0},{"$f":"VLOOKUP(K793,'Standard Labels'!$A$7:$AC$500,25)","v":0},{"$f":"VLOOKUP(K793,'Standard Labels'!$A$7:$AC$500,27)","v":0},{"$f":"VLOOKUP(K793,'Standard Labels'!$A$7:$AC$500,29)","v":0},792]
[{"$f":"VLOOKUP(K794,'Standard Labels'!$A$7:$AC$500,11)","v":0},{"$f":"VLOOKUP(K794,'Standard Labels'!$A$7:$AC$500,13)","v":0},{"$f":"VLOOKUP(K794,'Standard Labels'!$A$7:$AC$500,15)","v":0},{"$f":"VLOOKUP(K794,'Standard Labels'!$A$7:$AC$500,17)","v":0},{"$f":"VLOOKUP(K794,'Standard Labels'!$A$7:$AC$500,19)","v":0},{"$f":"VLOOKUP(K794,'Standard Labels'!$A$7:$AC$500,21)","v":0},{"$f":"VLOOKUP(K794,'Standard Labels'!$A$7:$AC$500,23)","v":0},{"$f":"VLOOKUP(K794,'Standard Labels'!$A$7:$AC$500,25)","v":0},{"$f":"VLOOKUP(K794,'Standard Labels'!$A$7:$AC$500,27)","v":0},{"$f":"VLOOKUP(K794,'Standard Labels'!$A$7:$AC$500,29)","v":0},793]
[{"$f":"VLOOKUP(K795,'Standard Labels'!$A$7:$AC$500,11)","v":0},{"$f":"VLOOKUP(K795,'Standard Labels'!$A$7:$AC$500,13)","v":0},{"$f":"VLOOKUP(K795,'Standard Labels'!$A$7:$AC$500,15)","v":0},{"$f":"VLOOKUP(K795,'Standard Labels'!$A$7:$AC$500,17)","v":0},{"$f":"VLOOKUP(K795,'Standard Labels'!$A$7:$AC$500,19)","v":0},{"$f":"VLOOKUP(K795,'Standard Labels'!$A$7:$AC$500,21)","v":0},{"$f":"VLOOKUP(K795,'Standard Labels'!$A$7:$AC$500,23)","v":0},{"$f":"VLOOKUP(K795,'Standard Labels'!$A$7:$AC$500,25)","v":0},{"$f":"VLOOKUP(K795,'Standard Labels'!$A$7:$AC$500,27)","v":0},{"$f":"VLOOKUP(K795,'Standard Labels'!$A$7:$AC$500,29)","v":0},794]
[{"$f":"VLOOKUP(K796,'Standard Labels'!$A$7:$AC$500,11)","v":0},{"$f":"VLOOKUP(K796,'Standard Labels'!$A$7:$AC$500,13)","v":0},{"$f":"VLOOKUP(K796,'Standard Labels'!$A$7:$AC$500,15)","v":0},{"$f":"VLOOKUP(K796,'Standard Labels'!$A$7:$AC$500,17)","v":0},{"$f":"VLOOKUP(K796,'Standard Labels'!$A$7:$AC$500,19)","v":0},{"$f":"VLOOKUP(K796,'Standard Labels'!$A$7:$AC$500,21)","v":0},{"$f":"VLOOKUP(K796,'Standard Labels'!$A$7:$AC$500,23)","v":0},{"$f":"VLOOKUP(K796,'Standard Labels'!$A$7:$AC$500,25)","v":0},{"$f":"VLOOKUP(K796,'Standard Labels'!$A$7:$AC$500,27)","v":0},{"$f":"VLOOKUP(K796,'Standard Labels'!$A$7:$AC$500,29)","v":0},795]
[{"$f":"VLOOKUP(K797,'Standard Labels'!$A$7:$AC$500,11)","v":0},{"$f":"VLOOKUP(K797,'Standard Labels'!$A$7:$AC$500,13)","v":0},{"$f":"VLOOKUP(K797,'Standard Labels'!$A$7:$AC$500,15)","v":0},{"$f":"VLOOKUP(K797,'Standard Labels'!$A$7:$AC$500,17)","v":0},{"$f":"VLOOKUP(K797,'Standard Labels'!$A$7:$AC$500,19)","v":0},{"$f":"VLOOKUP(K797,'Standard Labels'!$A$7:$AC$500,21)","v":0},{"$f":"VLOOKUP(K797,'Standard Labels'!$A$7:$AC$500,23)","v":0},{"$f":"VLOOKUP(K797,'Standard Labels'!$A$7:$AC$500,25)","v":0},{"$f":"VLOOKUP(K797,'Standard Labels'!$A$7:$AC$500,27)","v":0},{"$f":"VLOOKUP(K797,'Standard Labels'!$A$7:$AC$500,29)","v":0},796]
[{"$f":"VLOOKUP(K798,'Standard Labels'!$A$7:$AC$500,11)","v":0},{"$f":"VLOOKUP(K798,'Standard Labels'!$A$7:$AC$500,13)","v":0},{"$f":"VLOOKUP(K798,'Standard Labels'!$A$7:$AC$500,15)","v":0},{"$f":"VLOOKUP(K798,'Standard Labels'!$A$7:$AC$500,17)","v":0},{"$f":"VLOOKUP(K798,'Standard Labels'!$A$7:$AC$500,19)","v":0},{"$f":"VLOOKUP(K798,'Standard Labels'!$A$7:$AC$500,21)","v":0},{"$f":"VLOOKUP(K798,'Standard Labels'!$A$7:$AC$500,23)","v":0},{"$f":"VLOOKUP(K798,'Standard Labels'!$A$7:$AC$500,25)","v":0},{"$f":"VLOOKUP(K798,'Standard Labels'!$A$7:$AC$500,27)","v":0},{"$f":"VLOOKUP(K798,'Standard Labels'!$A$7:$AC$500,29)","v":0},797]
[{"$f":"VLOOKUP(K799,'Standard Labels'!$A$7:$AC$500,11)","v":0},{"$f":"VLOOKUP(K799,'Standard Labels'!$A$7:$AC$500,13)","v":0},{"$f":"VLOOKUP(K799,'Standard Labels'!$A$7:$AC$500,15)","v":0},{"$f":"VLOOKUP(K799,'Standard Labels'!$A$7:$AC$500,17)","v":0},{"$f":"VLOOKUP(K799,'Standard Labels'!$A$7:$AC$500,19)","v":0},{"$f":"VLOOKUP(K799,'Standard Labels'!$A$7:$AC$500,21)","v":0},{"$f":"VLOOKUP(K799,'Standard Labels'!$A$7:$AC$500,23)","v":0},{"$f":"VLOOKUP(K799,'Standard Labels'!$A$7:$AC$500,25)","v":0},{"$f":"VLOOKUP(K799,'Standard Labels'!$A$7:$AC$500,27)","v":0},{"$f":"VLOOKUP(K799,'Standard Labels'!$A$7:$AC$500,29)","v":0},798]
[{"$f":"VLOOKUP(K800,'Standard Labels'!$A$7:$AC$500,11)","v":0},{"$f":"VLOOKUP(K800,'Standard Labels'!$A$7:$AC$500,13)","v":0},{"$f":"VLOOKUP(K800,'Standard Labels'!$A$7:$AC$500,15)","v":0},{"$f":"VLOOKUP(K800,'Standard Labels'!$A$7:$AC$500,17)","v":0},{"$f":"VLOOKUP(K800,'Standard Labels'!$A$7:$AC$500,19)","v":0},{"$f":"VLOOKUP(K800,'Standard Labels'!$A$7:$AC$500,21)","v":0},{"$f":"VLOOKUP(K800,'Standard Labels'!$A$7:$AC$500,23)","v":0},{"$f":"VLOOKUP(K800,'Standard Labels'!$A$7:$AC$500,25)","v":0},{"$f":"VLOOKUP(K800,'Standard Labels'!$A$7:$AC$500,27)","v":0},{"$f":"VLOOKUP(K800,'Standard Labels'!$A$7:$AC$500,29)","v":0},799]
[{"$f":"VLOOKUP(K801,'Standard Labels'!$A$7:$AC$500,11)","v":0},{"$f":"VLOOKUP(K801,'Standard Labels'!$A$7:$AC$500,13)","v":0},{"$f":"VLOOKUP(K801,'Standard Labels'!$A$7:$AC$500,15)","v":0},{"$f":"VLOOKUP(K801,'Standard Labels'!$A$7:$AC$500,17)","v":0},{"$f":"VLOOKUP(K801,'Standard Labels'!$A$7:$AC$500,19)","v":0},{"$f":"VLOOKUP(K801,'Standard Labels'!$A$7:$AC$500,21)","v":0},{"$f":"VLOOKUP(K801,'Standard Labels'!$A$7:$AC$500,23)","v":0},{"$f":"VLOOKUP(K801,'Standard Labels'!$A$7:$AC$500,25)","v":0},{"$f":"VLOOKUP(K801,'Standard Labels'!$A$7:$AC$500,27)","v":0},{"$f":"VLOOKUP(K801,'Standard Labels'!$A$7:$AC$500,29)","v":0},800]
[{"$f":"VLOOKUP(K802,'Standard Labels'!$A$7:$AC$500,11)","v":0},{"$f":"VLOOKUP(K802,'Standard Labels'!$A$7:$AC$500,13)","v":0},{"$f":"VLOOKUP(K802,'Standard Labels'!$A$7:$AC$500,15)","v":0},{"$f":"VLOOKUP(K802,'Standard Labels'!$A$7:$AC$500,17)","v":0},{"$f":"VLOOKUP(K802,'Standard Labels'!$A$7:$AC$500,19)","v":0},{"$f":"VLOOKUP(K802,'Standard Labels'!$A$7:$AC$500,21)","v":0},{"$f":"VLOOKUP(K802,'Standard Labels'!$A$7:$AC$500,23)","v":0},{"$f":"VLOOKUP(K802,'Standard Labels'!$A$7:$AC$500,25)","v":0},{"$f":"VLOOKUP(K802,'Standard Labels'!$A$7:$AC$500,27)","v":0},{"$f":"VLOOKUP(K802,'Standard Labels'!$A$7:$AC$500,29)","v":0},801]
[{"$f":"VLOOKUP(K803,'Standard Labels'!$A$7:$AC$500,11)","v":0},{"$f":"VLOOKUP(K803,'Standard Labels'!$A$7:$AC$500,13)","v":0},{"$f":"VLOOKUP(K803,'Standard Labels'!$A$7:$AC$500,15)","v":0},{"$f":"VLOOKUP(K803,'Standard Labels'!$A$7:$AC$500,17)","v":0},{"$f":"VLOOKUP(K803,'Standard Labels'!$A$7:$AC$500,19)","v":0},{"$f":"VLOOKUP(K803,'Standard Labels'!$A$7:$AC$500,21)","v":0},{"$f":"VLOOKUP(K803,'Standard Labels'!$A$7:$AC$500,23)","v":0},{"$f":"VLOOKUP(K803,'Standard Labels'!$A$7:$AC$500,25)","v":0},{"$f":"VLOOKUP(K803,'Standard Labels'!$A$7:$AC$500,27)","v":0},{"$f":"VLOOKUP(K803,'Standard Labels'!$A$7:$AC$500,29)","v":0},802]
[{"$f":"VLOOKUP(K804,'Standard Labels'!$A$7:$AC$500,11)","v":0},{"$f":"VLOOKUP(K804,'Standard Labels'!$A$7:$AC$500,13)","v":0},{"$f":"VLOOKUP(K804,'Standard Labels'!$A$7:$AC$500,15)","v":0},{"$f":"VLOOKUP(K804,'Standard Labels'!$A$7:$AC$500,17)","v":0},{"$f":"VLOOKUP(K804,'Standard Labels'!$A$7:$AC$500,19)","v":0},{"$f":"VLOOKUP(K804,'Standard Labels'!$A$7:$AC$500,21)","v":0},{"$f":"VLOOKUP(K804,'Standard Labels'!$A$7:$AC$500,23)","v":0},{"$f":"VLOOKUP(K804,'Standard Labels'!$A$7:$AC$500,25)","v":0},{"$f":"VLOOKUP(K804,'Standard Labels'!$A$7:$AC$500,27)","v":0},{"$f":"VLOOKUP(K804,'Standard Labels'!$A$7:$AC$500,29)","v":0},803]
[{"$f":"VLOOKUP(K805,'Standard Labels'!$A$7:$AC$500,11)","v":0},{"$f":"VLOOKUP(K805,'Standard Labels'!$A$7:$AC$500,13)","v":0},{"$f":"VLOOKUP(K805,'Standard Labels'!$A$7:$AC$500,15)","v":0},{"$f":"VLOOKUP(K805,'Standard Labels'!$A$7:$AC$500,17)","v":0},{"$f":"VLOOKUP(K805,'Standard Labels'!$A$7:$AC$500,19)","v":0},{"$f":"VLOOKUP(K805,'Standard Labels'!$A$7:$AC$500,21)","v":0},{"$f":"VLOOKUP(K805,'Standard Labels'!$A$7:$AC$500,23)","v":0},{"$f":"VLOOKUP(K805,'Standard Labels'!$A$7:$AC$500,25)","v":0},{"$f":"VLOOKUP(K805,'Standard Labels'!$A$7:$AC$500,27)","v":0},{"$f":"VLOOKUP(K805,'Standard Labels'!$A$7:$AC$500,29)","v":0},804]
[{"$f":"VLOOKUP(K806,'Standard Labels'!$A$7:$AC$500,11)","v":0},{"$f":"VLOOKUP(K806,'Standard Labels'!$A$7:$AC$500,13)","v":0},{"$f":"VLOOKUP(K806,'Standard Labels'!$A$7:$AC$500,15)","v":0},{"$f":"VLOOKUP(K806,'Standard Labels'!$A$7:$AC$500,17)","v":0},{"$f":"VLOOKUP(K806,'Standard Labels'!$A$7:$AC$500,19)","v":0},{"$f":"VLOOKUP(K806,'Standard Labels'!$A$7:$AC$500,21)","v":0},{"$f":"VLOOKUP(K806,'Standard Labels'!$A$7:$AC$500,23)","v":0},{"$f":"VLOOKUP(K806,'Standard Labels'!$A$7:$AC$500,25)","v":0},{"$f":"VLOOKUP(K806,'Standard Labels'!$A$7:$AC$500,27)","v":0},{"$f":"VLOOKUP(K806,'Standard Labels'!$A$7:$AC$500,29)","v":0},805]
[{"$f":"VLOOKUP(K807,'Standard Labels'!$A$7:$AC$500,11)","v":0},{"$f":"VLOOKUP(K807,'Standard Labels'!$A$7:$AC$500,13)","v":0},{"$f":"VLOOKUP(K807,'Standard Labels'!$A$7:$AC$500,15)","v":0},{"$f":"VLOOKUP(K807,'Standard Labels'!$A$7:$AC$500,17)","v":0},{"$f":"VLOOKUP(K807,'Standard Labels'!$A$7:$AC$500,19)","v":0},{"$f":"VLOOKUP(K807,'Standard Labels'!$A$7:$AC$500,21)","v":0},{"$f":"VLOOKUP(K807,'Standard Labels'!$A$7:$AC$500,23)","v":0},{"$f":"VLOOKUP(K807,'Standard Labels'!$A$7:$AC$500,25)","v":0},{"$f":"VLOOKUP(K807,'Standard Labels'!$A$7:$AC$500,27)","v":0},{"$f":"VLOOKUP(K807,'Standard Labels'!$A$7:$AC$500,29)","v":0},806]
[{"$f":"VLOOKUP(K808,'Standard Labels'!$A$7:$AC$500,11)","v":0},{"$f":"VLOOKUP(K808,'Standard Labels'!$A$7:$AC$500,13)","v":0},{"$f":"VLOOKUP(K808,'Standard Labels'!$A$7:$AC$500,15)","v":0},{"$f":"VLOOKUP(K808,'Standard Labels'!$A$7:$AC$500,17)","v":0},{"$f":"VLOOKUP(K808,'Standard Labels'!$A$7:$AC$500,19)","v":0},{"$f":"VLOOKUP(K808,'Standard Labels'!$A$7:$AC$500,21)","v":0},{"$f":"VLOOKUP(K808,'Standard Labels'!$A$7:$AC$500,23)","v":0},{"$f":"VLOOKUP(K808,'Standard Labels'!$A$7:$AC$500,25)","v":0},{"$f":"VLOOKUP(K808,'Standard Labels'!$A$7:$AC$500,27)","v":0},{"$f":"VLOOKUP(K808,'Standard Labels'!$A$7:$AC$500,29)","v":0},807]
[{"$f":"VLOOKUP(K809,'Standard Labels'!$A$7:$AC$500,11)","v":0},{"$f":"VLOOKUP(K809,'Standard Labels'!$A$7:$AC$500,13)","v":0},{"$f":"VLOOKUP(K809,'Standard Labels'!$A$7:$AC$500,15)","v":0},{"$f":"VLOOKUP(K809,'Standard Labels'!$A$7:$AC$500,17)","v":0},{"$f":"VLOOKUP(K809,'Standard Labels'!$A$7:$AC$500,19)","v":0},{"$f":"VLOOKUP(K809,'Standard Labels'!$A$7:$AC$500,21)","v":0},{"$f":"VLOOKUP(K809,'Standard Labels'!$A$7:$AC$500,23)","v":0},{"$f":"VLOOKUP(K809,'Standard Labels'!$A$7:$AC$500,25)","v":0},{"$f":"VLOOKUP(K809,'Standard Labels'!$A$7:$AC$500,27)","v":0},{"$f":"VLOOKUP(K809,'Standard Labels'!$A$7:$AC$500,29)","v":0},808]
[{"$f":"VLOOKUP(K810,'Standard Labels'!$A$7:$AC$500,11)","v":0},{"$f":"VLOOKUP(K810,'Standard Labels'!$A$7:$AC$500,13)","v":0},{"$f":"VLOOKUP(K810,'Standard Labels'!$A$7:$AC$500,15)","v":0},{"$f":"VLOOKUP(K810,'Standard Labels'!$A$7:$AC$500,17)","v":0},{"$f":"VLOOKUP(K810,'Standard Labels'!$A$7:$AC$500,19)","v":0},{"$f":"VLOOKUP(K810,'Standard Labels'!$A$7:$AC$500,21)","v":0},{"$f":"VLOOKUP(K810,'Standard Labels'!$A$7:$AC$500,23)","v":0},{"$f":"VLOOKUP(K810,'Standard Labels'!$A$7:$AC$500,25)","v":0},{"$f":"VLOOKUP(K810,'Standard Labels'!$A$7:$AC$500,27)","v":0},{"$f":"VLOOKUP(K810,'Standard Labels'!$A$7:$AC$500,29)","v":0},809]
[{"$f":"VLOOKUP(K811,'Standard Labels'!$A$7:$AC$500,11)","v":0},{"$f":"VLOOKUP(K811,'Standard Labels'!$A$7:$AC$500,13)","v":0},{"$f":"VLOOKUP(K811,'Standard Labels'!$A$7:$AC$500,15)","v":0},{"$f":"VLOOKUP(K811,'Standard Labels'!$A$7:$AC$500,17)","v":0},{"$f":"VLOOKUP(K811,'Standard Labels'!$A$7:$AC$500,19)","v":0},{"$f":"VLOOKUP(K811,'Standard Labels'!$A$7:$AC$500,21)","v":0},{"$f":"VLOOKUP(K811,'Standard Labels'!$A$7:$AC$500,23)","v":0},{"$f":"VLOOKUP(K811,'Standard Labels'!$A$7:$AC$500,25)","v":0},{"$f":"VLOOKUP(K811,'Standard Labels'!$A$7:$AC$500,27)","v":0},{"$f":"VLOOKUP(K811,'Standard Labels'!$A$7:$AC$500,29)","v":0},810]
[{"$f":"VLOOKUP(K812,'Standard Labels'!$A$7:$AC$500,11)","v":0},{"$f":"VLOOKUP(K812,'Standard Labels'!$A$7:$AC$500,13)","v":0},{"$f":"VLOOKUP(K812,'Standard Labels'!$A$7:$AC$500,15)","v":0},{"$f":"VLOOKUP(K812,'Standard Labels'!$A$7:$AC$500,17)","v":0},{"$f":"VLOOKUP(K812,'Standard Labels'!$A$7:$AC$500,19)","v":0},{"$f":"VLOOKUP(K812,'Standard Labels'!$A$7:$AC$500,21)","v":0},{"$f":"VLOOKUP(K812,'Standard Labels'!$A$7:$AC$500,23)","v":0},{"$f":"VLOOKUP(K812,'Standard Labels'!$A$7:$AC$500,25)","v":0},{"$f":"VLOOKUP(K812,'Standard Labels'!$A$7:$AC$500,27)","v":0},{"$f":"VLOOKUP(K812,'Standard Labels'!$A$7:$AC$500,29)","v":0},811]
[{"$f":"VLOOKUP(K813,'Standard Labels'!$A$7:$AC$500,11)","v":0},{"$f":"VLOOKUP(K813,'Standard Labels'!$A$7:$AC$500,13)","v":0},{"$f":"VLOOKUP(K813,'Standard Labels'!$A$7:$AC$500,15)","v":0},{"$f":"VLOOKUP(K813,'Standard Labels'!$A$7:$AC$500,17)","v":0},{"$f":"VLOOKUP(K813,'Standard Labels'!$A$7:$AC$500,19)","v":0},{"$f":"VLOOKUP(K813,'Standard Labels'!$A$7:$AC$500,21)","v":0},{"$f":"VLOOKUP(K813,'Standard Labels'!$A$7:$AC$500,23)","v":0},{"$f":"VLOOKUP(K813,'Standard Labels'!$A$7:$AC$500,25)","v":0},{"$f":"VLOOKUP(K813,'Standard Labels'!$A$7:$AC$500,27)","v":0},{"$f":"VLOOKUP(K813,'Standard Labels'!$A$7:$AC$500,29)","v":0},812]
[{"$f":"VLOOKUP(K814,'Standard Labels'!$A$7:$AC$500,11)","v":0},{"$f":"VLOOKUP(K814,'Standard Labels'!$A$7:$AC$500,13)","v":0},{"$f":"VLOOKUP(K814,'Standard Labels'!$A$7:$AC$500,15)","v":0},{"$f":"VLOOKUP(K814,'Standard Labels'!$A$7:$AC$500,17)","v":0},{"$f":"VLOOKUP(K814,'Standard Labels'!$A$7:$AC$500,19)","v":0},{"$f":"VLOOKUP(K814,'Standard Labels'!$A$7:$AC$500,21)","v":0},{"$f":"VLOOKUP(K814,'Standard Labels'!$A$7:$AC$500,23)","v":0},{"$f":"VLOOKUP(K814,'Standard Labels'!$A$7:$AC$500,25)","v":0},{"$f":"VLOOKUP(K814,'Standard Labels'!$A$7:$AC$500,27)","v":0},{"$f":"VLOOKUP(K814,'Standard Labels'!$A$7:$AC$500,29)","v":0},813]
[{"$f":"VLOOKUP(K815,'Standard Labels'!$A$7:$AC$500,11)","v":0},{"$f":"VLOOKUP(K815,'Standard Labels'!$A$7:$AC$500,13)","v":0},{"$f":"VLOOKUP(K815,'Standard Labels'!$A$7:$AC$500,15)","v":0},{"$f":"VLOOKUP(K815,'Standard Labels'!$A$7:$AC$500,17)","v":0},{"$f":"VLOOKUP(K815,'Standard Labels'!$A$7:$AC$500,19)","v":0},{"$f":"VLOOKUP(K815,'Standard Labels'!$A$7:$AC$500,21)","v":0},{"$f":"VLOOKUP(K815,'Standard Labels'!$A$7:$AC$500,23)","v":0},{"$f":"VLOOKUP(K815,'Standard Labels'!$A$7:$AC$500,25)","v":0},{"$f":"VLOOKUP(K815,'Standard Labels'!$A$7:$AC$500,27)","v":0},{"$f":"VLOOKUP(K815,'Standard Labels'!$A$7:$AC$500,29)","v":0},814]
[{"$f":"VLOOKUP(K816,'Standard Labels'!$A$7:$AC$500,11)","v":0},{"$f":"VLOOKUP(K816,'Standard Labels'!$A$7:$AC$500,13)","v":0},{"$f":"VLOOKUP(K816,'Standard Labels'!$A$7:$AC$500,15)","v":0},{"$f":"VLOOKUP(K816,'Standard Labels'!$A$7:$AC$500,17)","v":0},{"$f":"VLOOKUP(K816,'Standard Labels'!$A$7:$AC$500,19)","v":0},{"$f":"VLOOKUP(K816,'Standard Labels'!$A$7:$AC$500,21)","v":0},{"$f":"VLOOKUP(K816,'Standard Labels'!$A$7:$AC$500,23)","v":0},{"$f":"VLOOKUP(K816,'Standard Labels'!$A$7:$AC$500,25)","v":0},{"$f":"VLOOKUP(K816,'Standard Labels'!$A$7:$AC$500,27)","v":0},{"$f":"VLOOKUP(K816,'Standard Labels'!$A$7:$AC$500,29)","v":0},815]
[{"$f":"VLOOKUP(K817,'Standard Labels'!$A$7:$AC$500,11)","v":0},{"$f":"VLOOKUP(K817,'Standard Labels'!$A$7:$AC$500,13)","v":0},{"$f":"VLOOKUP(K817,'Standard Labels'!$A$7:$AC$500,15)","v":0},{"$f":"VLOOKUP(K817,'Standard Labels'!$A$7:$AC$500,17)","v":0},{"$f":"VLOOKUP(K817,'Standard Labels'!$A$7:$AC$500,19)","v":0},{"$f":"VLOOKUP(K817,'Standard Labels'!$A$7:$AC$500,21)","v":0},{"$f":"VLOOKUP(K817,'Standard Labels'!$A$7:$AC$500,23)","v":0},{"$f":"VLOOKUP(K817,'Standard Labels'!$A$7:$AC$500,25)","v":0},{"$f":"VLOOKUP(K817,'Standard Labels'!$A$7:$AC$500,27)","v":0},{"$f":"VLOOKUP(K817,'Standard Labels'!$A$7:$AC$500,29)","v":0},816]
[{"$f":"VLOOKUP(K818,'Standard Labels'!$A$7:$AC$500,11)","v":0},{"$f":"VLOOKUP(K818,'Standard Labels'!$A$7:$AC$500,13)","v":0},{"$f":"VLOOKUP(K818,'Standard Labels'!$A$7:$AC$500,15)","v":0},{"$f":"VLOOKUP(K818,'Standard Labels'!$A$7:$AC$500,17)","v":0},{"$f":"VLOOKUP(K818,'Standard Labels'!$A$7:$AC$500,19)","v":0},{"$f":"VLOOKUP(K818,'Standard Labels'!$A$7:$AC$500,21)","v":0},{"$f":"VLOOKUP(K818,'Standard Labels'!$A$7:$AC$500,23)","v":0},{"$f":"VLOOKUP(K818,'Standard Labels'!$A$7:$AC$500,25)","v":0},{"$f":"VLOOKUP(K818,'Standard Labels'!$A$7:$AC$500,27)","v":0},{"$f":"VLOOKUP(K818,'Standard Labels'!$A$7:$AC$500,29)","v":0},817]
[{"$f":"VLOOKUP(K819,'Standard Labels'!$A$7:$AC$500,11)","v":0},{"$f":"VLOOKUP(K819,'Standard Labels'!$A$7:$AC$500,13)","v":0},{"$f":"VLOOKUP(K819,'Standard Labels'!$A$7:$AC$500,15)","v":0},{"$f":"VLOOKUP(K819,'Standard Labels'!$A$7:$AC$500,17)","v":0},{"$f":"VLOOKUP(K819,'Standard Labels'!$A$7:$AC$500,19)","v":0},{"$f":"VLOOKUP(K819,'Standard Labels'!$A$7:$AC$500,21)","v":0},{"$f":"VLOOKUP(K819,'Standard Labels'!$A$7:$AC$500,23)","v":0},{"$f":"VLOOKUP(K819,'Standard Labels'!$A$7:$AC$500,25)","v":0},{"$f":"VLOOKUP(K819,'Standard Labels'!$A$7:$AC$500,27)","v":0},{"$f":"VLOOKUP(K819,'Standard Labels'!$A$7:$AC$500,29)","v":0},818]
[{"$f":"VLOOKUP(K820,'Standard Labels'!$A$7:$AC$500,11)","v":0},{"$f":"VLOOKUP(K820,'Standard Labels'!$A$7:$AC$500,13)","v":0},{"$f":"VLOOKUP(K820,'Standard Labels'!$A$7:$AC$500,15)","v":0},{"$f":"VLOOKUP(K820,'Standard Labels'!$A$7:$AC$500,17)","v":0},{"$f":"VLOOKUP(K820,'Standard Labels'!$A$7:$AC$500,19)","v":0},{"$f":"VLOOKUP(K820,'Standard Labels'!$A$7:$AC$500,21)","v":0},{"$f":"VLOOKUP(K820,'Standard Labels'!$A$7:$AC$500,23)","v":0},{"$f":"VLOOKUP(K820,'Standard Labels'!$A$7:$AC$500,25)","v":0},{"$f":"VLOOKUP(K820,'Standard Labels'!$A$7:$AC$500,27)","v":0},{"$f":"VLOOKUP(K820,'Standard Labels'!$A$7:$AC$500,29)","v":0},819]
[{"$f":"VLOOKUP(K821,'Standard Labels'!$A$7:$AC$500,11)","v":0},{"$f":"VLOOKUP(K821,'Standard Labels'!$A$7:$AC$500,13)","v":0},{"$f":"VLOOKUP(K821,'Standard Labels'!$A$7:$AC$500,15)","v":0},{"$f":"VLOOKUP(K821,'Standard Labels'!$A$7:$AC$500,17)","v":0},{"$f":"VLOOKUP(K821,'Standard Labels'!$A$7:$AC$500,19)","v":0},{"$f":"VLOOKUP(K821,'Standard Labels'!$A$7:$AC$500,21)","v":0},{"$f":"VLOOKUP(K821,'Standard Labels'!$A$7:$AC$500,23)","v":0},{"$f":"VLOOKUP(K821,'Standard Labels'!$A$7:$AC$500,25)","v":0},{"$f":"VLOOKUP(K821,'Standard Labels'!$A$7:$AC$500,27)","v":0},{"$f":"VLOOKUP(K821,'Standard Labels'!$A$7:$AC$500,29)","v":0},820]
[{"$f":"VLOOKUP(K822,'Standard Labels'!$A$7:$AC$500,11)","v":0},{"$f":"VLOOKUP(K822,'Standard Labels'!$A$7:$AC$500,13)","v":0},{"$f":"VLOOKUP(K822,'Standard Labels'!$A$7:$AC$500,15)","v":0},{"$f":"VLOOKUP(K822,'Standard Labels'!$A$7:$AC$500,17)","v":0},{"$f":"VLOOKUP(K822,'Standard Labels'!$A$7:$AC$500,19)","v":0},{"$f":"VLOOKUP(K822,'Standard Labels'!$A$7:$AC$500,21)","v":0},{"$f":"VLOOKUP(K822,'Standard Labels'!$A$7:$AC$500,23)","v":0},{"$f":"VLOOKUP(K822,'Standard Labels'!$A$7:$AC$500,25)","v":0},{"$f":"VLOOKUP(K822,'Standard Labels'!$A$7:$AC$500,27)","v":0},{"$f":"VLOOKUP(K822,'Standard Labels'!$A$7:$AC$500,29)","v":0},821]
[{"$f":"VLOOKUP(K823,'Standard Labels'!$A$7:$AC$500,11)","v":0},{"$f":"VLOOKUP(K823,'Standard Labels'!$A$7:$AC$500,13)","v":0},{"$f":"VLOOKUP(K823,'Standard Labels'!$A$7:$AC$500,15)","v":0},{"$f":"VLOOKUP(K823,'Standard Labels'!$A$7:$AC$500,17)","v":0},{"$f":"VLOOKUP(K823,'Standard Labels'!$A$7:$AC$500,19)","v":0},{"$f":"VLOOKUP(K823,'Standard Labels'!$A$7:$AC$500,21)","v":0},{"$f":"VLOOKUP(K823,'Standard Labels'!$A$7:$AC$500,23)","v":0},{"$f":"VLOOKUP(K823,'Standard Labels'!$A$7:$AC$500,25)","v":0},{"$f":"VLOOKUP(K823,'Standard Labels'!$A$7:$AC$500,27)","v":0},{"$f":"VLOOKUP(K823,'Standard Labels'!$A$7:$AC$500,29)","v":0},822]
[{"$f":"VLOOKUP(K824,'Standard Labels'!$A$7:$AC$500,11)","v":0},{"$f":"VLOOKUP(K824,'Standard Labels'!$A$7:$AC$500,13)","v":0},{"$f":"VLOOKUP(K824,'Standard Labels'!$A$7:$AC$500,15)","v":0},{"$f":"VLOOKUP(K824,'Standard Labels'!$A$7:$AC$500,17)","v":0},{"$f":"VLOOKUP(K824,'Standard Labels'!$A$7:$AC$500,19)","v":0},{"$f":"VLOOKUP(K824,'Standard Labels'!$A$7:$AC$500,21)","v":0},{"$f":"VLOOKUP(K824,'Standard Labels'!$A$7:$AC$500,23)","v":0},{"$f":"VLOOKUP(K824,'Standard Labels'!$A$7:$AC$500,25)","v":0},{"$f":"VLOOKUP(K824,'Standard Labels'!$A$7:$AC$500,27)","v":0},{"$f":"VLOOKUP(K824,'Standard Labels'!$A$7:$AC$500,29)","v":0},823]
[{"$f":"VLOOKUP(K825,'Standard Labels'!$A$7:$AC$500,11)","v":0},{"$f":"VLOOKUP(K825,'Standard Labels'!$A$7:$AC$500,13)","v":0},{"$f":"VLOOKUP(K825,'Standard Labels'!$A$7:$AC$500,15)","v":0},{"$f":"VLOOKUP(K825,'Standard Labels'!$A$7:$AC$500,17)","v":0},{"$f":"VLOOKUP(K825,'Standard Labels'!$A$7:$AC$500,19)","v":0},{"$f":"VLOOKUP(K825,'Standard Labels'!$A$7:$AC$500,21)","v":0},{"$f":"VLOOKUP(K825,'Standard Labels'!$A$7:$AC$500,23)","v":0},{"$f":"VLOOKUP(K825,'Standard Labels'!$A$7:$AC$500,25)","v":0},{"$f":"VLOOKUP(K825,'Standard Labels'!$A$7:$AC$500,27)","v":0},{"$f":"VLOOKUP(K825,'Standard Labels'!$A$7:$AC$500,29)","v":0},824]
[{"$f":"VLOOKUP(K826,'Standard Labels'!$A$7:$AC$500,11)","v":0},{"$f":"VLOOKUP(K826,'Standard Labels'!$A$7:$AC$500,13)","v":0},{"$f":"VLOOKUP(K826,'Standard Labels'!$A$7:$AC$500,15)","v":0},{"$f":"VLOOKUP(K826,'Standard Labels'!$A$7:$AC$500,17)","v":0},{"$f":"VLOOKUP(K826,'Standard Labels'!$A$7:$AC$500,19)","v":0},{"$f":"VLOOKUP(K826,'Standard Labels'!$A$7:$AC$500,21)","v":0},{"$f":"VLOOKUP(K826,'Standard Labels'!$A$7:$AC$500,23)","v":0},{"$f":"VLOOKUP(K826,'Standard Labels'!$A$7:$AC$500,25)","v":0},{"$f":"VLOOKUP(K826,'Standard Labels'!$A$7:$AC$500,27)","v":0},{"$f":"VLOOKUP(K826,'Standard Labels'!$A$7:$AC$500,29)","v":0},825]
[{"$f":"VLOOKUP(K827,'Standard Labels'!$A$7:$AC$500,11)","v":0},{"$f":"VLOOKUP(K827,'Standard Labels'!$A$7:$AC$500,13)","v":0},{"$f":"VLOOKUP(K827,'Standard Labels'!$A$7:$AC$500,15)","v":0},{"$f":"VLOOKUP(K827,'Standard Labels'!$A$7:$AC$500,17)","v":0},{"$f":"VLOOKUP(K827,'Standard Labels'!$A$7:$AC$500,19)","v":0},{"$f":"VLOOKUP(K827,'Standard Labels'!$A$7:$AC$500,21)","v":0},{"$f":"VLOOKUP(K827,'Standard Labels'!$A$7:$AC$500,23)","v":0},{"$f":"VLOOKUP(K827,'Standard Labels'!$A$7:$AC$500,25)","v":0},{"$f":"VLOOKUP(K827,'Standard Labels'!$A$7:$AC$500,27)","v":0},{"$f":"VLOOKUP(K827,'Standard Labels'!$A$7:$AC$500,29)","v":0},826]
[{"$f":"VLOOKUP(K828,'Standard Labels'!$A$7:$AC$500,11)","v":0},{"$f":"VLOOKUP(K828,'Standard Labels'!$A$7:$AC$500,13)","v":0},{"$f":"VLOOKUP(K828,'Standard Labels'!$A$7:$AC$500,15)","v":0},{"$f":"VLOOKUP(K828,'Standard Labels'!$A$7:$AC$500,17)","v":0},{"$f":"VLOOKUP(K828,'Standard Labels'!$A$7:$AC$500,19)","v":0},{"$f":"VLOOKUP(K828,'Standard Labels'!$A$7:$AC$500,21)","v":0},{"$f":"VLOOKUP(K828,'Standard Labels'!$A$7:$AC$500,23)","v":0},{"$f":"VLOOKUP(K828,'Standard Labels'!$A$7:$AC$500,25)","v":0},{"$f":"VLOOKUP(K828,'Standard Labels'!$A$7:$AC$500,27)","v":0},{"$f":"VLOOKUP(K828,'Standard Labels'!$A$7:$AC$500,29)","v":0},827]
[{"$f":"VLOOKUP(K829,'Standard Labels'!$A$7:$AC$500,11)","v":0},{"$f":"VLOOKUP(K829,'Standard Labels'!$A$7:$AC$500,13)","v":0},{"$f":"VLOOKUP(K829,'Standard Labels'!$A$7:$AC$500,15)","v":0},{"$f":"VLOOKUP(K829,'Standard Labels'!$A$7:$AC$500,17)","v":0},{"$f":"VLOOKUP(K829,'Standard Labels'!$A$7:$AC$500,19)","v":0},{"$f":"VLOOKUP(K829,'Standard Labels'!$A$7:$AC$500,21)","v":0},{"$f":"VLOOKUP(K829,'Standard Labels'!$A$7:$AC$500,23)","v":0},{"$f":"VLOOKUP(K829,'Standard Labels'!$A$7:$AC$500,25)","v":0},{"$f":"VLOOKUP(K829,'Standard Labels'!$A$7:$AC$500,27)","v":0},{"$f":"VLOOKUP(K829,'Standard Labels'!$A$7:$AC$500,29)","v":0},828]
[{"$f":"VLOOKUP(K830,'Standard Labels'!$A$7:$AC$500,11)","v":0},{"$f":"VLOOKUP(K830,'Standard Labels'!$A$7:$AC$500,13)","v":0},{"$f":"VLOOKUP(K830,'Standard Labels'!$A$7:$AC$500,15)","v":0},{"$f":"VLOOKUP(K830,'Standard Labels'!$A$7:$AC$500,17)","v":0},{"$f":"VLOOKUP(K830,'Standard Labels'!$A$7:$AC$500,19)","v":0},{"$f":"VLOOKUP(K830,'Standard Labels'!$A$7:$AC$500,21)","v":0},{"$f":"VLOOKUP(K830,'Standard Labels'!$A$7:$AC$500,23)","v":0},{"$f":"VLOOKUP(K830,'Standard Labels'!$A$7:$AC$500,25)","v":0},{"$f":"VLOOKUP(K830,'Standard Labels'!$A$7:$AC$500,27)","v":0},{"$f":"VLOOKUP(K830,'Standard Labels'!$A$7:$AC$500,29)","v":0},829]
[{"$f":"VLOOKUP(K831,'Standard Labels'!$A$7:$AC$500,11)","v":0},{"$f":"VLOOKUP(K831,'Standard Labels'!$A$7:$AC$500,13)","v":0},{"$f":"VLOOKUP(K831,'Standard Labels'!$A$7:$AC$500,15)","v":0},{"$f":"VLOOKUP(K831,'Standard Labels'!$A$7:$AC$500,17)","v":0},{"$f":"VLOOKUP(K831,'Standard Labels'!$A$7:$AC$500,19)","v":0},{"$f":"VLOOKUP(K831,'Standard Labels'!$A$7:$AC$500,21)","v":0},{"$f":"VLOOKUP(K831,'Standard Labels'!$A$7:$AC$500,23)","v":0},{"$f":"VLOOKUP(K831,'Standard Labels'!$A$7:$AC$500,25)","v":0},{"$f":"VLOOKUP(K831,'Standard Labels'!$A$7:$AC$500,27)","v":0},{"$f":"VLOOKUP(K831,'Standard Labels'!$A$7:$AC$500,29)","v":0},830]
[{"$f":"VLOOKUP(K832,'Standard Labels'!$A$7:$AC$500,11)","v":0},{"$f":"VLOOKUP(K832,'Standard Labels'!$A$7:$AC$500,13)","v":0},{"$f":"VLOOKUP(K832,'Standard Labels'!$A$7:$AC$500,15)","v":0},{"$f":"VLOOKUP(K832,'Standard Labels'!$A$7:$AC$500,17)","v":0},{"$f":"VLOOKUP(K832,'Standard Labels'!$A$7:$AC$500,19)","v":0},{"$f":"VLOOKUP(K832,'Standard Labels'!$A$7:$AC$500,21)","v":0},{"$f":"VLOOKUP(K832,'Standard Labels'!$A$7:$AC$500,23)","v":0},{"$f":"VLOOKUP(K832,'Standard Labels'!$A$7:$AC$500,25)","v":0},{"$f":"VLOOKUP(K832,'Standard Labels'!$A$7:$AC$500,27)","v":0},{"$f":"VLOOKUP(K832,'Standard Labels'!$A$7:$AC$500,29)","v":0},831]
[{"$f":"VLOOKUP(K833,'Standard Labels'!$A$7:$AC$500,11)","v":0},{"$f":"VLOOKUP(K833,'Standard Labels'!$A$7:$AC$500,13)","v":0},{"$f":"VLOOKUP(K833,'Standard Labels'!$A$7:$AC$500,15)","v":0},{"$f":"VLOOKUP(K833,'Standard Labels'!$A$7:$AC$500,17)","v":0},{"$f":"VLOOKUP(K833,'Standard Labels'!$A$7:$AC$500,19)","v":0},{"$f":"VLOOKUP(K833,'Standard Labels'!$A$7:$AC$500,21)","v":0},{"$f":"VLOOKUP(K833,'Standard Labels'!$A$7:$AC$500,23)","v":0},{"$f":"VLOOKUP(K833,'Standard Labels'!$A$7:$AC$500,25)","v":0},{"$f":"VLOOKUP(K833,'Standard Labels'!$A$7:$AC$500,27)","v":0},{"$f":"VLOOKUP(K833,'Standard Labels'!$A$7:$AC$500,29)","v":0},832]
[{"$f":"VLOOKUP(K834,'Standard Labels'!$A$7:$AC$500,11)","v":0},{"$f":"VLOOKUP(K834,'Standard Labels'!$A$7:$AC$500,13)","v":0},{"$f":"VLOOKUP(K834,'Standard Labels'!$A$7:$AC$500,15)","v":0},{"$f":"VLOOKUP(K834,'Standard Labels'!$A$7:$AC$500,17)","v":0},{"$f":"VLOOKUP(K834,'Standard Labels'!$A$7:$AC$500,19)","v":0},{"$f":"VLOOKUP(K834,'Standard Labels'!$A$7:$AC$500,21)","v":0},{"$f":"VLOOKUP(K834,'Standard Labels'!$A$7:$AC$500,23)","v":0},{"$f":"VLOOKUP(K834,'Standard Labels'!$A$7:$AC$500,25)","v":0},{"$f":"VLOOKUP(K834,'Standard Labels'!$A$7:$AC$500,27)","v":0},{"$f":"VLOOKUP(K834,'Standard Labels'!$A$7:$AC$500,29)","v":0},833]
[{"$f":"VLOOKUP(K835,'Standard Labels'!$A$7:$AC$500,11)","v":0},{"$f":"VLOOKUP(K835,'Standard Labels'!$A$7:$AC$500,13)","v":0},{"$f":"VLOOKUP(K835,'Standard Labels'!$A$7:$AC$500,15)","v":0},{"$f":"VLOOKUP(K835,'Standard Labels'!$A$7:$AC$500,17)","v":0},{"$f":"VLOOKUP(K835,'Standard Labels'!$A$7:$AC$500,19)","v":0},{"$f":"VLOOKUP(K835,'Standard Labels'!$A$7:$AC$500,21)","v":0},{"$f":"VLOOKUP(K835,'Standard Labels'!$A$7:$AC$500,23)","v":0},{"$f":"VLOOKUP(K835,'Standard Labels'!$A$7:$AC$500,25)","v":0},{"$f":"VLOOKUP(K835,'Standard Labels'!$A$7:$AC$500,27)","v":0},{"$f":"VLOOKUP(K835,'Standard Labels'!$A$7:$AC$500,29)","v":0},834]
[{"$f":"VLOOKUP(K836,'Standard Labels'!$A$7:$AC$500,11)","v":0},{"$f":"VLOOKUP(K836,'Standard Labels'!$A$7:$AC$500,13)","v":0},{"$f":"VLOOKUP(K836,'Standard Labels'!$A$7:$AC$500,15)","v":0},{"$f":"VLOOKUP(K836,'Standard Labels'!$A$7:$AC$500,17)","v":0},{"$f":"VLOOKUP(K836,'Standard Labels'!$A$7:$AC$500,19)","v":0},{"$f":"VLOOKUP(K836,'Standard Labels'!$A$7:$AC$500,21)","v":0},{"$f":"VLOOKUP(K836,'Standard Labels'!$A$7:$AC$500,23)","v":0},{"$f":"VLOOKUP(K836,'Standard Labels'!$A$7:$AC$500,25)","v":0},{"$f":"VLOOKUP(K836,'Standard Labels'!$A$7:$AC$500,27)","v":0},{"$f":"VLOOKUP(K836,'Standard Labels'!$A$7:$AC$500,29)","v":0},835]
[{"$f":"VLOOKUP(K837,'Standard Labels'!$A$7:$AC$500,11)","v":0},{"$f":"VLOOKUP(K837,'Standard Labels'!$A$7:$AC$500,13)","v":0},{"$f":"VLOOKUP(K837,'Standard Labels'!$A$7:$AC$500,15)","v":0},{"$f":"VLOOKUP(K837,'Standard Labels'!$A$7:$AC$500,17)","v":0},{"$f":"VLOOKUP(K837,'Standard Labels'!$A$7:$AC$500,19)","v":0},{"$f":"VLOOKUP(K837,'Standard Labels'!$A$7:$AC$500,21)","v":0},{"$f":"VLOOKUP(K837,'Standard Labels'!$A$7:$AC$500,23)","v":0},{"$f":"VLOOKUP(K837,'Standard Labels'!$A$7:$AC$500,25)","v":0},{"$f":"VLOOKUP(K837,'Standard Labels'!$A$7:$AC$500,27)","v":0},{"$f":"VLOOKUP(K837,'Standard Labels'!$A$7:$AC$500,29)","v":0},836]
[{"$f":"VLOOKUP(K838,'Standard Labels'!$A$7:$AC$500,11)","v":0},{"$f":"VLOOKUP(K838,'Standard Labels'!$A$7:$AC$500,13)","v":0},{"$f":"VLOOKUP(K838,'Standard Labels'!$A$7:$AC$500,15)","v":0},{"$f":"VLOOKUP(K838,'Standard Labels'!$A$7:$AC$500,17)","v":0},{"$f":"VLOOKUP(K838,'Standard Labels'!$A$7:$AC$500,19)","v":0},{"$f":"VLOOKUP(K838,'Standard Labels'!$A$7:$AC$500,21)","v":0},{"$f":"VLOOKUP(K838,'Standard Labels'!$A$7:$AC$500,23)","v":0},{"$f":"VLOOKUP(K838,'Standard Labels'!$A$7:$AC$500,25)","v":0},{"$f":"VLOOKUP(K838,'Standard Labels'!$A$7:$AC$500,27)","v":0},{"$f":"VLOOKUP(K838,'Standard Labels'!$A$7:$AC$500,29)","v":0},837]
[{"$f":"VLOOKUP(K839,'Standard Labels'!$A$7:$AC$500,11)","v":0},{"$f":"VLOOKUP(K839,'Standard Labels'!$A$7:$AC$500,13)","v":0},{"$f":"VLOOKUP(K839,'Standard Labels'!$A$7:$AC$500,15)","v":0},{"$f":"VLOOKUP(K839,'Standard Labels'!$A$7:$AC$500,17)","v":0},{"$f":"VLOOKUP(K839,'Standard Labels'!$A$7:$AC$500,19)","v":0},{"$f":"VLOOKUP(K839,'Standard Labels'!$A$7:$AC$500,21)","v":0},{"$f":"VLOOKUP(K839,'Standard Labels'!$A$7:$AC$500,23)","v":0},{"$f":"VLOOKUP(K839,'Standard Labels'!$A$7:$AC$500,25)","v":0},{"$f":"VLOOKUP(K839,'Standard Labels'!$A$7:$AC$500,27)","v":0},{"$f":"VLOOKUP(K839,'Standard Labels'!$A$7:$AC$500,29)","v":0},838]
[{"$f":"VLOOKUP(K840,'Standard Labels'!$A$7:$AC$500,11)","v":0},{"$f":"VLOOKUP(K840,'Standard Labels'!$A$7:$AC$500,13)","v":0},{"$f":"VLOOKUP(K840,'Standard Labels'!$A$7:$AC$500,15)","v":0},{"$f":"VLOOKUP(K840,'Standard Labels'!$A$7:$AC$500,17)","v":0},{"$f":"VLOOKUP(K840,'Standard Labels'!$A$7:$AC$500,19)","v":0},{"$f":"VLOOKUP(K840,'Standard Labels'!$A$7:$AC$500,21)","v":0},{"$f":"VLOOKUP(K840,'Standard Labels'!$A$7:$AC$500,23)","v":0},{"$f":"VLOOKUP(K840,'Standard Labels'!$A$7:$AC$500,25)","v":0},{"$f":"VLOOKUP(K840,'Standard Labels'!$A$7:$AC$500,27)","v":0},{"$f":"VLOOKUP(K840,'Standard Labels'!$A$7:$AC$500,29)","v":0},839]
[{"$f":"VLOOKUP(K841,'Standard Labels'!$A$7:$AC$500,11)","v":0},{"$f":"VLOOKUP(K841,'Standard Labels'!$A$7:$AC$500,13)","v":0},{"$f":"VLOOKUP(K841,'Standard Labels'!$A$7:$AC$500,15)","v":0},{"$f":"VLOOKUP(K841,'Standard Labels'!$A$7:$AC$500,17)","v":0},{"$f":"VLOOKUP(K841,'Standard Labels'!$A$7:$AC$500,19)","v":0},{"$f":"VLOOKUP(K841,'Standard Labels'!$A$7:$AC$500,21)","v":0},{"$f":"VLOOKUP(K841,'Standard Labels'!$A$7:$AC$500,23)","v":0},{"$f":"VLOOKUP(K841,'Standard Labels'!$A$7:$AC$500,25)","v":0},{"$f":"VLOOKUP(K841,'Standard Labels'!$A$7:$AC$500,27)","v":0},{"$f":"VLOOKUP(K841,'Standard Labels'!$A$7:$AC$500,29)","v":0},840]
[{"$f":"VLOOKUP(K842,'Standard Labels'!$A$7:$AC$500,11)","v":0},{"$f":"VLOOKUP(K842,'Standard Labels'!$A$7:$AC$500,13)","v":0},{"$f":"VLOOKUP(K842,'Standard Labels'!$A$7:$AC$500,15)","v":0},{"$f":"VLOOKUP(K842,'Standard Labels'!$A$7:$AC$500,17)","v":0},{"$f":"VLOOKUP(K842,'Standard Labels'!$A$7:$AC$500,19)","v":0},{"$f":"VLOOKUP(K842,'Standard Labels'!$A$7:$AC$500,21)","v":0},{"$f":"VLOOKUP(K842,'Standard Labels'!$A$7:$AC$500,23)","v":0},{"$f":"VLOOKUP(K842,'Standard Labels'!$A$7:$AC$500,25)","v":0},{"$f":"VLOOKUP(K842,'Standard Labels'!$A$7:$AC$500,27)","v":0},{"$f":"VLOOKUP(K842,'Standard Labels'!$A$7:$AC$500,29)","v":0},841]
[{"$f":"VLOOKUP(K843,'Standard Labels'!$A$7:$AC$500,11)","v":0},{"$f":"VLOOKUP(K843,'Standard Labels'!$A$7:$AC$500,13)","v":0},{"$f":"VLOOKUP(K843,'Standard Labels'!$A$7:$AC$500,15)","v":0},{"$f":"VLOOKUP(K843,'Standard Labels'!$A$7:$AC$500,17)","v":0},{"$f":"VLOOKUP(K843,'Standard Labels'!$A$7:$AC$500,19)","v":0},{"$f":"VLOOKUP(K843,'Standard Labels'!$A$7:$AC$500,21)","v":0},{"$f":"VLOOKUP(K843,'Standard Labels'!$A$7:$AC$500,23)","v":0},{"$f":"VLOOKUP(K843,'Standard Labels'!$A$7:$AC$500,25)","v":0},{"$f":"VLOOKUP(K843,'Standard Labels'!$A$7:$AC$500,27)","v":0},{"$f":"VLOOKUP(K843,'Standard Labels'!$A$7:$AC$500,29)","v":0},842]
[{"$f":"VLOOKUP(K844,'Standard Labels'!$A$7:$AC$500,11)","v":0},{"$f":"VLOOKUP(K844,'Standard Labels'!$A$7:$AC$500,13)","v":0},{"$f":"VLOOKUP(K844,'Standard Labels'!$A$7:$AC$500,15)","v":0},{"$f":"VLOOKUP(K844,'Standard Labels'!$A$7:$AC$500,17)","v":0},{"$f":"VLOOKUP(K844,'Standard Labels'!$A$7:$AC$500,19)","v":0},{"$f":"VLOOKUP(K844,'Standard Labels'!$A$7:$AC$500,21)","v":0},{"$f":"VLOOKUP(K844,'Standard Labels'!$A$7:$AC$500,23)","v":0},{"$f":"VLOOKUP(K844,'Standard Labels'!$A$7:$AC$500,25)","v":0},{"$f":"VLOOKUP(K844,'Standard Labels'!$A$7:$AC$500,27)","v":0},{"$f":"VLOOKUP(K844,'Standard Labels'!$A$7:$AC$500,29)","v":0},843]
[{"$f":"VLOOKUP(K845,'Standard Labels'!$A$7:$AC$500,11)","v":0},{"$f":"VLOOKUP(K845,'Standard Labels'!$A$7:$AC$500,13)","v":0},{"$f":"VLOOKUP(K845,'Standard Labels'!$A$7:$AC$500,15)","v":0},{"$f":"VLOOKUP(K845,'Standard Labels'!$A$7:$AC$500,17)","v":0},{"$f":"VLOOKUP(K845,'Standard Labels'!$A$7:$AC$500,19)","v":0},{"$f":"VLOOKUP(K845,'Standard Labels'!$A$7:$AC$500,21)","v":0},{"$f":"VLOOKUP(K845,'Standard Labels'!$A$7:$AC$500,23)","v":0},{"$f":"VLOOKUP(K845,'Standard Labels'!$A$7:$AC$500,25)","v":0},{"$f":"VLOOKUP(K845,'Standard Labels'!$A$7:$AC$500,27)","v":0},{"$f":"VLOOKUP(K845,'Standard Labels'!$A$7:$AC$500,29)","v":0},844]
[{"$f":"VLOOKUP(K846,'Standard Labels'!$A$7:$AC$500,11)","v":0},{"$f":"VLOOKUP(K846,'Standard Labels'!$A$7:$AC$500,13)","v":0},{"$f":"VLOOKUP(K846,'Standard Labels'!$A$7:$AC$500,15)","v":0},{"$f":"VLOOKUP(K846,'Standard Labels'!$A$7:$AC$500,17)","v":0},{"$f":"VLOOKUP(K846,'Standard Labels'!$A$7:$AC$500,19)","v":0},{"$f":"VLOOKUP(K846,'Standard Labels'!$A$7:$AC$500,21)","v":0},{"$f":"VLOOKUP(K846,'Standard Labels'!$A$7:$AC$500,23)","v":0},{"$f":"VLOOKUP(K846,'Standard Labels'!$A$7:$AC$500,25)","v":0},{"$f":"VLOOKUP(K846,'Standard Labels'!$A$7:$AC$500,27)","v":0},{"$f":"VLOOKUP(K846,'Standard Labels'!$A$7:$AC$500,29)","v":0},845]
[{"$f":"VLOOKUP(K847,'Standard Labels'!$A$7:$AC$500,11)","v":0},{"$f":"VLOOKUP(K847,'Standard Labels'!$A$7:$AC$500,13)","v":0},{"$f":"VLOOKUP(K847,'Standard Labels'!$A$7:$AC$500,15)","v":0},{"$f":"VLOOKUP(K847,'Standard Labels'!$A$7:$AC$500,17)","v":0},{"$f":"VLOOKUP(K847,'Standard Labels'!$A$7:$AC$500,19)","v":0},{"$f":"VLOOKUP(K847,'Standard Labels'!$A$7:$AC$500,21)","v":0},{"$f":"VLOOKUP(K847,'Standard Labels'!$A$7:$AC$500,23)","v":0},{"$f":"VLOOKUP(K847,'Standard Labels'!$A$7:$AC$500,25)","v":0},{"$f":"VLOOKUP(K847,'Standard Labels'!$A$7:$AC$500,27)","v":0},{"$f":"VLOOKUP(K847,'Standard Labels'!$A$7:$AC$500,29)","v":0},846]
[{"$f":"VLOOKUP(K848,'Standard Labels'!$A$7:$AC$500,11)","v":0},{"$f":"VLOOKUP(K848,'Standard Labels'!$A$7:$AC$500,13)","v":0},{"$f":"VLOOKUP(K848,'Standard Labels'!$A$7:$AC$500,15)","v":0},{"$f":"VLOOKUP(K848,'Standard Labels'!$A$7:$AC$500,17)","v":0},{"$f":"VLOOKUP(K848,'Standard Labels'!$A$7:$AC$500,19)","v":0},{"$f":"VLOOKUP(K848,'Standard Labels'!$A$7:$AC$500,21)","v":0},{"$f":"VLOOKUP(K848,'Standard Labels'!$A$7:$AC$500,23)","v":0},{"$f":"VLOOKUP(K848,'Standard Labels'!$A$7:$AC$500,25)","v":0},{"$f":"VLOOKUP(K848,'Standard Labels'!$A$7:$AC$500,27)","v":0},{"$f":"VLOOKUP(K848,'Standard Labels'!$A$7:$AC$500,29)","v":0},847]
[{"$f":"VLOOKUP(K849,'Standard Labels'!$A$7:$AC$500,11)","v":0},{"$f":"VLOOKUP(K849,'Standard Labels'!$A$7:$AC$500,13)","v":0},{"$f":"VLOOKUP(K849,'Standard Labels'!$A$7:$AC$500,15)","v":0},{"$f":"VLOOKUP(K849,'Standard Labels'!$A$7:$AC$500,17)","v":0},{"$f":"VLOOKUP(K849,'Standard Labels'!$A$7:$AC$500,19)","v":0},{"$f":"VLOOKUP(K849,'Standard Labels'!$A$7:$AC$500,21)","v":0},{"$f":"VLOOKUP(K849,'Standard Labels'!$A$7:$AC$500,23)","v":0},{"$f":"VLOOKUP(K849,'Standard Labels'!$A$7:$AC$500,25)","v":0},{"$f":"VLOOKUP(K849,'Standard Labels'!$A$7:$AC$500,27)","v":0},{"$f":"VLOOKUP(K849,'Standard Labels'!$A$7:$AC$500,29)","v":0},848]
[{"$f":"VLOOKUP(K850,'Standard Labels'!$A$7:$AC$500,11)","v":0},{"$f":"VLOOKUP(K850,'Standard Labels'!$A$7:$AC$500,13)","v":0},{"$f":"VLOOKUP(K850,'Standard Labels'!$A$7:$AC$500,15)","v":0},{"$f":"VLOOKUP(K850,'Standard Labels'!$A$7:$AC$500,17)","v":0},{"$f":"VLOOKUP(K850,'Standard Labels'!$A$7:$AC$500,19)","v":0},{"$f":"VLOOKUP(K850,'Standard Labels'!$A$7:$AC$500,21)","v":0},{"$f":"VLOOKUP(K850,'Standard Labels'!$A$7:$AC$500,23)","v":0},{"$f":"VLOOKUP(K850,'Standard Labels'!$A$7:$AC$500,25)","v":0},{"$f":"VLOOKUP(K850,'Standard Labels'!$A$7:$AC$500,27)","v":0},{"$f":"VLOOKUP(K850,'Standard Labels'!$A$7:$AC$500,29)","v":0},849]
[{"$f":"VLOOKUP(K851,'Standard Labels'!$A$7:$AC$500,11)","v":0},{"$f":"VLOOKUP(K851,'Standard Labels'!$A$7:$AC$500,13)","v":0},{"$f":"VLOOKUP(K851,'Standard Labels'!$A$7:$AC$500,15)","v":0},{"$f":"VLOOKUP(K851,'Standard Labels'!$A$7:$AC$500,17)","v":0},{"$f":"VLOOKUP(K851,'Standard Labels'!$A$7:$AC$500,19)","v":0},{"$f":"VLOOKUP(K851,'Standard Labels'!$A$7:$AC$500,21)","v":0},{"$f":"VLOOKUP(K851,'Standard Labels'!$A$7:$AC$500,23)","v":0},{"$f":"VLOOKUP(K851,'Standard Labels'!$A$7:$AC$500,25)","v":0},{"$f":"VLOOKUP(K851,'Standard Labels'!$A$7:$AC$500,27)","v":0},{"$f":"VLOOKUP(K851,'Standard Labels'!$A$7:$AC$500,29)","v":0},850]
[{"$f":"VLOOKUP(K852,'Standard Labels'!$A$7:$AC$500,11)","v":0},{"$f":"VLOOKUP(K852,'Standard Labels'!$A$7:$AC$500,13)","v":0},{"$f":"VLOOKUP(K852,'Standard Labels'!$A$7:$AC$500,15)","v":0},{"$f":"VLOOKUP(K852,'Standard Labels'!$A$7:$AC$500,17)","v":0},{"$f":"VLOOKUP(K852,'Standard Labels'!$A$7:$AC$500,19)","v":0},{"$f":"VLOOKUP(K852,'Standard Labels'!$A$7:$AC$500,21)","v":0},{"$f":"VLOOKUP(K852,'Standard Labels'!$A$7:$AC$500,23)","v":0},{"$f":"VLOOKUP(K852,'Standard Labels'!$A$7:$AC$500,25)","v":0},{"$f":"VLOOKUP(K852,'Standard Labels'!$A$7:$AC$500,27)","v":0},{"$f":"VLOOKUP(K852,'Standard Labels'!$A$7:$AC$500,29)","v":0},851]
[{"$f":"VLOOKUP(K853,'Standard Labels'!$A$7:$AC$500,11)","v":0},{"$f":"VLOOKUP(K853,'Standard Labels'!$A$7:$AC$500,13)","v":0},{"$f":"VLOOKUP(K853,'Standard Labels'!$A$7:$AC$500,15)","v":0},{"$f":"VLOOKUP(K853,'Standard Labels'!$A$7:$AC$500,17)","v":0},{"$f":"VLOOKUP(K853,'Standard Labels'!$A$7:$AC$500,19)","v":0},{"$f":"VLOOKUP(K853,'Standard Labels'!$A$7:$AC$500,21)","v":0},{"$f":"VLOOKUP(K853,'Standard Labels'!$A$7:$AC$500,23)","v":0},{"$f":"VLOOKUP(K853,'Standard Labels'!$A$7:$AC$500,25)","v":0},{"$f":"VLOOKUP(K853,'Standard Labels'!$A$7:$AC$500,27)","v":0},{"$f":"VLOOKUP(K853,'Standard Labels'!$A$7:$AC$500,29)","v":0},852]
[{"$f":"VLOOKUP(K854,'Standard Labels'!$A$7:$AC$500,11)","v":0},{"$f":"VLOOKUP(K854,'Standard Labels'!$A$7:$AC$500,13)","v":0},{"$f":"VLOOKUP(K854,'Standard Labels'!$A$7:$AC$500,15)","v":0},{"$f":"VLOOKUP(K854,'Standard Labels'!$A$7:$AC$500,17)","v":0},{"$f":"VLOOKUP(K854,'Standard Labels'!$A$7:$AC$500,19)","v":0},{"$f":"VLOOKUP(K854,'Standard Labels'!$A$7:$AC$500,21)","v":0},{"$f":"VLOOKUP(K854,'Standard Labels'!$A$7:$AC$500,23)","v":0},{"$f":"VLOOKUP(K854,'Standard Labels'!$A$7:$AC$500,25)","v":0},{"$f":"VLOOKUP(K854,'Standard Labels'!$A$7:$AC$500,27)","v":0},{"$f":"VLOOKUP(K854,'Standard Labels'!$A$7:$AC$500,29)","v":0},853]
[{"$f":"VLOOKUP(K855,'Standard Labels'!$A$7:$AC$500,11)","v":0},{"$f":"VLOOKUP(K855,'Standard Labels'!$A$7:$AC$500,13)","v":0},{"$f":"VLOOKUP(K855,'Standard Labels'!$A$7:$AC$500,15)","v":0},{"$f":"VLOOKUP(K855,'Standard Labels'!$A$7:$AC$500,17)","v":0},{"$f":"VLOOKUP(K855,'Standard Labels'!$A$7:$AC$500,19)","v":0},{"$f":"VLOOKUP(K855,'Standard Labels'!$A$7:$AC$500,21)","v":0},{"$f":"VLOOKUP(K855,'Standard Labels'!$A$7:$AC$500,23)","v":0},{"$f":"VLOOKUP(K855,'Standard Labels'!$A$7:$AC$500,25)","v":0},{"$f":"VLOOKUP(K855,'Standard Labels'!$A$7:$AC$500,27)","v":0},{"$f":"VLOOKUP(K855,'Standard Labels'!$A$7:$AC$500,29)","v":0},854]
[{"$f":"VLOOKUP(K856,'Standard Labels'!$A$7:$AC$500,11)","v":0},{"$f":"VLOOKUP(K856,'Standard Labels'!$A$7:$AC$500,13)","v":0},{"$f":"VLOOKUP(K856,'Standard Labels'!$A$7:$AC$500,15)","v":0},{"$f":"VLOOKUP(K856,'Standard Labels'!$A$7:$AC$500,17)","v":0},{"$f":"VLOOKUP(K856,'Standard Labels'!$A$7:$AC$500,19)","v":0},{"$f":"VLOOKUP(K856,'Standard Labels'!$A$7:$AC$500,21)","v":0},{"$f":"VLOOKUP(K856,'Standard Labels'!$A$7:$AC$500,23)","v":0},{"$f":"VLOOKUP(K856,'Standard Labels'!$A$7:$AC$500,25)","v":0},{"$f":"VLOOKUP(K856,'Standard Labels'!$A$7:$AC$500,27)","v":0},{"$f":"VLOOKUP(K856,'Standard Labels'!$A$7:$AC$500,29)","v":0},855]
[{"$f":"VLOOKUP(K857,'Standard Labels'!$A$7:$AC$500,11)","v":0},{"$f":"VLOOKUP(K857,'Standard Labels'!$A$7:$AC$500,13)","v":0},{"$f":"VLOOKUP(K857,'Standard Labels'!$A$7:$AC$500,15)","v":0},{"$f":"VLOOKUP(K857,'Standard Labels'!$A$7:$AC$500,17)","v":0},{"$f":"VLOOKUP(K857,'Standard Labels'!$A$7:$AC$500,19)","v":0},{"$f":"VLOOKUP(K857,'Standard Labels'!$A$7:$AC$500,21)","v":0},{"$f":"VLOOKUP(K857,'Standard Labels'!$A$7:$AC$500,23)","v":0},{"$f":"VLOOKUP(K857,'Standard Labels'!$A$7:$AC$500,25)","v":0},{"$f":"VLOOKUP(K857,'Standard Labels'!$A$7:$AC$500,27)","v":0},{"$f":"VLOOKUP(K857,'Standard Labels'!$A$7:$AC$500,29)","v":0},856]
[{"$f":"VLOOKUP(K858,'Standard Labels'!$A$7:$AC$500,11)","v":0},{"$f":"VLOOKUP(K858,'Standard Labels'!$A$7:$AC$500,13)","v":0},{"$f":"VLOOKUP(K858,'Standard Labels'!$A$7:$AC$500,15)","v":0},{"$f":"VLOOKUP(K858,'Standard Labels'!$A$7:$AC$500,17)","v":0},{"$f":"VLOOKUP(K858,'Standard Labels'!$A$7:$AC$500,19)","v":0},{"$f":"VLOOKUP(K858,'Standard Labels'!$A$7:$AC$500,21)","v":0},{"$f":"VLOOKUP(K858,'Standard Labels'!$A$7:$AC$500,23)","v":0},{"$f":"VLOOKUP(K858,'Standard Labels'!$A$7:$AC$500,25)","v":0},{"$f":"VLOOKUP(K858,'Standard Labels'!$A$7:$AC$500,27)","v":0},{"$f":"VLOOKUP(K858,'Standard Labels'!$A$7:$AC$500,29)","v":0},857]
[{"$f":"VLOOKUP(K859,'Standard Labels'!$A$7:$AC$500,11)","v":0},{"$f":"VLOOKUP(K859,'Standard Labels'!$A$7:$AC$500,13)","v":0},{"$f":"VLOOKUP(K859,'Standard Labels'!$A$7:$AC$500,15)","v":0},{"$f":"VLOOKUP(K859,'Standard Labels'!$A$7:$AC$500,17)","v":0},{"$f":"VLOOKUP(K859,'Standard Labels'!$A$7:$AC$500,19)","v":0},{"$f":"VLOOKUP(K859,'Standard Labels'!$A$7:$AC$500,21)","v":0},{"$f":"VLOOKUP(K859,'Standard Labels'!$A$7:$AC$500,23)","v":0},{"$f":"VLOOKUP(K859,'Standard Labels'!$A$7:$AC$500,25)","v":0},{"$f":"VLOOKUP(K859,'Standard Labels'!$A$7:$AC$500,27)","v":0},{"$f":"VLOOKUP(K859,'Standard Labels'!$A$7:$AC$500,29)","v":0},858]
[{"$f":"VLOOKUP(K860,'Standard Labels'!$A$7:$AC$500,11)","v":0},{"$f":"VLOOKUP(K860,'Standard Labels'!$A$7:$AC$500,13)","v":0},{"$f":"VLOOKUP(K860,'Standard Labels'!$A$7:$AC$500,15)","v":0},{"$f":"VLOOKUP(K860,'Standard Labels'!$A$7:$AC$500,17)","v":0},{"$f":"VLOOKUP(K860,'Standard Labels'!$A$7:$AC$500,19)","v":0},{"$f":"VLOOKUP(K860,'Standard Labels'!$A$7:$AC$500,21)","v":0},{"$f":"VLOOKUP(K860,'Standard Labels'!$A$7:$AC$500,23)","v":0},{"$f":"VLOOKUP(K860,'Standard Labels'!$A$7:$AC$500,25)","v":0},{"$f":"VLOOKUP(K860,'Standard Labels'!$A$7:$AC$500,27)","v":0},{"$f":"VLOOKUP(K860,'Standard Labels'!$A$7:$AC$500,29)","v":0},859]
[{"$f":"VLOOKUP(K861,'Standard Labels'!$A$7:$AC$500,11)","v":0},{"$f":"VLOOKUP(K861,'Standard Labels'!$A$7:$AC$500,13)","v":0},{"$f":"VLOOKUP(K861,'Standard Labels'!$A$7:$AC$500,15)","v":0},{"$f":"VLOOKUP(K861,'Standard Labels'!$A$7:$AC$500,17)","v":0},{"$f":"VLOOKUP(K861,'Standard Labels'!$A$7:$AC$500,19)","v":0},{"$f":"VLOOKUP(K861,'Standard Labels'!$A$7:$AC$500,21)","v":0},{"$f":"VLOOKUP(K861,'Standard Labels'!$A$7:$AC$500,23)","v":0},{"$f":"VLOOKUP(K861,'Standard Labels'!$A$7:$AC$500,25)","v":0},{"$f":"VLOOKUP(K861,'Standard Labels'!$A$7:$AC$500,27)","v":0},{"$f":"VLOOKUP(K861,'Standard Labels'!$A$7:$AC$500,29)","v":0},860]
[{"$f":"VLOOKUP(K862,'Standard Labels'!$A$7:$AC$500,11)","v":0},{"$f":"VLOOKUP(K862,'Standard Labels'!$A$7:$AC$500,13)","v":0},{"$f":"VLOOKUP(K862,'Standard Labels'!$A$7:$AC$500,15)","v":0},{"$f":"VLOOKUP(K862,'Standard Labels'!$A$7:$AC$500,17)","v":0},{"$f":"VLOOKUP(K862,'Standard Labels'!$A$7:$AC$500,19)","v":0},{"$f":"VLOOKUP(K862,'Standard Labels'!$A$7:$AC$500,21)","v":0},{"$f":"VLOOKUP(K862,'Standard Labels'!$A$7:$AC$500,23)","v":0},{"$f":"VLOOKUP(K862,'Standard Labels'!$A$7:$AC$500,25)","v":0},{"$f":"VLOOKUP(K862,'Standard Labels'!$A$7:$AC$500,27)","v":0},{"$f":"VLOOKUP(K862,'Standard Labels'!$A$7:$AC$500,29)","v":0},861]
[{"$f":"VLOOKUP(K863,'Standard Labels'!$A$7:$AC$500,11)","v":0},{"$f":"VLOOKUP(K863,'Standard Labels'!$A$7:$AC$500,13)","v":0},{"$f":"VLOOKUP(K863,'Standard Labels'!$A$7:$AC$500,15)","v":0},{"$f":"VLOOKUP(K863,'Standard Labels'!$A$7:$AC$500,17)","v":0},{"$f":"VLOOKUP(K863,'Standard Labels'!$A$7:$AC$500,19)","v":0},{"$f":"VLOOKUP(K863,'Standard Labels'!$A$7:$AC$500,21)","v":0},{"$f":"VLOOKUP(K863,'Standard Labels'!$A$7:$AC$500,23)","v":0},{"$f":"VLOOKUP(K863,'Standard Labels'!$A$7:$AC$500,25)","v":0},{"$f":"VLOOKUP(K863,'Standard Labels'!$A$7:$AC$500,27)","v":0},{"$f":"VLOOKUP(K863,'Standard Labels'!$A$7:$AC$500,29)","v":0},862]
[{"$f":"VLOOKUP(K864,'Standard Labels'!$A$7:$AC$500,11)","v":0},{"$f":"VLOOKUP(K864,'Standard Labels'!$A$7:$AC$500,13)","v":0},{"$f":"VLOOKUP(K864,'Standard Labels'!$A$7:$AC$500,15)","v":0},{"$f":"VLOOKUP(K864,'Standard Labels'!$A$7:$AC$500,17)","v":0},{"$f":"VLOOKUP(K864,'Standard Labels'!$A$7:$AC$500,19)","v":0},{"$f":"VLOOKUP(K864,'Standard Labels'!$A$7:$AC$500,21)","v":0},{"$f":"VLOOKUP(K864,'Standard Labels'!$A$7:$AC$500,23)","v":0},{"$f":"VLOOKUP(K864,'Standard Labels'!$A$7:$AC$500,25)","v":0},{"$f":"VLOOKUP(K864,'Standard Labels'!$A$7:$AC$500,27)","v":0},{"$f":"VLOOKUP(K864,'Standard Labels'!$A$7:$AC$500,29)","v":0},863]
[{"$f":"VLOOKUP(K865,'Standard Labels'!$A$7:$AC$500,11)","v":0},{"$f":"VLOOKUP(K865,'Standard Labels'!$A$7:$AC$500,13)","v":0},{"$f":"VLOOKUP(K865,'Standard Labels'!$A$7:$AC$500,15)","v":0},{"$f":"VLOOKUP(K865,'Standard Labels'!$A$7:$AC$500,17)","v":0},{"$f":"VLOOKUP(K865,'Standard Labels'!$A$7:$AC$500,19)","v":0},{"$f":"VLOOKUP(K865,'Standard Labels'!$A$7:$AC$500,21)","v":0},{"$f":"VLOOKUP(K865,'Standard Labels'!$A$7:$AC$500,23)","v":0},{"$f":"VLOOKUP(K865,'Standard Labels'!$A$7:$AC$500,25)","v":0},{"$f":"VLOOKUP(K865,'Standard Labels'!$A$7:$AC$500,27)","v":0},{"$f":"VLOOKUP(K865,'Standard Labels'!$A$7:$AC$500,29)","v":0},864]
[{"$f":"VLOOKUP(K866,'Standard Labels'!$A$7:$AC$500,11)","v":0},{"$f":"VLOOKUP(K866,'Standard Labels'!$A$7:$AC$500,13)","v":0},{"$f":"VLOOKUP(K866,'Standard Labels'!$A$7:$AC$500,15)","v":0},{"$f":"VLOOKUP(K866,'Standard Labels'!$A$7:$AC$500,17)","v":0},{"$f":"VLOOKUP(K866,'Standard Labels'!$A$7:$AC$500,19)","v":0},{"$f":"VLOOKUP(K866,'Standard Labels'!$A$7:$AC$500,21)","v":0},{"$f":"VLOOKUP(K866,'Standard Labels'!$A$7:$AC$500,23)","v":0},{"$f":"VLOOKUP(K866,'Standard Labels'!$A$7:$AC$500,25)","v":0},{"$f":"VLOOKUP(K866,'Standard Labels'!$A$7:$AC$500,27)","v":0},{"$f":"VLOOKUP(K866,'Standard Labels'!$A$7:$AC$500,29)","v":0},865]
[{"$f":"VLOOKUP(K867,'Standard Labels'!$A$7:$AC$500,11)","v":0},{"$f":"VLOOKUP(K867,'Standard Labels'!$A$7:$AC$500,13)","v":0},{"$f":"VLOOKUP(K867,'Standard Labels'!$A$7:$AC$500,15)","v":0},{"$f":"VLOOKUP(K867,'Standard Labels'!$A$7:$AC$500,17)","v":0},{"$f":"VLOOKUP(K867,'Standard Labels'!$A$7:$AC$500,19)","v":0},{"$f":"VLOOKUP(K867,'Standard Labels'!$A$7:$AC$500,21)","v":0},{"$f":"VLOOKUP(K867,'Standard Labels'!$A$7:$AC$500,23)","v":0},{"$f":"VLOOKUP(K867,'Standard Labels'!$A$7:$AC$500,25)","v":0},{"$f":"VLOOKUP(K867,'Standard Labels'!$A$7:$AC$500,27)","v":0},{"$f":"VLOOKUP(K867,'Standard Labels'!$A$7:$AC$500,29)","v":0},866]
[{"$f":"VLOOKUP(K868,'Standard Labels'!$A$7:$AC$500,11)","v":0},{"$f":"VLOOKUP(K868,'Standard Labels'!$A$7:$AC$500,13)","v":0},{"$f":"VLOOKUP(K868,'Standard Labels'!$A$7:$AC$500,15)","v":0},{"$f":"VLOOKUP(K868,'Standard Labels'!$A$7:$AC$500,17)","v":0},{"$f":"VLOOKUP(K868,'Standard Labels'!$A$7:$AC$500,19)","v":0},{"$f":"VLOOKUP(K868,'Standard Labels'!$A$7:$AC$500,21)","v":0},{"$f":"VLOOKUP(K868,'Standard Labels'!$A$7:$AC$500,23)","v":0},{"$f":"VLOOKUP(K868,'Standard Labels'!$A$7:$AC$500,25)","v":0},{"$f":"VLOOKUP(K868,'Standard Labels'!$A$7:$AC$500,27)","v":0},{"$f":"VLOOKUP(K868,'Standard Labels'!$A$7:$AC$500,29)","v":0},867]
[{"$f":"VLOOKUP(K869,'Standard Labels'!$A$7:$AC$500,11)","v":0},{"$f":"VLOOKUP(K869,'Standard Labels'!$A$7:$AC$500,13)","v":0},{"$f":"VLOOKUP(K869,'Standard Labels'!$A$7:$AC$500,15)","v":0},{"$f":"VLOOKUP(K869,'Standard Labels'!$A$7:$AC$500,17)","v":0},{"$f":"VLOOKUP(K869,'Standard Labels'!$A$7:$AC$500,19)","v":0},{"$f":"VLOOKUP(K869,'Standard Labels'!$A$7:$AC$500,21)","v":0},{"$f":"VLOOKUP(K869,'Standard Labels'!$A$7:$AC$500,23)","v":0},{"$f":"VLOOKUP(K869,'Standard Labels'!$A$7:$AC$500,25)","v":0},{"$f":"VLOOKUP(K869,'Standard Labels'!$A$7:$AC$500,27)","v":0},{"$f":"VLOOKUP(K869,'Standard Labels'!$A$7:$AC$500,29)","v":0},868]
[{"$f":"VLOOKUP(K870,'Standard Labels'!$A$7:$AC$500,11)","v":0},{"$f":"VLOOKUP(K870,'Standard Labels'!$A$7:$AC$500,13)","v":0},{"$f":"VLOOKUP(K870,'Standard Labels'!$A$7:$AC$500,15)","v":0},{"$f":"VLOOKUP(K870,'Standard Labels'!$A$7:$AC$500,17)","v":0},{"$f":"VLOOKUP(K870,'Standard Labels'!$A$7:$AC$500,19)","v":0},{"$f":"VLOOKUP(K870,'Standard Labels'!$A$7:$AC$500,21)","v":0},{"$f":"VLOOKUP(K870,'Standard Labels'!$A$7:$AC$500,23)","v":0},{"$f":"VLOOKUP(K870,'Standard Labels'!$A$7:$AC$500,25)","v":0},{"$f":"VLOOKUP(K870,'Standard Labels'!$A$7:$AC$500,27)","v":0},{"$f":"VLOOKUP(K870,'Standard Labels'!$A$7:$AC$500,29)","v":0},869]
[{"$f":"VLOOKUP(K871,'Standard Labels'!$A$7:$AC$500,11)","v":0},{"$f":"VLOOKUP(K871,'Standard Labels'!$A$7:$AC$500,13)","v":0},{"$f":"VLOOKUP(K871,'Standard Labels'!$A$7:$AC$500,15)","v":0},{"$f":"VLOOKUP(K871,'Standard Labels'!$A$7:$AC$500,17)","v":0},{"$f":"VLOOKUP(K871,'Standard Labels'!$A$7:$AC$500,19)","v":0},{"$f":"VLOOKUP(K871,'Standard Labels'!$A$7:$AC$500,21)","v":0},{"$f":"VLOOKUP(K871,'Standard Labels'!$A$7:$AC$500,23)","v":0},{"$f":"VLOOKUP(K871,'Standard Labels'!$A$7:$AC$500,25)","v":0},{"$f":"VLOOKUP(K871,'Standard Labels'!$A$7:$AC$500,27)","v":0},{"$f":"VLOOKUP(K871,'Standard Labels'!$A$7:$AC$500,29)","v":0},870]
[{"$f":"VLOOKUP(K872,'Standard Labels'!$A$7:$AC$500,11)","v":0},{"$f":"VLOOKUP(K872,'Standard Labels'!$A$7:$AC$500,13)","v":0},{"$f":"VLOOKUP(K872,'Standard Labels'!$A$7:$AC$500,15)","v":0},{"$f":"VLOOKUP(K872,'Standard Labels'!$A$7:$AC$500,17)","v":0},{"$f":"VLOOKUP(K872,'Standard Labels'!$A$7:$AC$500,19)","v":0},{"$f":"VLOOKUP(K872,'Standard Labels'!$A$7:$AC$500,21)","v":0},{"$f":"VLOOKUP(K872,'Standard Labels'!$A$7:$AC$500,23)","v":0},{"$f":"VLOOKUP(K872,'Standard Labels'!$A$7:$AC$500,25)","v":0},{"$f":"VLOOKUP(K872,'Standard Labels'!$A$7:$AC$500,27)","v":0},{"$f":"VLOOKUP(K872,'Standard Labels'!$A$7:$AC$500,29)","v":0},871]
[{"$f":"VLOOKUP(K873,'Standard Labels'!$A$7:$AC$500,11)","v":0},{"$f":"VLOOKUP(K873,'Standard Labels'!$A$7:$AC$500,13)","v":0},{"$f":"VLOOKUP(K873,'Standard Labels'!$A$7:$AC$500,15)","v":0},{"$f":"VLOOKUP(K873,'Standard Labels'!$A$7:$AC$500,17)","v":0},{"$f":"VLOOKUP(K873,'Standard Labels'!$A$7:$AC$500,19)","v":0},{"$f":"VLOOKUP(K873,'Standard Labels'!$A$7:$AC$500,21)","v":0},{"$f":"VLOOKUP(K873,'Standard Labels'!$A$7:$AC$500,23)","v":0},{"$f":"VLOOKUP(K873,'Standard Labels'!$A$7:$AC$500,25)","v":0},{"$f":"VLOOKUP(K873,'Standard Labels'!$A$7:$AC$500,27)","v":0},{"$f":"VLOOKUP(K873,'Standard Labels'!$A$7:$AC$500,29)","v":0},872]
[{"$f":"VLOOKUP(K874,'Standard Labels'!$A$7:$AC$500,11)","v":0},{"$f":"VLOOKUP(K874,'Standard Labels'!$A$7:$AC$500,13)","v":0},{"$f":"VLOOKUP(K874,'Standard Labels'!$A$7:$AC$500,15)","v":0},{"$f":"VLOOKUP(K874,'Standard Labels'!$A$7:$AC$500,17)","v":0},{"$f":"VLOOKUP(K874,'Standard Labels'!$A$7:$AC$500,19)","v":0},{"$f":"VLOOKUP(K874,'Standard Labels'!$A$7:$AC$500,21)","v":0},{"$f":"VLOOKUP(K874,'Standard Labels'!$A$7:$AC$500,23)","v":0},{"$f":"VLOOKUP(K874,'Standard Labels'!$A$7:$AC$500,25)","v":0},{"$f":"VLOOKUP(K874,'Standard Labels'!$A$7:$AC$500,27)","v":0},{"$f":"VLOOKUP(K874,'Standard Labels'!$A$7:$AC$500,29)","v":0},873]
[{"$f":"VLOOKUP(K875,'Standard Labels'!$A$7:$AC$500,11)","v":0},{"$f":"VLOOKUP(K875,'Standard Labels'!$A$7:$AC$500,13)","v":0},{"$f":"VLOOKUP(K875,'Standard Labels'!$A$7:$AC$500,15)","v":0},{"$f":"VLOOKUP(K875,'Standard Labels'!$A$7:$AC$500,17)","v":0},{"$f":"VLOOKUP(K875,'Standard Labels'!$A$7:$AC$500,19)","v":0},{"$f":"VLOOKUP(K875,'Standard Labels'!$A$7:$AC$500,21)","v":0},{"$f":"VLOOKUP(K875,'Standard Labels'!$A$7:$AC$500,23)","v":0},{"$f":"VLOOKUP(K875,'Standard Labels'!$A$7:$AC$500,25)","v":0},{"$f":"VLOOKUP(K875,'Standard Labels'!$A$7:$AC$500,27)","v":0},{"$f":"VLOOKUP(K875,'Standard Labels'!$A$7:$AC$500,29)","v":0},874]
[{"$f":"VLOOKUP(K876,'Standard Labels'!$A$7:$AC$500,11)","v":0},{"$f":"VLOOKUP(K876,'Standard Labels'!$A$7:$AC$500,13)","v":0},{"$f":"VLOOKUP(K876,'Standard Labels'!$A$7:$AC$500,15)","v":0},{"$f":"VLOOKUP(K876,'Standard Labels'!$A$7:$AC$500,17)","v":0},{"$f":"VLOOKUP(K876,'Standard Labels'!$A$7:$AC$500,19)","v":0},{"$f":"VLOOKUP(K876,'Standard Labels'!$A$7:$AC$500,21)","v":0},{"$f":"VLOOKUP(K876,'Standard Labels'!$A$7:$AC$500,23)","v":0},{"$f":"VLOOKUP(K876,'Standard Labels'!$A$7:$AC$500,25)","v":0},{"$f":"VLOOKUP(K876,'Standard Labels'!$A$7:$AC$500,27)","v":0},{"$f":"VLOOKUP(K876,'Standard Labels'!$A$7:$AC$500,29)","v":0},875]
[{"$f":"VLOOKUP(K877,'Standard Labels'!$A$7:$AC$500,11)","v":0},{"$f":"VLOOKUP(K877,'Standard Labels'!$A$7:$AC$500,13)","v":0},{"$f":"VLOOKUP(K877,'Standard Labels'!$A$7:$AC$500,15)","v":0},{"$f":"VLOOKUP(K877,'Standard Labels'!$A$7:$AC$500,17)","v":0},{"$f":"VLOOKUP(K877,'Standard Labels'!$A$7:$AC$500,19)","v":0},{"$f":"VLOOKUP(K877,'Standard Labels'!$A$7:$AC$500,21)","v":0},{"$f":"VLOOKUP(K877,'Standard Labels'!$A$7:$AC$500,23)","v":0},{"$f":"VLOOKUP(K877,'Standard Labels'!$A$7:$AC$500,25)","v":0},{"$f":"VLOOKUP(K877,'Standard Labels'!$A$7:$AC$500,27)","v":0},{"$f":"VLOOKUP(K877,'Standard Labels'!$A$7:$AC$500,29)","v":0},876]
[{"$f":"VLOOKUP(K878,'Standard Labels'!$A$7:$AC$500,11)","v":0},{"$f":"VLOOKUP(K878,'Standard Labels'!$A$7:$AC$500,13)","v":0},{"$f":"VLOOKUP(K878,'Standard Labels'!$A$7:$AC$500,15)","v":0},{"$f":"VLOOKUP(K878,'Standard Labels'!$A$7:$AC$500,17)","v":0},{"$f":"VLOOKUP(K878,'Standard Labels'!$A$7:$AC$500,19)","v":0},{"$f":"VLOOKUP(K878,'Standard Labels'!$A$7:$AC$500,21)","v":0},{"$f":"VLOOKUP(K878,'Standard Labels'!$A$7:$AC$500,23)","v":0},{"$f":"VLOOKUP(K878,'Standard Labels'!$A$7:$AC$500,25)","v":0},{"$f":"VLOOKUP(K878,'Standard Labels'!$A$7:$AC$500,27)","v":0},{"$f":"VLOOKUP(K878,'Standard Labels'!$A$7:$AC$500,29)","v":0},877]
[{"$f":"VLOOKUP(K879,'Standard Labels'!$A$7:$AC$500,11)","v":0},{"$f":"VLOOKUP(K879,'Standard Labels'!$A$7:$AC$500,13)","v":0},{"$f":"VLOOKUP(K879,'Standard Labels'!$A$7:$AC$500,15)","v":0},{"$f":"VLOOKUP(K879,'Standard Labels'!$A$7:$AC$500,17)","v":0},{"$f":"VLOOKUP(K879,'Standard Labels'!$A$7:$AC$500,19)","v":0},{"$f":"VLOOKUP(K879,'Standard Labels'!$A$7:$AC$500,21)","v":0},{"$f":"VLOOKUP(K879,'Standard Labels'!$A$7:$AC$500,23)","v":0},{"$f":"VLOOKUP(K879,'Standard Labels'!$A$7:$AC$500,25)","v":0},{"$f":"VLOOKUP(K879,'Standard Labels'!$A$7:$AC$500,27)","v":0},{"$f":"VLOOKUP(K879,'Standard Labels'!$A$7:$AC$500,29)","v":0},878]
[{"$f":"VLOOKUP(K880,'Standard Labels'!$A$7:$AC$500,11)","v":0},{"$f":"VLOOKUP(K880,'Standard Labels'!$A$7:$AC$500,13)","v":0},{"$f":"VLOOKUP(K880,'Standard Labels'!$A$7:$AC$500,15)","v":0},{"$f":"VLOOKUP(K880,'Standard Labels'!$A$7:$AC$500,17)","v":0},{"$f":"VLOOKUP(K880,'Standard Labels'!$A$7:$AC$500,19)","v":0},{"$f":"VLOOKUP(K880,'Standard Labels'!$A$7:$AC$500,21)","v":0},{"$f":"VLOOKUP(K880,'Standard Labels'!$A$7:$AC$500,23)","v":0},{"$f":"VLOOKUP(K880,'Standard Labels'!$A$7:$AC$500,25)","v":0},{"$f":"VLOOKUP(K880,'Standard Labels'!$A$7:$AC$500,27)","v":0},{"$f":"VLOOKUP(K880,'Standard Labels'!$A$7:$AC$500,29)","v":0},879]
[{"$f":"VLOOKUP(K881,'Standard Labels'!$A$7:$AC$500,11)","v":0},{"$f":"VLOOKUP(K881,'Standard Labels'!$A$7:$AC$500,13)","v":0},{"$f":"VLOOKUP(K881,'Standard Labels'!$A$7:$AC$500,15)","v":0},{"$f":"VLOOKUP(K881,'Standard Labels'!$A$7:$AC$500,17)","v":0},{"$f":"VLOOKUP(K881,'Standard Labels'!$A$7:$AC$500,19)","v":0},{"$f":"VLOOKUP(K881,'Standard Labels'!$A$7:$AC$500,21)","v":0},{"$f":"VLOOKUP(K881,'Standard Labels'!$A$7:$AC$500,23)","v":0},{"$f":"VLOOKUP(K881,'Standard Labels'!$A$7:$AC$500,25)","v":0},{"$f":"VLOOKUP(K881,'Standard Labels'!$A$7:$AC$500,27)","v":0},{"$f":"VLOOKUP(K881,'Standard Labels'!$A$7:$AC$500,29)","v":0},880]
[{"$f":"VLOOKUP(K882,'Standard Labels'!$A$7:$AC$500,11)","v":0},{"$f":"VLOOKUP(K882,'Standard Labels'!$A$7:$AC$500,13)","v":0},{"$f":"VLOOKUP(K882,'Standard Labels'!$A$7:$AC$500,15)","v":0},{"$f":"VLOOKUP(K882,'Standard Labels'!$A$7:$AC$500,17)","v":0},{"$f":"VLOOKUP(K882,'Standard Labels'!$A$7:$AC$500,19)","v":0},{"$f":"VLOOKUP(K882,'Standard Labels'!$A$7:$AC$500,21)","v":0},{"$f":"VLOOKUP(K882,'Standard Labels'!$A$7:$AC$500,23)","v":0},{"$f":"VLOOKUP(K882,'Standard Labels'!$A$7:$AC$500,25)","v":0},{"$f":"VLOOKUP(K882,'Standard Labels'!$A$7:$AC$500,27)","v":0},{"$f":"VLOOKUP(K882,'Standard Labels'!$A$7:$AC$500,29)","v":0},881]
[{"$f":"VLOOKUP(K883,'Standard Labels'!$A$7:$AC$500,11)","v":0},{"$f":"VLOOKUP(K883,'Standard Labels'!$A$7:$AC$500,13)","v":0},{"$f":"VLOOKUP(K883,'Standard Labels'!$A$7:$AC$500,15)","v":0},{"$f":"VLOOKUP(K883,'Standard Labels'!$A$7:$AC$500,17)","v":0},{"$f":"VLOOKUP(K883,'Standard Labels'!$A$7:$AC$500,19)","v":0},{"$f":"VLOOKUP(K883,'Standard Labels'!$A$7:$AC$500,21)","v":0},{"$f":"VLOOKUP(K883,'Standard Labels'!$A$7:$AC$500,23)","v":0},{"$f":"VLOOKUP(K883,'Standard Labels'!$A$7:$AC$500,25)","v":0},{"$f":"VLOOKUP(K883,'Standard Labels'!$A$7:$AC$500,27)","v":0},{"$f":"VLOOKUP(K883,'Standard Labels'!$A$7:$AC$500,29)","v":0},882]
[{"$f":"VLOOKUP(K884,'Standard Labels'!$A$7:$AC$500,11)","v":0},{"$f":"VLOOKUP(K884,'Standard Labels'!$A$7:$AC$500,13)","v":0},{"$f":"VLOOKUP(K884,'Standard Labels'!$A$7:$AC$500,15)","v":0},{"$f":"VLOOKUP(K884,'Standard Labels'!$A$7:$AC$500,17)","v":0},{"$f":"VLOOKUP(K884,'Standard Labels'!$A$7:$AC$500,19)","v":0},{"$f":"VLOOKUP(K884,'Standard Labels'!$A$7:$AC$500,21)","v":0},{"$f":"VLOOKUP(K884,'Standard Labels'!$A$7:$AC$500,23)","v":0},{"$f":"VLOOKUP(K884,'Standard Labels'!$A$7:$AC$500,25)","v":0},{"$f":"VLOOKUP(K884,'Standard Labels'!$A$7:$AC$500,27)","v":0},{"$f":"VLOOKUP(K884,'Standard Labels'!$A$7:$AC$500,29)","v":0},883]
[{"$f":"VLOOKUP(K885,'Standard Labels'!$A$7:$AC$500,11)","v":0},{"$f":"VLOOKUP(K885,'Standard Labels'!$A$7:$AC$500,13)","v":0},{"$f":"VLOOKUP(K885,'Standard Labels'!$A$7:$AC$500,15)","v":0},{"$f":"VLOOKUP(K885,'Standard Labels'!$A$7:$AC$500,17)","v":0},{"$f":"VLOOKUP(K885,'Standard Labels'!$A$7:$AC$500,19)","v":0},{"$f":"VLOOKUP(K885,'Standard Labels'!$A$7:$AC$500,21)","v":0},{"$f":"VLOOKUP(K885,'Standard Labels'!$A$7:$AC$500,23)","v":0},{"$f":"VLOOKUP(K885,'Standard Labels'!$A$7:$AC$500,25)","v":0},{"$f":"VLOOKUP(K885,'Standard Labels'!$A$7:$AC$500,27)","v":0},{"$f":"VLOOKUP(K885,'Standard Labels'!$A$7:$AC$500,29)","v":0},884]
[{"$f":"VLOOKUP(K886,'Standard Labels'!$A$7:$AC$500,11)","v":0},{"$f":"VLOOKUP(K886,'Standard Labels'!$A$7:$AC$500,13)","v":0},{"$f":"VLOOKUP(K886,'Standard Labels'!$A$7:$AC$500,15)","v":0},{"$f":"VLOOKUP(K886,'Standard Labels'!$A$7:$AC$500,17)","v":0},{"$f":"VLOOKUP(K886,'Standard Labels'!$A$7:$AC$500,19)","v":0},{"$f":"VLOOKUP(K886,'Standard Labels'!$A$7:$AC$500,21)","v":0},{"$f":"VLOOKUP(K886,'Standard Labels'!$A$7:$AC$500,23)","v":0},{"$f":"VLOOKUP(K886,'Standard Labels'!$A$7:$AC$500,25)","v":0},{"$f":"VLOOKUP(K886,'Standard Labels'!$A$7:$AC$500,27)","v":0},{"$f":"VLOOKUP(K886,'Standard Labels'!$A$7:$AC$500,29)","v":0},885]
[{"$f":"VLOOKUP(K887,'Standard Labels'!$A$7:$AC$500,11)","v":0},{"$f":"VLOOKUP(K887,'Standard Labels'!$A$7:$AC$500,13)","v":0},{"$f":"VLOOKUP(K887,'Standard Labels'!$A$7:$AC$500,15)","v":0},{"$f":"VLOOKUP(K887,'Standard Labels'!$A$7:$AC$500,17)","v":0},{"$f":"VLOOKUP(K887,'Standard Labels'!$A$7:$AC$500,19)","v":0},{"$f":"VLOOKUP(K887,'Standard Labels'!$A$7:$AC$500,21)","v":0},{"$f":"VLOOKUP(K887,'Standard Labels'!$A$7:$AC$500,23)","v":0},{"$f":"VLOOKUP(K887,'Standard Labels'!$A$7:$AC$500,25)","v":0},{"$f":"VLOOKUP(K887,'Standard Labels'!$A$7:$AC$500,27)","v":0},{"$f":"VLOOKUP(K887,'Standard Labels'!$A$7:$AC$500,29)","v":0},886]
[{"$f":"VLOOKUP(K888,'Standard Labels'!$A$7:$AC$500,11)","v":0},{"$f":"VLOOKUP(K888,'Standard Labels'!$A$7:$AC$500,13)","v":0},{"$f":"VLOOKUP(K888,'Standard Labels'!$A$7:$AC$500,15)","v":0},{"$f":"VLOOKUP(K888,'Standard Labels'!$A$7:$AC$500,17)","v":0},{"$f":"VLOOKUP(K888,'Standard Labels'!$A$7:$AC$500,19)","v":0},{"$f":"VLOOKUP(K888,'Standard Labels'!$A$7:$AC$500,21)","v":0},{"$f":"VLOOKUP(K888,'Standard Labels'!$A$7:$AC$500,23)","v":0},{"$f":"VLOOKUP(K888,'Standard Labels'!$A$7:$AC$500,25)","v":0},{"$f":"VLOOKUP(K888,'Standard Labels'!$A$7:$AC$500,27)","v":0},{"$f":"VLOOKUP(K888,'Standard Labels'!$A$7:$AC$500,29)","v":0},887]
[{"$f":"VLOOKUP(K889,'Standard Labels'!$A$7:$AC$500,11)","v":0},{"$f":"VLOOKUP(K889,'Standard Labels'!$A$7:$AC$500,13)","v":0},{"$f":"VLOOKUP(K889,'Standard Labels'!$A$7:$AC$500,15)","v":0},{"$f":"VLOOKUP(K889,'Standard Labels'!$A$7:$AC$500,17)","v":0},{"$f":"VLOOKUP(K889,'Standard Labels'!$A$7:$AC$500,19)","v":0},{"$f":"VLOOKUP(K889,'Standard Labels'!$A$7:$AC$500,21)","v":0},{"$f":"VLOOKUP(K889,'Standard Labels'!$A$7:$AC$500,23)","v":0},{"$f":"VLOOKUP(K889,'Standard Labels'!$A$7:$AC$500,25)","v":0},{"$f":"VLOOKUP(K889,'Standard Labels'!$A$7:$AC$500,27)","v":0},{"$f":"VLOOKUP(K889,'Standard Labels'!$A$7:$AC$500,29)","v":0},888]
[{"$f":"VLOOKUP(K890,'Standard Labels'!$A$7:$AC$500,11)","v":0},{"$f":"VLOOKUP(K890,'Standard Labels'!$A$7:$AC$500,13)","v":0},{"$f":"VLOOKUP(K890,'Standard Labels'!$A$7:$AC$500,15)","v":0},{"$f":"VLOOKUP(K890,'Standard Labels'!$A$7:$AC$500,17)","v":0},{"$f":"VLOOKUP(K890,'Standard Labels'!$A$7:$AC$500,19)","v":0},{"$f":"VLOOKUP(K890,'Standard Labels'!$A$7:$AC$500,21)","v":0},{"$f":"VLOOKUP(K890,'Standard Labels'!$A$7:$AC$500,23)","v":0},{"$f":"VLOOKUP(K890,'Standard Labels'!$A$7:$AC$500,25)","v":0},{"$f":"VLOOKUP(K890,'Standard Labels'!$A$7:$AC$500,27)","v":0},{"$f":"VLOOKUP(K890,'Standard Labels'!$A$7:$AC$500,29)","v":0},889]
[{"$f":"VLOOKUP(K891,'Standard Labels'!$A$7:$AC$500,11)","v":0},{"$f":"VLOOKUP(K891,'Standard Labels'!$A$7:$AC$500,13)","v":0},{"$f":"VLOOKUP(K891,'Standard Labels'!$A$7:$AC$500,15)","v":0},{"$f":"VLOOKUP(K891,'Standard Labels'!$A$7:$AC$500,17)","v":0},{"$f":"VLOOKUP(K891,'Standard Labels'!$A$7:$AC$500,19)","v":0},{"$f":"VLOOKUP(K891,'Standard Labels'!$A$7:$AC$500,21)","v":0},{"$f":"VLOOKUP(K891,'Standard Labels'!$A$7:$AC$500,23)","v":0},{"$f":"VLOOKUP(K891,'Standard Labels'!$A$7:$AC$500,25)","v":0},{"$f":"VLOOKUP(K891,'Standard Labels'!$A$7:$AC$500,27)","v":0},{"$f":"VLOOKUP(K891,'Standard Labels'!$A$7:$AC$500,29)","v":0},890]
[{"$f":"VLOOKUP(K892,'Standard Labels'!$A$7:$AC$500,11)","v":0},{"$f":"VLOOKUP(K892,'Standard Labels'!$A$7:$AC$500,13)","v":0},{"$f":"VLOOKUP(K892,'Standard Labels'!$A$7:$AC$500,15)","v":0},{"$f":"VLOOKUP(K892,'Standard Labels'!$A$7:$AC$500,17)","v":0},{"$f":"VLOOKUP(K892,'Standard Labels'!$A$7:$AC$500,19)","v":0},{"$f":"VLOOKUP(K892,'Standard Labels'!$A$7:$AC$500,21)","v":0},{"$f":"VLOOKUP(K892,'Standard Labels'!$A$7:$AC$500,23)","v":0},{"$f":"VLOOKUP(K892,'Standard Labels'!$A$7:$AC$500,25)","v":0},{"$f":"VLOOKUP(K892,'Standard Labels'!$A$7:$AC$500,27)","v":0},{"$f":"VLOOKUP(K892,'Standard Labels'!$A$7:$AC$500,29)","v":0},891]
[{"$f":"VLOOKUP(K893,'Standard Labels'!$A$7:$AC$500,11)","v":0},{"$f":"VLOOKUP(K893,'Standard Labels'!$A$7:$AC$500,13)","v":0},{"$f":"VLOOKUP(K893,'Standard Labels'!$A$7:$AC$500,15)","v":0},{"$f":"VLOOKUP(K893,'Standard Labels'!$A$7:$AC$500,17)","v":0},{"$f":"VLOOKUP(K893,'Standard Labels'!$A$7:$AC$500,19)","v":0},{"$f":"VLOOKUP(K893,'Standard Labels'!$A$7:$AC$500,21)","v":0},{"$f":"VLOOKUP(K893,'Standard Labels'!$A$7:$AC$500,23)","v":0},{"$f":"VLOOKUP(K893,'Standard Labels'!$A$7:$AC$500,25)","v":0},{"$f":"VLOOKUP(K893,'Standard Labels'!$A$7:$AC$500,27)","v":0},{"$f":"VLOOKUP(K893,'Standard Labels'!$A$7:$AC$500,29)","v":0},892]
[{"$f":"VLOOKUP(K894,'Standard Labels'!$A$7:$AC$500,11)","v":0},{"$f":"VLOOKUP(K894,'Standard Labels'!$A$7:$AC$500,13)","v":0},{"$f":"VLOOKUP(K894,'Standard Labels'!$A$7:$AC$500,15)","v":0},{"$f":"VLOOKUP(K894,'Standard Labels'!$A$7:$AC$500,17)","v":0},{"$f":"VLOOKUP(K894,'Standard Labels'!$A$7:$AC$500,19)","v":0},{"$f":"VLOOKUP(K894,'Standard Labels'!$A$7:$AC$500,21)","v":0},{"$f":"VLOOKUP(K894,'Standard Labels'!$A$7:$AC$500,23)","v":0},{"$f":"VLOOKUP(K894,'Standard Labels'!$A$7:$AC$500,25)","v":0},{"$f":"VLOOKUP(K894,'Standard Labels'!$A$7:$AC$500,27)","v":0},{"$f":"VLOOKUP(K894,'Standard Labels'!$A$7:$AC$500,29)","v":0},893]
[{"$f":"VLOOKUP(K895,'Standard Labels'!$A$7:$AC$500,11)","v":0},{"$f":"VLOOKUP(K895,'Standard Labels'!$A$7:$AC$500,13)","v":0},{"$f":"VLOOKUP(K895,'Standard Labels'!$A$7:$AC$500,15)","v":0},{"$f":"VLOOKUP(K895,'Standard Labels'!$A$7:$AC$500,17)","v":0},{"$f":"VLOOKUP(K895,'Standard Labels'!$A$7:$AC$500,19)","v":0},{"$f":"VLOOKUP(K895,'Standard Labels'!$A$7:$AC$500,21)","v":0},{"$f":"VLOOKUP(K895,'Standard Labels'!$A$7:$AC$500,23)","v":0},{"$f":"VLOOKUP(K895,'Standard Labels'!$A$7:$AC$500,25)","v":0},{"$f":"VLOOKUP(K895,'Standard Labels'!$A$7:$AC$500,27)","v":0},{"$f":"VLOOKUP(K895,'Standard Labels'!$A$7:$AC$500,29)","v":0},894]
[{"$f":"VLOOKUP(K896,'Standard Labels'!$A$7:$AC$500,11)","v":0},{"$f":"VLOOKUP(K896,'Standard Labels'!$A$7:$AC$500,13)","v":0},{"$f":"VLOOKUP(K896,'Standard Labels'!$A$7:$AC$500,15)","v":0},{"$f":"VLOOKUP(K896,'Standard Labels'!$A$7:$AC$500,17)","v":0},{"$f":"VLOOKUP(K896,'Standard Labels'!$A$7:$AC$500,19)","v":0},{"$f":"VLOOKUP(K896,'Standard Labels'!$A$7:$AC$500,21)","v":0},{"$f":"VLOOKUP(K896,'Standard Labels'!$A$7:$AC$500,23)","v":0},{"$f":"VLOOKUP(K896,'Standard Labels'!$A$7:$AC$500,25)","v":0},{"$f":"VLOOKUP(K896,'Standard Labels'!$A$7:$AC$500,27)","v":0},{"$f":"VLOOKUP(K896,'Standard Labels'!$A$7:$AC$500,29)","v":0},895]
[{"$f":"VLOOKUP(K897,'Standard Labels'!$A$7:$AC$500,11)","v":0},{"$f":"VLOOKUP(K897,'Standard Labels'!$A$7:$AC$500,13)","v":0},{"$f":"VLOOKUP(K897,'Standard Labels'!$A$7:$AC$500,15)","v":0},{"$f":"VLOOKUP(K897,'Standard Labels'!$A$7:$AC$500,17)","v":0},{"$f":"VLOOKUP(K897,'Standard Labels'!$A$7:$AC$500,19)","v":0},{"$f":"VLOOKUP(K897,'Standard Labels'!$A$7:$AC$500,21)","v":0},{"$f":"VLOOKUP(K897,'Standard Labels'!$A$7:$AC$500,23)","v":0},{"$f":"VLOOKUP(K897,'Standard Labels'!$A$7:$AC$500,25)","v":0},{"$f":"VLOOKUP(K897,'Standard Labels'!$A$7:$AC$500,27)","v":0},{"$f":"VLOOKUP(K897,'Standard Labels'!$A$7:$AC$500,29)","v":0},896]
[{"$f":"VLOOKUP(K898,'Standard Labels'!$A$7:$AC$500,11)","v":0},{"$f":"VLOOKUP(K898,'Standard Labels'!$A$7:$AC$500,13)","v":0},{"$f":"VLOOKUP(K898,'Standard Labels'!$A$7:$AC$500,15)","v":0},{"$f":"VLOOKUP(K898,'Standard Labels'!$A$7:$AC$500,17)","v":0},{"$f":"VLOOKUP(K898,'Standard Labels'!$A$7:$AC$500,19)","v":0},{"$f":"VLOOKUP(K898,'Standard Labels'!$A$7:$AC$500,21)","v":0},{"$f":"VLOOKUP(K898,'Standard Labels'!$A$7:$AC$500,23)","v":0},{"$f":"VLOOKUP(K898,'Standard Labels'!$A$7:$AC$500,25)","v":0},{"$f":"VLOOKUP(K898,'Standard Labels'!$A$7:$AC$500,27)","v":0},{"$f":"VLOOKUP(K898,'Standard Labels'!$A$7:$AC$500,29)","v":0},897]
[{"$f":"VLOOKUP(K899,'Standard Labels'!$A$7:$AC$500,11)","v":0},{"$f":"VLOOKUP(K899,'Standard Labels'!$A$7:$AC$500,13)","v":0},{"$f":"VLOOKUP(K899,'Standard Labels'!$A$7:$AC$500,15)","v":0},{"$f":"VLOOKUP(K899,'Standard Labels'!$A$7:$AC$500,17)","v":0},{"$f":"VLOOKUP(K899,'Standard Labels'!$A$7:$AC$500,19)","v":0},{"$f":"VLOOKUP(K899,'Standard Labels'!$A$7:$AC$500,21)","v":0},{"$f":"VLOOKUP(K899,'Standard Labels'!$A$7:$AC$500,23)","v":0},{"$f":"VLOOKUP(K899,'Standard Labels'!$A$7:$AC$500,25)","v":0},{"$f":"VLOOKUP(K899,'Standard Labels'!$A$7:$AC$500,27)","v":0},{"$f":"VLOOKUP(K899,'Standard Labels'!$A$7:$AC$500,29)","v":0},898]
[{"$f":"VLOOKUP(K900,'Standard Labels'!$A$7:$AC$500,11)","v":0},{"$f":"VLOOKUP(K900,'Standard Labels'!$A$7:$AC$500,13)","v":0},{"$f":"VLOOKUP(K900,'Standard Labels'!$A$7:$AC$500,15)","v":0},{"$f":"VLOOKUP(K900,'Standard Labels'!$A$7:$AC$500,17)","v":0},{"$f":"VLOOKUP(K900,'Standard Labels'!$A$7:$AC$500,19)","v":0},{"$f":"VLOOKUP(K900,'Standard Labels'!$A$7:$AC$500,21)","v":0},{"$f":"VLOOKUP(K900,'Standard Labels'!$A$7:$AC$500,23)","v":0},{"$f":"VLOOKUP(K900,'Standard Labels'!$A$7:$AC$500,25)","v":0},{"$f":"VLOOKUP(K900,'Standard Labels'!$A$7:$AC$500,27)","v":0},{"$f":"VLOOKUP(K900,'Standard Labels'!$A$7:$AC$500,29)","v":0},899]
[{"$f":"VLOOKUP(K901,'Standard Labels'!$A$7:$AC$500,11)","v":0},{"$f":"VLOOKUP(K901,'Standard Labels'!$A$7:$AC$500,13)","v":0},{"$f":"VLOOKUP(K901,'Standard Labels'!$A$7:$AC$500,15)","v":0},{"$f":"VLOOKUP(K901,'Standard Labels'!$A$7:$AC$500,17)","v":0},{"$f":"VLOOKUP(K901,'Standard Labels'!$A$7:$AC$500,19)","v":0},{"$f":"VLOOKUP(K901,'Standard Labels'!$A$7:$AC$500,21)","v":0},{"$f":"VLOOKUP(K901,'Standard Labels'!$A$7:$AC$500,23)","v":0},{"$f":"VLOOKUP(K901,'Standard Labels'!$A$7:$AC$500,25)","v":0},{"$f":"VLOOKUP(K901,'Standard Labels'!$A$7:$AC$500,27)","v":0},{"$f":"VLOOKUP(K901,'Standard Labels'!$A$7:$AC$500,29)","v":0},900]
[{"$f":"VLOOKUP(K902,'Standard Labels'!$A$7:$AC$500,11)","v":0},{"$f":"VLOOKUP(K902,'Standard Labels'!$A$7:$AC$500,13)","v":0},{"$f":"VLOOKUP(K902,'Standard Labels'!$A$7:$AC$500,15)","v":0},{"$f":"VLOOKUP(K902,'Standard Labels'!$A$7:$AC$500,17)","v":0},{"$f":"VLOOKUP(K902,'Standard Labels'!$A$7:$AC$500,19)","v":0},{"$f":"VLOOKUP(K902,'Standard Labels'!$A$7:$AC$500,21)","v":0},{"$f":"VLOOKUP(K902,'Standard Labels'!$A$7:$AC$500,23)","v":0},{"$f":"VLOOKUP(K902,'Standard Labels'!$A$7:$AC$500,25)","v":0},{"$f":"VLOOKUP(K902,'Standard Labels'!$A$7:$AC$500,27)","v":0},{"$f":"VLOOKUP(K902,'Standard Labels'!$A$7:$AC$500,29)","v":0},901]
[{"$f":"VLOOKUP(K903,'Standard Labels'!$A$7:$AC$500,11)","v":0},{"$f":"VLOOKUP(K903,'Standard Labels'!$A$7:$AC$500,13)","v":0},{"$f":"VLOOKUP(K903,'Standard Labels'!$A$7:$AC$500,15)","v":0},{"$f":"VLOOKUP(K903,'Standard Labels'!$A$7:$AC$500,17)","v":0},{"$f":"VLOOKUP(K903,'Standard Labels'!$A$7:$AC$500,19)","v":0},{"$f":"VLOOKUP(K903,'Standard Labels'!$A$7:$AC$500,21)","v":0},{"$f":"VLOOKUP(K903,'Standard Labels'!$A$7:$AC$500,23)","v":0},{"$f":"VLOOKUP(K903,'Standard Labels'!$A$7:$AC$500,25)","v":0},{"$f":"VLOOKUP(K903,'Standard Labels'!$A$7:$AC$500,27)","v":0},{"$f":"VLOOKUP(K903,'Standard Labels'!$A$7:$AC$500,29)","v":0},902]
[{"$f":"VLOOKUP(K904,'Standard Labels'!$A$7:$AC$500,11)","v":0},{"$f":"VLOOKUP(K904,'Standard Labels'!$A$7:$AC$500,13)","v":0},{"$f":"VLOOKUP(K904,'Standard Labels'!$A$7:$AC$500,15)","v":0},{"$f":"VLOOKUP(K904,'Standard Labels'!$A$7:$AC$500,17)","v":0},{"$f":"VLOOKUP(K904,'Standard Labels'!$A$7:$AC$500,19)","v":0},{"$f":"VLOOKUP(K904,'Standard Labels'!$A$7:$AC$500,21)","v":0},{"$f":"VLOOKUP(K904,'Standard Labels'!$A$7:$AC$500,23)","v":0},{"$f":"VLOOKUP(K904,'Standard Labels'!$A$7:$AC$500,25)","v":0},{"$f":"VLOOKUP(K904,'Standard Labels'!$A$7:$AC$500,27)","v":0},{"$f":"VLOOKUP(K904,'Standard Labels'!$A$7:$AC$500,29)","v":0},903]
[{"$f":"VLOOKUP(K905,'Standard Labels'!$A$7:$AC$500,11)","v":0},{"$f":"VLOOKUP(K905,'Standard Labels'!$A$7:$AC$500,13)","v":0},{"$f":"VLOOKUP(K905,'Standard Labels'!$A$7:$AC$500,15)","v":0},{"$f":"VLOOKUP(K905,'Standard Labels'!$A$7:$AC$500,17)","v":0},{"$f":"VLOOKUP(K905,'Standard Labels'!$A$7:$AC$500,19)","v":0},{"$f":"VLOOKUP(K905,'Standard Labels'!$A$7:$AC$500,21)","v":0},{"$f":"VLOOKUP(K905,'Standard Labels'!$A$7:$AC$500,23)","v":0},{"$f":"VLOOKUP(K905,'Standard Labels'!$A$7:$AC$500,25)","v":0},{"$f":"VLOOKUP(K905,'Standard Labels'!$A$7:$AC$500,27)","v":0},{"$f":"VLOOKUP(K905,'Standard Labels'!$A$7:$AC$500,29)","v":0},904]
[{"$f":"VLOOKUP(K906,'Standard Labels'!$A$7:$AC$500,11)","v":0},{"$f":"VLOOKUP(K906,'Standard Labels'!$A$7:$AC$500,13)","v":0},{"$f":"VLOOKUP(K906,'Standard Labels'!$A$7:$AC$500,15)","v":0},{"$f":"VLOOKUP(K906,'Standard Labels'!$A$7:$AC$500,17)","v":0},{"$f":"VLOOKUP(K906,'Standard Labels'!$A$7:$AC$500,19)","v":0},{"$f":"VLOOKUP(K906,'Standard Labels'!$A$7:$AC$500,21)","v":0},{"$f":"VLOOKUP(K906,'Standard Labels'!$A$7:$AC$500,23)","v":0},{"$f":"VLOOKUP(K906,'Standard Labels'!$A$7:$AC$500,25)","v":0},{"$f":"VLOOKUP(K906,'Standard Labels'!$A$7:$AC$500,27)","v":0},{"$f":"VLOOKUP(K906,'Standard Labels'!$A$7:$AC$500,29)","v":0},905]
[{"$f":"VLOOKUP(K907,'Standard Labels'!$A$7:$AC$500,11)","v":0},{"$f":"VLOOKUP(K907,'Standard Labels'!$A$7:$AC$500,13)","v":0},{"$f":"VLOOKUP(K907,'Standard Labels'!$A$7:$AC$500,15)","v":0},{"$f":"VLOOKUP(K907,'Standard Labels'!$A$7:$AC$500,17)","v":0},{"$f":"VLOOKUP(K907,'Standard Labels'!$A$7:$AC$500,19)","v":0},{"$f":"VLOOKUP(K907,'Standard Labels'!$A$7:$AC$500,21)","v":0},{"$f":"VLOOKUP(K907,'Standard Labels'!$A$7:$AC$500,23)","v":0},{"$f":"VLOOKUP(K907,'Standard Labels'!$A$7:$AC$500,25)","v":0},{"$f":"VLOOKUP(K907,'Standard Labels'!$A$7:$AC$500,27)","v":0},{"$f":"VLOOKUP(K907,'Standard Labels'!$A$7:$AC$500,29)","v":0},906]
[{"$f":"VLOOKUP(K908,'Standard Labels'!$A$7:$AC$500,11)","v":0},{"$f":"VLOOKUP(K908,'Standard Labels'!$A$7:$AC$500,13)","v":0},{"$f":"VLOOKUP(K908,'Standard Labels'!$A$7:$AC$500,15)","v":0},{"$f":"VLOOKUP(K908,'Standard Labels'!$A$7:$AC$500,17)","v":0},{"$f":"VLOOKUP(K908,'Standard Labels'!$A$7:$AC$500,19)","v":0},{"$f":"VLOOKUP(K908,'Standard Labels'!$A$7:$AC$500,21)","v":0},{"$f":"VLOOKUP(K908,'Standard Labels'!$A$7:$AC$500,23)","v":0},{"$f":"VLOOKUP(K908,'Standard Labels'!$A$7:$AC$500,25)","v":0},{"$f":"VLOOKUP(K908,'Standard Labels'!$A$7:$AC$500,27)","v":0},{"$f":"VLOOKUP(K908,'Standard Labels'!$A$7:$AC$500,29)","v":0},907]
[{"$f":"VLOOKUP(K909,'Standard Labels'!$A$7:$AC$500,11)","v":0},{"$f":"VLOOKUP(K909,'Standard Labels'!$A$7:$AC$500,13)","v":0},{"$f":"VLOOKUP(K909,'Standard Labels'!$A$7:$AC$500,15)","v":0},{"$f":"VLOOKUP(K909,'Standard Labels'!$A$7:$AC$500,17)","v":0},{"$f":"VLOOKUP(K909,'Standard Labels'!$A$7:$AC$500,19)","v":0},{"$f":"VLOOKUP(K909,'Standard Labels'!$A$7:$AC$500,21)","v":0},{"$f":"VLOOKUP(K909,'Standard Labels'!$A$7:$AC$500,23)","v":0},{"$f":"VLOOKUP(K909,'Standard Labels'!$A$7:$AC$500,25)","v":0},{"$f":"VLOOKUP(K909,'Standard Labels'!$A$7:$AC$500,27)","v":0},{"$f":"VLOOKUP(K909,'Standard Labels'!$A$7:$AC$500,29)","v":0},908]
[{"$f":"VLOOKUP(K910,'Standard Labels'!$A$7:$AC$500,11)","v":0},{"$f":"VLOOKUP(K910,'Standard Labels'!$A$7:$AC$500,13)","v":0},{"$f":"VLOOKUP(K910,'Standard Labels'!$A$7:$AC$500,15)","v":0},{"$f":"VLOOKUP(K910,'Standard Labels'!$A$7:$AC$500,17)","v":0},{"$f":"VLOOKUP(K910,'Standard Labels'!$A$7:$AC$500,19)","v":0},{"$f":"VLOOKUP(K910,'Standard Labels'!$A$7:$AC$500,21)","v":0},{"$f":"VLOOKUP(K910,'Standard Labels'!$A$7:$AC$500,23)","v":0},{"$f":"VLOOKUP(K910,'Standard Labels'!$A$7:$AC$500,25)","v":0},{"$f":"VLOOKUP(K910,'Standard Labels'!$A$7:$AC$500,27)","v":0},{"$f":"VLOOKUP(K910,'Standard Labels'!$A$7:$AC$500,29)","v":0},909]
[{"$f":"VLOOKUP(K911,'Standard Labels'!$A$7:$AC$500,11)","v":0},{"$f":"VLOOKUP(K911,'Standard Labels'!$A$7:$AC$500,13)","v":0},{"$f":"VLOOKUP(K911,'Standard Labels'!$A$7:$AC$500,15)","v":0},{"$f":"VLOOKUP(K911,'Standard Labels'!$A$7:$AC$500,17)","v":0},{"$f":"VLOOKUP(K911,'Standard Labels'!$A$7:$AC$500,19)","v":0},{"$f":"VLOOKUP(K911,'Standard Labels'!$A$7:$AC$500,21)","v":0},{"$f":"VLOOKUP(K911,'Standard Labels'!$A$7:$AC$500,23)","v":0},{"$f":"VLOOKUP(K911,'Standard Labels'!$A$7:$AC$500,25)","v":0},{"$f":"VLOOKUP(K911,'Standard Labels'!$A$7:$AC$500,27)","v":0},{"$f":"VLOOKUP(K911,'Standard Labels'!$A$7:$AC$500,29)","v":0},910]
[{"$f":"VLOOKUP(K912,'Standard Labels'!$A$7:$AC$500,11)","v":0},{"$f":"VLOOKUP(K912,'Standard Labels'!$A$7:$AC$500,13)","v":0},{"$f":"VLOOKUP(K912,'Standard Labels'!$A$7:$AC$500,15)","v":0},{"$f":"VLOOKUP(K912,'Standard Labels'!$A$7:$AC$500,17)","v":0},{"$f":"VLOOKUP(K912,'Standard Labels'!$A$7:$AC$500,19)","v":0},{"$f":"VLOOKUP(K912,'Standard Labels'!$A$7:$AC$500,21)","v":0},{"$f":"VLOOKUP(K912,'Standard Labels'!$A$7:$AC$500,23)","v":0},{"$f":"VLOOKUP(K912,'Standard Labels'!$A$7:$AC$500,25)","v":0},{"$f":"VLOOKUP(K912,'Standard Labels'!$A$7:$AC$500,27)","v":0},{"$f":"VLOOKUP(K912,'Standard Labels'!$A$7:$AC$500,29)","v":0},911]
[{"$f":"VLOOKUP(K913,'Standard Labels'!$A$7:$AC$500,11)","v":0},{"$f":"VLOOKUP(K913,'Standard Labels'!$A$7:$AC$500,13)","v":0},{"$f":"VLOOKUP(K913,'Standard Labels'!$A$7:$AC$500,15)","v":0},{"$f":"VLOOKUP(K913,'Standard Labels'!$A$7:$AC$500,17)","v":0},{"$f":"VLOOKUP(K913,'Standard Labels'!$A$7:$AC$500,19)","v":0},{"$f":"VLOOKUP(K913,'Standard Labels'!$A$7:$AC$500,21)","v":0},{"$f":"VLOOKUP(K913,'Standard Labels'!$A$7:$AC$500,23)","v":0},{"$f":"VLOOKUP(K913,'Standard Labels'!$A$7:$AC$500,25)","v":0},{"$f":"VLOOKUP(K913,'Standard Labels'!$A$7:$AC$500,27)","v":0},{"$f":"VLOOKUP(K913,'Standard Labels'!$A$7:$AC$500,29)","v":0},912]
[{"$f":"VLOOKUP(K914,'Standard Labels'!$A$7:$AC$500,11)","v":0},{"$f":"VLOOKUP(K914,'Standard Labels'!$A$7:$AC$500,13)","v":0},{"$f":"VLOOKUP(K914,'Standard Labels'!$A$7:$AC$500,15)","v":0},{"$f":"VLOOKUP(K914,'Standard Labels'!$A$7:$AC$500,17)","v":0},{"$f":"VLOOKUP(K914,'Standard Labels'!$A$7:$AC$500,19)","v":0},{"$f":"VLOOKUP(K914,'Standard Labels'!$A$7:$AC$500,21)","v":0},{"$f":"VLOOKUP(K914,'Standard Labels'!$A$7:$AC$500,23)","v":0},{"$f":"VLOOKUP(K914,'Standard Labels'!$A$7:$AC$500,25)","v":0},{"$f":"VLOOKUP(K914,'Standard Labels'!$A$7:$AC$500,27)","v":0},{"$f":"VLOOKUP(K914,'Standard Labels'!$A$7:$AC$500,29)","v":0},913]
[{"$f":"VLOOKUP(K915,'Standard Labels'!$A$7:$AC$500,11)","v":0},{"$f":"VLOOKUP(K915,'Standard Labels'!$A$7:$AC$500,13)","v":0},{"$f":"VLOOKUP(K915,'Standard Labels'!$A$7:$AC$500,15)","v":0},{"$f":"VLOOKUP(K915,'Standard Labels'!$A$7:$AC$500,17)","v":0},{"$f":"VLOOKUP(K915,'Standard Labels'!$A$7:$AC$500,19)","v":0},{"$f":"VLOOKUP(K915,'Standard Labels'!$A$7:$AC$500,21)","v":0},{"$f":"VLOOKUP(K915,'Standard Labels'!$A$7:$AC$500,23)","v":0},{"$f":"VLOOKUP(K915,'Standard Labels'!$A$7:$AC$500,25)","v":0},{"$f":"VLOOKUP(K915,'Standard Labels'!$A$7:$AC$500,27)","v":0},{"$f":"VLOOKUP(K915,'Standard Labels'!$A$7:$AC$500,29)","v":0},914]
[{"$f":"VLOOKUP(K916,'Standard Labels'!$A$7:$AC$500,11)","v":0},{"$f":"VLOOKUP(K916,'Standard Labels'!$A$7:$AC$500,13)","v":0},{"$f":"VLOOKUP(K916,'Standard Labels'!$A$7:$AC$500,15)","v":0},{"$f":"VLOOKUP(K916,'Standard Labels'!$A$7:$AC$500,17)","v":0},{"$f":"VLOOKUP(K916,'Standard Labels'!$A$7:$AC$500,19)","v":0},{"$f":"VLOOKUP(K916,'Standard Labels'!$A$7:$AC$500,21)","v":0},{"$f":"VLOOKUP(K916,'Standard Labels'!$A$7:$AC$500,23)","v":0},{"$f":"VLOOKUP(K916,'Standard Labels'!$A$7:$AC$500,25)","v":0},{"$f":"VLOOKUP(K916,'Standard Labels'!$A$7:$AC$500,27)","v":0},{"$f":"VLOOKUP(K916,'Standard Labels'!$A$7:$AC$500,29)","v":0},915]
[{"$f":"VLOOKUP(K917,'Standard Labels'!$A$7:$AC$500,11)","v":0},{"$f":"VLOOKUP(K917,'Standard Labels'!$A$7:$AC$500,13)","v":0},{"$f":"VLOOKUP(K917,'Standard Labels'!$A$7:$AC$500,15)","v":0},{"$f":"VLOOKUP(K917,'Standard Labels'!$A$7:$AC$500,17)","v":0},{"$f":"VLOOKUP(K917,'Standard Labels'!$A$7:$AC$500,19)","v":0},{"$f":"VLOOKUP(K917,'Standard Labels'!$A$7:$AC$500,21)","v":0},{"$f":"VLOOKUP(K917,'Standard Labels'!$A$7:$AC$500,23)","v":0},{"$f":"VLOOKUP(K917,'Standard Labels'!$A$7:$AC$500,25)","v":0},{"$f":"VLOOKUP(K917,'Standard Labels'!$A$7:$AC$500,27)","v":0},{"$f":"VLOOKUP(K917,'Standard Labels'!$A$7:$AC$500,29)","v":0},916]
[{"$f":"VLOOKUP(K918,'Standard Labels'!$A$7:$AC$500,11)","v":0},{"$f":"VLOOKUP(K918,'Standard Labels'!$A$7:$AC$500,13)","v":0},{"$f":"VLOOKUP(K918,'Standard Labels'!$A$7:$AC$500,15)","v":0},{"$f":"VLOOKUP(K918,'Standard Labels'!$A$7:$AC$500,17)","v":0},{"$f":"VLOOKUP(K918,'Standard Labels'!$A$7:$AC$500,19)","v":0},{"$f":"VLOOKUP(K918,'Standard Labels'!$A$7:$AC$500,21)","v":0},{"$f":"VLOOKUP(K918,'Standard Labels'!$A$7:$AC$500,23)","v":0},{"$f":"VLOOKUP(K918,'Standard Labels'!$A$7:$AC$500,25)","v":0},{"$f":"VLOOKUP(K918,'Standard Labels'!$A$7:$AC$500,27)","v":0},{"$f":"VLOOKUP(K918,'Standard Labels'!$A$7:$AC$500,29)","v":0},917]
[{"$f":"VLOOKUP(K919,'Standard Labels'!$A$7:$AC$500,11)","v":0},{"$f":"VLOOKUP(K919,'Standard Labels'!$A$7:$AC$500,13)","v":0},{"$f":"VLOOKUP(K919,'Standard Labels'!$A$7:$AC$500,15)","v":0},{"$f":"VLOOKUP(K919,'Standard Labels'!$A$7:$AC$500,17)","v":0},{"$f":"VLOOKUP(K919,'Standard Labels'!$A$7:$AC$500,19)","v":0},{"$f":"VLOOKUP(K919,'Standard Labels'!$A$7:$AC$500,21)","v":0},{"$f":"VLOOKUP(K919,'Standard Labels'!$A$7:$AC$500,23)","v":0},{"$f":"VLOOKUP(K919,'Standard Labels'!$A$7:$AC$500,25)","v":0},{"$f":"VLOOKUP(K919,'Standard Labels'!$A$7:$AC$500,27)","v":0},{"$f":"VLOOKUP(K919,'Standard Labels'!$A$7:$AC$500,29)","v":0},918]
[{"$f":"VLOOKUP(K920,'Standard Labels'!$A$7:$AC$500,11)","v":0},{"$f":"VLOOKUP(K920,'Standard Labels'!$A$7:$AC$500,13)","v":0},{"$f":"VLOOKUP(K920,'Standard Labels'!$A$7:$AC$500,15)","v":0},{"$f":"VLOOKUP(K920,'Standard Labels'!$A$7:$AC$500,17)","v":0},{"$f":"VLOOKUP(K920,'Standard Labels'!$A$7:$AC$500,19)","v":0},{"$f":"VLOOKUP(K920,'Standard Labels'!$A$7:$AC$500,21)","v":0},{"$f":"VLOOKUP(K920,'Standard Labels'!$A$7:$AC$500,23)","v":0},{"$f":"VLOOKUP(K920,'Standard Labels'!$A$7:$AC$500,25)","v":0},{"$f":"VLOOKUP(K920,'Standard Labels'!$A$7:$AC$500,27)","v":0},{"$f":"VLOOKUP(K920,'Standard Labels'!$A$7:$AC$500,29)","v":0},919]
[{"$f":"VLOOKUP(K921,'Standard Labels'!$A$7:$AC$500,11)","v":0},{"$f":"VLOOKUP(K921,'Standard Labels'!$A$7:$AC$500,13)","v":0},{"$f":"VLOOKUP(K921,'Standard Labels'!$A$7:$AC$500,15)","v":0},{"$f":"VLOOKUP(K921,'Standard Labels'!$A$7:$AC$500,17)","v":0},{"$f":"VLOOKUP(K921,'Standard Labels'!$A$7:$AC$500,19)","v":0},{"$f":"VLOOKUP(K921,'Standard Labels'!$A$7:$AC$500,21)","v":0},{"$f":"VLOOKUP(K921,'Standard Labels'!$A$7:$AC$500,23)","v":0},{"$f":"VLOOKUP(K921,'Standard Labels'!$A$7:$AC$500,25)","v":0},{"$f":"VLOOKUP(K921,'Standard Labels'!$A$7:$AC$500,27)","v":0},{"$f":"VLOOKUP(K921,'Standard Labels'!$A$7:$AC$500,29)","v":0},920]
[{"$f":"VLOOKUP(K922,'Standard Labels'!$A$7:$AC$500,11)","v":0},{"$f":"VLOOKUP(K922,'Standard Labels'!$A$7:$AC$500,13)","v":0},{"$f":"VLOOKUP(K922,'Standard Labels'!$A$7:$AC$500,15)","v":0},{"$f":"VLOOKUP(K922,'Standard Labels'!$A$7:$AC$500,17)","v":0},{"$f":"VLOOKUP(K922,'Standard Labels'!$A$7:$AC$500,19)","v":0},{"$f":"VLOOKUP(K922,'Standard Labels'!$A$7:$AC$500,21)","v":0},{"$f":"VLOOKUP(K922,'Standard Labels'!$A$7:$AC$500,23)","v":0},{"$f":"VLOOKUP(K922,'Standard Labels'!$A$7:$AC$500,25)","v":0},{"$f":"VLOOKUP(K922,'Standard Labels'!$A$7:$AC$500,27)","v":0},{"$f":"VLOOKUP(K922,'Standard Labels'!$A$7:$AC$500,29)","v":0},921]
[{"$f":"VLOOKUP(K923,'Standard Labels'!$A$7:$AC$500,11)","v":0},{"$f":"VLOOKUP(K923,'Standard Labels'!$A$7:$AC$500,13)","v":0},{"$f":"VLOOKUP(K923,'Standard Labels'!$A$7:$AC$500,15)","v":0},{"$f":"VLOOKUP(K923,'Standard Labels'!$A$7:$AC$500,17)","v":0},{"$f":"VLOOKUP(K923,'Standard Labels'!$A$7:$AC$500,19)","v":0},{"$f":"VLOOKUP(K923,'Standard Labels'!$A$7:$AC$500,21)","v":0},{"$f":"VLOOKUP(K923,'Standard Labels'!$A$7:$AC$500,23)","v":0},{"$f":"VLOOKUP(K923,'Standard Labels'!$A$7:$AC$500,25)","v":0},{"$f":"VLOOKUP(K923,'Standard Labels'!$A$7:$AC$500,27)","v":0},{"$f":"VLOOKUP(K923,'Standard Labels'!$A$7:$AC$500,29)","v":0},922]
[{"$f":"VLOOKUP(K924,'Standard Labels'!$A$7:$AC$500,11)","v":0},{"$f":"VLOOKUP(K924,'Standard Labels'!$A$7:$AC$500,13)","v":0},{"$f":"VLOOKUP(K924,'Standard Labels'!$A$7:$AC$500,15)","v":0},{"$f":"VLOOKUP(K924,'Standard Labels'!$A$7:$AC$500,17)","v":0},{"$f":"VLOOKUP(K924,'Standard Labels'!$A$7:$AC$500,19)","v":0},{"$f":"VLOOKUP(K924,'Standard Labels'!$A$7:$AC$500,21)","v":0},{"$f":"VLOOKUP(K924,'Standard Labels'!$A$7:$AC$500,23)","v":0},{"$f":"VLOOKUP(K924,'Standard Labels'!$A$7:$AC$500,25)","v":0},{"$f":"VLOOKUP(K924,'Standard Labels'!$A$7:$AC$500,27)","v":0},{"$f":"VLOOKUP(K924,'Standard Labels'!$A$7:$AC$500,29)","v":0},923]
[{"$f":"VLOOKUP(K925,'Standard Labels'!$A$7:$AC$500,11)","v":0},{"$f":"VLOOKUP(K925,'Standard Labels'!$A$7:$AC$500,13)","v":0},{"$f":"VLOOKUP(K925,'Standard Labels'!$A$7:$AC$500,15)","v":0},{"$f":"VLOOKUP(K925,'Standard Labels'!$A$7:$AC$500,17)","v":0},{"$f":"VLOOKUP(K925,'Standard Labels'!$A$7:$AC$500,19)","v":0},{"$f":"VLOOKUP(K925,'Standard Labels'!$A$7:$AC$500,21)","v":0},{"$f":"VLOOKUP(K925,'Standard Labels'!$A$7:$AC$500,23)","v":0},{"$f":"VLOOKUP(K925,'Standard Labels'!$A$7:$AC$500,25)","v":0},{"$f":"VLOOKUP(K925,'Standard Labels'!$A$7:$AC$500,27)","v":0},{"$f":"VLOOKUP(K925,'Standard Labels'!$A$7:$AC$500,29)","v":0},924]
[{"$f":"VLOOKUP(K926,'Standard Labels'!$A$7:$AC$500,11)","v":0},{"$f":"VLOOKUP(K926,'Standard Labels'!$A$7:$AC$500,13)","v":0},{"$f":"VLOOKUP(K926,'Standard Labels'!$A$7:$AC$500,15)","v":0},{"$f":"VLOOKUP(K926,'Standard Labels'!$A$7:$AC$500,17)","v":0},{"$f":"VLOOKUP(K926,'Standard Labels'!$A$7:$AC$500,19)","v":0},{"$f":"VLOOKUP(K926,'Standard Labels'!$A$7:$AC$500,21)","v":0},{"$f":"VLOOKUP(K926,'Standard Labels'!$A$7:$AC$500,23)","v":0},{"$f":"VLOOKUP(K926,'Standard Labels'!$A$7:$AC$500,25)","v":0},{"$f":"VLOOKUP(K926,'Standard Labels'!$A$7:$AC$500,27)","v":0},{"$f":"VLOOKUP(K926,'Standard Labels'!$A$7:$AC$500,29)","v":0},925]
[{"$f":"VLOOKUP(K927,'Standard Labels'!$A$7:$AC$500,11)","v":0},{"$f":"VLOOKUP(K927,'Standard Labels'!$A$7:$AC$500,13)","v":0},{"$f":"VLOOKUP(K927,'Standard Labels'!$A$7:$AC$500,15)","v":0},{"$f":"VLOOKUP(K927,'Standard Labels'!$A$7:$AC$500,17)","v":0},{"$f":"VLOOKUP(K927,'Standard Labels'!$A$7:$AC$500,19)","v":0},{"$f":"VLOOKUP(K927,'Standard Labels'!$A$7:$AC$500,21)","v":0},{"$f":"VLOOKUP(K927,'Standard Labels'!$A$7:$AC$500,23)","v":0},{"$f":"VLOOKUP(K927,'Standard Labels'!$A$7:$AC$500,25)","v":0},{"$f":"VLOOKUP(K927,'Standard Labels'!$A$7:$AC$500,27)","v":0},{"$f":"VLOOKUP(K927,'Standard Labels'!$A$7:$AC$500,29)","v":0},926]
[{"$f":"VLOOKUP(K928,'Standard Labels'!$A$7:$AC$500,11)","v":0},{"$f":"VLOOKUP(K928,'Standard Labels'!$A$7:$AC$500,13)","v":0},{"$f":"VLOOKUP(K928,'Standard Labels'!$A$7:$AC$500,15)","v":0},{"$f":"VLOOKUP(K928,'Standard Labels'!$A$7:$AC$500,17)","v":0},{"$f":"VLOOKUP(K928,'Standard Labels'!$A$7:$AC$500,19)","v":0},{"$f":"VLOOKUP(K928,'Standard Labels'!$A$7:$AC$500,21)","v":0},{"$f":"VLOOKUP(K928,'Standard Labels'!$A$7:$AC$500,23)","v":0},{"$f":"VLOOKUP(K928,'Standard Labels'!$A$7:$AC$500,25)","v":0},{"$f":"VLOOKUP(K928,'Standard Labels'!$A$7:$AC$500,27)","v":0},{"$f":"VLOOKUP(K928,'Standard Labels'!$A$7:$AC$500,29)","v":0},927]
[{"$f":"VLOOKUP(K929,'Standard Labels'!$A$7:$AC$500,11)","v":0},{"$f":"VLOOKUP(K929,'Standard Labels'!$A$7:$AC$500,13)","v":0},{"$f":"VLOOKUP(K929,'Standard Labels'!$A$7:$AC$500,15)","v":0},{"$f":"VLOOKUP(K929,'Standard Labels'!$A$7:$AC$500,17)","v":0},{"$f":"VLOOKUP(K929,'Standard Labels'!$A$7:$AC$500,19)","v":0},{"$f":"VLOOKUP(K929,'Standard Labels'!$A$7:$AC$500,21)","v":0},{"$f":"VLOOKUP(K929,'Standard Labels'!$A$7:$AC$500,23)","v":0},{"$f":"VLOOKUP(K929,'Standard Labels'!$A$7:$AC$500,25)","v":0},{"$f":"VLOOKUP(K929,'Standard Labels'!$A$7:$AC$500,27)","v":0},{"$f":"VLOOKUP(K929,'Standard Labels'!$A$7:$AC$500,29)","v":0},928]
[{"$f":"VLOOKUP(K930,'Standard Labels'!$A$7:$AC$500,11)","v":0},{"$f":"VLOOKUP(K930,'Standard Labels'!$A$7:$AC$500,13)","v":0},{"$f":"VLOOKUP(K930,'Standard Labels'!$A$7:$AC$500,15)","v":0},{"$f":"VLOOKUP(K930,'Standard Labels'!$A$7:$AC$500,17)","v":0},{"$f":"VLOOKUP(K930,'Standard Labels'!$A$7:$AC$500,19)","v":0},{"$f":"VLOOKUP(K930,'Standard Labels'!$A$7:$AC$500,21)","v":0},{"$f":"VLOOKUP(K930,'Standard Labels'!$A$7:$AC$500,23)","v":0},{"$f":"VLOOKUP(K930,'Standard Labels'!$A$7:$AC$500,25)","v":0},{"$f":"VLOOKUP(K930,'Standard Labels'!$A$7:$AC$500,27)","v":0},{"$f":"VLOOKUP(K930,'Standard Labels'!$A$7:$AC$500,29)","v":0},929]
[{"$f":"VLOOKUP(K931,'Standard Labels'!$A$7:$AC$500,11)","v":0},{"$f":"VLOOKUP(K931,'Standard Labels'!$A$7:$AC$500,13)","v":0},{"$f":"VLOOKUP(K931,'Standard Labels'!$A$7:$AC$500,15)","v":0},{"$f":"VLOOKUP(K931,'Standard Labels'!$A$7:$AC$500,17)","v":0},{"$f":"VLOOKUP(K931,'Standard Labels'!$A$7:$AC$500,19)","v":0},{"$f":"VLOOKUP(K931,'Standard Labels'!$A$7:$AC$500,21)","v":0},{"$f":"VLOOKUP(K931,'Standard Labels'!$A$7:$AC$500,23)","v":0},{"$f":"VLOOKUP(K931,'Standard Labels'!$A$7:$AC$500,25)","v":0},{"$f":"VLOOKUP(K931,'Standard Labels'!$A$7:$AC$500,27)","v":0},{"$f":"VLOOKUP(K931,'Standard Labels'!$A$7:$AC$500,29)","v":0},930]
[{"$f":"VLOOKUP(K932,'Standard Labels'!$A$7:$AC$500,11)","v":0},{"$f":"VLOOKUP(K932,'Standard Labels'!$A$7:$AC$500,13)","v":0},{"$f":"VLOOKUP(K932,'Standard Labels'!$A$7:$AC$500,15)","v":0},{"$f":"VLOOKUP(K932,'Standard Labels'!$A$7:$AC$500,17)","v":0},{"$f":"VLOOKUP(K932,'Standard Labels'!$A$7:$AC$500,19)","v":0},{"$f":"VLOOKUP(K932,'Standard Labels'!$A$7:$AC$500,21)","v":0},{"$f":"VLOOKUP(K932,'Standard Labels'!$A$7:$AC$500,23)","v":0},{"$f":"VLOOKUP(K932,'Standard Labels'!$A$7:$AC$500,25)","v":0},{"$f":"VLOOKUP(K932,'Standard Labels'!$A$7:$AC$500,27)","v":0},{"$f":"VLOOKUP(K932,'Standard Labels'!$A$7:$AC$500,29)","v":0},931]
[{"$f":"VLOOKUP(K933,'Standard Labels'!$A$7:$AC$500,11)","v":0},{"$f":"VLOOKUP(K933,'Standard Labels'!$A$7:$AC$500,13)","v":0},{"$f":"VLOOKUP(K933,'Standard Labels'!$A$7:$AC$500,15)","v":0},{"$f":"VLOOKUP(K933,'Standard Labels'!$A$7:$AC$500,17)","v":0},{"$f":"VLOOKUP(K933,'Standard Labels'!$A$7:$AC$500,19)","v":0},{"$f":"VLOOKUP(K933,'Standard Labels'!$A$7:$AC$500,21)","v":0},{"$f":"VLOOKUP(K933,'Standard Labels'!$A$7:$AC$500,23)","v":0},{"$f":"VLOOKUP(K933,'Standard Labels'!$A$7:$AC$500,25)","v":0},{"$f":"VLOOKUP(K933,'Standard Labels'!$A$7:$AC$500,27)","v":0},{"$f":"VLOOKUP(K933,'Standard Labels'!$A$7:$AC$500,29)","v":0},932]
[{"$f":"VLOOKUP(K934,'Standard Labels'!$A$7:$AC$500,11)","v":0},{"$f":"VLOOKUP(K934,'Standard Labels'!$A$7:$AC$500,13)","v":0},{"$f":"VLOOKUP(K934,'Standard Labels'!$A$7:$AC$500,15)","v":0},{"$f":"VLOOKUP(K934,'Standard Labels'!$A$7:$AC$500,17)","v":0},{"$f":"VLOOKUP(K934,'Standard Labels'!$A$7:$AC$500,19)","v":0},{"$f":"VLOOKUP(K934,'Standard Labels'!$A$7:$AC$500,21)","v":0},{"$f":"VLOOKUP(K934,'Standard Labels'!$A$7:$AC$500,23)","v":0},{"$f":"VLOOKUP(K934,'Standard Labels'!$A$7:$AC$500,25)","v":0},{"$f":"VLOOKUP(K934,'Standard Labels'!$A$7:$AC$500,27)","v":0},{"$f":"VLOOKUP(K934,'Standard Labels'!$A$7:$AC$500,29)","v":0},933]
[{"$f":"VLOOKUP(K935,'Standard Labels'!$A$7:$AC$500,11)","v":0},{"$f":"VLOOKUP(K935,'Standard Labels'!$A$7:$AC$500,13)","v":0},{"$f":"VLOOKUP(K935,'Standard Labels'!$A$7:$AC$500,15)","v":0},{"$f":"VLOOKUP(K935,'Standard Labels'!$A$7:$AC$500,17)","v":0},{"$f":"VLOOKUP(K935,'Standard Labels'!$A$7:$AC$500,19)","v":0},{"$f":"VLOOKUP(K935,'Standard Labels'!$A$7:$AC$500,21)","v":0},{"$f":"VLOOKUP(K935,'Standard Labels'!$A$7:$AC$500,23)","v":0},{"$f":"VLOOKUP(K935,'Standard Labels'!$A$7:$AC$500,25)","v":0},{"$f":"VLOOKUP(K935,'Standard Labels'!$A$7:$AC$500,27)","v":0},{"$f":"VLOOKUP(K935,'Standard Labels'!$A$7:$AC$500,29)","v":0},934]
[{"$f":"VLOOKUP(K936,'Standard Labels'!$A$7:$AC$500,11)","v":0},{"$f":"VLOOKUP(K936,'Standard Labels'!$A$7:$AC$500,13)","v":0},{"$f":"VLOOKUP(K936,'Standard Labels'!$A$7:$AC$500,15)","v":0},{"$f":"VLOOKUP(K936,'Standard Labels'!$A$7:$AC$500,17)","v":0},{"$f":"VLOOKUP(K936,'Standard Labels'!$A$7:$AC$500,19)","v":0},{"$f":"VLOOKUP(K936,'Standard Labels'!$A$7:$AC$500,21)","v":0},{"$f":"VLOOKUP(K936,'Standard Labels'!$A$7:$AC$500,23)","v":0},{"$f":"VLOOKUP(K936,'Standard Labels'!$A$7:$AC$500,25)","v":0},{"$f":"VLOOKUP(K936,'Standard Labels'!$A$7:$AC$500,27)","v":0},{"$f":"VLOOKUP(K936,'Standard Labels'!$A$7:$AC$500,29)","v":0},935]
[{"$f":"VLOOKUP(K937,'Standard Labels'!$A$7:$AC$500,11)","v":0},{"$f":"VLOOKUP(K937,'Standard Labels'!$A$7:$AC$500,13)","v":0},{"$f":"VLOOKUP(K937,'Standard Labels'!$A$7:$AC$500,15)","v":0},{"$f":"VLOOKUP(K937,'Standard Labels'!$A$7:$AC$500,17)","v":0},{"$f":"VLOOKUP(K937,'Standard Labels'!$A$7:$AC$500,19)","v":0},{"$f":"VLOOKUP(K937,'Standard Labels'!$A$7:$AC$500,21)","v":0},{"$f":"VLOOKUP(K937,'Standard Labels'!$A$7:$AC$500,23)","v":0},{"$f":"VLOOKUP(K937,'Standard Labels'!$A$7:$AC$500,25)","v":0},{"$f":"VLOOKUP(K937,'Standard Labels'!$A$7:$AC$500,27)","v":0},{"$f":"VLOOKUP(K937,'Standard Labels'!$A$7:$AC$500,29)","v":0},936]
[{"$f":"VLOOKUP(K938,'Standard Labels'!$A$7:$AC$500,11)","v":0},{"$f":"VLOOKUP(K938,'Standard Labels'!$A$7:$AC$500,13)","v":0},{"$f":"VLOOKUP(K938,'Standard Labels'!$A$7:$AC$500,15)","v":0},{"$f":"VLOOKUP(K938,'Standard Labels'!$A$7:$AC$500,17)","v":0},{"$f":"VLOOKUP(K938,'Standard Labels'!$A$7:$AC$500,19)","v":0},{"$f":"VLOOKUP(K938,'Standard Labels'!$A$7:$AC$500,21)","v":0},{"$f":"VLOOKUP(K938,'Standard Labels'!$A$7:$AC$500,23)","v":0},{"$f":"VLOOKUP(K938,'Standard Labels'!$A$7:$AC$500,25)","v":0},{"$f":"VLOOKUP(K938,'Standard Labels'!$A$7:$AC$500,27)","v":0},{"$f":"VLOOKUP(K938,'Standard Labels'!$A$7:$AC$500,29)","v":0},937]
[{"$f":"VLOOKUP(K939,'Standard Labels'!$A$7:$AC$500,11)","v":0},{"$f":"VLOOKUP(K939,'Standard Labels'!$A$7:$AC$500,13)","v":0},{"$f":"VLOOKUP(K939,'Standard Labels'!$A$7:$AC$500,15)","v":0},{"$f":"VLOOKUP(K939,'Standard Labels'!$A$7:$AC$500,17)","v":0},{"$f":"VLOOKUP(K939,'Standard Labels'!$A$7:$AC$500,19)","v":0},{"$f":"VLOOKUP(K939,'Standard Labels'!$A$7:$AC$500,21)","v":0},{"$f":"VLOOKUP(K939,'Standard Labels'!$A$7:$AC$500,23)","v":0},{"$f":"VLOOKUP(K939,'Standard Labels'!$A$7:$AC$500,25)","v":0},{"$f":"VLOOKUP(K939,'Standard Labels'!$A$7:$AC$500,27)","v":0},{"$f":"VLOOKUP(K939,'Standard Labels'!$A$7:$AC$500,29)","v":0},938]
[{"$f":"VLOOKUP(K940,'Standard Labels'!$A$7:$AC$500,11)","v":0},{"$f":"VLOOKUP(K940,'Standard Labels'!$A$7:$AC$500,13)","v":0},{"$f":"VLOOKUP(K940,'Standard Labels'!$A$7:$AC$500,15)","v":0},{"$f":"VLOOKUP(K940,'Standard Labels'!$A$7:$AC$500,17)","v":0},{"$f":"VLOOKUP(K940,'Standard Labels'!$A$7:$AC$500,19)","v":0},{"$f":"VLOOKUP(K940,'Standard Labels'!$A$7:$AC$500,21)","v":0},{"$f":"VLOOKUP(K940,'Standard Labels'!$A$7:$AC$500,23)","v":0},{"$f":"VLOOKUP(K940,'Standard Labels'!$A$7:$AC$500,25)","v":0},{"$f":"VLOOKUP(K940,'Standard Labels'!$A$7:$AC$500,27)","v":0},{"$f":"VLOOKUP(K940,'Standard Labels'!$A$7:$AC$500,29)","v":0},939]
[{"$f":"VLOOKUP(K941,'Standard Labels'!$A$7:$AC$500,11)","v":0},{"$f":"VLOOKUP(K941,'Standard Labels'!$A$7:$AC$500,13)","v":0},{"$f":"VLOOKUP(K941,'Standard Labels'!$A$7:$AC$500,15)","v":0},{"$f":"VLOOKUP(K941,'Standard Labels'!$A$7:$AC$500,17)","v":0},{"$f":"VLOOKUP(K941,'Standard Labels'!$A$7:$AC$500,19)","v":0},{"$f":"VLOOKUP(K941,'Standard Labels'!$A$7:$AC$500,21)","v":0},{"$f":"VLOOKUP(K941,'Standard Labels'!$A$7:$AC$500,23)","v":0},{"$f":"VLOOKUP(K941,'Standard Labels'!$A$7:$AC$500,25)","v":0},{"$f":"VLOOKUP(K941,'Standard Labels'!$A$7:$AC$500,27)","v":0},{"$f":"VLOOKUP(K941,'Standard Labels'!$A$7:$AC$500,29)","v":0},940]
[{"$f":"VLOOKUP(K942,'Standard Labels'!$A$7:$AC$500,11)","v":0},{"$f":"VLOOKUP(K942,'Standard Labels'!$A$7:$AC$500,13)","v":0},{"$f":"VLOOKUP(K942,'Standard Labels'!$A$7:$AC$500,15)","v":0},{"$f":"VLOOKUP(K942,'Standard Labels'!$A$7:$AC$500,17)","v":0},{"$f":"VLOOKUP(K942,'Standard Labels'!$A$7:$AC$500,19)","v":0},{"$f":"VLOOKUP(K942,'Standard Labels'!$A$7:$AC$500,21)","v":0},{"$f":"VLOOKUP(K942,'Standard Labels'!$A$7:$AC$500,23)","v":0},{"$f":"VLOOKUP(K942,'Standard Labels'!$A$7:$AC$500,25)","v":0},{"$f":"VLOOKUP(K942,'Standard Labels'!$A$7:$AC$500,27)","v":0},{"$f":"VLOOKUP(K942,'Standard Labels'!$A$7:$AC$500,29)","v":0},941]
[{"$f":"VLOOKUP(K943,'Standard Labels'!$A$7:$AC$500,11)","v":0},{"$f":"VLOOKUP(K943,'Standard Labels'!$A$7:$AC$500,13)","v":0},{"$f":"VLOOKUP(K943,'Standard Labels'!$A$7:$AC$500,15)","v":0},{"$f":"VLOOKUP(K943,'Standard Labels'!$A$7:$AC$500,17)","v":0},{"$f":"VLOOKUP(K943,'Standard Labels'!$A$7:$AC$500,19)","v":0},{"$f":"VLOOKUP(K943,'Standard Labels'!$A$7:$AC$500,21)","v":0},{"$f":"VLOOKUP(K943,'Standard Labels'!$A$7:$AC$500,23)","v":0},{"$f":"VLOOKUP(K943,'Standard Labels'!$A$7:$AC$500,25)","v":0},{"$f":"VLOOKUP(K943,'Standard Labels'!$A$7:$AC$500,27)","v":0},{"$f":"VLOOKUP(K943,'Standard Labels'!$A$7:$AC$500,29)","v":0},942]
[{"$f":"VLOOKUP(K944,'Standard Labels'!$A$7:$AC$500,11)","v":0},{"$f":"VLOOKUP(K944,'Standard Labels'!$A$7:$AC$500,13)","v":0},{"$f":"VLOOKUP(K944,'Standard Labels'!$A$7:$AC$500,15)","v":0},{"$f":"VLOOKUP(K944,'Standard Labels'!$A$7:$AC$500,17)","v":0},{"$f":"VLOOKUP(K944,'Standard Labels'!$A$7:$AC$500,19)","v":0},{"$f":"VLOOKUP(K944,'Standard Labels'!$A$7:$AC$500,21)","v":0},{"$f":"VLOOKUP(K944,'Standard Labels'!$A$7:$AC$500,23)","v":0},{"$f":"VLOOKUP(K944,'Standard Labels'!$A$7:$AC$500,25)","v":0},{"$f":"VLOOKUP(K944,'Standard Labels'!$A$7:$AC$500,27)","v":0},{"$f":"VLOOKUP(K944,'Standard Labels'!$A$7:$AC$500,29)","v":0},943]
[{"$f":"VLOOKUP(K945,'Standard Labels'!$A$7:$AC$500,11)","v":0},{"$f":"VLOOKUP(K945,'Standard Labels'!$A$7:$AC$500,13)","v":0},{"$f":"VLOOKUP(K945,'Standard Labels'!$A$7:$AC$500,15)","v":0},{"$f":"VLOOKUP(K945,'Standard Labels'!$A$7:$AC$500,17)","v":0},{"$f":"VLOOKUP(K945,'Standard Labels'!$A$7:$AC$500,19)","v":0},{"$f":"VLOOKUP(K945,'Standard Labels'!$A$7:$AC$500,21)","v":0},{"$f":"VLOOKUP(K945,'Standard Labels'!$A$7:$AC$500,23)","v":0},{"$f":"VLOOKUP(K945,'Standard Labels'!$A$7:$AC$500,25)","v":0},{"$f":"VLOOKUP(K945,'Standard Labels'!$A$7:$AC$500,27)","v":0},{"$f":"VLOOKUP(K945,'Standard Labels'!$A$7:$AC$500,29)","v":0},944]
[{"$f":"VLOOKUP(K946,'Standard Labels'!$A$7:$AC$500,11)","v":0},{"$f":"VLOOKUP(K946,'Standard Labels'!$A$7:$AC$500,13)","v":0},{"$f":"VLOOKUP(K946,'Standard Labels'!$A$7:$AC$500,15)","v":0},{"$f":"VLOOKUP(K946,'Standard Labels'!$A$7:$AC$500,17)","v":0},{"$f":"VLOOKUP(K946,'Standard Labels'!$A$7:$AC$500,19)","v":0},{"$f":"VLOOKUP(K946,'Standard Labels'!$A$7:$AC$500,21)","v":0},{"$f":"VLOOKUP(K946,'Standard Labels'!$A$7:$AC$500,23)","v":0},{"$f":"VLOOKUP(K946,'Standard Labels'!$A$7:$AC$500,25)","v":0},{"$f":"VLOOKUP(K946,'Standard Labels'!$A$7:$AC$500,27)","v":0},{"$f":"VLOOKUP(K946,'Standard Labels'!$A$7:$AC$500,29)","v":0},945]
[{"$f":"VLOOKUP(K947,'Standard Labels'!$A$7:$AC$500,11)","v":0},{"$f":"VLOOKUP(K947,'Standard Labels'!$A$7:$AC$500,13)","v":0},{"$f":"VLOOKUP(K947,'Standard Labels'!$A$7:$AC$500,15)","v":0},{"$f":"VLOOKUP(K947,'Standard Labels'!$A$7:$AC$500,17)","v":0},{"$f":"VLOOKUP(K947,'Standard Labels'!$A$7:$AC$500,19)","v":0},{"$f":"VLOOKUP(K947,'Standard Labels'!$A$7:$AC$500,21)","v":0},{"$f":"VLOOKUP(K947,'Standard Labels'!$A$7:$AC$500,23)","v":0},{"$f":"VLOOKUP(K947,'Standard Labels'!$A$7:$AC$500,25)","v":0},{"$f":"VLOOKUP(K947,'Standard Labels'!$A$7:$AC$500,27)","v":0},{"$f":"VLOOKUP(K947,'Standard Labels'!$A$7:$AC$500,29)","v":0},946]
[{"$f":"VLOOKUP(K948,'Standard Labels'!$A$7:$AC$500,11)","v":0},{"$f":"VLOOKUP(K948,'Standard Labels'!$A$7:$AC$500,13)","v":0},{"$f":"VLOOKUP(K948,'Standard Labels'!$A$7:$AC$500,15)","v":0},{"$f":"VLOOKUP(K948,'Standard Labels'!$A$7:$AC$500,17)","v":0},{"$f":"VLOOKUP(K948,'Standard Labels'!$A$7:$AC$500,19)","v":0},{"$f":"VLOOKUP(K948,'Standard Labels'!$A$7:$AC$500,21)","v":0},{"$f":"VLOOKUP(K948,'Standard Labels'!$A$7:$AC$500,23)","v":0},{"$f":"VLOOKUP(K948,'Standard Labels'!$A$7:$AC$500,25)","v":0},{"$f":"VLOOKUP(K948,'Standard Labels'!$A$7:$AC$500,27)","v":0},{"$f":"VLOOKUP(K948,'Standard Labels'!$A$7:$AC$500,29)","v":0},947]
[{"$f":"VLOOKUP(K949,'Standard Labels'!$A$7:$AC$500,11)","v":0},{"$f":"VLOOKUP(K949,'Standard Labels'!$A$7:$AC$500,13)","v":0},{"$f":"VLOOKUP(K949,'Standard Labels'!$A$7:$AC$500,15)","v":0},{"$f":"VLOOKUP(K949,'Standard Labels'!$A$7:$AC$500,17)","v":0},{"$f":"VLOOKUP(K949,'Standard Labels'!$A$7:$AC$500,19)","v":0},{"$f":"VLOOKUP(K949,'Standard Labels'!$A$7:$AC$500,21)","v":0},{"$f":"VLOOKUP(K949,'Standard Labels'!$A$7:$AC$500,23)","v":0},{"$f":"VLOOKUP(K949,'Standard Labels'!$A$7:$AC$500,25)","v":0},{"$f":"VLOOKUP(K949,'Standard Labels'!$A$7:$AC$500,27)","v":0},{"$f":"VLOOKUP(K949,'Standard Labels'!$A$7:$AC$500,29)","v":0},948]
[{"$f":"VLOOKUP(K950,'Standard Labels'!$A$7:$AC$500,11)","v":0},{"$f":"VLOOKUP(K950,'Standard Labels'!$A$7:$AC$500,13)","v":0},{"$f":"VLOOKUP(K950,'Standard Labels'!$A$7:$AC$500,15)","v":0},{"$f":"VLOOKUP(K950,'Standard Labels'!$A$7:$AC$500,17)","v":0},{"$f":"VLOOKUP(K950,'Standard Labels'!$A$7:$AC$500,19)","v":0},{"$f":"VLOOKUP(K950,'Standard Labels'!$A$7:$AC$500,21)","v":0},{"$f":"VLOOKUP(K950,'Standard Labels'!$A$7:$AC$500,23)","v":0},{"$f":"VLOOKUP(K950,'Standard Labels'!$A$7:$AC$500,25)","v":0},{"$f":"VLOOKUP(K950,'Standard Labels'!$A$7:$AC$500,27)","v":0},{"$f":"VLOOKUP(K950,'Standard Labels'!$A$7:$AC$500,29)","v":0},949]
[{"$f":"VLOOKUP(K951,'Standard Labels'!$A$7:$AC$500,11)","v":0},{"$f":"VLOOKUP(K951,'Standard Labels'!$A$7:$AC$500,13)","v":0},{"$f":"VLOOKUP(K951,'Standard Labels'!$A$7:$AC$500,15)","v":0},{"$f":"VLOOKUP(K951,'Standard Labels'!$A$7:$AC$500,17)","v":0},{"$f":"VLOOKUP(K951,'Standard Labels'!$A$7:$AC$500,19)","v":0},{"$f":"VLOOKUP(K951,'Standard Labels'!$A$7:$AC$500,21)","v":0},{"$f":"VLOOKUP(K951,'Standard Labels'!$A$7:$AC$500,23)","v":0},{"$f":"VLOOKUP(K951,'Standard Labels'!$A$7:$AC$500,25)","v":0},{"$f":"VLOOKUP(K951,'Standard Labels'!$A$7:$AC$500,27)","v":0},{"$f":"VLOOKUP(K951,'Standard Labels'!$A$7:$AC$500,29)","v":0},950]
[{"$f":"VLOOKUP(K952,'Standard Labels'!$A$7:$AC$500,11)","v":0},{"$f":"VLOOKUP(K952,'Standard Labels'!$A$7:$AC$500,13)","v":0},{"$f":"VLOOKUP(K952,'Standard Labels'!$A$7:$AC$500,15)","v":0},{"$f":"VLOOKUP(K952,'Standard Labels'!$A$7:$AC$500,17)","v":0},{"$f":"VLOOKUP(K952,'Standard Labels'!$A$7:$AC$500,19)","v":0},{"$f":"VLOOKUP(K952,'Standard Labels'!$A$7:$AC$500,21)","v":0},{"$f":"VLOOKUP(K952,'Standard Labels'!$A$7:$AC$500,23)","v":0},{"$f":"VLOOKUP(K952,'Standard Labels'!$A$7:$AC$500,25)","v":0},{"$f":"VLOOKUP(K952,'Standard Labels'!$A$7:$AC$500,27)","v":0},{"$f":"VLOOKUP(K952,'Standard Labels'!$A$7:$AC$500,29)","v":0},951]
[{"$f":"VLOOKUP(K953,'Standard Labels'!$A$7:$AC$500,11)","v":0},{"$f":"VLOOKUP(K953,'Standard Labels'!$A$7:$AC$500,13)","v":0},{"$f":"VLOOKUP(K953,'Standard Labels'!$A$7:$AC$500,15)","v":0},{"$f":"VLOOKUP(K953,'Standard Labels'!$A$7:$AC$500,17)","v":0},{"$f":"VLOOKUP(K953,'Standard Labels'!$A$7:$AC$500,19)","v":0},{"$f":"VLOOKUP(K953,'Standard Labels'!$A$7:$AC$500,21)","v":0},{"$f":"VLOOKUP(K953,'Standard Labels'!$A$7:$AC$500,23)","v":0},{"$f":"VLOOKUP(K953,'Standard Labels'!$A$7:$AC$500,25)","v":0},{"$f":"VLOOKUP(K953,'Standard Labels'!$A$7:$AC$500,27)","v":0},{"$f":"VLOOKUP(K953,'Standard Labels'!$A$7:$AC$500,29)","v":0},952]
[{"$f":"VLOOKUP(K954,'Standard Labels'!$A$7:$AC$500,11)","v":0},{"$f":"VLOOKUP(K954,'Standard Labels'!$A$7:$AC$500,13)","v":0},{"$f":"VLOOKUP(K954,'Standard Labels'!$A$7:$AC$500,15)","v":0},{"$f":"VLOOKUP(K954,'Standard Labels'!$A$7:$AC$500,17)","v":0},{"$f":"VLOOKUP(K954,'Standard Labels'!$A$7:$AC$500,19)","v":0},{"$f":"VLOOKUP(K954,'Standard Labels'!$A$7:$AC$500,21)","v":0},{"$f":"VLOOKUP(K954,'Standard Labels'!$A$7:$AC$500,23)","v":0},{"$f":"VLOOKUP(K954,'Standard Labels'!$A$7:$AC$500,25)","v":0},{"$f":"VLOOKUP(K954,'Standard Labels'!$A$7:$AC$500,27)","v":0},{"$f":"VLOOKUP(K954,'Standard Labels'!$A$7:$AC$500,29)","v":0},953]
[{"$f":"VLOOKUP(K955,'Standard Labels'!$A$7:$AC$500,11)","v":0},{"$f":"VLOOKUP(K955,'Standard Labels'!$A$7:$AC$500,13)","v":0},{"$f":"VLOOKUP(K955,'Standard Labels'!$A$7:$AC$500,15)","v":0},{"$f":"VLOOKUP(K955,'Standard Labels'!$A$7:$AC$500,17)","v":0},{"$f":"VLOOKUP(K955,'Standard Labels'!$A$7:$AC$500,19)","v":0},{"$f":"VLOOKUP(K955,'Standard Labels'!$A$7:$AC$500,21)","v":0},{"$f":"VLOOKUP(K955,'Standard Labels'!$A$7:$AC$500,23)","v":0},{"$f":"VLOOKUP(K955,'Standard Labels'!$A$7:$AC$500,25)","v":0},{"$f":"VLOOKUP(K955,'Standard Labels'!$A$7:$AC$500,27)","v":0},{"$f":"VLOOKUP(K955,'Standard Labels'!$A$7:$AC$500,29)","v":0},954]
[{"$f":"VLOOKUP(K956,'Standard Labels'!$A$7:$AC$500,11)","v":0},{"$f":"VLOOKUP(K956,'Standard Labels'!$A$7:$AC$500,13)","v":0},{"$f":"VLOOKUP(K956,'Standard Labels'!$A$7:$AC$500,15)","v":0},{"$f":"VLOOKUP(K956,'Standard Labels'!$A$7:$AC$500,17)","v":0},{"$f":"VLOOKUP(K956,'Standard Labels'!$A$7:$AC$500,19)","v":0},{"$f":"VLOOKUP(K956,'Standard Labels'!$A$7:$AC$500,21)","v":0},{"$f":"VLOOKUP(K956,'Standard Labels'!$A$7:$AC$500,23)","v":0},{"$f":"VLOOKUP(K956,'Standard Labels'!$A$7:$AC$500,25)","v":0},{"$f":"VLOOKUP(K956,'Standard Labels'!$A$7:$AC$500,27)","v":0},{"$f":"VLOOKUP(K956,'Standard Labels'!$A$7:$AC$500,29)","v":0},955]
[{"$f":"VLOOKUP(K957,'Standard Labels'!$A$7:$AC$500,11)","v":0},{"$f":"VLOOKUP(K957,'Standard Labels'!$A$7:$AC$500,13)","v":0},{"$f":"VLOOKUP(K957,'Standard Labels'!$A$7:$AC$500,15)","v":0},{"$f":"VLOOKUP(K957,'Standard Labels'!$A$7:$AC$500,17)","v":0},{"$f":"VLOOKUP(K957,'Standard Labels'!$A$7:$AC$500,19)","v":0},{"$f":"VLOOKUP(K957,'Standard Labels'!$A$7:$AC$500,21)","v":0},{"$f":"VLOOKUP(K957,'Standard Labels'!$A$7:$AC$500,23)","v":0},{"$f":"VLOOKUP(K957,'Standard Labels'!$A$7:$AC$500,25)","v":0},{"$f":"VLOOKUP(K957,'Standard Labels'!$A$7:$AC$500,27)","v":0},{"$f":"VLOOKUP(K957,'Standard Labels'!$A$7:$AC$500,29)","v":0},956]
[{"$f":"VLOOKUP(K958,'Standard Labels'!$A$7:$AC$500,11)","v":0},{"$f":"VLOOKUP(K958,'Standard Labels'!$A$7:$AC$500,13)","v":0},{"$f":"VLOOKUP(K958,'Standard Labels'!$A$7:$AC$500,15)","v":0},{"$f":"VLOOKUP(K958,'Standard Labels'!$A$7:$AC$500,17)","v":0},{"$f":"VLOOKUP(K958,'Standard Labels'!$A$7:$AC$500,19)","v":0},{"$f":"VLOOKUP(K958,'Standard Labels'!$A$7:$AC$500,21)","v":0},{"$f":"VLOOKUP(K958,'Standard Labels'!$A$7:$AC$500,23)","v":0},{"$f":"VLOOKUP(K958,'Standard Labels'!$A$7:$AC$500,25)","v":0},{"$f":"VLOOKUP(K958,'Standard Labels'!$A$7:$AC$500,27)","v":0},{"$f":"VLOOKUP(K958,'Standard Labels'!$A$7:$AC$500,29)","v":0},957]
[{"$f":"VLOOKUP(K959,'Standard Labels'!$A$7:$AC$500,11)","v":0},{"$f":"VLOOKUP(K959,'Standard Labels'!$A$7:$AC$500,13)","v":0},{"$f":"VLOOKUP(K959,'Standard Labels'!$A$7:$AC$500,15)","v":0},{"$f":"VLOOKUP(K959,'Standard Labels'!$A$7:$AC$500,17)","v":0},{"$f":"VLOOKUP(K959,'Standard Labels'!$A$7:$AC$500,19)","v":0},{"$f":"VLOOKUP(K959,'Standard Labels'!$A$7:$AC$500,21)","v":0},{"$f":"VLOOKUP(K959,'Standard Labels'!$A$7:$AC$500,23)","v":0},{"$f":"VLOOKUP(K959,'Standard Labels'!$A$7:$AC$500,25)","v":0},{"$f":"VLOOKUP(K959,'Standard Labels'!$A$7:$AC$500,27)","v":0},{"$f":"VLOOKUP(K959,'Standard Labels'!$A$7:$AC$500,29)","v":0},958]
[{"$f":"VLOOKUP(K960,'Standard Labels'!$A$7:$AC$500,11)","v":0},{"$f":"VLOOKUP(K960,'Standard Labels'!$A$7:$AC$500,13)","v":0},{"$f":"VLOOKUP(K960,'Standard Labels'!$A$7:$AC$500,15)","v":0},{"$f":"VLOOKUP(K960,'Standard Labels'!$A$7:$AC$500,17)","v":0},{"$f":"VLOOKUP(K960,'Standard Labels'!$A$7:$AC$500,19)","v":0},{"$f":"VLOOKUP(K960,'Standard Labels'!$A$7:$AC$500,21)","v":0},{"$f":"VLOOKUP(K960,'Standard Labels'!$A$7:$AC$500,23)","v":0},{"$f":"VLOOKUP(K960,'Standard Labels'!$A$7:$AC$500,25)","v":0},{"$f":"VLOOKUP(K960,'Standard Labels'!$A$7:$AC$500,27)","v":0},{"$f":"VLOOKUP(K960,'Standard Labels'!$A$7:$AC$500,29)","v":0},959]
[{"$f":"VLOOKUP(K961,'Standard Labels'!$A$7:$AC$500,11)","v":0},{"$f":"VLOOKUP(K961,'Standard Labels'!$A$7:$AC$500,13)","v":0},{"$f":"VLOOKUP(K961,'Standard Labels'!$A$7:$AC$500,15)","v":0},{"$f":"VLOOKUP(K961,'Standard Labels'!$A$7:$AC$500,17)","v":0},{"$f":"VLOOKUP(K961,'Standard Labels'!$A$7:$AC$500,19)","v":0},{"$f":"VLOOKUP(K961,'Standard Labels'!$A$7:$AC$500,21)","v":0},{"$f":"VLOOKUP(K961,'Standard Labels'!$A$7:$AC$500,23)","v":0},{"$f":"VLOOKUP(K961,'Standard Labels'!$A$7:$AC$500,25)","v":0},{"$f":"VLOOKUP(K961,'Standard Labels'!$A$7:$AC$500,27)","v":0},{"$f":"VLOOKUP(K961,'Standard Labels'!$A$7:$AC$500,29)","v":0},960]
[{"$f":"VLOOKUP(K962,'Standard Labels'!$A$7:$AC$500,11)","v":0},{"$f":"VLOOKUP(K962,'Standard Labels'!$A$7:$AC$500,13)","v":0},{"$f":"VLOOKUP(K962,'Standard Labels'!$A$7:$AC$500,15)","v":0},{"$f":"VLOOKUP(K962,'Standard Labels'!$A$7:$AC$500,17)","v":0},{"$f":"VLOOKUP(K962,'Standard Labels'!$A$7:$AC$500,19)","v":0},{"$f":"VLOOKUP(K962,'Standard Labels'!$A$7:$AC$500,21)","v":0},{"$f":"VLOOKUP(K962,'Standard Labels'!$A$7:$AC$500,23)","v":0},{"$f":"VLOOKUP(K962,'Standard Labels'!$A$7:$AC$500,25)","v":0},{"$f":"VLOOKUP(K962,'Standard Labels'!$A$7:$AC$500,27)","v":0},{"$f":"VLOOKUP(K962,'Standard Labels'!$A$7:$AC$500,29)","v":0},961]
[{"$f":"VLOOKUP(K963,'Standard Labels'!$A$7:$AC$500,11)","v":0},{"$f":"VLOOKUP(K963,'Standard Labels'!$A$7:$AC$500,13)","v":0},{"$f":"VLOOKUP(K963,'Standard Labels'!$A$7:$AC$500,15)","v":0},{"$f":"VLOOKUP(K963,'Standard Labels'!$A$7:$AC$500,17)","v":0},{"$f":"VLOOKUP(K963,'Standard Labels'!$A$7:$AC$500,19)","v":0},{"$f":"VLOOKUP(K963,'Standard Labels'!$A$7:$AC$500,21)","v":0},{"$f":"VLOOKUP(K963,'Standard Labels'!$A$7:$AC$500,23)","v":0},{"$f":"VLOOKUP(K963,'Standard Labels'!$A$7:$AC$500,25)","v":0},{"$f":"VLOOKUP(K963,'Standard Labels'!$A$7:$AC$500,27)","v":0},{"$f":"VLOOKUP(K963,'Standard Labels'!$A$7:$AC$500,29)","v":0},962]
[{"$f":"VLOOKUP(K964,'Standard Labels'!$A$7:$AC$500,11)","v":0},{"$f":"VLOOKUP(K964,'Standard Labels'!$A$7:$AC$500,13)","v":0},{"$f":"VLOOKUP(K964,'Standard Labels'!$A$7:$AC$500,15)","v":0},{"$f":"VLOOKUP(K964,'Standard Labels'!$A$7:$AC$500,17)","v":0},{"$f":"VLOOKUP(K964,'Standard Labels'!$A$7:$AC$500,19)","v":0},{"$f":"VLOOKUP(K964,'Standard Labels'!$A$7:$AC$500,21)","v":0},{"$f":"VLOOKUP(K964,'Standard Labels'!$A$7:$AC$500,23)","v":0},{"$f":"VLOOKUP(K964,'Standard Labels'!$A$7:$AC$500,25)","v":0},{"$f":"VLOOKUP(K964,'Standard Labels'!$A$7:$AC$500,27)","v":0},{"$f":"VLOOKUP(K964,'Standard Labels'!$A$7:$AC$500,29)","v":0},963]
[{"$f":"VLOOKUP(K965,'Standard Labels'!$A$7:$AC$500,11)","v":0},{"$f":"VLOOKUP(K965,'Standard Labels'!$A$7:$AC$500,13)","v":0},{"$f":"VLOOKUP(K965,'Standard Labels'!$A$7:$AC$500,15)","v":0},{"$f":"VLOOKUP(K965,'Standard Labels'!$A$7:$AC$500,17)","v":0},{"$f":"VLOOKUP(K965,'Standard Labels'!$A$7:$AC$500,19)","v":0},{"$f":"VLOOKUP(K965,'Standard Labels'!$A$7:$AC$500,21)","v":0},{"$f":"VLOOKUP(K965,'Standard Labels'!$A$7:$AC$500,23)","v":0},{"$f":"VLOOKUP(K965,'Standard Labels'!$A$7:$AC$500,25)","v":0},{"$f":"VLOOKUP(K965,'Standard Labels'!$A$7:$AC$500,27)","v":0},{"$f":"VLOOKUP(K965,'Standard Labels'!$A$7:$AC$500,29)","v":0},964]
[{"$f":"VLOOKUP(K966,'Standard Labels'!$A$7:$AC$500,11)","v":0},{"$f":"VLOOKUP(K966,'Standard Labels'!$A$7:$AC$500,13)","v":0},{"$f":"VLOOKUP(K966,'Standard Labels'!$A$7:$AC$500,15)","v":0},{"$f":"VLOOKUP(K966,'Standard Labels'!$A$7:$AC$500,17)","v":0},{"$f":"VLOOKUP(K966,'Standard Labels'!$A$7:$AC$500,19)","v":0},{"$f":"VLOOKUP(K966,'Standard Labels'!$A$7:$AC$500,21)","v":0},{"$f":"VLOOKUP(K966,'Standard Labels'!$A$7:$AC$500,23)","v":0},{"$f":"VLOOKUP(K966,'Standard Labels'!$A$7:$AC$500,25)","v":0},{"$f":"VLOOKUP(K966,'Standard Labels'!$A$7:$AC$500,27)","v":0},{"$f":"VLOOKUP(K966,'Standard Labels'!$A$7:$AC$500,29)","v":0},965]
[{"$f":"VLOOKUP(K967,'Standard Labels'!$A$7:$AC$500,11)","v":0},{"$f":"VLOOKUP(K967,'Standard Labels'!$A$7:$AC$500,13)","v":0},{"$f":"VLOOKUP(K967,'Standard Labels'!$A$7:$AC$500,15)","v":0},{"$f":"VLOOKUP(K967,'Standard Labels'!$A$7:$AC$500,17)","v":0},{"$f":"VLOOKUP(K967,'Standard Labels'!$A$7:$AC$500,19)","v":0},{"$f":"VLOOKUP(K967,'Standard Labels'!$A$7:$AC$500,21)","v":0},{"$f":"VLOOKUP(K967,'Standard Labels'!$A$7:$AC$500,23)","v":0},{"$f":"VLOOKUP(K967,'Standard Labels'!$A$7:$AC$500,25)","v":0},{"$f":"VLOOKUP(K967,'Standard Labels'!$A$7:$AC$500,27)","v":0},{"$f":"VLOOKUP(K967,'Standard Labels'!$A$7:$AC$500,29)","v":0},966]
[{"$f":"VLOOKUP(K968,'Standard Labels'!$A$7:$AC$500,11)","v":0},{"$f":"VLOOKUP(K968,'Standard Labels'!$A$7:$AC$500,13)","v":0},{"$f":"VLOOKUP(K968,'Standard Labels'!$A$7:$AC$500,15)","v":0},{"$f":"VLOOKUP(K968,'Standard Labels'!$A$7:$AC$500,17)","v":0},{"$f":"VLOOKUP(K968,'Standard Labels'!$A$7:$AC$500,19)","v":0},{"$f":"VLOOKUP(K968,'Standard Labels'!$A$7:$AC$500,21)","v":0},{"$f":"VLOOKUP(K968,'Standard Labels'!$A$7:$AC$500,23)","v":0},{"$f":"VLOOKUP(K968,'Standard Labels'!$A$7:$AC$500,25)","v":0},{"$f":"VLOOKUP(K968,'Standard Labels'!$A$7:$AC$500,27)","v":0},{"$f":"VLOOKUP(K968,'Standard Labels'!$A$7:$AC$500,29)","v":0},967]
[{"$f":"VLOOKUP(K969,'Standard Labels'!$A$7:$AC$500,11)","v":0},{"$f":"VLOOKUP(K969,'Standard Labels'!$A$7:$AC$500,13)","v":0},{"$f":"VLOOKUP(K969,'Standard Labels'!$A$7:$AC$500,15)","v":0},{"$f":"VLOOKUP(K969,'Standard Labels'!$A$7:$AC$500,17)","v":0},{"$f":"VLOOKUP(K969,'Standard Labels'!$A$7:$AC$500,19)","v":0},{"$f":"VLOOKUP(K969,'Standard Labels'!$A$7:$AC$500,21)","v":0},{"$f":"VLOOKUP(K969,'Standard Labels'!$A$7:$AC$500,23)","v":0},{"$f":"VLOOKUP(K969,'Standard Labels'!$A$7:$AC$500,25)","v":0},{"$f":"VLOOKUP(K969,'Standard Labels'!$A$7:$AC$500,27)","v":0},{"$f":"VLOOKUP(K969,'Standard Labels'!$A$7:$AC$500,29)","v":0},968]
[{"$f":"VLOOKUP(K970,'Standard Labels'!$A$7:$AC$500,11)","v":0},{"$f":"VLOOKUP(K970,'Standard Labels'!$A$7:$AC$500,13)","v":0},{"$f":"VLOOKUP(K970,'Standard Labels'!$A$7:$AC$500,15)","v":0},{"$f":"VLOOKUP(K970,'Standard Labels'!$A$7:$AC$500,17)","v":0},{"$f":"VLOOKUP(K970,'Standard Labels'!$A$7:$AC$500,19)","v":0},{"$f":"VLOOKUP(K970,'Standard Labels'!$A$7:$AC$500,21)","v":0},{"$f":"VLOOKUP(K970,'Standard Labels'!$A$7:$AC$500,23)","v":0},{"$f":"VLOOKUP(K970,'Standard Labels'!$A$7:$AC$500,25)","v":0},{"$f":"VLOOKUP(K970,'Standard Labels'!$A$7:$AC$500,27)","v":0},{"$f":"VLOOKUP(K970,'Standard Labels'!$A$7:$AC$500,29)","v":0},969]
[{"$f":"VLOOKUP(K971,'Standard Labels'!$A$7:$AC$500,11)","v":0},{"$f":"VLOOKUP(K971,'Standard Labels'!$A$7:$AC$500,13)","v":0},{"$f":"VLOOKUP(K971,'Standard Labels'!$A$7:$AC$500,15)","v":0},{"$f":"VLOOKUP(K971,'Standard Labels'!$A$7:$AC$500,17)","v":0},{"$f":"VLOOKUP(K971,'Standard Labels'!$A$7:$AC$500,19)","v":0},{"$f":"VLOOKUP(K971,'Standard Labels'!$A$7:$AC$500,21)","v":0},{"$f":"VLOOKUP(K971,'Standard Labels'!$A$7:$AC$500,23)","v":0},{"$f":"VLOOKUP(K971,'Standard Labels'!$A$7:$AC$500,25)","v":0},{"$f":"VLOOKUP(K971,'Standard Labels'!$A$7:$AC$500,27)","v":0},{"$f":"VLOOKUP(K971,'Standard Labels'!$A$7:$AC$500,29)","v":0},970]
[{"$f":"VLOOKUP(K972,'Standard Labels'!$A$7:$AC$500,11)","v":0},{"$f":"VLOOKUP(K972,'Standard Labels'!$A$7:$AC$500,13)","v":0},{"$f":"VLOOKUP(K972,'Standard Labels'!$A$7:$AC$500,15)","v":0},{"$f":"VLOOKUP(K972,'Standard Labels'!$A$7:$AC$500,17)","v":0},{"$f":"VLOOKUP(K972,'Standard Labels'!$A$7:$AC$500,19)","v":0},{"$f":"VLOOKUP(K972,'Standard Labels'!$A$7:$AC$500,21)","v":0},{"$f":"VLOOKUP(K972,'Standard Labels'!$A$7:$AC$500,23)","v":0},{"$f":"VLOOKUP(K972,'Standard Labels'!$A$7:$AC$500,25)","v":0},{"$f":"VLOOKUP(K972,'Standard Labels'!$A$7:$AC$500,27)","v":0},{"$f":"VLOOKUP(K972,'Standard Labels'!$A$7:$AC$500,29)","v":0},971]
[{"$f":"VLOOKUP(K973,'Standard Labels'!$A$7:$AC$500,11)","v":0},{"$f":"VLOOKUP(K973,'Standard Labels'!$A$7:$AC$500,13)","v":0},{"$f":"VLOOKUP(K973,'Standard Labels'!$A$7:$AC$500,15)","v":0},{"$f":"VLOOKUP(K973,'Standard Labels'!$A$7:$AC$500,17)","v":0},{"$f":"VLOOKUP(K973,'Standard Labels'!$A$7:$AC$500,19)","v":0},{"$f":"VLOOKUP(K973,'Standard Labels'!$A$7:$AC$500,21)","v":0},{"$f":"VLOOKUP(K973,'Standard Labels'!$A$7:$AC$500,23)","v":0},{"$f":"VLOOKUP(K973,'Standard Labels'!$A$7:$AC$500,25)","v":0},{"$f":"VLOOKUP(K973,'Standard Labels'!$A$7:$AC$500,27)","v":0},{"$f":"VLOOKUP(K973,'Standard Labels'!$A$7:$AC$500,29)","v":0},972]
[{"$f":"VLOOKUP(K974,'Standard Labels'!$A$7:$AC$500,11)","v":0},{"$f":"VLOOKUP(K974,'Standard Labels'!$A$7:$AC$500,13)","v":0},{"$f":"VLOOKUP(K974,'Standard Labels'!$A$7:$AC$500,15)","v":0},{"$f":"VLOOKUP(K974,'Standard Labels'!$A$7:$AC$500,17)","v":0},{"$f":"VLOOKUP(K974,'Standard Labels'!$A$7:$AC$500,19)","v":0},{"$f":"VLOOKUP(K974,'Standard Labels'!$A$7:$AC$500,21)","v":0},{"$f":"VLOOKUP(K974,'Standard Labels'!$A$7:$AC$500,23)","v":0},{"$f":"VLOOKUP(K974,'Standard Labels'!$A$7:$AC$500,25)","v":0},{"$f":"VLOOKUP(K974,'Standard Labels'!$A$7:$AC$500,27)","v":0},{"$f":"VLOOKUP(K974,'Standard Labels'!$A$7:$AC$500,29)","v":0},973]
[{"$f":"VLOOKUP(K975,'Standard Labels'!$A$7:$AC$500,11)","v":0},{"$f":"VLOOKUP(K975,'Standard Labels'!$A$7:$AC$500,13)","v":0},{"$f":"VLOOKUP(K975,'Standard Labels'!$A$7:$AC$500,15)","v":0},{"$f":"VLOOKUP(K975,'Standard Labels'!$A$7:$AC$500,17)","v":0},{"$f":"VLOOKUP(K975,'Standard Labels'!$A$7:$AC$500,19)","v":0},{"$f":"VLOOKUP(K975,'Standard Labels'!$A$7:$AC$500,21)","v":0},{"$f":"VLOOKUP(K975,'Standard Labels'!$A$7:$AC$500,23)","v":0},{"$f":"VLOOKUP(K975,'Standard Labels'!$A$7:$AC$500,25)","v":0},{"$f":"VLOOKUP(K975,'Standard Labels'!$A$7:$AC$500,27)","v":0},{"$f":"VLOOKUP(K975,'Standard Labels'!$A$7:$AC$500,29)","v":0},974]
[{"$f":"VLOOKUP(K976,'Standard Labels'!$A$7:$AC$500,11)","v":0},{"$f":"VLOOKUP(K976,'Standard Labels'!$A$7:$AC$500,13)","v":0},{"$f":"VLOOKUP(K976,'Standard Labels'!$A$7:$AC$500,15)","v":0},{"$f":"VLOOKUP(K976,'Standard Labels'!$A$7:$AC$500,17)","v":0},{"$f":"VLOOKUP(K976,'Standard Labels'!$A$7:$AC$500,19)","v":0},{"$f":"VLOOKUP(K976,'Standard Labels'!$A$7:$AC$500,21)","v":0},{"$f":"VLOOKUP(K976,'Standard Labels'!$A$7:$AC$500,23)","v":0},{"$f":"VLOOKUP(K976,'Standard Labels'!$A$7:$AC$500,25)","v":0},{"$f":"VLOOKUP(K976,'Standard Labels'!$A$7:$AC$500,27)","v":0},{"$f":"VLOOKUP(K976,'Standard Labels'!$A$7:$AC$500,29)","v":0},975]
[{"$f":"VLOOKUP(K977,'Standard Labels'!$A$7:$AC$500,11)","v":0},{"$f":"VLOOKUP(K977,'Standard Labels'!$A$7:$AC$500,13)","v":0},{"$f":"VLOOKUP(K977,'Standard Labels'!$A$7:$AC$500,15)","v":0},{"$f":"VLOOKUP(K977,'Standard Labels'!$A$7:$AC$500,17)","v":0},{"$f":"VLOOKUP(K977,'Standard Labels'!$A$7:$AC$500,19)","v":0},{"$f":"VLOOKUP(K977,'Standard Labels'!$A$7:$AC$500,21)","v":0},{"$f":"VLOOKUP(K977,'Standard Labels'!$A$7:$AC$500,23)","v":0},{"$f":"VLOOKUP(K977,'Standard Labels'!$A$7:$AC$500,25)","v":0},{"$f":"VLOOKUP(K977,'Standard Labels'!$A$7:$AC$500,27)","v":0},{"$f":"VLOOKUP(K977,'Standard Labels'!$A$7:$AC$500,29)","v":0},976]
[{"$f":"VLOOKUP(K978,'Standard Labels'!$A$7:$AC$500,11)","v":0},{"$f":"VLOOKUP(K978,'Standard Labels'!$A$7:$AC$500,13)","v":0},{"$f":"VLOOKUP(K978,'Standard Labels'!$A$7:$AC$500,15)","v":0},{"$f":"VLOOKUP(K978,'Standard Labels'!$A$7:$AC$500,17)","v":0},{"$f":"VLOOKUP(K978,'Standard Labels'!$A$7:$AC$500,19)","v":0},{"$f":"VLOOKUP(K978,'Standard Labels'!$A$7:$AC$500,21)","v":0},{"$f":"VLOOKUP(K978,'Standard Labels'!$A$7:$AC$500,23)","v":0},{"$f":"VLOOKUP(K978,'Standard Labels'!$A$7:$AC$500,25)","v":0},{"$f":"VLOOKUP(K978,'Standard Labels'!$A$7:$AC$500,27)","v":0},{"$f":"VLOOKUP(K978,'Standard Labels'!$A$7:$AC$500,29)","v":0},977]
[{"$f":"VLOOKUP(K979,'Standard Labels'!$A$7:$AC$500,11)","v":0},{"$f":"VLOOKUP(K979,'Standard Labels'!$A$7:$AC$500,13)","v":0},{"$f":"VLOOKUP(K979,'Standard Labels'!$A$7:$AC$500,15)","v":0},{"$f":"VLOOKUP(K979,'Standard Labels'!$A$7:$AC$500,17)","v":0},{"$f":"VLOOKUP(K979,'Standard Labels'!$A$7:$AC$500,19)","v":0},{"$f":"VLOOKUP(K979,'Standard Labels'!$A$7:$AC$500,21)","v":0},{"$f":"VLOOKUP(K979,'Standard Labels'!$A$7:$AC$500,23)","v":0},{"$f":"VLOOKUP(K979,'Standard Labels'!$A$7:$AC$500,25)","v":0},{"$f":"VLOOKUP(K979,'Standard Labels'!$A$7:$AC$500,27)","v":0},{"$f":"VLOOKUP(K979,'Standard Labels'!$A$7:$AC$500,29)","v":0},978]
[{"$f":"VLOOKUP(K980,'Standard Labels'!$A$7:$AC$500,11)","v":0},{"$f":"VLOOKUP(K980,'Standard Labels'!$A$7:$AC$500,13)","v":0},{"$f":"VLOOKUP(K980,'Standard Labels'!$A$7:$AC$500,15)","v":0},{"$f":"VLOOKUP(K980,'Standard Labels'!$A$7:$AC$500,17)","v":0},{"$f":"VLOOKUP(K980,'Standard Labels'!$A$7:$AC$500,19)","v":0},{"$f":"VLOOKUP(K980,'Standard Labels'!$A$7:$AC$500,21)","v":0},{"$f":"VLOOKUP(K980,'Standard Labels'!$A$7:$AC$500,23)","v":0},{"$f":"VLOOKUP(K980,'Standard Labels'!$A$7:$AC$500,25)","v":0},{"$f":"VLOOKUP(K980,'Standard Labels'!$A$7:$AC$500,27)","v":0},{"$f":"VLOOKUP(K980,'Standard Labels'!$A$7:$AC$500,29)","v":0},979]
[{"$f":"VLOOKUP(K981,'Standard Labels'!$A$7:$AC$500,11)","v":0},{"$f":"VLOOKUP(K981,'Standard Labels'!$A$7:$AC$500,13)","v":0},{"$f":"VLOOKUP(K981,'Standard Labels'!$A$7:$AC$500,15)","v":0},{"$f":"VLOOKUP(K981,'Standard Labels'!$A$7:$AC$500,17)","v":0},{"$f":"VLOOKUP(K981,'Standard Labels'!$A$7:$AC$500,19)","v":0},{"$f":"VLOOKUP(K981,'Standard Labels'!$A$7:$AC$500,21)","v":0},{"$f":"VLOOKUP(K981,'Standard Labels'!$A$7:$AC$500,23)","v":0},{"$f":"VLOOKUP(K981,'Standard Labels'!$A$7:$AC$500,25)","v":0},{"$f":"VLOOKUP(K981,'Standard Labels'!$A$7:$AC$500,27)","v":0},{"$f":"VLOOKUP(K981,'Standard Labels'!$A$7:$AC$500,29)","v":0},980]
[{"$f":"VLOOKUP(K982,'Standard Labels'!$A$7:$AC$500,11)","v":0},{"$f":"VLOOKUP(K982,'Standard Labels'!$A$7:$AC$500,13)","v":0},{"$f":"VLOOKUP(K982,'Standard Labels'!$A$7:$AC$500,15)","v":0},{"$f":"VLOOKUP(K982,'Standard Labels'!$A$7:$AC$500,17)","v":0},{"$f":"VLOOKUP(K982,'Standard Labels'!$A$7:$AC$500,19)","v":0},{"$f":"VLOOKUP(K982,'Standard Labels'!$A$7:$AC$500,21)","v":0},{"$f":"VLOOKUP(K982,'Standard Labels'!$A$7:$AC$500,23)","v":0},{"$f":"VLOOKUP(K982,'Standard Labels'!$A$7:$AC$500,25)","v":0},{"$f":"VLOOKUP(K982,'Standard Labels'!$A$7:$AC$500,27)","v":0},{"$f":"VLOOKUP(K982,'Standard Labels'!$A$7:$AC$500,29)","v":0},981]
[{"$f":"VLOOKUP(K983,'Standard Labels'!$A$7:$AC$500,11)","v":0},{"$f":"VLOOKUP(K983,'Standard Labels'!$A$7:$AC$500,13)","v":0},{"$f":"VLOOKUP(K983,'Standard Labels'!$A$7:$AC$500,15)","v":0},{"$f":"VLOOKUP(K983,'Standard Labels'!$A$7:$AC$500,17)","v":0},{"$f":"VLOOKUP(K983,'Standard Labels'!$A$7:$AC$500,19)","v":0},{"$f":"VLOOKUP(K983,'Standard Labels'!$A$7:$AC$500,21)","v":0},{"$f":"VLOOKUP(K983,'Standard Labels'!$A$7:$AC$500,23)","v":0},{"$f":"VLOOKUP(K983,'Standard Labels'!$A$7:$AC$500,25)","v":0},{"$f":"VLOOKUP(K983,'Standard Labels'!$A$7:$AC$500,27)","v":0},{"$f":"VLOOKUP(K983,'Standard Labels'!$A$7:$AC$500,29)","v":0},982]
[{"$f":"VLOOKUP(K984,'Standard Labels'!$A$7:$AC$500,11)","v":0},{"$f":"VLOOKUP(K984,'Standard Labels'!$A$7:$AC$500,13)","v":0},{"$f":"VLOOKUP(K984,'Standard Labels'!$A$7:$AC$500,15)","v":0},{"$f":"VLOOKUP(K984,'Standard Labels'!$A$7:$AC$500,17)","v":0},{"$f":"VLOOKUP(K984,'Standard Labels'!$A$7:$AC$500,19)","v":0},{"$f":"VLOOKUP(K984,'Standard Labels'!$A$7:$AC$500,21)","v":0},{"$f":"VLOOKUP(K984,'Standard Labels'!$A$7:$AC$500,23)","v":0},{"$f":"VLOOKUP(K984,'Standard Labels'!$A$7:$AC$500,25)","v":0},{"$f":"VLOOKUP(K984,'Standard Labels'!$A$7:$AC$500,27)","v":0},{"$f":"VLOOKUP(K984,'Standard Labels'!$A$7:$AC$500,29)","v":0},983]
[{"$f":"VLOOKUP(K985,'Standard Labels'!$A$7:$AC$500,11)","v":0},{"$f":"VLOOKUP(K985,'Standard Labels'!$A$7:$AC$500,13)","v":0},{"$f":"VLOOKUP(K985,'Standard Labels'!$A$7:$AC$500,15)","v":0},{"$f":"VLOOKUP(K985,'Standard Labels'!$A$7:$AC$500,17)","v":0},{"$f":"VLOOKUP(K985,'Standard Labels'!$A$7:$AC$500,19)","v":0},{"$f":"VLOOKUP(K985,'Standard Labels'!$A$7:$AC$500,21)","v":0},{"$f":"VLOOKUP(K985,'Standard Labels'!$A$7:$AC$500,23)","v":0},{"$f":"VLOOKUP(K985,'Standard Labels'!$A$7:$AC$500,25)","v":0},{"$f":"VLOOKUP(K985,'Standard Labels'!$A$7:$AC$500,27)","v":0},{"$f":"VLOOKUP(K985,'Standard Labels'!$A$7:$AC$500,29)","v":0},984]
[{"$f":"VLOOKUP(K986,'Standard Labels'!$A$7:$AC$500,11)","v":0},{"$f":"VLOOKUP(K986,'Standard Labels'!$A$7:$AC$500,13)","v":0},{"$f":"VLOOKUP(K986,'Standard Labels'!$A$7:$AC$500,15)","v":0},{"$f":"VLOOKUP(K986,'Standard Labels'!$A$7:$AC$500,17)","v":0},{"$f":"VLOOKUP(K986,'Standard Labels'!$A$7:$AC$500,19)","v":0},{"$f":"VLOOKUP(K986,'Standard Labels'!$A$7:$AC$500,21)","v":0},{"$f":"VLOOKUP(K986,'Standard Labels'!$A$7:$AC$500,23)","v":0},{"$f":"VLOOKUP(K986,'Standard Labels'!$A$7:$AC$500,25)","v":0},{"$f":"VLOOKUP(K986,'Standard Labels'!$A$7:$AC$500,27)","v":0},{"$f":"VLOOKUP(K986,'Standard Labels'!$A$7:$AC$500,29)","v":0},985]
[{"$f":"VLOOKUP(K987,'Standard Labels'!$A$7:$AC$500,11)","v":0},{"$f":"VLOOKUP(K987,'Standard Labels'!$A$7:$AC$500,13)","v":0},{"$f":"VLOOKUP(K987,'Standard Labels'!$A$7:$AC$500,15)","v":0},{"$f":"VLOOKUP(K987,'Standard Labels'!$A$7:$AC$500,17)","v":0},{"$f":"VLOOKUP(K987,'Standard Labels'!$A$7:$AC$500,19)","v":0},{"$f":"VLOOKUP(K987,'Standard Labels'!$A$7:$AC$500,21)","v":0},{"$f":"VLOOKUP(K987,'Standard Labels'!$A$7:$AC$500,23)","v":0},{"$f":"VLOOKUP(K987,'Standard Labels'!$A$7:$AC$500,25)","v":0},{"$f":"VLOOKUP(K987,'Standard Labels'!$A$7:$AC$500,27)","v":0},{"$f":"VLOOKUP(K987,'Standard Labels'!$A$7:$AC$500,29)","v":0},986]
[{"$f":"VLOOKUP(K988,'Standard Labels'!$A$7:$AC$500,11)","v":0},{"$f":"VLOOKUP(K988,'Standard Labels'!$A$7:$AC$500,13)","v":0},{"$f":"VLOOKUP(K988,'Standard Labels'!$A$7:$AC$500,15)","v":0},{"$f":"VLOOKUP(K988,'Standard Labels'!$A$7:$AC$500,17)","v":0},{"$f":"VLOOKUP(K988,'Standard Labels'!$A$7:$AC$500,19)","v":0},{"$f":"VLOOKUP(K988,'Standard Labels'!$A$7:$AC$500,21)","v":0},{"$f":"VLOOKUP(K988,'Standard Labels'!$A$7:$AC$500,23)","v":0},{"$f":"VLOOKUP(K988,'Standard Labels'!$A$7:$AC$500,25)","v":0},{"$f":"VLOOKUP(K988,'Standard Labels'!$A$7:$AC$500,27)","v":0},{"$f":"VLOOKUP(K988,'Standard Labels'!$A$7:$AC$500,29)","v":0},987]
[{"$f":"VLOOKUP(K989,'Standard Labels'!$A$7:$AC$500,11)","v":0},{"$f":"VLOOKUP(K989,'Standard Labels'!$A$7:$AC$500,13)","v":0},{"$f":"VLOOKUP(K989,'Standard Labels'!$A$7:$AC$500,15)","v":0},{"$f":"VLOOKUP(K989,'Standard Labels'!$A$7:$AC$500,17)","v":0},{"$f":"VLOOKUP(K989,'Standard Labels'!$A$7:$AC$500,19)","v":0},{"$f":"VLOOKUP(K989,'Standard Labels'!$A$7:$AC$500,21)","v":0},{"$f":"VLOOKUP(K989,'Standard Labels'!$A$7:$AC$500,23)","v":0},{"$f":"VLOOKUP(K989,'Standard Labels'!$A$7:$AC$500,25)","v":0},{"$f":"VLOOKUP(K989,'Standard Labels'!$A$7:$AC$500,27)","v":0},{"$f":"VLOOKUP(K989,'Standard Labels'!$A$7:$AC$500,29)","v":0},988]
[{"$f":"VLOOKUP(K990,'Standard Labels'!$A$7:$AC$500,11)","v":0},{"$f":"VLOOKUP(K990,'Standard Labels'!$A$7:$AC$500,13)","v":0},{"$f":"VLOOKUP(K990,'Standard Labels'!$A$7:$AC$500,15)","v":0},{"$f":"VLOOKUP(K990,'Standard Labels'!$A$7:$AC$500,17)","v":0},{"$f":"VLOOKUP(K990,'Standard Labels'!$A$7:$AC$500,19)","v":0},{"$f":"VLOOKUP(K990,'Standard Labels'!$A$7:$AC$500,21)","v":0},{"$f":"VLOOKUP(K990,'Standard Labels'!$A$7:$AC$500,23)","v":0},{"$f":"VLOOKUP(K990,'Standard Labels'!$A$7:$AC$500,25)","v":0},{"$f":"VLOOKUP(K990,'Standard Labels'!$A$7:$AC$500,27)","v":0},{"$f":"VLOOKUP(K990,'Standard Labels'!$A$7:$AC$500,29)","v":0},989]
[{"$f":"VLOOKUP(K991,'Standard Labels'!$A$7:$AC$500,11)","v":0},{"$f":"VLOOKUP(K991,'Standard Labels'!$A$7:$AC$500,13)","v":0},{"$f":"VLOOKUP(K991,'Standard Labels'!$A$7:$AC$500,15)","v":0},{"$f":"VLOOKUP(K991,'Standard Labels'!$A$7:$AC$500,17)","v":0},{"$f":"VLOOKUP(K991,'Standard Labels'!$A$7:$AC$500,19)","v":0},{"$f":"VLOOKUP(K991,'Standard Labels'!$A$7:$AC$500,21)","v":0},{"$f":"VLOOKUP(K991,'Standard Labels'!$A$7:$AC$500,23)","v":0},{"$f":"VLOOKUP(K991,'Standard Labels'!$A$7:$AC$500,25)","v":0},{"$f":"VLOOKUP(K991,'Standard Labels'!$A$7:$AC$500,27)","v":0},{"$f":"VLOOKUP(K991,'Standard Labels'!$A$7:$AC$500,29)","v":0},990]
[{"$f":"VLOOKUP(K992,'Standard Labels'!$A$7:$AC$500,11)","v":0},{"$f":"VLOOKUP(K992,'Standard Labels'!$A$7:$AC$500,13)","v":0},{"$f":"VLOOKUP(K992,'Standard Labels'!$A$7:$AC$500,15)","v":0},{"$f":"VLOOKUP(K992,'Standard Labels'!$A$7:$AC$500,17)","v":0},{"$f":"VLOOKUP(K992,'Standard Labels'!$A$7:$AC$500,19)","v":0},{"$f":"VLOOKUP(K992,'Standard Labels'!$A$7:$AC$500,21)","v":0},{"$f":"VLOOKUP(K992,'Standard Labels'!$A$7:$AC$500,23)","v":0},{"$f":"VLOOKUP(K992,'Standard Labels'!$A$7:$AC$500,25)","v":0},{"$f":"VLOOKUP(K992,'Standard Labels'!$A$7:$AC$500,27)","v":0},{"$f":"VLOOKUP(K992,'Standard Labels'!$A$7:$AC$500,29)","v":0},991]
[{"$f":"VLOOKUP(K993,'Standard Labels'!$A$7:$AC$500,11)","v":0},{"$f":"VLOOKUP(K993,'Standard Labels'!$A$7:$AC$500,13)","v":0},{"$f":"VLOOKUP(K993,'Standard Labels'!$A$7:$AC$500,15)","v":0},{"$f":"VLOOKUP(K993,'Standard Labels'!$A$7:$AC$500,17)","v":0},{"$f":"VLOOKUP(K993,'Standard Labels'!$A$7:$AC$500,19)","v":0},{"$f":"VLOOKUP(K993,'Standard Labels'!$A$7:$AC$500,21)","v":0},{"$f":"VLOOKUP(K993,'Standard Labels'!$A$7:$AC$500,23)","v":0},{"$f":"VLOOKUP(K993,'Standard Labels'!$A$7:$AC$500,25)","v":0},{"$f":"VLOOKUP(K993,'Standard Labels'!$A$7:$AC$500,27)","v":0},{"$f":"VLOOKUP(K993,'Standard Labels'!$A$7:$AC$500,29)","v":0},992]
[{"$f":"VLOOKUP(K994,'Standard Labels'!$A$7:$AC$500,11)","v":0},{"$f":"VLOOKUP(K994,'Standard Labels'!$A$7:$AC$500,13)","v":0},{"$f":"VLOOKUP(K994,'Standard Labels'!$A$7:$AC$500,15)","v":0},{"$f":"VLOOKUP(K994,'Standard Labels'!$A$7:$AC$500,17)","v":0},{"$f":"VLOOKUP(K994,'Standard Labels'!$A$7:$AC$500,19)","v":0},{"$f":"VLOOKUP(K994,'Standard Labels'!$A$7:$AC$500,21)","v":0},{"$f":"VLOOKUP(K994,'Standard Labels'!$A$7:$AC$500,23)","v":0},{"$f":"VLOOKUP(K994,'Standard Labels'!$A$7:$AC$500,25)","v":0},{"$f":"VLOOKUP(K994,'Standard Labels'!$A$7:$AC$500,27)","v":0},{"$f":"VLOOKUP(K994,'Standard Labels'!$A$7:$AC$500,29)","v":0},993]
[{"$f":"VLOOKUP(K995,'Standard Labels'!$A$7:$AC$500,11)","v":0},{"$f":"VLOOKUP(K995,'Standard Labels'!$A$7:$AC$500,13)","v":0},{"$f":"VLOOKUP(K995,'Standard Labels'!$A$7:$AC$500,15)","v":0},{"$f":"VLOOKUP(K995,'Standard Labels'!$A$7:$AC$500,17)","v":0},{"$f":"VLOOKUP(K995,'Standard Labels'!$A$7:$AC$500,19)","v":0},{"$f":"VLOOKUP(K995,'Standard Labels'!$A$7:$AC$500,21)","v":0},{"$f":"VLOOKUP(K995,'Standard Labels'!$A$7:$AC$500,23)","v":0},{"$f":"VLOOKUP(K995,'Standard Labels'!$A$7:$AC$500,25)","v":0},{"$f":"VLOOKUP(K995,'Standard Labels'!$A$7:$AC$500,27)","v":0},{"$f":"VLOOKUP(K995,'Standard Labels'!$A$7:$AC$500,29)","v":0},994]
[{"$f":"VLOOKUP(K996,'Standard Labels'!$A$7:$AC$500,11)","v":0},{"$f":"VLOOKUP(K996,'Standard Labels'!$A$7:$AC$500,13)","v":0},{"$f":"VLOOKUP(K996,'Standard Labels'!$A$7:$AC$500,15)","v":0},{"$f":"VLOOKUP(K996,'Standard Labels'!$A$7:$AC$500,17)","v":0},{"$f":"VLOOKUP(K996,'Standard Labels'!$A$7:$AC$500,19)","v":0},{"$f":"VLOOKUP(K996,'Standard Labels'!$A$7:$AC$500,21)","v":0},{"$f":"VLOOKUP(K996,'Standard Labels'!$A$7:$AC$500,23)","v":0},{"$f":"VLOOKUP(K996,'Standard Labels'!$A$7:$AC$500,25)","v":0},{"$f":"VLOOKUP(K996,'Standard Labels'!$A$7:$AC$500,27)","v":0},{"$f":"VLOOKUP(K996,'Standard Labels'!$A$7:$AC$500,29)","v":0},995]
[{"$f":"VLOOKUP(K997,'Standard Labels'!$A$7:$AC$500,11)","v":0},{"$f":"VLOOKUP(K997,'Standard Labels'!$A$7:$AC$500,13)","v":0},{"$f":"VLOOKUP(K997,'Standard Labels'!$A$7:$AC$500,15)","v":0},{"$f":"VLOOKUP(K997,'Standard Labels'!$A$7:$AC$500,17)","v":0},{"$f":"VLOOKUP(K997,'Standard Labels'!$A$7:$AC$500,19)","v":0},{"$f":"VLOOKUP(K997,'Standard Labels'!$A$7:$AC$500,21)","v":0},{"$f":"VLOOKUP(K997,'Standard Labels'!$A$7:$AC$500,23)","v":0},{"$f":"VLOOKUP(K997,'Standard Labels'!$A$7:$AC$500,25)","v":0},{"$f":"VLOOKUP(K997,'Standard Labels'!$A$7:$AC$500,27)","v":0},{"$f":"VLOOKUP(K997,'Standard Labels'!$A$7:$AC$500,29)","v":0},996]
[{"$f":"VLOOKUP(K998,'Standard Labels'!$A$7:$AC$500,11)","v":0},{"$f":"VLOOKUP(K998,'Standard Labels'!$A$7:$AC$500,13)","v":0},{"$f":"VLOOKUP(K998,'Standard Labels'!$A$7:$AC$500,15)","v":0},{"$f":"VLOOKUP(K998,'Standard Labels'!$A$7:$AC$500,17)","v":0},{"$f":"VLOOKUP(K998,'Standard Labels'!$A$7:$AC$500,19)","v":0},{"$f":"VLOOKUP(K998,'Standard Labels'!$A$7:$AC$500,21)","v":0},{"$f":"VLOOKUP(K998,'Standard Labels'!$A$7:$AC$500,23)","v":0},{"$f":"VLOOKUP(K998,'Standard Labels'!$A$7:$AC$500,25)","v":0},{"$f":"VLOOKUP(K998,'Standard Labels'!$A$7:$AC$500,27)","v":0},{"$f":"VLOOKUP(K998,'Standard Labels'!$A$7:$AC$500,29)","v":0},997]
[{"$f":"VLOOKUP(K999,'Standard Labels'!$A$7:$AC$500,11)","v":0},{"$f":"VLOOKUP(K999,'Standard Labels'!$A$7:$AC$500,13)","v":0},{"$f":"VLOOKUP(K999,'Standard Labels'!$A$7:$AC$500,15)","v":0},{"$f":"VLOOKUP(K999,'Standard Labels'!$A$7:$AC$500,17)","v":0},{"$f":"VLOOKUP(K999,'Standard Labels'!$A$7:$AC$500,19)","v":0},{"$f":"VLOOKUP(K999,'Standard Labels'!$A$7:$AC$500,21)","v":0},{"$f":"VLOOKUP(K999,'Standard Labels'!$A$7:$AC$500,23)","v":0},{"$f":"VLOOKUP(K999,'Standard Labels'!$A$7:$AC$500,25)","v":0},{"$f":"VLOOKUP(K999,'Standard Labels'!$A$7:$AC$500,27)","v":0},{"$f":"VLOOKUP(K999,'Standard Labels'!$A$7:$AC$500,29)","v":0},998]
[{"$f":"VLOOKUP(K1000,'Standard Labels'!$A$7:$AC$500,11)","v":0},{"$f":"VLOOKUP(K1000,'Standard Labels'!$A$7:$AC$500,13)","v":0},{"$f":"VLOOKUP(K1000,'Standard Labels'!$A$7:$AC$500,15)","v":0},{"$f":"VLOOKUP(K1000,'Standard Labels'!$A$7:$AC$500,17)","v":0},{"$f":"VLOOKUP(K1000,'Standard Labels'!$A$7:$AC$500,19)","v":0},{"$f":"VLOOKUP(K1000,'Standard Labels'!$A$7:$AC$500,21)","v":0},{"$f":"VLOOKUP(K1000,'Standard Labels'!$A$7:$AC$500,23)","v":0},{"$f":"VLOOKUP(K1000,'Standard Labels'!$A$7:$AC$500,25)","v":0},{"$f":"VLOOKUP(K1000,'Standard Labels'!$A$7:$AC$500,27)","v":0},{"$f":"VLOOKUP(K1000,'Standard Labels'!$A$7:$AC$500,29)","v":0},999]
[{"$f":"VLOOKUP(K1001,'Standard Labels'!$A$7:$AC$500,11)","v":0},{"$f":"VLOOKUP(K1001,'Standard Labels'!$A$7:$AC$500,13)","v":0},{"$f":"VLOOKUP(K1001,'Standard Labels'!$A$7:$AC$500,15)","v":0},{"$f":"VLOOKUP(K1001,'Standard Labels'!$A$7:$AC$500,17)","v":0},{"$f":"VLOOKUP(K1001,'Standard Labels'!$A$7:$AC$500,19)","v":0},{"$f":"VLOOKUP(K1001,'Standard Labels'!$A$7:$AC$500,21)","v":0},{"$f":"VLOOKUP(K1001,'Standard Labels'!$A$7:$AC$500,23)","v":0},{"$f":"VLOOKUP(K1001,'Standard Labels'!$A$7:$AC$500,25)","v":0},{"$f":"VLOOKUP(K1001,'Standard Labels'!$A$7:$AC$500,27)","v":0},{"$f":"VLOOKUP(K1001,'Standard Labels'!$A$7:$AC$500,29)","v":0},1000]

{"sheet":"Vertical Calculations","index":8,"n_rows":180,"n_cols":53,"rows_kept":180,"hidden":true}
[]
[{"$nulls":3},1,2,3,4,5,6,7,8,9,10,11,12,13,14,15,16,17,18,19,20,21,22,23,24,25,26,27,28,29,30,31,32,33,34,35,36,37,38,39,40,41,42,43,44,45,46,47,48,49,50]
[null,"LABEL 1","RELATIVE",{"$f":"'Vertical Labels'!E$12","v":0},{"$f":"'Vertical Labels'!F$12","v":0},{"$f":"'Vertical Labels'!G$12","v":0},{"$f":"'Vertical Labels'!H$12","v":0},{"$f":"'Vertical Labels'!I$12","v":0},{"$f":"'Vertical Labels'!J$12","v":0},{"$f":"'Vertical Labels'!K$12","v":0},{"$f":"'Vertical Labels'!L$12","v":0},{"$f":"'Vertical Labels'!M$12","v":0},{"$f":"'Vertical Labels'!N$12","v":0},{"$f":"'Vertical Labels'!O$12","v":0},{"$f":"'Vertical Labels'!P$12","v":0},{"$f":"'Vertical Labels'!Q$12","v":0},{"$f":"'Vertical Labels'!R$12","v":0},{"$f":"'Vertical Labels'!S$12","v":0},{"$f":"'Vertical Labels'!T$12","v":0},{"$f":"'Vertical Labels'!U$12","v":0},{"$f":"'Vertical Labels'!V$12","v":0},{"$f":"'Vertical Labels'!W$12","v":0},{"$f":"'Vertical Labels'!X$12","v":0},{"$f":"'Vertical Labels'!Y$12","v":0},{"$f":"'Vertical Labels'!Z$12","v":0},{"$f":"'Vertical Labels'!AA$12","v":0},{"$f":"'Vertical Labels'!AB$12","v":0},{"$f":"'Vertical Labels'!AC$12","v":0},{"$f":"'Vertical Labels'!AD$12","v":0},{"$f":"'Vertical Labels'!AE$12","v":0},{"$f":"'Vertical Labels'!AF$12","v":0},{"$f":"'Vertical Labels'!AG$12","v":0},{"$f":"'Vertical Labels'!AH$12","v":0},{"$f":"'Vertical Labels'!AI$12","v":0},{"$f":"'Vertical Labels'!AJ$12","v":0},{"$f":"'Vertical Labels'!AK$12","v":0},{"$f":"'Vertical Labels'!AL$12","v":0},{"$f":"'Vertical Labels'!AM$12","v":0},{"$f":"'Vertical Labels'!AN$12","v":0},{"$f":"'Vertical Labels'!AO$12","v":0},{"$f":"'Vertical Labels'!AP$12","v":0},{"$f":"'Vertical Labels'!AQ$12","v":0},{"$f":"'Vertical Labels'!AR$12","v":0},{"$f":"'Vertical Labels'!AS$12","v":0},{"$f":"'Vertical Labels'!AT$12","v":0},{"$f":"'Vertical Labels'!AU$12","v":0},{"$f":"'Vertical Labels'!AV$12","v":0},{"$f":"'Vertical Labels'!AW$12","v":0},{"$f":"'Vertical Labels'!AX$12","v":0},{"$f":"'Vertical Labels'!AY$12","v":0},{"$f":"'Vertical Labels'!AZ$12","v":0},{"$f":"'Vertical Labels'!BA$12","v":0},{"$f":"'Vertical Labels'!BB$12","v":0}]
[null,null,"FIXED",{"$f":"SUM($D$3:D3)","v":0},{"$f":"IF(OR(SUM($D$3:E3)=D4,D4=0),0,SUM($D$3:E3))","v":0},{"$f":"IF(OR(SUM($D$3:F3)=E4,E4=0),0,SUM($D$3:F3))","v":0},{"$f":"IF(OR(SUM($D$3:G3)=F4,F4=0),0,SUM($D$3:G3))","v":0},{"$f":"IF(OR(SUM($D$3:H3)=G4,G4=0),0,SUM($D$3:H3))","v":0},{"$f":"IF(OR(SUM($D$3:I3)=H4,H4=0),0,SUM($D$3:I3))","v":0},{"$f":"IF(OR(SUM($D$3:J3)=I4,I4=0),0,SUM($D$3:J3))","v":0},{"$f":"IF(OR(SUM($D$3:K3)=J4,J4=0),0,SUM($D$3:K3))","v":0},{"$f":"IF(OR(SUM($D$3:L3)=K4,K4=0),0,SUM($D$3:L3))","v":0},{"$f":"IF(OR(SUM($D$3:M3)=L4,L4=0),0,SUM($D$3:M3))","v":0},{"$f":"IF(OR(SUM($D$3:N3)=M4,M4=0),0,SUM($D$3:N3))","v":0},{"$f":"IF(OR(SUM($D$3:O3)=N4,N4=0),0,SUM($D$3:O3))","v":0},{"$f":"IF(OR(SUM($D$3:P3)=O4,O4=0),0,SUM($D$3:P3))","v":0},{"$f":"IF(OR(SUM($D$3:Q3)=P4,P4=0),0,SUM($D$3:Q3))","v":0},{"$f":"IF(OR(SUM($D$3:R3)=Q4,Q4=0),0,SUM($D$3:R3))","v":0},{"$f":"IF(OR(SUM($D$3:S3)=R4,R4=0),0,SUM($D$3:S3))","v":0},{"$f":"IF(OR(SUM($D$3:T3)=S4,S4=0),0,SUM($D$3:T3))","v":0},{"$f":"IF(OR(SUM($D$3:U3)=T4,T4=0),0,SUM($D$3:U3))","v":0},{"$f":"IF(OR(SUM($D$3:V3)=U4,U4=0),0,SUM($D$3:V3))","v":0},{"$f":"IF(OR(SUM($D$3:W3)=V4,V4=0),0,SUM($D$3:W3))","v":0},{"$f":"IF(OR(SUM($D$3:X3)=W4,W4=0),0,SUM($D$3:X3))","v":0},{"$f":"IF(OR(SUM($D$3:Y3)=X4,X4=0),0,SUM($D$3:Y3))","v":0},{"$f":"IF(OR(SUM($D$3:Z3)=Y4,Y4=0),0,SUM($D$3:Z3))","v":0},{"$f":"IF(OR(SUM($D$3:AA3)=Z4,Z4=0),0,SUM($D$3:AA3))","v":0},{"$f":"IF(OR(SUM($D$3:AB3)=AA4,AA4=0),0,SUM($D$3:AB3))","v":0},{"$f":"IF(OR(SUM($D$3:AC3)=AB4,AB4=0),0,SUM($D$3:AC3))","v":0},{"$f":"IF(OR(SUM($D$3:AD3)=AC4,AC4=0),0,SUM($D$3:AD3))","v":0},{"$f":"IF(OR(SUM($D$3:AE3)=AD4,AD4=0),0,SUM($D$3:AE3))","v":0},{"$f":"IF(OR(SUM($D$3:AF3)=AE4,AE4=0),0,SUM($D$3:AF3))","v":0},{"$f":"IF(OR(SUM($D$3:AG3)=AF4,AF4=0),0,SUM($D$3:AG3))","v":0},{"$f":"IF(OR(SUM($D$3:AH3)=AG4,AG4=0),0,SUM($D$3:AH3))","v":0},{"$f":"IF(OR(SUM($D$3:AI3)=AH4,AH4=0),0,SUM($D$3:AI3))","v":0},{"$f":"IF(OR(SUM($D$3:AJ3)=AI4,AI4=0),0,SUM($D$3:AJ3))","v":0},{"$f":"IF(OR(SUM($D$3:AK3)=AJ4,AJ4=0),0,SUM($D$3:AK3))","v":0},{"$f":"IF(OR(SUM($D$3:AL3)=AK4,AK4=0),0,SUM($D$3:AL3))","v":0},{"$f":"IF(OR(SUM($D$3:AM3)=AL4,AL4=0),0,SUM($D$3:AM3))","v":0},{"$f":"IF(OR(SUM($D$3:AN3)=AM4,AM4=0),0,SUM($D$3:AN3))","v":0},{"$f":"IF(OR(SUM($D$3:AO3)=AN4,AN4=0),0,SUM($D$3:AO3))","v":0},{"$f":"IF(OR(SUM($D$3:AP3)=AO4,AO4=0),0,SUM($D$3:AP3))","v":0},{"$f":"IF(OR(SUM($D$3:AQ3)=AP4,AP4=0),0,SUM($D$3:AQ3))","v":0},{"$f":"IF(OR(SUM($D$3:AR3)=AQ4,AQ4=0),0,SUM($D$3:AR3))","v":0},{"$f":"IF(OR(SUM($D$3:AS3)=AR4,AR4=0),0,SUM($D$3:AS3))","v":0},{"$f":"IF(OR(SUM($D$3:AT3)=AS4,AS4=0),0,SUM($D$3:AT3))","v":0},{"$f":"IF(OR(SUM($D$3:AU3)=AT4,AT4=0),0,SUM($D$3:AU3))","v":0},{"$f":"IF(OR(SUM($D$3:AV3)=AU4,AU4=0),0,SUM($D$3:AV3))","v":0},{"$f":"IF(OR(SUM($D$3:AW3)=AV4,AV4=0),0,SUM($D$3:AW3))","v":0},{"$f":"IF(OR(SUM($D$3:AX3)=AW4,AW4=0),0,SUM($D$3:AX3))","v":0},{"$f":"IF(OR(SUM($D$3:AY3)=AX4,AX4=0),0,SUM($D$3:AY3))","v":0},{"$f":"IF(OR(SUM($D$3:AZ3)=AY4,AY4=0),0,SUM($D$3:AZ3))","v":0},{"$f":"IF(OR(SUM($D$3:BA3)=AZ4,AZ4=0),0,SUM($D$3:BA3))","v":0}]
[null,null,"FIXED",{"$f":"'Vertical Labels'!E$12","v":0},{"$f":"'Vertical Labels'!F$12","v":0},{"$f":"'Vertical Labels'!G$12","v":0},{"$f":"'Vertical Labels'!H$12","v":0},{"$f":"'Vertical Labels'!I$12","v":0},{"$f":"'Vertical Labels'!J$12","v":0},{"$f":"'Vertical Labels'!K$12","v":0},{"$f":"'Vertical Labels'!L$12","v":0},{"$f":"'Vertical Labels'!M$12","v":0},{"$f":"'Vertical Labels'!N$12","v":0},{"$f":"'Vertical Labels'!O$12","v":0},{"$f":"'Vertical Labels'!P$12","v":0},{"$f":"'Vertical Labels'!Q$12","v":0},{"$f":"'Vertical Labels'!R$12","v":0},{"$f":"'Vertical Labels'!S$12","v":0},{"$f":"'Vertical Labels'!T$12","v":0},{"$f":"'Vertical Labels'!U$12","v":0},{"$f":"'Vertical Labels'!V$12","v":0},{"$f":"'Vertical Labels'!W$12","v":0},{"$f":"'Vertical Labels'!X$12","v":0},{"$f":"'Vertical Labels'!Y$12","v":0},{"$f":"'Vertical Labels'!Z$12","v":0},{"$f":"'Vertical Labels'!AA$12","v":0},{"$f":"'Vertical Labels'!AB$12","v":0},{"$f":"'Vertical Labels'!AC$12","v":0},{"$f":"'Vertical Labels'!AD$12","v":0},{"$f":"'Vertical Labels'!AE$12","v":0},{"$f":"'Vertical Labels'!AF$12","v":0},{"$f":"'Vertical Labels'!AG$12","v":0},{"$f":"'Vertical Labels'!AH$12","v":0},{"$f":"'Vertical Labels'!AI$12","v":0},{"$f":"'Vertical Labels'!AJ$12","v":0},{"$f":"'Vertical Labels'!AK$12","v":0},{"$f":"'Vertical Labels'!AL$12","v":0},{"$f":"'Vertical Labels'!AM$12","v":0},{"$f":"'Vertical Labels'!AN$12","v":0},{"$f":"'Vertical Labels'!AO$12","v":0},{"$f":"'Vertical Labels'!AP$12","v":0},{"$f":"'Vertical Labels'!AQ$12","v":0},{"$f":"'Vertical Labels'!AR$12","v":0},{"$f":"'Vertical Labels'!AS$12","v":0},{"$f":"'Vertical Labels'!AT$12","v":0},{"$f":"'Vertical Labels'!AU$12","v":0},{"$f":"'Vertical Labels'!AV$12","v":0},{"$f":"'Vertical Labels'!AW$12","v":0},{"$f":"'Vertical Labels'!AX$12","v":0},{"$f":"'Vertical Labels'!AY$12","v":0},{"$f":"'Vertical Labels'!AZ$12","v":0},{"$f":"'Vertical Labels'!BA$12","v":0},{"$f":"'Vertical Labels'!BB$12","v":0}]
[null,null,"RELATIVE",{"$f":"D5","v":0},{"$f":"IF(E5-D5<1,0,E5-D5)","v":0},{"$f":"IF(F5-E5<1,0,F5-E5)","v":0},0,0,0,0,0,0,0,0,0,0,0,0,0,0,0,0,0,0,0,0,0,0,0,0,0,0,0,0,0,0,0,0,0,0,0,0,0,0,0,0,0,0,0,0,0,0,0]
[null,null,"BLOCKS",{"$f":"'Vertical Labels'!E$12","v":0},{"$f":"'Vertical Labels'!F$12","v":0},{"$f":"'Vertical Labels'!G$12","v":0},{"$f":"'Vertical Labels'!H$12","v":0},{"$f":"'Vertical Labels'!I$12","v":0},{"$f":"'Vertical Labels'!J$12","v":0},{"$f":"'Vertical Labels'!K$12","v":0},{"$f":"'Vertical Labels'!L$12","v":0},{"$f":"'Vertical Labels'!M$12","v":0},{"$f":"'Vertical Labels'!N$12","v":0},{"$f":"'Vertical Labels'!O$12","v":0},{"$f":"'Vertical Labels'!P$12","v":0},{"$f":"'Vertical Labels'!Q$12","v":0},{"$f":"'Vertical Labels'!R$12","v":0},{"$f":"'Vertical Labels'!S$12","v":0},{"$f":"'Vertical Labels'!T$12","v":0},{"$f":"'Vertical Labels'!U$12","v":0},{"$f":"'Vertical Labels'!V$12","v":0},{"$f":"'Vertical Labels'!W$12","v":0},{"$f":"'Vertical Labels'!X$12","v":0},{"$f":"'Vertical Labels'!Y$12","v":0},{"$f":"'Vertical Labels'!Z$12","v":0},{"$f":"'Vertical Labels'!AA$12","v":0},{"$f":"'Vertical Labels'!AB$12","v":0},{"$f":"'Vertical Labels'!AC$12","v":0},{"$f":"'Vertical Labels'!AD$12","v":0},{"$f":"'Vertical Labels'!AE$12","v":0},{"$f":"'Vertical Labels'!AF$12","v":0},{"$f":"'Vertical Labels'!AG$12","v":0},{"$f":"'Vertical Labels'!AH$12","v":0},{"$f":"'Vertical Labels'!AI$12","v":0},{"$f":"'Vertical Labels'!AJ$12","v":0},{"$f":"'Vertical Labels'!AK$12","v":0},{"$f":"'Vertical Labels'!AL$12","v":0},{"$f":"'Vertical Labels'!AM$12","v":0},{"$f":"'Vertical Labels'!AN$12","v":0},{"$f":"'Vertical Labels'!AO$12","v":0},{"$f":"'Vertical Labels'!AP$12","v":0},{"$f":"'Vertical Labels'!AQ$12","v":0},{"$f":"'Vertical Labels'!AR$12","v":0},{"$f":"'Vertical Labels'!AS$12","v":0},{"$f":"'Vertical Labels'!AT$12","v":0},{"$f":"'Vertical Labels'!AU$12","v":0},{"$f":"'Vertical Labels'!AV$12","v":0},{"$f":"'Vertical Labels'!AW$12","v":0},{"$f":"'Vertical Labels'!AX$12","v":0},{"$f":"'Vertical Labels'!AY$12","v":0},{"$f":"'Vertical Labels'!AZ$12","v":0},{"$f":"'Vertical Labels'!BA$12","v":0},{"$f":"'Vertical Labels'!BB$12","v":0}]
[null,null,"FIXED",{"$f":"D9","v":0},{"$f":"IF(OR(SUM($D$9:E9)=D8,D8=0),0,SUM($D$9:E9))","v":0},{"$f":"IF(OR(SUM($D$9:F9)=E8,E8=0),0,SUM($D$9:F9))","v":0},{"$f":"IF(OR(SUM($D$9:G9)=F8,F8=0),0,SUM($D$9:G9))","v":0},{"$f":"IF(OR(SUM($D$9:H9)=G8,G8=0),0,SUM($D$9:H9))","v":0},{"$f":"IF(OR(SUM($D$9:I9)=H8,H8=0),0,SUM($D$9:I9))","v":0},{"$f":"IF(OR(SUM($D$9:J9)=I8,I8=0),0,SUM($D$9:J9))","v":0},{"$f":"IF(OR(SUM($D$9:K9)=J8,J8=0),0,SUM($D$9:K9))","v":0},{"$f":"IF(OR(SUM($D$9:L9)=K8,K8=0),0,SUM($D$9:L9))","v":0},{"$f":"IF(OR(SUM($D$9:M9)=L8,L8=0),0,SUM($D$9:M9))","v":0},{"$f":"IF(OR(SUM($D$9:N9)=M8,M8=0),0,SUM($D$9:N9))","v":0},{"$f":"IF(OR(SUM($D$9:O9)=N8,N8=0),0,SUM($D$9:O9))","v":0},{"$f":"IF(OR(SUM($D$9:P9)=O8,O8=0),0,SUM($D$9:P9))","v":0},{"$f":"IF(OR(SUM($D$9:Q9)=P8,P8=0),0,SUM($D$9:Q9))","v":0},{"$f":"IF(OR(SUM($D$9:R9)=Q8,Q8=0),0,SUM($D$9:R9))","v":0},{"$f":"IF(OR(SUM($D$9:S9)=R8,R8=0),0,SUM($D$9:S9))","v":0},{"$f":"IF(OR(SUM($D$9:T9)=S8,S8=0),0,SUM($D$9:T9))","v":0},{"$f":"IF(OR(SUM($D$9:U9)=T8,T8=0),0,SUM($D$9:U9))","v":0},{"$f":"IF(OR(SUM($D$9:V9)=U8,U8=0),0,SUM($D$9:V9))","v":0},{"$f":"IF(OR(SUM($D$9:W9)=V8,V8=0),0,SUM($D$9:W9))","v":0},{"$f":"IF(OR(SUM($D$9:X9)=W8,W8=0),0,SUM($D$9:X9))","v":0},{"$f":"IF(OR(SUM($D$9:Y9)=X8,X8=0),0,SUM($D$9:Y9))","v":0},{"$f":"IF(OR(SUM($D$9:Z9)=Y8,Y8=0),0,SUM($D$9:Z9))","v":0},{"$f":"IF(OR(SUM($D$9:AA9)=Z8,Z8=0),0,SUM($D$9:AA9))","v":0},{"$f":"IF(OR(SUM($D$9:AB9)=AA8,AA8=0),0,SUM($D$9:AB9))","v":0},{"$f":"IF(OR(SUM($D$9:AC9)=AB8,AB8=0),0,SUM($D$9:AC9))","v":0},{"$f":"IF(OR(SUM($D$9:AD9)=AC8,AC8=0),0,SUM($D$9:AD9))","v":0},{"$f":"IF(OR(SUM($D$9:AE9)=AD8,AD8=0),0,SUM($D$9:AE9))","v":0},{"$f":"IF(OR(SUM($D$9:AF9)=AE8,AE8=0),0,SUM($D$9:AF9))","v":0},{"$f":"IF(OR(SUM($D$9:AG9)=AF8,AF8=0),0,SUM($D$9:AG9))","v":0},{"$f":"IF(OR(SUM($D$9:AH9)=AG8,AG8=0),0,SUM($D$9:AH9))","v":0},{"$f":"IF(OR(SUM($D$9:AI9)=AH8,AH8=0),0,SUM($D$9:AI9))","v":0},{"$f":"IF(OR(SUM($D$9:AJ9)=AI8,AI8=0),0,SUM($D$9:AJ9))","v":0},{"$f":"IF(OR(SUM($D$9:AK9)=AJ8,AJ8=0),0,SUM($D$9:AK9))","v":0},{"$f":"IF(OR(SUM($D$9:AL9)=AK8,AK8=0),0,SUM($D$9:AL9))","v":0},{"$f":"IF(OR(SUM($D$9:AM9)=AL8,AL8=0),0,SUM($D$9:AM9))","v":0},{"$f":"IF(OR(SUM($D$9:AN9)=AM8,AM8=0),0,SUM($D$9:AN9))","v":0},{"$f":"IF(OR(SUM($D$9:AO9)=AN8,AN8=0),0,SUM($D$9:AO9))","v":0},{"$f":"IF(OR(SUM($D$9:AP9)=AO8,AO8=0),0,SUM($D$9:AP9))","v":0},{"$f":"IF(OR(SUM($D$9:AQ9)=AP8,AP8=0),0,SUM($D$9:AQ9))","v":0},{"$f":"IF(OR(SUM($D$9:AR9)=AQ8,AQ8=0),0,SUM($D$9:AR9))","v":0},{"$f":"IF(OR(SUM($D$9:AS9)=AR8,AR8=0),0,SUM($D$9:AS9))","v":0},{"$f":"IF(OR(SUM($D$9:AT9)=AS8,AS8=0),0,SUM($D$9:AT9))","v":0},{"$f":"IF(OR(SUM($D$9:AU9)=AT8,AT8=0),0,SUM($D$9:AU9))","v":0},{"$f":"IF(OR(SUM($D$9:AV9)=AU8,AU8=0),0,SUM($D$9:AV9))","v":0},{"$f":"IF(OR(SUM($D$9:AW9)=AV8,AV8=0),0,SUM($D$9:AW9))","v":0},{"$f":"IF(OR(SUM($D$9:AX9)=AW8,AW8=0),0,SUM($D$9:AX9))","v":0},{"$f":"IF(OR(SUM($D$9:AY9)=AX8,AX8=0),0,SUM($D$9:AY9))","v":0},{"$f":"IF(OR(SUM($D$9:AZ9)=AY8,AY8=0),0,SUM($D$9:AZ9))","v":0},{"$f":"IF(OR(SUM($D$9:BA9)=AZ8,AZ8=0),0,SUM($D$9:BA9))","v":0}]
[null,null,"RELATIVE",{"$f":"D7/2","v":0},{"$f":"(D7/2)+(E7/2)","v":0},{"$f":"(E7/2)+(F7/2)","v":0},0,0,0,0,0,0,0,0,0,0,0,0,0,0,0,0,0,0,0,0,0,0,0,0,0,0,0,0,0,0,0,0,0,0,0,0,0,0,0,0,0,0,0,0,0,0,0]
[]
[{"$nulls":3},1,2,3,4,5,6,7,8,9,10,11,12,13,14,15,16,17,18,19,20,21,22,23,24,25,26,27,28,29,30,31,32,33,34,35,36,37,38,39,40,41,42,43,44,45,46,47,48,49,50]
[null,"LABEL 2","RELATIVE",{"$f":"'Vertical Labels'!E$23","v":0},{"$f":"'Vertical Labels'!F$23","v":0},{"$f":"'Vertical Labels'!G$23","v":0},{"$f":"'Vertical Labels'!H$23","v":0},{"$f":"'Vertical Labels'!I$23","v":0},{"$f":"'Vertical Labels'!J$23","v":0},{"$f":"'Vertical Labels'!K$23","v":0},{"$f":"'Vertical Labels'!L$23","v":0},{"$f":"'Vertical Labels'!M$23","v":0},{"$f":"'Vertical Labels'!N$23","v":0},{"$f":"'Vertical Labels'!O$23","v":0},{"$f":"'Vertical Labels'!P$23","v":0},{"$f":"'Vertical Labels'!Q$23","v":0},{"$f":"'Vertical Labels'!R$23","v":0},{"$f":"'Vertical Labels'!S$23","v":0},{"$f":"'Vertical Labels'!T$23","v":0},{"$f":"'Vertical Labels'!U$23","v":0},{"$f":"'Vertical Labels'!V$23","v":0},{"$f":"'Vertical Labels'!W$23","v":0},{"$f":"'Vertical Labels'!X$23","v":0},{"$f":"'Vertical Labels'!Y$23","v":0},{"$f":"'Vertical Labels'!Z$23","v":0},{"$f":"'Vertical Labels'!AA$23","v":0},{"$f":"'Vertical Labels'!AB$23","v":0},{"$f":"'Vertical Labels'!AC$23","v":0},{"$f":"'Vertical Labels'!AD$23","v":0},{"$f":"'Vertical Labels'!AE$23","v":0},{"$f":"'Vertical Labels'!AF$23","v":0},{"$f":"'Vertical Labels'!AG$23","v":0},{"$f":"'Vertical Labels'!AH$23","v":0},{"$f":"'Vertical Labels'!AI$23","v":0},{"$f":"'Vertical Labels'!AJ$23","v":0},{"$f":"'Vertical Labels'!AK$23","v":0},{"$f":"'Vertical Labels'!AL$23","v":0},{"$f":"'Vertical Labels'!AM$23","v":0},{"$f":"'Vertical Labels'!AN$23","v":0},{"$f":"'Vertical Labels'!AO$23","v":0},{"$f":"'Vertical Labels'!AP$23","v":0},{"$f":"'Vertical Labels'!AQ$23","v":0},{"$f":"'Vertical Labels'!AR$23","v":0},{"$f":"'Vertical Labels'!AS$23","v":0},{"$f":"'Vertical Labels'!AT$23","v":0},{"$f":"'Vertical Labels'!AU$23","v":0},{"$f":"'Vertical Labels'!AV$23","v":0},{"$f":"'Vertical Labels'!AW$23","v":0},{"$f":"'Vertical Labels'!AX$23","v":0},{"$f":"'Vertical Labels'!AY$23","v":0},{"$f":"'Vertical Labels'!AZ$23","v":0},{"$f":"'Vertical Labels'!BA$23","v":0},{"$f":"'Vertical Labels'!BB$23","v":0}]
[null,null,"FIXED",{"$f":"SUM($D$12:D12)","v":0},{"$f":"IF(OR(SUM($D$12:E12)=D13,D13=0),0,SUM($D$12:E12))","v":0},{"$f":"IF(OR(SUM($D$12:F12)=E13,E13=0),0,SUM($D$12:F12))","v":0},{"$f":"IF(OR(SUM($D$12:G12)=F13,F13=0),0,SUM($D$12:G12))","v":0},{"$f":"IF(OR(SUM($D$12:H12)=G13,G13=0),0,SUM($D$12:H12))","v":0},{"$f":"IF(OR(SUM($D$12:I12)=H13,H13=0),0,SUM($D$12:I12))","v":0},{"$f":"IF(OR(SUM($D$12:J12)=I13,I13=0),0,SUM($D$12:J12))","v":0},{"$f":"IF(OR(SUM($D$12:K12)=J13,J13=0),0,SUM($D$12:K12))","v":0},{"$f":"IF(OR(SUM($D$12:L12)=K13,K13=0),0,SUM($D$12:L12))","v":0},{"$f":"IF(OR(SUM($D$12:M12)=L13,L13=0),0,SUM($D$12:M12))","v":0},{"$f":"IF(OR(SUM($D$12:N12)=M13,M13=0),0,SUM($D$12:N12))","v":0},{"$f":"IF(OR(SUM($D$12:O12)=N13,N13=0),0,SUM($D$12:O12))","v":0},{"$f":"IF(OR(SUM($D$12:P12)=O13,O13=0),0,SUM($D$12:P12))","v":0},{"$f":"IF(OR(SUM($D$12:Q12)=P13,P13=0),0,SUM($D$12:Q12))","v":0},{"$f":"IF(OR(SUM($D$12:R12)=Q13,Q13=0),0,SUM($D$12:R12))","v":0},{"$f":"IF(OR(SUM($D$12:S12)=R13,R13=0),0,SUM($D$12:S12))","v":0},{"$f":"IF(OR(SUM($D$12:T12)=S13,S13=0),0,SUM($D$12:T12))","v":0},{"$f":"IF(OR(SUM($D$12:U12)=T13,T13=0),0,SUM($D$12:U12))","v":0},{"$f":"IF(OR(SUM($D$12:V12)=U13,U13=0),0,SUM($D$12:V12))","v":0},{"$f":"IF(OR(SUM($D$12:W12)=V13,V13=0),0,SUM($D$12:W12))","v":0},{"$f":"IF(OR(SUM($D$12:X12)=W13,W13=0),0,SUM($D$12:X12))","v":0},{"$f":"IF(OR(SUM($D$12:Y12)=X13,X13=0),0,SUM($D$12:Y12))","v":0},{"$f":"IF(OR(SUM($D$12:Z12)=Y13,Y13=0),0,SUM($D$12:Z12))","v":0},{"$f":"IF(OR(SUM($D$12:AA12)=Z13,Z13=0),0,SUM($D$12:AA12))","v":0},{"$f":"IF(OR(SUM($D$12:AB12)=AA13,AA13=0),0,SUM($D$12:AB12))","v":0},{"$f":"IF(OR(SUM($D$12:AC12)=AB13,AB13=0),0,SUM($D$12:AC12))","v":0},{"$f":"IF(OR(SUM($D$12:AD12)=AC13,AC13=0),0,SUM($D$12:AD12))","v":0},{"$f":"IF(OR(SUM($D$12:AE12)=AD13,AD13=0),0,SUM($D$12:AE12))","v":0},{"$f":"IF(OR(SUM($D$12:AF12)=AE13,AE13=0),0,SUM($D$12:AF12))","v":0},{"$f":"IF(OR(SUM($D$12:AG12)=AF13,AF13=0),0,SUM($D$12:AG12))","v":0},{"$f":"IF(OR(SUM($D$12:AH12)=AG13,AG13=0),0,SUM($D$12:AH12))","v":0},{"$f":"IF(OR(SUM($D$12:AI12)=AH13,AH13=0),0,SUM($D$12:AI12))","v":0},{"$f":"IF(OR(SUM($D$12:AJ12)=AI13,AI13=0),0,SUM($D$12:AJ12))","v":0},{"$f":"IF(OR(SUM($D$12:AK12)=AJ13,AJ13=0),0,SUM($D$12:AK12))","v":0},{"$f":"IF(OR(SUM($D$12:AL12)=AK13,AK13=0),0,SUM($D$12:AL12))","v":0},{"$f":"IF(OR(SUM($D$12:AM12)=AL13,AL13=0),0,SUM($D$12:AM12))","v":0},{"$f":"IF(OR(SUM($D$12:AN12)=AM13,AM13=0),0,SUM($D$12:AN12))","v":0},{"$f":"IF(OR(SUM($D$12:AO12)=AN13,AN13=0),0,SUM($D$12:AO12))","v":0},{"$f":"IF(OR(SUM($D$12:AP12)=AO13,AO13=0),0,SUM($D$12:AP12))","v":0},{"$f":"IF(OR(SUM($D$12:AQ12)=AP13,AP13=0),0,SUM($D$12:AQ12))","v":0},{"$f":"IF(OR(SUM($D$12:AR12)=AQ13,AQ13=0),0,SUM($D$12:AR12))","v":0},{"$f":"IF(OR(SUM($D$12:AS12)=AR13,AR13=0),0,SUM($D$12:AS12))","v":0},{"$f":"IF(OR(SUM($D$12:AT12)=AS13,AS13=0),0,SUM($D$12:AT12))","v":0},{"$f":"IF(OR(SUM($D$12:AU12)=AT13,AT13=0),0,SUM($D$12:AU12))","v":0},{"$f":"IF(OR(SUM($D$12:AV12)=AU13,AU13=0),0,SUM($D$12:AV12))","v":0},{"$f":"IF(OR(SUM($D$12:AW12)=AV13,AV13=0),0,SUM($D$12:AW12))","v":0},{"$f":"IF(OR(SUM($D$12:AX12)=AW13,AW13=0),0,SUM($D$12:AX12))","v":0},{"$f":"IF(OR(SUM($D$12:AY12)=AX13,AX13=0),0,SUM($D$12:AY12))","v":0},{"$f":"IF(OR(SUM($D$12:AZ12)=AY13,AY13=0),0,SUM($D$12:AZ12))","v":0},{"$f":"IF(OR(SUM($D$12:BA12)=AZ13,AZ13=0),0,SUM($D$12:BA12))","v":0}]
[null,null,"FIXED",{"$f":"'Vertical Labels'!E$23","v":0},{"$f":"'Vertical Labels'!F$23","v":0},{"$f":"'Vertical Labels'!G$23","v":0},{"$f":"'Vertical Labels'!H$23","v":0},{"$f":"'Vertical Labels'!I$23","v":0},{"$f":"'Vertical Labels'!J$23","v":0},{"$f":"'Vertical Labels'!K$23","v":0},{"$f":"'Vertical Labels'!L$23","v":0},{"$f":"'Vertical Labels'!M$23","v":0},{"$f":"'Vertical Labels'!N$23","v":0},{"$f":"'Vertical Labels'!O$23","v":0},{"$f":"'Vertical Labels'!P$23","v":0},{"$f":"'Vertical Labels'!Q$23","v":0},{"$f":"'Vertical Labels'!R$23","v":0},{"$f":"'Vertical Labels'!S$23","v":0},{"$f":"'Vertical Labels'!T$23","v":0},{"$f":"'Vertical Labels'!U$23","v":0},{"$f":"'Vertical Labels'!V$23","v":0},{"$f":"'Vertical Labels'!W$23","v":0},{"$f":"'Vertical Labels'!X$23","v":0},{"$f":"'Vertical Labels'!Y$23","v":0},{"$f":"'Vertical Labels'!Z$23","v":0},{"$f":"'Vertical Labels'!AA$23","v":0},{"$f":"'Vertical Labels'!AB$23","v":0},{"$f":"'Vertical Labels'!AC$23","v":0},{"$f":"'Vertical Labels'!AD$23","v":0},{"$f":"'Vertical Labels'!AE$23","v":0},{"$f":"'Vertical Labels'!AF$23","v":0},{"$f":"'Vertical Labels'!AG$23","v":0},{"$f":"'Vertical Labels'!AH$23","v":0},{"$f":"'Vertical Labels'!AI$23","v":0},{"$f":"'Vertical Labels'!AJ$23","v":0},{"$f":"'Vertical Labels'!AK$23","v":0},{"$f":"'Vertical Labels'!AL$23","v":0},{"$f":"'Vertical Labels'!AM$23","v":0},{"$f":"'Vertical Labels'!AN$23","v":0},{"$f":"'Vertical Labels'!AO$23","v":0},{"$f":"'Vertical Labels'!AP$23","v":0},{"$f":"'Vertical Labels'!AQ$23","v":0},{"$f":"'Vertical Labels'!AR$23","v":0},{"$f":"'Vertical Labels'!AS$23","v":0},{"$f":"'Vertical Labels'!AT$23","v":0},{"$f":"'Vertical Labels'!AU$23","v":0},{"$f":"'Vertical Labels'!AV$23","v":0},{"$f":"'Vertical Labels'!AW$23","v":0},{"$f":"'Vertical Labels'!AX$23","v":0},{"$f":"'Vertical Labels'!AY$23","v":0},{"$f":"'Vertical Labels'!AZ$23","v":0},{"$f":"'Vertical Labels'!BA$23","v":0},{"$f":"'Vertical Labels'!BB$23","v":0}]
[null,null,"RELATIVE",{"$f":"D14","v":0},{"$f":"IF(E14-D14<1,0,E14-D14)","v":0},{"$f":"IF(F14-E14<1,0,F14-E14)","v":0},0,0,0,0,0,0,0,0,0,0,0,0,0,0,0,0,0,0,0,0,0,0,0,0,0,0,0,0,0,0,0,0,0,0,0,0,0,0,0,0,0,0,0,0,0,0,0]
[null,null,"BLOCKS",{"$f":"'Vertical Labels'!E$23","v":0},{"$f":"'Vertical Labels'!F$23","v":0},{"$f":"'Vertical Labels'!G$23","v":0},{"$f":"'Vertical Labels'!H$23","v":0},{"$f":"'Vertical Labels'!I$23","v":0},{"$f":"'Vertical Labels'!J$23","v":0},{"$f":"'Vertical Labels'!K$23","v":0},{"$f":"'Vertical Labels'!L$23","v":0},{"$f":"'Vertical Labels'!M$23","v":0},{"$f":"'Vertical Labels'!N$23","v":0},{"$f":"'Vertical Labels'!O$23","v":0},{"$f":"'Vertical Labels'!P$23","v":0},{"$f":"'Vertical Labels'!Q$23","v":0},{"$f":"'Vertical Labels'!R$23","v":0},{"$f":"'Vertical Labels'!S$23","v":0},{"$f":"'Vertical Labels'!T$23","v":0},{"$f":"'Vertical Labels'!U$23","v":0},{"$f":"'Vertical Labels'!V$23","v":0},{"$f":"'Vertical Labels'!W$23","v":0},{"$f":"'Vertical Labels'!X$23","v":0},{"$f":"'Vertical Labels'!Y$23","v":0},{"$f":"'Vertical Labels'!Z$23","v":0},{"$f":"'Vertical Labels'!AA$23","v":0},{"$f":"'Vertical Labels'!AB$23","v":0},{"$f":"'Vertical Labels'!AC$23","v":0},{"$f":"'Vertical Labels'!AD$23","v":0},{"$f":"'Vertical Labels'!AE$23","v":0},{"$f":"'Vertical Labels'!AF$23","v":0},{"$f":"'Vertical Labels'!AG$23","v":0},{"$f":"'Vertical Labels'!AH$23","v":0},{"$f":"'Vertical Labels'!AI$23","v":0},{"$f":"'Vertical Labels'!AJ$23","v":0},{"$f":"'Vertical Labels'!AK$23","v":0},{"$f":"'Vertical Labels'!AL$23","v":0},{"$f":"'Vertical Labels'!AM$23","v":0},{"$f":"'Vertical Labels'!AN$23","v":0},{"$f":"'Vertical Labels'!AO$23","v":0},{"$f":"'Vertical Labels'!AP$23","v":0},{"$f":"'Vertical Labels'!AQ$23","v":0},{"$f":"'Vertical Labels'!AR$23","v":0},{"$f":"'Vertical Labels'!AS$23","v":0},{"$f":"'Vertical Labels'!AT$23","v":0},{"$f":"'Vertical Labels'!AU$23","v":0},{"$f":"'Vertical Labels'!AV$23","v":0},{"$f":"'Vertical Labels'!AW$23","v":0},{"$f":"'Vertical Labels'!AX$23","v":0},{"$f":"'Vertical Labels'!AY$23","v":0},{"$f":"'Vertical Labels'!AZ$23","v":0},{"$f":"'Vertical Labels'!BA$23","v":0},{"$f":"'Vertical Labels'!BB$23","v":0}]
[null,null,"FIXED",{"$f":"D18","v":0},{"$f":"IF(OR(SUM($D$18:E18)=D17,D17=0),0,SUM($D$18:E18))","v":0},{"$f":"IF(OR(SUM($D$18:F18)=E17,E17=0),0,SUM($D$18:F18))","v":0},{"$f":"IF(OR(SUM($D$18:G18)=F17,F17=0),0,SUM($D$18:G18))","v":0},{"$f":"IF(OR(SUM($D$18:H18)=G17,G17=0),0,SUM($D$18:H18))","v":0},{"$f":"IF(OR(SUM($D$18:I18)=H17,H17=0),0,SUM($D$18:I18))","v":0},{"$f":"IF(OR(SUM($D$18:J18)=I17,I17=0),0,SUM($D$18:J18))","v":0},{"$f":"IF(OR(SUM($D$18:K18)=J17,J17=0),0,SUM($D$18:K18))","v":0},{"$f":"IF(OR(SUM($D$18:L18)=K17,K17=0),0,SUM($D$18:L18))","v":0},{"$f":"IF(OR(SUM($D$18:M18)=L17,L17=0),0,SUM($D$18:M18))","v":0},{"$f":"IF(OR(SUM($D$18:N18)=M17,M17=0),0,SUM($D$18:N18))","v":0},{"$f":"IF(OR(SUM($D$18:O18)=N17,N17=0),0,SUM($D$18:O18))","v":0},{"$f":"IF(OR(SUM($D$18:P18)=O17,O17=0),0,SUM($D$18:P18))","v":0},{"$f":"IF(OR(SUM($D$18:Q18)=P17,P17=0),0,SUM($D$18:Q18))","v":0},{"$f":"IF(OR(SUM($D$18:R18)=Q17,Q17=0),0,SUM($D$18:R18))","v":0},{"$f":"IF(OR(SUM($D$18:S18)=R17,R17=0),0,SUM($D$18:S18))","v":0},{"$f":"IF(OR(SUM($D$18:T18)=S17,S17=0),0,SUM($D$18:T18))","v":0},{"$f":"IF(OR(SUM($D$18:U18)=T17,T17=0),0,SUM($D$18:U18))","v":0},{"$f":"IF(OR(SUM($D$18:V18)=U17,U17=0),0,SUM($D$18:V18))","v":0},{"$f":"IF(OR(SUM($D$18:W18)=V17,V17=0),0,SUM($D$18:W18))","v":0},{"$f":"IF(OR(SUM($D$18:X18)=W17,W17=0),0,SUM($D$18:X18))","v":0},{"$f":"IF(OR(SUM($D$18:Y18)=X17,X17=0),0,SUM($D$18:Y18))","v":0},{"$f":"IF(OR(SUM($D$18:Z18)=Y17,Y17=0),0,SUM($D$18:Z18))","v":0},{"$f":"IF(OR(SUM($D$18:AA18)=Z17,Z17=0),0,SUM($D$18:AA18))","v":0},{"$f":"IF(OR(SUM($D$18:AB18)=AA17,AA17=0),0,SUM($D$18:AB18))","v":0},{"$f":"IF(OR(SUM($D$18:AC18)=AB17,AB17=0),0,SUM($D$18:AC18))","v":0},{"$f":"IF(OR(SUM($D$18:AD18)=AC17,AC17=0),0,SUM($D$18:AD18))","v":0},{"$f":"IF(OR(SUM($D$18:AE18)=AD17,AD17=0),0,SUM($D$18:AE18))","v":0},{"$f":"IF(OR(SUM($D$18:AF18)=AE17,AE17=0),0,SUM($D$18:AF18))","v":0},{"$f":"IF(OR(SUM($D$18:AG18)=AF17,AF17=0),0,SUM($D$18:AG18))","v":0},{"$f":"IF(OR(SUM($D$18:AH18)=AG17,AG17=0),0,SUM($D$18:AH18))","v":0},{"$f":"IF(OR(SUM($D$18:AI18)=AH17,AH17=0),0,SUM($D$18:AI18))","v":0},{"$f":"IF(OR(SUM($D$18:AJ18)=AI17,AI17=0),0,SUM($D$18:AJ18))","v":0},{"$f":"IF(OR(SUM($D$18:AK18)=AJ17,AJ17=0),0,SUM($D$18:AK18))","v":0},{"$f":"IF(OR(SUM($D$18:AL18)=AK17,AK17=0),0,SUM($D$18:AL18))","v":0},{"$f":"IF(OR(SUM($D$18:AM18)=AL17,AL17=0),0,SUM($D$18:AM18))","v":0},{"$f":"IF(OR(SUM($D$18:AN18)=AM17,AM17=0),0,SUM($D$18:AN18))","v":0},{"$f":"IF(OR(SUM($D$18:AO18)=AN17,AN17=0),0,SUM($D$18:AO18))","v":0},{"$f":"IF(OR(SUM($D$18:AP18)=AO17,AO17=0),0,SUM($D$18:AP18))","v":0},{"$f":"IF(OR(SUM($D$18:AQ18)=AP17,AP17=0),0,SUM($D$18:AQ18))","v":0},{"$f":"IF(OR(SUM($D$18:AR18)=AQ17,AQ17=0),0,SUM($D$18:AR18))","v":0},{"$f":"IF(OR(SUM($D$18:AS18)=AR17,AR17=0),0,SUM($D$18:AS18))","v":0},{"$f":"IF(OR(SUM($D$18:AT18)=AS17,AS17=0),0,SUM($D$18:AT18))","v":0},{"$f":"IF(OR(SUM($D$18:AU18)=AT17,AT17=0),0,SUM($D$18:AU18))","v":0},{"$f":"IF(OR(SUM($D$18:AV18)=AU17,AU17=0),0,SUM($D$18:AV18))","v":0},{"$f":"IF(OR(SUM($D$18:AW18)=AV17,AV17=0),0,SUM($D$18:AW18))","v":0},{"$f":"IF(OR(SUM($D$18:AX18)=AW17,AW17=0),0,SUM($D$18:AX18))","v":0},{"$f":"IF(OR(SUM($D$18:AY18)=AX17,AX17=0),0,SUM($D$18:AY18))","v":0},{"$f":"IF(OR(SUM($D$18:AZ18)=AY17,AY17=0),0,SUM($D$18:AZ18))","v":0},{"$f":"IF(OR(SUM($D$18:BA18)=AZ17,AZ17=0),0,SUM($D$18:BA18))","v":0}]
[null,null,"RELATIVE",{"$f":"D16/2","v":0},{"$f":"(D16/2)+(E16/2)","v":0},{"$f":"(E16/2)+(F16/2)","v":0},0,0,0,0,0,0,0,0,0,0,0,0,0,0,0,0,0,0,0,0,0,0,0,0,0,0,0,0,0,0,0,0,0,0,0,0,0,0,0,0,0,0,0,0,0,0,0]
[]
[{"$nulls":3},1,2,3,4,5,6,7,8,9,10,11,12,13,14,15,16,17,18,19,20,21,22,23,24,25,26,27,28,29,30,31,32,33,34,35,36,37,38,39,40,41,42,43,44,45,46,47,48,49,50]
[null,"LABEL 3","RELATIVE",{"$f":"'Vertical Labels'!E$34","v":0},{"$f":"'Vertical Labels'!F$34","v":0},{"$f":"'Vertical Labels'!G$34","v":0},{"$f":"'Vertical Labels'!H$34","v":0},{"$f":"'Vertical Labels'!I$34","v":0},{"$f":"'Vertical Labels'!J$34","v":0},{"$f":"'Vertical Labels'!K$34","v":0},{"$f":"'Vertical Labels'!L$34","v":0},{"$f":"'Vertical Labels'!M$34","v":0},{"$f":"'Vertical Labels'!N$34","v":0},{"$f":"'Vertical Labels'!O$34","v":0},{"$f":"'Vertical Labels'!P$34","v":0},{"$f":"'Vertical Labels'!Q$34","v":0},{"$f":"'Vertical Labels'!R$34","v":0},{"$f":"'Vertical Labels'!S$34","v":0},{"$f":"'Vertical Labels'!T$34","v":0},{"$f":"'Vertical Labels'!U$34","v":0},{"$f":"'Vertical Labels'!V$34","v":0},{"$f":"'Vertical Labels'!W$34","v":0},{"$f":"'Vertical Labels'!X$34","v":0},{"$f":"'Vertical Labels'!Y$34","v":0},{"$f":"'Vertical Labels'!Z$34","v":0},{"$f":"'Vertical Labels'!AA$34","v":0},{"$f":"'Vertical Labels'!AB$34","v":0},{"$f":"'Vertical Labels'!AC$34","v":0},{"$f":"'Vertical Labels'!AD$34","v":0},{"$f":"'Vertical Labels'!AE$34","v":0},{"$f":"'Vertical Labels'!AF$34","v":0},{"$f":"'Vertical Labels'!AG$34","v":0},{"$f":"'Vertical Labels'!AH$34","v":0},{"$f":"'Vertical Labels'!AI$34","v":0},{"$f":"'Vertical Labels'!AJ$34","v":0},{"$f":"'Vertical Labels'!AK$34","v":0},{"$f":"'Vertical Labels'!AL$34","v":0},{"$f":"'Vertical Labels'!AM$34","v":0},{"$f":"'Vertical Labels'!AN$34","v":0},{"$f":"'Vertical Labels'!AO$34","v":0},{"$f":"'Vertical Labels'!AP$34","v":0},{"$f":"'Vertical Labels'!AQ$34","v":0},{"$f":"'Vertical Labels'!AR$34","v":0},{"$f":"'Vertical Labels'!AS$34","v":0},{"$f":"'Vertical Labels'!AT$34","v":0},{"$f":"'Vertical Labels'!AU$34","v":0},{"$f":"'Vertical Labels'!AV$34","v":0},{"$f":"'Vertical Labels'!AW$34","v":0},{"$f":"'Vertical Labels'!AX$34","v":0},{"$f":"'Vertical Labels'!AY$34","v":0},{"$f":"'Vertical Labels'!AZ$34","v":0},{"$f":"'Vertical Labels'!BA$34","v":0},{"$f":"'Vertical Labels'!BB$34","v":0}]
[null,null,"FIXED",{"$f":"SUM($D$21:D21)","v":0},{"$f":"IF(OR(SUM($D$21:E21)=D22,D22=0),0,SUM($D$21:E21))","v":0},{"$f":"IF(OR(SUM($D$21:F21)=E22,E22=0),0,SUM($D$21:F21))","v":0},{"$f":"IF(OR(SUM($D$21:G21)=F22,F22=0),0,SUM($D$21:G21))","v":0},{"$f":"IF(OR(SUM($D$21:H21)=G22,G22=0),0,SUM($D$21:H21))","v":0},{"$f":"IF(OR(SUM($D$21:I21)=H22,H22=0),0,SUM($D$21:I21))","v":0},{"$f":"IF(OR(SUM($D$21:J21)=I22,I22=0),0,SUM($D$21:J21))","v":0},{"$f":"IF(OR(SUM($D$21:K21)=J22,J22=0),0,SUM($D$21:K21))","v":0},{"$f":"IF(OR(SUM($D$21:L21)=K22,K22=0),0,SUM($D$21:L21))","v":0},{"$f":"IF(OR(SUM($D$21:M21)=L22,L22=0),0,SUM($D$21:M21))","v":0},{"$f":"IF(OR(SUM($D$21:N21)=M22,M22=0),0,SUM($D$21:N21))","v":0},{"$f":"IF(OR(SUM($D$21:O21)=N22,N22=0),0,SUM($D$21:O21))","v":0},{"$f":"IF(OR(SUM($D$21:P21)=O22,O22=0),0,SUM($D$21:P21))","v":0},{"$f":"IF(OR(SUM($D$21:Q21)=P22,P22=0),0,SUM($D$21:Q21))","v":0},{"$f":"IF(OR(SUM($D$21:R21)=Q22,Q22=0),0,SUM($D$21:R21))","v":0},{"$f":"IF(OR(SUM($D$21:S21)=R22,R22=0),0,SUM($D$21:S21))","v":0},{"$f":"IF(OR(SUM($D$21:T21)=S22,S22=0),0,SUM($D$21:T21))","v":0},{"$f":"IF(OR(SUM($D$21:U21)=T22,T22=0),0,SUM($D$21:U21))","v":0},{"$f":"IF(OR(SUM($D$21:V21)=U22,U22=0),0,SUM($D$21:V21))","v":0},{"$f":"IF(OR(SUM($D$21:W21)=V22,V22=0),0,SUM($D$21:W21))","v":0},{"$f":"IF(OR(SUM($D$21:X21)=W22,W22=0),0,SUM($D$21:X21))","v":0},{"$f":"IF(OR(SUM($D$21:Y21)=X22,X22=0),0,SUM($D$21:Y21))","v":0},{"$f":"IF(OR(SUM($D$21:Z21)=Y22,Y22=0),0,SUM($D$21:Z21))","v":0},{"$f":"IF(OR(SUM($D$21:AA21)=Z22,Z22=0),0,SUM($D$21:AA21))","v":0},{"$f":"IF(OR(SUM($D$21:AB21)=AA22,AA22=0),0,SUM($D$21:AB21))","v":0},{"$f":"IF(OR(SUM($D$21:AC21)=AB22,AB22=0),0,SUM($D$21:AC21))","v":0},{"$f":"IF(OR(SUM($D$21:AD21)=AC22,AC22=0),0,SUM($D$21:AD21))","v":0},{"$f":"IF(OR(SUM($D$21:AE21)=AD22,AD22=0),0,SUM($D$21:AE21))","v":0},{"$f":"IF(OR(SUM($D$21:AF21)=AE22,AE22=0),0,SUM($D$21:AF21))","v":0},{"$f":"IF(OR(SUM($D$21:AG21)=AF22,AF22=0),0,SUM($D$21:AG21))","v":0},{"$f":"IF(OR(SUM($D$21:AH21)=AG22,AG22=0),0,SUM($D$21:AH21))","v":0},{"$f":"IF(OR(SUM($D$21:AI21)=AH22,AH22=0),0,SUM($D$21:AI21))","v":0},{"$f":"IF(OR(SUM($D$21:AJ21)=AI22,AI22=0),0,SUM($D$21:AJ21))","v":0},{"$f":"IF(OR(SUM($D$21:AK21)=AJ22,AJ22=0),0,SUM($D$21:AK21))","v":0},{"$f":"IF(OR(SUM($D$21:AL21)=AK22,AK22=0),0,SUM($D$21:AL21))","v":0},{"$f":"IF(OR(SUM($D$21:AM21)=AL22,AL22=0),0,SUM($D$21:AM21))","v":0},{"$f":"IF(OR(SUM($D$21:AN21)=AM22,AM22=0),0,SUM($D$21:AN21))","v":0},{"$f":"IF(OR(SUM($D$21:AO21)=AN22,AN22=0),0,SUM($D$21:AO21))","v":0},{"$f":"IF(OR(SUM($D$21:AP21)=AO22,AO22=0),0,SUM($D$21:AP21))","v":0},{"$f":"IF(OR(SUM($D$21:AQ21)=AP22,AP22=0),0,SUM($D$21:AQ21))","v":0},{"$f":"IF(OR(SUM($D$21:AR21)=AQ22,AQ22=0),0,SUM($D$21:AR21))","v":0},{"$f":"IF(OR(SUM($D$21:AS21)=AR22,AR22=0),0,SUM($D$21:AS21))","v":0},{"$f":"IF(OR(SUM($D$21:AT21)=AS22,AS22=0),0,SUM($D$21:AT21))","v":0},{"$f":"IF(OR(SUM($D$21:AU21)=AT22,AT22=0),0,SUM($D$21:AU21))","v":0},{"$f":"IF(OR(SUM($D$21:AV21)=AU22,AU22=0),0,SUM($D$21:AV21))","v":0},{"$f":"IF(OR(SUM($D$21:AW21)=AV22,AV22=0),0,SUM($D$21:AW21))","v":0},{"$f":"IF(OR(SUM($D$21:AX21)=AW22,AW22=0),0,SUM($D$21:AX21))","v":0},{"$f":"IF(OR(SUM($D$21:AY21)=AX22,AX22=0),0,SUM($D$21:AY21))","v":0},{"$f":"IF(OR(SUM($D$21:AZ21)=AY22,AY22=0),0,SUM($D$21:AZ21))","v":0},{"$f":"IF(OR(SUM($D$21:BA21)=AZ22,AZ22=0),0,SUM($D$21:BA21))","v":0}]
[null,null,"FIXED",{"$f":"'Vertical Labels'!E$34","v":0},{"$f":"'Vertical Labels'!F$34","v":0},{"$f":"'Vertical Labels'!G$34","v":0},{"$f":"'Vertical Labels'!H$34","v":0},{"$f":"'Vertical Labels'!I$34","v":0},{"$f":"'Vertical Labels'!J$34","v":0},{"$f":"'Vertical Labels'!K$34","v":0},{"$f":"'Vertical Labels'!L$34","v":0},{"$f":"'Vertical Labels'!M$34","v":0},{"$f":"'Vertical Labels'!N$34","v":0},{"$f":"'Vertical Labels'!O$34","v":0},{"$f":"'Vertical Labels'!P$34","v":0},{"$f":"'Vertical Labels'!Q$34","v":0},{"$f":"'Vertical Labels'!R$34","v":0},{"$f":"'Vertical Labels'!S$34","v":0},{"$f":"'Vertical Labels'!T$34","v":0},{"$f":"'Vertical Labels'!U$34","v":0},{"$f":"'Vertical Labels'!V$34","v":0},{"$f":"'Vertical Labels'!W$34","v":0},{"$f":"'Vertical Labels'!X$34","v":0},{"$f":"'Vertical Labels'!Y$34","v":0},{"$f":"'Vertical Labels'!Z$34","v":0},{"$f":"'Vertical Labels'!AA$34","v":0},{"$f":"'Vertical Labels'!AB$34","v":0},{"$f":"'Vertical Labels'!AC$34","v":0},{"$f":"'Vertical Labels'!AD$34","v":0},{"$f":"'Vertical Labels'!AE$34","v":0},{"$f":"'Vertical Labels'!AF$34","v":0},{"$f":"'Vertical Labels'!AG$34","v":0},{"$f":"'Vertical Labels'!AH$34","v":0},{"$f":"'Vertical Labels'!AI$34","v":0},{"$f":"'Vertical Labels'!AJ$34","v":0},{"$f":"'Vertical Labels'!AK$34","v":0},{"$f":"'Vertical Labels'!AL$34","v":0},{"$f":"'Vertical Labels'!AM$34","v":0},{"$f":"'Vertical Labels'!AN$34","v":0},{"$f":"'Vertical Labels'!AO$34","v":0},{"$f":"'Vertical Labels'!AP$34","v":0},{"$f":"'Vertical Labels'!AQ$34","v":0},{"$f":"'Vertical Labels'!AR$34","v":0},{"$f":"'Vertical Labels'!AS$34","v":0},{"$f":"'Vertical Labels'!AT$34","v":0},{"$f":"'Vertical Labels'!AU$34","v":0},{"$f":"'Vertical Labels'!AV$34","v":0},{"$f":"'Vertical Labels'!AW$34","v":0},{"$f":"'Vertical Labels'!AX$34","v":0},{"$f":"'Vertical Labels'!AY$34","v":0},{"$f":"'Vertical Labels'!AZ$34","v":0},{"$f":"'Vertical Labels'!BA$34","v":0},{"$f":"'Vertical Labels'!BB$34","v":0}]
[null,null,"RELATIVE",{"$f":"D23","v":0},{"$f":"IF(E23-D23<1,0,E23-D23)","v":0},{"$f":"IF(F23-E23<1,0,F23-E23)","v":0},0,0,0,0,0,0,0,0,0,0,0,0,0,0,0,0,0,0,0,0,0,0,0,0,0,0,0,0,0,0,0,0,0,0,0,0,0,0,0,0,0,0,0,0,0,0,0]
[null,null,"BLOCKS",{"$f":"'Vertical Labels'!E$34","v":0},{"$f":"'Vertical Labels'!F$34","v":0},{"$f":"'Vertical Labels'!G$34","v":0},{"$f":"'Vertical Labels'!H$34","v":0},{"$f":"'Vertical Labels'!I$34","v":0},{"$f":"'Vertical Labels'!J$34","v":0},{"$f":"'Vertical Labels'!K$34","v":0},{"$f":"'Vertical Labels'!L$34","v":0},{"$f":"'Vertical Labels'!M$34","v":0},{"$f":"'Vertical Labels'!N$34","v":0},{"$f":"'Vertical Labels'!O$34","v":0},{"$f":"'Vertical Labels'!P$34","v":0},{"$f":"'Vertical Labels'!Q$34","v":0},{"$f":"'Vertical Labels'!R$34","v":0},{"$f":"'Vertical Labels'!S$34","v":0},{"$f":"'Vertical Labels'!T$34","v":0},{"$f":"'Vertical Labels'!U$34","v":0},{"$f":"'Vertical Labels'!V$34","v":0},{"$f":"'Vertical Labels'!W$34","v":0},{"$f":"'Vertical Labels'!X$34","v":0},{"$f":"'Vertical Labels'!Y$34","v":0},{"$f":"'Vertical Labels'!Z$34","v":0},{"$f":"'Vertical Labels'!AA$34","v":0},{"$f":"'Vertical Labels'!AB$34","v":0},{"$f":"'Vertical Labels'!AC$34","v":0},{"$f":"'Vertical Labels'!AD$34","v":0},{"$f":"'Vertical Labels'!AE$34","v":0},{"$f":"'Vertical Labels'!AF$34","v":0},{"$f":"'Vertical Labels'!AG$34","v":0},{"$f":"'Vertical Labels'!AH$34","v":0},{"$f":"'Vertical Labels'!AI$34","v":0},{"$f":"'Vertical Labels'!AJ$34","v":0},{"$f":"'Vertical Labels'!AK$34","v":0},{"$f":"'Vertical Labels'!AL$34","v":0},{"$f":"'Vertical Labels'!AM$34","v":0},{"$f":"'Vertical Labels'!AN$34","v":0},{"$f":"'Vertical Labels'!AO$34","v":0},{"$f":"'Vertical Labels'!AP$34","v":0},{"$f":"'Vertical Labels'!AQ$34","v":0},{"$f":"'Vertical Labels'!AR$34","v":0},{"$f":"'Vertical Labels'!AS$34","v":0},{"$f":"'Vertical Labels'!AT$34","v":0},{"$f":"'Vertical Labels'!AU$34","v":0},{"$f":"'Vertical Labels'!AV$34","v":0},{"$f":"'Vertical Labels'!AW$34","v":0},{"$f":"'Vertical Labels'!AX$34","v":0},{"$f":"'Vertical Labels'!AY$34","v":0},{"$f":"'Vertical Labels'!AZ$34","v":0},{"$f":"'Vertical Labels'!BA$34","v":0},{"$f":"'Vertical Labels'!BB$34","v":0}]
[null,null,"FIXED",{"$f":"D27","v":0},{"$f":"IF(OR(SUM($D$27:E27)=D26,D26=0),0,SUM($D$27:E27))","v":0},{"$f":"IF(OR(SUM($D$27:F27)=E26,E26=0),0,SUM($D$27:F27))","v":0},{"$f":"IF(OR(SUM($D$27:G27)=F26,F26=0),0,SUM($D$27:G27))","v":0},{"$f":"IF(OR(SUM($D$27:H27)=G26,G26=0),0,SUM($D$27:H27))","v":0},{"$f":"IF(OR(SUM($D$27:I27)=H26,H26=0),0,SUM($D$27:I27))","v":0},{"$f":"IF(OR(SUM($D$27:J27)=I26,I26=0),0,SUM($D$27:J27))","v":0},{"$f":"IF(OR(SUM($D$27:K27)=J26,J26=0),0,SUM($D$27:K27))","v":0},{"$f":"IF(OR(SUM($D$27:L27)=K26,K26=0),0,SUM($D$27:L27))","v":0},{"$f":"IF(OR(SUM($D$27:M27)=L26,L26=0),0,SUM($D$27:M27))","v":0},{"$f":"IF(OR(SUM($D$27:N27)=M26,M26=0),0,SUM($D$27:N27))","v":0},{"$f":"IF(OR(SUM($D$27:O27)=N26,N26=0),0,SUM($D$27:O27))","v":0},{"$f":"IF(OR(SUM($D$27:P27)=O26,O26=0),0,SUM($D$27:P27))","v":0},{"$f":"IF(OR(SUM($D$27:Q27)=P26,P26=0),0,SUM($D$27:Q27))","v":0},{"$f":"IF(OR(SUM($D$27:R27)=Q26,Q26=0),0,SUM($D$27:R27))","v":0},{"$f":"IF(OR(SUM($D$27:S27)=R26,R26=0),0,SUM($D$27:S27))","v":0},{"$f":"IF(OR(SUM($D$27:T27)=S26,S26=0),0,SUM($D$27:T27))","v":0},{"$f":"IF(OR(SUM($D$27:U27)=T26,T26=0),0,SUM($D$27:U27))","v":0},{"$f":"IF(OR(SUM($D$27:V27)=U26,U26=0),0,SUM($D$27:V27))","v":0},{"$f":"IF(OR(SUM($D$27:W27)=V26,V26=0),0,SUM($D$27:W27))","v":0},{"$f":"IF(OR(SUM($D$27:X27)=W26,W26=0),0,SUM($D$27:X27))","v":0},{"$f":"IF(OR(SUM($D$27:Y27)=X26,X26=0),0,SUM($D$27:Y27))","v":0},{"$f":"IF(OR(SUM($D$27:Z27)=Y26,Y26=0),0,SUM($D$27:Z27))","v":0},{"$f":"IF(OR(SUM($D$27:AA27)=Z26,Z26=0),0,SUM($D$27:AA27))","v":0},{"$f":"IF(OR(SUM($D$27:AB27)=AA26,AA26=0),0,SUM($D$27:AB27))","v":0},{"$f":"IF(OR(SUM($D$27:AC27)=AB26,AB26=0),0,SUM($D$27:AC27))","v":0},{"$f":"IF(OR(SUM($D$27:AD27)=AC26,AC26=0),0,SUM($D$27:AD27))","v":0},{"$f":"IF(OR(SUM($D$27:AE27)=AD26,AD26=0),0,SUM($D$27:AE27))","v":0},{"$f":"IF(OR(SUM($D$27:AF27)=AE26,AE26=0),0,SUM($D$27:AF27))","v":0},{"$f":"IF(OR(SUM($D$27:AG27)=AF26,AF26=0),0,SUM($D$27:AG27))","v":0},{"$f":"IF(OR(SUM($D$27:AH27)=AG26,AG26=0),0,SUM($D$27:AH27))","v":0},{"$f":"IF(OR(SUM($D$27:AI27)=AH26,AH26=0),0,SUM($D$27:AI27))","v":0},{"$f":"IF(OR(SUM($D$27:AJ27)=AI26,AI26=0),0,SUM($D$27:AJ27))","v":0},{"$f":"IF(OR(SUM($D$27:AK27)=AJ26,AJ26=0),0,SUM($D$27:AK27))","v":0},{"$f":"IF(OR(SUM($D$27:AL27)=AK26,AK26=0),0,SUM($D$27:AL27))","v":0},{"$f":"IF(OR(SUM($D$27:AM27)=AL26,AL26=0),0,SUM($D$27:AM27))","v":0},{"$f":"IF(OR(SUM($D$27:AN27)=AM26,AM26=0),0,SUM($D$27:AN27))","v":0},{"$f":"IF(OR(SUM($D$27:AO27)=AN26,AN26=0),0,SUM($D$27:AO27))","v":0},{"$f":"IF(OR(SUM($D$27:AP27)=AO26,AO26=0),0,SUM($D$27:AP27))","v":0},{"$f":"IF(OR(SUM($D$27:AQ27)=AP26,AP26=0),0,SUM($D$27:AQ27))","v":0},{"$f":"IF(OR(SUM($D$27:AR27)=AQ26,AQ26=0),0,SUM($D$27:AR27))","v":0},{"$f":"IF(OR(SUM($D$27:AS27)=AR26,AR26=0),0,SUM($D$27:AS27))","v":0},{"$f":"IF(OR(SUM($D$27:AT27)=AS26,AS26=0),0,SUM($D$27:AT27))","v":0},{"$f":"IF(OR(SUM($D$27:AU27)=AT26,AT26=0),0,SUM($D$27:AU27))","v":0},{"$f":"IF(OR(SUM($D$27:AV27)=AU26,AU26=0),0,SUM($D$27:AV27))","v":0},{"$f":"IF(OR(SUM($D$27:AW27)=AV26,AV26=0),0,SUM($D$27:AW27))","v":0},{"$f":"IF(OR(SUM($D$27:AX27)=AW26,AW26=0),0,SUM($D$27:AX27))","v":0},{"$f":"IF(OR(SUM($D$27:AY27)=AX26,AX26=0),0,SUM($D$27:AY27))","v":0},{"$f":"IF(OR(SUM($D$27:AZ27)=AY26,AY26=0),0,SUM($D$27:AZ27))","v":0},{"$f":"IF(OR(SUM($D$27:BA27)=AZ26,AZ26=0),0,SUM($D$27:BA27))","v":0}]
[null,null,"RELATIVE",{"$f":"D25/2","v":0},{"$f":"(D25/2)+(E25/2)","v":0},{"$f":"(E25/2)+(F25/2)","v":0},{"$f":"(F25/2)+(G25/2)","v":0},0,0,0,0,0,0,0,0,0,0,0,0,0,0,0,0,0,0,0,0,0,0,0,0,0,0,0,0,0,0,0,0,0,0,0,0,0,0,0,0,0,0,0,0,0,0]
[]
[{"$nulls":3},1,2,3,4,5,6,7,8,9,10,11,12,13,14,15,16,17,18,19,20,21,22,23,24,25,26,27,28,29,30,31,32,33,34,35,36,37,38,39,40,41,42,43,44,45,46,47,48,49,50]
[null,"LABEL 4","RELATIVE",{"$f":"'Vertical Labels'!E$45","v":0},{"$f":"'Vertical Labels'!F$45","v":0},{"$f":"'Vertical Labels'!G$45","v":0},{"$f":"'Vertical Labels'!H$45","v":0},{"$f":"'Vertical Labels'!I$45","v":0},{"$f":"'Vertical Labels'!J$45","v":0},{"$f":"'Vertical Labels'!K$45","v":0},{"$f":"'Vertical Labels'!L$45","v":0},{"$f":"'Vertical Labels'!M$45","v":0},{"$f":"'Vertical Labels'!N$45","v":0},{"$f":"'Vertical Labels'!O$45","v":0},{"$f":"'Vertical Labels'!P$45","v":0},{"$f":"'Vertical Labels'!Q$45","v":0},{"$f":"'Vertical Labels'!R$45","v":0},{"$f":"'Vertical Labels'!S$45","v":0},{"$f":"'Vertical Labels'!T$45","v":0},{"$f":"'Vertical Labels'!U$45","v":0},{"$f":"'Vertical Labels'!V$45","v":0},{"$f":"'Vertical Labels'!W$45","v":0},{"$f":"'Vertical Labels'!X$45","v":0},{"$f":"'Vertical Labels'!Y$45","v":0},{"$f":"'Vertical Labels'!Z$45","v":0},{"$f":"'Vertical Labels'!AA$45","v":0},{"$f":"'Vertical Labels'!AB$45","v":0},{"$f":"'Vertical Labels'!AC$45","v":0},{"$f":"'Vertical Labels'!AD$45","v":0},{"$f":"'Vertical Labels'!AE$45","v":0},{"$f":"'Vertical Labels'!AF$45","v":0},{"$f":"'Vertical Labels'!AG$45","v":0},{"$f":"'Vertical Labels'!AH$45","v":0},{"$f":"'Vertical Labels'!AI$45","v":0},{"$f":"'Vertical Labels'!AJ$45","v":0},{"$f":"'Vertical Labels'!AK$45","v":0},{"$f":"'Vertical Labels'!AL$45","v":0},{"$f":"'Vertical Labels'!AM$45","v":0},{"$f":"'Vertical Labels'!AN$45","v":0},{"$f":"'Vertical Labels'!AO$45","v":0},{"$f":"'Vertical Labels'!AP$45","v":0},{"$f":"'Vertical Labels'!AQ$45","v":0},{"$f":"'Vertical Labels'!AR$45","v":0},{"$f":"'Vertical Labels'!AS$45","v":0},{"$f":"'Vertical Labels'!AT$45","v":0},{"$f":"'Vertical Labels'!AU$45","v":0},{"$f":"'Vertical Labels'!AV$45","v":0},{"$f":"'Vertical Labels'!AW$45","v":0},{"$f":"'Vertical Labels'!AX$45","v":0},{"$f":"'Vertical Labels'!AY$45","v":0},{"$f":"'Vertical Labels'!AZ$45","v":0},{"$f":"'Vertical Labels'!BA$45","v":0},{"$f":"'Vertical Labels'!BB$45","v":0}]
[null,null,"FIXED",{"$f":"SUM($D$30:D30)","v":0},{"$f":"IF(OR(SUM($D$30:E30)=D31,D31=0),0,SUM($D$30:E30))","v":0},{"$f":"IF(OR(SUM($D$30:F30)=E31,E31=0),0,SUM($D$30:F30))","v":0},{"$f":"IF(OR(SUM($D$30:G30)=F31,F31=0),0,SUM($D$30:G30))","v":0},{"$f":"IF(OR(SUM($D$30:H30)=G31,G31=0),0,SUM($D$30:H30))","v":0},{"$f":"IF(OR(SUM($D$30:I30)=H31,H31=0),0,SUM($D$30:I30))","v":0},{"$f":"IF(OR(SUM($D$30:J30)=I31,I31=0),0,SUM($D$30:J30))","v":0},{"$f":"IF(OR(SUM($D$30:K30)=J31,J31=0),0,SUM($D$30:K30))","v":0},{"$f":"IF(OR(SUM($D$30:L30)=K31,K31=0),0,SUM($D$30:L30))","v":0},{"$f":"IF(OR(SUM($D$30:M30)=L31,L31=0),0,SUM($D$30:M30))","v":0},{"$f":"IF(OR(SUM($D$30:N30)=M31,M31=0),0,SUM($D$30:N30))","v":0},{"$f":"IF(OR(SUM($D$30:O30)=N31,N31=0),0,SUM($D$30:O30))","v":0},{"$f":"IF(OR(SUM($D$30:P30)=O31,O31=0),0,SUM($D$30:P30))","v":0},{"$f":"IF(OR(SUM($D$30:Q30)=P31,P31=0),0,SUM($D$30:Q30))","v":0},{"$f":"IF(OR(SUM($D$30:R30)=Q31,Q31=0),0,SUM($D$30:R30))","v":0},{"$f":"IF(OR(SUM($D$30:S30)=R31,R31=0),0,SUM($D$30:S30))","v":0},{"$f":"IF(OR(SUM($D$30:T30)=S31,S31=0),0,SUM($D$30:T30))","v":0},{"$f":"IF(OR(SUM($D$30:U30)=T31,T31=0),0,SUM($D$30:U30))","v":0},{"$f":"IF(OR(SUM($D$30:V30)=U31,U31=0),0,SUM($D$30:V30))","v":0},{"$f":"IF(OR(SUM($D$30:W30)=V31,V31=0),0,SUM($D$30:W30))","v":0},{"$f":"IF(OR(SUM($D$30:X30)=W31,W31=0),0,SUM($D$30:X30))","v":0},{"$f":"IF(OR(SUM($D$30:Y30)=X31,X31=0),0,SUM($D$30:Y30))","v":0},{"$f":"IF(OR(SUM($D$30:Z30)=Y31,Y31=0),0,SUM($D$30:Z30))","v":0},{"$f":"IF(OR(SUM($D$30:AA30)=Z31,Z31=0),0,SUM($D$30:AA30))","v":0},{"$f":"IF(OR(SUM($D$30:AB30)=AA31,AA31=0),0,SUM($D$30:AB30))","v":0},{"$f":"IF(OR(SUM($D$30:AC30)=AB31,AB31=0),0,SUM($D$30:AC30))","v":0},{"$f":"IF(OR(SUM($D$30:AD30)=AC31,AC31=0),0,SUM($D$30:AD30))","v":0},{"$f":"IF(OR(SUM($D$30:AE30)=AD31,AD31=0),0,SUM($D$30:AE30))","v":0},{"$f":"IF(OR(SUM($D$30:AF30)=AE31,AE31=0),0,SUM($D$30:AF30))","v":0},{"$f":"IF(OR(SUM($D$30:AG30)=AF31,AF31=0),0,SUM($D$30:AG30))","v":0},{"$f":"IF(OR(SUM($D$30:AH30)=AG31,AG31=0),0,SUM($D$30:AH30))","v":0},{"$f":"IF(OR(SUM($D$30:AI30)=AH31,AH31=0),0,SUM($D$30:AI30))","v":0},{"$f":"IF(OR(SUM($D$30:AJ30)=AI31,AI31=0),0,SUM($D$30:AJ30))","v":0},{"$f":"IF(OR(SUM($D$30:AK30)=AJ31,AJ31=0),0,SUM($D$30:AK30))","v":0},{"$f":"IF(OR(SUM($D$30:AL30)=AK31,AK31=0),0,SUM($D$30:AL30))","v":0},{"$f":"IF(OR(SUM($D$30:AM30)=AL31,AL31=0),0,SUM($D$30:AM30))","v":0},{"$f":"IF(OR(SUM($D$30:AN30)=AM31,AM31=0),0,SUM($D$30:AN30))","v":0},{"$f":"IF(OR(SUM($D$30:AO30)=AN31,AN31=0),0,SUM($D$30:AO30))","v":0},{"$f":"IF(OR(SUM($D$30:AP30)=AO31,AO31=0),0,SUM($D$30:AP30))","v":0},{"$f":"IF(OR(SUM($D$30:AQ30)=AP31,AP31=0),0,SUM($D$30:AQ30))","v":0},{"$f":"IF(OR(SUM($D$30:AR30)=AQ31,AQ31=0),0,SUM($D$30:AR30))","v":0},{"$f":"IF(OR(SUM($D$30:AS30)=AR31,AR31=0),0,SUM($D$30:AS30))","v":0},{"$f":"IF(OR(SUM($D$30:AT30)=AS31,AS31=0),0,SUM($D$30:AT30))","v":0},{"$f":"IF(OR(SUM($D$30:AU30)=AT31,AT31=0),0,SUM($D$30:AU30))","v":0},{"$f":"IF(OR(SUM($D$30:AV30)=AU31,AU31=0),0,SUM($D$30:AV30))","v":0},{"$f":"IF(OR(SUM($D$30:AW30)=AV31,AV31=0),0,SUM($D$30:AW30))","v":0},{"$f":"IF(OR(SUM($D$30:AX30)=AW31,AW31=0),0,SUM($D$30:AX30))","v":0},{"$f":"IF(OR(SUM($D$30:AY30)=AX31,AX31=0),0,SUM($D$30:AY30))","v":0},{"$f":"IF(OR(SUM($D$30:AZ30)=AY31,AY31=0),0,SUM($D$30:AZ30))","v":0},{"$f":"IF(OR(SUM($D$30:BA30)=AZ31,AZ31=0),0,SUM($D$30:BA30))","v":0}]
[null,null,"FIXED",{"$f":"'Vertical Labels'!E$45","v":0},{"$f":"'Vertical Labels'!F$45","v":0},{"$f":"'Vertical Labels'!G$45","v":0},{"$f":"'Vertical Labels'!H$45","v":0},{"$f":"'Vertical Labels'!I$45","v":0},{"$f":"'Vertical Labels'!J$45","v":0},{"$f":"'Vertical Labels'!K$45","v":0},{"$f":"'Vertical Labels'!L$45","v":0},{"$f":"'Vertical Labels'!M$45","v":0},{"$f":"'Vertical Labels'!N$45","v":0},{"$f":"'Vertical Labels'!O$45","v":0},{"$f":"'Vertical Labels'!P$45","v":0},{"$f":"'Vertical Labels'!Q$45","v":0},{"$f":"'Vertical Labels'!R$45","v":0},{"$f":"'Vertical Labels'!S$45","v":0},{"$f":"'Vertical Labels'!T$45","v":0},{"$f":"'Vertical Labels'!U$45","v":0},{"$f":"'Vertical Labels'!V$45","v":0},{"$f":"'Vertical Labels'!W$45","v":0},{"$f":"'Vertical Labels'!X$45","v":0},{"$f":"'Vertical Labels'!Y$45","v":0},{"$f":"'Vertical Labels'!Z$45","v":0},{"$f":"'Vertical Labels'!AA$45","v":0},{"$f":"'Vertical Labels'!AB$45","v":0},{"$f":"'Vertical Labels'!AC$45","v":0},{"$f":"'Vertical Labels'!AD$45","v":0},{"$f":"'Vertical Labels'!AE$45","v":0},{"$f":"'Vertical Labels'!AF$45","v":0},{"$f":"'Vertical Labels'!AG$45","v":0},{"$f":"'Vertical Labels'!AH$45","v":0},{"$f":"'Vertical Labels'!AI$45","v":0},{"$f":"'Vertical Labels'!AJ$45","v":0},{"$f":"'Vertical Labels'!AK$45","v":0},{"$f":"'Vertical Labels'!AL$45","v":0},{"$f":"'Vertical Labels'!AM$45","v":0},{"$f":"'Vertical Labels'!AN$45","v":0},{"$f":"'Vertical Labels'!AO$45","v":0},{"$f":"'Vertical Labels'!AP$45","v":0},{"$f":"'Vertical Labels'!AQ$45","v":0},{"$f":"'Vertical Labels'!AR$45","v":0},{"$f":"'Vertical Labels'!AS$45","v":0},{"$f":"'Vertical Labels'!AT$45","v":0},{"$f":"'Vertical Labels'!AU$45","v":0},{"$f":"'Vertical Labels'!AV$45","v":0},{"$f":"'Vertical Labels'!AW$45","v":0},{"$f":"'Vertical Labels'!AX$45","v":0},{"$f":"'Vertical Labels'!AY$45","v":0},{"$f":"'Vertical Labels'!AZ$45","v":0},{"$f":"'Vertical Labels'!BA$45","v":0},{"$f":"'Vertical Labels'!BB$45","v":0}]
[null,null,"RELATIVE",{"$f":"D32","v":0},{"$f":"IF(E32-D32<1,0,E32-D32)","v":0},{"$f":"IF(F32-E32<1,0,F32-E32)","v":0},0,0,0,0,0,0,0,0,0,0,0,0,0,0,0,0,0,0,0,0,0,0,0,0,0,0,0,0,0,0,0,0,0,0,0,0,0,0,0,0,0,0,0,0,0,0,0]
[null,null,"BLOCKS",{"$f":"'Vertical Labels'!E$45","v":0},{"$f":"'Vertical Labels'!F$45","v":0},{"$f":"'Vertical Labels'!G$45","v":0},{"$f":"'Vertical Labels'!H$45","v":0},{"$f":"'Vertical Labels'!I$45","v":0},{"$f":"'Vertical Labels'!J$45","v":0},{"$f":"'Vertical Labels'!K$45","v":0},{"$f":"'Vertical Labels'!L$45","v":0},{"$f":"'Vertical Labels'!M$45","v":0},{"$f":"'Vertical Labels'!N$45","v":0},{"$f":"'Vertical Labels'!O$45","v":0},{"$f":"'Vertical Labels'!P$45","v":0},{"$f":"'Vertical Labels'!Q$45","v":0},{"$f":"'Vertical Labels'!R$45","v":0},{"$f":"'Vertical Labels'!S$45","v":0},{"$f":"'Vertical Labels'!T$45","v":0},{"$f":"'Vertical Labels'!U$45","v":0},{"$f":"'Vertical Labels'!V$45","v":0},{"$f":"'Vertical Labels'!W$45","v":0},{"$f":"'Vertical Labels'!X$45","v":0},{"$f":"'Vertical Labels'!Y$45","v":0},{"$f":"'Vertical Labels'!Z$45","v":0},{"$f":"'Vertical Labels'!AA$45","v":0},{"$f":"'Vertical Labels'!AB$45","v":0},{"$f":"'Vertical Labels'!AC$45","v":0},{"$f":"'Vertical Labels'!AD$45","v":0},{"$f":"'Vertical Labels'!AE$45","v":0},{"$f":"'Vertical Labels'!AF$45","v":0},{"$f":"'Vertical Labels'!AG$45","v":0},{"$f":"'Vertical Labels'!AH$45","v":0},{"$f":"'Vertical Labels'!AI$45","v":0},{"$f":"'Vertical Labels'!AJ$45","v":0},{"$f":"'Vertical Labels'!AK$45","v":0},{"$f":"'Vertical Labels'!AL$45","v":0},{"$f":"'Vertical Labels'!AM$45","v":0},{"$f":"'Vertical Labels'!AN$45","v":0},{"$f":"'Vertical Labels'!AO$45","v":0},{"$f":"'Vertical Labels'!AP$45","v":0},{"$f":"'Vertical Labels'!AQ$45","v":0},{"$f":"'Vertical Labels'!AR$45","v":0},{"$f":"'Vertical Labels'!AS$45","v":0},{"$f":"'Vertical Labels'!AT$45","v":0},{"$f":"'Vertical Labels'!AU$45","v":0},{"$f":"'Vertical Labels'!AV$45","v":0},{"$f":"'Vertical Labels'!AW$45","v":0},{"$f":"'Vertical Labels'!AX$45","v":0},{"$f":"'Vertical Labels'!AY$45","v":0},{"$f":"'Vertical Labels'!AZ$45","v":0},{"$f":"'Vertical Labels'!BA$45","v":0},{"$f":"'Vertical Labels'!BB$45","v":0}]
[null,null,"FIXED",{"$f":"D36","v":0},{"$f":"IF(OR(SUM($D$36:E36)=D35,D35=0),0,SUM($D$36:E36))","v":0},{"$f":"IF(OR(SUM($D$36:F36)=E35,E35=0),0,SUM($D$36:F36))","v":0},{"$f":"IF(OR(SUM($D$36:G36)=F35,F35=0),0,SUM($D$36:G36))","v":0},{"$f":"IF(OR(SUM($D$36:H36)=G35,G35=0),0,SUM($D$36:H36))","v":0},{"$f":"IF(OR(SUM($D$36:I36)=H35,H35=0),0,SUM($D$36:I36))","v":0},{"$f":"IF(OR(SUM($D$36:J36)=I35,I35=0),0,SUM($D$36:J36))","v":0},{"$f":"IF(OR(SUM($D$36:K36)=J35,J35=0),0,SUM($D$36:K36))","v":0},{"$f":"IF(OR(SUM($D$36:L36)=K35,K35=0),0,SUM($D$36:L36))","v":0},{"$f":"IF(OR(SUM($D$36:M36)=L35,L35=0),0,SUM($D$36:M36))","v":0},{"$f":"IF(OR(SUM($D$36:N36)=M35,M35=0),0,SUM($D$36:N36))","v":0},{"$f":"IF(OR(SUM($D$36:O36)=N35,N35=0),0,SUM($D$36:O36))","v":0},{"$f":"IF(OR(SUM($D$36:P36)=O35,O35=0),0,SUM($D$36:P36))","v":0},{"$f":"IF(OR(SUM($D$36:Q36)=P35,P35=0),0,SUM($D$36:Q36))","v":0},{"$f":"IF(OR(SUM($D$36:R36)=Q35,Q35=0),0,SUM($D$36:R36))","v":0},{"$f":"IF(OR(SUM($D$36:S36)=R35,R35=0),0,SUM($D$36:S36))","v":0},{"$f":"IF(OR(SUM($D$36:T36)=S35,S35=0),0,SUM($D$36:T36))","v":0},{"$f":"IF(OR(SUM($D$36:U36)=T35,T35=0),0,SUM($D$36:U36))","v":0},{"$f":"IF(OR(SUM($D$36:V36)=U35,U35=0),0,SUM($D$36:V36))","v":0},{"$f":"IF(OR(SUM($D$36:W36)=V35,V35=0),0,SUM($D$36:W36))","v":0},{"$f":"IF(OR(SUM($D$36:X36)=W35,W35=0),0,SUM($D$36:X36))","v":0},{"$f":"IF(OR(SUM($D$36:Y36)=X35,X35=0),0,SUM($D$36:Y36))","v":0},{"$f":"IF(OR(SUM($D$36:Z36)=Y35,Y35=0),0,SUM($D$36:Z36))","v":0},{"$f":"IF(OR(SUM($D$36:AA36)=Z35,Z35=0),0,SUM($D$36:AA36))","v":0},{"$f":"IF(OR(SUM($D$36:AB36)=AA35,AA35=0),0,SUM($D$36:AB36))","v":0},{"$f":"IF(OR(SUM($D$36:AC36)=AB35,AB35=0),0,SUM($D$36:AC36))","v":0},{"$f":"IF(OR(SUM($D$36:AD36)=AC35,AC35=0),0,SUM($D$36:AD36))","v":0},{"$f":"IF(OR(SUM($D$36:AE36)=AD35,AD35=0),0,SUM($D$36:AE36))","v":0},{"$f":"IF(OR(SUM($D$36:AF36)=AE35,AE35=0),0,SUM($D$36:AF36))","v":0},{"$f":"IF(OR(SUM($D$36:AG36)=AF35,AF35=0),0,SUM($D$36:AG36))","v":0},{"$f":"IF(OR(SUM($D$36:AH36)=AG35,AG35=0),0,SUM($D$36:AH36))","v":0},{"$f":"IF(OR(SUM($D$36:AI36)=AH35,AH35=0),0,SUM($D$36:AI36))","v":0},{"$f":"IF(OR(SUM($D$36:AJ36)=AI35,AI35=0),0,SUM($D$36:AJ36))","v":0},{"$f":"IF(OR(SUM($D$36:AK36)=AJ35,AJ35=0),0,SUM($D$36:AK36))","v":0},{"$f":"IF(OR(SUM($D$36:AL36)=AK35,AK35=0),0,SUM($D$36:AL36))","v":0},{"$f":"IF(OR(SUM($D$36:AM36)=AL35,AL35=0),0,SUM($D$36:AM36))","v":0},{"$f":"IF(OR(SUM($D$36:AN36)=AM35,AM35=0),0,SUM($D$36:AN36))","v":0},{"$f":"IF(OR(SUM($D$36:AO36)=AN35,AN35=0),0,SUM($D$36:AO36))","v":0},{"$f":"IF(OR(SUM($D$36:AP36)=AO35,AO35=0),0,SUM($D$36:AP36))","v":0},{"$f":"IF(OR(SUM($D$36:AQ36)=AP35,AP35=0),0,SUM($D$36:AQ36))","v":0},{"$f":"IF(OR(SUM($D$36:AR36)=AQ35,AQ35=0),0,SUM($D$36:AR36))","v":0},{"$f":"IF(OR(SUM($D$36:AS36)=AR35,AR35=0),0,SUM($D$36:AS36))","v":0},{"$f":"IF(OR(SUM($D$36:AT36)=AS35,AS35=0),0,SUM($D$36:AT36))","v":0},{"$f":"IF(OR(SUM($D$36:AU36)=AT35,AT35=0),0,SUM($D$36:AU36))","v":0},{"$f":"IF(OR(SUM($D$36:AV36)=AU35,AU35=0),0,SUM($D$36:AV36))","v":0},{"$f":"IF(OR(SUM($D$36:AW36)=AV35,AV35=0),0,SUM($D$36:AW36))","v":0},{"$f":"IF(OR(SUM($D$36:AX36)=AW35,AW35=0),0,SUM($D$36:AX36))","v":0},{"$f":"IF(OR(SUM($D$36:AY36)=AX35,AX35=0),0,SUM($D$36:AY36))","v":0},{"$f":"IF(OR(SUM($D$36:AZ36)=AY35,AY35=0),0,SUM($D$36:AZ36))","v":0},{"$f":"IF(OR(SUM($D$36:BA36)=AZ35,AZ35=0),0,SUM($D$36:BA36))","v":0}]
[null,null,"RELATIVE",{"$f":"D34/2","v":0},{"$f":"(D34/2)+(E34/2)","v":0},{"$f":"(E34/2)+(F34/2)","v":0},{"$f":"(F34/2)+(G34/2)","v":0},0,0,0,0,0,0,0,0,0,0,0,0,0,0,0,0,0,0,0,0,0,0,0,0,0,0,0,0,0,0,0,0,0,0,0,0,0,0,0,0,0,0,0,0,0,0]
[]
[{"$nulls":3},1,2,3,4,5,6,7,8,9,10,11,12,13,14,15,16,17,18,19,20,21,22,23,24,25,26,27,28,29,30,31,32,33,34,35,36,37,38,39,40,41,42,43,44,45,46,47,48,49,50]
[null,"LABEL 5","RELATIVE",{"$f":"'Vertical Labels'!E$56","v":0},{"$f":"'Vertical Labels'!F$56","v":0},{"$f":"'Vertical Labels'!G$56","v":0},{"$f":"'Vertical Labels'!H$56","v":0},{"$f":"'Vertical Labels'!I$56","v":0},{"$f":"'Vertical Labels'!J$56","v":0},{"$f":"'Vertical Labels'!K$56","v":0},{"$f":"'Vertical Labels'!L$56","v":0},{"$f":"'Vertical Labels'!M$56","v":0},{"$f":"'Vertical Labels'!N$56","v":0},{"$f":"'Vertical Labels'!O$56","v":0},{"$f":"'Vertical Labels'!P$56","v":0},{"$f":"'Vertical Labels'!Q$56","v":0},{"$f":"'Vertical Labels'!R$56","v":0},{"$f":"'Vertical Labels'!S$56","v":0},{"$f":"'Vertical Labels'!T$56","v":0},{"$f":"'Vertical Labels'!U$56","v":0},{"$f":"'Vertical Labels'!V$56","v":0},{"$f":"'Vertical Labels'!W$56","v":0},{"$f":"'Vertical Labels'!X$56","v":0},{"$f":"'Vertical Labels'!Y$56","v":0},{"$f":"'Vertical Labels'!Z$56","v":0},{"$f":"'Vertical Labels'!AA$56","v":0},{"$f":"'Vertical Labels'!AB$56","v":0},{"$f":"'Vertical Labels'!AC$56","v":0},{"$f":"'Vertical Labels'!AD$56","v":0},{"$f":"'Vertical Labels'!AE$56","v":0},{"$f":"'Vertical Labels'!AF$56","v":0},{"$f":"'Vertical Labels'!AG$56","v":0},{"$f":"'Vertical Labels'!AH$56","v":0},{"$f":"'Vertical Labels'!AI$56","v":0},{"$f":"'Vertical Labels'!AJ$56","v":0},{"$f":"'Vertical Labels'!AK$56","v":0},{"$f":"'Vertical Labels'!AL$56","v":0},{"$f":"'Vertical Labels'!AM$56","v":0},{"$f":"'Vertical Labels'!AN$56","v":0},{"$f":"'Vertical Labels'!AO$56","v":0},{"$f":"'Vertical Labels'!AP$56","v":0},{"$f":"'Vertical Labels'!AQ$56","v":0},{"$f":"'Vertical Labels'!AR$56","v":0},{"$f":"'Vertical Labels'!AS$56","v":0},{"$f":"'Vertical Labels'!AT$56","v":0},{"$f":"'Vertical Labels'!AU$56","v":0},{"$f":"'Vertical Labels'!AV$56","v":0},{"$f":"'Vertical Labels'!AW$56","v":0},{"$f":"'Vertical Labels'!AX$56","v":0},{"$f":"'Vertical Labels'!AY$56","v":0},{"$f":"'Vertical Labels'!AZ$56","v":0},{"$f":"'Vertical Labels'!BA$56","v":0},{"$f":"'Vertical Labels'!BB$56","v":0}]
[null,null,"FIXED",{"$f":"SUM($D$39:D39)","v":0},{"$f":"IF(OR(SUM($D$39:E39)=D40,D40=0),0,SUM($D$39:E39))","v":0},{"$f":"IF(OR(SUM($D$39:F39)=E40,E40=0),0,SUM($D$39:F39))","v":0},{"$f":"IF(OR(SUM($D$39:G39)=F40,F40=0),0,SUM($D$39:G39))","v":0},{"$f":"IF(OR(SUM($D$39:H39)=G40,G40=0),0,SUM($D$39:H39))","v":0},{"$f":"IF(OR(SUM($D$39:I39)=H40,H40=0),0,SUM($D$39:I39))","v":0},{"$f":"IF(OR(SUM($D$39:J39)=I40,I40=0),0,SUM($D$39:J39))","v":0},{"$f":"IF(OR(SUM($D$39:K39)=J40,J40=0),0,SUM($D$39:K39))","v":0},{"$f":"IF(OR(SUM($D$39:L39)=K40,K40=0),0,SUM($D$39:L39))","v":0},{"$f":"IF(OR(SUM($D$39:M39)=L40,L40=0),0,SUM($D$39:M39))","v":0},{"$f":"IF(OR(SUM($D$39:N39)=M40,M40=0),0,SUM($D$39:N39))","v":0},{"$f":"IF(OR(SUM($D$39:O39)=N40,N40=0),0,SUM($D$39:O39))","v":0},{"$f":"IF(OR(SUM($D$39:P39)=O40,O40=0),0,SUM($D$39:P39))","v":0},{"$f":"IF(OR(SUM($D$39:Q39)=P40,P40=0),0,SUM($D$39:Q39))","v":0},{"$f":"IF(OR(SUM($D$39:R39)=Q40,Q40=0),0,SUM($D$39:R39))","v":0},{"$f":"IF(OR(SUM($D$39:S39)=R40,R40=0),0,SUM($D$39:S39))","v":0},{"$f":"IF(OR(SUM($D$39:T39)=S40,S40=0),0,SUM($D$39:T39))","v":0},{"$f":"IF(OR(SUM($D$39:U39)=T40,T40=0),0,SUM($D$39:U39))","v":0},{"$f":"IF(OR(SUM($D$39:V39)=U40,U40=0),0,SUM($D$39:V39))","v":0},{"$f":"IF(OR(SUM($D$39:W39)=V40,V40=0),0,SUM($D$39:W39))","v":0},{"$f":"IF(OR(SUM($D$39:X39)=W40,W40=0),0,SUM($D$39:X39))","v":0},{"$f":"IF(OR(SUM($D$39:Y39)=X40,X40=0),0,SUM($D$39:Y39))","v":0},{"$f":"IF(OR(SUM($D$39:Z39)=Y40,Y40=0),0,SUM($D$39:Z39))","v":0},{"$f":"IF(OR(SUM($D$39:AA39)=Z40,Z40=0),0,SUM($D$39:AA39))","v":0},{"$f":"IF(OR(SUM($D$39:AB39)=AA40,AA40=0),0,SUM($D$39:AB39))","v":0},{"$f":"IF(OR(SUM($D$39:AC39)=AB40,AB40=0),0,SUM($D$39:AC39))","v":0},{"$f":"IF(OR(SUM($D$39:AD39)=AC40,AC40=0),0,SUM($D$39:AD39))","v":0},{"$f":"IF(OR(SUM($D$39:AE39)=AD40,AD40=0),0,SUM($D$39:AE39))","v":0},{"$f":"IF(OR(SUM($D$39:AF39)=AE40,AE40=0),0,SUM($D$39:AF39))","v":0},{"$f":"IF(OR(SUM($D$39:AG39)=AF40,AF40=0),0,SUM($D$39:AG39))","v":0},{"$f":"IF(OR(SUM($D$39:AH39)=AG40,AG40=0),0,SUM($D$39:AH39))","v":0},{"$f":"IF(OR(SUM($D$39:AI39)=AH40,AH40=0),0,SUM($D$39:AI39))","v":0},{"$f":"IF(OR(SUM($D$39:AJ39)=AI40,AI40=0),0,SUM($D$39:AJ39))","v":0},{"$f":"IF(OR(SUM($D$39:AK39)=AJ40,AJ40=0),0,SUM($D$39:AK39))","v":0},{"$f":"IF(OR(SUM($D$39:AL39)=AK40,AK40=0),0,SUM($D$39:AL39))","v":0},{"$f":"IF(OR(SUM($D$39:AM39)=AL40,AL40=0),0,SUM($D$39:AM39))","v":0},{"$f":"IF(OR(SUM($D$39:AN39)=AM40,AM40=0),0,SUM($D$39:AN39))","v":0},{"$f":"IF(OR(SUM($D$39:AO39)=AN40,AN40=0),0,SUM($D$39:AO39))","v":0},{"$f":"IF(OR(SUM($D$39:AP39)=AO40,AO40=0),0,SUM($D$39:AP39))","v":0},{"$f":"IF(OR(SUM($D$39:AQ39)=AP40,AP40=0),0,SUM($D$39:AQ39))","v":0},{"$f":"IF(OR(SUM($D$39:AR39)=AQ40,AQ40=0),0,SUM($D$39:AR39))","v":0},{"$f":"IF(OR(SUM($D$39:AS39)=AR40,AR40=0),0,SUM($D$39:AS39))","v":0},{"$f":"IF(OR(SUM($D$39:AT39)=AS40,AS40=0),0,SUM($D$39:AT39))","v":0},{"$f":"IF(OR(SUM($D$39:AU39)=AT40,AT40=0),0,SUM($D$39:AU39))","v":0},{"$f":"IF(OR(SUM($D$39:AV39)=AU40,AU40=0),0,SUM($D$39:AV39))","v":0},{"$f":"IF(OR(SUM($D$39:AW39)=AV40,AV40=0),0,SUM($D$39:AW39))","v":0},{"$f":"IF(OR(SUM($D$39:AX39)=AW40,AW40=0),0,SUM($D$39:AX39))","v":0},{"$f":"IF(OR(SUM($D$39:AY39)=AX40,AX40=0),0,SUM($D$39:AY39))","v":0},{"$f":"IF(OR(SUM($D$39:AZ39)=AY40,AY40=0),0,SUM($D$39:AZ39))","v":0},{"$f":"IF(OR(SUM($D$39:BA39)=AZ40,AZ40=0),0,SUM($D$39:BA39))","v":0}]
[null,null,"FIXED",{"$f":"'Vertical Labels'!E$56","v":0},{"$f":"'Vertical Labels'!F$56","v":0},{"$f":"'Vertical Labels'!G$56","v":0},{"$f":"'Vertical Labels'!H$56","v":0},{"$f":"'Vertical Labels'!I$56","v":0},{"$f":"'Vertical Labels'!J$56","v":0},{"$f":"'Vertical Labels'!K$56","v":0},{"$f":"'Vertical Labels'!L$56","v":0},{"$f":"'Vertical Labels'!M$56","v":0},{"$f":"'Vertical Labels'!N$56","v":0},{"$f":"'Vertical Labels'!O$56","v":0},{"$f":"'Vertical Labels'!P$56","v":0},{"$f":"'Vertical Labels'!Q$56","v":0},{"$f":"'Vertical Labels'!R$56","v":0},{"$f":"'Vertical Labels'!S$56","v":0},{"$f":"'Vertical Labels'!T$56","v":0},{"$f":"'Vertical Labels'!U$56","v":0},{"$f":"'Vertical Labels'!V$56","v":0},{"$f":"'Vertical Labels'!W$56","v":0},{"$f":"'Vertical Labels'!X$56","v":0},{"$f":"'Vertical Labels'!Y$56","v":0},{"$f":"'Vertical Labels'!Z$56","v":0},{"$f":"'Vertical Labels'!AA$56","v":0},{"$f":"'Vertical Labels'!AB$56","v":0},{"$f":"'Vertical Labels'!AC$56","v":0},{"$f":"'Vertical Labels'!AD$56","v":0},{"$f":"'Vertical Labels'!AE$56","v":0},{"$f":"'Vertical Labels'!AF$56","v":0},{"$f":"'Vertical Labels'!AG$56","v":0},{"$f":"'Vertical Labels'!AH$56","v":0},{"$f":"'Vertical Labels'!AI$56","v":0},{"$f":"'Vertical Labels'!AJ$56","v":0},{"$f":"'Vertical Labels'!AK$56","v":0},{"$f":"'Vertical Labels'!AL$56","v":0},{"$f":"'Vertical Labels'!AM$56","v":0},{"$f":"'Vertical Labels'!AN$56","v":0},{"$f":"'Vertical Labels'!AO$56","v":0},{"$f":"'Vertical Labels'!AP$56","v":0},{"$f":"'Vertical Labels'!AQ$56","v":0},{"$f":"'Vertical Labels'!AR$56","v":0},{"$f":"'Vertical Labels'!AS$56","v":0},{"$f":"'Vertical Labels'!AT$56","v":0},{"$f":"'Vertical Labels'!AU$56","v":0},{"$f":"'Vertical Labels'!AV$56","v":0},{"$f":"'Vertical Labels'!AW$56","v":0},{"$f":"'Vertical Labels'!AX$56","v":0},{"$f":"'Vertical Labels'!AY$56","v":0},{"$f":"'Vertical Labels'!AZ$56","v":0},{"$f":"'Vertical Labels'!BA$56","v":0},{"$f":"'Vertical Labels'!BB$56","v":0}]
[null,null,"RELATIVE",{"$f":"D41","v":0},{"$f":"IF(E41-D41<1,0,E41-D41)","v":0},{"$f":"IF(F41-E41<1,0,F41-E41)","v":0},{"$f":"IF(G41-F41<1,0,G41-F41)","v":0},0,0,0,0,0,0,0,0,0,0,0,0,0,0,0,0,0,0,0,0,0,0,0,0,0,0,0,0,0,0,0,0,0,0,0,0,0,0,0,0,0,0,0,0,0,0]
[null,null,"BLOCKS",{"$f":"'Vertical Labels'!E$56","v":0},{"$f":"'Vertical Labels'!F$56","v":0},{"$f":"'Vertical Labels'!G$56","v":0},{"$f":"'Vertical Labels'!H$56","v":0},{"$f":"'Vertical Labels'!I$56","v":0},{"$f":"'Vertical Labels'!J$56","v":0},{"$f":"'Vertical Labels'!K$56","v":0},{"$f":"'Vertical Labels'!L$56","v":0},{"$f":"'Vertical Labels'!M$56","v":0},{"$f":"'Vertical Labels'!N$56","v":0},{"$f":"'Vertical Labels'!O$56","v":0},{"$f":"'Vertical Labels'!P$56","v":0},{"$f":"'Vertical Labels'!Q$56","v":0},{"$f":"'Vertical Labels'!R$56","v":0},{"$f":"'Vertical Labels'!S$56","v":0},{"$f":"'Vertical Labels'!T$56","v":0},{"$f":"'Vertical Labels'!U$56","v":0},{"$f":"'Vertical Labels'!V$56","v":0},{"$f":"'Vertical Labels'!W$56","v":0},{"$f":"'Vertical Labels'!X$56","v":0},{"$f":"'Vertical Labels'!Y$56","v":0},{"$f":"'Vertical Labels'!Z$56","v":0},{"$f":"'Vertical Labels'!AA$56","v":0},{"$f":"'Vertical Labels'!AB$56","v":0},{"$f":"'Vertical Labels'!AC$56","v":0},{"$f":"'Vertical Labels'!AD$56","v":0},{"$f":"'Vertical Labels'!AE$56","v":0},{"$f":"'Vertical Labels'!AF$56","v":0},{"$f":"'Vertical Labels'!AG$56","v":0},{"$f":"'Vertical Labels'!AH$56","v":0},{"$f":"'Vertical Labels'!AI$56","v":0},{"$f":"'Vertical Labels'!AJ$56","v":0},{"$f":"'Vertical Labels'!AK$56","v":0},{"$f":"'Vertical Labels'!AL$56","v":0},{"$f":"'Vertical Labels'!AM$56","v":0},{"$f":"'Vertical Labels'!AN$56","v":0},{"$f":"'Vertical Labels'!AO$56","v":0},{"$f":"'Vertical Labels'!AP$56","v":0},{"$f":"'Vertical Labels'!AQ$56","v":0},{"$f":"'Vertical Labels'!AR$56","v":0},{"$f":"'Vertical Labels'!AS$56","v":0},{"$f":"'Vertical Labels'!AT$56","v":0},{"$f":"'Vertical Labels'!AU$56","v":0},{"$f":"'Vertical Labels'!AV$56","v":0},{"$f":"'Vertical Labels'!AW$56","v":0},{"$f":"'Vertical Labels'!AX$56","v":0},{"$f":"'Vertical Labels'!AY$56","v":0},{"$f":"'Vertical Labels'!AZ$56","v":0},{"$f":"'Vertical Labels'!BA$56","v":0},{"$f":"'Vertical Labels'!BB$56","v":0}]
[null,null,"FIXED",{"$f":"D45","v":0},{"$f":"IF(OR(SUM($D$45:E45)=D44,D44=0),0,SUM($D$45:E45))","v":0},{"$f":"IF(OR(SUM($D$45:F45)=E44,E44=0),0,SUM($D$45:F45))","v":0},{"$f":"IF(OR(SUM($D$45:G45)=F44,F44=0),0,SUM($D$45:G45))","v":0},{"$f":"IF(OR(SUM($D$45:H45)=G44,G44=0),0,SUM($D$45:H45))","v":0},{"$f":"IF(OR(SUM($D$45:I45)=H44,H44=0),0,SUM($D$45:I45))","v":0},{"$f":"IF(OR(SUM($D$45:J45)=I44,I44=0),0,SUM($D$45:J45))","v":0},{"$f":"IF(OR(SUM($D$45:K45)=J44,J44=0),0,SUM($D$45:K45))","v":0},{"$f":"IF(OR(SUM($D$45:L45)=K44,K44=0),0,SUM($D$45:L45))","v":0},{"$f":"IF(OR(SUM($D$45:M45)=L44,L44=0),0,SUM($D$45:M45))","v":0},{"$f":"IF(OR(SUM($D$45:N45)=M44,M44=0),0,SUM($D$45:N45))","v":0},{"$f":"IF(OR(SUM($D$45:O45)=N44,N44=0),0,SUM($D$45:O45))","v":0},{"$f":"IF(OR(SUM($D$45:P45)=O44,O44=0),0,SUM($D$45:P45))","v":0},{"$f":"IF(OR(SUM($D$45:Q45)=P44,P44=0),0,SUM($D$45:Q45))","v":0},{"$f":"IF(OR(SUM($D$45:R45)=Q44,Q44=0),0,SUM($D$45:R45))","v":0},{"$f":"IF(OR(SUM($D$45:S45)=R44,R44=0),0,SUM($D$45:S45))","v":0},{"$f":"IF(OR(SUM($D$45:T45)=S44,S44=0),0,SUM($D$45:T45))","v":0},{"$f":"IF(OR(SUM($D$45:U45)=T44,T44=0),0,SUM($D$45:U45))","v":0},{"$f":"IF(OR(SUM($D$45:V45)=U44,U44=0),0,SUM($D$45:V45))","v":0},{"$f":"IF(OR(SUM($D$45:W45)=V44,V44=0),0,SUM($D$45:W45))","v":0},{"$f":"IF(OR(SUM($D$45:X45)=W44,W44=0),0,SUM($D$45:X45))","v":0},{"$f":"IF(OR(SUM($D$45:Y45)=X44,X44=0),0,SUM($D$45:Y45))","v":0},{"$f":"IF(OR(SUM($D$45:Z45)=Y44,Y44=0),0,SUM($D$45:Z45))","v":0},{"$f":"IF(OR(SUM($D$45:AA45)=Z44,Z44=0),0,SUM($D$45:AA45))","v":0},{"$f":"IF(OR(SUM($D$45:AB45)=AA44,AA44=0),0,SUM($D$45:AB45))","v":0},{"$f":"IF(OR(SUM($D$45:AC45)=AB44,AB44=0),0,SUM($D$45:AC45))","v":0},{"$f":"IF(OR(SUM($D$45:AD45)=AC44,AC44=0),0,SUM($D$45:AD45))","v":0},{"$f":"IF(OR(SUM($D$45:AE45)=AD44,AD44=0),0,SUM($D$45:AE45))","v":0},{"$f":"IF(OR(SUM($D$45:AF45)=AE44,AE44=0),0,SUM($D$45:AF45))","v":0},{"$f":"IF(OR(SUM($D$45:AG45)=AF44,AF44=0),0,SUM($D$45:AG45))","v":0},{"$f":"IF(OR(SUM($D$45:AH45)=AG44,AG44=0),0,SUM($D$45:AH45))","v":0},{"$f":"IF(OR(SUM($D$45:AI45)=AH44,AH44=0),0,SUM($D$45:AI45))","v":0},{"$f":"IF(OR(SUM($D$45:AJ45)=AI44,AI44=0),0,SUM($D$45:AJ45))","v":0},{"$f":"IF(OR(SUM($D$45:AK45)=AJ44,AJ44=0),0,SUM($D$45:AK45))","v":0},{"$f":"IF(OR(SUM($D$45:AL45)=AK44,AK44=0),0,SUM($D$45:AL45))","v":0},{"$f":"IF(OR(SUM($D$45:AM45)=AL44,AL44=0),0,SUM($D$45:AM45))","v":0},{"$f":"IF(OR(SUM($D$45:AN45)=AM44,AM44=0),0,SUM($D$45:AN45))","v":0},{"$f":"IF(OR(SUM($D$45:AO45)=AN44,AN44=0),0,SUM($D$45:AO45))","v":0},{"$f":"IF(OR(SUM($D$45:AP45)=AO44,AO44=0),0,SUM($D$45:AP45))","v":0},{"$f":"IF(OR(SUM($D$45:AQ45)=AP44,AP44=0),0,SUM($D$45:AQ45))","v":0},{"$f":"IF(OR(SUM($D$45:AR45)=AQ44,AQ44=0),0,SUM($D$45:AR45))","v":0},{"$f":"IF(OR(SUM($D$45:AS45)=AR44,AR44=0),0,SUM($D$45:AS45))","v":0},{"$f":"IF(OR(SUM($D$45:AT45)=AS44,AS44=0),0,SUM($D$45:AT45))","v":0},{"$f":"IF(OR(SUM($D$45:AU45)=AT44,AT44=0),0,SUM($D$45:AU45))","v":0},{"$f":"IF(OR(SUM($D$45:AV45)=AU44,AU44=0),0,SUM($D$45:AV45))","v":0},{"$f":"IF(OR(SUM($D$45:AW45)=AV44,AV44=0),0,SUM($D$45:AW45))","v":0},{"$f":"IF(OR(SUM($D$45:AX45)=AW44,AW44=0),0,SUM($D$45:AX45))","v":0},{"$f":"IF(OR(SUM($D$45:AY45)=AX44,AX44=0),0,SUM($D$45:AY45))","v":0},{"$f":"IF(OR(SUM($D$45:AZ45)=AY44,AY44=0),0,SUM($D$45:AZ45))","v":0},{"$f":"IF(OR(SUM($D$45:BA45)=AZ44,AZ44=0),0,SUM($D$45:BA45))","v":0}]
[null,null,"RELATIVE",{"$f":"D43/2","v":0},{"$f":"(D43/2)+(E43/2)","v":0},{"$f":"(E43/2)+(F43/2)","v":0},0,0,0,0,0,0,0,0,0,0,0,0,0,0,0,0,0,0,0,0,0,0,0,0,0,0,0,0,0,0,0,0,0,0,0,0,0,0,0,0,0,0,0,0,0,0,0]
[]
[{"$nulls":3},1,2,3,4,5,6,7,8,9,10,11,12,13,14,15,16,17,18,19,20,21,22,23,24,25,26,27,28,29,30,31,32,33,34,35,36,37,38,39,40,41,42,43,44,45,46,47,48,49,50]
[null,"LABEL 6","RELATIVE",{"$f":"'Vertical Labels'!E$67","v":0},{"$f":"'Vertical Labels'!F$67","v":0},{"$f":"'Vertical Labels'!G$67","v":0},{"$f":"'Vertical Labels'!H$67","v":0},{"$f":"'Vertical Labels'!I$67","v":0},{"$f":"'Vertical Labels'!J$67","v":0},{"$f":"'Vertical Labels'!K$67","v":0},{"$f":"'Vertical Labels'!L$67","v":0},{"$f":"'Vertical Labels'!M$67","v":0},{"$f":"'Vertical Labels'!N$67","v":0},{"$f":"'Vertical Labels'!O$67","v":0},{"$f":"'Vertical Labels'!P$67","v":0},{"$f":"'Vertical Labels'!Q$67","v":0},{"$f":"'Vertical Labels'!R$67","v":0},{"$f":"'Vertical Labels'!S$67","v":0},{"$f":"'Vertical Labels'!T$67","v":0},{"$f":"'Vertical Labels'!U$67","v":0},{"$f":"'Vertical Labels'!V$67","v":0},{"$f":"'Vertical Labels'!W$67","v":0},{"$f":"'Vertical Labels'!X$67","v":0},{"$f":"'Vertical Labels'!Y$67","v":0},{"$f":"'Vertical Labels'!Z$67","v":0},{"$f":"'Vertical Labels'!AA$67","v":0},{"$f":"'Vertical Labels'!AB$67","v":0},{"$f":"'Vertical Labels'!AC$67","v":0},{"$f":"'Vertical Labels'!AD$67","v":0},{"$f":"'Vertical Labels'!AE$67","v":0},{"$f":"'Vertical Labels'!AF$67","v":0},{"$f":"'Vertical Labels'!AG$67","v":0},{"$f":"'Vertical Labels'!AH$67","v":0},{"$f":"'Vertical Labels'!AI$67","v":0},{"$f":"'Vertical Labels'!AJ$67","v":0},{"$f":"'Vertical Labels'!AK$67","v":0},{"$f":"'Vertical Labels'!AL$67","v":0},{"$f":"'Vertical Labels'!AM$67","v":0},{"$f":"'Vertical Labels'!AN$67","v":0},{"$f":"'Vertical Labels'!AO$67","v":0},{"$f":"'Vertical Labels'!AP$67","v":0},{"$f":"'Vertical Labels'!AQ$67","v":0},{"$f":"'Vertical Labels'!AR$67","v":0},{"$f":"'Vertical Labels'!AS$67","v":0},{"$f":"'Vertical Labels'!AT$67","v":0},{"$f":"'Vertical Labels'!AU$67","v":0},{"$f":"'Vertical Labels'!AV$67","v":0},{"$f":"'Vertical Labels'!AW$67","v":0},{"$f":"'Vertical Labels'!AX$67","v":0},{"$f":"'Vertical Labels'!AY$67","v":0},{"$f":"'Vertical Labels'!AZ$67","v":0},{"$f":"'Vertical Labels'!BA$67","v":0},{"$f":"'Vertical Labels'!BB$67","v":0}]
[null,null,"FIXED",{"$f":"SUM($D$48:D48)","v":0},{"$f":"IF(OR(SUM($D$48:E48)=D49,D49=0),0,SUM($D$48:E48))","v":0},{"$f":"IF(OR(SUM($D$48:F48)=E49,E49=0),0,SUM($D$48:F48))","v":0},{"$f":"IF(OR(SUM($D$48:G48)=F49,F49=0),0,SUM($D$48:G48))","v":0},{"$f":"IF(OR(SUM($D$48:H48)=G49,G49=0),0,SUM($D$48:H48))","v":0},{"$f":"IF(OR(SUM($D$48:I48)=H49,H49=0),0,SUM($D$48:I48))","v":0},{"$f":"IF(OR(SUM($D$48:J48)=I49,I49=0),0,SUM($D$48:J48))","v":0},{"$f":"IF(OR(SUM($D$48:K48)=J49,J49=0),0,SUM($D$48:K48))","v":0},{"$f":"IF(OR(SUM($D$48:L48)=K49,K49=0),0,SUM($D$48:L48))","v":0},{"$f":"IF(OR(SUM($D$48:M48)=L49,L49=0),0,SUM($D$48:M48))","v":0},{"$f":"IF(OR(SUM($D$48:N48)=M49,M49=0),0,SUM($D$48:N48))","v":0},{"$f":"IF(OR(SUM($D$48:O48)=N49,N49=0),0,SUM($D$48:O48))","v":0},{"$f":"IF(OR(SUM($D$48:P48)=O49,O49=0),0,SUM($D$48:P48))","v":0},{"$f":"IF(OR(SUM($D$48:Q48)=P49,P49=0),0,SUM($D$48:Q48))","v":0},{"$f":"IF(OR(SUM($D$48:R48)=Q49,Q49=0),0,SUM($D$48:R48))","v":0},{"$f":"IF(OR(SUM($D$48:S48)=R49,R49=0),0,SUM($D$48:S48))","v":0},{"$f":"IF(OR(SUM($D$48:T48)=S49,S49=0),0,SUM($D$48:T48))","v":0},{"$f":"IF(OR(SUM($D$48:U48)=T49,T49=0),0,SUM($D$48:U48))","v":0},{"$f":"IF(OR(SUM($D$48:V48)=U49,U49=0),0,SUM($D$48:V48))","v":0},{"$f":"IF(OR(SUM($D$48:W48)=V49,V49=0),0,SUM($D$48:W48))","v":0},{"$f":"IF(OR(SUM($D$48:X48)=W49,W49=0),0,SUM($D$48:X48))","v":0},{"$f":"IF(OR(SUM($D$48:Y48)=X49,X49=0),0,SUM($D$48:Y48))","v":0},{"$f":"IF(OR(SUM($D$48:Z48)=Y49,Y49=0),0,SUM($D$48:Z48))","v":0},{"$f":"IF(OR(SUM($D$48:AA48)=Z49,Z49=0),0,SUM($D$48:AA48))","v":0},{"$f":"IF(OR(SUM($D$48:AB48)=AA49,AA49=0),0,SUM($D$48:AB48))","v":0},{"$f":"IF(OR(SUM($D$48:AC48)=AB49,AB49=0),0,SUM($D$48:AC48))","v":0},{"$f":"IF(OR(SUM($D$48:AD48)=AC49,AC49=0),0,SUM($D$48:AD48))","v":0},{"$f":"IF(OR(SUM($D$48:AE48)=AD49,AD49=0),0,SUM($D$48:AE48))","v":0},{"$f":"IF(OR(SUM($D$48:AF48)=AE49,AE49=0),0,SUM($D$48:AF48))","v":0},{"$f":"IF(OR(SUM($D$48:AG48)=AF49,AF49=0),0,SUM($D$48:AG48))","v":0},{"$f":"IF(OR(SUM($D$48:AH48)=AG49,AG49=0),0,SUM($D$48:AH48))","v":0},{"$f":"IF(OR(SUM($D$48:AI48)=AH49,AH49=0),0,SUM($D$48:AI48))","v":0},{"$f":"IF(OR(SUM($D$48:AJ48)=AI49,AI49=0),0,SUM($D$48:AJ48))","v":0},{"$f":"IF(OR(SUM($D$48:AK48)=AJ49,AJ49=0),0,SUM($D$48:AK48))","v":0},{"$f":"IF(OR(SUM($D$48:AL48)=AK49,AK49=0),0,SUM($D$48:AL48))","v":0},{"$f":"IF(OR(SUM($D$48:AM48)=AL49,AL49=0),0,SUM($D$48:AM48))","v":0},{"$f":"IF(OR(SUM($D$48:AN48)=AM49,AM49=0),0,SUM($D$48:AN48))","v":0},{"$f":"IF(OR(SUM($D$48:AO48)=AN49,AN49=0),0,SUM($D$48:AO48))","v":0},{"$f":"IF(OR(SUM($D$48:AP48)=AO49,AO49=0),0,SUM($D$48:AP48))","v":0},{"$f":"IF(OR(SUM($D$48:AQ48)=AP49,AP49=0),0,SUM($D$48:AQ48))","v":0},{"$f":"IF(OR(SUM($D$48:AR48)=AQ49,AQ49=0),0,SUM($D$48:AR48))","v":0},{"$f":"IF(OR(SUM($D$48:AS48)=AR49,AR49=0),0,SUM($D$48:AS48))","v":0},{"$f":"IF(OR(SUM($D$48:AT48)=AS49,AS49=0),0,SUM($D$48:AT48))","v":0},{"$f":"IF(OR(SUM($D$48:AU48)=AT49,AT49=0),0,SUM($D$48:AU48))","v":0},{"$f":"IF(OR(SUM($D$48:AV48)=AU49,AU49=0),0,SUM($D$48:AV48))","v":0},{"$f":"IF(OR(SUM($D$48:AW48)=AV49,AV49=0),0,SUM($D$48:AW48))","v":0},{"$f":"IF(OR(SUM($D$48:AX48)=AW49,AW49=0),0,SUM($D$48:AX48))","v":0},{"$f":"IF(OR(SUM($D$48:AY48)=AX49,AX49=0),0,SUM($D$48:AY48))","v":0},{"$f":"IF(OR(SUM($D$48:AZ48)=AY49,AY49=0),0,SUM($D$48:AZ48))","v":0},{"$f":"IF(OR(SUM($D$48:BA48)=AZ49,AZ49=0),0,SUM($D$48:BA48))","v":0}]
[null,null,"FIXED",{"$f":"'Vertical Labels'!E$67","v":0},{"$f":"'Vertical Labels'!F$67","v":0},{"$f":"'Vertical Labels'!G$67","v":0},{"$f":"'Vertical Labels'!H$67","v":0},{"$f":"'Vertical Labels'!I$67","v":0},{"$f":"'Vertical Labels'!J$67","v":0},{"$f":"'Vertical Labels'!K$67","v":0},{"$f":"'Vertical Labels'!L$67","v":0},{"$f":"'Vertical Labels'!M$67","v":0},{"$f":"'Vertical Labels'!N$67","v":0},{"$f":"'Vertical Labels'!O$67","v":0},{"$f":"'Vertical Labels'!P$67","v":0},{"$f":"'Vertical Labels'!Q$67","v":0},{"$f":"'Vertical Labels'!R$67","v":0},{"$f":"'Vertical Labels'!S$67","v":0},{"$f":"'Vertical Labels'!T$67","v":0},{"$f":"'Vertical Labels'!U$67","v":0},{"$f":"'Vertical Labels'!V$67","v":0},{"$f":"'Vertical Labels'!W$67","v":0},{"$f":"'Vertical Labels'!X$67","v":0},{"$f":"'Vertical Labels'!Y$67","v":0},{"$f":"'Vertical Labels'!Z$67","v":0},{"$f":"'Vertical Labels'!AA$67","v":0},{"$f":"'Vertical Labels'!AB$67","v":0},{"$f":"'Vertical Labels'!AC$67","v":0},{"$f":"'Vertical Labels'!AD$67","v":0},{"$f":"'Vertical Labels'!AE$67","v":0},{"$f":"'Vertical Labels'!AF$67","v":0},{"$f":"'Vertical Labels'!AG$67","v":0},{"$f":"'Vertical Labels'!AH$67","v":0},{"$f":"'Vertical Labels'!AI$67","v":0},{"$f":"'Vertical Labels'!AJ$67","v":0},{"$f":"'Vertical Labels'!AK$67","v":0},{"$f":"'Vertical Labels'!AL$67","v":0},{"$f":"'Vertical Labels'!AM$67","v":0},{"$f":"'Vertical Labels'!AN$67","v":0},{"$f":"'Vertical Labels'!AO$67","v":0},{"$f":"'Vertical Labels'!AP$67","v":0},{"$f":"'Vertical Labels'!AQ$67","v":0},{"$f":"'Vertical Labels'!AR$67","v":0},{"$f":"'Vertical Labels'!AS$67","v":0},{"$f":"'Vertical Labels'!AT$67","v":0},{"$f":"'Vertical Labels'!AU$67","v":0},{"$f":"'Vertical Labels'!AV$67","v":0},{"$f":"'Vertical Labels'!AW$67","v":0},{"$f":"'Vertical Labels'!AX$67","v":0},{"$f":"'Vertical Labels'!AY$67","v":0},{"$f":"'Vertical Labels'!AZ$67","v":0},{"$f":"'Vertical Labels'!BA$67","v":0},{"$f":"'Vertical Labels'!BB$67","v":0}]
[null,null,"RELATIVE",{"$f":"D50","v":0},{"$f":"IF(E50-D50<1,0,E50-D50)","v":0},{"$f":"IF(F50-E50<1,0,F50-E50)","v":0},0,0,0,0,0,0,0,0,0,0,0,0,0,0,0,0,0,0,0,0,0,0,0,0,0,0,0,0,0,0,0,0,0,0,0,0,0,0,0,0,0,0,0,0,0,0,0]
[null,null,"BLOCKS",{"$f":"'Vertical Labels'!E$67","v":0},{"$f":"'Vertical Labels'!F$67","v":0},{"$f":"'Vertical Labels'!G$67","v":0},{"$f":"'Vertical Labels'!H$67","v":0},{"$f":"'Vertical Labels'!I$67","v":0},{"$f":"'Vertical Labels'!J$67","v":0},{"$f":"'Vertical Labels'!K$67","v":0},{"$f":"'Vertical Labels'!L$67","v":0},{"$f":"'Vertical Labels'!M$67","v":0},{"$f":"'Vertical Labels'!N$67","v":0},{"$f":"'Vertical Labels'!O$67","v":0},{"$f":"'Vertical Labels'!P$67","v":0},{"$f":"'Vertical Labels'!Q$67","v":0},{"$f":"'Vertical Labels'!R$67","v":0},{"$f":"'Vertical Labels'!S$67","v":0},{"$f":"'Vertical Labels'!T$67","v":0},{"$f":"'Vertical Labels'!U$67","v":0},{"$f":"'Vertical Labels'!V$67","v":0},{"$f":"'Vertical Labels'!W$67","v":0},{"$f":"'Vertical Labels'!X$67","v":0},{"$f":"'Vertical Labels'!Y$67","v":0},{"$f":"'Vertical Labels'!Z$67","v":0},{"$f":"'Vertical Labels'!AA$67","v":0},{"$f":"'Vertical Labels'!AB$67","v":0},{"$f":"'Vertical Labels'!AC$67","v":0},{"$f":"'Vertical Labels'!AD$67","v":0},{"$f":"'Vertical Labels'!AE$67","v":0},{"$f":"'Vertical Labels'!AF$67","v":0},{"$f":"'Vertical Labels'!AG$67","v":0},{"$f":"'Vertical Labels'!AH$67","v":0},{"$f":"'Vertical Labels'!AI$67","v":0},{"$f":"'Vertical Labels'!AJ$67","v":0},{"$f":"'Vertical Labels'!AK$67","v":0},{"$f":"'Vertical Labels'!AL$67","v":0},{"$f":"'Vertical Labels'!AM$67","v":0},{"$f":"'Vertical Labels'!AN$67","v":0},{"$f":"'Vertical Labels'!AO$67","v":0},{"$f":"'Vertical Labels'!AP$67","v":0},{"$f":"'Vertical Labels'!AQ$67","v":0},{"$f":"'Vertical Labels'!AR$67","v":0},{"$f":"'Vertical Labels'!AS$67","v":0},{"$f":"'Vertical Labels'!AT$67","v":0},{"$f":"'Vertical Labels'!AU$67","v":0},{"$f":"'Vertical Labels'!AV$67","v":0},{"$f":"'Vertical Labels'!AW$67","v":0},{"$f":"'Vertical Labels'!AX$67","v":0},{"$f":"'Vertical Labels'!AY$67","v":0},{"$f":"'Vertical Labels'!AZ$67","v":0},{"$f":"'Vertical Labels'!BA$67","v":0},{"$f":"'Vertical Labels'!BB$67","v":0}]
[null,null,"FIXED",{"$f":"D54","v":0},{"$f":"IF(OR(SUM($D$54:E54)=D53,D53=0),0,SUM($D$54:E54))","v":0},{"$f":"IF(OR(SUM($D$54:F54)=E53,E53=0),0,SUM($D$54:F54))","v":0},{"$f":"IF(OR(SUM($D$54:G54)=F53,F53=0),0,SUM($D$54:G54))","v":0},{"$f":"IF(OR(SUM($D$54:H54)=G53,G53=0),0,SUM($D$54:H54))","v":0},{"$f":"IF(OR(SUM($D$54:I54)=H53,H53=0),0,SUM($D$54:I54))","v":0},{"$f":"IF(OR(SUM($D$54:J54)=I53,I53=0),0,SUM($D$54:J54))","v":0},{"$f":"IF(OR(SUM($D$54:K54)=J53,J53=0),0,SUM($D$54:K54))","v":0},{"$f":"IF(OR(SUM($D$54:L54)=K53,K53=0),0,SUM($D$54:L54))","v":0},{"$f":"IF(OR(SUM($D$54:M54)=L53,L53=0),0,SUM($D$54:M54))","v":0},{"$f":"IF(OR(SUM($D$54:N54)=M53,M53=0),0,SUM($D$54:N54))","v":0},{"$f":"IF(OR(SUM($D$54:O54)=N53,N53=0),0,SUM($D$54:O54))","v":0},{"$f":"IF(OR(SUM($D$54:P54)=O53,O53=0),0,SUM($D$54:P54))","v":0},{"$f":"IF(OR(SUM($D$54:Q54)=P53,P53=0),0,SUM($D$54:Q54))","v":0},{"$f":"IF(OR(SUM($D$54:R54)=Q53,Q53=0),0,SUM($D$54:R54))","v":0},{"$f":"IF(OR(SUM($D$54:S54)=R53,R53=0),0,SUM($D$54:S54))","v":0},{"$f":"IF(OR(SUM($D$54:T54)=S53,S53=0),0,SUM($D$54:T54))","v":0},{"$f":"IF(OR(SUM($D$54:U54)=T53,T53=0),0,SUM($D$54:U54))","v":0},{"$f":"IF(OR(SUM($D$54:V54)=U53,U53=0),0,SUM($D$54:V54))","v":0},{"$f":"IF(OR(SUM($D$54:W54)=V53,V53=0),0,SUM($D$54:W54))","v":0},{"$f":"IF(OR(SUM($D$54:X54)=W53,W53=0),0,SUM($D$54:X54))","v":0},{"$f":"IF(OR(SUM($D$54:Y54)=X53,X53=0),0,SUM($D$54:Y54))","v":0},{"$f":"IF(OR(SUM($D$54:Z54)=Y53,Y53=0),0,SUM($D$54:Z54))","v":0},{"$f":"IF(OR(SUM($D$54:AA54)=Z53,Z53=0),0,SUM($D$54:AA54))","v":0},{"$f":"IF(OR(SUM($D$54:AB54)=AA53,AA53=0),0,SUM($D$54:AB54))","v":0},{"$f":"IF(OR(SUM($D$54:AC54)=AB53,AB53=0),0,SUM($D$54:AC54))","v":0},{"$f":"IF(OR(SUM($D$54:AD54)=AC53,AC53=0),0,SUM($D$54:AD54))","v":0},{"$f":"IF(OR(SUM($D$54:AE54)=AD53,AD53=0),0,SUM($D$54:AE54))","v":0},{"$f":"IF(OR(SUM($D$54:AF54)=AE53,AE53=0),0,SUM($D$54:AF54))","v":0},{"$f":"IF(OR(SUM($D$54:AG54)=AF53,AF53=0),0,SUM($D$54:AG54))","v":0},{"$f":"IF(OR(SUM($D$54:AH54)=AG53,AG53=0),0,SUM($D$54:AH54))","v":0},{"$f":"IF(OR(SUM($D$54:AI54)=AH53,AH53=0),0,SUM($D$54:AI54))","v":0},{"$f":"IF(OR(SUM($D$54:AJ54)=AI53,AI53=0),0,SUM($D$54:AJ54))","v":0},{"$f":"IF(OR(SUM($D$54:AK54)=AJ53,AJ53=0),0,SUM($D$54:AK54))","v":0},{"$f":"IF(OR(SUM($D$54:AL54)=AK53,AK53=0),0,SUM($D$54:AL54))","v":0},{"$f":"IF(OR(SUM($D$54:AM54)=AL53,AL53=0),0,SUM($D$54:AM54))","v":0},{"$f":"IF(OR(SUM($D$54:AN54)=AM53,AM53=0),0,SUM($D$54:AN54))","v":0},{"$f":"IF(OR(SUM($D$54:AO54)=AN53,AN53=0),0,SUM($D$54:AO54))","v":0},{"$f":"IF(OR(SUM($D$54:AP54)=AO53,AO53=0),0,SUM($D$54:AP54))","v":0},{"$f":"IF(OR(SUM($D$54:AQ54)=AP53,AP53=0),0,SUM($D$54:AQ54))","v":0},{"$f":"IF(OR(SUM($D$54:AR54)=AQ53,AQ53=0),0,SUM($D$54:AR54))","v":0},{"$f":"IF(OR(SUM($D$54:AS54)=AR53,AR53=0),0,SUM($D$54:AS54))","v":0},{"$f":"IF(OR(SUM($D$54:AT54)=AS53,AS53=0),0,SUM($D$54:AT54))","v":0},{"$f":"IF(OR(SUM($D$54:AU54)=AT53,AT53=0),0,SUM($D$54:AU54))","v":0},{"$f":"IF(OR(SUM($D$54:AV54)=AU53,AU53=0),0,SUM($D$54:AV54))","v":0},{"$f":"IF(OR(SUM($D$54:AW54)=AV53,AV53=0),0,SUM($D$54:AW54))","v":0},{"$f":"IF(OR(SUM($D$54:AX54)=AW53,AW53=0),0,SUM($D$54:AX54))","v":0},{"$f":"IF(OR(SUM($D$54:AY54)=AX53,AX53=0),0,SUM($D$54:AY54))","v":0},{"$f":"IF(OR(SUM($D$54:AZ54)=AY53,AY53=0),0,SUM($D$54:AZ54))","v":0},{"$f":"IF(OR(SUM($D$54:BA54)=AZ53,AZ53=0),0,SUM($D$54:BA54))","v":0}]
[null,null,"RELATIVE",{"$f":"D52/2","v":0},{"$f":"(D52/2)+(E52/2)","v":0},{"$f":"(E52/2)+(F52/2)","v":0},0,0,0,0,0,0,0,0,0,0,0,0,0,0,0,0,0,0,0,0,0,0,0,0,0,0,0,0,0,0,0,0,0,0,0,0,0,0,0,0,0,0,0,0,0,0,0]
[]
[{"$nulls":3},1,2,3,4,5,6,7,8,9,10,11,12,13,14,15,16,17,18,19,20,21,22,23,24,25,26,27,28,29,30,31,32,33,34,35,36,37,38,39,40,41,42,43,44,45,46,47,48,49,50]
[null,"LABEL 7","RELATIVE",{"$f":"'Vertical Labels'!E$78","v":0},{"$f":"'Vertical Labels'!F$78","v":0},{"$f":"'Vertical Labels'!G$78","v":0},{"$f":"'Vertical Labels'!H$78","v":0},{"$f":"'Vertical Labels'!I$78","v":0},{"$f":"'Vertical Labels'!J$78","v":0},{"$f":"'Vertical Labels'!K$78","v":0},{"$f":"'Vertical Labels'!L$78","v":0},{"$f":"'Vertical Labels'!M$78","v":0},{"$f":"'Vertical Labels'!N$78","v":0},{"$f":"'Vertical Labels'!O$78","v":0},{"$f":"'Vertical Labels'!P$78","v":0},{"$f":"'Vertical Labels'!Q$78","v":0},{"$f":"'Vertical Labels'!R$78","v":0},{"$f":"'Vertical Labels'!S$78","v":0},{"$f":"'Vertical Labels'!T$78","v":0},{"$f":"'Vertical Labels'!U$78","v":0},{"$f":"'Vertical Labels'!V$78","v":0},{"$f":"'Vertical Labels'!W$78","v":0},{"$f":"'Vertical Labels'!X$78","v":0},{"$f":"'Vertical Labels'!Y$78","v":0},{"$f":"'Vertical Labels'!Z$78","v":0},{"$f":"'Vertical Labels'!AA$78","v":0},{"$f":"'Vertical Labels'!AB$78","v":0},{"$f":"'Vertical Labels'!AC$78","v":0},{"$f":"'Vertical Labels'!AD$78","v":0},{"$f":"'Vertical Labels'!AE$78","v":0},{"$f":"'Vertical Labels'!AF$78","v":0},{"$f":"'Vertical Labels'!AG$78","v":0},{"$f":"'Vertical Labels'!AH$78","v":0},{"$f":"'Vertical Labels'!AI$78","v":0},{"$f":"'Vertical Labels'!AJ$78","v":0},{"$f":"'Vertical Labels'!AK$78","v":0},{"$f":"'Vertical Labels'!AL$78","v":0},{"$f":"'Vertical Labels'!AM$78","v":0},{"$f":"'Vertical Labels'!AN$78","v":0},{"$f":"'Vertical Labels'!AO$78","v":0},{"$f":"'Vertical Labels'!AP$78","v":0},{"$f":"'Vertical Labels'!AQ$78","v":0},{"$f":"'Vertical Labels'!AR$78","v":0},{"$f":"'Vertical Labels'!AS$78","v":0},{"$f":"'Vertical Labels'!AT$78","v":0},{"$f":"'Vertical Labels'!AU$78","v":0},{"$f":"'Vertical Labels'!AV$78","v":0},{"$f":"'Vertical Labels'!AW$78","v":0},{"$f":"'Vertical Labels'!AX$78","v":0},{"$f":"'Vertical Labels'!AY$78","v":0},{"$f":"'Vertical Labels'!AZ$78","v":0},{"$f":"'Vertical Labels'!BA$78","v":0},{"$f":"'Vertical Labels'!BB$78","v":0}]
[null,null,"FIXED",{"$f":"SUM($D$57:D57)","v":0},{"$f":"IF(OR(SUM($D$57:E57)=D58,D58=0),0,SUM($D$57:E57))","v":0},{"$f":"IF(OR(SUM($D$57:F57)=E58,E58=0),0,SUM($D$57:F57))","v":0},{"$f":"IF(OR(SUM($D$57:G57)=F58,F58=0),0,SUM($D$57:G57))","v":0},{"$f":"IF(OR(SUM($D$57:H57)=G58,G58=0),0,SUM($D$57:H57))","v":0},{"$f":"IF(OR(SUM($D$57:I57)=H58,H58=0),0,SUM($D$57:I57))","v":0},{"$f":"IF(OR(SUM($D$57:J57)=I58,I58=0),0,SUM($D$57:J57))","v":0},{"$f":"IF(OR(SUM($D$57:K57)=J58,J58=0),0,SUM($D$57:K57))","v":0},{"$f":"IF(OR(SUM($D$57:L57)=K58,K58=0),0,SUM($D$57:L57))","v":0},{"$f":"IF(OR(SUM($D$57:M57)=L58,L58=0),0,SUM($D$57:M57))","v":0},{"$f":"IF(OR(SUM($D$57:N57)=M58,M58=0),0,SUM($D$57:N57))","v":0},{"$f":"IF(OR(SUM($D$57:O57)=N58,N58=0),0,SUM($D$57:O57))","v":0},{"$f":"IF(OR(SUM($D$57:P57)=O58,O58=0),0,SUM($D$57:P57))","v":0},{"$f":"IF(OR(SUM($D$57:Q57)=P58,P58=0),0,SUM($D$57:Q57))","v":0},{"$f":"IF(OR(SUM($D$57:R57)=Q58,Q58=0),0,SUM($D$57:R57))","v":0},{"$f":"IF(OR(SUM($D$57:S57)=R58,R58=0),0,SUM($D$57:S57))","v":0},{"$f":"IF(OR(SUM($D$57:T57)=S58,S58=0),0,SUM($D$57:T57))","v":0},{"$f":"IF(OR(SUM($D$57:U57)=T58,T58=0),0,SUM($D$57:U57))","v":0},{"$f":"IF(OR(SUM($D$57:V57)=U58,U58=0),0,SUM($D$57:V57))","v":0},{"$f":"IF(OR(SUM($D$57:W57)=V58,V58=0),0,SUM($D$57:W57))","v":0},{"$f":"IF(OR(SUM($D$57:X57)=W58,W58=0),0,SUM($D$57:X57))","v":0},{"$f":"IF(OR(SUM($D$57:Y57)=X58,X58=0),0,SUM($D$57:Y57))","v":0},{"$f":"IF(OR(SUM($D$57:Z57)=Y58,Y58=0),0,SUM($D$57:Z57))","v":0},{"$f":"IF(OR(SUM($D$57:AA57)=Z58,Z58=0),0,SUM($D$57:AA57))","v":0},{"$f":"IF(OR(SUM($D$57:AB57)=AA58,AA58=0),0,SUM($D$57:AB57))","v":0},{"$f":"IF(OR(SUM($D$57:AC57)=AB58,AB58=0),0,SUM($D$57:AC57))","v":0},{"$f":"IF(OR(SUM($D$57:AD57)=AC58,AC58=0),0,SUM($D$57:AD57))","v":0},{"$f":"IF(OR(SUM($D$57:AE57)=AD58,AD58=0),0,SUM($D$57:AE57))","v":0},{"$f":"IF(OR(SUM($D$57:AF57)=AE58,AE58=0),0,SUM($D$57:AF57))","v":0},{"$f":"IF(OR(SUM($D$57:AG57)=AF58,AF58=0),0,SUM($D$57:AG57))","v":0},{"$f":"IF(OR(SUM($D$57:AH57)=AG58,AG58=0),0,SUM($D$57:AH57))","v":0},{"$f":"IF(OR(SUM($D$57:AI57)=AH58,AH58=0),0,SUM($D$57:AI57))","v":0},{"$f":"IF(OR(SUM($D$57:AJ57)=AI58,AI58=0),0,SUM($D$57:AJ57))","v":0},{"$f":"IF(OR(SUM($D$57:AK57)=AJ58,AJ58=0),0,SUM($D$57:AK57))","v":0},{"$f":"IF(OR(SUM($D$57:AL57)=AK58,AK58=0),0,SUM($D$57:AL57))","v":0},{"$f":"IF(OR(SUM($D$57:AM57)=AL58,AL58=0),0,SUM($D$57:AM57))","v":0},{"$f":"IF(OR(SUM($D$57:AN57)=AM58,AM58=0),0,SUM($D$57:AN57))","v":0},{"$f":"IF(OR(SUM($D$57:AO57)=AN58,AN58=0),0,SUM($D$57:AO57))","v":0},{"$f":"IF(OR(SUM($D$57:AP57)=AO58,AO58=0),0,SUM($D$57:AP57))","v":0},{"$f":"IF(OR(SUM($D$57:AQ57)=AP58,AP58=0),0,SUM($D$57:AQ57))","v":0},{"$f":"IF(OR(SUM($D$57:AR57)=AQ58,AQ58=0),0,SUM($D$57:AR57))","v":0},{"$f":"IF(OR(SUM($D$57:AS57)=AR58,AR58=0),0,SUM($D$57:AS57))","v":0},{"$f":"IF(OR(SUM($D$57:AT57)=AS58,AS58=0),0,SUM($D$57:AT57))","v":0},{"$f":"IF(OR(SUM($D$57:AU57)=AT58,AT58=0),0,SUM($D$57:AU57))","v":0},{"$f":"IF(OR(SUM($D$57:AV57)=AU58,AU58=0),0,SUM($D$57:AV57))","v":0},{"$f":"IF(OR(SUM($D$57:AW57)=AV58,AV58=0),0,SUM($D$57:AW57))","v":0},{"$f":"IF(OR(SUM($D$57:AX57)=AW58,AW58=0),0,SUM($D$57:AX57))","v":0},{"$f":"IF(OR(SUM($D$57:AY57)=AX58,AX58=0),0,SUM($D$57:AY57))","v":0},{"$f":"IF(OR(SUM($D$57:AZ57)=AY58,AY58=0),0,SUM($D$57:AZ57))","v":0},{"$f":"IF(OR(SUM($D$57:BA57)=AZ58,AZ58=0),0,SUM($D$57:BA57))","v":0}]
[null,null,"FIXED",{"$f":"'Vertical Labels'!E$78","v":0},{"$f":"'Vertical Labels'!F$78","v":0},{"$f":"'Vertical Labels'!G$78","v":0},{"$f":"'Vertical Labels'!H$78","v":0},{"$f":"'Vertical Labels'!I$78","v":0},{"$f":"'Vertical Labels'!J$78","v":0},{"$f":"'Vertical Labels'!K$78","v":0},{"$f":"'Vertical Labels'!L$78","v":0},{"$f":"'Vertical Labels'!M$78","v":0},{"$f":"'Vertical Labels'!N$78","v":0},{"$f":"'Vertical Labels'!O$78","v":0},{"$f":"'Vertical Labels'!P$78","v":0},{"$f":"'Vertical Labels'!Q$78","v":0},{"$f":"'Vertical Labels'!R$78","v":0},{"$f":"'Vertical Labels'!S$78","v":0},{"$f":"'Vertical Labels'!T$78","v":0},{"$f":"'Vertical Labels'!U$78","v":0},{"$f":"'Vertical Labels'!V$78","v":0},{"$f":"'Vertical Labels'!W$78","v":0},{"$f":"'Vertical Labels'!X$78","v":0},{"$f":"'Vertical Labels'!Y$78","v":0},{"$f":"'Vertical Labels'!Z$78","v":0},{"$f":"'Vertical Labels'!AA$78","v":0},{"$f":"'Vertical Labels'!AB$78","v":0},{"$f":"'Vertical Labels'!AC$78","v":0},{"$f":"'Vertical Labels'!AD$78","v":0},{"$f":"'Vertical Labels'!AE$78","v":0},{"$f":"'Vertical Labels'!AF$78","v":0},{"$f":"'Vertical Labels'!AG$78","v":0},{"$f":"'Vertical Labels'!AH$78","v":0},{"$f":"'Vertical Labels'!AI$78","v":0},{"$f":"'Vertical Labels'!AJ$78","v":0},{"$f":"'Vertical Labels'!AK$78","v":0},{"$f":"'Vertical Labels'!AL$78","v":0},{"$f":"'Vertical Labels'!AM$78","v":0},{"$f":"'Vertical Labels'!AN$78","v":0},{"$f":"'Vertical Labels'!AO$78","v":0},{"$f":"'Vertical Labels'!AP$78","v":0},{"$f":"'Vertical Labels'!AQ$78","v":0},{"$f":"'Vertical Labels'!AR$78","v":0},{"$f":"'Vertical Labels'!AS$78","v":0},{"$f":"'Vertical Labels'!AT$78","v":0},{"$f":"'Vertical Labels'!AU$78","v":0},{"$f":"'Vertical Labels'!AV$78","v":0},{"$f":"'Vertical Labels'!AW$78","v":0},{"$f":"'Vertical Labels'!AX$78","v":0},{"$f":"'Vertical Labels'!AY$78","v":0},{"$f":"'Vertical Labels'!AZ$78","v":0},{"$f":"'Vertical Labels'!BA$78","v":0},{"$f":"'Vertical Labels'!BB$78","v":0}]
[null,null,"RELATIVE",{"$f":"D59","v":0},{"$f":"IF(E59-D59<1,0,E59-D59)","v":0},{"$f":"IF(F59-E59<1,0,F59-E59)","v":0},0,0,0,0,0,0,0,0,0,0,0,0,0,0,0,0,0,0,0,0,0,0,0,0,0,0,0,0,0,0,0,0,0,0,0,0,0,0,0,0,0,0,0,0,0,0,0]
[null,null,"BLOCKS",{"$f":"'Vertical Labels'!E$78","v":0},{"$f":"'Vertical Labels'!F$78","v":0},{"$f":"'Vertical Labels'!G$78","v":0},{"$f":"'Vertical Labels'!H$78","v":0},{"$f":"'Vertical Labels'!I$78","v":0},{"$f":"'Vertical Labels'!J$78","v":0},{"$f":"'Vertical Labels'!K$78","v":0},{"$f":"'Vertical Labels'!L$78","v":0},{"$f":"'Vertical Labels'!M$78","v":0},{"$f":"'Vertical Labels'!N$78","v":0},{"$f":"'Vertical Labels'!O$78","v":0},{"$f":"'Vertical Labels'!P$78","v":0},{"$f":"'Vertical Labels'!Q$78","v":0},{"$f":"'Vertical Labels'!R$78","v":0},{"$f":"'Vertical Labels'!S$78","v":0},{"$f":"'Vertical Labels'!T$78","v":0},{"$f":"'Vertical Labels'!U$78","v":0},{"$f":"'Vertical Labels'!V$78","v":0},{"$f":"'Vertical Labels'!W$78","v":0},{"$f":"'Vertical Labels'!X$78","v":0},{"$f":"'Vertical Labels'!Y$78","v":0},{"$f":"'Vertical Labels'!Z$78","v":0},{"$f":"'Vertical Labels'!AA$78","v":0},{"$f":"'Vertical Labels'!AB$78","v":0},{"$f":"'Vertical Labels'!AC$78","v":0},{"$f":"'Vertical Labels'!AD$78","v":0},{"$f":"'Vertical Labels'!AE$78","v":0},{"$f":"'Vertical Labels'!AF$78","v":0},{"$f":"'Vertical Labels'!AG$78","v":0},{"$f":"'Vertical Labels'!AH$78","v":0},{"$f":"'Vertical Labels'!AI$78","v":0},{"$f":"'Vertical Labels'!AJ$78","v":0},{"$f":"'Vertical Labels'!AK$78","v":0},{"$f":"'Vertical Labels'!AL$78","v":0},{"$f":"'Vertical Labels'!AM$78","v":0},{"$f":"'Vertical Labels'!AN$78","v":0},{"$f":"'Vertical Labels'!AO$78","v":0},{"$f":"'Vertical Labels'!AP$78","v":0},{"$f":"'Vertical Labels'!AQ$78","v":0},{"$f":"'Vertical Labels'!AR$78","v":0},{"$f":"'Vertical Labels'!AS$78","v":0},{"$f":"'Vertical Labels'!AT$78","v":0},{"$f":"'Vertical Labels'!AU$78","v":0},{"$f":"'Vertical Labels'!AV$78","v":0},{"$f":"'Vertical Labels'!AW$78","v":0},{"$f":"'Vertical Labels'!AX$78","v":0},{"$f":"'Vertical Labels'!AY$78","v":0},{"$f":"'Vertical Labels'!AZ$78","v":0},{"$f":"'Vertical Labels'!BA$78","v":0},{"$f":"'Vertical Labels'!BB$78","v":0}]
[null,null,"FIXED",{"$f":"D63","v":0},{"$f":"IF(OR(SUM($D$63:E63)=D62,D62=0),0,SUM($D$63:E63))","v":0},{"$f":"IF(OR(SUM($D$63:F63)=E62,E62=0),0,SUM($D$63:F63))","v":0},{"$f":"IF(OR(SUM($D$63:G63)=F62,F62=0),0,SUM($D$63:G63))","v":0},{"$f":"IF(OR(SUM($D$63:H63)=G62,G62=0),0,SUM($D$63:H63))","v":0},{"$f":"IF(OR(SUM($D$63:I63)=H62,H62=0),0,SUM($D$63:I63))","v":0},{"$f":"IF(OR(SUM($D$63:J63)=I62,I62=0),0,SUM($D$63:J63))","v":0},{"$f":"IF(OR(SUM($D$63:K63)=J62,J62=0),0,SUM($D$63:K63))","v":0},{"$f":"IF(OR(SUM($D$63:L63)=K62,K62=0),0,SUM($D$63:L63))","v":0},{"$f":"IF(OR(SUM($D$63:M63)=L62,L62=0),0,SUM($D$63:M63))","v":0},{"$f":"IF(OR(SUM($D$63:N63)=M62,M62=0),0,SUM($D$63:N63))","v":0},{"$f":"IF(OR(SUM($D$63:O63)=N62,N62=0),0,SUM($D$63:O63))","v":0},{"$f":"IF(OR(SUM($D$63:P63)=O62,O62=0),0,SUM($D$63:P63))","v":0},{"$f":"IF(OR(SUM($D$63:Q63)=P62,P62=0),0,SUM($D$63:Q63))","v":0},{"$f":"IF(OR(SUM($D$63:R63)=Q62,Q62=0),0,SUM($D$63:R63))","v":0},{"$f":"IF(OR(SUM($D$63:S63)=R62,R62=0),0,SUM($D$63:S63))","v":0},{"$f":"IF(OR(SUM($D$63:T63)=S62,S62=0),0,SUM($D$63:T63))","v":0},{"$f":"IF(OR(SUM($D$63:U63)=T62,T62=0),0,SUM($D$63:U63))","v":0},{"$f":"IF(OR(SUM($D$63:V63)=U62,U62=0),0,SUM($D$63:V63))","v":0},{"$f":"IF(OR(SUM($D$63:W63)=V62,V62=0),0,SUM($D$63:W63))","v":0},{"$f":"IF(OR(SUM($D$63:X63)=W62,W62=0),0,SUM($D$63:X63))","v":0},{"$f":"IF(OR(SUM($D$63:Y63)=X62,X62=0),0,SUM($D$63:Y63))","v":0},{"$f":"IF(OR(SUM($D$63:Z63)=Y62,Y62=0),0,SUM($D$63:Z63))","v":0},{"$f":"IF(OR(SUM($D$63:AA63)=Z62,Z62=0),0,SUM($D$63:AA63))","v":0},{"$f":"IF(OR(SUM($D$63:AB63)=AA62,AA62=0),0,SUM($D$63:AB63))","v":0},{"$f":"IF(OR(SUM($D$63:AC63)=AB62,AB62=0),0,SUM($D$63:AC63))","v":0},{"$f":"IF(OR(SUM($D$63:AD63)=AC62,AC62=0),0,SUM($D$63:AD63))","v":0},{"$f":"IF(OR(SUM($D$63:AE63)=AD62,AD62=0),0,SUM($D$63:AE63))","v":0},{"$f":"IF(OR(SUM($D$63:AF63)=AE62,AE62=0),0,SUM($D$63:AF63))","v":0},{"$f":"IF(OR(SUM($D$63:AG63)=AF62,AF62=0),0,SUM($D$63:AG63))","v":0},{"$f":"IF(OR(SUM($D$63:AH63)=AG62,AG62=0),0,SUM($D$63:AH63))","v":0},{"$f":"IF(OR(SUM($D$63:AI63)=AH62,AH62=0),0,SUM($D$63:AI63))","v":0},{"$f":"IF(OR(SUM($D$63:AJ63)=AI62,AI62=0),0,SUM($D$63:AJ63))","v":0},{"$f":"IF(OR(SUM($D$63:AK63)=AJ62,AJ62=0),0,SUM($D$63:AK63))","v":0},{"$f":"IF(OR(SUM($D$63:AL63)=AK62,AK62=0),0,SUM($D$63:AL63))","v":0},{"$f":"IF(OR(SUM($D$63:AM63)=AL62,AL62=0),0,SUM($D$63:AM63))","v":0},{"$f":"IF(OR(SUM($D$63:AN63)=AM62,AM62=0),0,SUM($D$63:AN63))","v":0},{"$f":"IF(OR(SUM($D$63:AO63)=AN62,AN62=0),0,SUM($D$63:AO63))","v":0},{"$f":"IF(OR(SUM($D$63:AP63)=AO62,AO62=0),0,SUM($D$63:AP63))","v":0},{"$f":"IF(OR(SUM($D$63:AQ63)=AP62,AP62=0),0,SUM($D$63:AQ63))","v":0},{"$f":"IF(OR(SUM($D$63:AR63)=AQ62,AQ62=0),0,SUM($D$63:AR63))","v":0},{"$f":"IF(OR(SUM($D$63:AS63)=AR62,AR62=0),0,SUM($D$63:AS63))","v":0},{"$f":"IF(OR(SUM($D$63:AT63)=AS62,AS62=0),0,SUM($D$63:AT63))","v":0},{"$f":"IF(OR(SUM($D$63:AU63)=AT62,AT62=0),0,SUM($D$63:AU63))","v":0},{"$f":"IF(OR(SUM($D$63:AV63)=AU62,AU62=0),0,SUM($D$63:AV63))","v":0},{"$f":"IF(OR(SUM($D$63:AW63)=AV62,AV62=0),0,SUM($D$63:AW63))","v":0},{"$f":"IF(OR(SUM($D$63:AX63)=AW62,AW62=0),0,SUM($D$63:AX63))","v":0},{"$f":"IF(OR(SUM($D$63:AY63)=AX62,AX62=0),0,SUM($D$63:AY63))","v":0},{"$f":"IF(OR(SUM($D$63:AZ63)=AY62,AY62=0),0,SUM($D$63:AZ63))","v":0},{"$f":"IF(OR(SUM($D$63:BA63)=AZ62,AZ62=0),0,SUM($D$63:BA63))","v":0}]
[null,null,"RELATIVE",{"$f":"D61/2","v":0},{"$f":"(D61/2)+(E61/2)","v":0},{"$f":"(E61/2)+(F61/2)","v":0},0,0,0,0,0,0,0,0,0,0,0,0,0,0,0,0,0,0,0,0,0,0,0,0,0,0,0,0,0,0,0,0,0,0,0,0,0,0,0,0,0,0,0,0,0,0,0]
[]
[{"$nulls":3},1,2,3,4,5,6,7,8,9,10,11,12,13,14,15,16,17,18,19,20,21,22,23,24,25,26,27,28,29,30,31,32,33,34,35,36,37,38,39,40,41,42,43,44,45,46,47,48,49,50]
[null,"LABEL 8","RELATIVE",{"$f":"'Vertical Labels'!E$89","v":0},{"$f":"'Vertical Labels'!F$89","v":0},{"$f":"'Vertical Labels'!G$89","v":0},{"$f":"'Vertical Labels'!H$89","v":0},{"$f":"'Vertical Labels'!I$89","v":0},{"$f":"'Vertical Labels'!J$89","v":0},{"$f":"'Vertical Labels'!K$89","v":0},{"$f":"'Vertical Labels'!L$89","v":0},{"$f":"'Vertical Labels'!M$89","v":0},{"$f":"'Vertical Labels'!N$89","v":0},{"$f":"'Vertical Labels'!O$89","v":0},{"$f":"'Vertical Labels'!P$89","v":0},{"$f":"'Vertical Labels'!Q$89","v":0},{"$f":"'Vertical Labels'!R$89","v":0},{"$f":"'Vertical Labels'!S$89","v":0},{"$f":"'Vertical Labels'!T$89","v":0},{"$f":"'Vertical Labels'!U$89","v":0},{"$f":"'Vertical Labels'!V$89","v":0},{"$f":"'Vertical Labels'!W$89","v":0},{"$f":"'Vertical Labels'!X$89","v":0},{"$f":"'Vertical Labels'!Y$89","v":0},{"$f":"'Vertical Labels'!Z$89","v":0},{"$f":"'Vertical Labels'!AA$89","v":0},{"$f":"'Vertical Labels'!AB$89","v":0},{"$f":"'Vertical Labels'!AC$89","v":0},{"$f":"'Vertical Labels'!AD$89","v":0},{"$f":"'Vertical Labels'!AE$89","v":0},{"$f":"'Vertical Labels'!AF$89","v":0},{"$f":"'Vertical Labels'!AG$89","v":0},{"$f":"'Vertical Labels'!AH$89","v":0},{"$f":"'Vertical Labels'!AI$89","v":0},{"$f":"'Vertical Labels'!AJ$89","v":0},{"$f":"'Vertical Labels'!AK$89","v":0},{"$f":"'Vertical Labels'!AL$89","v":0},{"$f":"'Vertical Labels'!AM$89","v":0},{"$f":"'Vertical Labels'!AN$89","v":0},{"$f":"'Vertical Labels'!AO$89","v":0},{"$f":"'Vertical Labels'!AP$89","v":0},{"$f":"'Vertical Labels'!AQ$89","v":0},{"$f":"'Vertical Labels'!AR$89","v":0},{"$f":"'Vertical Labels'!AS$89","v":0},{"$f":"'Vertical Labels'!AT$89","v":0},{"$f":"'Vertical Labels'!AU$89","v":0},{"$f":"'Vertical Labels'!AV$89","v":0},{"$f":"'Vertical Labels'!AW$89","v":0},{"$f":"'Vertical Labels'!AX$89","v":0},{"$f":"'Vertical Labels'!AY$89","v":0},{"$f":"'Vertical Labels'!AZ$89","v":0},{"$f":"'Vertical Labels'!BA$89","v":0},{"$f":"'Vertical Labels'!BB$89","v":0}]
[null,null,"FIXED",{"$f":"SUM($D$66:D66)","v":0},{"$f":"IF(OR(SUM($D$66:E66)=D67,D67=0),0,SUM($D$66:E66))","v":0},{"$f":"IF(OR(SUM($D$66:F66)=E67,E67=0),0,SUM($D$66:F66))","v":0},{"$f":"IF(OR(SUM($D$66:G66)=F67,F67=0),0,SUM($D$66:G66))","v":0},{"$f":"IF(OR(SUM($D$66:H66)=G67,G67=0),0,SUM($D$66:H66))","v":0},{"$f":"IF(OR(SUM($D$66:I66)=H67,H67=0),0,SUM($D$66:I66))","v":0},{"$f":"IF(OR(SUM($D$66:J66)=I67,I67=0),0,SUM($D$66:J66))","v":0},{"$f":"IF(OR(SUM($D$66:K66)=J67,J67=0),0,SUM($D$66:K66))","v":0},{"$f":"IF(OR(SUM($D$66:L66)=K67,K67=0),0,SUM($D$66:L66))","v":0},{"$f":"IF(OR(SUM($D$66:M66)=L67,L67=0),0,SUM($D$66:M66))","v":0},{"$f":"IF(OR(SUM($D$66:N66)=M67,M67=0),0,SUM($D$66:N66))","v":0},{"$f":"IF(OR(SUM($D$66:O66)=N67,N67=0),0,SUM($D$66:O66))","v":0},{"$f":"IF(OR(SUM($D$66:P66)=O67,O67=0),0,SUM($D$66:P66))","v":0},{"$f":"IF(OR(SUM($D$66:Q66)=P67,P67=0),0,SUM($D$66:Q66))","v":0},{"$f":"IF(OR(SUM($D$66:R66)=Q67,Q67=0),0,SUM($D$66:R66))","v":0},{"$f":"IF(OR(SUM($D$66:S66)=R67,R67=0),0,SUM($D$66:S66))","v":0},{"$f":"IF(OR(SUM($D$66:T66)=S67,S67=0),0,SUM($D$66:T66))","v":0},{"$f":"IF(OR(SUM($D$66:U66)=T67,T67=0),0,SUM($D$66:U66))","v":0},{"$f":"IF(OR(SUM($D$66:V66)=U67,U67=0),0,SUM($D$66:V66))","v":0},{"$f":"IF(OR(SUM($D$66:W66)=V67,V67=0),0,SUM($D$66:W66))","v":0},{"$f":"IF(OR(SUM($D$66:X66)=W67,W67=0),0,SUM($D$66:X66))","v":0},{"$f":"IF(OR(SUM($D$66:Y66)=X67,X67=0),0,SUM($D$66:Y66))","v":0},{"$f":"IF(OR(SUM($D$66:Z66)=Y67,Y67=0),0,SUM($D$66:Z66))","v":0},{"$f":"IF(OR(SUM($D$66:AA66)=Z67,Z67=0),0,SUM($D$66:AA66))","v":0},{"$f":"IF(OR(SUM($D$66:AB66)=AA67,AA67=0),0,SUM($D$66:AB66))","v":0},{"$f":"IF(OR(SUM($D$66:AC66)=AB67,AB67=0),0,SUM($D$66:AC66))","v":0},{"$f":"IF(OR(SUM($D$66:AD66)=AC67,AC67=0),0,SUM($D$66:AD66))","v":0},{"$f":"IF(OR(SUM($D$66:AE66)=AD67,AD67=0),0,SUM($D$66:AE66))","v":0},{"$f":"IF(OR(SUM($D$66:AF66)=AE67,AE67=0),0,SUM($D$66:AF66))","v":0},{"$f":"IF(OR(SUM($D$66:AG66)=AF67,AF67=0),0,SUM($D$66:AG66))","v":0},{"$f":"IF(OR(SUM($D$66:AH66)=AG67,AG67=0),0,SUM($D$66:AH66))","v":0},{"$f":"IF(OR(SUM($D$66:AI66)=AH67,AH67=0),0,SUM($D$66:AI66))","v":0},{"$f":"IF(OR(SUM($D$66:AJ66)=AI67,AI67=0),0,SUM($D$66:AJ66))","v":0},{"$f":"IF(OR(SUM($D$66:AK66)=AJ67,AJ67=0),0,SUM($D$66:AK66))","v":0},{"$f":"IF(OR(SUM($D$66:AL66)=AK67,AK67=0),0,SUM($D$66:AL66))","v":0},{"$f":"IF(OR(SUM($D$66:AM66)=AL67,AL67=0),0,SUM($D$66:AM66))","v":0},{"$f":"IF(OR(SUM($D$66:AN66)=AM67,AM67=0),0,SUM($D$66:AN66))","v":0},{"$f":"IF(OR(SUM($D$66:AO66)=AN67,AN67=0),0,SUM($D$66:AO66))","v":0},{"$f":"IF(OR(SUM($D$66:AP66)=AO67,AO67=0),0,SUM($D$66:AP66))","v":0},{"$f":"IF(OR(SUM($D$66:AQ66)=AP67,AP67=0),0,SUM($D$66:AQ66))","v":0},{"$f":"IF(OR(SUM($D$66:AR66)=AQ67,AQ67=0),0,SUM($D$66:AR66))","v":0},{"$f":"IF(OR(SUM($D$66:AS66)=AR67,AR67=0),0,SUM($D$66:AS66))","v":0},{"$f":"IF(OR(SUM($D$66:AT66)=AS67,AS67=0),0,SUM($D$66:AT66))","v":0},{"$f":"IF(OR(SUM($D$66:AU66)=AT67,AT67=0),0,SUM($D$66:AU66))","v":0},{"$f":"IF(OR(SUM($D$66:AV66)=AU67,AU67=0),0,SUM($D$66:AV66))","v":0},{"$f":"IF(OR(SUM($D$66:AW66)=AV67,AV67=0),0,SUM($D$66:AW66))","v":0},{"$f":"IF(OR(SUM($D$66:AX66)=AW67,AW67=0),0,SUM($D$66:AX66))","v":0},{"$f":"IF(OR(SUM($D$66:AY66)=AX67,AX67=0),0,SUM($D$66:AY66))","v":0},{"$f":"IF(OR(SUM($D$66:AZ66)=AY67,AY67=0),0,SUM($D$66:AZ66))","v":0},{"$f":"IF(OR(SUM($D$66:BA66)=AZ67,AZ67=0),0,SUM($D$66:BA66))","v":0}]
[null,null,"FIXED",{"$f":"'Vertical Labels'!E$89","v":0},{"$f":"'Vertical Labels'!F$89","v":0},{"$f":"'Vertical Labels'!G$89","v":0},{"$f":"'Vertical Labels'!H$89","v":0},{"$f":"'Vertical Labels'!I$89","v":0},{"$f":"'Vertical Labels'!J$89","v":0},{"$f":"'Vertical Labels'!K$89","v":0},{"$f":"'Vertical Labels'!L$89","v":0},{"$f":"'Vertical Labels'!M$89","v":0},{"$f":"'Vertical Labels'!N$89","v":0},{"$f":"'Vertical Labels'!O$89","v":0},{"$f":"'Vertical Labels'!P$89","v":0},{"$f":"'Vertical Labels'!Q$89","v":0},{"$f":"'Vertical Labels'!R$89","v":0},{"$f":"'Vertical Labels'!S$89","v":0},{"$f":"'Vertical Labels'!T$89","v":0},{"$f":"'Vertical Labels'!U$89","v":0},{"$f":"'Vertical Labels'!V$89","v":0},{"$f":"'Vertical Labels'!W$89","v":0},{"$f":"'Vertical Labels'!X$89","v":0},{"$f":"'Vertical Labels'!Y$89","v":0},{"$f":"'Vertical Labels'!Z$89","v":0},{"$f":"'Vertical Labels'!AA$89","v":0},{"$f":"'Vertical Labels'!AB$89","v":0},{"$f":"'Vertical Labels'!AC$89","v":0},{"$f":"'Vertical Labels'!AD$89","v":0},{"$f":"'Vertical Labels'!AE$89","v":0},{"$f":"'Vertical Labels'!AF$89","v":0},{"$f":"'Vertical Labels'!AG$89","v":0},{"$f":"'Vertical Labels'!AH$89","v":0},{"$f":"'Vertical Labels'!AI$89","v":0},{"$f":"'Vertical Labels'!AJ$89","v":0},{"$f":"'Vertical Labels'!AK$89","v":0},{"$f":"'Vertical Labels'!AL$89","v":0},{"$f":"'Vertical Labels'!AM$89","v":0},{"$f":"'Vertical Labels'!AN$89","v":0},{"$f":"'Vertical Labels'!AO$89","v":0},{"$f":"'Vertical Labels'!AP$89","v":0},{"$f":"'Vertical Labels'!AQ$89","v":0},{"$f":"'Vertical Labels'!AR$89","v":0},{"$f":"'Vertical Labels'!AS$89","v":0},{"$f":"'Vertical Labels'!AT$89","v":0},{"$f":"'Vertical Labels'!AU$89","v":0},{"$f":"'Vertical Labels'!AV$89","v":0},{"$f":"'Vertical Labels'!AW$89","v":0},{"$f":"'Vertical Labels'!AX$89","v":0},{"$f":"'Vertical Labels'!AY$89","v":0},{"$f":"'Vertical Labels'!AZ$89","v":0},{"$f":"'Vertical Labels'!BA$89","v":0},{"$f":"'Vertical Labels'!BB$89","v":0}]
[null,null,"RELATIVE",{"$f":"D68","v":0},{"$f":"IF(E68-D68<1,0,E68-D68)","v":0},{"$f":"IF(F68-E68<1,0,F68-E68)","v":0},0,0,0,0,0,0,0,0,0,0,0,0,0,0,0,0,0,0,0,0,0,0,0,0,0,0,0,0,0,0,0,0,0,0,0,0,0,0,0,0,0,0,0,0,0,0,0]
[null,null,"BLOCKS",{"$f":"'Vertical Labels'!E$89","v":0},{"$f":"'Vertical Labels'!F$89","v":0},{"$f":"'Vertical Labels'!G$89","v":0},{"$f":"'Vertical Labels'!H$89","v":0},{"$f":"'Vertical Labels'!I$89","v":0},{"$f":"'Vertical Labels'!J$89","v":0},{"$f":"'Vertical Labels'!K$89","v":0},{"$f":"'Vertical Labels'!L$89","v":0},{"$f":"'Vertical Labels'!M$89","v":0},{"$f":"'Vertical Labels'!N$89","v":0},{"$f":"'Vertical Labels'!O$89","v":0},{"$f":"'Vertical Labels'!P$89","v":0},{"$f":"'Vertical Labels'!Q$89","v":0},{"$f":"'Vertical Labels'!R$89","v":0},{"$f":"'Vertical Labels'!S$89","v":0},{"$f":"'Vertical Labels'!T$89","v":0},{"$f":"'Vertical Labels'!U$89","v":0},{"$f":"'Vertical Labels'!V$89","v":0},{"$f":"'Vertical Labels'!W$89","v":0},{"$f":"'Vertical Labels'!X$89","v":0},{"$f":"'Vertical Labels'!Y$89","v":0},{"$f":"'Vertical Labels'!Z$89","v":0},{"$f":"'Vertical Labels'!AA$89","v":0},{"$f":"'Vertical Labels'!AB$89","v":0},{"$f":"'Vertical Labels'!AC$89","v":0},{"$f":"'Vertical Labels'!AD$89","v":0},{"$f":"'Vertical Labels'!AE$89","v":0},{"$f":"'Vertical Labels'!AF$89","v":0},{"$f":"'Vertical Labels'!AG$89","v":0},{"$f":"'Vertical Labels'!AH$89","v":0},{"$f":"'Vertical Labels'!AI$89","v":0},{"$f":"'Vertical Labels'!AJ$89","v":0},{"$f":"'Vertical Labels'!AK$89","v":0},{"$f":"'Vertical Labels'!AL$89","v":0},{"$f":"'Vertical Labels'!AM$89","v":0},{"$f":"'Vertical Labels'!AN$89","v":0},{"$f":"'Vertical Labels'!AO$89","v":0},{"$f":"'Vertical Labels'!AP$89","v":0},{"$f":"'Vertical Labels'!AQ$89","v":0},{"$f":"'Vertical Labels'!AR$89","v":0},{"$f":"'Vertical Labels'!AS$89","v":0},{"$f":"'Vertical Labels'!AT$89","v":0},{"$f":"'Vertical Labels'!AU$89","v":0},{"$f":"'Vertical Labels'!AV$89","v":0},{"$f":"'Vertical Labels'!AW$89","v":0},{"$f":"'Vertical Labels'!AX$89","v":0},{"$f":"'Vertical Labels'!AY$89","v":0},{"$f":"'Vertical Labels'!AZ$89","v":0},{"$f":"'Vertical Labels'!BA$89","v":0},{"$f":"'Vertical Labels'!BB$89","v":0}]
[null,null,"FIXED",{"$f":"D72","v":0},{"$f":"IF(OR(SUM($D$72:E72)=D71,D71=0),0,SUM($D$72:E72))","v":0},{"$f":"IF(OR(SUM($D$72:F72)=E71,E71=0),0,SUM($D$72:F72))","v":0},{"$f":"IF(OR(SUM($D$72:G72)=F71,F71=0),0,SUM($D$72:G72))","v":0},{"$f":"IF(OR(SUM($D$72:H72)=G71,G71=0),0,SUM($D$72:H72))","v":0},{"$f":"IF(OR(SUM($D$72:I72)=H71,H71=0),0,SUM($D$72:I72))","v":0},{"$f":"IF(OR(SUM($D$72:J72)=I71,I71=0),0,SUM($D$72:J72))","v":0},{"$f":"IF(OR(SUM($D$72:K72)=J71,J71=0),0,SUM($D$72:K72))","v":0},{"$f":"IF(OR(SUM($D$72:L72)=K71,K71=0),0,SUM($D$72:L72))","v":0},{"$f":"IF(OR(SUM($D$72:M72)=L71,L71=0),0,SUM($D$72:M72))","v":0},{"$f":"IF(OR(SUM($D$72:N72)=M71,M71=0),0,SUM($D$72:N72))","v":0},{"$f":"IF(OR(SUM($D$72:O72)=N71,N71=0),0,SUM($D$72:O72))","v":0},{"$f":"IF(OR(SUM($D$72:P72)=O71,O71=0),0,SUM($D$72:P72))","v":0},{"$f":"IF(OR(SUM($D$72:Q72)=P71,P71=0),0,SUM($D$72:Q72))","v":0},{"$f":"IF(OR(SUM($D$72:R72)=Q71,Q71=0),0,SUM($D$72:R72))","v":0},{"$f":"IF(OR(SUM($D$72:S72)=R71,R71=0),0,SUM($D$72:S72))","v":0},{"$f":"IF(OR(SUM($D$72:T72)=S71,S71=0),0,SUM($D$72:T72))","v":0},{"$f":"IF(OR(SUM($D$72:U72)=T71,T71=0),0,SUM($D$72:U72))","v":0},{"$f":"IF(OR(SUM($D$72:V72)=U71,U71=0),0,SUM($D$72:V72))","v":0},{"$f":"IF(OR(SUM($D$72:W72)=V71,V71=0),0,SUM($D$72:W72))","v":0},{"$f":"IF(OR(SUM($D$72:X72)=W71,W71=0),0,SUM($D$72:X72))","v":0},{"$f":"IF(OR(SUM($D$72:Y72)=X71,X71=0),0,SUM($D$72:Y72))","v":0},{"$f":"IF(OR(SUM($D$72:Z72)=Y71,Y71=0),0,SUM($D$72:Z72))","v":0},{"$f":"IF(OR(SUM($D$72:AA72)=Z71,Z71=0),0,SUM($D$72:AA72))","v":0},{"$f":"IF(OR(SUM($D$72:AB72)=AA71,AA71=0),0,SUM($D$72:AB72))","v":0},{"$f":"IF(OR(SUM($D$72:AC72)=AB71,AB71=0),0,SUM($D$72:AC72))","v":0},{"$f":"IF(OR(SUM($D$72:AD72)=AC71,AC71=0),0,SUM($D$72:AD72))","v":0},{"$f":"IF(OR(SUM($D$72:AE72)=AD71,AD71=0),0,SUM($D$72:AE72))","v":0},{"$f":"IF(OR(SUM($D$72:AF72)=AE71,AE71=0),0,SUM($D$72:AF72))","v":0},{"$f":"IF(OR(SUM($D$72:AG72)=AF71,AF71=0),0,SUM($D$72:AG72))","v":0},{"$f":"IF(OR(SUM($D$72:AH72)=AG71,AG71=0),0,SUM($D$72:AH72))","v":0},{"$f":"IF(OR(SUM($D$72:AI72)=AH71,AH71=0),0,SUM($D$72:AI72))","v":0},{"$f":"IF(OR(SUM($D$72:AJ72)=AI71,AI71=0),0,SUM($D$72:AJ72))","v":0},{"$f":"IF(OR(SUM($D$72:AK72)=AJ71,AJ71=0),0,SUM($D$72:AK72))","v":0},{"$f":"IF(OR(SUM($D$72:AL72)=AK71,AK71=0),0,SUM($D$72:AL72))","v":0},{"$f":"IF(OR(SUM($D$72:AM72)=AL71,AL71=0),0,SUM($D$72:AM72))","v":0},{"$f":"IF(OR(SUM($D$72:AN72)=AM71,AM71=0),0,SUM($D$72:AN72))","v":0},{"$f":"IF(OR(SUM($D$72:AO72)=AN71,AN71=0),0,SUM($D$72:AO72))","v":0},{"$f":"IF(OR(SUM($D$72:AP72)=AO71,AO71=0),0,SUM($D$72:AP72))","v":0},{"$f":"IF(OR(SUM($D$72:AQ72)=AP71,AP71=0),0,SUM($D$72:AQ72))","v":0},{"$f":"IF(OR(SUM($D$72:AR72)=AQ71,AQ71=0),0,SUM($D$72:AR72))","v":0},{"$f":"IF(OR(SUM($D$72:AS72)=AR71,AR71=0),0,SUM($D$72:AS72))","v":0},{"$f":"IF(OR(SUM($D$72:AT72)=AS71,AS71=0),0,SUM($D$72:AT72))","v":0},{"$f":"IF(OR(SUM($D$72:AU72)=AT71,AT71=0),0,SUM($D$72:AU72))","v":0},{"$f":"IF(OR(SUM($D$72:AV72)=AU71,AU71=0),0,SUM($D$72:AV72))","v":0},{"$f":"IF(OR(SUM($D$72:AW72)=AV71,AV71=0),0,SUM($D$72:AW72))","v":0},{"$f":"IF(OR(SUM($D$72:AX72)=AW71,AW71=0),0,SUM($D$72:AX72))","v":0},{"$f":"IF(OR(SUM($D$72:AY72)=AX71,AX71=0),0,SUM($D$72:AY72))","v":0},{"$f":"IF(OR(SUM($D$72:AZ72)=AY71,AY71=0),0,SUM($D$72:AZ72))","v":0},{"$f":"IF(OR(SUM($D$72:BA72)=AZ71,AZ71=0),0,SUM($D$72:BA72))","v":0}]
[null,null,"RELATIVE",{"$f":"D70/2","v":0},{"$f":"(D70/2)+(E70/2)","v":0},{"$f":"(E70/2)+(F70/2)","v":0},0,0,0,0,0,0,0,0,0,0,0,0,0,0,0,0,0,0,0,0,0,0,0,0,0,0,0,0,0,0,0,0,0,0,0,0,0,0,0,0,0,0,0,0,0,0,0]
[]
[{"$nulls":3},1,2,3,4,5,6,7,8,9,10,11,12,13,14,15,16,17,18,19,20,21,22,23,24,25,26,27,28,29,30,31,32,33,34,35,36,37,38,39,40,41,42,43,44,45,46,47,48,49,50]
[null,"LABEL 9","RELATIVE",{"$f":"'Vertical Labels'!E$100","v":0},{"$f":"'Vertical Labels'!F$100","v":0},{"$f":"'Vertical Labels'!G$100","v":0},{"$f":"'Vertical Labels'!H$100","v":0},{"$f":"'Vertical Labels'!I$100","v":0},{"$f":"'Vertical Labels'!J$100","v":0},{"$f":"'Vertical Labels'!K$100","v":0},{"$f":"'Vertical Labels'!L$100","v":0},{"$f":"'Vertical Labels'!M$100","v":0},{"$f":"'Vertical Labels'!N$100","v":0},{"$f":"'Vertical Labels'!O$100","v":0},{"$f":"'Vertical Labels'!P$100","v":0},{"$f":"'Vertical Labels'!Q$100","v":0},{"$f":"'Vertical Labels'!R$100","v":0},{"$f":"'Vertical Labels'!S$100","v":0},{"$f":"'Vertical Labels'!T$100","v":0},{"$f":"'Vertical Labels'!U$100","v":0},{"$f":"'Vertical Labels'!V$100","v":0},{"$f":"'Vertical Labels'!W$100","v":0},{"$f":"'Vertical Labels'!X$100","v":0},{"$f":"'Vertical Labels'!Y$100","v":0},{"$f":"'Vertical Labels'!Z$100","v":0},{"$f":"'Vertical Labels'!AA$100","v":0},{"$f":"'Vertical Labels'!AB$100","v":0},{"$f":"'Vertical Labels'!AC$100","v":0},{"$f":"'Vertical Labels'!AD$100","v":0},{"$f":"'Vertical Labels'!AE$100","v":0},{"$f":"'Vertical Labels'!AF$100","v":0},{"$f":"'Vertical Labels'!AG$100","v":0},{"$f":"'Vertical Labels'!AH$100","v":0},{"$f":"'Vertical Labels'!AI$100","v":0},{"$f":"'Vertical Labels'!AJ$100","v":0},{"$f":"'Vertical Labels'!AK$100","v":0},{"$f":"'Vertical Labels'!AL$100","v":0},{"$f":"'Vertical Labels'!AM$100","v":0},{"$f":"'Vertical Labels'!AN$100","v":0},{"$f":"'Vertical Labels'!AO$100","v":0},{"$f":"'Vertical Labels'!AP$100","v":0},{"$f":"'Vertical Labels'!AQ$100","v":0},{"$f":"'Vertical Labels'!AR$100","v":0},{"$f":"'Vertical Labels'!AS$100","v":0},{"$f":"'Vertical Labels'!AT$100","v":0},{"$f":"'Vertical Labels'!AU$100","v":0},{"$f":"'Vertical Labels'!AV$100","v":0},{"$f":"'Vertical Labels'!AW$100","v":0},{"$f":"'Vertical Labels'!AX$100","v":0},{"$f":"'Vertical Labels'!AY$100","v":0},{"$f":"'Vertical Labels'!AZ$100","v":0},{"$f":"'Vertical Labels'!BA$100","v":0},{"$f":"'Vertical Labels'!BB$100","v":0}]
[null,null,"FIXED",{"$f":"SUM($D$75:D75)","v":0},{"$f":"IF(OR(SUM($D$75:E75)=D76,D76=0),0,SUM($D$75:E75))","v":0},{"$f":"IF(OR(SUM($D$75:F75)=E76,E76=0),0,SUM($D$75:F75))","v":0},{"$f":"IF(OR(SUM($D$75:G75)=F76,F76=0),0,SUM($D$75:G75))","v":0},{"$f":"IF(OR(SUM($D$75:H75)=G76,G76=0),0,SUM($D$75:H75))","v":0},{"$f":"IF(OR(SUM($D$75:I75)=H76,H76=0),0,SUM($D$75:I75))","v":0},{"$f":"IF(OR(SUM($D$75:J75)=I76,I76=0),0,SUM($D$75:J75))","v":0},{"$f":"IF(OR(SUM($D$75:K75)=J76,J76=0),0,SUM($D$75:K75))","v":0},{"$f":"IF(OR(SUM($D$75:L75)=K76,K76=0),0,SUM($D$75:L75))","v":0},{"$f":"IF(OR(SUM($D$75:M75)=L76,L76=0),0,SUM($D$75:M75))","v":0},{"$f":"IF(OR(SUM($D$75:N75)=M76,M76=0),0,SUM($D$75:N75))","v":0},{"$f":"IF(OR(SUM($D$75:O75)=N76,N76=0),0,SUM($D$75:O75))","v":0},{"$f":"IF(OR(SUM($D$75:P75)=O76,O76=0),0,SUM($D$75:P75))","v":0},{"$f":"IF(OR(SUM($D$75:Q75)=P76,P76=0),0,SUM($D$75:Q75))","v":0},{"$f":"IF(OR(SUM($D$75:R75)=Q76,Q76=0),0,SUM($D$75:R75))","v":0},{"$f":"IF(OR(SUM($D$75:S75)=R76,R76=0),0,SUM($D$75:S75))","v":0},{"$f":"IF(OR(SUM($D$75:T75)=S76,S76=0),0,SUM($D$75:T75))","v":0},{"$f":"IF(OR(SUM($D$75:U75)=T76,T76=0),0,SUM($D$75:U75))","v":0},{"$f":"IF(OR(SUM($D$75:V75)=U76,U76=0),0,SUM($D$75:V75))","v":0},{"$f":"IF(OR(SUM($D$75:W75)=V76,V76=0),0,SUM($D$75:W75))","v":0},{"$f":"IF(OR(SUM($D$75:X75)=W76,W76=0),0,SUM($D$75:X75))","v":0},{"$f":"IF(OR(SUM($D$75:Y75)=X76,X76=0),0,SUM($D$75:Y75))","v":0},{"$f":"IF(OR(SUM($D$75:Z75)=Y76,Y76=0),0,SUM($D$75:Z75))","v":0},{"$f":"IF(OR(SUM($D$75:AA75)=Z76,Z76=0),0,SUM($D$75:AA75))","v":0},{"$f":"IF(OR(SUM($D$75:AB75)=AA76,AA76=0),0,SUM($D$75:AB75))","v":0},{"$f":"IF(OR(SUM($D$75:AC75)=AB76,AB76=0),0,SUM($D$75:AC75))","v":0},{"$f":"IF(OR(SUM($D$75:AD75)=AC76,AC76=0),0,SUM($D$75:AD75))","v":0},{"$f":"IF(OR(SUM($D$75:AE75)=AD76,AD76=0),0,SUM($D$75:AE75))","v":0},{"$f":"IF(OR(SUM($D$75:AF75)=AE76,AE76=0),0,SUM($D$75:AF75))","v":0},{"$f":"IF(OR(SUM($D$75:AG75)=AF76,AF76=0),0,SUM($D$75:AG75))","v":0},{"$f":"IF(OR(SUM($D$75:AH75)=AG76,AG76=0),0,SUM($D$75:AH75))","v":0},{"$f":"IF(OR(SUM($D$75:AI75)=AH76,AH76=0),0,SUM($D$75:AI75))","v":0},{"$f":"IF(OR(SUM($D$75:AJ75)=AI76,AI76=0),0,SUM($D$75:AJ75))","v":0},{"$f":"IF(OR(SUM($D$75:AK75)=AJ76,AJ76=0),0,SUM($D$75:AK75))","v":0},{"$f":"IF(OR(SUM($D$75:AL75)=AK76,AK76=0),0,SUM($D$75:AL75))","v":0},{"$f":"IF(OR(SUM($D$75:AM75)=AL76,AL76=0),0,SUM($D$75:AM75))","v":0},{"$f":"IF(OR(SUM($D$75:AN75)=AM76,AM76=0),0,SUM($D$75:AN75))","v":0},{"$f":"IF(OR(SUM($D$75:AO75)=AN76,AN76=0),0,SUM($D$75:AO75))","v":0},{"$f":"IF(OR(SUM($D$75:AP75)=AO76,AO76=0),0,SUM($D$75:AP75))","v":0},{"$f":"IF(OR(SUM($D$75:AQ75)=AP76,AP76=0),0,SUM($D$75:AQ75))","v":0},{"$f":"IF(OR(SUM($D$75:AR75)=AQ76,AQ76=0),0,SUM($D$75:AR75))","v":0},{"$f":"IF(OR(SUM($D$75:AS75)=AR76,AR76=0),0,SUM($D$75:AS75))","v":0},{"$f":"IF(OR(SUM($D$75:AT75)=AS76,AS76=0),0,SUM($D$75:AT75))","v":0},{"$f":"IF(OR(SUM($D$75:AU75)=AT76,AT76=0),0,SUM($D$75:AU75))","v":0},{"$f":"IF(OR(SUM($D$75:AV75)=AU76,AU76=0),0,SUM($D$75:AV75))","v":0},{"$f":"IF(OR(SUM($D$75:AW75)=AV76,AV76=0),0,SUM($D$75:AW75))","v":0},{"$f":"IF(OR(SUM($D$75:AX75)=AW76,AW76=0),0,SUM($D$75:AX75))","v":0},{"$f":"IF(OR(SUM($D$75:AY75)=AX76,AX76=0),0,SUM($D$75:AY75))","v":0},{"$f":"IF(OR(SUM($D$75:AZ75)=AY76,AY76=0),0,SUM($D$75:AZ75))","v":0},{"$f":"IF(OR(SUM($D$75:BA75)=AZ76,AZ76=0),0,SUM($D$75:BA75))","v":0}]
[null,null,"FIXED",{"$f":"'Vertical Labels'!E$100","v":0},{"$f":"'Vertical Labels'!F$100","v":0},{"$f":"'Vertical Labels'!G$100","v":0},{"$f":"'Vertical Labels'!H$100","v":0},{"$f":"'Vertical Labels'!I$100","v":0},{"$f":"'Vertical Labels'!J$100","v":0},{"$f":"'Vertical Labels'!K$100","v":0},{"$f":"'Vertical Labels'!L$100","v":0},{"$f":"'Vertical Labels'!M$100","v":0},{"$f":"'Vertical Labels'!N$100","v":0},{"$f":"'Vertical Labels'!O$100","v":0},{"$f":"'Vertical Labels'!P$100","v":0},{"$f":"'Vertical Labels'!Q$100","v":0},{"$f":"'Vertical Labels'!R$100","v":0},{"$f":"'Vertical Labels'!S$100","v":0},{"$f":"'Vertical Labels'!T$100","v":0},{"$f":"'Vertical Labels'!U$100","v":0},{"$f":"'Vertical Labels'!V$100","v":0},{"$f":"'Vertical Labels'!W$100","v":0},{"$f":"'Vertical Labels'!X$100","v":0},{"$f":"'Vertical Labels'!Y$100","v":0},{"$f":"'Vertical Labels'!Z$100","v":0},{"$f":"'Vertical Labels'!AA$100","v":0},{"$f":"'Vertical Labels'!AB$100","v":0},{"$f":"'Vertical Labels'!AC$100","v":0},{"$f":"'Vertical Labels'!AD$100","v":0},{"$f":"'Vertical Labels'!AE$100","v":0},{"$f":"'Vertical Labels'!AF$100","v":0},{"$f":"'Vertical Labels'!AG$100","v":0},{"$f":"'Vertical Labels'!AH$100","v":0},{"$f":"'Vertical Labels'!AI$100","v":0},{"$f":"'Vertical Labels'!AJ$100","v":0},{"$f":"'Vertical Labels'!AK$100","v":0},{"$f":"'Vertical Labels'!AL$100","v":0},{"$f":"'Vertical Labels'!AM$100","v":0},{"$f":"'Vertical Labels'!AN$100","v":0},{"$f":"'Vertical Labels'!AO$100","v":0},{"$f":"'Vertical Labels'!AP$100","v":0},{"$f":"'Vertical Labels'!AQ$100","v":0},{"$f":"'Vertical Labels'!AR$100","v":0},{"$f":"'Vertical Labels'!AS$100","v":0},{"$f":"'Vertical Labels'!AT$100","v":0},{"$f":"'Vertical Labels'!AU$100","v":0},{"$f":"'Vertical Labels'!AV$100","v":0},{"$f":"'Vertical Labels'!AW$100","v":0},{"$f":"'Vertical Labels'!AX$100","v":0},{"$f":"'Vertical Labels'!AY$100","v":0},{"$f":"'Vertical Labels'!AZ$100","v":0},{"$f":"'Vertical Labels'!BA$100","v":0},{"$f":"'Vertical Labels'!BB$100","v":0}]
[null,null,"RELATIVE",{"$f":"D77","v":0},{"$f":"IF(E77-D77<1,0,E77-D77)","v":0},{"$f":"IF(F77-E77<1,0,F77-E77)","v":0},0,0,0,0,0,0,0,0,0,0,0,0,0,0,0,0,0,0,0,0,0,0,0,0,0,0,0,0,0,0,0,0,0,0,0,0,0,0,0,0,0,0,0,0,0,0,0]
[null,null,"BLOCKS",{"$f":"'Vertical Labels'!E$100","v":0},{"$f":"'Vertical Labels'!F$100","v":0},{"$f":"'Vertical Labels'!G$100","v":0},{"$f":"'Vertical Labels'!H$100","v":0},{"$f":"'Vertical Labels'!I$100","v":0},{"$f":"'Vertical Labels'!J$100","v":0},{"$f":"'Vertical Labels'!K$100","v":0},{"$f":"'Vertical Labels'!L$100","v":0},{"$f":"'Vertical Labels'!M$100","v":0},{"$f":"'Vertical Labels'!N$100","v":0},{"$f":"'Vertical Labels'!O$100","v":0},{"$f":"'Vertical Labels'!P$100","v":0},{"$f":"'Vertical Labels'!Q$100","v":0},{"$f":"'Vertical Labels'!R$100","v":0},{"$f":"'Vertical Labels'!S$100","v":0},{"$f":"'Vertical Labels'!T$100","v":0},{"$f":"'Vertical Labels'!U$100","v":0},{"$f":"'Vertical Labels'!V$100","v":0},{"$f":"'Vertical Labels'!W$100","v":0},{"$f":"'Vertical Labels'!X$100","v":0},{"$f":"'Vertical Labels'!Y$100","v":0},{"$f":"'Vertical Labels'!Z$100","v":0},{"$f":"'Vertical Labels'!AA$100","v":0},{"$f":"'Vertical Labels'!AB$100","v":0},{"$f":"'Vertical Labels'!AC$100","v":0},{"$f":"'Vertical Labels'!AD$100","v":0},{"$f":"'Vertical Labels'!AE$100","v":0},{"$f":"'Vertical Labels'!AF$100","v":0},{"$f":"'Vertical Labels'!AG$100","v":0},{"$f":"'Vertical Labels'!AH$100","v":0},{"$f":"'Vertical Labels'!AI$100","v":0},{"$f":"'Vertical Labels'!AJ$100","v":0},{"$f":"'Vertical Labels'!AK$100","v":0},{"$f":"'Vertical Labels'!AL$100","v":0},{"$f":"'Vertical Labels'!AM$100","v":0},{"$f":"'Vertical Labels'!AN$100","v":0},{"$f":"'Vertical Labels'!AO$100","v":0},{"$f":"'Vertical Labels'!AP$100","v":0},{"$f":"'Vertical Labels'!AQ$100","v":0},{"$f":"'Vertical Labels'!AR$100","v":0},{"$f":"'Vertical Labels'!AS$100","v":0},{"$f":"'Vertical Labels'!AT$100","v":0},{"$f":"'Vertical Labels'!AU$100","v":0},{"$f":"'Vertical Labels'!AV$100","v":0},{"$f":"'Vertical Labels'!AW$100","v":0},{"$f":"'Vertical Labels'!AX$100","v":0},{"$f":"'Vertical Labels'!AY$100","v":0},{"$f":"'Vertical Labels'!AZ$100","v":0},{"$f":"'Vertical Labels'!BA$100","v":0},{"$f":"'Vertical Labels'!BB$100","v":0}]
[null,null,"FIXED",{"$f":"D81","v":0},{"$f":"IF(OR(SUM($D$81:E81)=D80,D80=0),0,SUM($D$81:E81))","v":0},{"$f":"IF(OR(SUM($D$81:F81)=E80,E80=0),0,SUM($D$81:F81))","v":0},{"$f":"IF(OR(SUM($D$81:G81)=F80,F80=0),0,SUM($D$81:G81))","v":0},{"$f":"IF(OR(SUM($D$81:H81)=G80,G80=0),0,SUM($D$81:H81))","v":0},{"$f":"IF(OR(SUM($D$81:I81)=H80,H80=0),0,SUM($D$81:I81))","v":0},{"$f":"IF(OR(SUM($D$81:J81)=I80,I80=0),0,SUM($D$81:J81))","v":0},{"$f":"IF(OR(SUM($D$81:K81)=J80,J80=0),0,SUM($D$81:K81))","v":0},{"$f":"IF(OR(SUM($D$81:L81)=K80,K80=0),0,SUM($D$81:L81))","v":0},{"$f":"IF(OR(SUM($D$81:M81)=L80,L80=0),0,SUM($D$81:M81))","v":0},{"$f":"IF(OR(SUM($D$81:N81)=M80,M80=0),0,SUM($D$81:N81))","v":0},{"$f":"IF(OR(SUM($D$81:O81)=N80,N80=0),0,SUM($D$81:O81))","v":0},{"$f":"IF(OR(SUM($D$81:P81)=O80,O80=0),0,SUM($D$81:P81))","v":0},{"$f":"IF(OR(SUM($D$81:Q81)=P80,P80=0),0,SUM($D$81:Q81))","v":0},{"$f":"IF(OR(SUM($D$81:R81)=Q80,Q80=0),0,SUM($D$81:R81))","v":0},{"$f":"IF(OR(SUM($D$81:S81)=R80,R80=0),0,SUM($D$81:S81))","v":0},{"$f":"IF(OR(SUM($D$81:T81)=S80,S80=0),0,SUM($D$81:T81))","v":0},{"$f":"IF(OR(SUM($D$81:U81)=T80,T80=0),0,SUM($D$81:U81))","v":0},{"$f":"IF(OR(SUM($D$81:V81)=U80,U80=0),0,SUM($D$81:V81))","v":0},{"$f":"IF(OR(SUM($D$81:W81)=V80,V80=0),0,SUM($D$81:W81))","v":0},{"$f":"IF(OR(SUM($D$81:X81)=W80,W80=0),0,SUM($D$81:X81))","v":0},{"$f":"IF(OR(SUM($D$81:Y81)=X80,X80=0),0,SUM($D$81:Y81))","v":0},{"$f":"IF(OR(SUM($D$81:Z81)=Y80,Y80=0),0,SUM($D$81:Z81))","v":0},{"$f":"IF(OR(SUM($D$81:AA81)=Z80,Z80=0),0,SUM($D$81:AA81))","v":0},{"$f":"IF(OR(SUM($D$81:AB81)=AA80,AA80=0),0,SUM($D$81:AB81))","v":0},{"$f":"IF(OR(SUM($D$81:AC81)=AB80,AB80=0),0,SUM($D$81:AC81))","v":0},{"$f":"IF(OR(SUM($D$81:AD81)=AC80,AC80=0),0,SUM($D$81:AD81))","v":0},{"$f":"IF(OR(SUM($D$81:AE81)=AD80,AD80=0),0,SUM($D$81:AE81))","v":0},{"$f":"IF(OR(SUM($D$81:AF81)=AE80,AE80=0),0,SUM($D$81:AF81))","v":0},{"$f":"IF(OR(SUM($D$81:AG81)=AF80,AF80=0),0,SUM($D$81:AG81))","v":0},{"$f":"IF(OR(SUM($D$81:AH81)=AG80,AG80=0),0,SUM($D$81:AH81))","v":0},{"$f":"IF(OR(SUM($D$81:AI81)=AH80,AH80=0),0,SUM($D$81:AI81))","v":0},{"$f":"IF(OR(SUM($D$81:AJ81)=AI80,AI80=0),0,SUM($D$81:AJ81))","v":0},{"$f":"IF(OR(SUM($D$81:AK81)=AJ80,AJ80=0),0,SUM($D$81:AK81))","v":0},{"$f":"IF(OR(SUM($D$81:AL81)=AK80,AK80=0),0,SUM($D$81:AL81))","v":0},{"$f":"IF(OR(SUM($D$81:AM81)=AL80,AL80=0),0,SUM($D$81:AM81))","v":0},{"$f":"IF(OR(SUM($D$81:AN81)=AM80,AM80=0),0,SUM($D$81:AN81))","v":0},{"$f":"IF(OR(SUM($D$81:AO81)=AN80,AN80=0),0,SUM($D$81:AO81))","v":0},{"$f":"IF(OR(SUM($D$81:AP81)=AO80,AO80=0),0,SUM($D$81:AP81))","v":0},{"$f":"IF(OR(SUM($D$81:AQ81)=AP80,AP80=0),0,SUM($D$81:AQ81))","v":0},{"$f":"IF(OR(SUM($D$81:AR81)=AQ80,AQ80=0),0,SUM($D$81:AR81))","v":0},{"$f":"IF(OR(SUM($D$81:AS81)=AR80,AR80=0),0,SUM($D$81:AS81))","v":0},{"$f":"IF(OR(SUM($D$81:AT81)=AS80,AS80=0),0,SUM($D$81:AT81))","v":0},{"$f":"IF(OR(SUM($D$81:AU81)=AT80,AT80=0),0,SUM($D$81:AU81))","v":0},{"$f":"IF(OR(SUM($D$81:AV81)=AU80,AU80=0),0,SUM($D$81:AV81))","v":0},{"$f":"IF(OR(SUM($D$81:AW81)=AV80,AV80=0),0,SUM($D$81:AW81))","v":0},{"$f":"IF(OR(SUM($D$81:AX81)=AW80,AW80=0),0,SUM($D$81:AX81))","v":0},{"$f":"IF(OR(SUM($D$81:AY81)=AX80,AX80=0),0,SUM($D$81:AY81))","v":0},{"$f":"IF(OR(SUM($D$81:AZ81)=AY80,AY80=0),0,SUM($D$81:AZ81))","v":0},{"$f":"IF(OR(SUM($D$81:BA81)=AZ80,AZ80=0),0,SUM($D$81:BA81))","v":0}]
[null,null,"RELATIVE",{"$f":"D79/2","v":0},{"$f":"(D79/2)+(E79/2)","v":0},{"$f":"(E79/2)+(F79/2)","v":0},0,0,0,0,0,0,0,0,0,0,0,0,0,0,0,0,0,0,0,0,0,0,0,0,0,0,0,0,0,0,0,0,0,0,0,0,0,0,0,0,0,0,0,0,0,0,0]
[]
[{"$nulls":3},1,2,3,4,5,6,7,8,9,10,11,12,13,14,15,16,17,18,19,20,21,22,23,24,25,26,27,28,29,30,31,32,33,34,35,36,37,38,39,40,41,42,43,44,45,46,47,48,49,50]
[null,"LABEL 10","RELATIVE",{"$f":"'Vertical Labels'!E$111","v":0},{"$f":"'Vertical Labels'!F$111","v":0},{"$f":"'Vertical Labels'!G$111","v":0},{"$f":"'Vertical Labels'!H$111","v":0},{"$f":"'Vertical Labels'!I$111","v":0},{"$f":"'Vertical Labels'!J$111","v":0},{"$f":"'Vertical Labels'!K$111","v":0},{"$f":"'Vertical Labels'!L$111","v":0},{"$f":"'Vertical Labels'!M$111","v":0},{"$f":"'Vertical Labels'!N$111","v":0},{"$f":"'Vertical Labels'!O$111","v":0},{"$f":"'Vertical Labels'!P$111","v":0},{"$f":"'Vertical Labels'!Q$111","v":0},{"$f":"'Vertical Labels'!R$111","v":0},{"$f":"'Vertical Labels'!S$111","v":0},{"$f":"'Vertical Labels'!T$111","v":0},{"$f":"'Vertical Labels'!U$111","v":0},{"$f":"'Vertical Labels'!V$111","v":0},{"$f":"'Vertical Labels'!W$111","v":0},{"$f":"'Vertical Labels'!X$111","v":0},{"$f":"'Vertical Labels'!Y$111","v":0},{"$f":"'Vertical Labels'!Z$111","v":0},{"$f":"'Vertical Labels'!AA$111","v":0},{"$f":"'Vertical Labels'!AB$111","v":0},{"$f":"'Vertical Labels'!AC$111","v":0},{"$f":"'Vertical Labels'!AD$111","v":0},{"$f":"'Vertical Labels'!AE$111","v":0},{"$f":"'Vertical Labels'!AF$111","v":0},{"$f":"'Vertical Labels'!AG$111","v":0},{"$f":"'Vertical Labels'!AH$111","v":0},{"$f":"'Vertical Labels'!AI$111","v":0},{"$f":"'Vertical Labels'!AJ$111","v":0},{"$f":"'Vertical Labels'!AK$111","v":0},{"$f":"'Vertical Labels'!AL$111","v":0},{"$f":"'Vertical Labels'!AM$111","v":0},{"$f":"'Vertical Labels'!AN$111","v":0},{"$f":"'Vertical Labels'!AO$111","v":0},{"$f":"'Vertical Labels'!AP$111","v":0},{"$f":"'Vertical Labels'!AQ$111","v":0},{"$f":"'Vertical Labels'!AR$111","v":0},{"$f":"'Vertical Labels'!AS$111","v":0},{"$f":"'Vertical Labels'!AT$111","v":0},{"$f":"'Vertical Labels'!AU$111","v":0},{"$f":"'Vertical Labels'!AV$111","v":0},{"$f":"'Vertical Labels'!AW$111","v":0},{"$f":"'Vertical Labels'!AX$111","v":0},{"$f":"'Vertical Labels'!AY$111","v":0},{"$f":"'Vertical Labels'!AZ$111","v":0},{"$f":"'Vertical Labels'!BA$111","v":0},{"$f":"'Vertical Labels'!BB$111","v":0}]
[null,null,"FIXED",{"$f":"SUM($D$84:D84)","v":0},{"$f":"IF(OR(SUM($D$84:E84)=D85,D85=0),0,SUM($D$84:E84))","v":0},{"$f":"IF(OR(SUM($D$84:F84)=E85,E85=0),0,SUM($D$84:F84))","v":0},{"$f":"IF(OR(SUM($D$84:G84)=F85,F85=0),0,SUM($D$84:G84))","v":0},{"$f":"IF(OR(SUM($D$84:H84)=G85,G85=0),0,SUM($D$84:H84))","v":0},{"$f":"IF(OR(SUM($D$84:I84)=H85,H85=0),0,SUM($D$84:I84))","v":0},{"$f":"IF(OR(SUM($D$84:J84)=I85,I85=0),0,SUM($D$84:J84))","v":0},{"$f":"IF(OR(SUM($D$84:K84)=J85,J85=0),0,SUM($D$84:K84))","v":0},{"$f":"IF(OR(SUM($D$84:L84)=K85,K85=0),0,SUM($D$84:L84))","v":0},{"$f":"IF(OR(SUM($D$84:M84)=L85,L85=0),0,SUM($D$84:M84))","v":0},{"$f":"IF(OR(SUM($D$84:N84)=M85,M85=0),0,SUM($D$84:N84))","v":0},{"$f":"IF(OR(SUM($D$84:O84)=N85,N85=0),0,SUM($D$84:O84))","v":0},{"$f":"IF(OR(SUM($D$84:P84)=O85,O85=0),0,SUM($D$84:P84))","v":0},{"$f":"IF(OR(SUM($D$84:Q84)=P85,P85=0),0,SUM($D$84:Q84))","v":0},{"$f":"IF(OR(SUM($D$84:R84)=Q85,Q85=0),0,SUM($D$84:R84))","v":0},{"$f":"IF(OR(SUM($D$84:S84)=R85,R85=0),0,SUM($D$84:S84))","v":0},{"$f":"IF(OR(SUM($D$84:T84)=S85,S85=0),0,SUM($D$84:T84))","v":0},{"$f":"IF(OR(SUM($D$84:U84)=T85,T85=0),0,SUM($D$84:U84))","v":0},{"$f":"IF(OR(SUM($D$84:V84)=U85,U85=0),0,SUM($D$84:V84))","v":0},{"$f":"IF(OR(SUM($D$84:W84)=V85,V85=0),0,SUM($D$84:W84))","v":0},{"$f":"IF(OR(SUM($D$84:X84)=W85,W85=0),0,SUM($D$84:X84))","v":0},{"$f":"IF(OR(SUM($D$84:Y84)=X85,X85=0),0,SUM($D$84:Y84))","v":0},{"$f":"IF(OR(SUM($D$84:Z84)=Y85,Y85=0),0,SUM($D$84:Z84))","v":0},{"$f":"IF(OR(SUM($D$84:AA84)=Z85,Z85=0),0,SUM($D$84:AA84))","v":0},{"$f":"IF(OR(SUM($D$84:AB84)=AA85,AA85=0),0,SUM($D$84:AB84))","v":0},{"$f":"IF(OR(SUM($D$84:AC84)=AB85,AB85=0),0,SUM($D$84:AC84))","v":0},{"$f":"IF(OR(SUM($D$84:AD84)=AC85,AC85=0),0,SUM($D$84:AD84))","v":0},{"$f":"IF(OR(SUM($D$84:AE84)=AD85,AD85=0),0,SUM($D$84:AE84))","v":0},{"$f":"IF(OR(SUM($D$84:AF84)=AE85,AE85=0),0,SUM($D$84:AF84))","v":0},{"$f":"IF(OR(SUM($D$84:AG84)=AF85,AF85=0),0,SUM($D$84:AG84))","v":0},{"$f":"IF(OR(SUM($D$84:AH84)=AG85,AG85=0),0,SUM($D$84:AH84))","v":0},{"$f":"IF(OR(SUM($D$84:AI84)=AH85,AH85=0),0,SUM($D$84:AI84))","v":0},{"$f":"IF(OR(SUM($D$84:AJ84)=AI85,AI85=0),0,SUM($D$84:AJ84))","v":0},{"$f":"IF(OR(SUM($D$84:AK84)=AJ85,AJ85=0),0,SUM($D$84:AK84))","v":0},{"$f":"IF(OR(SUM($D$84:AL84)=AK85,AK85=0),0,SUM($D$84:AL84))","v":0},{"$f":"IF(OR(SUM($D$84:AM84)=AL85,AL85=0),0,SUM($D$84:AM84))","v":0},{"$f":"IF(OR(SUM($D$84:AN84)=AM85,AM85=0),0,SUM($D$84:AN84))","v":0},{"$f":"IF(OR(SUM($D$84:AO84)=AN85,AN85=0),0,SUM($D$84:AO84))","v":0},{"$f":"IF(OR(SUM($D$84:AP84)=AO85,AO85=0),0,SUM($D$84:AP84))","v":0},{"$f":"IF(OR(SUM($D$84:AQ84)=AP85,AP85=0),0,SUM($D$84:AQ84))","v":0},{"$f":"IF(OR(SUM($D$84:AR84)=AQ85,AQ85=0),0,SUM($D$84:AR84))","v":0},{"$f":"IF(OR(SUM($D$84:AS84)=AR85,AR85=0),0,SUM($D$84:AS84))","v":0},{"$f":"IF(OR(SUM($D$84:AT84)=AS85,AS85=0),0,SUM($D$84:AT84))","v":0},{"$f":"IF(OR(SUM($D$84:AU84)=AT85,AT85=0),0,SUM($D$84:AU84))","v":0},{"$f":"IF(OR(SUM($D$84:AV84)=AU85,AU85=0),0,SUM($D$84:AV84))","v":0},{"$f":"IF(OR(SUM($D$84:AW84)=AV85,AV85=0),0,SUM($D$84:AW84))","v":0},{"$f":"IF(OR(SUM($D$84:AX84)=AW85,AW85=0),0,SUM($D$84:AX84))","v":0},{"$f":"IF(OR(SUM($D$84:AY84)=AX85,AX85=0),0,SUM($D$84:AY84))","v":0},{"$f":"IF(OR(SUM($D$84:AZ84)=AY85,AY85=0),0,SUM($D$84:AZ84))","v":0},{"$f":"IF(OR(SUM($D$84:BA84)=AZ85,AZ85=0),0,SUM($D$84:BA84))","v":0}]
[null,null,"FIXED",{"$f":"'Vertical Labels'!E$111","v":0},{"$f":"'Vertical Labels'!F$111","v":0},{"$f":"'Vertical Labels'!G$111","v":0},{"$f":"'Vertical Labels'!H$111","v":0},{"$f":"'Vertical Labels'!I$111","v":0},{"$f":"'Vertical Labels'!J$111","v":0},{"$f":"'Vertical Labels'!K$111","v":0},{"$f":"'Vertical Labels'!L$111","v":0},{"$f":"'Vertical Labels'!M$111","v":0},{"$f":"'Vertical Labels'!N$111","v":0},{"$f":"'Vertical Labels'!O$111","v":0},{"$f":"'Vertical Labels'!P$111","v":0},{"$f":"'Vertical Labels'!Q$111","v":0},{"$f":"'Vertical Labels'!R$111","v":0},{"$f":"'Vertical Labels'!S$111","v":0},{"$f":"'Vertical Labels'!T$111","v":0},{"$f":"'Vertical Labels'!U$111","v":0},{"$f":"'Vertical Labels'!V$111","v":0},{"$f":"'Vertical Labels'!W$111","v":0},{"$f":"'Vertical Labels'!X$111","v":0},{"$f":"'Vertical Labels'!Y$111","v":0},{"$f":"'Vertical Labels'!Z$111","v":0},{"$f":"'Vertical Labels'!AA$111","v":0},{"$f":"'Vertical Labels'!AB$111","v":0},{"$f":"'Vertical Labels'!AC$111","v":0},{"$f":"'Vertical Labels'!AD$111","v":0},{"$f":"'Vertical Labels'!AE$111","v":0},{"$f":"'Vertical Labels'!AF$111","v":0},{"$f":"'Vertical Labels'!AG$111","v":0},{"$f":"'Vertical Labels'!AH$111","v":0},{"$f":"'Vertical Labels'!AI$111","v":0},{"$f":"'Vertical Labels'!AJ$111","v":0},{"$f":"'Vertical Labels'!AK$111","v":0},{"$f":"'Vertical Labels'!AL$111","v":0},{"$f":"'Vertical Labels'!AM$111","v":0},{"$f":"'Vertical Labels'!AN$111","v":0},{"$f":"'Vertical Labels'!AO$111","v":0},{"$f":"'Vertical Labels'!AP$111","v":0},{"$f":"'Vertical Labels'!AQ$111","v":0},{"$f":"'Vertical Labels'!AR$111","v":0},{"$f":"'Vertical Labels'!AS$111","v":0},{"$f":"'Vertical Labels'!AT$111","v":0},{"$f":"'Vertical Labels'!AU$111","v":0},{"$f":"'Vertical Labels'!AV$111","v":0},{"$f":"'Vertical Labels'!AW$111","v":0},{"$f":"'Vertical Labels'!AX$111","v":0},{"$f":"'Vertical Labels'!AY$111","v":0},{"$f":"'Vertical Labels'!AZ$111","v":0},{"$f":"'Vertical Labels'!BA$111","v":0},{"$f":"'Vertical Labels'!BB$111","v":0}]
[null,null,"RELATIVE",{"$f":"D86","v":0},{"$f":"IF(E86-D86<1,0,E86-D86)","v":0},{"$f":"IF(F86-E86<1,0,F86-E86)","v":0},0,0,0,0,0,0,0,0,0,0,0,0,0,0,0,0,0,0,0,0,0,0,0,0,0,0,0,0,0,0,0,0,0,0,0,0,0,0,0,0,0,0,0,0,0,0,0]
[null,null,"BLOCKS",{"$f":"'Vertical Labels'!E$111","v":0},{"$f":"'Vertical Labels'!F$111","v":0},{"$f":"'Vertical Labels'!G$111","v":0},{"$f":"'Vertical Labels'!H$111","v":0},{"$f":"'Vertical Labels'!I$111","v":0},{"$f":"'Vertical Labels'!J$111","v":0},{"$f":"'Vertical Labels'!K$111","v":0},{"$f":"'Vertical Labels'!L$111","v":0},{"$f":"'Vertical Labels'!M$111","v":0},{"$f":"'Vertical Labels'!N$111","v":0},{"$f":"'Vertical Labels'!O$111","v":0},{"$f":"'Vertical Labels'!P$111","v":0},{"$f":"'Vertical Labels'!Q$111","v":0},{"$f":"'Vertical Labels'!R$111","v":0},{"$f":"'Vertical Labels'!S$111","v":0},{"$f":"'Vertical Labels'!T$111","v":0},{"$f":"'Vertical Labels'!U$111","v":0},{"$f":"'Vertical Labels'!V$111","v":0},{"$f":"'Vertical Labels'!W$111","v":0},{"$f":"'Vertical Labels'!X$111","v":0},{"$f":"'Vertical Labels'!Y$111","v":0},{"$f":"'Vertical Labels'!Z$111","v":0},{"$f":"'Vertical Labels'!AA$111","v":0},{"$f":"'Vertical Labels'!AB$111","v":0},{"$f":"'Vertical Labels'!AC$111","v":0},{"$f":"'Vertical Labels'!AD$111","v":0},{"$f":"'Vertical Labels'!AE$111","v":0},{"$f":"'Vertical Labels'!AF$111","v":0},{"$f":"'Vertical Labels'!AG$111","v":0},{"$f":"'Vertical Labels'!AH$111","v":0},{"$f":"'Vertical Labels'!AI$111","v":0},{"$f":"'Vertical Labels'!AJ$111","v":0},{"$f":"'Vertical Labels'!AK$111","v":0},{"$f":"'Vertical Labels'!AL$111","v":0},{"$f":"'Vertical Labels'!AM$111","v":0},{"$f":"'Vertical Labels'!AN$111","v":0},{"$f":"'Vertical Labels'!AO$111","v":0},{"$f":"'Vertical Labels'!AP$111","v":0},{"$f":"'Vertical Labels'!AQ$111","v":0},{"$f":"'Vertical Labels'!AR$111","v":0},{"$f":"'Vertical Labels'!AS$111","v":0},{"$f":"'Vertical Labels'!AT$111","v":0},{"$f":"'Vertical Labels'!AU$111","v":0},{"$f":"'Vertical Labels'!AV$111","v":0},{"$f":"'Vertical Labels'!AW$111","v":0},{"$f":"'Vertical Labels'!AX$111","v":0},{"$f":"'Vertical Labels'!AY$111","v":0},{"$f":"'Vertical Labels'!AZ$111","v":0},{"$f":"'Vertical Labels'!BA$111","v":0},{"$f":"'Vertical Labels'!BB$111","v":0}]
[null,null,"FIXED",{"$f":"D90","v":0},{"$f":"IF(OR(SUM($D$90:E90)=D89,D89=0),0,SUM($D$90:E90))","v":0},{"$f":"IF(OR(SUM($D$90:F90)=E89,E89=0),0,SUM($D$90:F90))","v":0},{"$f":"IF(OR(SUM($D$90:G90)=F89,F89=0),0,SUM($D$90:G90))","v":0},{"$f":"IF(OR(SUM($D$90:H90)=G89,G89=0),0,SUM($D$90:H90))","v":0},{"$f":"IF(OR(SUM($D$90:I90)=H89,H89=0),0,SUM($D$90:I90))","v":0},{"$f":"IF(OR(SUM($D$90:J90)=I89,I89=0),0,SUM($D$90:J90))","v":0},{"$f":"IF(OR(SUM($D$90:K90)=J89,J89=0),0,SUM($D$90:K90))","v":0},{"$f":"IF(OR(SUM($D$90:L90)=K89,K89=0),0,SUM($D$90:L90))","v":0},{"$f":"IF(OR(SUM($D$90:M90)=L89,L89=0),0,SUM($D$90:M90))","v":0},{"$f":"IF(OR(SUM($D$90:N90)=M89,M89=0),0,SUM($D$90:N90))","v":0},{"$f":"IF(OR(SUM($D$90:O90)=N89,N89=0),0,SUM($D$90:O90))","v":0},{"$f":"IF(OR(SUM($D$90:P90)=O89,O89=0),0,SUM($D$90:P90))","v":0},{"$f":"IF(OR(SUM($D$90:Q90)=P89,P89=0),0,SUM($D$90:Q90))","v":0},{"$f":"IF(OR(SUM($D$90:R90)=Q89,Q89=0),0,SUM($D$90:R90))","v":0},{"$f":"IF(OR(SUM($D$90:S90)=R89,R89=0),0,SUM($D$90:S90))","v":0},{"$f":"IF(OR(SUM($D$90:T90)=S89,S89=0),0,SUM($D$90:T90))","v":0},{"$f":"IF(OR(SUM($D$90:U90)=T89,T89=0),0,SUM($D$90:U90))","v":0},{"$f":"IF(OR(SUM($D$90:V90)=U89,U89=0),0,SUM($D$90:V90))","v":0},{"$f":"IF(OR(SUM($D$90:W90)=V89,V89=0),0,SUM($D$90:W90))","v":0},{"$f":"IF(OR(SUM($D$90:X90)=W89,W89=0),0,SUM($D$90:X90))","v":0},{"$f":"IF(OR(SUM($D$90:Y90)=X89,X89=0),0,SUM($D$90:Y90))","v":0},{"$f":"IF(OR(SUM($D$90:Z90)=Y89,Y89=0),0,SUM($D$90:Z90))","v":0},{"$f":"IF(OR(SUM($D$90:AA90)=Z89,Z89=0),0,SUM($D$90:AA90))","v":0},{"$f":"IF(OR(SUM($D$90:AB90)=AA89,AA89=0),0,SUM($D$90:AB90))","v":0},{"$f":"IF(OR(SUM($D$90:AC90)=AB89,AB89=0),0,SUM($D$90:AC90))","v":0},{"$f":"IF(OR(SUM($D$90:AD90)=AC89,AC89=0),0,SUM($D$90:AD90))","v":0},{"$f":"IF(OR(SUM($D$90:AE90)=AD89,AD89=0),0,SUM($D$90:AE90))","v":0},{"$f":"IF(OR(SUM($D$90:AF90)=AE89,AE89=0),0,SUM($D$90:AF90))","v":0},{"$f":"IF(OR(SUM($D$90:AG90)=AF89,AF89=0),0,SUM($D$90:AG90))","v":0},{"$f":"IF(OR(SUM($D$90:AH90)=AG89,AG89=0),0,SUM($D$90:AH90))","v":0},{"$f":"IF(OR(SUM($D$90:AI90)=AH89,AH89=0),0,SUM($D$90:AI90))","v":0},{"$f":"IF(OR(SUM($D$90:AJ90)=AI89,AI89=0),0,SUM($D$90:AJ90))","v":0},{"$f":"IF(OR(SUM($D$90:AK90)=AJ89,AJ89=0),0,SUM($D$90:AK90))","v":0},{"$f":"IF(OR(SUM($D$90:AL90)=AK89,AK89=0),0,SUM($D$90:AL90))","v":0},{"$f":"IF(OR(SUM($D$90:AM90)=AL89,AL89=0),0,SUM($D$90:AM90))","v":0},{"$f":"IF(OR(SUM($D$90:AN90)=AM89,AM89=0),0,SUM($D$90:AN90))","v":0},{"$f":"IF(OR(SUM($D$90:AO90)=AN89,AN89=0),0,SUM($D$90:AO90))","v":0},{"$f":"IF(OR(SUM($D$90:AP90)=AO89,AO89=0),0,SUM($D$90:AP90))","v":0},{"$f":"IF(OR(SUM($D$90:AQ90)=AP89,AP89=0),0,SUM($D$90:AQ90))","v":0},{"$f":"IF(OR(SUM($D$90:AR90)=AQ89,AQ89=0),0,SUM($D$90:AR90))","v":0},{"$f":"IF(OR(SUM($D$90:AS90)=AR89,AR89=0),0,SUM($D$90:AS90))","v":0},{"$f":"IF(OR(SUM($D$90:AT90)=AS89,AS89=0),0,SUM($D$90:AT90))","v":0},{"$f":"IF(OR(SUM($D$90:AU90)=AT89,AT89=0),0,SUM($D$90:AU90))","v":0},{"$f":"IF(OR(SUM($D$90:AV90)=AU89,AU89=0),0,SUM($D$90:AV90))","v":0},{"$f":"IF(OR(SUM($D$90:AW90)=AV89,AV89=0),0,SUM($D$90:AW90))","v":0},{"$f":"IF(OR(SUM($D$90:AX90)=AW89,AW89=0),0,SUM($D$90:AX90))","v":0},{"$f":"IF(OR(SUM($D$90:AY90)=AX89,AX89=0),0,SUM($D$90:AY90))","v":0},{"$f":"IF(OR(SUM($D$90:AZ90)=AY89,AY89=0),0,SUM($D$90:AZ90))","v":0},{"$f":"IF(OR(SUM($D$90:BA90)=AZ89,AZ89=0),0,SUM($D$90:BA90))","v":0}]
[null,null,"RELATIVE",{"$f":"D88/2","v":0},{"$f":"(D88/2)+(E88/2)","v":0},{"$f":"(E88/2)+(F88/2)","v":0},0,0,0,0,0,0,0,0,0,0,0,0,0,0,0,0,0,0,0,0,0,0,0,0,0,0,0,0,0,0,0,0,0,0,0,0,0,0,0,0,0,0,0,0,0,0,0]
[]
[{"$nulls":3},1,2,3,4,5,6,7,8,9,10,11,12,13,14,15,16,17,18,19,20,21,22,23,24,25,26,27,28,29,30,31,32,33,34,35,36,37,38,39,40,41,42,43,44,45,46,47,48,49,50]
[null,"LABEL 11","RELATIVE",{"$f":"'Vertical Labels'!E$122","v":0},{"$f":"'Vertical Labels'!F$122","v":0},{"$f":"'Vertical Labels'!G$122","v":0},{"$f":"'Vertical Labels'!H$122","v":0},{"$f":"'Vertical Labels'!I$122","v":0},{"$f":"'Vertical Labels'!J$122","v":0},{"$f":"'Vertical Labels'!K$122","v":0},{"$f":"'Vertical Labels'!L$122","v":0},{"$f":"'Vertical Labels'!M$122","v":0},{"$f":"'Vertical Labels'!N$122","v":0},{"$f":"'Vertical Labels'!O$122","v":0},{"$f":"'Vertical Labels'!P$122","v":0},{"$f":"'Vertical Labels'!Q$122","v":0},{"$f":"'Vertical Labels'!R$122","v":0},{"$f":"'Vertical Labels'!S$122","v":0},{"$f":"'Vertical Labels'!T$122","v":0},{"$f":"'Vertical Labels'!U$122","v":0},{"$f":"'Vertical Labels'!V$122","v":0},{"$f":"'Vertical Labels'!W$122","v":0},{"$f":"'Vertical Labels'!X$122","v":0},{"$f":"'Vertical Labels'!Y$122","v":0},{"$f":"'Vertical Labels'!Z$122","v":0},{"$f":"'Vertical Labels'!AA$122","v":0},{"$f":"'Vertical Labels'!AB$122","v":0},{"$f":"'Vertical Labels'!AC$122","v":0},{"$f":"'Vertical Labels'!AD$122","v":0},{"$f":"'Vertical Labels'!AE$122","v":0},{"$f":"'Vertical Labels'!AF$122","v":0},{"$f":"'Vertical Labels'!AG$122","v":0},{"$f":"'Vertical Labels'!AH$122","v":0},{"$f":"'Vertical Labels'!AI$122","v":0},{"$f":"'Vertical Labels'!AJ$122","v":0},{"$f":"'Vertical Labels'!AK$122","v":0},{"$f":"'Vertical Labels'!AL$122","v":0},{"$f":"'Vertical Labels'!AM$122","v":0},{"$f":"'Vertical Labels'!AN$122","v":0},{"$f":"'Vertical Labels'!AO$122","v":0},{"$f":"'Vertical Labels'!AP$122","v":0},{"$f":"'Vertical Labels'!AQ$122","v":0},{"$f":"'Vertical Labels'!AR$122","v":0},{"$f":"'Vertical Labels'!AS$122","v":0},{"$f":"'Vertical Labels'!AT$122","v":0},{"$f":"'Vertical Labels'!AU$122","v":0},{"$f":"'Vertical Labels'!AV$122","v":0},{"$f":"'Vertical Labels'!AW$122","v":0},{"$f":"'Vertical Labels'!AX$122","v":0},{"$f":"'Vertical Labels'!AY$122","v":0},{"$f":"'Vertical Labels'!AZ$122","v":0},{"$f":"'Vertical Labels'!BA$122","v":0},{"$f":"'Vertical Labels'!BB$122","v":0}]
[null,null,"FIXED",{"$f":"SUM($D$93:D93)","v":0},{"$f":"IF(OR(SUM($D$93:E93)=D94,D94=0),0,SUM($D$93:E93))","v":0},{"$f":"IF(OR(SUM($D$93:F93)=E94,E94=0),0,SUM($D$93:F93))","v":0},{"$f":"IF(OR(SUM($D$93:G93)=F94,F94=0),0,SUM($D$93:G93))","v":0},{"$f":"IF(OR(SUM($D$93:H93)=G94,G94=0),0,SUM($D$93:H93))","v":0},{"$f":"IF(OR(SUM($D$93:I93)=H94,H94=0),0,SUM($D$93:I93))","v":0},{"$f":"IF(OR(SUM($D$93:J93)=I94,I94=0),0,SUM($D$93:J93))","v":0},{"$f":"IF(OR(SUM($D$93:K93)=J94,J94=0),0,SUM($D$93:K93))","v":0},{"$f":"IF(OR(SUM($D$93:L93)=K94,K94=0),0,SUM($D$93:L93))","v":0},{"$f":"IF(OR(SUM($D$93:M93)=L94,L94=0),0,SUM($D$93:M93))","v":0},{"$f":"IF(OR(SUM($D$93:N93)=M94,M94=0),0,SUM($D$93:N93))","v":0},{"$f":"IF(OR(SUM($D$93:O93)=N94,N94=0),0,SUM($D$93:O93))","v":0},{"$f":"IF(OR(SUM($D$93:P93)=O94,O94=0),0,SUM($D$93:P93))","v":0},{"$f":"IF(OR(SUM($D$93:Q93)=P94,P94=0),0,SUM($D$93:Q93))","v":0},{"$f":"IF(OR(SUM($D$93:R93)=Q94,Q94=0),0,SUM($D$93:R93))","v":0},{"$f":"IF(OR(SUM($D$93:S93)=R94,R94=0),0,SUM($D$93:S93))","v":0},{"$f":"IF(OR(SUM($D$93:T93)=S94,S94=0),0,SUM($D$93:T93))","v":0},{"$f":"IF(OR(SUM($D$93:U93)=T94,T94=0),0,SUM($D$93:U93))","v":0},{"$f":"IF(OR(SUM($D$93:V93)=U94,U94=0),0,SUM($D$93:V93))","v":0},{"$f":"IF(OR(SUM($D$93:W93)=V94,V94=0),0,SUM($D$93:W93))","v":0},{"$f":"IF(OR(SUM($D$93:X93)=W94,W94=0),0,SUM($D$93:X93))","v":0},{"$f":"IF(OR(SUM($D$93:Y93)=X94,X94=0),0,SUM($D$93:Y93))","v":0},{"$f":"IF(OR(SUM($D$93:Z93)=Y94,Y94=0),0,SUM($D$93:Z93))","v":0},{"$f":"IF(OR(SUM($D$93:AA93)=Z94,Z94=0),0,SUM($D$93:AA93))","v":0},{"$f":"IF(OR(SUM($D$93:AB93)=AA94,AA94=0),0,SUM($D$93:AB93))","v":0},{"$f":"IF(OR(SUM($D$93:AC93)=AB94,AB94=0),0,SUM($D$93:AC93))","v":0},{"$f":"IF(OR(SUM($D$93:AD93)=AC94,AC94=0),0,SUM($D$93:AD93))","v":0},{"$f":"IF(OR(SUM($D$93:AE93)=AD94,AD94=0),0,SUM($D$93:AE93))","v":0},{"$f":"IF(OR(SUM($D$93:AF93)=AE94,AE94=0),0,SUM($D$93:AF93))","v":0},{"$f":"IF(OR(SUM($D$93:AG93)=AF94,AF94=0),0,SUM($D$93:AG93))","v":0},{"$f":"IF(OR(SUM($D$93:AH93)=AG94,AG94=0),0,SUM($D$93:AH93))","v":0},{"$f":"IF(OR(SUM($D$93:AI93)=AH94,AH94=0),0,SUM($D$93:AI93))","v":0},{"$f":"IF(OR(SUM($D$93:AJ93)=AI94,AI94=0),0,SUM($D$93:AJ93))","v":0},{"$f":"IF(OR(SUM($D$93:AK93)=AJ94,AJ94=0),0,SUM($D$93:AK93))","v":0},{"$f":"IF(OR(SUM($D$93:AL93)=AK94,AK94=0),0,SUM($D$93:AL93))","v":0},{"$f":"IF(OR(SUM($D$93:AM93)=AL94,AL94=0),0,SUM($D$93:AM93))","v":0},{"$f":"IF(OR(SUM($D$93:AN93)=AM94,AM94=0),0,SUM($D$93:AN93))","v":0},{"$f":"IF(OR(SUM($D$93:AO93)=AN94,AN94=0),0,SUM($D$93:AO93))","v":0},{"$f":"IF(OR(SUM($D$93:AP93)=AO94,AO94=0),0,SUM($D$93:AP93))","v":0},{"$f":"IF(OR(SUM($D$93:AQ93)=AP94,AP94=0),0,SUM($D$93:AQ93))","v":0},{"$f":"IF(OR(SUM($D$93:AR93)=AQ94,AQ94=0),0,SUM($D$93:AR93))","v":0},{"$f":"IF(OR(SUM($D$93:AS93)=AR94,AR94=0),0,SUM($D$93:AS93))","v":0},{"$f":"IF(OR(SUM($D$93:AT93)=AS94,AS94=0),0,SUM($D$93:AT93))","v":0},{"$f":"IF(OR(SUM($D$93:AU93)=AT94,AT94=0),0,SUM($D$93:AU93))","v":0},{"$f":"IF(OR(SUM($D$93:AV93)=AU94,AU94=0),0,SUM($D$93:AV93))","v":0},{"$f":"IF(OR(SUM($D$93:AW93)=AV94,AV94=0),0,SUM($D$93:AW93))","v":0},{"$f":"IF(OR(SUM($D$93:AX93)=AW94,AW94=0),0,SUM($D$93:AX93))","v":0},{"$f":"IF(OR(SUM($D$93:AY93)=AX94,AX94=0),0,SUM($D$93:AY93))","v":0},{"$f":"IF(OR(SUM($D$93:AZ93)=AY94,AY94=0),0,SUM($D$93:AZ93))","v":0},{"$f":"IF(OR(SUM($D$93:BA93)=AZ94,AZ94=0),0,SUM($D$93:BA93))","v":0}]
[null,null,"FIXED",{"$f":"'Vertical Labels'!E$122","v":0},{"$f":"'Vertical Labels'!F$122","v":0},{"$f":"'Vertical Labels'!G$122","v":0},{"$f":"'Vertical Labels'!H$122","v":0},{"$f":"'Vertical Labels'!I$122","v":0},{"$f":"'Vertical Labels'!J$122","v":0},{"$f":"'Vertical Labels'!K$122","v":0},{"$f":"'Vertical Labels'!L$122","v":0},{"$f":"'Vertical Labels'!M$122","v":0},{"$f":"'Vertical Labels'!N$122","v":0},{"$f":"'Vertical Labels'!O$122","v":0},{"$f":"'Vertical Labels'!P$122","v":0},{"$f":"'Vertical Labels'!Q$122","v":0},{"$f":"'Vertical Labels'!R$122","v":0},{"$f":"'Vertical Labels'!S$122","v":0},{"$f":"'Vertical Labels'!T$122","v":0},{"$f":"'Vertical Labels'!U$122","v":0},{"$f":"'Vertical Labels'!V$122","v":0},{"$f":"'Vertical Labels'!W$122","v":0},{"$f":"'Vertical Labels'!X$122","v":0},{"$f":"'Vertical Labels'!Y$122","v":0},{"$f":"'Vertical Labels'!Z$122","v":0},{"$f":"'Vertical Labels'!AA$122","v":0},{"$f":"'Vertical Labels'!AB$122","v":0},{"$f":"'Vertical Labels'!AC$122","v":0},{"$f":"'Vertical Labels'!AD$122","v":0},{"$f":"'Vertical Labels'!AE$122","v":0},{"$f":"'Vertical Labels'!AF$122","v":0},{"$f":"'Vertical Labels'!AG$122","v":0},{"$f":"'Vertical Labels'!AH$122","v":0},{"$f":"'Vertical Labels'!AI$122","v":0},{"$f":"'Vertical Labels'!AJ$122","v":0},{"$f":"'Vertical Labels'!AK$122","v":0},{"$f":"'Vertical Labels'!AL$122","v":0},{"$f":"'Vertical Labels'!AM$122","v":0},{"$f":"'Vertical Labels'!AN$122","v":0},{"$f":"'Vertical Labels'!AO$122","v":0},{"$f":"'Vertical Labels'!AP$122","v":0},{"$f":"'Vertical Labels'!AQ$122","v":0},{"$f":"'Vertical Labels'!AR$122","v":0},{"$f":"'Vertical Labels'!AS$122","v":0},{"$f":"'Vertical Labels'!AT$122","v":0},{"$f":"'Vertical Labels'!AU$122","v":0},{"$f":"'Vertical Labels'!AV$122","v":0},{"$f":"'Vertical Labels'!AW$122","v":0},{"$f":"'Vertical Labels'!AX$122","v":0},{"$f":"'Vertical Labels'!AY$122","v":0},{"$f":"'Vertical Labels'!AZ$122","v":0},{"$f":"'Vertical Labels'!BA$122","v":0},{"$f":"'Vertical Labels'!BB$122","v":0}]
[null,null,"RELATIVE",{"$f":"D95","v":0},{"$f":"IF(E95-D95<1,0,E95-D95)","v":0},{"$f":"IF(F95-E95<1,0,F95-E95)","v":0},0,0,0,0,0,0,0,0,0,0,0,0,0,0,0,0,0,0,0,0,0,0,0,0,0,0,0,0,0,0,0,0,0,0,0,0,0,0,0,0,0,0,0,0,0,0,0]
[null,null,"BLOCKS",{"$f":"'Vertical Labels'!E$122","v":0},{"$f":"'Vertical Labels'!F$122","v":0},{"$f":"'Vertical Labels'!G$122","v":0},{"$f":"'Vertical Labels'!H$122","v":0},{"$f":"'Vertical Labels'!I$122","v":0},{"$f":"'Vertical Labels'!J$122","v":0},{"$f":"'Vertical Labels'!K$122","v":0},{"$f":"'Vertical Labels'!L$122","v":0},{"$f":"'Vertical Labels'!M$122","v":0},{"$f":"'Vertical Labels'!N$122","v":0},{"$f":"'Vertical Labels'!O$122","v":0},{"$f":"'Vertical Labels'!P$122","v":0},{"$f":"'Vertical Labels'!Q$122","v":0},{"$f":"'Vertical Labels'!R$122","v":0},{"$f":"'Vertical Labels'!S$122","v":0},{"$f":"'Vertical Labels'!T$122","v":0},{"$f":"'Vertical Labels'!U$122","v":0},{"$f":"'Vertical Labels'!V$122","v":0},{"$f":"'Vertical Labels'!W$122","v":0},{"$f":"'Vertical Labels'!X$122","v":0},{"$f":"'Vertical Labels'!Y$122","v":0},{"$f":"'Vertical Labels'!Z$122","v":0},{"$f":"'Vertical Labels'!AA$122","v":0},{"$f":"'Vertical Labels'!AB$122","v":0},{"$f":"'Vertical Labels'!AC$122","v":0},{"$f":"'Vertical Labels'!AD$122","v":0},{"$f":"'Vertical Labels'!AE$122","v":0},{"$f":"'Vertical Labels'!AF$122","v":0},{"$f":"'Vertical Labels'!AG$122","v":0},{"$f":"'Vertical Labels'!AH$122","v":0},{"$f":"'Vertical Labels'!AI$122","v":0},{"$f":"'Vertical Labels'!AJ$122","v":0},{"$f":"'Vertical Labels'!AK$122","v":0},{"$f":"'Vertical Labels'!AL$122","v":0},{"$f":"'Vertical Labels'!AM$122","v":0},{"$f":"'Vertical Labels'!AN$122","v":0},{"$f":"'Vertical Labels'!AO$122","v":0},{"$f":"'Vertical Labels'!AP$122","v":0},{"$f":"'Vertical Labels'!AQ$122","v":0},{"$f":"'Vertical Labels'!AR$122","v":0},{"$f":"'Vertical Labels'!AS$122","v":0},{"$f":"'Vertical Labels'!AT$122","v":0},{"$f":"'Vertical Labels'!AU$122","v":0},{"$f":"'Vertical Labels'!AV$122","v":0},{"$f":"'Vertical Labels'!AW$122","v":0},{"$f":"'Vertical Labels'!AX$122","v":0},{"$f":"'Vertical Labels'!AY$122","v":0},{"$f":"'Vertical Labels'!AZ$122","v":0},{"$f":"'Vertical Labels'!BA$122","v":0},{"$f":"'Vertical Labels'!BB$122","v":0}]
[null,null,"FIXED",{"$f":"D99","v":0},{"$f":"IF(OR(SUM($D$99:E99)=D98,D98=0),0,SUM($D$99:E99))","v":0},{"$f":"IF(OR(SUM($D$99:F99)=E98,E98=0),0,SUM($D$99:F99))","v":0},{"$f":"IF(OR(SUM($D$99:G99)=F98,F98=0),0,SUM($D$99:G99))","v":0},{"$f":"IF(OR(SUM($D$99:H99)=G98,G98=0),0,SUM($D$99:H99))","v":0},{"$f":"IF(OR(SUM($D$99:I99)=H98,H98=0),0,SUM($D$99:I99))","v":0},{"$f":"IF(OR(SUM($D$99:J99)=I98,I98=0),0,SUM($D$99:J99))","v":0},{"$f":"IF(OR(SUM($D$99:K99)=J98,J98=0),0,SUM($D$99:K99))","v":0},{"$f":"IF(OR(SUM($D$99:L99)=K98,K98=0),0,SUM($D$99:L99))","v":0},{"$f":"IF(OR(SUM($D$99:M99)=L98,L98=0),0,SUM($D$99:M99))","v":0},{"$f":"IF(OR(SUM($D$99:N99)=M98,M98=0),0,SUM($D$99:N99))","v":0},{"$f":"IF(OR(SUM($D$99:O99)=N98,N98=0),0,SUM($D$99:O99))","v":0},{"$f":"IF(OR(SUM($D$99:P99)=O98,O98=0),0,SUM($D$99:P99))","v":0},{"$f":"IF(OR(SUM($D$99:Q99)=P98,P98=0),0,SUM($D$99:Q99))","v":0},{"$f":"IF(OR(SUM($D$99:R99)=Q98,Q98=0),0,SUM($D$99:R99))","v":0},{"$f":"IF(OR(SUM($D$99:S99)=R98,R98=0),0,SUM($D$99:S99))","v":0},{"$f":"IF(OR(SUM($D$99:T99)=S98,S98=0),0,SUM($D$99:T99))","v":0},{"$f":"IF(OR(SUM($D$99:U99)=T98,T98=0),0,SUM($D$99:U99))","v":0},{"$f":"IF(OR(SUM($D$99:V99)=U98,U98=0),0,SUM($D$99:V99))","v":0},{"$f":"IF(OR(SUM($D$99:W99)=V98,V98=0),0,SUM($D$99:W99))","v":0},{"$f":"IF(OR(SUM($D$99:X99)=W98,W98=0),0,SUM($D$99:X99))","v":0},{"$f":"IF(OR(SUM($D$99:Y99)=X98,X98=0),0,SUM($D$99:Y99))","v":0},{"$f":"IF(OR(SUM($D$99:Z99)=Y98,Y98=0),0,SUM($D$99:Z99))","v":0},{"$f":"IF(OR(SUM($D$99:AA99)=Z98,Z98=0),0,SUM($D$99:AA99))","v":0},{"$f":"IF(OR(SUM($D$99:AB99)=AA98,AA98=0),0,SUM($D$99:AB99))","v":0},{"$f":"IF(OR(SUM($D$99:AC99)=AB98,AB98=0),0,SUM($D$99:AC99))","v":0},{"$f":"IF(OR(SUM($D$99:AD99)=AC98,AC98=0),0,SUM($D$99:AD99))","v":0},{"$f":"IF(OR(SUM($D$99:AE99)=AD98,AD98=0),0,SUM($D$99:AE99))","v":0},{"$f":"IF(OR(SUM($D$99:AF99)=AE98,AE98=0),0,SUM($D$99:AF99))","v":0},{"$f":"IF(OR(SUM($D$99:AG99)=AF98,AF98=0),0,SUM($D$99:AG99))","v":0},{"$f":"IF(OR(SUM($D$99:AH99)=AG98,AG98=0),0,SUM($D$99:AH99))","v":0},{"$f":"IF(OR(SUM($D$99:AI99)=AH98,AH98=0),0,SUM($D$99:AI99))","v":0},{"$f":"IF(OR(SUM($D$99:AJ99)=AI98,AI98=0),0,SUM($D$99:AJ99))","v":0},{"$f":"IF(OR(SUM($D$99:AK99)=AJ98,AJ98=0),0,SUM($D$99:AK99))","v":0},{"$f":"IF(OR(SUM($D$99:AL99)=AK98,AK98=0),0,SUM($D$99:AL99))","v":0},{"$f":"IF(OR(SUM($D$99:AM99)=AL98,AL98=0),0,SUM($D$99:AM99))","v":0},{"$f":"IF(OR(SUM($D$99:AN99)=AM98,AM98=0),0,SUM($D$99:AN99))","v":0},{"$f":"IF(OR(SUM($D$99:AO99)=AN98,AN98=0),0,SUM($D$99:AO99))","v":0},{"$f":"IF(OR(SUM($D$99:AP99)=AO98,AO98=0),0,SUM($D$99:AP99))","v":0},{"$f":"IF(OR(SUM($D$99:AQ99)=AP98,AP98=0),0,SUM($D$99:AQ99))","v":0},{"$f":"IF(OR(SUM($D$99:AR99)=AQ98,AQ98=0),0,SUM($D$99:AR99))","v":0},{"$f":"IF(OR(SUM($D$99:AS99)=AR98,AR98=0),0,SUM($D$99:AS99))","v":0},{"$f":"IF(OR(SUM($D$99:AT99)=AS98,AS98=0),0,SUM($D$99:AT99))","v":0},{"$f":"IF(OR(SUM($D$99:AU99)=AT98,AT98=0),0,SUM($D$99:AU99))","v":0},{"$f":"IF(OR(SUM($D$99:AV99)=AU98,AU98=0),0,SUM($D$99:AV99))","v":0},{"$f":"IF(OR(SUM($D$99:AW99)=AV98,AV98=0),0,SUM($D$99:AW99))","v":0},{"$f":"IF(OR(SUM($D$99:AX99)=AW98,AW98=0),0,SUM($D$99:AX99))","v":0},{"$f":"IF(OR(SUM($D$99:AY99)=AX98,AX98=0),0,SUM($D$99:AY99))","v":0},{"$f":"IF(OR(SUM($D$99:AZ99)=AY98,AY98=0),0,SUM($D$99:AZ99))","v":0},{"$f":"IF(OR(SUM($D$99:BA99)=AZ98,AZ98=0),0,SUM($D$99:BA99))","v":0}]
[null,null,"RELATIVE",{"$f":"D97/2","v":0},{"$f":"(D97/2)+(E97/2)","v":0},{"$f":"(E97/2)+(F97/2)","v":0},0,0,0,0,0,0,0,0,0,0,0,0,0,0,0,0,0,0,0,0,0,0,0,0,0,0,0,0,0,0,0,0,0,0,0,0,0,0,0,0,0,0,0,0,0,0,0]
[]
[{"$nulls":3},1,2,3,4,5,6,7,8,9,10,11,12,13,14,15,16,17,18,19,20,21,22,23,24,25,26,27,28,29,30,31,32,33,34,35,36,37,38,39,40,41,42,43,44,45,46,47,48,49,50]
[null,"LABEL 12","RELATIVE",{"$f":"'Vertical Labels'!E$133","v":0},{"$f":"'Vertical Labels'!F$133","v":0},{"$f":"'Vertical Labels'!G$133","v":0},{"$f":"'Vertical Labels'!H$133","v":0},{"$f":"'Vertical Labels'!I$133","v":0},{"$f":"'Vertical Labels'!J$133","v":0},{"$f":"'Vertical Labels'!K$133","v":0},{"$f":"'Vertical Labels'!L$133","v":0},{"$f":"'Vertical Labels'!M$133","v":0},{"$f":"'Vertical Labels'!N$133","v":0},{"$f":"'Vertical Labels'!O$133","v":0},{"$f":"'Vertical Labels'!P$133","v":0},{"$f":"'Vertical Labels'!Q$133","v":0},{"$f":"'Vertical Labels'!R$133","v":0},{"$f":"'Vertical Labels'!S$133","v":0},{"$f":"'Vertical Labels'!T$133","v":0},{"$f":"'Vertical Labels'!U$133","v":0},{"$f":"'Vertical Labels'!V$133","v":0},{"$f":"'Vertical Labels'!W$133","v":0},{"$f":"'Vertical Labels'!X$133","v":0},{"$f":"'Vertical Labels'!Y$133","v":0},{"$f":"'Vertical Labels'!Z$133","v":0},{"$f":"'Vertical Labels'!AA$133","v":0},{"$f":"'Vertical Labels'!AB$133","v":0},{"$f":"'Vertical Labels'!AC$133","v":0},{"$f":"'Vertical Labels'!AD$133","v":0},{"$f":"'Vertical Labels'!AE$133","v":0},{"$f":"'Vertical Labels'!AF$133","v":0},{"$f":"'Vertical Labels'!AG$133","v":0},{"$f":"'Vertical Labels'!AH$133","v":0},{"$f":"'Vertical Labels'!AI$133","v":0},{"$f":"'Vertical Labels'!AJ$133","v":0},{"$f":"'Vertical Labels'!AK$133","v":0},{"$f":"'Vertical Labels'!AL$133","v":0},{"$f":"'Vertical Labels'!AM$133","v":0},{"$f":"'Vertical Labels'!AN$133","v":0},{"$f":"'Vertical Labels'!AO$133","v":0},{"$f":"'Vertical Labels'!AP$133","v":0},{"$f":"'Vertical Labels'!AQ$133","v":0},{"$f":"'Vertical Labels'!AR$133","v":0},{"$f":"'Vertical Labels'!AS$133","v":0},{"$f":"'Vertical Labels'!AT$133","v":0},{"$f":"'Vertical Labels'!AU$133","v":0},{"$f":"'Vertical Labels'!AV$133","v":0},{"$f":"'Vertical Labels'!AW$133","v":0},{"$f":"'Vertical Labels'!AX$133","v":0},{"$f":"'Vertical Labels'!AY$133","v":0},{"$f":"'Vertical Labels'!AZ$133","v":0},{"$f":"'Vertical Labels'!BA$133","v":0},{"$f":"'Vertical Labels'!BB$133","v":0}]
[null,null,"FIXED",{"$f":"SUM($D$102:D102)","v":0},{"$f":"IF(OR(SUM($D$102:E102)=D103,D103=0),0,SUM($D$102:E102))","v":0},{"$f":"IF(OR(SUM($D$102:F102)=E103,E103=0),0,SUM($D$102:F102))","v":0},{"$f":"IF(OR(SUM($D$102:G102)=F103,F103=0),0,SUM($D$102:G102))","v":0},{"$f":"IF(OR(SUM($D$102:H102)=G103,G103=0),0,SUM($D$102:H102))","v":0},{"$f":"IF(OR(SUM($D$102:I102)=H103,H103=0),0,SUM($D$102:I102))","v":0},{"$f":"IF(OR(SUM($D$102:J102)=I103,I103=0),0,SUM($D$102:J102))","v":0},{"$f":"IF(OR(SUM($D$102:K102)=J103,J103=0),0,SUM($D$102:K102))","v":0},{"$f":"IF(OR(SUM($D$102:L102)=K103,K103=0),0,SUM($D$102:L102))","v":0},{"$f":"IF(OR(SUM($D$102:M102)=L103,L103=0),0,SUM($D$102:M102))","v":0},{"$f":"IF(OR(SUM($D$102:N102)=M103,M103=0),0,SUM($D$102:N102))","v":0},{"$f":"IF(OR(SUM($D$102:O102)=N103,N103=0),0,SUM($D$102:O102))","v":0},{"$f":"IF(OR(SUM($D$102:P102)=O103,O103=0),0,SUM($D$102:P102))","v":0},{"$f":"IF(OR(SUM($D$102:Q102)=P103,P103=0),0,SUM($D$102:Q102))","v":0},{"$f":"IF(OR(SUM($D$102:R102)=Q103,Q103=0),0,SUM($D$102:R102))","v":0},{"$f":"IF(OR(SUM($D$102:S102)=R103,R103=0),0,SUM($D$102:S102))","v":0},{"$f":"IF(OR(SUM($D$102:T102)=S103,S103=0),0,SUM($D$102:T102))","v":0},{"$f":"IF(OR(SUM($D$102:U102)=T103,T103=0),0,SUM($D$102:U102))","v":0},{"$f":"IF(OR(SUM($D$102:V102)=U103,U103=0),0,SUM($D$102:V102))","v":0},{"$f":"IF(OR(SUM($D$102:W102)=V103,V103=0),0,SUM($D$102:W102))","v":0},{"$f":"IF(OR(SUM($D$102:X102)=W103,W103=0),0,SUM($D$102:X102))","v":0},{"$f":"IF(OR(SUM($D$102:Y102)=X103,X103=0),0,SUM($D$102:Y102))","v":0},{"$f":"IF(OR(SUM($D$102:Z102)=Y103,Y103=0),0,SUM($D$102:Z102))","v":0},{"$f":"IF(OR(SUM($D$102:AA102)=Z103,Z103=0),0,SUM($D$102:AA102))","v":0},{"$f":"IF(OR(SUM($D$102:AB102)=AA103,AA103=0),0,SUM($D$102:AB102))","v":0},{"$f":"IF(OR(SUM($D$102:AC102)=AB103,AB103=0),0,SUM($D$102:AC102))","v":0},{"$f":"IF(OR(SUM($D$102:AD102)=AC103,AC103=0),0,SUM($D$102:AD102))","v":0},{"$f":"IF(OR(SUM($D$102:AE102)=AD103,AD103=0),0,SUM($D$102:AE102))","v":0},{"$f":"IF(OR(SUM($D$102:AF102)=AE103,AE103=0),0,SUM($D$102:AF102))","v":0},{"$f":"IF(OR(SUM($D$102:AG102)=AF103,AF103=0),0,SUM($D$102:AG102))","v":0},{"$f":"IF(OR(SUM($D$102:AH102)=AG103,AG103=0),0,SUM($D$102:AH102))","v":0},{"$f":"IF(OR(SUM($D$102:AI102)=AH103,AH103=0),0,SUM($D$102:AI102))","v":0},{"$f":"IF(OR(SUM($D$102:AJ102)=AI103,AI103=0),0,SUM($D$102:AJ102))","v":0},{"$f":"IF(OR(SUM($D$102:AK102)=AJ103,AJ103=0),0,SUM($D$102:AK102))","v":0},{"$f":"IF(OR(SUM($D$102:AL102)=AK103,AK103=0),0,SUM($D$102:AL102))","v":0},{"$f":"IF(OR(SUM($D$102:AM102)=AL103,AL103=0),0,SUM($D$102:AM102))","v":0},{"$f":"IF(OR(SUM($D$102:AN102)=AM103,AM103=0),0,SUM($D$102:AN102))","v":0},{"$f":"IF(OR(SUM($D$102:AO102)=AN103,AN103=0),0,SUM($D$102:AO102))","v":0},{"$f":"IF(OR(SUM($D$102:AP102)=AO103,AO103=0),0,SUM($D$102:AP102))","v":0},{"$f":"IF(OR(SUM($D$102:AQ102)=AP103,AP103=0),0,SUM($D$102:AQ102))","v":0},{"$f":"IF(OR(SUM($D$102:AR102)=AQ103,AQ103=0),0,SUM($D$102:AR102))","v":0},{"$f":"IF(OR(SUM($D$102:AS102)=AR103,AR103=0),0,SUM($D$102:AS102))","v":0},{"$f":"IF(OR(SUM($D$102:AT102)=AS103,AS103=0),0,SUM($D$102:AT102))","v":0},{"$f":"IF(OR(SUM($D$102:AU102)=AT103,AT103=0),0,SUM($D$102:AU102))","v":0},{"$f":"IF(OR(SUM($D$102:AV102)=AU103,AU103=0),0,SUM($D$102:AV102))","v":0},{"$f":"IF(OR(SUM($D$102:AW102)=AV103,AV103=0),0,SUM($D$102:AW102))","v":0},{"$f":"IF(OR(SUM($D$102:AX102)=AW103,AW103=0),0,SUM($D$102:AX102))","v":0},{"$f":"IF(OR(SUM($D$102:AY102)=AX103,AX103=0),0,SUM($D$102:AY102))","v":0},{"$f":"IF(OR(SUM($D$102:AZ102)=AY103,AY103=0),0,SUM($D$102:AZ102))","v":0},{"$f":"IF(OR(SUM($D$102:BA102)=AZ103,AZ103=0),0,SUM($D$102:BA102))","v":0}]
[null,null,"FIXED",{"$f":"'Vertical Labels'!E$133","v":0},{"$f":"'Vertical Labels'!F$133","v":0},{"$f":"'Vertical Labels'!G$133","v":0},{"$f":"'Vertical Labels'!H$133","v":0},{"$f":"'Vertical Labels'!I$133","v":0},{"$f":"'Vertical Labels'!J$133","v":0},{"$f":"'Vertical Labels'!K$133","v":0},{"$f":"'Vertical Labels'!L$133","v":0},{"$f":"'Vertical Labels'!M$133","v":0},{"$f":"'Vertical Labels'!N$133","v":0},{"$f":"'Vertical Labels'!O$133","v":0},{"$f":"'Vertical Labels'!P$133","v":0},{"$f":"'Vertical Labels'!Q$133","v":0},{"$f":"'Vertical Labels'!R$133","v":0},{"$f":"'Vertical Labels'!S$133","v":0},{"$f":"'Vertical Labels'!T$133","v":0},{"$f":"'Vertical Labels'!U$133","v":0},{"$f":"'Vertical Labels'!V$133","v":0},{"$f":"'Vertical Labels'!W$133","v":0},{"$f":"'Vertical Labels'!X$133","v":0},{"$f":"'Vertical Labels'!Y$133","v":0},{"$f":"'Vertical Labels'!Z$133","v":0},{"$f":"'Vertical Labels'!AA$133","v":0},{"$f":"'Vertical Labels'!AB$133","v":0},{"$f":"'Vertical Labels'!AC$133","v":0},{"$f":"'Vertical Labels'!AD$133","v":0},{"$f":"'Vertical Labels'!AE$133","v":0},{"$f":"'Vertical Labels'!AF$133","v":0},{"$f":"'Vertical Labels'!AG$133","v":0},{"$f":"'Vertical Labels'!AH$133","v":0},{"$f":"'Vertical Labels'!AI$133","v":0},{"$f":"'Vertical Labels'!AJ$133","v":0},{"$f":"'Vertical Labels'!AK$133","v":0},{"$f":"'Vertical Labels'!AL$133","v":0},{"$f":"'Vertical Labels'!AM$133","v":0},{"$f":"'Vertical Labels'!AN$133","v":0},{"$f":"'Vertical Labels'!AO$133","v":0},{"$f":"'Vertical Labels'!AP$133","v":0},{"$f":"'Vertical Labels'!AQ$133","v":0},{"$f":"'Vertical Labels'!AR$133","v":0},{"$f":"'Vertical Labels'!AS$133","v":0},{"$f":"'Vertical Labels'!AT$133","v":0},{"$f":"'Vertical Labels'!AU$133","v":0},{"$f":"'Vertical Labels'!AV$133","v":0},{"$f":"'Vertical Labels'!AW$133","v":0},{"$f":"'Vertical Labels'!AX$133","v":0},{"$f":"'Vertical Labels'!AY$133","v":0},{"$f":"'Vertical Labels'!AZ$133","v":0},{"$f":"'Vertical Labels'!BA$133","v":0},{"$f":"'Vertical Labels'!BB$133","v":0}]
[null,null,"RELATIVE",{"$f":"D104","v":0},{"$f":"IF(E104-D104<1,0,E104-D104)","v":0},{"$f":"IF(F104-E104<1,0,F104-E104)","v":0},0,0,0,0,0,0,0,0,0,0,0,0,0,0,0,0,0,0,0,0,0,0,0,0,0,0,0,0,0,0,0,0,0,0,0,0,0,0,0,0,0,0,0,0,0,0,0]
[null,null,"BLOCKS",{"$f":"'Vertical Labels'!E$133","v":0},{"$f":"'Vertical Labels'!F$133","v":0},{"$f":"'Vertical Labels'!G$133","v":0},{"$f":"'Vertical Labels'!H$133","v":0},{"$f":"'Vertical Labels'!I$133","v":0},{"$f":"'Vertical Labels'!J$133","v":0},{"$f":"'Vertical Labels'!K$133","v":0},{"$f":"'Vertical Labels'!L$133","v":0},{"$f":"'Vertical Labels'!M$133","v":0},{"$f":"'Vertical Labels'!N$133","v":0},{"$f":"'Vertical Labels'!O$133","v":0},{"$f":"'Vertical Labels'!P$133","v":0},{"$f":"'Vertical Labels'!Q$133","v":0},{"$f":"'Vertical Labels'!R$133","v":0},{"$f":"'Vertical Labels'!S$133","v":0},{"$f":"'Vertical Labels'!T$133","v":0},{"$f":"'Vertical Labels'!U$133","v":0},{"$f":"'Vertical Labels'!V$133","v":0},{"$f":"'Vertical Labels'!W$133","v":0},{"$f":"'Vertical Labels'!X$133","v":0},{"$f":"'Vertical Labels'!Y$133","v":0},{"$f":"'Vertical Labels'!Z$133","v":0},{"$f":"'Vertical Labels'!AA$133","v":0},{"$f":"'Vertical Labels'!AB$133","v":0},{"$f":"'Vertical Labels'!AC$133","v":0},{"$f":"'Vertical Labels'!AD$133","v":0},{"$f":"'Vertical Labels'!AE$133","v":0},{"$f":"'Vertical Labels'!AF$133","v":0},{"$f":"'Vertical Labels'!AG$133","v":0},{"$f":"'Vertical Labels'!AH$133","v":0},{"$f":"'Vertical Labels'!AI$133","v":0},{"$f":"'Vertical Labels'!AJ$133","v":0},{"$f":"'Vertical Labels'!AK$133","v":0},{"$f":"'Vertical Labels'!AL$133","v":0},{"$f":"'Vertical Labels'!AM$133","v":0},{"$f":"'Vertical Labels'!AN$133","v":0},{"$f":"'Vertical Labels'!AO$133","v":0},{"$f":"'Vertical Labels'!AP$133","v":0},{"$f":"'Vertical Labels'!AQ$133","v":0},{"$f":"'Vertical Labels'!AR$133","v":0},{"$f":"'Vertical Labels'!AS$133","v":0},{"$f":"'Vertical Labels'!AT$133","v":0},{"$f":"'Vertical Labels'!AU$133","v":0},{"$f":"'Vertical Labels'!AV$133","v":0},{"$f":"'Vertical Labels'!AW$133","v":0},{"$f":"'Vertical Labels'!AX$133","v":0},{"$f":"'Vertical Labels'!AY$133","v":0},{"$f":"'Vertical Labels'!AZ$133","v":0},{"$f":"'Vertical Labels'!BA$133","v":0},{"$f":"'Vertical Labels'!BB$133","v":0}]
[null,null,"FIXED",{"$f":"D108","v":0},{"$f":"IF(OR(SUM($D$108:E108)=D107,D107=0),0,SUM($D$108:E108))","v":0},{"$f":"IF(OR(SUM($D$108:F108)=E107,E107=0),0,SUM($D$108:F108))","v":0},{"$f":"IF(OR(SUM($D$108:G108)=F107,F107=0),0,SUM($D$108:G108))","v":0},{"$f":"IF(OR(SUM($D$108:H108)=G107,G107=0),0,SUM($D$108:H108))","v":0},{"$f":"IF(OR(SUM($D$108:I108)=H107,H107=0),0,SUM($D$108:I108))","v":0},{"$f":"IF(OR(SUM($D$108:J108)=I107,I107=0),0,SUM($D$108:J108))","v":0},{"$f":"IF(OR(SUM($D$108:K108)=J107,J107=0),0,SUM($D$108:K108))","v":0},{"$f":"IF(OR(SUM($D$108:L108)=K107,K107=0),0,SUM($D$108:L108))","v":0},{"$f":"IF(OR(SUM($D$108:M108)=L107,L107=0),0,SUM($D$108:M108))","v":0},{"$f":"IF(OR(SUM($D$108:N108)=M107,M107=0),0,SUM($D$108:N108))","v":0},{"$f":"IF(OR(SUM($D$108:O108)=N107,N107=0),0,SUM($D$108:O108))","v":0},{"$f":"IF(OR(SUM($D$108:P108)=O107,O107=0),0,SUM($D$108:P108))","v":0},{"$f":"IF(OR(SUM($D$108:Q108)=P107,P107=0),0,SUM($D$108:Q108))","v":0},{"$f":"IF(OR(SUM($D$108:R108)=Q107,Q107=0),0,SUM($D$108:R108))","v":0},{"$f":"IF(OR(SUM($D$108:S108)=R107,R107=0),0,SUM($D$108:S108))","v":0},{"$f":"IF(OR(SUM($D$108:T108)=S107,S107=0),0,SUM($D$108:T108))","v":0},{"$f":"IF(OR(SUM($D$108:U108)=T107,T107=0),0,SUM($D$108:U108))","v":0},{"$f":"IF(OR(SUM($D$108:V108)=U107,U107=0),0,SUM($D$108:V108))","v":0},{"$f":"IF(OR(SUM($D$108:W108)=V107,V107=0),0,SUM($D$108:W108))","v":0},{"$f":"IF(OR(SUM($D$108:X108)=W107,W107=0),0,SUM($D$108:X108))","v":0},{"$f":"IF(OR(SUM($D$108:Y108)=X107,X107=0),0,SUM($D$108:Y108))","v":0},{"$f":"IF(OR(SUM($D$108:Z108)=Y107,Y107=0),0,SUM($D$108:Z108))","v":0},{"$f":"IF(OR(SUM($D$108:AA108)=Z107,Z107=0),0,SUM($D$108:AA108))","v":0},{"$f":"IF(OR(SUM($D$108:AB108)=AA107,AA107=0),0,SUM($D$108:AB108))","v":0},{"$f":"IF(OR(SUM($D$108:AC108)=AB107,AB107=0),0,SUM($D$108:AC108))","v":0},{"$f":"IF(OR(SUM($D$108:AD108)=AC107,AC107=0),0,SUM($D$108:AD108))","v":0},{"$f":"IF(OR(SUM($D$108:AE108)=AD107,AD107=0),0,SUM($D$108:AE108))","v":0},{"$f":"IF(OR(SUM($D$108:AF108)=AE107,AE107=0),0,SUM($D$108:AF108))","v":0},{"$f":"IF(OR(SUM($D$108:AG108)=AF107,AF107=0),0,SUM($D$108:AG108))","v":0},{"$f":"IF(OR(SUM($D$108:AH108)=AG107,AG107=0),0,SUM($D$108:AH108))","v":0},{"$f":"IF(OR(SUM($D$108:AI108)=AH107,AH107=0),0,SUM($D$108:AI108))","v":0},{"$f":"IF(OR(SUM($D$108:AJ108)=AI107,AI107=0),0,SUM($D$108:AJ108))","v":0},{"$f":"IF(OR(SUM($D$108:AK108)=AJ107,AJ107=0),0,SUM($D$108:AK108))","v":0},{"$f":"IF(OR(SUM($D$108:AL108)=AK107,AK107=0),0,SUM($D$108:AL108))","v":0},{"$f":"IF(OR(SUM($D$108:AM108)=AL107,AL107=0),0,SUM($D$108:AM108))","v":0},{"$f":"IF(OR(SUM($D$108:AN108)=AM107,AM107=0),0,SUM($D$108:AN108))","v":0},{"$f":"IF(OR(SUM($D$108:AO108)=AN107,AN107=0),0,SUM($D$108:AO108))","v":0},{"$f":"IF(OR(SUM($D$108:AP108)=AO107,AO107=0),0,SUM($D$108:AP108))","v":0},{"$f":"IF(OR(SUM($D$108:AQ108)=AP107,AP107=0),0,SUM($D$108:AQ108))","v":0},{"$f":"IF(OR(SUM($D$108:AR108)=AQ107,AQ107=0),0,SUM($D$108:AR108))","v":0},{"$f":"IF(OR(SUM($D$108:AS108)=AR107,AR107=0),0,SUM($D$108:AS108))","v":0},{"$f":"IF(OR(SUM($D$108:AT108)=AS107,AS107=0),0,SUM($D$108:AT108))","v":0},{"$f":"IF(OR(SUM($D$108:AU108)=AT107,AT107=0),0,SUM($D$108:AU108))","v":0},{"$f":"IF(OR(SUM($D$108:AV108)=AU107,AU107=0),0,SUM($D$108:AV108))","v":0},{"$f":"IF(OR(SUM($D$108:AW108)=AV107,AV107=0),0,SUM($D$108:AW108))","v":0},{"$f":"IF(OR(SUM($D$108:AX108)=AW107,AW107=0),0,SUM($D$108:AX108))","v":0},{"$f":"IF(OR(SUM($D$108:AY108)=AX107,AX107=0),0,SUM($D$108:AY108))","v":0},{"$f":"IF(OR(SUM($D$108:AZ108)=AY107,AY107=0),0,SUM($D$108:AZ108))","v":0},{"$f":"IF(OR(SUM($D$108:BA108)=AZ107,AZ107=0),0,SUM($D$108:BA108))","v":0}]
[null,null,"RELATIVE",{"$f":"D106/2","v":0},{"$f":"(D106/2)+(E106/2)","v":0},{"$f":"(E106/2)+(F106/2)","v":0},0,0,0,0,0,0,0,0,0,0,0,0,0,0,0,0,0,0,0,0,0,0,0,0,0,0,0,0,0,0,0,0,0,0,0,0,0,0,0,0,0,0,0,0,0,0,0]
[]
[{"$nulls":3},1,2,3,4,5,6,7,8,9,10,11,12,13,14,15,16,17,18,19,20,21,22,23,24,25,26,27,28,29,30,31,32,33,34,35,36,37,38,39,40,41,42,43,44,45,46,47,48,49,50]
[null,"LABEL 13","RELATIVE",{"$f":"'Vertical Labels'!E$144","v":0},{"$f":"'Vertical Labels'!F$144","v":0},{"$f":"'Vertical Labels'!G$144","v":0},{"$f":"'Vertical Labels'!H$144","v":0},{"$f":"'Vertical Labels'!I$144","v":0},{"$f":"'Vertical Labels'!J$144","v":0},{"$f":"'Vertical Labels'!K$144","v":0},{"$f":"'Vertical Labels'!L$144","v":0},{"$f":"'Vertical Labels'!M$144","v":0},{"$f":"'Vertical Labels'!N$144","v":0},{"$f":"'Vertical Labels'!O$144","v":0},{"$f":"'Vertical Labels'!P$144","v":0},{"$f":"'Vertical Labels'!Q$144","v":0},{"$f":"'Vertical Labels'!R$144","v":0},{"$f":"'Vertical Labels'!S$144","v":0},{"$f":"'Vertical Labels'!T$144","v":0},{"$f":"'Vertical Labels'!U$144","v":0},{"$f":"'Vertical Labels'!V$144","v":0},{"$f":"'Vertical Labels'!W$144","v":0},{"$f":"'Vertical Labels'!X$144","v":0},{"$f":"'Vertical Labels'!Y$144","v":0},{"$f":"'Vertical Labels'!Z$144","v":0},{"$f":"'Vertical Labels'!AA$144","v":0},{"$f":"'Vertical Labels'!AB$144","v":0},{"$f":"'Vertical Labels'!AC$144","v":0},{"$f":"'Vertical Labels'!AD$144","v":0},{"$f":"'Vertical Labels'!AE$144","v":0},{"$f":"'Vertical Labels'!AF$144","v":0},{"$f":"'Vertical Labels'!AG$144","v":0},{"$f":"'Vertical Labels'!AH$144","v":0},{"$f":"'Vertical Labels'!AI$144","v":0},{"$f":"'Vertical Labels'!AJ$144","v":0},{"$f":"'Vertical Labels'!AK$144","v":0},{"$f":"'Vertical Labels'!AL$144","v":0},{"$f":"'Vertical Labels'!AM$144","v":0},{"$f":"'Vertical Labels'!AN$144","v":0},{"$f":"'Vertical Labels'!AO$144","v":0},{"$f":"'Vertical Labels'!AP$144","v":0},{"$f":"'Vertical Labels'!AQ$144","v":0},{"$f":"'Vertical Labels'!AR$144","v":0},{"$f":"'Vertical Labels'!AS$144","v":0},{"$f":"'Vertical Labels'!AT$144","v":0},{"$f":"'Vertical Labels'!AU$144","v":0},{"$f":"'Vertical Labels'!AV$144","v":0},{"$f":"'Vertical Labels'!AW$144","v":0},{"$f":"'Vertical Labels'!AX$144","v":0},{"$f":"'Vertical Labels'!AY$144","v":0},{"$f":"'Vertical Labels'!AZ$144","v":0},{"$f":"'Vertical Labels'!BA$144","v":0},{"$f":"'Vertical Labels'!BB$144","v":0}]
[null,null,"FIXED",{"$f":"SUM($D$111:D111)","v":0},{"$f":"IF(OR(SUM($D$111:E111)=D112,D112=0),0,SUM($D$111:E111))","v":0},{"$f":"IF(OR(SUM($D$111:F111)=E112,E112=0),0,SUM($D$111:F111))","v":0},{"$f":"IF(OR(SUM($D$111:G111)=F112,F112=0),0,SUM($D$111:G111))","v":0},{"$f":"IF(OR(SUM($D$111:H111)=G112,G112=0),0,SUM($D$111:H111))","v":0},{"$f":"IF(OR(SUM($D$111:I111)=H112,H112=0),0,SUM($D$111:I111))","v":0},{"$f":"IF(OR(SUM($D$111:J111)=I112,I112=0),0,SUM($D$111:J111))","v":0},{"$f":"IF(OR(SUM($D$111:K111)=J112,J112=0),0,SUM($D$111:K111))","v":0},{"$f":"IF(OR(SUM($D$111:L111)=K112,K112=0),0,SUM($D$111:L111))","v":0},{"$f":"IF(OR(SUM($D$111:M111)=L112,L112=0),0,SUM($D$111:M111))","v":0},{"$f":"IF(OR(SUM($D$111:N111)=M112,M112=0),0,SUM($D$111:N111))","v":0},{"$f":"IF(OR(SUM($D$111:O111)=N112,N112=0),0,SUM($D$111:O111))","v":0},{"$f":"IF(OR(SUM($D$111:P111)=O112,O112=0),0,SUM($D$111:P111))","v":0},{"$f":"IF(OR(SUM($D$111:Q111)=P112,P112=0),0,SUM($D$111:Q111))","v":0},{"$f":"IF(OR(SUM($D$111:R111)=Q112,Q112=0),0,SUM($D$111:R111))","v":0},{"$f":"IF(OR(SUM($D$111:S111)=R112,R112=0),0,SUM($D$111:S111))","v":0},{"$f":"IF(OR(SUM($D$111:T111)=S112,S112=0),0,SUM($D$111:T111))","v":0},{"$f":"IF(OR(SUM($D$111:U111)=T112,T112=0),0,SUM($D$111:U111))","v":0},{"$f":"IF(OR(SUM($D$111:V111)=U112,U112=0),0,SUM($D$111:V111))","v":0},{"$f":"IF(OR(SUM($D$111:W111)=V112,V112=0),0,SUM($D$111:W111))","v":0},{"$f":"IF(OR(SUM($D$111:X111)=W112,W112=0),0,SUM($D$111:X111))","v":0},{"$f":"IF(OR(SUM($D$111:Y111)=X112,X112=0),0,SUM($D$111:Y111))","v":0},{"$f":"IF(OR(SUM($D$111:Z111)=Y112,Y112=0),0,SUM($D$111:Z111))","v":0},{"$f":"IF(OR(SUM($D$111:AA111)=Z112,Z112=0),0,SUM($D$111:AA111))","v":0},{"$f":"IF(OR(SUM($D$111:AB111)=AA112,AA112=0),0,SUM($D$111:AB111))","v":0},{"$f":"IF(OR(SUM($D$111:AC111)=AB112,AB112=0),0,SUM($D$111:AC111))","v":0},{"$f":"IF(OR(SUM($D$111:AD111)=AC112,AC112=0),0,SUM($D$111:AD111))","v":0},{"$f":"IF(OR(SUM($D$111:AE111)=AD112,AD112=0),0,SUM($D$111:AE111))","v":0},{"$f":"IF(OR(SUM($D$111:AF111)=AE112,AE112=0),0,SUM($D$111:AF111))","v":0},{"$f":"IF(OR(SUM($D$111:AG111)=AF112,AF112=0),0,SUM($D$111:AG111))","v":0},{"$f":"IF(OR(SUM($D$111:AH111)=AG112,AG112=0),0,SUM($D$111:AH111))","v":0},{"$f":"IF(OR(SUM($D$111:AI111)=AH112,AH112=0),0,SUM($D$111:AI111))","v":0},{"$f":"IF(OR(SUM($D$111:AJ111)=AI112,AI112=0),0,SUM($D$111:AJ111))","v":0},{"$f":"IF(OR(SUM($D$111:AK111)=AJ112,AJ112=0),0,SUM($D$111:AK111))","v":0},{"$f":"IF(OR(SUM($D$111:AL111)=AK112,AK112=0),0,SUM($D$111:AL111))","v":0},{"$f":"IF(OR(SUM($D$111:AM111)=AL112,AL112=0),0,SUM($D$111:AM111))","v":0},{"$f":"IF(OR(SUM($D$111:AN111)=AM112,AM112=0),0,SUM($D$111:AN111))","v":0},{"$f":"IF(OR(SUM($D$111:AO111)=AN112,AN112=0),0,SUM($D$111:AO111))","v":0},{"$f":"IF(OR(SUM($D$111:AP111)=AO112,AO112=0),0,SUM($D$111:AP111))","v":0},{"$f":"IF(OR(SUM($D$111:AQ111)=AP112,AP112=0),0,SUM($D$111:AQ111))","v":0},{"$f":"IF(OR(SUM($D$111:AR111)=AQ112,AQ112=0),0,SUM($D$111:AR111))","v":0},{"$f":"IF(OR(SUM($D$111:AS111)=AR112,AR112=0),0,SUM($D$111:AS111))","v":0},{"$f":"IF(OR(SUM($D$111:AT111)=AS112,AS112=0),0,SUM($D$111:AT111))","v":0},{"$f":"IF(OR(SUM($D$111:AU111)=AT112,AT112=0),0,SUM($D$111:AU111))","v":0},{"$f":"IF(OR(SUM($D$111:AV111)=AU112,AU112=0),0,SUM($D$111:AV111))","v":0},{"$f":"IF(OR(SUM($D$111:AW111)=AV112,AV112=0),0,SUM($D$111:AW111))","v":0},{"$f":"IF(OR(SUM($D$111:AX111)=AW112,AW112=0),0,SUM($D$111:AX111))","v":0},{"$f":"IF(OR(SUM($D$111:AY111)=AX112,AX112=0),0,SUM($D$111:AY111))","v":0},{"$f":"IF(OR(SUM($D$111:AZ111)=AY112,AY112=0),0,SUM($D$111:AZ111))","v":0},{"$f":"IF(OR(SUM($D$111:BA111)=AZ112,AZ112=0),0,SUM($D$111:BA111))","v":0}]
[null,null,"FIXED",{"$f":"'Vertical Labels'!E$144","v":0},{"$f":"'Vertical Labels'!F$144","v":0},{"$f":"'Vertical Labels'!G$144","v":0},{"$f":"'Vertical Labels'!H$144","v":0},{"$f":"'Vertical Labels'!I$144","v":0},{"$f":"'Vertical Labels'!J$144","v":0},{"$f":"'Vertical Labels'!K$144","v":0},{"$f":"'Vertical Labels'!L$144","v":0},{"$f":"'Vertical Labels'!M$144","v":0},{"$f":"'Vertical Labels'!N$144","v":0},{"$f":"'Vertical Labels'!O$144","v":0},{"$f":"'Vertical Labels'!P$144","v":0},{"$f":"'Vertical Labels'!Q$144","v":0},{"$f":"'Vertical Labels'!R$144","v":0},{"$f":"'Vertical Labels'!S$144","v":0},{"$f":"'Vertical Labels'!T$144","v":0},{"$f":"'Vertical Labels'!U$144","v":0},{"$f":"'Vertical Labels'!V$144","v":0},{"$f":"'Vertical Labels'!W$144","v":0},{"$f":"'Vertical Labels'!X$144","v":0},{"$f":"'Vertical Labels'!Y$144","v":0},{"$f":"'Vertical Labels'!Z$144","v":0},{"$f":"'Vertical Labels'!AA$144","v":0},{"$f":"'Vertical Labels'!AB$144","v":0},{"$f":"'Vertical Labels'!AC$144","v":0},{"$f":"'Vertical Labels'!AD$144","v":0},{"$f":"'Vertical Labels'!AE$144","v":0},{"$f":"'Vertical Labels'!AF$144","v":0},{"$f":"'Vertical Labels'!AG$144","v":0},{"$f":"'Vertical Labels'!AH$144","v":0},{"$f":"'Vertical Labels'!AI$144","v":0},{"$f":"'Vertical Labels'!AJ$144","v":0},{"$f":"'Vertical Labels'!AK$144","v":0},{"$f":"'Vertical Labels'!AL$144","v":0},{"$f":"'Vertical Labels'!AM$144","v":0},{"$f":"'Vertical Labels'!AN$144","v":0},{"$f":"'Vertical Labels'!AO$144","v":0},{"$f":"'Vertical Labels'!AP$144","v":0},{"$f":"'Vertical Labels'!AQ$144","v":0},{"$f":"'Vertical Labels'!AR$144","v":0},{"$f":"'Vertical Labels'!AS$144","v":0},{"$f":"'Vertical Labels'!AT$144","v":0},{"$f":"'Vertical Labels'!AU$144","v":0},{"$f":"'Vertical Labels'!AV$144","v":0},{"$f":"'Vertical Labels'!AW$144","v":0},{"$f":"'Vertical Labels'!AX$144","v":0},{"$f":"'Vertical Labels'!AY$144","v":0},{"$f":"'Vertical Labels'!AZ$144","v":0},{"$f":"'Vertical Labels'!BA$144","v":0},{"$f":"'Vertical Labels'!BB$144","v":0}]
[null,null,"RELATIVE",{"$f":"D113","v":0},{"$f":"IF(E113-D113<1,0,E113-D113)","v":0},{"$f":"IF(F113-E113<1,0,F113-E113)","v":0},0,0,0,0,0,0,0,0,0,0,0,0,0,0,0,0,0,0,0,0,0,0,0,0,0,0,0,0,0,0,0,0,0,0,0,0,0,0,0,0,0,0,0,0,0,0,0]
[null,null,"BLOCKS",{"$f":"'Vertical Labels'!E$144","v":0},{"$f":"'Vertical Labels'!F$144","v":0},{"$f":"'Vertical Labels'!G$144","v":0},{"$f":"'Vertical Labels'!H$144","v":0},{"$f":"'Vertical Labels'!I$144","v":0},{"$f":"'Vertical Labels'!J$144","v":0},{"$f":"'Vertical Labels'!K$144","v":0},{"$f":"'Vertical Labels'!L$144","v":0},{"$f":"'Vertical Labels'!M$144","v":0},{"$f":"'Vertical Labels'!N$144","v":0},{"$f":"'Vertical Labels'!O$144","v":0},{"$f":"'Vertical Labels'!P$144","v":0},{"$f":"'Vertical Labels'!Q$144","v":0},{"$f":"'Vertical Labels'!R$144","v":0},{"$f":"'Vertical Labels'!S$144","v":0},{"$f":"'Vertical Labels'!T$144","v":0},{"$f":"'Vertical Labels'!U$144","v":0},{"$f":"'Vertical Labels'!V$144","v":0},{"$f":"'Vertical Labels'!W$144","v":0},{"$f":"'Vertical Labels'!X$144","v":0},{"$f":"'Vertical Labels'!Y$144","v":0},{"$f":"'Vertical Labels'!Z$144","v":0},{"$f":"'Vertical Labels'!AA$144","v":0},{"$f":"'Vertical Labels'!AB$144","v":0},{"$f":"'Vertical Labels'!AC$144","v":0},{"$f":"'Vertical Labels'!AD$144","v":0},{"$f":"'Vertical Labels'!AE$144","v":0},{"$f":"'Vertical Labels'!AF$144","v":0},{"$f":"'Vertical Labels'!AG$144","v":0},{"$f":"'Vertical Labels'!AH$144","v":0},{"$f":"'Vertical Labels'!AI$144","v":0},{"$f":"'Vertical Labels'!AJ$144","v":0},{"$f":"'Vertical Labels'!AK$144","v":0},{"$f":"'Vertical Labels'!AL$144","v":0},{"$f":"'Vertical Labels'!AM$144","v":0},{"$f":"'Vertical Labels'!AN$144","v":0},{"$f":"'Vertical Labels'!AO$144","v":0},{"$f":"'Vertical Labels'!AP$144","v":0},{"$f":"'Vertical Labels'!AQ$144","v":0},{"$f":"'Vertical Labels'!AR$144","v":0},{"$f":"'Vertical Labels'!AS$144","v":0},{"$f":"'Vertical Labels'!AT$144","v":0},{"$f":"'Vertical Labels'!AU$144","v":0},{"$f":"'Vertical Labels'!AV$144","v":0},{"$f":"'Vertical Labels'!AW$144","v":0},{"$f":"'Vertical Labels'!AX$144","v":0},{"$f":"'Vertical Labels'!AY$144","v":0},{"$f":"'Vertical Labels'!AZ$144","v":0},{"$f":"'Vertical Labels'!BA$144","v":0},{"$f":"'Vertical Labels'!BB$144","v":0}]
[null,null,"FIXED",{"$f":"D117","v":0},{"$f":"IF(OR(SUM($D$117:E117)=D116,D116=0),0,SUM($D$117:E117))","v":0},{"$f":"IF(OR(SUM($D$117:F117)=E116,E116=0),0,SUM($D$117:F117))","v":0},{"$f":"IF(OR(SUM($D$117:G117)=F116,F116=0),0,SUM($D$117:G117))","v":0},{"$f":"IF(OR(SUM($D$117:H117)=G116,G116=0),0,SUM($D$117:H117))","v":0},{"$f":"IF(OR(SUM($D$117:I117)=H116,H116=0),0,SUM($D$117:I117))","v":0},{"$f":"IF(OR(SUM($D$117:J117)=I116,I116=0),0,SUM($D$117:J117))","v":0},{"$f":"IF(OR(SUM($D$117:K117)=J116,J116=0),0,SUM($D$117:K117))","v":0},{"$f":"IF(OR(SUM($D$117:L117)=K116,K116=0),0,SUM($D$117:L117))","v":0},{"$f":"IF(OR(SUM($D$117:M117)=L116,L116=0),0,SUM($D$117:M117))","v":0},{"$f":"IF(OR(SUM($D$117:N117)=M116,M116=0),0,SUM($D$117:N117))","v":0},{"$f":"IF(OR(SUM($D$117:O117)=N116,N116=0),0,SUM($D$117:O117))","v":0},{"$f":"IF(OR(SUM($D$117:P117)=O116,O116=0),0,SUM($D$117:P117))","v":0},{"$f":"IF(OR(SUM($D$117:Q117)=P116,P116=0),0,SUM($D$117:Q117))","v":0},{"$f":"IF(OR(SUM($D$117:R117)=Q116,Q116=0),0,SUM($D$117:R117))","v":0},{"$f":"IF(OR(SUM($D$117:S117)=R116,R116=0),0,SUM($D$117:S117))","v":0},{"$f":"IF(OR(SUM($D$117:T117)=S116,S116=0),0,SUM($D$117:T117))","v":0},{"$f":"IF(OR(SUM($D$117:U117)=T116,T116=0),0,SUM($D$117:U117))","v":0},{"$f":"IF(OR(SUM($D$117:V117)=U116,U116=0),0,SUM($D$117:V117))","v":0},{"$f":"IF(OR(SUM($D$117:W117)=V116,V116=0),0,SUM($D$117:W117))","v":0},{"$f":"IF(OR(SUM($D$117:X117)=W116,W116=0),0,SUM($D$117:X117))","v":0},{"$f":"IF(OR(SUM($D$117:Y117)=X116,X116=0),0,SUM($D$117:Y117))","v":0},{"$f":"IF(OR(SUM($D$117:Z117)=Y116,Y116=0),0,SUM($D$117:Z117))","v":0},{"$f":"IF(OR(SUM($D$117:AA117)=Z116,Z116=0),0,SUM($D$117:AA117))","v":0},{"$f":"IF(OR(SUM($D$117:AB117)=AA116,AA116=0),0,SUM($D$117:AB117))","v":0},{"$f":"IF(OR(SUM($D$117:AC117)=AB116,AB116=0),0,SUM($D$117:AC117))","v":0},{"$f":"IF(OR(SUM($D$117:AD117)=AC116,AC116=0),0,SUM($D$117:AD117))","v":0},{"$f":"IF(OR(SUM($D$117:AE117)=AD116,AD116=0),0,SUM($D$117:AE117))","v":0},{"$f":"IF(OR(SUM($D$117:AF117)=AE116,AE116=0),0,SUM($D$117:AF117))","v":0},{"$f":"IF(OR(SUM($D$117:AG117)=AF116,AF116=0),0,SUM($D$117:AG117))","v":0},{"$f":"IF(OR(SUM($D$117:AH117)=AG116,AG116=0),0,SUM($D$117:AH117))","v":0},{"$f":"IF(OR(SUM($D$117:AI117)=AH116,AH116=0),0,SUM($D$117:AI117))","v":0},{"$f":"IF(OR(SUM($D$117:AJ117)=AI116,AI116=0),0,SUM($D$117:AJ117))","v":0},{"$f":"IF(OR(SUM($D$117:AK117)=AJ116,AJ116=0),0,SUM($D$117:AK117))","v":0},{"$f":"IF(OR(SUM($D$117:AL117)=AK116,AK116=0),0,SUM($D$117:AL117))","v":0},{"$f":"IF(OR(SUM($D$117:AM117)=AL116,AL116=0),0,SUM($D$117:AM117))","v":0},{"$f":"IF(OR(SUM($D$117:AN117)=AM116,AM116=0),0,SUM($D$117:AN117))","v":0},{"$f":"IF(OR(SUM($D$117:AO117)=AN116,AN116=0),0,SUM($D$117:AO117))","v":0},{"$f":"IF(OR(SUM($D$117:AP117)=AO116,AO116=0),0,SUM($D$117:AP117))","v":0},{"$f":"IF(OR(SUM($D$117:AQ117)=AP116,AP116=0),0,SUM($D$117:AQ117))","v":0},{"$f":"IF(OR(SUM($D$117:AR117)=AQ116,AQ116=0),0,SUM($D$117:AR117))","v":0},{"$f":"IF(OR(SUM($D$117:AS117)=AR116,AR116=0),0,SUM($D$117:AS117))","v":0},{"$f":"IF(OR(SUM($D$117:AT117)=AS116,AS116=0),0,SUM($D$117:AT117))","v":0},{"$f":"IF(OR(SUM($D$117:AU117)=AT116,AT116=0),0,SUM($D$117:AU117))","v":0},{"$f":"IF(OR(SUM($D$117:AV117)=AU116,AU116=0),0,SUM($D$117:AV117))","v":0},{"$f":"IF(OR(SUM($D$117:AW117)=AV116,AV116=0),0,SUM($D$117:AW117))","v":0},{"$f":"IF(OR(SUM($D$117:AX117)=AW116,AW116=0),0,SUM($D$117:AX117))","v":0},{"$f":"IF(OR(SUM($D$117:AY117)=AX116,AX116=0),0,SUM($D$117:AY117))","v":0},{"$f":"IF(OR(SUM($D$117:AZ117)=AY116,AY116=0),0,SUM($D$117:AZ117))","v":0},{"$f":"IF(OR(SUM($D$117:BA117)=AZ116,AZ116=0),0,SUM($D$117:BA117))","v":0}]
[null,null,"RELATIVE",{"$f":"D115/2","v":0},{"$f":"(D115/2)+(E115/2)","v":0},{"$f":"(E115/2)+(F115/2)","v":0},0,0,0,0,0,0,0,0,0,0,0,0,0,0,0,0,0,0,0,0,0,0,0,0,0,0,0,0,0,0,0,0,0,0,0,0,0,0,0,0,0,0,0,0,0,0,0]
[]
[{"$nulls":3},1,2,3,4,5,6,7,8,9,10,11,12,13,14,15,16,17,18,19,20,21,22,23,24,25,26,27,28,29,30,31,32,33,34,35,36,37,38,39,40,41,42,43,44,45,46,47,48,49,50]
[null,"LABEL 14","RELATIVE",{"$f":"'Vertical Labels'!E$155","v":0},{"$f":"'Vertical Labels'!F$155","v":0},{"$f":"'Vertical Labels'!G$155","v":0},{"$f":"'Vertical Labels'!H$155","v":0},{"$f":"'Vertical Labels'!I$155","v":0},{"$f":"'Vertical Labels'!J$155","v":0},{"$f":"'Vertical Labels'!K$155","v":0},{"$f":"'Vertical Labels'!L$155","v":0},{"$f":"'Vertical Labels'!M$155","v":0},{"$f":"'Vertical Labels'!N$155","v":0},{"$f":"'Vertical Labels'!O$155","v":0},{"$f":"'Vertical Labels'!P$155","v":0},{"$f":"'Vertical Labels'!Q$155","v":0},{"$f":"'Vertical Labels'!R$155","v":0},{"$f":"'Vertical Labels'!S$155","v":0},{"$f":"'Vertical Labels'!T$155","v":0},{"$f":"'Vertical Labels'!U$155","v":0},{"$f":"'Vertical Labels'!V$155","v":0},{"$f":"'Vertical Labels'!W$155","v":0},{"$f":"'Vertical Labels'!X$155","v":0},{"$f":"'Vertical Labels'!Y$155","v":0},{"$f":"'Vertical Labels'!Z$155","v":0},{"$f":"'Vertical Labels'!AA$155","v":0},{"$f":"'Vertical Labels'!AB$155","v":0},{"$f":"'Vertical Labels'!AC$155","v":0},{"$f":"'Vertical Labels'!AD$155","v":0},{"$f":"'Vertical Labels'!AE$155","v":0},{"$f":"'Vertical Labels'!AF$155","v":0},{"$f":"'Vertical Labels'!AG$155","v":0},{"$f":"'Vertical Labels'!AH$155","v":0},{"$f":"'Vertical Labels'!AI$155","v":0},{"$f":"'Vertical Labels'!AJ$155","v":0},{"$f":"'Vertical Labels'!AK$155","v":0},{"$f":"'Vertical Labels'!AL$155","v":0},{"$f":"'Vertical Labels'!AM$155","v":0},{"$f":"'Vertical Labels'!AN$155","v":0},{"$f":"'Vertical Labels'!AO$155","v":0},{"$f":"'Vertical Labels'!AP$155","v":0},{"$f":"'Vertical Labels'!AQ$155","v":0},{"$f":"'Vertical Labels'!AR$155","v":0},{"$f":"'Vertical Labels'!AS$155","v":0},{"$f":"'Vertical Labels'!AT$155","v":0},{"$f":"'Vertical Labels'!AU$155","v":0},{"$f":"'Vertical Labels'!AV$155","v":0},{"$f":"'Vertical Labels'!AW$155","v":0},{"$f":"'Vertical Labels'!AX$155","v":0},{"$f":"'Vertical Labels'!AY$155","v":0},{"$f":"'Vertical Labels'!AZ$155","v":0},{"$f":"'Vertical Labels'!BA$155","v":0},{"$f":"'Vertical Labels'!BB$155","v":0}]
[null,null,"FIXED",{"$f":"SUM($D$120:D120)","v":0},{"$f":"IF(OR(SUM($D$120:E120)=D121,D121=0),0,SUM($D$120:E120))","v":0},{"$f":"IF(OR(SUM($D$120:F120)=E121,E121=0),0,SUM($D$120:F120))","v":0},{"$f":"IF(OR(SUM($D$120:G120)=F121,F121=0),0,SUM($D$120:G120))","v":0},{"$f":"IF(OR(SUM($D$120:H120)=G121,G121=0),0,SUM($D$120:H120))","v":0},{"$f":"IF(OR(SUM($D$120:I120)=H121,H121=0),0,SUM($D$120:I120))","v":0},{"$f":"IF(OR(SUM($D$120:J120)=I121,I121=0),0,SUM($D$120:J120))","v":0},{"$f":"IF(OR(SUM($D$120:K120)=J121,J121=0),0,SUM($D$120:K120))","v":0},{"$f":"IF(OR(SUM($D$120:L120)=K121,K121=0),0,SUM($D$120:L120))","v":0},{"$f":"IF(OR(SUM($D$120:M120)=L121,L121=0),0,SUM($D$120:M120))","v":0},{"$f":"IF(OR(SUM($D$120:N120)=M121,M121=0),0,SUM($D$120:N120))","v":0},{"$f":"IF(OR(SUM($D$120:O120)=N121,N121=0),0,SUM($D$120:O120))","v":0},{"$f":"IF(OR(SUM($D$120:P120)=O121,O121=0),0,SUM($D$120:P120))","v":0},{"$f":"IF(OR(SUM($D$120:Q120)=P121,P121=0),0,SUM($D$120:Q120))","v":0},{"$f":"IF(OR(SUM($D$120:R120)=Q121,Q121=0),0,SUM($D$120:R120))","v":0},{"$f":"IF(OR(SUM($D$120:S120)=R121,R121=0),0,SUM($D$120:S120))","v":0},{"$f":"IF(OR(SUM($D$120:T120)=S121,S121=0),0,SUM($D$120:T120))","v":0},{"$f":"IF(OR(SUM($D$120:U120)=T121,T121=0),0,SUM($D$120:U120))","v":0},{"$f":"IF(OR(SUM($D$120:V120)=U121,U121=0),0,SUM($D$120:V120))","v":0},{"$f":"IF(OR(SUM($D$120:W120)=V121,V121=0),0,SUM($D$120:W120))","v":0},{"$f":"IF(OR(SUM($D$120:X120)=W121,W121=0),0,SUM($D$120:X120))","v":0},{"$f":"IF(OR(SUM($D$120:Y120)=X121,X121=0),0,SUM($D$120:Y120))","v":0},{"$f":"IF(OR(SUM($D$120:Z120)=Y121,Y121=0),0,SUM($D$120:Z120))","v":0},{"$f":"IF(OR(SUM($D$120:AA120)=Z121,Z121=0),0,SUM($D$120:AA120))","v":0},{"$f":"IF(OR(SUM($D$120:AB120)=AA121,AA121=0),0,SUM($D$120:AB120))","v":0},{"$f":"IF(OR(SUM($D$120:AC120)=AB121,AB121=0),0,SUM($D$120:AC120))","v":0},{"$f":"IF(OR(SUM($D$120:AD120)=AC121,AC121=0),0,SUM($D$120:AD120))","v":0},{"$f":"IF(OR(SUM($D$120:AE120)=AD121,AD121=0),0,SUM($D$120:AE120))","v":0},{"$f":"IF(OR(SUM($D$120:AF120)=AE121,AE121=0),0,SUM($D$120:AF120))","v":0},{"$f":"IF(OR(SUM($D$120:AG120)=AF121,AF121=0),0,SUM($D$120:AG120))","v":0},{"$f":"IF(OR(SUM($D$120:AH120)=AG121,AG121=0),0,SUM($D$120:AH120))","v":0},{"$f":"IF(OR(SUM($D$120:AI120)=AH121,AH121=0),0,SUM($D$120:AI120))","v":0},{"$f":"IF(OR(SUM($D$120:AJ120)=AI121,AI121=0),0,SUM($D$120:AJ120))","v":0},{"$f":"IF(OR(SUM($D$120:AK120)=AJ121,AJ121=0),0,SUM($D$120:AK120))","v":0},{"$f":"IF(OR(SUM($D$120:AL120)=AK121,AK121=0),0,SUM($D$120:AL120))","v":0},{"$f":"IF(OR(SUM($D$120:AM120)=AL121,AL121=0),0,SUM($D$120:AM120))","v":0},{"$f":"IF(OR(SUM($D$120:AN120)=AM121,AM121=0),0,SUM($D$120:AN120))","v":0},{"$f":"IF(OR(SUM($D$120:AO120)=AN121,AN121=0),0,SUM($D$120:AO120))","v":0},{"$f":"IF(OR(SUM($D$120:AP120)=AO121,AO121=0),0,SUM($D$120:AP120))","v":0},{"$f":"IF(OR(SUM($D$120:AQ120)=AP121,AP121=0),0,SUM($D$120:AQ120))","v":0},{"$f":"IF(OR(SUM($D$120:AR120)=AQ121,AQ121=0),0,SUM($D$120:AR120))","v":0},{"$f":"IF(OR(SUM($D$120:AS120)=AR121,AR121=0),0,SUM($D$120:AS120))","v":0},{"$f":"IF(OR(SUM($D$120:AT120)=AS121,AS121=0),0,SUM($D$120:AT120))","v":0},{"$f":"IF(OR(SUM($D$120:AU120)=AT121,AT121=0),0,SUM($D$120:AU120))","v":0},{"$f":"IF(OR(SUM($D$120:AV120)=AU121,AU121=0),0,SUM($D$120:AV120))","v":0},{"$f":"IF(OR(SUM($D$120:AW120)=AV121,AV121=0),0,SUM($D$120:AW120))","v":0},{"$f":"IF(OR(SUM($D$120:AX120)=AW121,AW121=0),0,SUM($D$120:AX120))","v":0},{"$f":"IF(OR(SUM($D$120:AY120)=AX121,AX121=0),0,SUM($D$120:AY120))","v":0},{"$f":"IF(OR(SUM($D$120:AZ120)=AY121,AY121=0),0,SUM($D$120:AZ120))","v":0},{"$f":"IF(OR(SUM($D$120:BA120)=AZ121,AZ121=0),0,SUM($D$120:BA120))","v":0}]
[null,null,"FIXED",{"$f":"'Vertical Labels'!E$155","v":0},{"$f":"'Vertical Labels'!F$155","v":0},{"$f":"'Vertical Labels'!G$155","v":0},{"$f":"'Vertical Labels'!H$155","v":0},{"$f":"'Vertical Labels'!I$155","v":0},{"$f":"'Vertical Labels'!J$155","v":0},{"$f":"'Vertical Labels'!K$155","v":0},{"$f":"'Vertical Labels'!L$155","v":0},{"$f":"'Vertical Labels'!M$155","v":0},{"$f":"'Vertical Labels'!N$155","v":0},{"$f":"'Vertical Labels'!O$155","v":0},{"$f":"'Vertical Labels'!P$155","v":0},{"$f":"'Vertical Labels'!Q$155","v":0},{"$f":"'Vertical Labels'!R$155","v":0},{"$f":"'Vertical Labels'!S$155","v":0},{"$f":"'Vertical Labels'!T$155","v":0},{"$f":"'Vertical Labels'!U$155","v":0},{"$f":"'Vertical Labels'!V$155","v":0},{"$f":"'Vertical Labels'!W$155","v":0},{"$f":"'Vertical Labels'!X$155","v":0},{"$f":"'Vertical Labels'!Y$155","v":0},{"$f":"'Vertical Labels'!Z$155","v":0},{"$f":"'Vertical Labels'!AA$155","v":0},{"$f":"'Vertical Labels'!AB$155","v":0},{"$f":"'Vertical Labels'!AC$155","v":0},{"$f":"'Vertical Labels'!AD$155","v":0},{"$f":"'Vertical Labels'!AE$155","v":0},{"$f":"'Vertical Labels'!AF$155","v":0},{"$f":"'Vertical Labels'!AG$155","v":0},{"$f":"'Vertical Labels'!AH$155","v":0},{"$f":"'Vertical Labels'!AI$155","v":0},{"$f":"'Vertical Labels'!AJ$155","v":0},{"$f":"'Vertical Labels'!AK$155","v":0},{"$f":"'Vertical Labels'!AL$155","v":0},{"$f":"'Vertical Labels'!AM$155","v":0},{"$f":"'Vertical Labels'!AN$155","v":0},{"$f":"'Vertical Labels'!AO$155","v":0},{"$f":"'Vertical Labels'!AP$155","v":0},{"$f":"'Vertical Labels'!AQ$155","v":0},{"$f":"'Vertical Labels'!AR$155","v":0},{"$f":"'Vertical Labels'!AS$155","v":0},{"$f":"'Vertical Labels'!AT$155","v":0},{"$f":"'Vertical Labels'!AU$155","v":0},{"$f":"'Vertical Labels'!AV$155","v":0},{"$f":"'Vertical Labels'!AW$155","v":0},{"$f":"'Vertical Labels'!AX$155","v":0},{"$f":"'Vertical Labels'!AY$155","v":0},{"$f":"'Vertical Labels'!AZ$155","v":0},{"$f":"'Vertical Labels'!BA$155","v":0},{"$f":"'Vertical Labels'!BB$155","v":0}]
[null,null,"RELATIVE",{"$f":"D122","v":0},{"$f":"IF(E122-D122<1,0,E122-D122)","v":0},{"$f":"IF(F122-E122<1,0,F122-E122)","v":0},0,0,0,0,0,0,0,0,0,0,0,0,0,0,0,0,0,0,0,0,0,0,0,0,0,0,0,0,0,0,0,0,0,0,0,0,0,0,0,0,0,0,0,0,0,0,0]
[null,null,"BLOCKS",{"$f":"'Vertical Labels'!E$155","v":0},{"$f":"'Vertical Labels'!F$155","v":0},{"$f":"'Vertical Labels'!G$155","v":0},{"$f":"'Vertical Labels'!H$155","v":0},{"$f":"'Vertical Labels'!I$155","v":0},{"$f":"'Vertical Labels'!J$155","v":0},{"$f":"'Vertical Labels'!K$155","v":0},{"$f":"'Vertical Labels'!L$155","v":0},{"$f":"'Vertical Labels'!M$155","v":0},{"$f":"'Vertical Labels'!N$155","v":0},{"$f":"'Vertical Labels'!O$155","v":0},{"$f":"'Vertical Labels'!P$155","v":0},{"$f":"'Vertical Labels'!Q$155","v":0},{"$f":"'Vertical Labels'!R$155","v":0},{"$f":"'Vertical Labels'!S$155","v":0},{"$f":"'Vertical Labels'!T$155","v":0},{"$f":"'Vertical Labels'!U$155","v":0},{"$f":"'Vertical Labels'!V$155","v":0},{"$f":"'Vertical Labels'!W$155","v":0},{"$f":"'Vertical Labels'!X$155","v":0},{"$f":"'Vertical Labels'!Y$155","v":0},{"$f":"'Vertical Labels'!Z$155","v":0},{"$f":"'Vertical Labels'!AA$155","v":0},{"$f":"'Vertical Labels'!AB$155","v":0},{"$f":"'Vertical Labels'!AC$155","v":0},{"$f":"'Vertical Labels'!AD$155","v":0},{"$f":"'Vertical Labels'!AE$155","v":0},{"$f":"'Vertical Labels'!AF$155","v":0},{"$f":"'Vertical Labels'!AG$155","v":0},{"$f":"'Vertical Labels'!AH$155","v":0},{"$f":"'Vertical Labels'!AI$155","v":0},{"$f":"'Vertical Labels'!AJ$155","v":0},{"$f":"'Vertical Labels'!AK$155","v":0},{"$f":"'Vertical Labels'!AL$155","v":0},{"$f":"'Vertical Labels'!AM$155","v":0},{"$f":"'Vertical Labels'!AN$155","v":0},{"$f":"'Vertical Labels'!AO$155","v":0},{"$f":"'Vertical Labels'!AP$155","v":0},{"$f":"'Vertical Labels'!AQ$155","v":0},{"$f":"'Vertical Labels'!AR$155","v":0},{"$f":"'Vertical Labels'!AS$155","v":0},{"$f":"'Vertical Labels'!AT$155","v":0},{"$f":"'Vertical Labels'!AU$155","v":0},{"$f":"'Vertical Labels'!AV$155","v":0},{"$f":"'Vertical Labels'!AW$155","v":0},{"$f":"'Vertical Labels'!AX$155","v":0},{"$f":"'Vertical Labels'!AY$155","v":0},{"$f":"'Vertical Labels'!AZ$155","v":0},{"$f":"'Vertical Labels'!BA$155","v":0},{"$f":"'Vertical Labels'!BB$155","v":0}]
[null,null,"FIXED",{"$f":"D126","v":0},{"$f":"IF(OR(SUM($D$126:E126)=D125,D125=0),0,SUM($D$126:E126))","v":0},{"$f":"IF(OR(SUM($D$126:F126)=E125,E125=0),0,SUM($D$126:F126))","v":0},{"$f":"IF(OR(SUM($D$126:G126)=F125,F125=0),0,SUM($D$126:G126))","v":0},{"$f":"IF(OR(SUM($D$126:H126)=G125,G125=0),0,SUM($D$126:H126))","v":0},{"$f":"IF(OR(SUM($D$126:I126)=H125,H125=0),0,SUM($D$126:I126))","v":0},{"$f":"IF(OR(SUM($D$126:J126)=I125,I125=0),0,SUM($D$126:J126))","v":0},{"$f":"IF(OR(SUM($D$126:K126)=J125,J125=0),0,SUM($D$126:K126))","v":0},{"$f":"IF(OR(SUM($D$126:L126)=K125,K125=0),0,SUM($D$126:L126))","v":0},{"$f":"IF(OR(SUM($D$126:M126)=L125,L125=0),0,SUM($D$126:M126))","v":0},{"$f":"IF(OR(SUM($D$126:N126)=M125,M125=0),0,SUM($D$126:N126))","v":0},{"$f":"IF(OR(SUM($D$126:O126)=N125,N125=0),0,SUM($D$126:O126))","v":0},{"$f":"IF(OR(SUM($D$126:P126)=O125,O125=0),0,SUM($D$126:P126))","v":0},{"$f":"IF(OR(SUM($D$126:Q126)=P125,P125=0),0,SUM($D$126:Q126))","v":0},{"$f":"IF(OR(SUM($D$126:R126)=Q125,Q125=0),0,SUM($D$126:R126))","v":0},{"$f":"IF(OR(SUM($D$126:S126)=R125,R125=0),0,SUM($D$126:S126))","v":0},{"$f":"IF(OR(SUM($D$126:T126)=S125,S125=0),0,SUM($D$126:T126))","v":0},{"$f":"IF(OR(SUM($D$126:U126)=T125,T125=0),0,SUM($D$126:U126))","v":0},{"$f":"IF(OR(SUM($D$126:V126)=U125,U125=0),0,SUM($D$126:V126))","v":0},{"$f":"IF(OR(SUM($D$126:W126)=V125,V125=0),0,SUM($D$126:W126))","v":0},{"$f":"IF(OR(SUM($D$126:X126)=W125,W125=0),0,SUM($D$126:X126))","v":0},{"$f":"IF(OR(SUM($D$126:Y126)=X125,X125=0),0,SUM($D$126:Y126))","v":0},{"$f":"IF(OR(SUM($D$126:Z126)=Y125,Y125=0),0,SUM($D$126:Z126))","v":0},{"$f":"IF(OR(SUM($D$126:AA126)=Z125,Z125=0),0,SUM($D$126:AA126))","v":0},{"$f":"IF(OR(SUM($D$126:AB126)=AA125,AA125=0),0,SUM($D$126:AB126))","v":0},{"$f":"IF(OR(SUM($D$126:AC126)=AB125,AB125=0),0,SUM($D$126:AC126))","v":0},{"$f":"IF(OR(SUM($D$126:AD126)=AC125,AC125=0),0,SUM($D$126:AD126))","v":0},{"$f":"IF(OR(SUM($D$126:AE126)=AD125,AD125=0),0,SUM($D$126:AE126))","v":0},{"$f":"IF(OR(SUM($D$126:AF126)=AE125,AE125=0),0,SUM($D$126:AF126))","v":0},{"$f":"IF(OR(SUM($D$126:AG126)=AF125,AF125=0),0,SUM($D$126:AG126))","v":0},{"$f":"IF(OR(SUM($D$126:AH126)=AG125,AG125=0),0,SUM($D$126:AH126))","v":0},{"$f":"IF(OR(SUM($D$126:AI126)=AH125,AH125=0),0,SUM($D$126:AI126))","v":0},{"$f":"IF(OR(SUM($D$126:AJ126)=AI125,AI125=0),0,SUM($D$126:AJ126))","v":0},{"$f":"IF(OR(SUM($D$126:AK126)=AJ125,AJ125=0),0,SUM($D$126:AK126))","v":0},{"$f":"IF(OR(SUM($D$126:AL126)=AK125,AK125=0),0,SUM($D$126:AL126))","v":0},{"$f":"IF(OR(SUM($D$126:AM126)=AL125,AL125=0),0,SUM($D$126:AM126))","v":0},{"$f":"IF(OR(SUM($D$126:AN126)=AM125,AM125=0),0,SUM($D$126:AN126))","v":0},{"$f":"IF(OR(SUM($D$126:AO126)=AN125,AN125=0),0,SUM($D$126:AO126))","v":0},{"$f":"IF(OR(SUM($D$126:AP126)=AO125,AO125=0),0,SUM($D$126:AP126))","v":0},{"$f":"IF(OR(SUM($D$126:AQ126)=AP125,AP125=0),0,SUM($D$126:AQ126))","v":0},{"$f":"IF(OR(SUM($D$126:AR126)=AQ125,AQ125=0),0,SUM($D$126:AR126))","v":0},{"$f":"IF(OR(SUM($D$126:AS126)=AR125,AR125=0),0,SUM($D$126:AS126))","v":0},{"$f":"IF(OR(SUM($D$126:AT126)=AS125,AS125=0),0,SUM($D$126:AT126))","v":0},{"$f":"IF(OR(SUM($D$126:AU126)=AT125,AT125=0),0,SUM($D$126:AU126))","v":0},{"$f":"IF(OR(SUM($D$126:AV126)=AU125,AU125=0),0,SUM($D$126:AV126))","v":0},{"$f":"IF(OR(SUM($D$126:AW126)=AV125,AV125=0),0,SUM($D$126:AW126))","v":0},{"$f":"IF(OR(SUM($D$126:AX126)=AW125,AW125=0),0,SUM($D$126:AX126))","v":0},{"$f":"IF(OR(SUM($D$126:AY126)=AX125,AX125=0),0,SUM($D$126:AY126))","v":0},{"$f":"IF(OR(SUM($D$126:AZ126)=AY125,AY125=0),0,SUM($D$126:AZ126))","v":0},{"$f":"IF(OR(SUM($D$126:BA126)=AZ125,AZ125=0),0,SUM($D$126:BA126))","v":0}]
[null,null,"RELATIVE",{"$f":"D124/2","v":0},{"$f":"(D124/2)+(E124/2)","v":0},{"$f":"(E124/2)+(F124/2)","v":0},0,0,0,0,0,0,0,0,0,0,0,0,0,0,0,0,0,0,0,0,0,0,0,0,0,0,0,0,0,0,0,0,0,0,0,0,0,0,0,0,0,0,0,0,0,0,0]
[]
[{"$nulls":3},1,2,3,4,5,6,7,8,9,10,11,12,13,14,15,16,17,18,19,20,21,22,23,24,25,26,27,28,29,30,31,32,33,34,35,36,37,38,39,40,41,42,43,44,45,46,47,48,49,50]
[null,"LABEL 15","RELATIVE",{"$f":"'Vertical Labels'!E$166","v":0},{"$f":"'Vertical Labels'!F$166","v":0},{"$f":"'Vertical Labels'!G$166","v":0},{"$f":"'Vertical Labels'!H$166","v":0},{"$f":"'Vertical Labels'!I$166","v":0},{"$f":"'Vertical Labels'!J$166","v":0},{"$f":"'Vertical Labels'!K$166","v":0},{"$f":"'Vertical Labels'!L$166","v":0},{"$f":"'Vertical Labels'!M$166","v":0},{"$f":"'Vertical Labels'!N$166","v":0},{"$f":"'Vertical Labels'!O$166","v":0},{"$f":"'Vertical Labels'!P$166","v":0},{"$f":"'Vertical Labels'!Q$166","v":0},{"$f":"'Vertical Labels'!R$166","v":0},{"$f":"'Vertical Labels'!S$166","v":0},{"$f":"'Vertical Labels'!T$166","v":0},{"$f":"'Vertical Labels'!U$166","v":0},{"$f":"'Vertical Labels'!V$166","v":0},{"$f":"'Vertical Labels'!W$166","v":0},{"$f":"'Vertical Labels'!X$166","v":0},{"$f":"'Vertical Labels'!Y$166","v":0},{"$f":"'Vertical Labels'!Z$166","v":0},{"$f":"'Vertical Labels'!AA$166","v":0},{"$f":"'Vertical Labels'!AB$166","v":0},{"$f":"'Vertical Labels'!AC$166","v":0},{"$f":"'Vertical Labels'!AD$166","v":0},{"$f":"'Vertical Labels'!AE$166","v":0},{"$f":"'Vertical Labels'!AF$166","v":0},{"$f":"'Vertical Labels'!AG$166","v":0},{"$f":"'Vertical Labels'!AH$166","v":0},{"$f":"'Vertical Labels'!AI$166","v":0},{"$f":"'Vertical Labels'!AJ$166","v":0},{"$f":"'Vertical Labels'!AK$166","v":0},{"$f":"'Vertical Labels'!AL$166","v":0},{"$f":"'Vertical Labels'!AM$166","v":0},{"$f":"'Vertical Labels'!AN$166","v":0},{"$f":"'Vertical Labels'!AO$166","v":0},{"$f":"'Vertical Labels'!AP$166","v":0},{"$f":"'Vertical Labels'!AQ$166","v":0},{"$f":"'Vertical Labels'!AR$166","v":0},{"$f":"'Vertical Labels'!AS$166","v":0},{"$f":"'Vertical Labels'!AT$166","v":0},{"$f":"'Vertical Labels'!AU$166","v":0},{"$f":"'Vertical Labels'!AV$166","v":0},{"$f":"'Vertical Labels'!AW$166","v":0},{"$f":"'Vertical Labels'!AX$166","v":0},{"$f":"'Vertical Labels'!AY$166","v":0},{"$f":"'Vertical Labels'!AZ$166","v":0},{"$f":"'Vertical Labels'!BA$166","v":0},{"$f":"'Vertical Labels'!BB$166","v":0}]
[null,null,"FIXED",{"$f":"SUM($D$129:D129)","v":0},{"$f":"IF(OR(SUM($D$129:E129)=D130,D130=0),0,SUM($D$129:E129))","v":0},{"$f":"IF(OR(SUM($D$129:F129)=E130,E130=0),0,SUM($D$129:F129))","v":0},{"$f":"IF(OR(SUM($D$129:G129)=F130,F130=0),0,SUM($D$129:G129))","v":0},{"$f":"IF(OR(SUM($D$129:H129)=G130,G130=0),0,SUM($D$129:H129))","v":0},{"$f":"IF(OR(SUM($D$129:I129)=H130,H130=0),0,SUM($D$129:I129))","v":0},{"$f":"IF(OR(SUM($D$129:J129)=I130,I130=0),0,SUM($D$129:J129))","v":0},{"$f":"IF(OR(SUM($D$129:K129)=J130,J130=0),0,SUM($D$129:K129))","v":0},{"$f":"IF(OR(SUM($D$129:L129)=K130,K130=0),0,SUM($D$129:L129))","v":0},{"$f":"IF(OR(SUM($D$129:M129)=L130,L130=0),0,SUM($D$129:M129))","v":0},{"$f":"IF(OR(SUM($D$129:N129)=M130,M130=0),0,SUM($D$129:N129))","v":0},{"$f":"IF(OR(SUM($D$129:O129)=N130,N130=0),0,SUM($D$129:O129))","v":0},{"$f":"IF(OR(SUM($D$129:P129)=O130,O130=0),0,SUM($D$129:P129))","v":0},{"$f":"IF(OR(SUM($D$129:Q129)=P130,P130=0),0,SUM($D$129:Q129))","v":0},{"$f":"IF(OR(SUM($D$129:R129)=Q130,Q130=0),0,SUM($D$129:R129))","v":0},{"$f":"IF(OR(SUM($D$129:S129)=R130,R130=0),0,SUM($D$129:S129))","v":0},{"$f":"IF(OR(SUM($D$129:T129)=S130,S130=0),0,SUM($D$129:T129))","v":0},{"$f":"IF(OR(SUM($D$129:U129)=T130,T130=0),0,SUM($D$129:U129))","v":0},{"$f":"IF(OR(SUM($D$129:V129)=U130,U130=0),0,SUM($D$129:V129))","v":0},{"$f":"IF(OR(SUM($D$129:W129)=V130,V130=0),0,SUM($D$129:W129))","v":0},{"$f":"IF(OR(SUM($D$129:X129)=W130,W130=0),0,SUM($D$129:X129))","v":0},{"$f":"IF(OR(SUM($D$129:Y129)=X130,X130=0),0,SUM($D$129:Y129))","v":0},{"$f":"IF(OR(SUM($D$129:Z129)=Y130,Y130=0),0,SUM($D$129:Z129))","v":0},{"$f":"IF(OR(SUM($D$129:AA129)=Z130,Z130=0),0,SUM($D$129:AA129))","v":0},{"$f":"IF(OR(SUM($D$129:AB129)=AA130,AA130=0),0,SUM($D$129:AB129))","v":0},{"$f":"IF(OR(SUM($D$129:AC129)=AB130,AB130=0),0,SUM($D$129:AC129))","v":0},{"$f":"IF(OR(SUM($D$129:AD129)=AC130,AC130=0),0,SUM($D$129:AD129))","v":0},{"$f":"IF(OR(SUM($D$129:AE129)=AD130,AD130=0),0,SUM($D$129:AE129))","v":0},{"$f":"IF(OR(SUM($D$129:AF129)=AE130,AE130=0),0,SUM($D$129:AF129))","v":0},{"$f":"IF(OR(SUM($D$129:AG129)=AF130,AF130=0),0,SUM($D$129:AG129))","v":0},{"$f":"IF(OR(SUM($D$129:AH129)=AG130,AG130=0),0,SUM($D$129:AH129))","v":0},{"$f":"IF(OR(SUM($D$129:AI129)=AH130,AH130=0),0,SUM($D$129:AI129))","v":0},{"$f":"IF(OR(SUM($D$129:AJ129)=AI130,AI130=0),0,SUM($D$129:AJ129))","v":0},{"$f":"IF(OR(SUM($D$129:AK129)=AJ130,AJ130=0),0,SUM($D$129:AK129))","v":0},{"$f":"IF(OR(SUM($D$129:AL129)=AK130,AK130=0),0,SUM($D$129:AL129))","v":0},{"$f":"IF(OR(SUM($D$129:AM129)=AL130,AL130=0),0,SUM($D$129:AM129))","v":0},{"$f":"IF(OR(SUM($D$129:AN129)=AM130,AM130=0),0,SUM($D$129:AN129))","v":0},{"$f":"IF(OR(SUM($D$129:AO129)=AN130,AN130=0),0,SUM($D$129:AO129))","v":0},{"$f":"IF(OR(SUM($D$129:AP129)=AO130,AO130=0),0,SUM($D$129:AP129))","v":0},{"$f":"IF(OR(SUM($D$129:AQ129)=AP130,AP130=0),0,SUM($D$129:AQ129))","v":0},{"$f":"IF(OR(SUM($D$129:AR129)=AQ130,AQ130=0),0,SUM($D$129:AR129))","v":0},{"$f":"IF(OR(SUM($D$129:AS129)=AR130,AR130=0),0,SUM($D$129:AS129))","v":0},{"$f":"IF(OR(SUM($D$129:AT129)=AS130,AS130=0),0,SUM($D$129:AT129))","v":0},{"$f":"IF(OR(SUM($D$129:AU129)=AT130,AT130=0),0,SUM($D$129:AU129))","v":0},{"$f":"IF(OR(SUM($D$129:AV129)=AU130,AU130=0),0,SUM($D$129:AV129))","v":0},{"$f":"IF(OR(SUM($D$129:AW129)=AV130,AV130=0),0,SUM($D$129:AW129))","v":0},{"$f":"IF(OR(SUM($D$129:AX129)=AW130,AW130=0),0,SUM($D$129:AX129))","v":0},{"$f":"IF(OR(SUM($D$129:AY129)=AX130,AX130=0),0,SUM($D$129:AY129))","v":0},{"$f":"IF(OR(SUM($D$129:AZ129)=AY130,AY130=0),0,SUM($D$129:AZ129))","v":0},{"$f":"IF(OR(SUM($D$129:BA129)=AZ130,AZ130=0),0,SUM($D$129:BA129))","v":0}]
[null,null,"FIXED",{"$f":"'Vertical Labels'!E$166","v":0},{"$f":"'Vertical Labels'!F$166","v":0},{"$f":"'Vertical Labels'!G$166","v":0},{"$f":"'Vertical Labels'!H$166","v":0},{"$f":"'Vertical Labels'!I$166","v":0},{"$f":"'Vertical Labels'!J$166","v":0},{"$f":"'Vertical Labels'!K$166","v":0},{"$f":"'Vertical Labels'!L$166","v":0},{"$f":"'Vertical Labels'!M$166","v":0},{"$f":"'Vertical Labels'!N$166","v":0},{"$f":"'Vertical Labels'!O$166","v":0},{"$f":"'Vertical Labels'!P$166","v":0},{"$f":"'Vertical Labels'!Q$166","v":0},{"$f":"'Vertical Labels'!R$166","v":0},{"$f":"'Vertical Labels'!S$166","v":0},{"$f":"'Vertical Labels'!T$166","v":0},{"$f":"'Vertical Labels'!U$166","v":0},{"$f":"'Vertical Labels'!V$166","v":0},{"$f":"'Vertical Labels'!W$166","v":0},{"$f":"'Vertical Labels'!X$166","v":0},{"$f":"'Vertical Labels'!Y$166","v":0},{"$f":"'Vertical Labels'!Z$166","v":0},{"$f":"'Vertical Labels'!AA$166","v":0},{"$f":"'Vertical Labels'!AB$166","v":0},{"$f":"'Vertical Labels'!AC$166","v":0},{"$f":"'Vertical Labels'!AD$166","v":0},{"$f":"'Vertical Labels'!AE$166","v":0},{"$f":"'Vertical Labels'!AF$166","v":0},{"$f":"'Vertical Labels'!AG$166","v":0},{"$f":"'Vertical Labels'!AH$166","v":0},{"$f":"'Vertical Labels'!AI$166","v":0},{"$f":"'Vertical Labels'!AJ$166","v":0},{"$f":"'Vertical Labels'!AK$166","v":0},{"$f":"'Vertical Labels'!AL$166","v":0},{"$f":"'Vertical Labels'!AM$166","v":0},{"$f":"'Vertical Labels'!AN$166","v":0},{"$f":"'Vertical Labels'!AO$166","v":0},{"$f":"'Vertical Labels'!AP$166","v":0},{"$f":"'Vertical Labels'!AQ$166","v":0},{"$f":"'Vertical Labels'!AR$166","v":0},{"$f":"'Vertical Labels'!AS$166","v":0},{"$f":"'Vertical Labels'!AT$166","v":0},{"$f":"'Vertical Labels'!AU$166","v":0},{"$f":"'Vertical Labels'!AV$166","v":0},{"$f":"'Vertical Labels'!AW$166","v":0},{"$f":"'Vertical Labels'!AX$166","v":0},{"$f":"'Vertical Labels'!AY$166","v":0},{"$f":"'Vertical Labels'!AZ$166","v":0},{"$f":"'Vertical Labels'!BA$166","v":0},{"$f":"'Vertical Labels'!BB$166","v":0}]
[null,null,"RELATIVE",{"$f":"D131","v":0},{"$f":"IF(E131-D131<1,0,E131-D131)","v":0},{"$f":"IF(F131-E131<1,0,F131-E131)","v":0},0,0,0,0,0,0,0,0,0,0,0,0,0,0,0,0,0,0,0,0,0,0,0,0,0,0,0,0,0,0,0,0,0,0,0,0,0,0,0,0,0,0,0,0,0,0,0]
[null,null,"BLOCKS",{"$f":"'Vertical Labels'!E$166","v":0},{"$f":"'Vertical Labels'!F$166","v":0},{"$f":"'Vertical Labels'!G$166","v":0},{"$f":"'Vertical Labels'!H$166","v":0},{"$f":"'Vertical Labels'!I$166","v":0},{"$f":"'Vertical Labels'!J$166","v":0},{"$f":"'Vertical Labels'!K$166","v":0},{"$f":"'Vertical Labels'!L$166","v":0},{"$f":"'Vertical Labels'!M$166","v":0},{"$f":"'Vertical Labels'!N$166","v":0},{"$f":"'Vertical Labels'!O$166","v":0},{"$f":"'Vertical Labels'!P$166","v":0},{"$f":"'Vertical Labels'!Q$166","v":0},{"$f":"'Vertical Labels'!R$166","v":0},{"$f":"'Vertical Labels'!S$166","v":0},{"$f":"'Vertical Labels'!T$166","v":0},{"$f":"'Vertical Labels'!U$166","v":0},{"$f":"'Vertical Labels'!V$166","v":0},{"$f":"'Vertical Labels'!W$166","v":0},{"$f":"'Vertical Labels'!X$166","v":0},{"$f":"'Vertical Labels'!Y$166","v":0},{"$f":"'Vertical Labels'!Z$166","v":0},{"$f":"'Vertical Labels'!AA$166","v":0},{"$f":"'Vertical Labels'!AB$166","v":0},{"$f":"'Vertical Labels'!AC$166","v":0},{"$f":"'Vertical Labels'!AD$166","v":0},{"$f":"'Vertical Labels'!AE$166","v":0},{"$f":"'Vertical Labels'!AF$166","v":0},{"$f":"'Vertical Labels'!AG$166","v":0},{"$f":"'Vertical Labels'!AH$166","v":0},{"$f":"'Vertical Labels'!AI$166","v":0},{"$f":"'Vertical Labels'!AJ$166","v":0},{"$f":"'Vertical Labels'!AK$166","v":0},{"$f":"'Vertical Labels'!AL$166","v":0},{"$f":"'Vertical Labels'!AM$166","v":0},{"$f":"'Vertical Labels'!AN$166","v":0},{"$f":"'Vertical Labels'!AO$166","v":0},{"$f":"'Vertical Labels'!AP$166","v":0},{"$f":"'Vertical Labels'!AQ$166","v":0},{"$f":"'Vertical Labels'!AR$166","v":0},{"$f":"'Vertical Labels'!AS$166","v":0},{"$f":"'Vertical Labels'!AT$166","v":0},{"$f":"'Vertical Labels'!AU$166","v":0},{"$f":"'Vertical Labels'!AV$166","v":0},{"$f":"'Vertical Labels'!AW$166","v":0},{"$f":"'Vertical Labels'!AX$166","v":0},{"$f":"'Vertical Labels'!AY$166","v":0},{"$f":"'Vertical Labels'!AZ$166","v":0},{"$f":"'Vertical Labels'!BA$166","v":0},{"$f":"'Vertical Labels'!BB$166","v":0}]
[null,null,"FIXED",{"$f":"D135","v":0},{"$f":"IF(OR(SUM($D$135:E135)=D134,D134=0),0,SUM($D$135:E135))","v":0},{"$f":"IF(OR(SUM($D$135:F135)=E134,E134=0),0,SUM($D$135:F135))","v":0},{"$f":"IF(OR(SUM($D$135:G135)=F134,F134=0),0,SUM($D$135:G135))","v":0},{"$f":"IF(OR(SUM($D$135:H135)=G134,G134=0),0,SUM($D$135:H135))","v":0},{"$f":"IF(OR(SUM($D$135:I135)=H134,H134=0),0,SUM($D$135:I135))","v":0},{"$f":"IF(OR(SUM($D$135:J135)=I134,I134=0),0,SUM($D$135:J135))","v":0},{"$f":"IF(OR(SUM($D$135:K135)=J134,J134=0),0,SUM($D$135:K135))","v":0},{"$f":"IF(OR(SUM($D$135:L135)=K134,K134=0),0,SUM($D$135:L135))","v":0},{"$f":"IF(OR(SUM($D$135:M135)=L134,L134=0),0,SUM($D$135:M135))","v":0},{"$f":"IF(OR(SUM($D$135:N135)=M134,M134=0),0,SUM($D$135:N135))","v":0},{"$f":"IF(OR(SUM($D$135:O135)=N134,N134=0),0,SUM($D$135:O135))","v":0},{"$f":"IF(OR(SUM($D$135:P135)=O134,O134=0),0,SUM($D$135:P135))","v":0},{"$f":"IF(OR(SUM($D$135:Q135)=P134,P134=0),0,SUM($D$135:Q135))","v":0},{"$f":"IF(OR(SUM($D$135:R135)=Q134,Q134=0),0,SUM($D$135:R135))","v":0},{"$f":"IF(OR(SUM($D$135:S135)=R134,R134=0),0,SUM($D$135:S135))","v":0},{"$f":"IF(OR(SUM($D$135:T135)=S134,S134=0),0,SUM($D$135:T135))","v":0},{"$f":"IF(OR(SUM($D$135:U135)=T134,T134=0),0,SUM($D$135:U135))","v":0},{"$f":"IF(OR(SUM($D$135:V135)=U134,U134=0),0,SUM($D$135:V135))","v":0},{"$f":"IF(OR(SUM($D$135:W135)=V134,V134=0),0,SUM($D$135:W135))","v":0},{"$f":"IF(OR(SUM($D$135:X135)=W134,W134=0),0,SUM($D$135:X135))","v":0},{"$f":"IF(OR(SUM($D$135:Y135)=X134,X134=0),0,SUM($D$135:Y135))","v":0},{"$f":"IF(OR(SUM($D$135:Z135)=Y134,Y134=0),0,SUM($D$135:Z135))","v":0},{"$f":"IF(OR(SUM($D$135:AA135)=Z134,Z134=0),0,SUM($D$135:AA135))","v":0},{"$f":"IF(OR(SUM($D$135:AB135)=AA134,AA134=0),0,SUM($D$135:AB135))","v":0},{"$f":"IF(OR(SUM($D$135:AC135)=AB134,AB134=0),0,SUM($D$135:AC135))","v":0},{"$f":"IF(OR(SUM($D$135:AD135)=AC134,AC134=0),0,SUM($D$135:AD135))","v":0},{"$f":"IF(OR(SUM($D$135:AE135)=AD134,AD134=0),0,SUM($D$135:AE135))","v":0},{"$f":"IF(OR(SUM($D$135:AF135)=AE134,AE134=0),0,SUM($D$135:AF135))","v":0},{"$f":"IF(OR(SUM($D$135:AG135)=AF134,AF134=0),0,SUM($D$135:AG135))","v":0},{"$f":"IF(OR(SUM($D$135:AH135)=AG134,AG134=0),0,SUM($D$135:AH135))","v":0},{"$f":"IF(OR(SUM($D$135:AI135)=AH134,AH134=0),0,SUM($D$135:AI135))","v":0},{"$f":"IF(OR(SUM($D$135:AJ135)=AI134,AI134=0),0,SUM($D$135:AJ135))","v":0},{"$f":"IF(OR(SUM($D$135:AK135)=AJ134,AJ134=0),0,SUM($D$135:AK135))","v":0},{"$f":"IF(OR(SUM($D$135:AL135)=AK134,AK134=0),0,SUM($D$135:AL135))","v":0},{"$f":"IF(OR(SUM($D$135:AM135)=AL134,AL134=0),0,SUM($D$135:AM135))","v":0},{"$f":"IF(OR(SUM($D$135:AN135)=AM134,AM134=0),0,SUM($D$135:AN135))","v":0},{"$f":"IF(OR(SUM($D$135:AO135)=AN134,AN134=0),0,SUM($D$135:AO135))","v":0},{"$f":"IF(OR(SUM($D$135:AP135)=AO134,AO134=0),0,SUM($D$135:AP135))","v":0},{"$f":"IF(OR(SUM($D$135:AQ135)=AP134,AP134=0),0,SUM($D$135:AQ135))","v":0},{"$f":"IF(OR(SUM($D$135:AR135)=AQ134,AQ134=0),0,SUM($D$135:AR135))","v":0},{"$f":"IF(OR(SUM($D$135:AS135)=AR134,AR134=0),0,SUM($D$135:AS135))","v":0},{"$f":"IF(OR(SUM($D$135:AT135)=AS134,AS134=0),0,SUM($D$135:AT135))","v":0},{"$f":"IF(OR(SUM($D$135:AU135)=AT134,AT134=0),0,SUM($D$135:AU135))","v":0},{"$f":"IF(OR(SUM($D$135:AV135)=AU134,AU134=0),0,SUM($D$135:AV135))","v":0},{"$f":"IF(OR(SUM($D$135:AW135)=AV134,AV134=0),0,SUM($D$135:AW135))","v":0},{"$f":"IF(OR(SUM($D$135:AX135)=AW134,AW134=0),0,SUM($D$135:AX135))","v":0},{"$f":"IF(OR(SUM($D$135:AY135)=AX134,AX134=0),0,SUM($D$135:AY135))","v":0},{"$f":"IF(OR(SUM($D$135:AZ135)=AY134,AY134=0),0,SUM($D$135:AZ135))","v":0},{"$f":"IF(OR(SUM($D$135:BA135)=AZ134,AZ134=0),0,SUM($D$135:BA135))","v":0}]
[null,null,"RELATIVE",{"$f":"D133/2","v":0},{"$f":"(D133/2)+(E133/2)","v":0},{"$f":"(E133/2)+(F133/2)","v":0},0,0,0,0,0,0,0,0,0,0,0,0,0,0,0,0,0,0,0,0,0,0,0,0,0,0,0,0,0,0,0,0,0,0,0,0,0,0,0,0,0,0,0,0,0,0,0]
[]
[{"$nulls":3},1,2,3,4,5,6,7,8,9,10,11,12,13,14,15,16,17,18,19,20,21,22,23,24,25,26,27,28,29,30,31,32,33,34,35,36,37,38,39,40,41,42,43,44,45,46,47,48,49,50]
[null,"LABEL 16","RELATIVE",{"$f":"'Vertical Labels'!E$177","v":0},{"$f":"'Vertical Labels'!F$177","v":0},{"$f":"'Vertical Labels'!G$177","v":0},{"$f":"'Vertical Labels'!H$177","v":0},{"$f":"'Vertical Labels'!I$177","v":0},{"$f":"'Vertical Labels'!J$177","v":0},{"$f":"'Vertical Labels'!K$177","v":0},{"$f":"'Vertical Labels'!L$177","v":0},{"$f":"'Vertical Labels'!M$177","v":0},{"$f":"'Vertical Labels'!N$177","v":0},{"$f":"'Vertical Labels'!O$177","v":0},{"$f":"'Vertical Labels'!P$177","v":0},{"$f":"'Vertical Labels'!Q$177","v":0},{"$f":"'Vertical Labels'!R$177","v":0},{"$f":"'Vertical Labels'!S$177","v":0},{"$f":"'Vertical Labels'!T$177","v":0},{"$f":"'Vertical Labels'!U$177","v":0},{"$f":"'Vertical Labels'!V$177","v":0},{"$f":"'Vertical Labels'!W$177","v":0},{"$f":"'Vertical Labels'!X$177","v":0},{"$f":"'Vertical Labels'!Y$177","v":0},{"$f":"'Vertical Labels'!Z$177","v":0},{"$f":"'Vertical Labels'!AA$177","v":0},{"$f":"'Vertical Labels'!AB$177","v":0},{"$f":"'Vertical Labels'!AC$177","v":0},{"$f":"'Vertical Labels'!AD$177","v":0},{"$f":"'Vertical Labels'!AE$177","v":0},{"$f":"'Vertical Labels'!AF$177","v":0},{"$f":"'Vertical Labels'!AG$177","v":0},{"$f":"'Vertical Labels'!AH$177","v":0},{"$f":"'Vertical Labels'!AI$177","v":0},{"$f":"'Vertical Labels'!AJ$177","v":0},{"$f":"'Vertical Labels'!AK$177","v":0},{"$f":"'Vertical Labels'!AL$177","v":0},{"$f":"'Vertical Labels'!AM$177","v":0},{"$f":"'Vertical Labels'!AN$177","v":0},{"$f":"'Vertical Labels'!AO$177","v":0},{"$f":"'Vertical Labels'!AP$177","v":0},{"$f":"'Vertical Labels'!AQ$177","v":0},{"$f":"'Vertical Labels'!AR$177","v":0},{"$f":"'Vertical Labels'!AS$177","v":0},{"$f":"'Vertical Labels'!AT$177","v":0},{"$f":"'Vertical Labels'!AU$177","v":0},{"$f":"'Vertical Labels'!AV$177","v":0},{"$f":"'Vertical Labels'!AW$177","v":0},{"$f":"'Vertical Labels'!AX$177","v":0},{"$f":"'Vertical Labels'!AY$177","v":0},{"$f":"'Vertical Labels'!AZ$177","v":0},{"$f":"'Vertical Labels'!BA$177","v":0},{"$f":"'Vertical Labels'!BB$177","v":0}]
[null,null,"FIXED",{"$f":"SUM($D$138:D138)","v":0},{"$f":"IF(OR(SUM($D$138:E138)=D139,D139=0),0,SUM($D$138:E138))","v":0},{"$f":"IF(OR(SUM($D$138:F138)=E139,E139=0),0,SUM($D$138:F138))","v":0},{"$f":"IF(OR(SUM($D$138:G138)=F139,F139=0),0,SUM($D$138:G138))","v":0},{"$f":"IF(OR(SUM($D$138:H138)=G139,G139=0),0,SUM($D$138:H138))","v":0},{"$f":"IF(OR(SUM($D$138:I138)=H139,H139=0),0,SUM($D$138:I138))","v":0},{"$f":"IF(OR(SUM($D$138:J138)=I139,I139=0),0,SUM($D$138:J138))","v":0},{"$f":"IF(OR(SUM($D$138:K138)=J139,J139=0),0,SUM($D$138:K138))","v":0},{"$f":"IF(OR(SUM($D$138:L138)=K139,K139=0),0,SUM($D$138:L138))","v":0},{"$f":"IF(OR(SUM($D$138:M138)=L139,L139=0),0,SUM($D$138:M138))","v":0},{"$f":"IF(OR(SUM($D$138:N138)=M139,M139=0),0,SUM($D$138:N138))","v":0},{"$f":"IF(OR(SUM($D$138:O138)=N139,N139=0),0,SUM($D$138:O138))","v":0},{"$f":"IF(OR(SUM($D$138:P138)=O139,O139=0),0,SUM($D$138:P138))","v":0},{"$f":"IF(OR(SUM($D$138:Q138)=P139,P139=0),0,SUM($D$138:Q138))","v":0},{"$f":"IF(OR(SUM($D$138:R138)=Q139,Q139=0),0,SUM($D$138:R138))","v":0},{"$f":"IF(OR(SUM($D$138:S138)=R139,R139=0),0,SUM($D$138:S138))","v":0},{"$f":"IF(OR(SUM($D$138:T138)=S139,S139=0),0,SUM($D$138:T138))","v":0},{"$f":"IF(OR(SUM($D$138:U138)=T139,T139=0),0,SUM($D$138:U138))","v":0},{"$f":"IF(OR(SUM($D$138:V138)=U139,U139=0),0,SUM($D$138:V138))","v":0},{"$f":"IF(OR(SUM($D$138:W138)=V139,V139=0),0,SUM($D$138:W138))","v":0},{"$f":"IF(OR(SUM($D$138:X138)=W139,W139=0),0,SUM($D$138:X138))","v":0},{"$f":"IF(OR(SUM($D$138:Y138)=X139,X139=0),0,SUM($D$138:Y138))","v":0},{"$f":"IF(OR(SUM($D$138:Z138)=Y139,Y139=0),0,SUM($D$138:Z138))","v":0},{"$f":"IF(OR(SUM($D$138:AA138)=Z139,Z139=0),0,SUM($D$138:AA138))","v":0},{"$f":"IF(OR(SUM($D$138:AB138)=AA139,AA139=0),0,SUM($D$138:AB138))","v":0},{"$f":"IF(OR(SUM($D$138:AC138)=AB139,AB139=0),0,SUM($D$138:AC138))","v":0},{"$f":"IF(OR(SUM($D$138:AD138)=AC139,AC139=0),0,SUM($D$138:AD138))","v":0},{"$f":"IF(OR(SUM($D$138:AE138)=AD139,AD139=0),0,SUM($D$138:AE138))","v":0},{"$f":"IF(OR(SUM($D$138:AF138)=AE139,AE139=0),0,SUM($D$138:AF138))","v":0},{"$f":"IF(OR(SUM($D$138:AG138)=AF139,AF139=0),0,SUM($D$138:AG138))","v":0},{"$f":"IF(OR(SUM($D$138:AH138)=AG139,AG139=0),0,SUM($D$138:AH138))","v":0},{"$f":"IF(OR(SUM($D$138:AI138)=AH139,AH139=0),0,SUM($D$138:AI138))","v":0},{"$f":"IF(OR(SUM($D$138:AJ138)=AI139,AI139=0),0,SUM($D$138:AJ138))","v":0},{"$f":"IF(OR(SUM($D$138:AK138)=AJ139,AJ139=0),0,SUM($D$138:AK138))","v":0},{"$f":"IF(OR(SUM($D$138:AL138)=AK139,AK139=0),0,SUM($D$138:AL138))","v":0},{"$f":"IF(OR(SUM($D$138:AM138)=AL139,AL139=0),0,SUM($D$138:AM138))","v":0},{"$f":"IF(OR(SUM($D$138:AN138)=AM139,AM139=0),0,SUM($D$138:AN138))","v":0},{"$f":"IF(OR(SUM($D$138:AO138)=AN139,AN139=0),0,SUM($D$138:AO138))","v":0},{"$f":"IF(OR(SUM($D$138:AP138)=AO139,AO139=0),0,SUM($D$138:AP138))","v":0},{"$f":"IF(OR(SUM($D$138:AQ138)=AP139,AP139=0),0,SUM($D$138:AQ138))","v":0},{"$f":"IF(OR(SUM($D$138:AR138)=AQ139,AQ139=0),0,SUM($D$138:AR138))","v":0},{"$f":"IF(OR(SUM($D$138:AS138)=AR139,AR139=0),0,SUM($D$138:AS138))","v":0},{"$f":"IF(OR(SUM($D$138:AT138)=AS139,AS139=0),0,SUM($D$138:AT138))","v":0},{"$f":"IF(OR(SUM($D$138:AU138)=AT139,AT139=0),0,SUM($D$138:AU138))","v":0},{"$f":"IF(OR(SUM($D$138:AV138)=AU139,AU139=0),0,SUM($D$138:AV138))","v":0},{"$f":"IF(OR(SUM($D$138:AW138)=AV139,AV139=0),0,SUM($D$138:AW138))","v":0},{"$f":"IF(OR(SUM($D$138:AX138)=AW139,AW139=0),0,SUM($D$138:AX138))","v":0},{"$f":"IF(OR(SUM($D$138:AY138)=AX139,AX139=0),0,SUM($D$138:AY138))","v":0},{"$f":"IF(OR(SUM($D$138:AZ138)=AY139,AY139=0),0,SUM($D$138:AZ138))","v":0},{"$f":"IF(OR(SUM($D$138:BA138)=AZ139,AZ139=0),0,SUM($D$138:BA138))","v":0}]
[null,null,"FIXED",{"$f":"'Vertical Labels'!E$177","v":0},{"$f":"'Vertical Labels'!F$177","v":0},{"$f":"'Vertical Labels'!G$177","v":0},{"$f":"'Vertical Labels'!H$177","v":0},{"$f":"'Vertical Labels'!I$177","v":0},{"$f":"'Vertical Labels'!J$177","v":0},{"$f":"'Vertical Labels'!K$177","v":0},{"$f":"'Vertical Labels'!L$177","v":0},{"$f":"'Vertical Labels'!M$177","v":0},{"$f":"'Vertical Labels'!N$177","v":0},{"$f":"'Vertical Labels'!O$177","v":0},{"$f":"'Vertical Labels'!P$177","v":0},{"$f":"'Vertical Labels'!Q$177","v":0},{"$f":"'Vertical Labels'!R$177","v":0},{"$f":"'Vertical Labels'!S$177","v":0},{"$f":"'Vertical Labels'!T$177","v":0},{"$f":"'Vertical Labels'!U$177","v":0},{"$f":"'Vertical Labels'!V$177","v":0},{"$f":"'Vertical Labels'!W$177","v":0},{"$f":"'Vertical Labels'!X$177","v":0},{"$f":"'Vertical Labels'!Y$177","v":0},{"$f":"'Vertical Labels'!Z$177","v":0},{"$f":"'Vertical Labels'!AA$177","v":0},{"$f":"'Vertical Labels'!AB$177","v":0},{"$f":"'Vertical Labels'!AC$177","v":0},{"$f":"'Vertical Labels'!AD$177","v":0},{"$f":"'Vertical Labels'!AE$177","v":0},{"$f":"'Vertical Labels'!AF$177","v":0},{"$f":"'Vertical Labels'!AG$177","v":0},{"$f":"'Vertical Labels'!AH$177","v":0},{"$f":"'Vertical Labels'!AI$177","v":0},{"$f":"'Vertical Labels'!AJ$177","v":0},{"$f":"'Vertical Labels'!AK$177","v":0},{"$f":"'Vertical Labels'!AL$177","v":0},{"$f":"'Vertical Labels'!AM$177","v":0},{"$f":"'Vertical Labels'!AN$177","v":0},{"$f":"'Vertical Labels'!AO$177","v":0},{"$f":"'Vertical Labels'!AP$177","v":0},{"$f":"'Vertical Labels'!AQ$177","v":0},{"$f":"'Vertical Labels'!AR$177","v":0},{"$f":"'Vertical Labels'!AS$177","v":0},{"$f":"'Vertical Labels'!AT$177","v":0},{"$f":"'Vertical Labels'!AU$177","v":0},{"$f":"'Vertical Labels'!AV$177","v":0},{"$f":"'Vertical Labels'!AW$177","v":0},{"$f":"'Vertical Labels'!AX$177","v":0},{"$f":"'Vertical Labels'!AY$177","v":0},{"$f":"'Vertical Labels'!AZ$177","v":0},{"$f":"'Vertical Labels'!BA$177","v":0},{"$f":"'Vertical Labels'!BB$177","v":0}]
[null,null,"RELATIVE",{"$f":"D140","v":0},{"$f":"IF(E140-D140<1,0,E140-D140)","v":0},{"$f":"IF(F140-E140<1,0,F140-E140)","v":0},0,0,0,0,0,0,0,0,0,0,0,0,0,0,0,0,0,0,0,0,0,0,0,0,0,0,0,0,0,0,0,0,0,0,0,0,0,0,0,0,0,0,0,0,0,0,0]
[null,null,"BLOCKS",{"$f":"'Vertical Labels'!E$177","v":0},{"$f":"'Vertical Labels'!F$177","v":0},{"$f":"'Vertical Labels'!G$177","v":0},{"$f":"'Vertical Labels'!H$177","v":0},{"$f":"'Vertical Labels'!I$177","v":0},{"$f":"'Vertical Labels'!J$177","v":0},{"$f":"'Vertical Labels'!K$177","v":0},{"$f":"'Vertical Labels'!L$177","v":0},{"$f":"'Vertical Labels'!M$177","v":0},{"$f":"'Vertical Labels'!N$177","v":0},{"$f":"'Vertical Labels'!O$177","v":0},{"$f":"'Vertical Labels'!P$177","v":0},{"$f":"'Vertical Labels'!Q$177","v":0},{"$f":"'Vertical Labels'!R$177","v":0},{"$f":"'Vertical Labels'!S$177","v":0},{"$f":"'Vertical Labels'!T$177","v":0},{"$f":"'Vertical Labels'!U$177","v":0},{"$f":"'Vertical Labels'!V$177","v":0},{"$f":"'Vertical Labels'!W$177","v":0},{"$f":"'Vertical Labels'!X$177","v":0},{"$f":"'Vertical Labels'!Y$177","v":0},{"$f":"'Vertical Labels'!Z$177","v":0},{"$f":"'Vertical Labels'!AA$177","v":0},{"$f":"'Vertical Labels'!AB$177","v":0},{"$f":"'Vertical Labels'!AC$177","v":0},{"$f":"'Vertical Labels'!AD$177","v":0},{"$f":"'Vertical Labels'!AE$177","v":0},{"$f":"'Vertical Labels'!AF$177","v":0},{"$f":"'Vertical Labels'!AG$177","v":0},{"$f":"'Vertical Labels'!AH$177","v":0},{"$f":"'Vertical Labels'!AI$177","v":0},{"$f":"'Vertical Labels'!AJ$177","v":0},{"$f":"'Vertical Labels'!AK$177","v":0},{"$f":"'Vertical Labels'!AL$177","v":0},{"$f":"'Vertical Labels'!AM$177","v":0},{"$f":"'Vertical Labels'!AN$177","v":0},{"$f":"'Vertical Labels'!AO$177","v":0},{"$f":"'Vertical Labels'!AP$177","v":0},{"$f":"'Vertical Labels'!AQ$177","v":0},{"$f":"'Vertical Labels'!AR$177","v":0},{"$f":"'Vertical Labels'!AS$177","v":0},{"$f":"'Vertical Labels'!AT$177","v":0},{"$f":"'Vertical Labels'!AU$177","v":0},{"$f":"'Vertical Labels'!AV$177","v":0},{"$f":"'Vertical Labels'!AW$177","v":0},{"$f":"'Vertical Labels'!AX$177","v":0},{"$f":"'Vertical Labels'!AY$177","v":0},{"$f":"'Vertical Labels'!AZ$177","v":0},{"$f":"'Vertical Labels'!BA$177","v":0},{"$f":"'Vertical Labels'!BB$177","v":0}]
[null,null,"FIXED",{"$f":"D144","v":0},{"$f":"IF(OR(SUM($D$144:E144)=D143,D143=0),0,SUM($D$144:E144))","v":0},{"$f":"IF(OR(SUM($D$144:F144)=E143,E143=0),0,SUM($D$144:F144))","v":0},{"$f":"IF(OR(SUM($D$144:G144)=F143,F143=0),0,SUM($D$144:G144))","v":0},{"$f":"IF(OR(SUM($D$144:H144)=G143,G143=0),0,SUM($D$144:H144))","v":0},{"$f":"IF(OR(SUM($D$144:I144)=H143,H143=0),0,SUM($D$144:I144))","v":0},{"$f":"IF(OR(SUM($D$144:J144)=I143,I143=0),0,SUM($D$144:J144))","v":0},{"$f":"IF(OR(SUM($D$144:K144)=J143,J143=0),0,SUM($D$144:K144))","v":0},{"$f":"IF(OR(SUM($D$144:L144)=K143,K143=0),0,SUM($D$144:L144))","v":0},{"$f":"IF(OR(SUM($D$144:M144)=L143,L143=0),0,SUM($D$144:M144))","v":0},{"$f":"IF(OR(SUM($D$144:N144)=M143,M143=0),0,SUM($D$144:N144))","v":0},{"$f":"IF(OR(SUM($D$144:O144)=N143,N143=0),0,SUM($D$144:O144))","v":0},{"$f":"IF(OR(SUM($D$144:P144)=O143,O143=0),0,SUM($D$144:P144))","v":0},{"$f":"IF(OR(SUM($D$144:Q144)=P143,P143=0),0,SUM($D$144:Q144))","v":0},{"$f":"IF(OR(SUM($D$144:R144)=Q143,Q143=0),0,SUM($D$144:R144))","v":0},{"$f":"IF(OR(SUM($D$144:S144)=R143,R143=0),0,SUM($D$144:S144))","v":0},{"$f":"IF(OR(SUM($D$144:T144)=S143,S143=0),0,SUM($D$144:T144))","v":0},{"$f":"IF(OR(SUM($D$144:U144)=T143,T143=0),0,SUM($D$144:U144))","v":0},{"$f":"IF(OR(SUM($D$144:V144)=U143,U143=0),0,SUM($D$144:V144))","v":0},{"$f":"IF(OR(SUM($D$144:W144)=V143,V143=0),0,SUM($D$144:W144))","v":0},{"$f":"IF(OR(SUM($D$144:X144)=W143,W143=0),0,SUM($D$144:X144))","v":0},{"$f":"IF(OR(SUM($D$144:Y144)=X143,X143=0),0,SUM($D$144:Y144))","v":0},{"$f":"IF(OR(SUM($D$144:Z144)=Y143,Y143=0),0,SUM($D$144:Z144))","v":0},{"$f":"IF(OR(SUM($D$144:AA144)=Z143,Z143=0),0,SUM($D$144:AA144))","v":0},{"$f":"IF(OR(SUM($D$144:AB144)=AA143,AA143=0),0,SUM($D$144:AB144))","v":0},{"$f":"IF(OR(SUM($D$144:AC144)=AB143,AB143=0),0,SUM($D$144:AC144))","v":0},{"$f":"IF(OR(SUM($D$144:AD144)=AC143,AC143=0),0,SUM($D$144:AD144))","v":0},{"$f":"IF(OR(SUM($D$144:AE144)=AD143,AD143=0),0,SUM($D$144:AE144))","v":0},{"$f":"IF(OR(SUM($D$144:AF144)=AE143,AE143=0),0,SUM($D$144:AF144))","v":0},{"$f":"IF(OR(SUM($D$144:AG144)=AF143,AF143=0),0,SUM($D$144:AG144))","v":0},{"$f":"IF(OR(SUM($D$144:AH144)=AG143,AG143=0),0,SUM($D$144:AH144))","v":0},{"$f":"IF(OR(SUM($D$144:AI144)=AH143,AH143=0),0,SUM($D$144:AI144))","v":0},{"$f":"IF(OR(SUM($D$144:AJ144)=AI143,AI143=0),0,SUM($D$144:AJ144))","v":0},{"$f":"IF(OR(SUM($D$144:AK144)=AJ143,AJ143=0),0,SUM($D$144:AK144))","v":0},{"$f":"IF(OR(SUM($D$144:AL144)=AK143,AK143=0),0,SUM($D$144:AL144))","v":0},{"$f":"IF(OR(SUM($D$144:AM144)=AL143,AL143=0),0,SUM($D$144:AM144))","v":0},{"$f":"IF(OR(SUM($D$144:AN144)=AM143,AM143=0),0,SUM($D$144:AN144))","v":0},{"$f":"IF(OR(SUM($D$144:AO144)=AN143,AN143=0),0,SUM($D$144:AO144))","v":0},{"$f":"IF(OR(SUM($D$144:AP144)=AO143,AO143=0),0,SUM($D$144:AP144))","v":0},{"$f":"IF(OR(SUM($D$144:AQ144)=AP143,AP143=0),0,SUM($D$144:AQ144))","v":0},{"$f":"IF(OR(SUM($D$144:AR144)=AQ143,AQ143=0),0,SUM($D$144:AR144))","v":0},{"$f":"IF(OR(SUM($D$144:AS144)=AR143,AR143=0),0,SUM($D$144:AS144))","v":0},{"$f":"IF(OR(SUM($D$144:AT144)=AS143,AS143=0),0,SUM($D$144:AT144))","v":0},{"$f":"IF(OR(SUM($D$144:AU144)=AT143,AT143=0),0,SUM($D$144:AU144))","v":0},{"$f":"IF(OR(SUM($D$144:AV144)=AU143,AU143=0),0,SUM($D$144:AV144))","v":0},{"$f":"IF(OR(SUM($D$144:AW144)=AV143,AV143=0),0,SUM($D$144:AW144))","v":0},{"$f":"IF(OR(SUM($D$144:AX144)=AW143,AW143=0),0,SUM($D$144:AX144))","v":0},{"$f":"IF(OR(SUM($D$144:AY144)=AX143,AX143=0),0,SUM($D$144:AY144))","v":0},{"$f":"IF(OR(SUM($D$144:AZ144)=AY143,AY143=0),0,SUM($D$144:AZ144))","v":0},{"$f":"IF(OR(SUM($D$144:BA144)=AZ143,AZ143=0),0,SUM($D$144:BA144))","v":0}]
[null,null,"RELATIVE",{"$f":"D142/2","v":0},{"$f":"(D142/2)+(E142/2)","v":0},{"$f":"(E142/2)+(F142/2)","v":0},0,0,0,0,0,0,0,0,0,0,0,0,0,0,0,0,0,0,0,0,0,0,0,0,0,0,0,0,0,0,0,0,0,0,0,0,0,0,0,0,0,0,0,0,0,0,0]
[]
[{"$nulls":3},1,2,3,4,5,6,7,8,9,10,11,12,13,14,15,16,17,18,19,20,21,22,23,24,25,26,27,28,29,30,31,32,33,34,35,36,37,38,39,40,41,42,43,44,45,46,47,48,49,50]
[null,"LABEL 17","RELATIVE",{"$f":"'Vertical Labels'!E$188","v":0},{"$f":"'Vertical Labels'!F$188","v":0},{"$f":"'Vertical Labels'!G$188","v":0},{"$f":"'Vertical Labels'!H$188","v":0},{"$f":"'Vertical Labels'!I$188","v":0},{"$f":"'Vertical Labels'!J$188","v":0},{"$f":"'Vertical Labels'!K$188","v":0},{"$f":"'Vertical Labels'!L$188","v":0},{"$f":"'Vertical Labels'!M$188","v":0},{"$f":"'Vertical Labels'!N$188","v":0},{"$f":"'Vertical Labels'!O$188","v":0},{"$f":"'Vertical Labels'!P$188","v":0},{"$f":"'Vertical Labels'!Q$188","v":0},{"$f":"'Vertical Labels'!R$188","v":0},{"$f":"'Vertical Labels'!S$188","v":0},{"$f":"'Vertical Labels'!T$188","v":0},{"$f":"'Vertical Labels'!U$188","v":0},{"$f":"'Vertical Labels'!V$188","v":0},{"$f":"'Vertical Labels'!W$188","v":0},{"$f":"'Vertical Labels'!X$188","v":0},{"$f":"'Vertical Labels'!Y$188","v":0},{"$f":"'Vertical Labels'!Z$188","v":0},{"$f":"'Vertical Labels'!AA$188","v":0},{"$f":"'Vertical Labels'!AB$188","v":0},{"$f":"'Vertical Labels'!AC$188","v":0},{"$f":"'Vertical Labels'!AD$188","v":0},{"$f":"'Vertical Labels'!AE$188","v":0},{"$f":"'Vertical Labels'!AF$188","v":0},{"$f":"'Vertical Labels'!AG$188","v":0},{"$f":"'Vertical Labels'!AH$188","v":0},{"$f":"'Vertical Labels'!AI$188","v":0},{"$f":"'Vertical Labels'!AJ$188","v":0},{"$f":"'Vertical Labels'!AK$188","v":0},{"$f":"'Vertical Labels'!AL$188","v":0},{"$f":"'Vertical Labels'!AM$188","v":0},{"$f":"'Vertical Labels'!AN$188","v":0},{"$f":"'Vertical Labels'!AO$188","v":0},{"$f":"'Vertical Labels'!AP$188","v":0},{"$f":"'Vertical Labels'!AQ$188","v":0},{"$f":"'Vertical Labels'!AR$188","v":0},{"$f":"'Vertical Labels'!AS$188","v":0},{"$f":"'Vertical Labels'!AT$188","v":0},{"$f":"'Vertical Labels'!AU$188","v":0},{"$f":"'Vertical Labels'!AV$188","v":0},{"$f":"'Vertical Labels'!AW$188","v":0},{"$f":"'Vertical Labels'!AX$188","v":0},{"$f":"'Vertical Labels'!AY$188","v":0},{"$f":"'Vertical Labels'!AZ$188","v":0},{"$f":"'Vertical Labels'!BA$188","v":0},{"$f":"'Vertical Labels'!BB$188","v":0}]
[null,null,"FIXED",{"$f":"SUM($D$147:D147)","v":0},{"$f":"IF(OR(SUM($D$147:E147)=D148,D148=0),0,SUM($D$147:E147))","v":0},{"$f":"IF(OR(SUM($D$147:F147)=E148,E148=0),0,SUM($D$147:F147))","v":0},{"$f":"IF(OR(SUM($D$147:G147)=F148,F148=0),0,SUM($D$147:G147))","v":0},{"$f":"IF(OR(SUM($D$147:H147)=G148,G148=0),0,SUM($D$147:H147))","v":0},{"$f":"IF(OR(SUM($D$147:I147)=H148,H148=0),0,SUM($D$147:I147))","v":0},{"$f":"IF(OR(SUM($D$147:J147)=I148,I148=0),0,SUM($D$147:J147))","v":0},{"$f":"IF(OR(SUM($D$147:K147)=J148,J148=0),0,SUM($D$147:K147))","v":0},{"$f":"IF(OR(SUM($D$147:L147)=K148,K148=0),0,SUM($D$147:L147))","v":0},{"$f":"IF(OR(SUM($D$147:M147)=L148,L148=0),0,SUM($D$147:M147))","v":0},{"$f":"IF(OR(SUM($D$147:N147)=M148,M148=0),0,SUM($D$147:N147))","v":0},{"$f":"IF(OR(SUM($D$147:O147)=N148,N148=0),0,SUM($D$147:O147))","v":0},{"$f":"IF(OR(SUM($D$147:P147)=O148,O148=0),0,SUM($D$147:P147))","v":0},{"$f":"IF(OR(SUM($D$147:Q147)=P148,P148=0),0,SUM($D$147:Q147))","v":0},{"$f":"IF(OR(SUM($D$147:R147)=Q148,Q148=0),0,SUM($D$147:R147))","v":0},{"$f":"IF(OR(SUM($D$147:S147)=R148,R148=0),0,SUM($D$147:S147))","v":0},{"$f":"IF(OR(SUM($D$147:T147)=S148,S148=0),0,SUM($D$147:T147))","v":0},{"$f":"IF(OR(SUM($D$147:U147)=T148,T148=0),0,SUM($D$147:U147))","v":0},{"$f":"IF(OR(SUM($D$147:V147)=U148,U148=0),0,SUM($D$147:V147))","v":0},{"$f":"IF(OR(SUM($D$147:W147)=V148,V148=0),0,SUM($D$147:W147))","v":0},{"$f":"IF(OR(SUM($D$147:X147)=W148,W148=0),0,SUM($D$147:X147))","v":0},{"$f":"IF(OR(SUM($D$147:Y147)=X148,X148=0),0,SUM($D$147:Y147))","v":0},{"$f":"IF(OR(SUM($D$147:Z147)=Y148,Y148=0),0,SUM($D$147:Z147))","v":0},{"$f":"IF(OR(SUM($D$147:AA147)=Z148,Z148=0),0,SUM($D$147:AA147))","v":0},{"$f":"IF(OR(SUM($D$147:AB147)=AA148,AA148=0),0,SUM($D$147:AB147))","v":0},{"$f":"IF(OR(SUM($D$147:AC147)=AB148,AB148=0),0,SUM($D$147:AC147))","v":0},{"$f":"IF(OR(SUM($D$147:AD147)=AC148,AC148=0),0,SUM($D$147:AD147))","v":0},{"$f":"IF(OR(SUM($D$147:AE147)=AD148,AD148=0),0,SUM($D$147:AE147))","v":0},{"$f":"IF(OR(SUM($D$147:AF147)=AE148,AE148=0),0,SUM($D$147:AF147))","v":0},{"$f":"IF(OR(SUM($D$147:AG147)=AF148,AF148=0),0,SUM($D$147:AG147))","v":0},{"$f":"IF(OR(SUM($D$147:AH147)=AG148,AG148=0),0,SUM($D$147:AH147))","v":0},{"$f":"IF(OR(SUM($D$147:AI147)=AH148,AH148=0),0,SUM($D$147:AI147))","v":0},{"$f":"IF(OR(SUM($D$147:AJ147)=AI148,AI148=0),0,SUM($D$147:AJ147))","v":0},{"$f":"IF(OR(SUM($D$147:AK147)=AJ148,AJ148=0),0,SUM($D$147:AK147))","v":0},{"$f":"IF(OR(SUM($D$147:AL147)=AK148,AK148=0),0,SUM($D$147:AL147))","v":0},{"$f":"IF(OR(SUM($D$147:AM147)=AL148,AL148=0),0,SUM($D$147:AM147))","v":0},{"$f":"IF(OR(SUM($D$147:AN147)=AM148,AM148=0),0,SUM($D$147:AN147))","v":0},{"$f":"IF(OR(SUM($D$147:AO147)=AN148,AN148=0),0,SUM($D$147:AO147))","v":0},{"$f":"IF(OR(SUM($D$147:AP147)=AO148,AO148=0),0,SUM($D$147:AP147))","v":0},{"$f":"IF(OR(SUM($D$147:AQ147)=AP148,AP148=0),0,SUM($D$147:AQ147))","v":0},{"$f":"IF(OR(SUM($D$147:AR147)=AQ148,AQ148=0),0,SUM($D$147:AR147))","v":0},{"$f":"IF(OR(SUM($D$147:AS147)=AR148,AR148=0),0,SUM($D$147:AS147))","v":0},{"$f":"IF(OR(SUM($D$147:AT147)=AS148,AS148=0),0,SUM($D$147:AT147))","v":0},{"$f":"IF(OR(SUM($D$147:AU147)=AT148,AT148=0),0,SUM($D$147:AU147))","v":0},{"$f":"IF(OR(SUM($D$147:AV147)=AU148,AU148=0),0,SUM($D$147:AV147))","v":0},{"$f":"IF(OR(SUM($D$147:AW147)=AV148,AV148=0),0,SUM($D$147:AW147))","v":0},{"$f":"IF(OR(SUM($D$147:AX147)=AW148,AW148=0),0,SUM($D$147:AX147))","v":0},{"$f":"IF(OR(SUM($D$147:AY147)=AX148,AX148=0),0,SUM($D$147:AY147))","v":0},{"$f":"IF(OR(SUM($D$147:AZ147)=AY148,AY148=0),0,SUM($D$147:AZ147))","v":0},{"$f":"IF(OR(SUM($D$147:BA147)=AZ148,AZ148=0),0,SUM($D$147:BA147))","v":0}]
[null,null,"FIXED",{"$f":"'Vertical Labels'!E$188","v":0},{"$f":"'Vertical Labels'!F$188","v":0},{"$f":"'Vertical Labels'!G$188","v":0},{"$f":"'Vertical Labels'!H$188","v":0},{"$f":"'Vertical Labels'!I$188","v":0},{"$f":"'Vertical Labels'!J$188","v":0},{"$f":"'Vertical Labels'!K$188","v":0},{"$f":"'Vertical Labels'!L$188","v":0},{"$f":"'Vertical Labels'!M$188","v":0},{"$f":"'Vertical Labels'!N$188","v":0},{"$f":"'Vertical Labels'!O$188","v":0},{"$f":"'Vertical Labels'!P$188","v":0},{"$f":"'Vertical Labels'!Q$188","v":0},{"$f":"'Vertical Labels'!R$188","v":0},{"$f":"'Vertical Labels'!S$188","v":0},{"$f":"'Vertical Labels'!T$188","v":0},{"$f":"'Vertical Labels'!U$188","v":0},{"$f":"'Vertical Labels'!V$188","v":0},{"$f":"'Vertical Labels'!W$188","v":0},{"$f":"'Vertical Labels'!X$188","v":0},{"$f":"'Vertical Labels'!Y$188","v":0},{"$f":"'Vertical Labels'!Z$188","v":0},{"$f":"'Vertical Labels'!AA$188","v":0},{"$f":"'Vertical Labels'!AB$188","v":0},{"$f":"'Vertical Labels'!AC$188","v":0},{"$f":"'Vertical Labels'!AD$188","v":0},{"$f":"'Vertical Labels'!AE$188","v":0},{"$f":"'Vertical Labels'!AF$188","v":0},{"$f":"'Vertical Labels'!AG$188","v":0},{"$f":"'Vertical Labels'!AH$188","v":0},{"$f":"'Vertical Labels'!AI$188","v":0},{"$f":"'Vertical Labels'!AJ$188","v":0},{"$f":"'Vertical Labels'!AK$188","v":0},{"$f":"'Vertical Labels'!AL$188","v":0},{"$f":"'Vertical Labels'!AM$188","v":0},{"$f":"'Vertical Labels'!AN$188","v":0},{"$f":"'Vertical Labels'!AO$188","v":0},{"$f":"'Vertical Labels'!AP$188","v":0},{"$f":"'Vertical Labels'!AQ$188","v":0},{"$f":"'Vertical Labels'!AR$188","v":0},{"$f":"'Vertical Labels'!AS$188","v":0},{"$f":"'Vertical Labels'!AT$188","v":0},{"$f":"'Vertical Labels'!AU$188","v":0},{"$f":"'Vertical Labels'!AV$188","v":0},{"$f":"'Vertical Labels'!AW$188","v":0},{"$f":"'Vertical Labels'!AX$188","v":0},{"$f":"'Vertical Labels'!AY$188","v":0},{"$f":"'Vertical Labels'!AZ$188","v":0},{"$f":"'Vertical Labels'!BA$188","v":0},{"$f":"'Vertical Labels'!BB$188","v":0}]
[null,null,"RELATIVE",{"$f":"D149","v":0},{"$f":"IF(E149-D149<1,0,E149-D149)","v":0},{"$f":"IF(F149-E149<1,0,F149-E149)","v":0},0,0,0,0,0,0,0,0,0,0,0,0,0,0,0,0,0,0,0,0,0,0,0,0,0,0,0,0,0,0,0,0,0,0,0,0,0,0,0,0,0,0,0,0,0,0,0]
[null,null,"BLOCKS",{"$f":"'Vertical Labels'!E$188","v":0},{"$f":"'Vertical Labels'!F$188","v":0},{"$f":"'Vertical Labels'!G$188","v":0},{"$f":"'Vertical Labels'!H$188","v":0},{"$f":"'Vertical Labels'!I$188","v":0},{"$f":"'Vertical Labels'!J$188","v":0},{"$f":"'Vertical Labels'!K$188","v":0},{"$f":"'Vertical Labels'!L$188","v":0},{"$f":"'Vertical Labels'!M$188","v":0},{"$f":"'Vertical Labels'!N$188","v":0},{"$f":"'Vertical Labels'!O$188","v":0},{"$f":"'Vertical Labels'!P$188","v":0},{"$f":"'Vertical Labels'!Q$188","v":0},{"$f":"'Vertical Labels'!R$188","v":0},{"$f":"'Vertical Labels'!S$188","v":0},{"$f":"'Vertical Labels'!T$188","v":0},{"$f":"'Vertical Labels'!U$188","v":0},{"$f":"'Vertical Labels'!V$188","v":0},{"$f":"'Vertical Labels'!W$188","v":0},{"$f":"'Vertical Labels'!X$188","v":0},{"$f":"'Vertical Labels'!Y$188","v":0},{"$f":"'Vertical Labels'!Z$188","v":0},{"$f":"'Vertical Labels'!AA$188","v":0},{"$f":"'Vertical Labels'!AB$188","v":0},{"$f":"'Vertical Labels'!AC$188","v":0},{"$f":"'Vertical Labels'!AD$188","v":0},{"$f":"'Vertical Labels'!AE$188","v":0},{"$f":"'Vertical Labels'!AF$188","v":0},{"$f":"'Vertical Labels'!AG$188","v":0},{"$f":"'Vertical Labels'!AH$188","v":0},{"$f":"'Vertical Labels'!AI$188","v":0},{"$f":"'Vertical Labels'!AJ$188","v":0},{"$f":"'Vertical Labels'!AK$188","v":0},{"$f":"'Vertical Labels'!AL$188","v":0},{"$f":"'Vertical Labels'!AM$188","v":0},{"$f":"'Vertical Labels'!AN$188","v":0},{"$f":"'Vertical Labels'!AO$188","v":0},{"$f":"'Vertical Labels'!AP$188","v":0},{"$f":"'Vertical Labels'!AQ$188","v":0},{"$f":"'Vertical Labels'!AR$188","v":0},{"$f":"'Vertical Labels'!AS$188","v":0},{"$f":"'Vertical Labels'!AT$188","v":0},{"$f":"'Vertical Labels'!AU$188","v":0},{"$f":"'Vertical Labels'!AV$188","v":0},{"$f":"'Vertical Labels'!AW$188","v":0},{"$f":"'Vertical Labels'!AX$188","v":0},{"$f":"'Vertical Labels'!AY$188","v":0},{"$f":"'Vertical Labels'!AZ$188","v":0},{"$f":"'Vertical Labels'!BA$188","v":0},{"$f":"'Vertical Labels'!BB$188","v":0}]
[null,null,"FIXED",{"$f":"D153","v":0},{"$f":"IF(OR(SUM($D$153:E153)=D152,D152=0),0,SUM($D$153:E153))","v":0},{"$f":"IF(OR(SUM($D$153:F153)=E152,E152=0),0,SUM($D$153:F153))","v":0},{"$f":"IF(OR(SUM($D$153:G153)=F152,F152=0),0,SUM($D$153:G153))","v":0},{"$f":"IF(OR(SUM($D$153:H153)=G152,G152=0),0,SUM($D$153:H153))","v":0},{"$f":"IF(OR(SUM($D$153:I153)=H152,H152=0),0,SUM($D$153:I153))","v":0},{"$f":"IF(OR(SUM($D$153:J153)=I152,I152=0),0,SUM($D$153:J153))","v":0},{"$f":"IF(OR(SUM($D$153:K153)=J152,J152=0),0,SUM($D$153:K153))","v":0},{"$f":"IF(OR(SUM($D$153:L153)=K152,K152=0),0,SUM($D$153:L153))","v":0},{"$f":"IF(OR(SUM($D$153:M153)=L152,L152=0),0,SUM($D$153:M153))","v":0},{"$f":"IF(OR(SUM($D$153:N153)=M152,M152=0),0,SUM($D$153:N153))","v":0},{"$f":"IF(OR(SUM($D$153:O153)=N152,N152=0),0,SUM($D$153:O153))","v":0},{"$f":"IF(OR(SUM($D$153:P153)=O152,O152=0),0,SUM($D$153:P153))","v":0},{"$f":"IF(OR(SUM($D$153:Q153)=P152,P152=0),0,SUM($D$153:Q153))","v":0},{"$f":"IF(OR(SUM($D$153:R153)=Q152,Q152=0),0,SUM($D$153:R153))","v":0},{"$f":"IF(OR(SUM($D$153:S153)=R152,R152=0),0,SUM($D$153:S153))","v":0},{"$f":"IF(OR(SUM($D$153:T153)=S152,S152=0),0,SUM($D$153:T153))","v":0},{"$f":"IF(OR(SUM($D$153:U153)=T152,T152=0),0,SUM($D$153:U153))","v":0},{"$f":"IF(OR(SUM($D$153:V153)=U152,U152=0),0,SUM($D$153:V153))","v":0},{"$f":"IF(OR(SUM($D$153:W153)=V152,V152=0),0,SUM($D$153:W153))","v":0},{"$f":"IF(OR(SUM($D$153:X153)=W152,W152=0),0,SUM($D$153:X153))","v":0},{"$f":"IF(OR(SUM($D$153:Y153)=X152,X152=0),0,SUM($D$153:Y153))","v":0},{"$f":"IF(OR(SUM($D$153:Z153)=Y152,Y152=0),0,SUM($D$153:Z153))","v":0},{"$f":"IF(OR(SUM($D$153:AA153)=Z152,Z152=0),0,SUM($D$153:AA153))","v":0},{"$f":"IF(OR(SUM($D$153:AB153)=AA152,AA152=0),0,SUM($D$153:AB153))","v":0},{"$f":"IF(OR(SUM($D$153:AC153)=AB152,AB152=0),0,SUM($D$153:AC153))","v":0},{"$f":"IF(OR(SUM($D$153:AD153)=AC152,AC152=0),0,SUM($D$153:AD153))","v":0},{"$f":"IF(OR(SUM($D$153:AE153)=AD152,AD152=0),0,SUM($D$153:AE153))","v":0},{"$f":"IF(OR(SUM($D$153:AF153)=AE152,AE152=0),0,SUM($D$153:AF153))","v":0},{"$f":"IF(OR(SUM($D$153:AG153)=AF152,AF152=0),0,SUM($D$153:AG153))","v":0},{"$f":"IF(OR(SUM($D$153:AH153)=AG152,AG152=0),0,SUM($D$153:AH153))","v":0},{"$f":"IF(OR(SUM($D$153:AI153)=AH152,AH152=0),0,SUM($D$153:AI153))","v":0},{"$f":"IF(OR(SUM($D$153:AJ153)=AI152,AI152=0),0,SUM($D$153:AJ153))","v":0},{"$f":"IF(OR(SUM($D$153:AK153)=AJ152,AJ152=0),0,SUM($D$153:AK153))","v":0},{"$f":"IF(OR(SUM($D$153:AL153)=AK152,AK152=0),0,SUM($D$153:AL153))","v":0},{"$f":"IF(OR(SUM($D$153:AM153)=AL152,AL152=0),0,SUM($D$153:AM153))","v":0},{"$f":"IF(OR(SUM($D$153:AN153)=AM152,AM152=0),0,SUM($D$153:AN153))","v":0},{"$f":"IF(OR(SUM($D$153:AO153)=AN152,AN152=0),0,SUM($D$153:AO153))","v":0},{"$f":"IF(OR(SUM($D$153:AP153)=AO152,AO152=0),0,SUM($D$153:AP153))","v":0},{"$f":"IF(OR(SUM($D$153:AQ153)=AP152,AP152=0),0,SUM($D$153:AQ153))","v":0},{"$f":"IF(OR(SUM($D$153:AR153)=AQ152,AQ152=0),0,SUM($D$153:AR153))","v":0},{"$f":"IF(OR(SUM($D$153:AS153)=AR152,AR152=0),0,SUM($D$153:AS153))","v":0},{"$f":"IF(OR(SUM($D$153:AT153)=AS152,AS152=0),0,SUM($D$153:AT153))","v":0},{"$f":"IF(OR(SUM($D$153:AU153)=AT152,AT152=0),0,SUM($D$153:AU153))","v":0},{"$f":"IF(OR(SUM($D$153:AV153)=AU152,AU152=0),0,SUM($D$153:AV153))","v":0},{"$f":"IF(OR(SUM($D$153:AW153)=AV152,AV152=0),0,SUM($D$153:AW153))","v":0},{"$f":"IF(OR(SUM($D$153:AX153)=AW152,AW152=0),0,SUM($D$153:AX153))","v":0},{"$f":"IF(OR(SUM($D$153:AY153)=AX152,AX152=0),0,SUM($D$153:AY153))","v":0},{"$f":"IF(OR(SUM($D$153:AZ153)=AY152,AY152=0),0,SUM($D$153:AZ153))","v":0},{"$f":"IF(OR(SUM($D$153:BA153)=AZ152,AZ152=0),0,SUM($D$153:BA153))","v":0}]
[null,null,"RELATIVE",{"$f":"D151/2","v":0},{"$f":"(D151/2)+(E151/2)","v":0},{"$f":"(E151/2)+(F151/2)","v":0},0,0,0,0,0,0,0,0,0,0,0,0,0,0,0,0,0,0,0,0,0,0,0,0,0,0,0,0,0,0,0,0,0,0,0,0,0,0,0,0,0,0,0,0,0,0,0]
[]
[{"$nulls":3},1,2,3,4,5,6,7,8,9,10,11,12,13,14,15,16,17,18,19,20,21,22,23,24,25,26,27,28,29,30,31,32,33,34,35,36,37,38,39,40,41,42,43,44,45,46,47,48,49,50]
[null,"LABEL 18","RELATIVE",{"$f":"'Vertical Labels'!E$199","v":0},{"$f":"'Vertical Labels'!F$199","v":0},{"$f":"'Vertical Labels'!G$199","v":0},{"$f":"'Vertical Labels'!H$199","v":0},{"$f":"'Vertical Labels'!I$199","v":0},{"$f":"'Vertical Labels'!J$199","v":0},{"$f":"'Vertical Labels'!K$199","v":0},{"$f":"'Vertical Labels'!L$199","v":0},{"$f":"'Vertical Labels'!M$199","v":0},{"$f":"'Vertical Labels'!N$199","v":0},{"$f":"'Vertical Labels'!O$199","v":0},{"$f":"'Vertical Labels'!P$199","v":0},{"$f":"'Vertical Labels'!Q$199","v":0},{"$f":"'Vertical Labels'!R$199","v":0},{"$f":"'Vertical Labels'!S$199","v":0},{"$f":"'Vertical Labels'!T$199","v":0},{"$f":"'Vertical Labels'!U$199","v":0},{"$f":"'Vertical Labels'!V$199","v":0},{"$f":"'Vertical Labels'!W$199","v":0},{"$f":"'Vertical Labels'!X$199","v":0},{"$f":"'Vertical Labels'!Y$199","v":0},{"$f":"'Vertical Labels'!Z$199","v":0},{"$f":"'Vertical Labels'!AA$199","v":0},{"$f":"'Vertical Labels'!AB$199","v":0},{"$f":"'Vertical Labels'!AC$199","v":0},{"$f":"'Vertical Labels'!AD$199","v":0},{"$f":"'Vertical Labels'!AE$199","v":0},{"$f":"'Vertical Labels'!AF$199","v":0},{"$f":"'Vertical Labels'!AG$199","v":0},{"$f":"'Vertical Labels'!AH$199","v":0},{"$f":"'Vertical Labels'!AI$199","v":0},{"$f":"'Vertical Labels'!AJ$199","v":0},{"$f":"'Vertical Labels'!AK$199","v":0},{"$f":"'Vertical Labels'!AL$199","v":0},{"$f":"'Vertical Labels'!AM$199","v":0},{"$f":"'Vertical Labels'!AN$199","v":0},{"$f":"'Vertical Labels'!AO$199","v":0},{"$f":"'Vertical Labels'!AP$199","v":0},{"$f":"'Vertical Labels'!AQ$199","v":0},{"$f":"'Vertical Labels'!AR$199","v":0},{"$f":"'Vertical Labels'!AS$199","v":0},{"$f":"'Vertical Labels'!AT$199","v":0},{"$f":"'Vertical Labels'!AU$199","v":0},{"$f":"'Vertical Labels'!AV$199","v":0},{"$f":"'Vertical Labels'!AW$199","v":0},{"$f":"'Vertical Labels'!AX$199","v":0},{"$f":"'Vertical Labels'!AY$199","v":0},{"$f":"'Vertical Labels'!AZ$199","v":0},{"$f":"'Vertical Labels'!BA$199","v":0},{"$f":"'Vertical Labels'!BB$199","v":0}]
[null,null,"FIXED",{"$f":"SUM($D$156:D156)","v":0},{"$f":"IF(OR(SUM($D$156:E156)=D157,D157=0),0,SUM($D$156:E156))","v":0},{"$f":"IF(OR(SUM($D$156:F156)=E157,E157=0),0,SUM($D$156:F156))","v":0},{"$f":"IF(OR(SUM($D$156:G156)=F157,F157=0),0,SUM($D$156:G156))","v":0},{"$f":"IF(OR(SUM($D$156:H156)=G157,G157=0),0,SUM($D$156:H156))","v":0},{"$f":"IF(OR(SUM($D$156:I156)=H157,H157=0),0,SUM($D$156:I156))","v":0},{"$f":"IF(OR(SUM($D$156:J156)=I157,I157=0),0,SUM($D$156:J156))","v":0},{"$f":"IF(OR(SUM($D$156:K156)=J157,J157=0),0,SUM($D$156:K156))","v":0},{"$f":"IF(OR(SUM($D$156:L156)=K157,K157=0),0,SUM($D$156:L156))","v":0},{"$f":"IF(OR(SUM($D$156:M156)=L157,L157=0),0,SUM($D$156:M156))","v":0},{"$f":"IF(OR(SUM($D$156:N156)=M157,M157=0),0,SUM($D$156:N156))","v":0},{"$f":"IF(OR(SUM($D$156:O156)=N157,N157=0),0,SUM($D$156:O156))","v":0},{"$f":"IF(OR(SUM($D$156:P156)=O157,O157=0),0,SUM($D$156:P156))","v":0},{"$f":"IF(OR(SUM($D$156:Q156)=P157,P157=0),0,SUM($D$156:Q156))","v":0},{"$f":"IF(OR(SUM($D$156:R156)=Q157,Q157=0),0,SUM($D$156:R156))","v":0},{"$f":"IF(OR(SUM($D$156:S156)=R157,R157=0),0,SUM($D$156:S156))","v":0},{"$f":"IF(OR(SUM($D$156:T156)=S157,S157=0),0,SUM($D$156:T156))","v":0},{"$f":"IF(OR(SUM($D$156:U156)=T157,T157=0),0,SUM($D$156:U156))","v":0},{"$f":"IF(OR(SUM($D$156:V156)=U157,U157=0),0,SUM($D$156:V156))","v":0},{"$f":"IF(OR(SUM($D$156:W156)=V157,V157=0),0,SUM($D$156:W156))","v":0},{"$f":"IF(OR(SUM($D$156:X156)=W157,W157=0),0,SUM($D$156:X156))","v":0},{"$f":"IF(OR(SUM($D$156:Y156)=X157,X157=0),0,SUM($D$156:Y156))","v":0},{"$f":"IF(OR(SUM($D$156:Z156)=Y157,Y157=0),0,SUM($D$156:Z156))","v":0},{"$f":"IF(OR(SUM($D$156:AA156)=Z157,Z157=0),0,SUM($D$156:AA156))","v":0},{"$f":"IF(OR(SUM($D$156:AB156)=AA157,AA157=0),0,SUM($D$156:AB156))","v":0},{"$f":"IF(OR(SUM($D$156:AC156)=AB157,AB157=0),0,SUM($D$156:AC156))","v":0},{"$f":"IF(OR(SUM($D$156:AD156)=AC157,AC157=0),0,SUM($D$156:AD156))","v":0},{"$f":"IF(OR(SUM($D$156:AE156)=AD157,AD157=0),0,SUM($D$156:AE156))","v":0},{"$f":"IF(OR(SUM($D$156:AF156)=AE157,AE157=0),0,SUM($D$156:AF156))","v":0},{"$f":"IF(OR(SUM($D$156:AG156)=AF157,AF157=0),0,SUM($D$156:AG156))","v":0},{"$f":"IF(OR(SUM($D$156:AH156)=AG157,AG157=0),0,SUM($D$156:AH156))","v":0},{"$f":"IF(OR(SUM($D$156:AI156)=AH157,AH157=0),0,SUM($D$156:AI156))","v":0},{"$f":"IF(OR(SUM($D$156:AJ156)=AI157,AI157=0),0,SUM($D$156:AJ156))","v":0},{"$f":"IF(OR(SUM($D$156:AK156)=AJ157,AJ157=0),0,SUM($D$156:AK156))","v":0},{"$f":"IF(OR(SUM($D$156:AL156)=AK157,AK157=0),0,SUM($D$156:AL156))","v":0},{"$f":"IF(OR(SUM($D$156:AM156)=AL157,AL157=0),0,SUM($D$156:AM156))","v":0},{"$f":"IF(OR(SUM($D$156:AN156)=AM157,AM157=0),0,SUM($D$156:AN156))","v":0},{"$f":"IF(OR(SUM($D$156:AO156)=AN157,AN157=0),0,SUM($D$156:AO156))","v":0},{"$f":"IF(OR(SUM($D$156:AP156)=AO157,AO157=0),0,SUM($D$156:AP156))","v":0},{"$f":"IF(OR(SUM($D$156:AQ156)=AP157,AP157=0),0,SUM($D$156:AQ156))","v":0},{"$f":"IF(OR(SUM($D$156:AR156)=AQ157,AQ157=0),0,SUM($D$156:AR156))","v":0},{"$f":"IF(OR(SUM($D$156:AS156)=AR157,AR157=0),0,SUM($D$156:AS156))","v":0},{"$f":"IF(OR(SUM($D$156:AT156)=AS157,AS157=0),0,SUM($D$156:AT156))","v":0},{"$f":"IF(OR(SUM($D$156:AU156)=AT157,AT157=0),0,SUM($D$156:AU156))","v":0},{"$f":"IF(OR(SUM($D$156:AV156)=AU157,AU157=0),0,SUM($D$156:AV156))","v":0},{"$f":"IF(OR(SUM($D$156:AW156)=AV157,AV157=0),0,SUM($D$156:AW156))","v":0},{"$f":"IF(OR(SUM($D$156:AX156)=AW157,AW157=0),0,SUM($D$156:AX156))","v":0},{"$f":"IF(OR(SUM($D$156:AY156)=AX157,AX157=0),0,SUM($D$156:AY156))","v":0},{"$f":"IF(OR(SUM($D$156:AZ156)=AY157,AY157=0),0,SUM($D$156:AZ156))","v":0},{"$f":"IF(OR(SUM($D$156:BA156)=AZ157,AZ157=0),0,SUM($D$156:BA156))","v":0}]
[null,null,"FIXED",{"$f":"'Vertical Labels'!E$199","v":0},{"$f":"'Vertical Labels'!F$199","v":0},{"$f":"'Vertical Labels'!G$199","v":0},{"$f":"'Vertical Labels'!H$199","v":0},{"$f":"'Vertical Labels'!I$199","v":0},{"$f":"'Vertical Labels'!J$199","v":0},{"$f":"'Vertical Labels'!K$199","v":0},{"$f":"'Vertical Labels'!L$199","v":0},{"$f":"'Vertical Labels'!M$199","v":0},{"$f":"'Vertical Labels'!N$199","v":0},{"$f":"'Vertical Labels'!O$199","v":0},{"$f":"'Vertical Labels'!P$199","v":0},{"$f":"'Vertical Labels'!Q$199","v":0},{"$f":"'Vertical Labels'!R$199","v":0},{"$f":"'Vertical Labels'!S$199","v":0},{"$f":"'Vertical Labels'!T$199","v":0},{"$f":"'Vertical Labels'!U$199","v":0},{"$f":"'Vertical Labels'!V$199","v":0},{"$f":"'Vertical Labels'!W$199","v":0},{"$f":"'Vertical Labels'!X$199","v":0},{"$f":"'Vertical Labels'!Y$199","v":0},{"$f":"'Vertical Labels'!Z$199","v":0},{"$f":"'Vertical Labels'!AA$199","v":0},{"$f":"'Vertical Labels'!AB$199","v":0},{"$f":"'Vertical Labels'!AC$199","v":0},{"$f":"'Vertical Labels'!AD$199","v":0},{"$f":"'Vertical Labels'!AE$199","v":0},{"$f":"'Vertical Labels'!AF$199","v":0},{"$f":"'Vertical Labels'!AG$199","v":0},{"$f":"'Vertical Labels'!AH$199","v":0},{"$f":"'Vertical Labels'!AI$199","v":0},{"$f":"'Vertical Labels'!AJ$199","v":0},{"$f":"'Vertical Labels'!AK$199","v":0},{"$f":"'Vertical Labels'!AL$199","v":0},{"$f":"'Vertical Labels'!AM$199","v":0},{"$f":"'Vertical Labels'!AN$199","v":0},{"$f":"'Vertical Labels'!AO$199","v":0},{"$f":"'Vertical Labels'!AP$199","v":0},{"$f":"'Vertical Labels'!AQ$199","v":0},{"$f":"'Vertical Labels'!AR$199","v":0},{"$f":"'Vertical Labels'!AS$199","v":0},{"$f":"'Vertical Labels'!AT$199","v":0},{"$f":"'Vertical Labels'!AU$199","v":0},{"$f":"'Vertical Labels'!AV$199","v":0},{"$f":"'Vertical Labels'!AW$199","v":0},{"$f":"'Vertical Labels'!AX$199","v":0},{"$f":"'Vertical Labels'!AY$199","v":0},{"$f":"'Vertical Labels'!AZ$199","v":0},{"$f":"'Vertical Labels'!BA$199","v":0},{"$f":"'Vertical Labels'!BB$199","v":0}]
[null,null,"RELATIVE",{"$f":"D158","v":0},{"$f":"IF(E158-D158<1,0,E158-D158)","v":0},{"$f":"IF(F158-E158<1,0,F158-E158)","v":0},0,0,0,0,0,0,0,0,0,0,0,0,0,0,0,0,0,0,0,0,0,0,0,0,0,0,0,0,0,0,0,0,0,0,0,0,0,0,0,0,0,0,0,0,0,0,0]
[null,null,"BLOCKS",{"$f":"'Vertical Labels'!E$199","v":0},{"$f":"'Vertical Labels'!F$199","v":0},{"$f":"'Vertical Labels'!G$199","v":0},{"$f":"'Vertical Labels'!H$199","v":0},{"$f":"'Vertical Labels'!I$199","v":0},{"$f":"'Vertical Labels'!J$199","v":0},{"$f":"'Vertical Labels'!K$199","v":0},{"$f":"'Vertical Labels'!L$199","v":0},{"$f":"'Vertical Labels'!M$199","v":0},{"$f":"'Vertical Labels'!N$199","v":0},{"$f":"'Vertical Labels'!O$199","v":0},{"$f":"'Vertical Labels'!P$199","v":0},{"$f":"'Vertical Labels'!Q$199","v":0},{"$f":"'Vertical Labels'!R$199","v":0},{"$f":"'Vertical Labels'!S$199","v":0},{"$f":"'Vertical Labels'!T$199","v":0},{"$f":"'Vertical Labels'!U$199","v":0},{"$f":"'Vertical Labels'!V$199","v":0},{"$f":"'Vertical Labels'!W$199","v":0},{"$f":"'Vertical Labels'!X$199","v":0},{"$f":"'Vertical Labels'!Y$199","v":0},{"$f":"'Vertical Labels'!Z$199","v":0},{"$f":"'Vertical Labels'!AA$199","v":0},{"$f":"'Vertical Labels'!AB$199","v":0},{"$f":"'Vertical Labels'!AC$199","v":0},{"$f":"'Vertical Labels'!AD$199","v":0},{"$f":"'Vertical Labels'!AE$199","v":0},{"$f":"'Vertical Labels'!AF$199","v":0},{"$f":"'Vertical Labels'!AG$199","v":0},{"$f":"'Vertical Labels'!AH$199","v":0},{"$f":"'Vertical Labels'!AI$199","v":0},{"$f":"'Vertical Labels'!AJ$199","v":0},{"$f":"'Vertical Labels'!AK$199","v":0},{"$f":"'Vertical Labels'!AL$199","v":0},{"$f":"'Vertical Labels'!AM$199","v":0},{"$f":"'Vertical Labels'!AN$199","v":0},{"$f":"'Vertical Labels'!AO$199","v":0},{"$f":"'Vertical Labels'!AP$199","v":0},{"$f":"'Vertical Labels'!AQ$199","v":0},{"$f":"'Vertical Labels'!AR$199","v":0},{"$f":"'Vertical Labels'!AS$199","v":0},{"$f":"'Vertical Labels'!AT$199","v":0},{"$f":"'Vertical Labels'!AU$199","v":0},{"$f":"'Vertical Labels'!AV$199","v":0},{"$f":"'Vertical Labels'!AW$199","v":0},{"$f":"'Vertical Labels'!AX$199","v":0},{"$f":"'Vertical Labels'!AY$199","v":0},{"$f":"'Vertical Labels'!AZ$199","v":0},{"$f":"'Vertical Labels'!BA$199","v":0},{"$f":"'Vertical Labels'!BB$199","v":0}]
[null,null,"FIXED",{"$f":"D162","v":0},{"$f":"IF(OR(SUM($D$162:E162)=D161,D161=0),0,SUM($D$162:E162))","v":0},{"$f":"IF(OR(SUM($D$162:F162)=E161,E161=0),0,SUM($D$162:F162))","v":0},{"$f":"IF(OR(SUM($D$162:G162)=F161,F161=0),0,SUM($D$162:G162))","v":0},{"$f":"IF(OR(SUM($D$162:H162)=G161,G161=0),0,SUM($D$162:H162))","v":0},{"$f":"IF(OR(SUM($D$162:I162)=H161,H161=0),0,SUM($D$162:I162))","v":0},{"$f":"IF(OR(SUM($D$162:J162)=I161,I161=0),0,SUM($D$162:J162))","v":0},{"$f":"IF(OR(SUM($D$162:K162)=J161,J161=0),0,SUM($D$162:K162))","v":0},{"$f":"IF(OR(SUM($D$162:L162)=K161,K161=0),0,SUM($D$162:L162))","v":0},{"$f":"IF(OR(SUM($D$162:M162)=L161,L161=0),0,SUM($D$162:M162))","v":0},{"$f":"IF(OR(SUM($D$162:N162)=M161,M161=0),0,SUM($D$162:N162))","v":0},{"$f":"IF(OR(SUM($D$162:O162)=N161,N161=0),0,SUM($D$162:O162))","v":0},{"$f":"IF(OR(SUM($D$162:P162)=O161,O161=0),0,SUM($D$162:P162))","v":0},{"$f":"IF(OR(SUM($D$162:Q162)=P161,P161=0),0,SUM($D$162:Q162))","v":0},{"$f":"IF(OR(SUM($D$162:R162)=Q161,Q161=0),0,SUM($D$162:R162))","v":0},{"$f":"IF(OR(SUM($D$162:S162)=R161,R161=0),0,SUM($D$162:S162))","v":0},{"$f":"IF(OR(SUM($D$162:T162)=S161,S161=0),0,SUM($D$162:T162))","v":0},{"$f":"IF(OR(SUM($D$162:U162)=T161,T161=0),0,SUM($D$162:U162))","v":0},{"$f":"IF(OR(SUM($D$162:V162)=U161,U161=0),0,SUM($D$162:V162))","v":0},{"$f":"IF(OR(SUM($D$162:W162)=V161,V161=0),0,SUM($D$162:W162))","v":0},{"$f":"IF(OR(SUM($D$162:X162)=W161,W161=0),0,SUM($D$162:X162))","v":0},{"$f":"IF(OR(SUM($D$162:Y162)=X161,X161=0),0,SUM($D$162:Y162))","v":0},{"$f":"IF(OR(SUM($D$162:Z162)=Y161,Y161=0),0,SUM($D$162:Z162))","v":0},{"$f":"IF(OR(SUM($D$162:AA162)=Z161,Z161=0),0,SUM($D$162:AA162))","v":0},{"$f":"IF(OR(SUM($D$162:AB162)=AA161,AA161=0),0,SUM($D$162:AB162))","v":0},{"$f":"IF(OR(SUM($D$162:AC162)=AB161,AB161=0),0,SUM($D$162:AC162))","v":0},{"$f":"IF(OR(SUM($D$162:AD162)=AC161,AC161=0),0,SUM($D$162:AD162))","v":0},{"$f":"IF(OR(SUM($D$162:AE162)=AD161,AD161=0),0,SUM($D$162:AE162))","v":0},{"$f":"IF(OR(SUM($D$162:AF162)=AE161,AE161=0),0,SUM($D$162:AF162))","v":0},{"$f":"IF(OR(SUM($D$162:AG162)=AF161,AF161=0),0,SUM($D$162:AG162))","v":0},{"$f":"IF(OR(SUM($D$162:AH162)=AG161,AG161=0),0,SUM($D$162:AH162))","v":0},{"$f":"IF(OR(SUM($D$162:AI162)=AH161,AH161=0),0,SUM($D$162:AI162))","v":0},{"$f":"IF(OR(SUM($D$162:AJ162)=AI161,AI161=0),0,SUM($D$162:AJ162))","v":0},{"$f":"IF(OR(SUM($D$162:AK162)=AJ161,AJ161=0),0,SUM($D$162:AK162))","v":0},{"$f":"IF(OR(SUM($D$162:AL162)=AK161,AK161=0),0,SUM($D$162:AL162))","v":0},{"$f":"IF(OR(SUM($D$162:AM162)=AL161,AL161=0),0,SUM($D$162:AM162))","v":0},{"$f":"IF(OR(SUM($D$162:AN162)=AM161,AM161=0),0,SUM($D$162:AN162))","v":0},{"$f":"IF(OR(SUM($D$162:AO162)=AN161,AN161=0),0,SUM($D$162:AO162))","v":0},{"$f":"IF(OR(SUM($D$162:AP162)=AO161,AO161=0),0,SUM($D$162:AP162))","v":0},{"$f":"IF(OR(SUM($D$162:AQ162)=AP161,AP161=0),0,SUM($D$162:AQ162))","v":0},{"$f":"IF(OR(SUM($D$162:AR162)=AQ161,AQ161=0),0,SUM($D$162:AR162))","v":0},{"$f":"IF(OR(SUM($D$162:AS162)=AR161,AR161=0),0,SUM($D$162:AS162))","v":0},{"$f":"IF(OR(SUM($D$162:AT162)=AS161,AS161=0),0,SUM($D$162:AT162))","v":0},{"$f":"IF(OR(SUM($D$162:AU162)=AT161,AT161=0),0,SUM($D$162:AU162))","v":0},{"$f":"IF(OR(SUM($D$162:AV162)=AU161,AU161=0),0,SUM($D$162:AV162))","v":0},{"$f":"IF(OR(SUM($D$162:AW162)=AV161,AV161=0),0,SUM($D$162:AW162))","v":0},{"$f":"IF(OR(SUM($D$162:AX162)=AW161,AW161=0),0,SUM($D$162:AX162))","v":0},{"$f":"IF(OR(SUM($D$162:AY162)=AX161,AX161=0),0,SUM($D$162:AY162))","v":0},{"$f":"IF(OR(SUM($D$162:AZ162)=AY161,AY161=0),0,SUM($D$162:AZ162))","v":0},{"$f":"IF(OR(SUM($D$162:BA162)=AZ161,AZ161=0),0,SUM($D$162:BA162))","v":0}]
[null,null,"RELATIVE",{"$f":"D160/2","v":0},{"$f":"(D160/2)+(E160/2)","v":0},{"$f":"(E160/2)+(F160/2)","v":0},0,0,0,0,0,0,0,0,0,0,0,0,0,0,0,0,0,0,0,0,0,0,0,0,0,0,0,0,0,0,0,0,0,0,0,0,0,0,0,0,0,0,0,0,0,0,0]
[]
[{"$nulls":3},1,2,3,4,5,6,7,8,9,10,11,12,13,14,15,16,17,18,19,20,21,22,23,24,25,26,27,28,29,30,31,32,33,34,35,36,37,38,39,40,41,42,43,44,45,46,47,48,49,50]
[null,"LABEL 19","RELATIVE",{"$f":"'Vertical Labels'!E$210","v":0},{"$f":"'Vertical Labels'!F$210","v":0},{"$f":"'Vertical Labels'!G$210","v":0},{"$f":"'Vertical Labels'!H$210","v":0},{"$f":"'Vertical Labels'!I$210","v":0},{"$f":"'Vertical Labels'!J$210","v":0},{"$f":"'Vertical Labels'!K$210","v":0},{"$f":"'Vertical Labels'!L$210","v":0},{"$f":"'Vertical Labels'!M$210","v":0},{"$f":"'Vertical Labels'!N$210","v":0},{"$f":"'Vertical Labels'!O$210","v":0},{"$f":"'Vertical Labels'!P$210","v":0},{"$f":"'Vertical Labels'!Q$210","v":0},{"$f":"'Vertical Labels'!R$210","v":0},{"$f":"'Vertical Labels'!S$210","v":0},{"$f":"'Vertical Labels'!T$210","v":0},{"$f":"'Vertical Labels'!U$210","v":0},{"$f":"'Vertical Labels'!V$210","v":0},{"$f":"'Vertical Labels'!W$210","v":0},{"$f":"'Vertical Labels'!X$210","v":0},{"$f":"'Vertical Labels'!Y$210","v":0},{"$f":"'Vertical Labels'!Z$210","v":0},{"$f":"'Vertical Labels'!AA$210","v":0},{"$f":"'Vertical Labels'!AB$210","v":0},{"$f":"'Vertical Labels'!AC$210","v":0},{"$f":"'Vertical Labels'!AD$210","v":0},{"$f":"'Vertical Labels'!AE$210","v":0},{"$f":"'Vertical Labels'!AF$210","v":0},{"$f":"'Vertical Labels'!AG$210","v":0},{"$f":"'Vertical Labels'!AH$210","v":0},{"$f":"'Vertical Labels'!AI$210","v":0},{"$f":"'Vertical Labels'!AJ$210","v":0},{"$f":"'Vertical Labels'!AK$210","v":0},{"$f":"'Vertical Labels'!AL$210","v":0},{"$f":"'Vertical Labels'!AM$210","v":0},{"$f":"'Vertical Labels'!AN$210","v":0},{"$f":"'Vertical Labels'!AO$210","v":0},{"$f":"'Vertical Labels'!AP$210","v":0},{"$f":"'Vertical Labels'!AQ$210","v":0},{"$f":"'Vertical Labels'!AR$210","v":0},{"$f":"'Vertical Labels'!AS$210","v":0},{"$f":"'Vertical Labels'!AT$210","v":0},{"$f":"'Vertical Labels'!AU$210","v":0},{"$f":"'Vertical Labels'!AV$210","v":0},{"$f":"'Vertical Labels'!AW$210","v":0},{"$f":"'Vertical Labels'!AX$210","v":0},{"$f":"'Vertical Labels'!AY$210","v":0},{"$f":"'Vertical Labels'!AZ$210","v":0},{"$f":"'Vertical Labels'!BA$210","v":0},{"$f":"'Vertical Labels'!BB$210","v":0}]
[null,null,"FIXED",{"$f":"SUM($D$165:D165)","v":0},{"$f":"IF(OR(SUM($D$165:E165)=D166,D166=0),0,SUM($D$165:E165))","v":0},{"$f":"IF(OR(SUM($D$165:F165)=E166,E166=0),0,SUM($D$165:F165))","v":0},{"$f":"IF(OR(SUM($D$165:G165)=F166,F166=0),0,SUM($D$165:G165))","v":0},{"$f":"IF(OR(SUM($D$165:H165)=G166,G166=0),0,SUM($D$165:H165))","v":0},{"$f":"IF(OR(SUM($D$165:I165)=H166,H166=0),0,SUM($D$165:I165))","v":0},{"$f":"IF(OR(SUM($D$165:J165)=I166,I166=0),0,SUM($D$165:J165))","v":0},{"$f":"IF(OR(SUM($D$165:K165)=J166,J166=0),0,SUM($D$165:K165))","v":0},{"$f":"IF(OR(SUM($D$165:L165)=K166,K166=0),0,SUM($D$165:L165))","v":0},{"$f":"IF(OR(SUM($D$165:M165)=L166,L166=0),0,SUM($D$165:M165))","v":0},{"$f":"IF(OR(SUM($D$165:N165)=M166,M166=0),0,SUM($D$165:N165))","v":0},{"$f":"IF(OR(SUM($D$165:O165)=N166,N166=0),0,SUM($D$165:O165))","v":0},{"$f":"IF(OR(SUM($D$165:P165)=O166,O166=0),0,SUM($D$165:P165))","v":0},{"$f":"IF(OR(SUM($D$165:Q165)=P166,P166=0),0,SUM($D$165:Q165))","v":0},{"$f":"IF(OR(SUM($D$165:R165)=Q166,Q166=0),0,SUM($D$165:R165))","v":0},{"$f":"IF(OR(SUM($D$165:S165)=R166,R166=0),0,SUM($D$165:S165))","v":0},{"$f":"IF(OR(SUM($D$165:T165)=S166,S166=0),0,SUM($D$165:T165))","v":0},{"$f":"IF(OR(SUM($D$165:U165)=T166,T166=0),0,SUM($D$165:U165))","v":0},{"$f":"IF(OR(SUM($D$165:V165)=U166,U166=0),0,SUM($D$165:V165))","v":0},{"$f":"IF(OR(SUM($D$165:W165)=V166,V166=0),0,SUM($D$165:W165))","v":0},{"$f":"IF(OR(SUM($D$165:X165)=W166,W166=0),0,SUM($D$165:X165))","v":0},{"$f":"IF(OR(SUM($D$165:Y165)=X166,X166=0),0,SUM($D$165:Y165))","v":0},{"$f":"IF(OR(SUM($D$165:Z165)=Y166,Y166=0),0,SUM($D$165:Z165))","v":0},{"$f":"IF(OR(SUM($D$165:AA165)=Z166,Z166=0),0,SUM($D$165:AA165))","v":0},{"$f":"IF(OR(SUM($D$165:AB165)=AA166,AA166=0),0,SUM($D$165:AB165))","v":0},{"$f":"IF(OR(SUM($D$165:AC165)=AB166,AB166=0),0,SUM($D$165:AC165))","v":0},{"$f":"IF(OR(SUM($D$165:AD165)=AC166,AC166=0),0,SUM($D$165:AD165))","v":0},{"$f":"IF(OR(SUM($D$165:AE165)=AD166,AD166=0),0,SUM($D$165:AE165))","v":0},{"$f":"IF(OR(SUM($D$165:AF165)=AE166,AE166=0),0,SUM($D$165:AF165))","v":0},{"$f":"IF(OR(SUM($D$165:AG165)=AF166,AF166=0),0,SUM($D$165:AG165))","v":0},{"$f":"IF(OR(SUM($D$165:AH165)=AG166,AG166=0),0,SUM($D$165:AH165))","v":0},{"$f":"IF(OR(SUM($D$165:AI165)=AH166,AH166=0),0,SUM($D$165:AI165))","v":0},{"$f":"IF(OR(SUM($D$165:AJ165)=AI166,AI166=0),0,SUM($D$165:AJ165))","v":0},{"$f":"IF(OR(SUM($D$165:AK165)=AJ166,AJ166=0),0,SUM($D$165:AK165))","v":0},{"$f":"IF(OR(SUM($D$165:AL165)=AK166,AK166=0),0,SUM($D$165:AL165))","v":0},{"$f":"IF(OR(SUM($D$165:AM165)=AL166,AL166=0),0,SUM($D$165:AM165))","v":0},{"$f":"IF(OR(SUM($D$165:AN165)=AM166,AM166=0),0,SUM($D$165:AN165))","v":0},{"$f":"IF(OR(SUM($D$165:AO165)=AN166,AN166=0),0,SUM($D$165:AO165))","v":0},{"$f":"IF(OR(SUM($D$165:AP165)=AO166,AO166=0),0,SUM($D$165:AP165))","v":0},{"$f":"IF(OR(SUM($D$165:AQ165)=AP166,AP166=0),0,SUM($D$165:AQ165))","v":0},{"$f":"IF(OR(SUM($D$165:AR165)=AQ166,AQ166=0),0,SUM($D$165:AR165))","v":0},{"$f":"IF(OR(SUM($D$165:AS165)=AR166,AR166=0),0,SUM($D$165:AS165))","v":0},{"$f":"IF(OR(SUM($D$165:AT165)=AS166,AS166=0),0,SUM($D$165:AT165))","v":0},{"$f":"IF(OR(SUM($D$165:AU165)=AT166,AT166=0),0,SUM($D$165:AU165))","v":0},{"$f":"IF(OR(SUM($D$165:AV165)=AU166,AU166=0),0,SUM($D$165:AV165))","v":0},{"$f":"IF(OR(SUM($D$165:AW165)=AV166,AV166=0),0,SUM($D$165:AW165))","v":0},{"$f":"IF(OR(SUM($D$165:AX165)=AW166,AW166=0),0,SUM($D$165:AX165))","v":0},{"$f":"IF(OR(SUM($D$165:AY165)=AX166,AX166=0),0,SUM($D$165:AY165))","v":0},{"$f":"IF(OR(SUM($D$165:AZ165)=AY166,AY166=0),0,SUM($D$165:AZ165))","v":0},{"$f":"IF(OR(SUM($D$165:BA165)=AZ166,AZ166=0),0,SUM($D$165:BA165))","v":0}]
[null,null,"FIXED",{"$f":"'Vertical Labels'!E$210","v":0},{"$f":"'Vertical Labels'!F$210","v":0},{"$f":"'Vertical Labels'!G$210","v":0},{"$f":"'Vertical Labels'!H$210","v":0},{"$f":"'Vertical Labels'!I$210","v":0},{"$f":"'Vertical Labels'!J$210","v":0},{"$f":"'Vertical Labels'!K$210","v":0},{"$f":"'Vertical Labels'!L$210","v":0},{"$f":"'Vertical Labels'!M$210","v":0},{"$f":"'Vertical Labels'!N$210","v":0},{"$f":"'Vertical Labels'!O$210","v":0},{"$f":"'Vertical Labels'!P$210","v":0},{"$f":"'Vertical Labels'!Q$210","v":0},{"$f":"'Vertical Labels'!R$210","v":0},{"$f":"'Vertical Labels'!S$210","v":0},{"$f":"'Vertical Labels'!T$210","v":0},{"$f":"'Vertical Labels'!U$210","v":0},{"$f":"'Vertical Labels'!V$210","v":0},{"$f":"'Vertical Labels'!W$210","v":0},{"$f":"'Vertical Labels'!X$210","v":0},{"$f":"'Vertical Labels'!Y$210","v":0},{"$f":"'Vertical Labels'!Z$210","v":0},{"$f":"'Vertical Labels'!AA$210","v":0},{"$f":"'Vertical Labels'!AB$210","v":0},{"$f":"'Vertical Labels'!AC$210","v":0},{"$f":"'Vertical Labels'!AD$210","v":0},{"$f":"'Vertical Labels'!AE$210","v":0},{"$f":"'Vertical Labels'!AF$210","v":0},{"$f":"'Vertical Labels'!AG$210","v":0},{"$f":"'Vertical Labels'!AH$210","v":0},{"$f":"'Vertical Labels'!AI$210","v":0},{"$f":"'Vertical Labels'!AJ$210","v":0},{"$f":"'Vertical Labels'!AK$210","v":0},{"$f":"'Vertical Labels'!AL$210","v":0},{"$f":"'Vertical Labels'!AM$210","v":0},{"$f":"'Vertical Labels'!AN$210","v":0},{"$f":"'Vertical Labels'!AO$210","v":0},{"$f":"'Vertical Labels'!AP$210","v":0},{"$f":"'Vertical Labels'!AQ$210","v":0},{"$f":"'Vertical Labels'!AR$210","v":0},{"$f":"'Vertical Labels'!AS$210","v":0},{"$f":"'Vertical Labels'!AT$210","v":0},{"$f":"'Vertical Labels'!AU$210","v":0},{"$f":"'Vertical Labels'!AV$210","v":0},{"$f":"'Vertical Labels'!AW$210","v":0},{"$f":"'Vertical Labels'!AX$210","v":0},{"$f":"'Vertical Labels'!AY$210","v":0},{"$f":"'Vertical Labels'!AZ$210","v":0},{"$f":"'Vertical Labels'!BA$210","v":0},{"$f":"'Vertical Labels'!BB$210","v":0}]
[null,null,"RELATIVE",{"$f":"D167","v":0},{"$f":"IF(E167-D167<1,0,E167-D167)","v":0},{"$f":"IF(F167-E167<1,0,F167-E167)","v":0},0,0,0,0,0,0,0,0,0,0,0,0,0,0,0,0,0,0,0,0,0,0,0,0,0,0,0,0,0,0,0,0,0,0,0,0,0,0,0,0,0,0,0,0,0,0,0]
[null,null,"BLOCKS",{"$f":"'Vertical Labels'!E$210","v":0},{"$f":"'Vertical Labels'!F$210","v":0},{"$f":"'Vertical Labels'!G$210","v":0},{"$f":"'Vertical Labels'!H$210","v":0},{"$f":"'Vertical Labels'!I$210","v":0},{"$f":"'Vertical Labels'!J$210","v":0},{"$f":"'Vertical Labels'!K$210","v":0},{"$f":"'Vertical Labels'!L$210","v":0},{"$f":"'Vertical Labels'!M$210","v":0},{"$f":"'Vertical Labels'!N$210","v":0},{"$f":"'Vertical Labels'!O$210","v":0},{"$f":"'Vertical Labels'!P$210","v":0},{"$f":"'Vertical Labels'!Q$210","v":0},{"$f":"'Vertical Labels'!R$210","v":0},{"$f":"'Vertical Labels'!S$210","v":0},{"$f":"'Vertical Labels'!T$210","v":0},{"$f":"'Vertical Labels'!U$210","v":0},{"$f":"'Vertical Labels'!V$210","v":0},{"$f":"'Vertical Labels'!W$210","v":0},{"$f":"'Vertical Labels'!X$210","v":0},{"$f":"'Vertical Labels'!Y$210","v":0},{"$f":"'Vertical Labels'!Z$210","v":0},{"$f":"'Vertical Labels'!AA$210","v":0},{"$f":"'Vertical Labels'!AB$210","v":0},{"$f":"'Vertical Labels'!AC$210","v":0},{"$f":"'Vertical Labels'!AD$210","v":0},{"$f":"'Vertical Labels'!AE$210","v":0},{"$f":"'Vertical Labels'!AF$210","v":0},{"$f":"'Vertical Labels'!AG$210","v":0},{"$f":"'Vertical Labels'!AH$210","v":0},{"$f":"'Vertical Labels'!AI$210","v":0},{"$f":"'Vertical Labels'!AJ$210","v":0},{"$f":"'Vertical Labels'!AK$210","v":0},{"$f":"'Vertical Labels'!AL$210","v":0},{"$f":"'Vertical Labels'!AM$210","v":0},{"$f":"'Vertical Labels'!AN$210","v":0},{"$f":"'Vertical Labels'!AO$210","v":0},{"$f":"'Vertical Labels'!AP$210","v":0},{"$f":"'Vertical Labels'!AQ$210","v":0},{"$f":"'Vertical Labels'!AR$210","v":0},{"$f":"'Vertical Labels'!AS$210","v":0},{"$f":"'Vertical Labels'!AT$210","v":0},{"$f":"'Vertical Labels'!AU$210","v":0},{"$f":"'Vertical Labels'!AV$210","v":0},{"$f":"'Vertical Labels'!AW$210","v":0},{"$f":"'Vertical Labels'!AX$210","v":0},{"$f":"'Vertical Labels'!AY$210","v":0},{"$f":"'Vertical Labels'!AZ$210","v":0},{"$f":"'Vertical Labels'!BA$210","v":0},{"$f":"'Vertical Labels'!BB$210","v":0}]
[null,null,"FIXED",{"$f":"D171","v":0},{"$f":"IF(OR(SUM($D$171:E171)=D170,D170=0),0,SUM($D$171:E171))","v":0},{"$f":"IF(OR(SUM($D$171:F171)=E170,E170=0),0,SUM($D$171:F171))","v":0},{"$f":"IF(OR(SUM($D$171:G171)=F170,F170=0),0,SUM($D$171:G171))","v":0},{"$f":"IF(OR(SUM($D$171:H171)=G170,G170=0),0,SUM($D$171:H171))","v":0},{"$f":"IF(OR(SUM($D$171:I171)=H170,H170=0),0,SUM($D$171:I171))","v":0},{"$f":"IF(OR(SUM($D$171:J171)=I170,I170=0),0,SUM($D$171:J171))","v":0},{"$f":"IF(OR(SUM($D$171:K171)=J170,J170=0),0,SUM($D$171:K171))","v":0},{"$f":"IF(OR(SUM($D$171:L171)=K170,K170=0),0,SUM($D$171:L171))","v":0},{"$f":"IF(OR(SUM($D$171:M171)=L170,L170=0),0,SUM($D$171:M171))","v":0},{"$f":"IF(OR(SUM($D$171:N171)=M170,M170=0),0,SUM($D$171:N171))","v":0},{"$f":"IF(OR(SUM($D$171:O171)=N170,N170=0),0,SUM($D$171:O171))","v":0},{"$f":"IF(OR(SUM($D$171:P171)=O170,O170=0),0,SUM($D$171:P171))","v":0},{"$f":"IF(OR(SUM($D$171:Q171)=P170,P170=0),0,SUM($D$171:Q171))","v":0},{"$f":"IF(OR(SUM($D$171:R171)=Q170,Q170=0),0,SUM($D$171:R171))","v":0},{"$f":"IF(OR(SUM($D$171:S171)=R170,R170=0),0,SUM($D$171:S171))","v":0},{"$f":"IF(OR(SUM($D$171:T171)=S170,S170=0),0,SUM($D$171:T171))","v":0},{"$f":"IF(OR(SUM($D$171:U171)=T170,T170=0),0,SUM($D$171:U171))","v":0},{"$f":"IF(OR(SUM($D$171:V171)=U170,U170=0),0,SUM($D$171:V171))","v":0},{"$f":"IF(OR(SUM($D$171:W171)=V170,V170=0),0,SUM($D$171:W171))","v":0},{"$f":"IF(OR(SUM($D$171:X171)=W170,W170=0),0,SUM($D$171:X171))","v":0},{"$f":"IF(OR(SUM($D$171:Y171)=X170,X170=0),0,SUM($D$171:Y171))","v":0},{"$f":"IF(OR(SUM($D$171:Z171)=Y170,Y170=0),0,SUM($D$171:Z171))","v":0},{"$f":"IF(OR(SUM($D$171:AA171)=Z170,Z170=0),0,SUM($D$171:AA171))","v":0},{"$f":"IF(OR(SUM($D$171:AB171)=AA170,AA170=0),0,SUM($D$171:AB171))","v":0},{"$f":"IF(OR(SUM($D$171:AC171)=AB170,AB170=0),0,SUM($D$171:AC171))","v":0},{"$f":"IF(OR(SUM($D$171:AD171)=AC170,AC170=0),0,SUM($D$171:AD171))","v":0},{"$f":"IF(OR(SUM($D$171:AE171)=AD170,AD170=0),0,SUM($D$171:AE171))","v":0},{"$f":"IF(OR(SUM($D$171:AF171)=AE170,AE170=0),0,SUM($D$171:AF171))","v":0},{"$f":"IF(OR(SUM($D$171:AG171)=AF170,AF170=0),0,SUM($D$171:AG171))","v":0},{"$f":"IF(OR(SUM($D$171:AH171)=AG170,AG170=0),0,SUM($D$171:AH171))","v":0},{"$f":"IF(OR(SUM($D$171:AI171)=AH170,AH170=0),0,SUM($D$171:AI171))","v":0},{"$f":"IF(OR(SUM($D$171:AJ171)=AI170,AI170=0),0,SUM($D$171:AJ171))","v":0},{"$f":"IF(OR(SUM($D$171:AK171)=AJ170,AJ170=0),0,SUM($D$171:AK171))","v":0},{"$f":"IF(OR(SUM($D$171:AL171)=AK170,AK170=0),0,SUM($D$171:AL171))","v":0},{"$f":"IF(OR(SUM($D$171:AM171)=AL170,AL170=0),0,SUM($D$171:AM171))","v":0},{"$f":"IF(OR(SUM($D$171:AN171)=AM170,AM170=0),0,SUM($D$171:AN171))","v":0},{"$f":"IF(OR(SUM($D$171:AO171)=AN170,AN170=0),0,SUM($D$171:AO171))","v":0},{"$f":"IF(OR(SUM($D$171:AP171)=AO170,AO170=0),0,SUM($D$171:AP171))","v":0},{"$f":"IF(OR(SUM($D$171:AQ171)=AP170,AP170=0),0,SUM($D$171:AQ171))","v":0},{"$f":"IF(OR(SUM($D$171:AR171)=AQ170,AQ170=0),0,SUM($D$171:AR171))","v":0},{"$f":"IF(OR(SUM($D$171:AS171)=AR170,AR170=0),0,SUM($D$171:AS171))","v":0},{"$f":"IF(OR(SUM($D$171:AT171)=AS170,AS170=0),0,SUM($D$171:AT171))","v":0},{"$f":"IF(OR(SUM($D$171:AU171)=AT170,AT170=0),0,SUM($D$171:AU171))","v":0},{"$f":"IF(OR(SUM($D$171:AV171)=AU170,AU170=0),0,SUM($D$171:AV171))","v":0},{"$f":"IF(OR(SUM($D$171:AW171)=AV170,AV170=0),0,SUM($D$171:AW171))","v":0},{"$f":"IF(OR(SUM($D$171:AX171)=AW170,AW170=0),0,SUM($D$171:AX171))","v":0},{"$f":"IF(OR(SUM($D$171:AY171)=AX170,AX170=0),0,SUM($D$171:AY171))","v":0},{"$f":"IF(OR(SUM($D$171:AZ171)=AY170,AY170=0),0,SUM($D$171:AZ171))","v":0},{"$f":"IF(OR(SUM($D$171:BA171)=AZ170,AZ170=0),0,SUM($D$171:BA171))","v":0}]
[null,null,"RELATIVE",{"$f":"D169/2","v":0},{"$f":"(D169/2)+(E169/2)","v":0},{"$f":"(E169/2)+(F169/2)","v":0},0,0,0,0,0,0,0,0,0,0,0,0,0,0,0,0,0,0,0,0,0,0,0,0,0,0,0,0,0,0,0,0,0,0,0,0,0,0,0,0,0,0,0,0,0,0,0]
[]
[{"$nulls":3},1,2,3,4,5,6,7,8,9,10,11,12,13,14,15,16,17,18,19,20,21,22,23,24,25,26,27,28,29,30,31,32,33,34,35,36,37,38,39,40,41,42,43,44,45,46,47,48,49,50]
[null,"LABEL 20","RELATIVE",{"$f":"'Vertical Labels'!E$221","v":0},{"$f":"'Vertical Labels'!F$221","v":0},{"$f":"'Vertical Labels'!G$221","v":0},{"$f":"'Vertical Labels'!H$221","v":0},{"$f":"'Vertical Labels'!I$221","v":0},{"$f":"'Vertical Labels'!J$221","v":0},{"$f":"'Vertical Labels'!K$221","v":0},{"$f":"'Vertical Labels'!L$221","v":0},{"$f":"'Vertical Labels'!M$221","v":0},{"$f":"'Vertical Labels'!N$221","v":0},{"$f":"'Vertical Labels'!O$221","v":0},{"$f":"'Vertical Labels'!P$221","v":0},{"$f":"'Vertical Labels'!Q$221","v":0},{"$f":"'Vertical Labels'!R$221","v":0},{"$f":"'Vertical Labels'!S$221","v":0},{"$f":"'Vertical Labels'!T$221","v":0},{"$f":"'Vertical Labels'!U$221","v":0},{"$f":"'Vertical Labels'!V$221","v":0},{"$f":"'Vertical Labels'!W$221","v":0},{"$f":"'Vertical Labels'!X$221","v":0},{"$f":"'Vertical Labels'!Y$221","v":0},{"$f":"'Vertical Labels'!Z$221","v":0},{"$f":"'Vertical Labels'!AA$221","v":0},{"$f":"'Vertical Labels'!AB$221","v":0},{"$f":"'Vertical Labels'!AC$221","v":0},{"$f":"'Vertical Labels'!AD$221","v":0},{"$f":"'Vertical Labels'!AE$221","v":0},{"$f":"'Vertical Labels'!AF$221","v":0},{"$f":"'Vertical Labels'!AG$221","v":0},{"$f":"'Vertical Labels'!AH$221","v":0},{"$f":"'Vertical Labels'!AI$221","v":0},{"$f":"'Vertical Labels'!AJ$221","v":0},{"$f":"'Vertical Labels'!AK$221","v":0},{"$f":"'Vertical Labels'!AL$221","v":0},{"$f":"'Vertical Labels'!AM$221","v":0},{"$f":"'Vertical Labels'!AN$221","v":0},{"$f":"'Vertical Labels'!AO$221","v":0},{"$f":"'Vertical Labels'!AP$221","v":0},{"$f":"'Vertical Labels'!AQ$221","v":0},{"$f":"'Vertical Labels'!AR$221","v":0},{"$f":"'Vertical Labels'!AS$221","v":0},{"$f":"'Vertical Labels'!AT$221","v":0},{"$f":"'Vertical Labels'!AU$221","v":0},{"$f":"'Vertical Labels'!AV$221","v":0},{"$f":"'Vertical Labels'!AW$221","v":0},{"$f":"'Vertical Labels'!AX$221","v":0},{"$f":"'Vertical Labels'!AY$221","v":0},{"$f":"'Vertical Labels'!AZ$221","v":0},{"$f":"'Vertical Labels'!BA$221","v":0},{"$f":"'Vertical Labels'!BB$221","v":0}]
[null,null,"FIXED",{"$f":"SUM($D$174:D174)","v":0},{"$f":"IF(OR(SUM($D$174:E174)=D175,D175=0),0,SUM($D$174:E174))","v":0},{"$f":"IF(OR(SUM($D$174:F174)=E175,E175=0),0,SUM($D$174:F174))","v":0},{"$f":"IF(OR(SUM($D$174:G174)=F175,F175=0),0,SUM($D$174:G174))","v":0},{"$f":"IF(OR(SUM($D$174:H174)=G175,G175=0),0,SUM($D$174:H174))","v":0},{"$f":"IF(OR(SUM($D$174:I174)=H175,H175=0),0,SUM($D$174:I174))","v":0},{"$f":"IF(OR(SUM($D$174:J174)=I175,I175=0),0,SUM($D$174:J174))","v":0},{"$f":"IF(OR(SUM($D$174:K174)=J175,J175=0),0,SUM($D$174:K174))","v":0},{"$f":"IF(OR(SUM($D$174:L174)=K175,K175=0),0,SUM($D$174:L174))","v":0},{"$f":"IF(OR(SUM($D$174:M174)=L175,L175=0),0,SUM($D$174:M174))","v":0},{"$f":"IF(OR(SUM($D$174:N174)=M175,M175=0),0,SUM($D$174:N174))","v":0},{"$f":"IF(OR(SUM($D$174:O174)=N175,N175=0),0,SUM($D$174:O174))","v":0},{"$f":"IF(OR(SUM($D$174:P174)=O175,O175=0),0,SUM($D$174:P174))","v":0},{"$f":"IF(OR(SUM($D$174:Q174)=P175,P175=0),0,SUM($D$174:Q174))","v":0},{"$f":"IF(OR(SUM($D$174:R174)=Q175,Q175=0),0,SUM($D$174:R174))","v":0},{"$f":"IF(OR(SUM($D$174:S174)=R175,R175=0),0,SUM($D$174:S174))","v":0},{"$f":"IF(OR(SUM($D$174:T174)=S175,S175=0),0,SUM($D$174:T174))","v":0},{"$f":"IF(OR(SUM($D$174:U174)=T175,T175=0),0,SUM($D$174:U174))","v":0},{"$f":"IF(OR(SUM($D$174:V174)=U175,U175=0),0,SUM($D$174:V174))","v":0},{"$f":"IF(OR(SUM($D$174:W174)=V175,V175=0),0,SUM($D$174:W174))","v":0},{"$f":"IF(OR(SUM($D$174:X174)=W175,W175=0),0,SUM($D$174:X174))","v":0},{"$f":"IF(OR(SUM($D$174:Y174)=X175,X175=0),0,SUM($D$174:Y174))","v":0},{"$f":"IF(OR(SUM($D$174:Z174)=Y175,Y175=0),0,SUM($D$174:Z174))","v":0},{"$f":"IF(OR(SUM($D$174:AA174)=Z175,Z175=0),0,SUM($D$174:AA174))","v":0},{"$f":"IF(OR(SUM($D$174:AB174)=AA175,AA175=0),0,SUM($D$174:AB174))","v":0},{"$f":"IF(OR(SUM($D$174:AC174)=AB175,AB175=0),0,SUM($D$174:AC174))","v":0},{"$f":"IF(OR(SUM($D$174:AD174)=AC175,AC175=0),0,SUM($D$174:AD174))","v":0},{"$f":"IF(OR(SUM($D$174:AE174)=AD175,AD175=0),0,SUM($D$174:AE174))","v":0},{"$f":"IF(OR(SUM($D$174:AF174)=AE175,AE175=0),0,SUM($D$174:AF174))","v":0},{"$f":"IF(OR(SUM($D$174:AG174)=AF175,AF175=0),0,SUM($D$174:AG174))","v":0},{"$f":"IF(OR(SUM($D$174:AH174)=AG175,AG175=0),0,SUM($D$174:AH174))","v":0},{"$f":"IF(OR(SUM($D$174:AI174)=AH175,AH175=0),0,SUM($D$174:AI174))","v":0},{"$f":"IF(OR(SUM($D$174:AJ174)=AI175,AI175=0),0,SUM($D$174:AJ174))","v":0},{"$f":"IF(OR(SUM($D$174:AK174)=AJ175,AJ175=0),0,SUM($D$174:AK174))","v":0},{"$f":"IF(OR(SUM($D$174:AL174)=AK175,AK175=0),0,SUM($D$174:AL174))","v":0},{"$f":"IF(OR(SUM($D$174:AM174)=AL175,AL175=0),0,SUM($D$174:AM174))","v":0},{"$f":"IF(OR(SUM($D$174:AN174)=AM175,AM175=0),0,SUM($D$174:AN174))","v":0},{"$f":"IF(OR(SUM($D$174:AO174)=AN175,AN175=0),0,SUM($D$174:AO174))","v":0},{"$f":"IF(OR(SUM($D$174:AP174)=AO175,AO175=0),0,SUM($D$174:AP174))","v":0},{"$f":"IF(OR(SUM($D$174:AQ174)=AP175,AP175=0),0,SUM($D$174:AQ174))","v":0},{"$f":"IF(OR(SUM($D$174:AR174)=AQ175,AQ175=0),0,SUM($D$174:AR174))","v":0},{"$f":"IF(OR(SUM($D$174:AS174)=AR175,AR175=0),0,SUM($D$174:AS174))","v":0},{"$f":"IF(OR(SUM($D$174:AT174)=AS175,AS175=0),0,SUM($D$174:AT174))","v":0},{"$f":"IF(OR(SUM($D$174:AU174)=AT175,AT175=0),0,SUM($D$174:AU174))","v":0},{"$f":"IF(OR(SUM($D$174:AV174)=AU175,AU175=0),0,SUM($D$174:AV174))","v":0},{"$f":"IF(OR(SUM($D$174:AW174)=AV175,AV175=0),0,SUM($D$174:AW174))","v":0},{"$f":"IF(OR(SUM($D$174:AX174)=AW175,AW175=0),0,SUM($D$174:AX174))","v":0},{"$f":"IF(OR(SUM($D$174:AY174)=AX175,AX175=0),0,SUM($D$174:AY174))","v":0},{"$f":"IF(OR(SUM($D$174:AZ174)=AY175,AY175=0),0,SUM($D$174:AZ174))","v":0},{"$f":"IF(OR(SUM($D$174:BA174)=AZ175,AZ175=0),0,SUM($D$174:BA174))","v":0}]
[null,null,"FIXED",{"$f":"'Vertical Labels'!E$221","v":0},{"$f":"'Vertical Labels'!F$221","v":0},{"$f":"'Vertical Labels'!G$221","v":0},{"$f":"'Vertical Labels'!H$221","v":0},{"$f":"'Vertical Labels'!I$221","v":0},{"$f":"'Vertical Labels'!J$221","v":0},{"$f":"'Vertical Labels'!K$221","v":0},{"$f":"'Vertical Labels'!L$221","v":0},{"$f":"'Vertical Labels'!M$221","v":0},{"$f":"'Vertical Labels'!N$221","v":0},{"$f":"'Vertical Labels'!O$221","v":0},{"$f":"'Vertical Labels'!P$221","v":0},{"$f":"'Vertical Labels'!Q$221","v":0},{"$f":"'Vertical Labels'!R$221","v":0},{"$f":"'Vertical Labels'!S$221","v":0},{"$f":"'Vertical Labels'!T$221","v":0},{"$f":"'Vertical Labels'!U$221","v":0},{"$f":"'Vertical Labels'!V$221","v":0},{"$f":"'Vertical Labels'!W$221","v":0},{"$f":"'Vertical Labels'!X$221","v":0},{"$f":"'Vertical Labels'!Y$221","v":0},{"$f":"'Vertical Labels'!Z$221","v":0},{"$f":"'Vertical Labels'!AA$221","v":0},{"$f":"'Vertical Labels'!AB$221","v":0},{"$f":"'Vertical Labels'!AC$221","v":0},{"$f":"'Vertical Labels'!AD$221","v":0},{"$f":"'Vertical Labels'!AE$221","v":0},{"$f":"'Vertical Labels'!AF$221","v":0},{"$f":"'Vertical Labels'!AG$221","v":0},{"$f":"'Vertical Labels'!AH$221","v":0},{"$f":"'Vertical Labels'!AI$221","v":0},{"$f":"'Vertical Labels'!AJ$221","v":0},{"$f":"'Vertical Labels'!AK$221","v":0},{"$f":"'Vertical Labels'!AL$221","v":0},{"$f":"'Vertical Labels'!AM$221","v":0},{"$f":"'Vertical Labels'!AN$221","v":0},{"$f":"'Vertical Labels'!AO$221","v":0},{"$f":"'Vertical Labels'!AP$221","v":0},{"$f":"'Vertical Labels'!AQ$221","v":0},{"$f":"'Vertical Labels'!AR$221","v":0},{"$f":"'Vertical Labels'!AS$221","v":0},{"$f":"'Vertical Labels'!AT$221","v":0},{"$f":"'Vertical Labels'!AU$221","v":0},{"$f":"'Vertical Labels'!AV$221","v":0},{"$f":"'Vertical Labels'!AW$221","v":0},{"$f":"'Vertical Labels'!AX$221","v":0},{"$f":"'Vertical Labels'!AY$221","v":0},{"$f":"'Vertical Labels'!AZ$221","v":0},{"$f":"'Vertical Labels'!BA$221","v":0},{"$f":"'Vertical Labels'!BB$221","v":0}]
[null,null,"RELATIVE",{"$f":"D176","v":0},{"$f":"IF(E176-D176<1,0,E176-D176)","v":0},{"$f":"IF(F176-E176<1,0,F176-E176)","v":0},0,0,0,0,0,0,0,0,0,0,0,0,0,0,0,0,0,0,0,0,0,0,0,0,0,0,0,0,0,0,0,0,0,0,0,0,0,0,0,0,0,0,0,0,0,0,0]
[null,null,"BLOCKS",{"$f":"'Vertical Labels'!E$221","v":0},{"$f":"'Vertical Labels'!F$221","v":0},{"$f":"'Vertical Labels'!G$221","v":0},{"$f":"'Vertical Labels'!H$221","v":0},{"$f":"'Vertical Labels'!I$221","v":0},{"$f":"'Vertical Labels'!J$221","v":0},{"$f":"'Vertical Labels'!K$221","v":0},{"$f":"'Vertical Labels'!L$221","v":0},{"$f":"'Vertical Labels'!M$221","v":0},{"$f":"'Vertical Labels'!N$221","v":0},{"$f":"'Vertical Labels'!O$221","v":0},{"$f":"'Vertical Labels'!P$221","v":0},{"$f":"'Vertical Labels'!Q$221","v":0},{"$f":"'Vertical Labels'!R$221","v":0},{"$f":"'Vertical Labels'!S$221","v":0},{"$f":"'Vertical Labels'!T$221","v":0},{"$f":"'Vertical Labels'!U$221","v":0},{"$f":"'Vertical Labels'!V$221","v":0},{"$f":"'Vertical Labels'!W$221","v":0},{"$f":"'Vertical Labels'!X$221","v":0},{"$f":"'Vertical Labels'!Y$221","v":0},{"$f":"'Vertical Labels'!Z$221","v":0},{"$f":"'Vertical Labels'!AA$221","v":0},{"$f":"'Vertical Labels'!AB$221","v":0},{"$f":"'Vertical Labels'!AC$221","v":0},{"$f":"'Vertical Labels'!AD$221","v":0},{"$f":"'Vertical Labels'!AE$221","v":0},{"$f":"'Vertical Labels'!AF$221","v":0},{"$f":"'Vertical Labels'!AG$221","v":0},{"$f":"'Vertical Labels'!AH$221","v":0},{"$f":"'Vertical Labels'!AI$221","v":0},{"$f":"'Vertical Labels'!AJ$221","v":0},{"$f":"'Vertical Labels'!AK$221","v":0},{"$f":"'Vertical Labels'!AL$221","v":0},{"$f":"'Vertical Labels'!AM$221","v":0},{"$f":"'Vertical Labels'!AN$221","v":0},{"$f":"'Vertical Labels'!AO$221","v":0},{"$f":"'Vertical Labels'!AP$221","v":0},{"$f":"'Vertical Labels'!AQ$221","v":0},{"$f":"'Vertical Labels'!AR$221","v":0},{"$f":"'Vertical Labels'!AS$221","v":0},{"$f":"'Vertical Labels'!AT$221","v":0},{"$f":"'Vertical Labels'!AU$221","v":0},{"$f":"'Vertical Labels'!AV$221","v":0},{"$f":"'Vertical Labels'!AW$221","v":0},{"$f":"'Vertical Labels'!AX$221","v":0},{"$f":"'Vertical Labels'!AY$221","v":0},{"$f":"'Vertical Labels'!AZ$221","v":0},{"$f":"'Vertical Labels'!BA$221","v":0},{"$f":"'Vertical Labels'!BB$221","v":0}]
[null,null,"FIXED",{"$f":"D180","v":0},{"$f":"IF(OR(SUM($D$180:E180)=D179,D179=0),0,SUM($D$180:E180))","v":0},{"$f":"IF(OR(SUM($D$180:F180)=E179,E179=0),0,SUM($D$180:F180))","v":0},{"$f":"IF(OR(SUM($D$180:G180)=F179,F179=0),0,SUM($D$180:G180))","v":0},{"$f":"IF(OR(SUM($D$180:H180)=G179,G179=0),0,SUM($D$180:H180))","v":0},{"$f":"IF(OR(SUM($D$180:I180)=H179,H179=0),0,SUM($D$180:I180))","v":0},{"$f":"IF(OR(SUM($D$180:J180)=I179,I179=0),0,SUM($D$180:J180))","v":0},{"$f":"IF(OR(SUM($D$180:K180)=J179,J179=0),0,SUM($D$180:K180))","v":0},{"$f":"IF(OR(SUM($D$180:L180)=K179,K179=0),0,SUM($D$180:L180))","v":0},{"$f":"IF(OR(SUM($D$180:M180)=L179,L179=0),0,SUM($D$180:M180))","v":0},{"$f":"IF(OR(SUM($D$180:N180)=M179,M179=0),0,SUM($D$180:N180))","v":0},{"$f":"IF(OR(SUM($D$180:O180)=N179,N179=0),0,SUM($D$180:O180))","v":0},{"$f":"IF(OR(SUM($D$180:P180)=O179,O179=0),0,SUM($D$180:P180))","v":0},{"$f":"IF(OR(SUM($D$180:Q180)=P179,P179=0),0,SUM($D$180:Q180))","v":0},{"$f":"IF(OR(SUM($D$180:R180)=Q179,Q179=0),0,SUM($D$180:R180))","v":0},{"$f":"IF(OR(SUM($D$180:S180)=R179,R179=0),0,SUM($D$180:S180))","v":0},{"$f":"IF(OR(SUM($D$180:T180)=S179,S179=0),0,SUM($D$180:T180))","v":0},{"$f":"IF(OR(SUM($D$180:U180)=T179,T179=0),0,SUM($D$180:U180))","v":0},{"$f":"IF(OR(SUM($D$180:V180)=U179,U179=0),0,SUM($D$180:V180))","v":0},{"$f":"IF(OR(SUM($D$180:W180)=V179,V179=0),0,SUM($D$180:W180))","v":0},{"$f":"IF(OR(SUM($D$180:X180)=W179,W179=0),0,SUM($D$180:X180))","v":0},{"$f":"IF(OR(SUM($D$180:Y180)=X179,X179=0),0,SUM($D$180:Y180))","v":0},{"$f":"IF(OR(SUM($D$180:Z180)=Y179,Y179=0),0,SUM($D$180:Z180))","v":0},{"$f":"IF(OR(SUM($D$180:AA180)=Z179,Z179=0),0,SUM($D$180:AA180))","v":0},{"$f":"IF(OR(SUM($D$180:AB180)=AA179,AA179=0),0,SUM($D$180:AB180))","v":0},{"$f":"IF(OR(SUM($D$180:AC180)=AB179,AB179=0),0,SUM($D$180:AC180))","v":0},{"$f":"IF(OR(SUM($D$180:AD180)=AC179,AC179=0),0,SUM($D$180:AD180))","v":0},{"$f":"IF(OR(SUM($D$180:AE180)=AD179,AD179=0),0,SUM($D$180:AE180))","v":0},{"$f":"IF(OR(SUM($D$180:AF180)=AE179,AE179=0),0,SUM($D$180:AF180))","v":0},{"$f":"IF(OR(SUM($D$180:AG180)=AF179,AF179=0),0,SUM($D$180:AG180))","v":0},{"$f":"IF(OR(SUM($D$180:AH180)=AG179,AG179=0),0,SUM($D$180:AH180))","v":0},{"$f":"IF(OR(SUM($D$180:AI180)=AH179,AH179=0),0,SUM($D$180:AI180))","v":0},{"$f":"IF(OR(SUM($D$180:AJ180)=AI179,AI179=0),0,SUM($D$180:AJ180))","v":0},{"$f":"IF(OR(SUM($D$180:AK180)=AJ179,AJ179=0),0,SUM($D$180:AK180))","v":0},{"$f":"IF(OR(SUM($D$180:AL180)=AK179,AK179=0),0,SUM($D$180:AL180))","v":0},{"$f":"IF(OR(SUM($D$180:AM180)=AL179,AL179=0),0,SUM($D$180:AM180))","v":0},{"$f":"IF(OR(SUM($D$180:AN180)=AM179,AM179=0),0,SUM($D$180:AN180))","v":0},{"$f":"IF(OR(SUM($D$180:AO180)=AN179,AN179=0),0,SUM($D$180:AO180))","v":0},{"$f":"IF(OR(SUM($D$180:AP180)=AO179,AO179=0),0,SUM($D$180:AP180))","v":0},{"$f":"IF(OR(SUM($D$180:AQ180)=AP179,AP179=0),0,SUM($D$180:AQ180))","v":0},{"$f":"IF(OR(SUM($D$180:AR180)=AQ179,AQ179=0),0,SUM($D$180:AR180))","v":0},{"$f":"IF(OR(SUM($D$180:AS180)=AR179,AR179=0),0,SUM($D$180:AS180))","v":0},{"$f":"IF(OR(SUM($D$180:AT180)=AS179,AS179=0),0,SUM($D$180:AT180))","v":0},{"$f":"IF(OR(SUM($D$180:AU180)=AT179,AT179=0),0,SUM($D$180:AU180))","v":0},{"$f":"IF(OR(SUM($D$180:AV180)=AU179,AU179=0),0,SUM($D$180:AV180))","v":0},{"$f":"IF(OR(SUM($D$180:AW180)=AV179,AV179=0),0,SUM($D$180:AW180))","v":0},{"$f":"IF(OR(SUM($D$180:AX180)=AW179,AW179=0),0,SUM($D$180:AX180))","v":0},{"$f":"IF(OR(SUM($D$180:AY180)=AX179,AX179=0),0,SUM($D$180:AY180))","v":0},{"$f":"IF(OR(SUM($D$180:AZ180)=AY179,AY179=0),0,SUM($D$180:AZ180))","v":0},{"$f":"IF(OR(SUM($D$180:BA180)=AZ179,AZ179=0),0,SUM($D$180:BA180))","v":0}]
[null,null,"RELATIVE",{"$f":"D178/2","v":0},{"$f":"(D178/2)+(E178/2)","v":0},{"$f":"(E178/2)+(F178/2)","v":0},0,0,0,0,0,0,0,0,0,0,0,0,0,0,0,0,0,0,0,0,0,0,0,0,0,0,0,0,0,0,0,0,0,0,0,0,0,0,0,0,0,0,0,0,0,0,0]

{"sheet":"Background Information","index":9,"n_rows":15,"n_cols":16,"rows_kept":15,"hidden":true}
["-- SELECT --",null,"NO","N/A",null,"-- SELECT --",null,"NO",null,"-- SELECT --",{"$nulls":4},"-- SELECT --",0]
["SELF ADHESIVE",null,"2 [sides]",2,null,"WHITE / BLACK",null,"2 [top/bottom]",null,"AUTO",null,"STANDARD LABEL COUNT",{"$f":"'Standard Labels'!H1","v":0},null,"FIXED","RELATIVE"]
["NON ADHESIVE",null,"4 [corners]",2.5,null,"BLACK / WHITE",null,"4 [corners]",null,"2mm",{"$nulls":4},"RELATIVE","FIXED"]
["ADHESIVE + HOLES",null,"1 [left side]",3,null,"WHITE / RED",{"$nulls":3},"2.5mm",null,"HORIZONTAL LABEL COUNT",{"$f":"'Horizontal Labels'!C2","v":0},null,"BLOCKS","FIXED"]
["HOLES ONLY",null,"1 [right side]",3.5,null,"RED / WHITE",{"$nulls":3},"3mm"]
[{"$nulls":3},4,null,"WHITE / BLUE",{"$nulls":3},"3.5mm",null,"VERTICAL LABEL COUNT",{"$f":"'Vertical Labels'!C2","v":0}]
[{"$nulls":3},4.5,null,"BLUE / WHITE",{"$nulls":3},"4mm"]
[{"$nulls":3},5,null,"WHITE / GREEN",{"$nulls":3},"4.5mm",null,"TOTAL",{"$f":"M2+M4+M6","v":0}]
[{"$nulls":3},5.5,null,"GREEN / WHITE",{"$nulls":3},"5mm"]
[{"$nulls":3},6,null,"YELLOW / BLACK",{"$nulls":3},"5.5mm"]
[{"$nulls":5},"SILVER / BLACK",{"$nulls":3},"6mm"]
[{"$nulls":5},"GOLD / BLACK",{"$nulls":3},"7mm"]
[{"$nulls":9},"8mm"]
[{"$nulls":9},"10mm"]
[{"$nulls":9},"12mm"]